{"text_format":"1","workbook":"xlsx","n_sheets":16,"sheets":["README","Federal Reserve PPI AC Parts","Aircraft Pricing","Narrow Body","mil fighter","wide body (non IMA)","wide body (IMA)","regional","mil trainer","bizjet","Mil trans","rotorcraft mil","rotocraft civil","large UAV","Combined data","Cheat sheet"],"not_rendered":{"charts":2,"images":0,"macros":0,"external_links":3,"defined_names":2,"comments":0,"pivot_tables":0},"unopened":[],"bounds":{"document_bytes":16777216,"sheet_cells":100000,"rows_first":2000,"rows_last":500,"rows_between":2000,"halvings":0,"cell_chars":16384,"cell_head_chars":4096},"cells_cut":0,"cells_raw":0,"read":"whole","date_system":"1900"}

{"sheet":"README","index":0,"n_rows":44,"n_cols":12,"rows_kept":44,"cut":false,"hidden":false,"merged":[]}
[]
[]
[]
[]
[]
[]
[]
[null,null,null,"Aircraft:","A320-200"]
[]
[]
[null,null,null,null,"Model","PW","Pct Change","Source","#/AC","Factor","Item","Alt Item (PW)"]
[null,null,null,"633#709",46970,30000,0.56566666666666665,"BFE option. Thales or Honeywell",2,"G","FMGC"]
[null,null,null,"633#710",26094,25000,4.376E-2,"BFE option. Thales or Honeywell",2,"G","MCDU"]
[null,null,null,"633#711",20876,20000,4.3799999999999999E-2,"BFE option. Thales or Honeywell",1,"C","FCU","FCU (part of FMGC above)"]
[]
[]
[]
[]
[]
[]
[]
[]
[]
[]
[]
[]
[]
[null,"File:","$ AerospaceEdge\\Clients\\Counterpoint\\Models\\Named IDs - AvionicsUPDATER20240628_imported (rev04).xlsm"]
[null,"Worksheet:",null,"Pt1-DATA",null,null,"component_id and aircraft_id lookup for unit cost and number of units/AC. Lee added: Cost ID, Factor, Category, MFGR, Model, Unit Description"]
[null,"Worksheet:",null,"Pt1-AvionicsComponentCosts",null,null,"Source of aircraft level and component level IDs and Descriptions"]
[]
[null,"File:","$ AerospaceEdge\\Clients\\Counterpoint\\Source Data\\PW - shipset model 3011.xlsx"]
[null,null,"Peter W's source data:"]
[null,null,null,"Narrow Body",null,"A320-200"]
[null,null,null,"mil fighter",null,"Lockheed Martin F-35 Lightning II"]
[null,null,null,"wide body (non IMA)",null,"Airbus A330-300"]
[null,null,null,"wide body (IMA)",null,"Boeing 787 Dreamliner: 787-9"]
[null,null,null,"regional",null,"Embraer E190"]
[null,null,null,"mil trainer",null,"BAE Systems Hawk"]
[null,null,null,"bizjet",null,"Bombardier Global 5000"]
[null,null,null,"Mil trans",null,"Airbus A400M Atlas"]
[null,null,null,"rotorcraft mil",null,"Boeing AH-64 Apache"]
[null,null,null,"rotocraft civil",null,"Airbus H175"]
[null,null,null,"large UAV",null,"RQ-4A Global Hawk"]

{"sheet":"Federal Reserve PPI AC Parts","index":1,"n_rows":245,"n_cols":5,"rows_kept":245,"cut":false,"hidden":false,"merged":[]}
["FRED Graph Observations"]
["Federal Reserve Economic Data"]
["Link: https://fred.stlouisfed.org"]
["Help: https://fredhelp.stlouisfed.org"]
["Economic Research Division"]
["Federal Reserve Bank of St. Louis"]
[]
[null,"Producer Price Index by Industry: Other Aircraft Parts and Equipment Manufacturing, Index Jun 1985=100, Monthly, Not Seasonally Adjusted"]
[null,"https://fred.stlouisfed.org/series/PCU336413336413"]
["Frequency: Monthly"]
["observation_date"]
["2005-01-01",198.2,null,"PPI Change 2020.01 - 2024.06",{"$f":"(B245-B192)/B192","v":0.1184029613960868}]
["2005-02-01",198.9,null,"PPI Change 2020.01 - 2024.06",{"$f":"(B245-B12)/B12","v":6.7053481331988005E-2}]
["2005-03-01",199.7]
["2005-04-01",200.1]
["2005-05-01",201.4]
["2005-06-01",201.6]
["2005-07-01",202.4]
["2005-08-01",203.4]
["2005-09-01",204.1]
["2005-10-01",204.7]
["2005-11-01",205]
["2005-12-01",205.4]
["2006-01-01",207]
["2006-02-01",208.3]
["2006-03-01",210.1]
["2006-04-01",211.2]
["2006-05-01",211.7]
["2006-06-01",212]
["2006-07-01",212.6]
["2006-08-01",213.2]
["2006-09-01",213.7]
["2006-10-01",214.7]
["2006-11-01",215.6]
["2006-12-01",216.2]
["2007-01-01",217.4]
["2007-02-01",217.6]
["2007-03-01",217.1]
["2007-04-01",216.8]
["2007-05-01",217]
["2007-06-01",218]
["2007-07-01",219]
["2007-08-01",220]
["2007-09-01",220.9]
["2007-10-01",222.3]
["2007-11-01",222.9]
["2007-12-01",223.3]
["2008-01-01",224]
["2008-02-01",224.4]
["2008-03-01",224.5]
["2008-04-01",225.6]
["2008-05-01",226.5]
["2008-06-01",228.1]
["2008-07-01",229.4]
["2008-08-01",231.5]
["2008-09-01",233.1]
["2008-10-01",235.3]
["2008-11-01",237.4]
["2008-12-01",239.6]
["2009-01-01",240.5]
["2009-02-01",240.6]
["2009-03-01",238.6]
["2009-04-01",236.1]
["2009-05-01",233.3]
["2009-06-01",232.2]
["2009-07-01",232.5]
["2009-08-01",233.2]
["2009-09-01",233]
["2009-10-01",233.6]
["2009-11-01",234.2]
["2009-12-01",234.6]
["2010-01-01",235.4]
["2010-02-01",235.5]
["2010-03-01",235.6]
["2010-04-01",235.8]
["2010-05-01",236.2]
["2010-06-01",237.3]
["2010-07-01",238.2]
["2010-08-01",239.3]
["2010-09-01",239.7]
["2010-10-01",240]
["2010-11-01",240.2]
["2010-12-01",240.4]
["2011-01-01",240.7]
["2011-02-01",241.2]
["2011-03-01",241.4]
["2011-04-01",241.5]
["2011-05-01",242]
["2011-06-01",243]
["2011-07-01",244]
["2011-08-01",245.2]
["2011-09-01",246.3]
["2011-10-01",247.3]
["2011-11-01",248]
["2011-12-01",248.7]
["2012-01-01",249.3]
["2012-02-01",250.1]
["2012-03-01",250.4]
["2012-04-01",250.7]
["2012-05-01",250.8]
["2012-06-01",251.5]
["2012-07-01",252.1]
["2012-08-01",253.2]
["2012-09-01",253.6]
["2012-10-01",253.6]
["2012-11-01",253.2]
["2012-12-01",253]
["2013-01-01",253.6]
["2013-02-01",254.5]
["2013-03-01",255.2]
["2013-04-01",255.3]
["2013-05-01",255.1]
["2013-06-01",255.5]
["2013-07-01",256.10000000000002]
["2013-08-01",256.89999999999998]
["2013-09-01",258]
["2013-10-01",258.10000000000002]
["2013-11-01",258.2]
["2013-12-01",258.5]
["2014-01-01",259.5]
["2014-02-01",260.2]
["2014-03-01",260.5]
["2014-04-01",260.7]
["2014-05-01",260.89999999999998]
["2014-06-01",261.5]
["2014-07-01",262.3]
["2014-08-01",263.10000000000002]
["2014-09-01",263.39999999999998]
["2014-10-01",263.39999999999998]
["2014-11-01",263.5]
["2014-12-01",264.10000000000002]
["2015-01-01",265]
["2015-02-01",265.7]
["2015-03-01",264.89999999999998]
["2015-04-01",265]
["2015-05-01",264.89999999999998]
["2015-06-01",265.10000000000002]
["2015-07-01",265.2]
["2015-08-01",265.39999999999998]
["2015-09-01",265.39999999999998]
["2015-10-01",265.2]
["2015-11-01",265]
["2015-12-01",265.10000000000002]
["2016-01-01",265.39999999999998]
["2016-02-01",265.7]
["2016-03-01",265.89999999999998]
["2016-04-01",266.2]
["2016-05-01",266.60000000000002]
["2016-06-01",266.89999999999998]
["2016-07-01",267.10000000000002]
["2016-08-01",267.2]
["2016-09-01",267.2]
["2016-10-01",267.3]
["2016-11-01",267.5]
["2016-12-01",267.89999999999998]
["2017-01-01",268.60000000000002]
["2017-02-01",269.10000000000002]
["2017-03-01",269.60000000000002]
["2017-04-01",270.2]
["2017-05-01",270.89999999999998]
["2017-06-01",271.7]
["2017-07-01",272.39999999999998]
["2017-08-01",273.10000000000002]
["2017-09-01",273.39999999999998]
["2017-10-01",273.7]
["2017-11-01",274]
["2017-12-01",274.2]
["2018-01-01",275.39999999999998]
["2018-02-01",276.39999999999998]
["2018-03-01",276.89999999999998]
["2018-04-01",277.3]
["2018-05-01",277.7]
["2018-06-01",278.39999999999998]
["2018-07-01",279.3]
["2018-08-01",280.10000000000002]
["2018-09-01",280.60000000000002]
["2018-10-01",281]
["2018-11-01",281.39999999999998]
["2018-12-01",282.3]
["2019-01-01",284.5]
["2019-02-01",285.3]
["2019-03-01",285.8]
["2019-04-01",286.5]
["2019-05-01",287.2]
["2019-06-01",287.60000000000002]
["2019-07-01",287.60000000000002]
["2019-08-01",287.7]
["2019-09-01",288.10000000000002]
["2019-10-01",288.3]
["2019-11-01",288.3]
["2019-12-01",288.5]
["2020-01-01",189.1]
["2020-02-01",189.2]
["2020-03-01",189.2]
["2020-04-01",189.7]
["2020-05-01",190.7]
["2020-06-01",190.7]
["2020-07-01",190.7]
["2020-08-01",190.8]
["2020-09-01",190.8]
["2020-10-01",190.9]
["2020-11-01",190.9]
["2020-12-01",190.9]
["2021-01-01",191.4]
["2021-02-01",191.1]
["2021-03-01",191.7]
["2021-04-01",192.2]
["2021-05-01",192.1]
["2021-06-01",192.2]
["2021-07-01",192.22]
["2021-08-01",192.221]
["2021-09-01",192.458]
["2021-10-01",193.06]
["2021-11-01",193.18299999999999]
["2021-12-01",193.483]
["2022-01-01",194.79300000000001]
["2022-02-01",194.839]
["2022-03-01",194.74799999999999]
["2022-04-01",194.74600000000001]
["2022-05-01",194.49199999999999]
["2022-06-01",194.77799999999999]
["2022-07-01",194.86699999999999]
["2022-08-01",194.816]
["2022-09-01",197.70400000000001]
["2022-10-01",197.786]
["2022-11-01",197.87899999999999]
["2022-12-01",197.88]
["2023-01-01",199.41900000000001]
["2023-02-01",204.00299999999999]
["2023-03-01",206.08]
["2023-04-01",206.29]
["2023-05-01",206.40299999999999]
["2023-06-01",206.363]
["2023-07-01",206.40600000000001]
["2023-08-01",206.86699999999999]
["2023-09-01",206.77600000000001]
["2023-10-01",206.81]
["2023-11-01",206.99600000000001]
["2023-12-01",207]
["2024-01-01",206.99100000000001]
["2024-02-01",207.745]
["2024-03-01",207.96899999999999]
["2024-04-01",210.50299999999999]
["2024-05-01",210.517]
["2024-06-01",211.49]

{"sheet":"Aircraft Pricing","index":2,"n_rows":41,"n_cols":5,"rows_kept":41,"cut":false,"hidden":false,"merged":[]}
["Aircraft model","Engine","Range","Typical Configuration","New Price"]
["BOEING 737 MAX 7",null,null,172,"$99.7M"]
["Airbus A318","GE, Pratt & Whitney","3,100 NM",107,"$75.1M"]
["Airbus A319","GE, International Aero Engines","3,700 nm",124,"$89.6M"]
["Airbus A320","GE, International Aero Engines","3,300 NM",150,"$98M"]
["Airbus A321","GE, International Aero Engines","3,200 NM",185,"$114.9M"]
["Airbus A330-200","ROLLS-ROYCE, GE, Pratt & Whitney","7,250 NM",247,"$231.5M"]
["Airbus A330-200F","Pratt & Whitney, ROLLS-ROYCE","4,000 NM","N/A","$234.7M"]
["Airbus A330-300","ROLLS-ROYCE, GE, Pratt & Whitney","6,350 NM",277,"$256.4M"]
["Airbus A340-300","CFM International","7,300 NM",277,"$219M"]
["Airbus A350-900","ROLLS-ROYCE","8,100 NM",325,"$308.1M"]
["Airbus A350-1000","ROLLS-ROYCE","7,950 NM",366,"$355.7M"]
["Airbus A380","ROLLS-ROYCE, Engine Alliance","8,200 NM",544,"$350M"]
["Boeing 737-700","Pratt & Whitney, GE","3,440 NM",126,"$89.1M"]
["Boeing 737-800","Pratt & Whitney, GE, ROLLS-ROYCE","3,115 NM",162,"$106.1M"]
["Boeing 737-900ER","Pratt & Whitney, GE","3,265 NM",178,"$112.6M"]
["Boeing 747-400","Pratt & Whitney, GE, ROLLS-ROYCE","7,260 NM",410]
["Boeing 747-400F","Pratt & Whitney, GE, ROLLS-ROYCE","4,445 NM","N/A"]
["Boeing 747-8i","GE","7,730 NM",410,"$418.4M"]
["Boeing 757-200","ROLLS-ROYCE, Pratt & Whitney","4,100 NM",200,"TBC"]
["Boeing 757-300","ROLLS-ROYCE, Pratt & Whitney","3,595 NM",243,"TBC"]
["Boeing 767-300ER","Pratt & Whitney, GE, ROLLS-ROYCE","6,310 NM",269,"$217.9M"]
["Boeing 767-400ER","Pratt & Whitney, GE","5,625 NM",304,"TBC"]
["Boeing 777-200ER","Pratt & Whitney, GE, ROLLS-ROYCE","7,065 NM",313,"$306.6M"]
["Boeing 777-200LR","GE","8,555 NM",317,"$346.9M"]
["Boeing 777-300ER","GE","7,370 NM",396,"$375.5M"]
["Boeing 777F","GE","4,970 NM","N/A","$352.3M"]
["Boeing 787-8","GE, ROLLS-ROYCE","7,355 NM",242,"$248.3M"]
["Boeing 787-9","GE, ROLLS-ROYCE","7,635 NM",290,"$292.5M"]
["Boeing 787-10","GE , ROLLS-ROYCE","6,430 NM",330,338.4]
["Bombardier CRJ100ER/LR","GE","1,620 NM / 2,003 NM",50,"TBC"]
["Bombardier CRJ200ER/LR","GE","1,644 NM / 2,004 NM",50,"TBC"]
["Bombardier CRJ700ER","GE","1,378 NM",66,"TBC"]
["Bombardier CRJ900ER/LR","GE","1,317 NM / 1,553 NM",79,"TBC"]
["Bombardier CRJ1000ER","GE","1,622 NM",50,"TBC"]
["Embraer 170LR","GE","2,100 NM",70,"$26.5M"]
["Embraer 175","GE","2,150 NM",78,"$28M"]
["Embraer 190","GE","2,400 NM",94,"$32M"]
["Embraer 195","GE","2,000 NM",106,"$40M"]
[]
["http://www.axonaviation.com/commercial-aircraft/aircraft-data/aircraft-pricing"]

{"sheet":"Narrow Body","index":3,"n_rows":63,"n_cols":14,"rows_kept":63,"cut":false,"hidden":false,"merged":[]}
["Aircraft:",{"$f":"INDEX('[1]Pt1-AvionicsComponentCosts'!$A$11:$E$384,MATCH(VALUE(LEFT(A5,SEARCH(\"#\",A5)-1)),'[1]Pt1-AvionicsComponentCosts'!$A$11:$A$384,0),5)","v":"A320-200"}]
[null,"Avionics Cost 2020",null,null,null,null,"Avionics Cost 2024",null,"% Change 2020 - 2024"]
[null,{"$f":"SUMPRODUCT(B5:B80,J5:J80)","v":1941935},null,null,null,null,{"$f":"SUMPRODUCT(G5:G80,J5:J80)","v":2436900},null,{"$f":"($G$3-$B$3)/$B$3","v":0.25488237247899648}]
[null,"Model 2020","PW 2020","2024 PPI Model","2024 PPI PW","Notes","2024 AE Estimate","Pct Change","Source","#/AC","Factor","Item","Alt Item (PW)","previous"]
["633#709",{"$f":"IFERROR(INDEX('[1]Pt1-DATA'!$C:$D,MATCH(A5,'[1]Pt1-DATA'!$C:$C,0),2),\"\")","v":46970},{"$f":"IFERROR(INDEX('[2]narrow body'!$B$6:$K$73,MATCH(L5,'[2]narrow body'!$B$6:$B$73,0),4)*1000,INDEX('[2]narrow body'!$B$6:$K$73,MATCH(M5,'[2]narrow body'!$B$6:$B$73,0),4)*1000)","v":30000},{"$f":"B5*(1+'Federal Reserve PPI AC Parts'!$E$12)","v":52531.387096774197},{"$f":"C5*(1+'Federal Reserve PPI AC Parts'!$E$12)","v":33552.088841882607},"Low for Airbus FMS",55000,{"$f":"(B5-C5)/C5","v":0.56566666666666665},{"$f":"IFERROR(INDEX('[2]narrow body'!$B$6:$K$73,MATCH(L5,'[2]narrow body'!$B$6:$B$73,0),7),INDEX('[2]narrow body'!$B$6:$K$73,MATCH(M5,'[2]narrow body'!$B$6:$B$73,0),7))","v":"BFE option. Thales or Honeywell"},2,{"$f":"INDEX('[1]Pt1-DATA'!$A$5:$M$13349,MATCH(A5,'[1]Pt1-DATA'!$C$5:$C$13349,0),6)","v":"G"},"FMGC",null,46970]
["633#710",{"$f":"IFERROR(INDEX('[1]Pt1-DATA'!$C:$D,MATCH(A6,'[1]Pt1-DATA'!$C:$C,0),2),\"\")","v":26094},{"$f":"IFERROR(INDEX('[2]narrow body'!$B$6:$K$73,MATCH(L6,'[2]narrow body'!$B$6:$B$73,0),4)*1000,INDEX('[2]narrow body'!$B$6:$K$73,MATCH(M6,'[2]narrow body'!$B$6:$B$73,0),4)*1000)","v":25000},{"$f":"B6*(1+'Federal Reserve PPI AC Parts'!$E$12)","v":29183.606874669491},{"$f":"C6*(1+'Federal Reserve PPI AC Parts'!$E$12)","v":27960.074034902173},"PW Low",30000,{"$f":"(B6-C6)/C6","v":4.376E-2},{"$f":"IFERROR(INDEX('[2]narrow body'!$B$6:$K$73,MATCH(L6,'[2]narrow body'!$B$6:$B$73,0),7),INDEX('[2]narrow body'!$B$6:$K$73,MATCH(M6,'[2]narrow body'!$B$6:$B$73,0),7))","v":"BFE option. Thales or Honeywell"},2,{"$f":"INDEX('[1]Pt1-DATA'!$A$5:$M$13349,MATCH(A6,'[1]Pt1-DATA'!$C$5:$C$13349,0),6)","v":"G"},"MCDU",null,26094]
["633#711",{"$f":"IFERROR(INDEX('[1]Pt1-DATA'!$C:$D,MATCH(A7,'[1]Pt1-DATA'!$C:$C,0),2),\"\")","v":20876},{"$f":"IFERROR(INDEX('[2]narrow body'!$B$6:$K$73,MATCH(L7,'[2]narrow body'!$B$6:$B$73,0),4)*1000,INDEX('[2]narrow body'!$B$6:$K$73,MATCH(M7,'[2]narrow body'!$B$6:$B$73,0),4)*1000)","v":20000},{"$f":"B7*(1+'Federal Reserve PPI AC Parts'!$E$12)","v":23347.78022210471},{"$f":"C7*(1+'Federal Reserve PPI AC Parts'!$E$12)","v":22368.059227921738},"Validated PW 2020",25000,4.3799999999999999E-2,{"$f":"IFERROR(INDEX('[2]narrow body'!$B$6:$K$73,MATCH(L7,'[2]narrow body'!$B$6:$B$73,0),7),INDEX('[2]narrow body'!$B$6:$K$73,MATCH(M7,'[2]narrow body'!$B$6:$B$73,0),7))","v":"BFE option. Thales or Honeywell"},1,{"$f":"INDEX('[1]Pt1-DATA'!$A$5:$M$13349,MATCH(A7,'[1]Pt1-DATA'!$C$5:$C$13349,0),6)","v":"C"},"FCU","FCU (part of FMGC above)",20876]
["633#712",{"$f":"IFERROR(INDEX('[1]Pt1-DATA'!$C:$D,MATCH(A8,'[1]Pt1-DATA'!$C:$C,0),2),\"\")","v":26094},{"$f":"IFERROR(INDEX('[2]narrow body'!$B$6:$K$73,MATCH(L8,'[2]narrow body'!$B$6:$B$73,0),4)*1000,INDEX('[2]narrow body'!$B$6:$K$73,MATCH(M8,'[2]narrow body'!$B$6:$B$73,0),4)*1000)","v":25000},{"$f":"B8*(1+'Federal Reserve PPI AC Parts'!$E$12)","v":29183.606874669491},{"$f":"C8*(1+'Federal Reserve PPI AC Parts'!$E$12)","v":27960.074034902173},"PW Low",30000,4.376E-2,{"$f":"IFERROR(INDEX('[2]narrow body'!$B$6:$K$73,MATCH(L8,'[2]narrow body'!$B$6:$B$73,0),7),INDEX('[2]narrow body'!$B$6:$K$73,MATCH(M8,'[2]narrow body'!$B$6:$B$73,0),7))","v":"BFE option. Thales or Honeywell"},2,{"$f":"INDEX('[1]Pt1-DATA'!$A$5:$M$13349,MATCH(A8,'[1]Pt1-DATA'!$C$5:$C$13349,0),6)","v":"C"},"Flight Augmentation Computers","Flight Augmentation Computers (FAC) part of FMGC system above",26094]
["633#713",{"$f":"IFERROR(INDEX('[1]Pt1-DATA'!$C:$D,MATCH(A9,'[1]Pt1-DATA'!$C:$C,0),2),\"\")","v":14941},{"$f":"IFERROR(INDEX('[2]narrow body'!$B$6:$K$73,MATCH(L9,'[2]narrow body'!$B$6:$B$73,0),4)*1000,INDEX('[2]narrow body'!$B$6:$K$73,MATCH(M9,'[2]narrow body'!$B$6:$B$73,0),4)*1000)","v":20000},{"$f":"B9*(1+'Federal Reserve PPI AC Parts'!$E$12)","v":16710.058646218935},{"$f":"C9*(1+'Federal Reserve PPI AC Parts'!$E$12)","v":22368.059227921738},"Validated PW 2020",23500,-0.25295000000000001,{"$f":"IFERROR(INDEX('[2]narrow body'!$B$6:$K$73,MATCH(L9,'[2]narrow body'!$B$6:$B$73,0),7),INDEX('[2]narrow body'!$B$6:$K$73,MATCH(M9,'[2]narrow body'!$B$6:$B$73,0),7))","v":"Who supplies????"},2,{"$f":"INDEX('[1]Pt1-DATA'!$A$5:$M$13349,MATCH(A9,'[1]Pt1-DATA'!$C$5:$C$13349,0),6)","v":"E"},"A/T Engine Control Unit",null,14941]
["633#714",{"$f":"IFERROR(INDEX('[1]Pt1-DATA'!$C:$D,MATCH(A10,'[1]Pt1-DATA'!$C:$C,0),2),\"\")","v":11506},{"$f":"IFERROR(INDEX('[2]narrow body'!$B$6:$K$73,MATCH(L10,'[2]narrow body'!$B$6:$B$73,0),4)*1000,INDEX('[2]narrow body'!$B$6:$K$73,MATCH(M10,'[2]narrow body'!$B$6:$B$73,0),4)*1000)","v":10000},{"$f":"B10*(1+'Federal Reserve PPI AC Parts'!$E$12)","v":12868.344473823376},{"$f":"C10*(1+'Federal Reserve PPI AC Parts'!$E$12)","v":11184.029613960869},"Validated PW 2020",13000,0.15060000000000001,{"$f":"IFERROR(INDEX('[2]narrow body'!$B$6:$K$73,MATCH(L10,'[2]narrow body'!$B$6:$B$73,0),7),INDEX('[2]narrow body'!$B$6:$K$73,MATCH(M10,'[2]narrow body'!$B$6:$B$73,0),7))","v":"BFE option. Thales or Honeywell"},2,{"$f":"INDEX('[1]Pt1-DATA'!$A$5:$M$13349,MATCH(A10,'[1]Pt1-DATA'!$C$5:$C$13349,0),6)","v":"C"},"Data Base loader",null,11506]
["633#715",{"$f":"IFERROR(INDEX('[1]Pt1-DATA'!$C:$D,MATCH(A11,'[1]Pt1-DATA'!$C:$C,0),2),\"\")","v":12525},{"$f":"IFERROR(INDEX('[2]narrow body'!$B$6:$K$73,MATCH(L11,'[2]narrow body'!$B$6:$B$73,0),4)*1000,INDEX('[2]narrow body'!$B$6:$K$73,MATCH(M11,'[2]narrow body'!$B$6:$B$73,0),4)*1000)","v":12000},{"$f":"B11*(1+'Federal Reserve PPI AC Parts'!$E$12)","v":14007.997091485988},{"$f":"C11*(1+'Federal Reserve PPI AC Parts'!$E$12)","v":13420.835536753042},"Validated PW 2020",14000,4.3749999999999997E-2,{"$f":"IFERROR(INDEX('[2]narrow body'!$B$6:$K$73,MATCH(L11,'[2]narrow body'!$B$6:$B$73,0),7),INDEX('[2]narrow body'!$B$6:$K$73,MATCH(M11,'[2]narrow body'!$B$6:$B$73,0),7))","v":"Glareshield "},3,{"$f":"INDEX('[1]Pt1-DATA'!$A$5:$M$13349,MATCH(A11,'[1]Pt1-DATA'!$C$5:$C$13349,0),6)","v":"C"},"Flight Control Unit (FCU) panel","Flight Control Unit (FCU) panel (3 panels)",12525]
["633#716",{"$f":"IFERROR(INDEX('[1]Pt1-DATA'!$C:$D,MATCH(A12,'[1]Pt1-DATA'!$C:$C,0),2),\"\")","v":10437},{"$f":"IFERROR(INDEX('[2]narrow body'!$B$6:$K$73,MATCH(L12,'[2]narrow body'!$B$6:$B$73,0),4)*1000,INDEX('[2]narrow body'!$B$6:$K$73,MATCH(M12,'[2]narrow body'!$B$6:$B$73,0),4)*1000)","v":10000},{"$f":"B12*(1+'Federal Reserve PPI AC Parts'!$E$12)","v":11672.771708090959},{"$f":"C12*(1+'Federal Reserve PPI AC Parts'!$E$12)","v":11184.029613960869},"Validated PW 2020",12000,4.3700000000000003E-2,{"$f":"IFERROR(INDEX('[2]narrow body'!$B$6:$K$73,MATCH(L12,'[2]narrow body'!$B$6:$B$73,0),7),INDEX('[2]narrow body'!$B$6:$K$73,MATCH(M12,'[2]narrow body'!$B$6:$B$73,0),7))","v":"??????"},2,{"$f":"INDEX('[1]Pt1-DATA'!$A$5:$M$13349,MATCH(A12,'[1]Pt1-DATA'!$C$5:$C$13349,0),6)","v":"C"},"Flight Warning Computer (FWC)",null,10437]
["633#717",{"$f":"IFERROR(INDEX('[1]Pt1-DATA'!$C:$D,MATCH(A13,'[1]Pt1-DATA'!$C:$C,0),2),\"\")","v":31029},{"$f":"IFERROR(INDEX('[2]narrow body'!$B$6:$K$73,MATCH(L13,'[2]narrow body'!$B$6:$B$73,0),4)*1000,INDEX('[2]narrow body'!$B$6:$K$73,MATCH(M13,'[2]narrow body'!$B$6:$B$73,0),4)*1000)","v":35000},{"$f":"B13*(1+'Federal Reserve PPI AC Parts'!$E$12)","v":34702.925489159177},{"$f":"C13*(1+'Federal Reserve PPI AC Parts'!$E$12)","v":39144.103648863042},"Validated PW 2020",39000,-0.11345714285714285,{"$f":"IFERROR(INDEX('[2]narrow body'!$B$6:$K$73,MATCH(L13,'[2]narrow body'!$B$6:$B$73,0),7),INDEX('[2]narrow body'!$B$6:$K$73,MATCH(M13,'[2]narrow body'!$B$6:$B$73,0),7))","v":"Honeywell"},3,{"$f":"INDEX('[1]Pt1-DATA'!$A$5:$M$13349,MATCH(A13,'[1]Pt1-DATA'!$C$5:$C$13349,0),6)","v":"C"},"ADIRU",null,31029]
["633#719",{"$f":"IFERROR(INDEX('[1]Pt1-DATA'!$C:$D,MATCH(A14,'[1]Pt1-DATA'!$C:$C,0),2),\"\")","v":15182},{"$f":"IFERROR(INDEX('[2]narrow body'!$B$6:$K$73,MATCH(L14,'[2]narrow body'!$B$6:$B$73,0),4)*1000,INDEX('[2]narrow body'!$B$6:$K$73,MATCH(M14,'[2]narrow body'!$B$6:$B$73,0),4)*1000)","v":15000},{"$f":"B14*(1+'Federal Reserve PPI AC Parts'!$E$12)","v":16979.593759915391},{"$f":"C14*(1+'Federal Reserve PPI AC Parts'!$E$12)","v":16776.044420941304},"Validated PW 2020",17000,1.2133333333333333E-2,{"$f":"IFERROR(INDEX('[2]narrow body'!$B$6:$K$73,MATCH(L14,'[2]narrow body'!$B$6:$B$73,0),7),INDEX('[2]narrow body'!$B$6:$K$73,MATCH(M14,'[2]narrow body'!$B$6:$B$73,0),7))","v":"Honeywell"},1,{"$f":"INDEX('[1]Pt1-DATA'!$A$5:$M$13349,MATCH(A14,'[1]Pt1-DATA'!$C$5:$C$13349,0),6)","v":"C"},"ADIRS CDU",null,15182]
["633#721",{"$f":"IFERROR(INDEX('[3]Pt1-DATA'!$C:$D,MATCH(A15,'[3]Pt1-DATA'!$C:$C,0),2),\"\")","v":10638},{"$f":"IFERROR(INDEX('[2]narrow body'!$B$6:$K$73,MATCH(L15,'[2]narrow body'!$B$6:$B$73,0),4)*1000,INDEX('[2]narrow body'!$B$6:$K$73,MATCH(M15,'[2]narrow body'!$B$6:$B$73,0),4)*1000)","v":12000},{"$f":"B15*(1+'Federal Reserve PPI AC Parts'!$E$12)","v":11897.570703331572},{"$f":"C15*(1+'Federal Reserve PPI AC Parts'!$E$12)","v":13420.835536753042},"Validated PW 2020",13500,-0.1135,{"$f":"IFERROR(INDEX('[2]narrow body'!$B$6:$K$73,MATCH(L15,'[2]narrow body'!$B$6:$B$73,0),7),INDEX('[2]narrow body'!$B$6:$K$73,MATCH(M15,'[2]narrow body'!$B$6:$B$73,0),7))","v":"Collins"},8,{"$f":"INDEX('[1]Pt1-DATA'!$A$5:$M$13349,MATCH(A15,'[1]Pt1-DATA'!$C$5:$C$13349,0),6)","v":"E"},"Air Data Modules (ADM)",null,10638]
["633#722",{"$f":"IFERROR(INDEX('[3]Pt1-DATA'!$C:$D,MATCH(A16,'[3]Pt1-DATA'!$C:$C,0),2),\"\")","v":8800},{"$f":"IFERROR(INDEX('[2]narrow body'!$B$6:$K$73,MATCH(L16,'[2]narrow body'!$B$6:$B$73,0),4)*1000,INDEX('[2]narrow body'!$B$6:$K$73,MATCH(M16,'[2]narrow body'!$B$6:$B$73,0),4)*1000)","v":8000},{"$f":"B16*(1+'Federal Reserve PPI AC Parts'!$E$12)","v":9841.9460602855652},{"$f":"C16*(1+'Federal Reserve PPI AC Parts'!$E$12)","v":8947.2236911686941},"Validated PW 2020",10000,0.1,{"$f":"IFERROR(INDEX('[2]narrow body'!$B$6:$K$73,MATCH(L16,'[2]narrow body'!$B$6:$B$73,0),7),INDEX('[2]narrow body'!$B$6:$K$73,MATCH(M16,'[2]narrow body'!$B$6:$B$73,0),7))","v":"Collins"},12,{"$f":"INDEX('[1]Pt1-DATA'!$A$5:$M$13349,MATCH(A16,'[1]Pt1-DATA'!$C$5:$C$13349,0),6)","v":"E"},"Air data probes (pitot/static)",null,8800]
["633#723",{"$f":"IFERROR(INDEX('[3]Pt1-DATA'!$C:$D,MATCH(A17,'[3]Pt1-DATA'!$C:$C,0),2),\"\")","v":44327},{"$f":"IFERROR(INDEX('[2]narrow body'!$B$6:$K$73,MATCH(L17,'[2]narrow body'!$B$6:$B$73,0),4)*1000,INDEX('[2]narrow body'!$B$6:$K$73,MATCH(M17,'[2]narrow body'!$B$6:$B$73,0),4)*1000)","v":50000},{"$f":"B17*(1+'Federal Reserve PPI AC Parts'!$E$12)","v":49575.448069804341},{"$f":"C17*(1+'Federal Reserve PPI AC Parts'!$E$12)","v":55920.148069804345},"Validated PW 2020",56000,-0.11346000000000001,{"$f":"IFERROR(INDEX('[2]narrow body'!$B$6:$K$73,MATCH(L17,'[2]narrow body'!$B$6:$B$73,0),7),INDEX('[2]narrow body'!$B$6:$K$73,MATCH(M17,'[2]narrow body'!$B$6:$B$73,0),7))","v":"Option (HWL/Collins/Thales)"},1,{"$f":"INDEX('[1]Pt1-DATA'!$A$5:$M$13349,MATCH(A17,'[1]Pt1-DATA'!$C$5:$C$13349,0),6)","v":"D2"},"Multi Mode Receiver (MMR)",null,44327]
["633#724",{"$f":"IFERROR(INDEX('[3]Pt1-DATA'!$C:$D,MATCH(A18,'[3]Pt1-DATA'!$C:$C,0),2),\"\")","v":13699},{"$f":"IFERROR(INDEX('[2]narrow body'!$B$6:$K$73,MATCH(L18,'[2]narrow body'!$B$6:$B$73,0),4)*1000,INDEX('[2]narrow body'!$B$6:$K$73,MATCH(M18,'[2]narrow body'!$B$6:$B$73,0),4)*1000)","v":10000},{"$f":"B18*(1+'Federal Reserve PPI AC Parts'!$E$12)","v":15321.002168164994},{"$f":"C18*(1+'Federal Reserve PPI AC Parts'!$E$12)","v":11184.029613960869},"Validated PW 2020",12500,0.36990000000000001,{"$f":"IFERROR(INDEX('[2]narrow body'!$B$6:$K$73,MATCH(L18,'[2]narrow body'!$B$6:$B$73,0),7),INDEX('[2]narrow body'!$B$6:$K$73,MATCH(M18,'[2]narrow body'!$B$6:$B$73,0),7))","v":"Cobham/L3/Collins"},2,{"$f":"INDEX('[1]Pt1-DATA'!$A$5:$M$13349,MATCH(A18,'[1]Pt1-DATA'!$C$5:$C$13349,0),6)","v":"E"},"ADF system",null,13699]
["633#725",{"$f":"IFERROR(INDEX('[3]Pt1-DATA'!$C:$D,MATCH(A19,'[3]Pt1-DATA'!$C:$C,0),2),\"\")","v":12412},{"$f":"IFERROR(INDEX('[2]narrow body'!$B$6:$K$73,MATCH(L19,'[2]narrow body'!$B$6:$B$73,0),4)*1000,INDEX('[2]narrow body'!$B$6:$K$73,MATCH(M19,'[2]narrow body'!$B$6:$B$73,0),4)*1000)","v":6000},{"$f":"B19*(1+'Federal Reserve PPI AC Parts'!$E$12)","v":13881.61755684823},{"$f":"C19*(1+'Federal Reserve PPI AC Parts'!$E$12)","v":6710.4177683765211},"PW Low",15000,1.0686666666666667,{"$f":"IFERROR(INDEX('[2]narrow body'!$B$6:$K$73,MATCH(L19,'[2]narrow body'!$B$6:$B$73,0),7),INDEX('[2]narrow body'!$B$6:$K$73,MATCH(M19,'[2]narrow body'!$B$6:$B$73,0),7))","v":"Collins"},2,{"$f":"INDEX('[1]Pt1-DATA'!$A$5:$M$13349,MATCH(A19,'[1]Pt1-DATA'!$C$5:$C$13349,0),6)","v":"D"},"DME receivers",null,12412]
["633#726",{"$f":"IFERROR(INDEX('[3]Pt1-DATA'!$C:$D,MATCH(A20,'[3]Pt1-DATA'!$C:$C,0),2),\"\")","v":45546},{"$f":"IFERROR(INDEX('[2]narrow body'!$B$6:$K$73,MATCH(L20,'[2]narrow body'!$B$6:$B$73,0),4)*1000,INDEX('[2]narrow body'!$B$6:$K$73,MATCH(M20,'[2]narrow body'!$B$6:$B$73,0),4)*1000)","v":45000},{"$f":"B20*(1+'Federal Reserve PPI AC Parts'!$E$12)","v":50938.781279746174},{"$f":"C20*(1+'Federal Reserve PPI AC Parts'!$E$12)","v":50328.133262823911},"Validated PW 2020",50100,1.2133333333333333E-2,{"$f":"IFERROR(INDEX('[2]narrow body'!$B$6:$K$73,MATCH(L20,'[2]narrow body'!$B$6:$B$73,0),7),INDEX('[2]narrow body'!$B$6:$K$73,MATCH(M20,'[2]narrow body'!$B$6:$B$73,0),7))","v":"Thales/Diehl"},2,{"$f":"INDEX('[1]Pt1-DATA'!$A$5:$M$13349,MATCH(A20,'[1]Pt1-DATA'!$C$5:$C$13349,0),6)","v":"C"},"Primary Flight Display (EFIS)",null,45546]
["633#727",{"$f":"IFERROR(INDEX('[3]Pt1-DATA'!$C:$D,MATCH(A21,'[3]Pt1-DATA'!$C:$C,0),2),\"\")","v":45546},{"$f":"IFERROR(INDEX('[2]narrow body'!$B$6:$K$73,MATCH(L21,'[2]narrow body'!$B$6:$B$73,0),4)*1000,INDEX('[2]narrow body'!$B$6:$K$73,MATCH(M21,'[2]narrow body'!$B$6:$B$73,0),4)*1000)","v":45000},{"$f":"B21*(1+'Federal Reserve PPI AC Parts'!$E$12)","v":50938.781279746174},{"$f":"C21*(1+'Federal Reserve PPI AC Parts'!$E$12)","v":50328.133262823911},"Validated PW 2020",50100,1.2133333333333333E-2,{"$f":"IFERROR(INDEX('[2]narrow body'!$B$6:$K$73,MATCH(L21,'[2]narrow body'!$B$6:$B$73,0),7),INDEX('[2]narrow body'!$B$6:$K$73,MATCH(M21,'[2]narrow body'!$B$6:$B$73,0),7))","v":"Thales/Diehl"},2,{"$f":"INDEX('[1]Pt1-DATA'!$A$5:$M$13349,MATCH(A21,'[1]Pt1-DATA'!$C$5:$C$13349,0),6)","v":"I"},"Navigation display (EFIS)",null,45546]
["633#728",{"$f":"IFERROR(INDEX('[3]Pt1-DATA'!$C:$D,MATCH(A22,'[3]Pt1-DATA'!$C:$C,0),2),\"\")","v":8097},{"$f":"IFERROR(INDEX('[2]narrow body'!$B$6:$K$73,MATCH(L22,'[2]narrow body'!$B$6:$B$73,0),4)*1000,INDEX('[2]narrow body'!$B$6:$K$73,MATCH(M22,'[2]narrow body'!$B$6:$B$73,0),4)*1000)","v":8000},{"$f":"B22*(1+'Federal Reserve PPI AC Parts'!$E$12)","v":9055.7087784241157},{"$f":"C22*(1+'Federal Reserve PPI AC Parts'!$E$12)","v":8947.2236911686941},"Validated PW 2020",9500,1.2125E-2,{"$f":"IFERROR(INDEX('[2]narrow body'!$B$6:$K$73,MATCH(L22,'[2]narrow body'!$B$6:$B$73,0),7),INDEX('[2]narrow body'!$B$6:$K$73,MATCH(M22,'[2]narrow body'!$B$6:$B$73,0),7))","v":0},2,{"$f":"INDEX('[1]Pt1-DATA'!$A$5:$M$13349,MATCH(A22,'[1]Pt1-DATA'!$C$5:$C$13349,0),6)","v":"C"},"EFIS Control panel",null,8097]
["633#729",{"$f":"IFERROR(INDEX('[3]Pt1-DATA'!$C:$D,MATCH(A23,'[3]Pt1-DATA'!$C:$C,0),2),\"\")","v":30364},{"$f":"IFERROR(INDEX('[2]narrow body'!$B$6:$K$73,MATCH(L23,'[2]narrow body'!$B$6:$B$73,0),4)*1000,INDEX('[2]narrow body'!$B$6:$K$73,MATCH(M23,'[2]narrow body'!$B$6:$B$73,0),4)*1000)","v":30000},{"$f":"B23*(1+'Federal Reserve PPI AC Parts'!$E$12)","v":33959.187519830783},{"$f":"C23*(1+'Federal Reserve PPI AC Parts'!$E$12)","v":33552.088841882607},"Low",60000,1.2133333333333333E-2,{"$f":"IFERROR(INDEX('[2]narrow body'!$B$6:$K$73,MATCH(L23,'[2]narrow body'!$B$6:$B$73,0),7),INDEX('[2]narrow body'!$B$6:$K$73,MATCH(M23,'[2]narrow body'!$B$6:$B$73,0),7))","v":"Thales/Diehl"},2,{"$f":"INDEX('[1]Pt1-DATA'!$A$5:$M$13349,MATCH(A23,'[1]Pt1-DATA'!$C$5:$C$13349,0),6)","v":"C"},"ECAM display",null,30364]
["633#730",{"$f":"IFERROR(INDEX('[3]Pt1-DATA'!$C:$D,MATCH(A24,'[3]Pt1-DATA'!$C:$C,0),2),\"\")","v":75910},{"$f":"IFERROR(INDEX('[2]narrow body'!$B$6:$K$73,MATCH(L24,'[2]narrow body'!$B$6:$B$73,0),4)*1000,INDEX('[2]narrow body'!$B$6:$K$73,MATCH(M24,'[2]narrow body'!$B$6:$B$73,0),4)*1000)","v":75000},{"$f":"B24*(1+'Federal Reserve PPI AC Parts'!$E$12)","v":84897.968799576949},{"$f":"C24*(1+'Federal Reserve PPI AC Parts'!$E$12)","v":83880.22210470651},"Validated PW 2020",85000,1.2133333333333333E-2,{"$f":"IFERROR(INDEX('[2]narrow body'!$B$6:$K$73,MATCH(L24,'[2]narrow body'!$B$6:$B$73,0),7),INDEX('[2]narrow body'!$B$6:$K$73,MATCH(M24,'[2]narrow body'!$B$6:$B$73,0),7))","v":"Optional"},1,{"$f":"INDEX('[1]Pt1-DATA'!$A$5:$M$13349,MATCH(A24,'[1]Pt1-DATA'!$C$5:$C$13349,0),6)","v":"E"},"HUD display system",null,75910]
["633#731",{"$f":"IFERROR(INDEX('[3]Pt1-DATA'!$C:$D,MATCH(A25,'[3]Pt1-DATA'!$C:$C,0),2),\"\")","v":7085},{"$f":"IFERROR(INDEX('[2]narrow body'!$B$6:$K$73,MATCH(L25,'[2]narrow body'!$B$6:$B$73,0),4)*1000,INDEX('[2]narrow body'!$B$6:$K$73,MATCH(M25,'[2]narrow body'!$B$6:$B$73,0),4)*1000)","v":7000},{"$f":"B25*(1+'Federal Reserve PPI AC Parts'!$E$12)","v":7923.8849814912755},{"$f":"C25*(1+'Federal Reserve PPI AC Parts'!$E$12)","v":7828.8207297726076},"Validated PW 2020",8000,1.2142857142857143E-2,{"$f":"IFERROR(INDEX('[2]narrow body'!$B$6:$K$73,MATCH(L25,'[2]narrow body'!$B$6:$B$73,0),7),INDEX('[2]narrow body'!$B$6:$K$73,MATCH(M25,'[2]narrow body'!$B$6:$B$73,0),7))","v":0},2,{"$f":"INDEX('[1]Pt1-DATA'!$A$5:$M$13349,MATCH(A25,'[1]Pt1-DATA'!$C$5:$C$13349,0),6)","v":"C"},"ECAM Control panel",null,7085]
["633#732",{"$f":"IFERROR(INDEX('[3]Pt1-DATA'!$C:$D,MATCH(A26,'[3]Pt1-DATA'!$C:$C,0),2),\"\")","v":15182},{"$f":"IFERROR(INDEX('[2]narrow body'!$B$6:$K$73,MATCH(L26,'[2]narrow body'!$B$6:$B$73,0),4)*1000,INDEX('[2]narrow body'!$B$6:$K$73,MATCH(M26,'[2]narrow body'!$B$6:$B$73,0),4)*1000)","v":15000},{"$f":"B26*(1+'Federal Reserve PPI AC Parts'!$E$12)","v":16979.593759915391},{"$f":"C26*(1+'Federal Reserve PPI AC Parts'!$E$12)","v":16776.044420941304},"Validated PW 2020",17000,1.2133333333333333E-2,{"$f":"IFERROR(INDEX('[2]narrow body'!$B$6:$K$73,MATCH(L26,'[2]narrow body'!$B$6:$B$73,0),7),INDEX('[2]narrow body'!$B$6:$K$73,MATCH(M26,'[2]narrow body'!$B$6:$B$73,0),7))","v":"Thales/Diehl"},2,{"$f":"INDEX('[1]Pt1-DATA'!$A$5:$M$13349,MATCH(A26,'[1]Pt1-DATA'!$C$5:$C$13349,0),6)","v":"C"},"System Data Acquisition Concentrator (SDAC)",null,15182]
["633#733",{"$f":"IFERROR(INDEX('[3]Pt1-DATA'!$C:$D,MATCH(A27,'[3]Pt1-DATA'!$C:$C,0),2),\"\")","v":30364},{"$f":"IFERROR(INDEX('[2]narrow body'!$B$6:$K$73,MATCH(L27,'[2]narrow body'!$B$6:$B$73,0),4)*1000,INDEX('[2]narrow body'!$B$6:$K$73,MATCH(M27,'[2]narrow body'!$B$6:$B$73,0),4)*1000)","v":30000},{"$f":"B27*(1+'Federal Reserve PPI AC Parts'!$E$12)","v":33959.187519830783},{"$f":"C27*(1+'Federal Reserve PPI AC Parts'!$E$12)","v":33552.088841882607},"Validated PW 2020",34000,1.2133333333333333E-2,{"$f":"IFERROR(INDEX('[2]narrow body'!$B$6:$K$73,MATCH(L27,'[2]narrow body'!$B$6:$B$73,0),7),INDEX('[2]narrow body'!$B$6:$K$73,MATCH(M27,'[2]narrow body'!$B$6:$B$73,0),7))","v":"Thales/Diehl"},3,{"$f":"INDEX('[1]Pt1-DATA'!$A$5:$M$13349,MATCH(A27,'[1]Pt1-DATA'!$C$5:$C$13349,0),6)","v":"F"},"Display Management Computer (DMC/EFIS)","Display Management Computer (EFIS)",30364]
["633#734",{"$f":"IFERROR(INDEX('[3]Pt1-DATA'!$C:$D,MATCH(A28,'[3]Pt1-DATA'!$C:$C,0),2),\"\")","v":8097},{"$f":"IFERROR(INDEX('[2]narrow body'!$B$6:$K$73,MATCH(L28,'[2]narrow body'!$B$6:$B$73,0),4)*1000,INDEX('[2]narrow body'!$B$6:$K$73,MATCH(M28,'[2]narrow body'!$B$6:$B$73,0),4)*1000)","v":8000},{"$f":"B28*(1+'Federal Reserve PPI AC Parts'!$E$12)","v":9055.7087784241157},{"$f":"C28*(1+'Federal Reserve PPI AC Parts'!$E$12)","v":8947.2236911686941},"Validated PW 2020",9500,1.2125E-2,{"$f":"IFERROR(INDEX('[2]narrow body'!$B$6:$K$73,MATCH(L28,'[2]narrow body'!$B$6:$B$73,0),7),INDEX('[2]narrow body'!$B$6:$K$73,MATCH(M28,'[2]narrow body'!$B$6:$B$73,0),7))","v":"Thales/Diehl"},1,{"$f":"INDEX('[1]Pt1-DATA'!$A$5:$M$13349,MATCH(A28,'[1]Pt1-DATA'!$C$5:$C$13349,0),6)","v":"C"},"Compass",null,8097]
["633#735",{"$f":"IFERROR(INDEX('[3]Pt1-DATA'!$C:$D,MATCH(A29,'[3]Pt1-DATA'!$C:$C,0),2),\"\")","v":28340},{"$f":"IFERROR(INDEX('[2]narrow body'!$B$6:$K$73,MATCH(L29,'[2]narrow body'!$B$6:$B$73,0),4)*1000,INDEX('[2]narrow body'!$B$6:$K$73,MATCH(M29,'[2]narrow body'!$B$6:$B$73,0),4)*1000)","v":28000},{"$f":"B29*(1+'Federal Reserve PPI AC Parts'!$E$12)","v":31695.539925965102},{"$f":"C29*(1+'Federal Reserve PPI AC Parts'!$E$12)","v":31315.28291909043},"Validated PW 2020",32500,1.2142857142857143E-2,{"$f":"IFERROR(INDEX('[2]narrow body'!$B$6:$K$73,MATCH(L29,'[2]narrow body'!$B$6:$B$73,0),7),INDEX('[2]narrow body'!$B$6:$K$73,MATCH(M29,'[2]narrow body'!$B$6:$B$73,0),7))","v":"Thales"},1,{"$f":"INDEX('[1]Pt1-DATA'!$A$5:$M$13349,MATCH(A29,'[1]Pt1-DATA'!$C$5:$C$13349,0),6)","v":"D"},"Integrated Standby Instrument System",null,28340]
["633#736",{"$f":"IFERROR(INDEX('[3]Pt1-DATA'!$C:$D,MATCH(A30,'[3]Pt1-DATA'!$C:$C,0),2),\"\")","v":12145},{"$f":"IFERROR(INDEX('[2]narrow body'!$B$6:$K$73,MATCH(L30,'[2]narrow body'!$B$6:$B$73,0),4)*1000,INDEX('[2]narrow body'!$B$6:$K$73,MATCH(M30,'[2]narrow body'!$B$6:$B$73,0),4)*1000)","v":12000},{"$f":"B30*(1+'Federal Reserve PPI AC Parts'!$E$12)","v":13583.003966155475},{"$f":"C30*(1+'Federal Reserve PPI AC Parts'!$E$12)","v":13420.835536753042},"Validated PW 2020",14000,1.2083333333333333E-2,{"$f":"IFERROR(INDEX('[2]narrow body'!$B$6:$K$73,MATCH(L30,'[2]narrow body'!$B$6:$B$73,0),7),INDEX('[2]narrow body'!$B$6:$K$73,MATCH(M30,'[2]narrow body'!$B$6:$B$73,0),7))","v":0},1,{"$f":"INDEX('[1]Pt1-DATA'!$A$5:$M$13349,MATCH(A30,'[1]Pt1-DATA'!$C$5:$C$13349,0),6)","v":"C"},"DDRMI display",null,12145]
["633#737",{"$f":"IFERROR(INDEX('[3]Pt1-DATA'!$C:$D,MATCH(A31,'[3]Pt1-DATA'!$C:$C,0),2),\"\")","v":8097},{"$f":"IFERROR(INDEX('[2]narrow body'!$B$6:$K$73,MATCH(L31,'[2]narrow body'!$B$6:$B$73,0),4)*1000,INDEX('[2]narrow body'!$B$6:$K$73,MATCH(M31,'[2]narrow body'!$B$6:$B$73,0),4)*1000)","v":8000},{"$f":"B31*(1+'Federal Reserve PPI AC Parts'!$E$12)","v":9055.7087784241157},{"$f":"C31*(1+'Federal Reserve PPI AC Parts'!$E$12)","v":8947.2236911686941},"2 units",9000,1.2125E-2,{"$f":"IFERROR(INDEX('[2]narrow body'!$B$6:$K$73,MATCH(L31,'[2]narrow body'!$B$6:$B$73,0),7),INDEX('[2]narrow body'!$B$6:$K$73,MATCH(M31,'[2]narrow body'!$B$6:$B$73,0),7))","v":0},2,{"$f":"INDEX('[1]Pt1-DATA'!$A$5:$M$13349,MATCH(A31,'[1]Pt1-DATA'!$C$5:$C$13349,0),6)","v":"C"},"Clock",null,8097]
["633#738",{"$f":"IFERROR(INDEX('[3]Pt1-DATA'!$C:$D,MATCH(A32,'[3]Pt1-DATA'!$C:$C,0),2),\"\")","v":11741},{"$f":"IFERROR(INDEX('[2]narrow body'!$B$6:$K$73,MATCH(L32,'[2]narrow body'!$B$6:$B$73,0),4)*1000,INDEX('[2]narrow body'!$B$6:$K$73,MATCH(M32,'[2]narrow body'!$B$6:$B$73,0),4)*1000)","v":6000},{"$f":"B32*(1+'Federal Reserve PPI AC Parts'!$E$12)","v":13131.169169751456},{"$f":"C32*(1+'Federal Reserve PPI AC Parts'!$E$12)","v":6710.4177683765211},"Low",12000,0.95683333333333331,{"$f":"IFERROR(INDEX('[2]narrow body'!$B$6:$K$73,MATCH(L32,'[2]narrow body'!$B$6:$B$73,0),7),INDEX('[2]narrow body'!$B$6:$K$73,MATCH(M32,'[2]narrow body'!$B$6:$B$73,0),7))","v":"Cobham/L3/Collins"},2,{"$f":"INDEX('[1]Pt1-DATA'!$A$5:$M$13349,MATCH(A32,'[1]Pt1-DATA'!$C$5:$C$13349,0),6)","v":"D"},"Comms Receivers VH (transceiver/antenna)",null,11741]
["633#739",{"$f":"IFERROR(INDEX('[3]Pt1-DATA'!$C:$D,MATCH(A33,'[3]Pt1-DATA'!$C:$C,0),2),\"\")","v":11741},{"$f":"IFERROR(INDEX('[2]narrow body'!$B$6:$K$73,MATCH(L33,'[2]narrow body'!$B$6:$B$73,0),4)*1000,INDEX('[2]narrow body'!$B$6:$K$73,MATCH(M33,'[2]narrow body'!$B$6:$B$73,0),4)*1000)","v":6000},{"$f":"B33*(1+'Federal Reserve PPI AC Parts'!$E$12)","v":13131.169169751456},{"$f":"C33*(1+'Federal Reserve PPI AC Parts'!$E$12)","v":6710.4177683765211},"Low",12000,0.95683333333333331,{"$f":"IFERROR(INDEX('[2]narrow body'!$B$6:$K$73,MATCH(L33,'[2]narrow body'!$B$6:$B$73,0),7),INDEX('[2]narrow body'!$B$6:$K$73,MATCH(M33,'[2]narrow body'!$B$6:$B$73,0),7))","v":"Cobham/L3/Collins"},2,{"$f":"INDEX('[1]Pt1-DATA'!$A$5:$M$13349,MATCH(A33,'[1]Pt1-DATA'!$C$5:$C$13349,0),6)","v":"D"},"Comms Receivers UF (transceiver/antenna)",null,11741]
["633#740",{"$f":"IFERROR(INDEX('[3]Pt1-DATA'!$C:$D,MATCH(A34,'[3]Pt1-DATA'!$C:$C,0),2),\"\")","v":9784},{"$f":"IFERROR(INDEX('[2]narrow body'!$B$6:$K$73,MATCH(L34,'[2]narrow body'!$B$6:$B$73,0),4)*1000,INDEX('[2]narrow body'!$B$6:$K$73,MATCH(M34,'[2]narrow body'!$B$6:$B$73,0),4)*1000)","v":6000},{"$f":"B34*(1+'Federal Reserve PPI AC Parts'!$E$12)","v":10942.454574299314},{"$f":"C34*(1+'Federal Reserve PPI AC Parts'!$E$12)","v":6710.4177683765211},"Low",10000,0.63066666666666671,{"$f":"IFERROR(INDEX('[2]narrow body'!$B$6:$K$73,MATCH(L34,'[2]narrow body'!$B$6:$B$73,0),7),INDEX('[2]narrow body'!$B$6:$K$73,MATCH(M34,'[2]narrow body'!$B$6:$B$73,0),7))","v":"Cobham/L3/Collins"},1,{"$f":"INDEX('[1]Pt1-DATA'!$A$5:$M$13349,MATCH(A34,'[1]Pt1-DATA'!$C$5:$C$13349,0),6)","v":"D"},"Audio Management Unit",null,9784]
["633#741",{"$f":"IFERROR(INDEX('[3]Pt1-DATA'!$C:$D,MATCH(A35,'[3]Pt1-DATA'!$C:$C,0),2),\"\")","v":5871},{"$f":"IFERROR(INDEX('[2]narrow body'!$B$6:$K$73,MATCH(L35,'[2]narrow body'!$B$6:$B$73,0),4)*1000,INDEX('[2]narrow body'!$B$6:$K$73,MATCH(M35,'[2]narrow body'!$B$6:$B$73,0),4)*1000)","v":{"$error":"#N/A"}},{"$f":"B35*(1+'Federal Reserve PPI AC Parts'!$E$12)","v":6566.1437863564261},null,"3 units",10000,{"$error":"#N/A"},{"$f":"IFERROR(INDEX('[2]narrow body'!$B$6:$K$73,MATCH(L35,'[2]narrow body'!$B$6:$B$73,0),7),INDEX('[2]narrow body'!$B$6:$K$73,MATCH(M35,'[2]narrow body'!$B$6:$B$73,0),7))","v":{"$error":"#N/A"}},3,{"$f":"INDEX('[1]Pt1-DATA'!$A$5:$M$13349,MATCH(A35,'[1]Pt1-DATA'!$C$5:$C$13349,0),6)","v":"D"},"Radio management system",null,5871]
["633#742",{"$f":"IFERROR(INDEX('[3]Pt1-DATA'!$C:$D,MATCH(A36,'[3]Pt1-DATA'!$C:$C,0),2),\"\")","v":5871},{"$f":"IFERROR(INDEX('[2]narrow body'!$B$6:$K$73,MATCH(L36,'[2]narrow body'!$B$6:$B$73,0),4)*1000,INDEX('[2]narrow body'!$B$6:$K$73,MATCH(M36,'[2]narrow body'!$B$6:$B$73,0),4)*1000)","v":5000},{"$f":"B36*(1+'Federal Reserve PPI AC Parts'!$E$12)","v":6566.1437863564261},{"$f":"C36*(1+'Federal Reserve PPI AC Parts'!$E$12)","v":5592.0148069804345},"Low",10000,0.17419999999999999,{"$f":"IFERROR(INDEX('[2]narrow body'!$B$6:$K$73,MATCH(L36,'[2]narrow body'!$B$6:$B$73,0),7),INDEX('[2]narrow body'!$B$6:$K$73,MATCH(M36,'[2]narrow body'!$B$6:$B$73,0),7))","v":0},1,{"$f":"INDEX('[1]Pt1-DATA'!$A$5:$M$13349,MATCH(A36,'[1]Pt1-DATA'!$C$5:$C$13349,0),6)","v":"C"},"Audio Control Panel",null,5871]
["633#743",{"$f":"IFERROR(INDEX('[3]Pt1-DATA'!$C:$D,MATCH(A37,'[3]Pt1-DATA'!$C:$C,0),2),\"\")","v":5871},{"$f":"IFERROR(INDEX('[2]narrow body'!$B$6:$K$73,MATCH(L37,'[2]narrow body'!$B$6:$B$73,0),4)*1000,INDEX('[2]narrow body'!$B$6:$K$73,MATCH(M37,'[2]narrow body'!$B$6:$B$73,0),4)*1000)","v":5000},{"$f":"B37*(1+'Federal Reserve PPI AC Parts'!$E$12)","v":6566.1437863564261},{"$f":"C37*(1+'Federal Reserve PPI AC Parts'!$E$12)","v":5592.0148069804345},"Validated PW 2020",7500,0.17419999999999999,{"$f":"IFERROR(INDEX('[2]narrow body'!$B$6:$K$73,MATCH(L37,'[2]narrow body'!$B$6:$B$73,0),7),INDEX('[2]narrow body'!$B$6:$K$73,MATCH(M37,'[2]narrow body'!$B$6:$B$73,0),7))","v":0},1,{"$f":"INDEX('[1]Pt1-DATA'!$A$5:$M$13349,MATCH(A37,'[1]Pt1-DATA'!$C$5:$C$13349,0),6)","v":"D"},"Radio Management Panel",null,5871]
["633#744",{"$f":"IFERROR(INDEX('[3]Pt1-DATA'!$C:$D,MATCH(A38,'[3]Pt1-DATA'!$C:$C,0),2),\"\")","v":30388},{"$f":"IFERROR(INDEX('[2]narrow body'!$B$6:$K$73,MATCH(L38,'[2]narrow body'!$B$6:$B$73,0),4)*1000,INDEX('[2]narrow body'!$B$6:$K$73,MATCH(M38,'[2]narrow body'!$B$6:$B$73,0),4)*1000)","v":7000},{"$f":"B38*(1+'Federal Reserve PPI AC Parts'!$E$12)","v":33986.029190904286},{"$f":"C38*(1+'Federal Reserve PPI AC Parts'!$E$12)","v":7828.8207297726076},"Low",35000,3.3411428571428572,{"$f":"IFERROR(INDEX('[2]narrow body'!$B$6:$K$73,MATCH(L38,'[2]narrow body'!$B$6:$B$73,0),7),INDEX('[2]narrow body'!$B$6:$K$73,MATCH(M38,'[2]narrow body'!$B$6:$B$73,0),7))","v":"ACSS Thales with L3"},2,{"$f":"INDEX('[1]Pt1-DATA'!$A$5:$M$13349,MATCH(A38,'[1]Pt1-DATA'!$C$5:$C$13349,0),6)","v":"C"},"ATC Mode S Transponders (TCAS)",null,30388]
["633#745",{"$f":"IFERROR(INDEX('[3]Pt1-DATA'!$C:$D,MATCH(A39,'[3]Pt1-DATA'!$C:$C,0),2),\"\")","v":6078},{"$f":"IFERROR(INDEX('[2]narrow body'!$B$6:$K$73,MATCH(L39,'[2]narrow body'!$B$6:$B$73,0),4)*1000,INDEX('[2]narrow body'!$B$6:$K$73,MATCH(M39,'[2]narrow body'!$B$6:$B$73,0),4)*1000)","v":5000},{"$f":"B39*(1+'Federal Reserve PPI AC Parts'!$E$12)","v":6797.6531993654162},{"$f":"C39*(1+'Federal Reserve PPI AC Parts'!$E$12)","v":5592.0148069804345},"Validated PW 2020",7500,0.21560000000000001,{"$f":"IFERROR(INDEX('[2]narrow body'!$B$6:$K$73,MATCH(L39,'[2]narrow body'!$B$6:$B$73,0),7),INDEX('[2]narrow body'!$B$6:$K$73,MATCH(M39,'[2]narrow body'!$B$6:$B$73,0),7))","v":"ACSS Thales with L3"},1,{"$f":"INDEX('[1]Pt1-DATA'!$A$5:$M$13349,MATCH(A39,'[1]Pt1-DATA'!$C$5:$C$13349,0),6)","v":"C"},"ATC control box",null,6078]
["633#746",{"$f":"IFERROR(INDEX('[3]Pt1-DATA'!$C:$D,MATCH(A40,'[3]Pt1-DATA'!$C:$C,0),2),\"\")","v":43999},{"$f":"IFERROR(INDEX('[2]narrow body'!$B$6:$K$73,MATCH(L40,'[2]narrow body'!$B$6:$B$73,0),4)*1000,INDEX('[2]narrow body'!$B$6:$K$73,MATCH(M40,'[2]narrow body'!$B$6:$B$73,0),4)*1000)","v":18000},{"$f":"B40*(1+'Federal Reserve PPI AC Parts'!$E$12)","v":49208.611898466428},{"$f":"C40*(1+'Federal Reserve PPI AC Parts'!$E$12)","v":20131.253305129565},"Low",50000,1.4443888888888889,{"$f":"IFERROR(INDEX('[2]narrow body'!$B$6:$K$73,MATCH(L40,'[2]narrow body'!$B$6:$B$73,0),7),INDEX('[2]narrow body'!$B$6:$K$73,MATCH(M40,'[2]narrow body'!$B$6:$B$73,0),7))","v":"Collins/Honeywell"},1,{"$f":"INDEX('[1]Pt1-DATA'!$A$5:$M$13349,MATCH(A40,'[1]Pt1-DATA'!$C$5:$C$13349,0),6)","v":"H"},"Weather WX radar system",null,43999]
["633#748",{"$f":"IFERROR(INDEX('[3]Pt1-DATA'!$C:$D,MATCH(A41,'[3]Pt1-DATA'!$C:$C,0),2),\"\")","v":24310},{"$f":"IFERROR(INDEX('[2]narrow body'!$B$6:$K$73,MATCH(L41,'[2]narrow body'!$B$6:$B$73,0),4)*1000,INDEX('[2]narrow body'!$B$6:$K$73,MATCH(M41,'[2]narrow body'!$B$6:$B$73,0),4)*1000)","v":20000},{"$f":"B41*(1+'Federal Reserve PPI AC Parts'!$E$12)","v":27188.375991538873},{"$f":"C41*(1+'Federal Reserve PPI AC Parts'!$E$12)","v":22368.059227921738},"Low",28000,0.2155,{"$f":"IFERROR(INDEX('[2]narrow body'!$B$6:$K$73,MATCH(L41,'[2]narrow body'!$B$6:$B$73,0),7),INDEX('[2]narrow body'!$B$6:$K$73,MATCH(M41,'[2]narrow body'!$B$6:$B$73,0),7))","v":0},1,{"$f":"INDEX('[1]Pt1-DATA'!$A$5:$M$13349,MATCH(A41,'[1]Pt1-DATA'!$C$5:$C$13349,0),6)","v":"I"},"Ground Proximity Warning System (GPWS/EGPWS)","Ground Proximity Warning System (GPWS)",24310]
["633#752",{"$f":"IFERROR(INDEX('[3]Pt1-DATA'!$C:$D,MATCH(A42,'[3]Pt1-DATA'!$C:$C,0),2),\"\")","v":19569},{"$f":"IFERROR(INDEX('[2]narrow body'!$B$6:$K$73,MATCH(L42,'[2]narrow body'!$B$6:$B$73,0),4)*1000,INDEX('[2]narrow body'!$B$6:$K$73,MATCH(M42,'[2]narrow body'!$B$6:$B$73,0),4)*1000)","v":12000},{"$f":"B42*(1+'Federal Reserve PPI AC Parts'!$E$12)","v":21886.027551560022},{"$f":"C42*(1+'Federal Reserve PPI AC Parts'!$E$12)","v":13420.835536753042},"Low",25000,0.63075000000000003,{"$f":"IFERROR(INDEX('[2]narrow body'!$B$6:$K$73,MATCH(L42,'[2]narrow body'!$B$6:$B$73,0),7),INDEX('[2]narrow body'!$B$6:$K$73,MATCH(M42,'[2]narrow body'!$B$6:$B$73,0),7))","v":"L3"},1,{"$f":"INDEX('[1]Pt1-DATA'!$A$5:$M$13349,MATCH(A42,'[1]Pt1-DATA'!$C$5:$C$13349,0),6)","v":"J"},"Cockpit Voice Recorder",null,19569]
["633#753",{"$f":"IFERROR(INDEX('[3]Pt1-DATA'!$C:$D,MATCH(A43,'[3]Pt1-DATA'!$C:$C,0),2),\"\")","v":5871},{"$f":"IFERROR(INDEX('[2]narrow body'!$B$6:$K$73,MATCH(L43,'[2]narrow body'!$B$6:$B$73,0),4)*1000,INDEX('[2]narrow body'!$B$6:$K$73,MATCH(M43,'[2]narrow body'!$B$6:$B$73,0),4)*1000)","v":4000},{"$f":"B43*(1+'Federal Reserve PPI AC Parts'!$E$12)","v":6566.1437863564261},{"$f":"C43*(1+'Federal Reserve PPI AC Parts'!$E$12)","v":4473.6118455843471},"Low",7500,0.46775,{"$f":"IFERROR(INDEX('[2]narrow body'!$B$6:$K$73,MATCH(L43,'[2]narrow body'!$B$6:$B$73,0),7),INDEX('[2]narrow body'!$B$6:$K$73,MATCH(M43,'[2]narrow body'!$B$6:$B$73,0),7))","v":0},1,{"$f":"INDEX('[1]Pt1-DATA'!$A$5:$M$13349,MATCH(A43,'[1]Pt1-DATA'!$C$5:$C$13349,0),6)","v":"E"},"CVR control panel",null,5871]
["633#754",{"$f":"IFERROR(INDEX('[3]Pt1-DATA'!$C:$D,MATCH(A44,'[3]Pt1-DATA'!$C:$C,0),2),\"\")","v":17261},{"$f":"IFERROR(INDEX('[2]narrow body'!$B$6:$K$73,MATCH(L44,'[2]narrow body'!$B$6:$B$73,0),4)*1000,INDEX('[2]narrow body'!$B$6:$K$73,MATCH(M44,'[2]narrow body'!$B$6:$B$73,0),4)*1000)","v":15000},{"$f":"B44*(1+'Federal Reserve PPI AC Parts'!$E$12)","v":19304.753516657856},{"$f":"C44*(1+'Federal Reserve PPI AC Parts'!$E$12)","v":16776.044420941304},"Low",20000,0.15073333333333333,{"$f":"IFERROR(INDEX('[2]narrow body'!$B$6:$K$73,MATCH(L44,'[2]narrow body'!$B$6:$B$73,0),7),INDEX('[2]narrow body'!$B$6:$K$73,MATCH(M44,'[2]narrow body'!$B$6:$B$73,0),7))","v":"L3"},1,{"$f":"INDEX('[1]Pt1-DATA'!$A$5:$M$13349,MATCH(A44,'[1]Pt1-DATA'!$C$5:$C$13349,0),6)","v":"G"},"Flight Data Recorder",null,17261]
["633#755",{"$f":"IFERROR(INDEX('[3]Pt1-DATA'!$C:$D,MATCH(A45,'[3]Pt1-DATA'!$C:$C,0),2),\"\")","v":9205},{"$f":"IFERROR(INDEX('[2]narrow body'!$B$6:$K$73,MATCH(L45,'[2]narrow body'!$B$6:$B$73,0),4)*1000,INDEX('[2]narrow body'!$B$6:$K$73,MATCH(M45,'[2]narrow body'!$B$6:$B$73,0),4)*1000)","v":8000},{"$f":"B45*(1+'Federal Reserve PPI AC Parts'!$E$12)","v":10294.89925965098},{"$f":"C45*(1+'Federal Reserve PPI AC Parts'!$E$12)","v":8947.2236911686941},"Validated PW 2020",10000,0.15062500000000001,{"$f":"IFERROR(INDEX('[2]narrow body'!$B$6:$K$73,MATCH(L45,'[2]narrow body'!$B$6:$B$73,0),7),INDEX('[2]narrow body'!$B$6:$K$73,MATCH(M45,'[2]narrow body'!$B$6:$B$73,0),7))","v":0},1,{"$f":"INDEX('[1]Pt1-DATA'!$A$5:$M$13349,MATCH(A45,'[1]Pt1-DATA'!$C$5:$C$13349,0),6)","v":"C"},"FD Interface Unit",null,9205]
["633#756",{"$f":"IFERROR(INDEX('[3]Pt1-DATA'!$C:$D,MATCH(A46,'[3]Pt1-DATA'!$C:$C,0),2),\"\")","v":28767},{"$f":"IFERROR(INDEX('[2]narrow body'!$B$6:$K$73,MATCH(L46,'[2]narrow body'!$B$6:$B$73,0),4)*1000,INDEX('[2]narrow body'!$B$6:$K$73,MATCH(M46,'[2]narrow body'!$B$6:$B$73,0),4)*1000)","v":10000},{"$f":"B46*(1+'Federal Reserve PPI AC Parts'!$E$12)","v":32173.09799048123},{"$f":"C46*(1+'Federal Reserve PPI AC Parts'!$E$12)","v":11184.029613960869},"Low",35000,1.8767,{"$f":"IFERROR(INDEX('[2]narrow body'!$B$6:$K$73,MATCH(L46,'[2]narrow body'!$B$6:$B$73,0),7),INDEX('[2]narrow body'!$B$6:$K$73,MATCH(M46,'[2]narrow body'!$B$6:$B$73,0),7))","v":"Optional fit"},1,{"$f":"INDEX('[1]Pt1-DATA'!$A$5:$M$13349,MATCH(A46,'[1]Pt1-DATA'!$C$5:$C$13349,0),6)","v":"F"},"Quick Access Recorder (QAR)",null,28767]
["633#757",{"$f":"IFERROR(INDEX('[3]Pt1-DATA'!$C:$D,MATCH(A47,'[3]Pt1-DATA'!$C:$C,0),2),\"\")","v":17261},{"$f":"IFERROR(INDEX('[2]narrow body'!$B$6:$K$73,MATCH(L47,'[2]narrow body'!$B$6:$B$73,0),4)*1000,INDEX('[2]narrow body'!$B$6:$K$73,MATCH(M47,'[2]narrow body'!$B$6:$B$73,0),4)*1000)","v":15000},{"$f":"B47*(1+'Federal Reserve PPI AC Parts'!$E$12)","v":19304.753516657856},{"$f":"C47*(1+'Federal Reserve PPI AC Parts'!$E$12)","v":16776.044420941304},"ACMS? QAR Integral?",20000,0.15073333333333333,{"$f":"IFERROR(INDEX('[2]narrow body'!$B$6:$K$73,MATCH(L47,'[2]narrow body'!$B$6:$B$73,0),7),INDEX('[2]narrow body'!$B$6:$K$73,MATCH(M47,'[2]narrow body'!$B$6:$B$73,0),7))","v":0},1,{"$f":"INDEX('[1]Pt1-DATA'!$A$5:$M$13349,MATCH(A47,'[1]Pt1-DATA'!$C$5:$C$13349,0),6)","v":"C"},"Aircraft Intergated Data System (AIDS)",null,17261]
["633#758",{"$f":"IFERROR(INDEX('[3]Pt1-DATA'!$C:$D,MATCH(A48,'[3]Pt1-DATA'!$C:$C,0),2),\"\")","v":20712},{"$f":"IFERROR(INDEX('[2]narrow body'!$B$6:$K$73,MATCH(L48,'[2]narrow body'!$B$6:$B$73,0),4)*1000,INDEX('[2]narrow body'!$B$6:$K$73,MATCH(M48,'[2]narrow body'!$B$6:$B$73,0),4)*1000)","v":12000},{"$f":"B48*(1+'Federal Reserve PPI AC Parts'!$E$12)","v":23164.36213643575},{"$f":"C48*(1+'Federal Reserve PPI AC Parts'!$E$12)","v":13420.835536753042},"Low",24000,0.72599999999999998,{"$f":"IFERROR(INDEX('[2]narrow body'!$B$6:$K$73,MATCH(L48,'[2]narrow body'!$B$6:$B$73,0),7),INDEX('[2]narrow body'!$B$6:$K$73,MATCH(M48,'[2]narrow body'!$B$6:$B$73,0),7))","v":"Teledyne controls"},1,{"$f":"INDEX('[1]Pt1-DATA'!$A$5:$M$13349,MATCH(A48,'[1]Pt1-DATA'!$C$5:$C$13349,0),6)","v":"D"},"Air Traffic Services Unit (ATSU)",null,20712]
["633#759",{"$f":"IFERROR(INDEX('[3]Pt1-DATA'!$C:$D,MATCH(A49,'[3]Pt1-DATA'!$C:$C,0),2),\"\")","v":23014},{"$f":"IFERROR(INDEX('[2]narrow body'!$B$6:$K$73,MATCH(L49,'[2]narrow body'!$B$6:$B$73,0),4)*1000,INDEX('[2]narrow body'!$B$6:$K$73,MATCH(M49,'[2]narrow body'!$B$6:$B$73,0),4)*1000)","v":20000},{"$f":"B49*(1+'Federal Reserve PPI AC Parts'!$E$12)","v":25738.925753569543},{"$f":"C49*(1+'Federal Reserve PPI AC Parts'!$E$12)","v":22368.059227921738},"Validated PW 2020",25000,0.1507,{"$f":"IFERROR(INDEX('[2]narrow body'!$B$6:$K$73,MATCH(L49,'[2]narrow body'!$B$6:$B$73,0),7),INDEX('[2]narrow body'!$B$6:$K$73,MATCH(M49,'[2]narrow body'!$B$6:$B$73,0),7))","v":"Teledyne controls"},2,{"$f":"INDEX('[1]Pt1-DATA'!$A$5:$M$13349,MATCH(A49,'[1]Pt1-DATA'!$C$5:$C$13349,0),6)","v":"C"},"Electronic Flight Bags (EFBs)",null,23014]
["633#825",{"$f":"IFERROR(INDEX('[3]Pt1-DATA'!$C:$D,MATCH(A50,'[3]Pt1-DATA'!$C:$C,0),2),\"\")","v":56029},{"$f":"IFERROR(INDEX('[2]narrow body'!$B$6:$K$73,MATCH(L50,'[2]narrow body'!$B$6:$B$73,0),4)*1000,INDEX('[2]narrow body'!$B$6:$K$73,MATCH(M50,'[2]narrow body'!$B$6:$B$73,0),4)*1000)","v":40000},{"$f":"B50*(1+'Federal Reserve PPI AC Parts'!$E$12)","v":62662.99952406135},{"$f":"C50*(1+'Federal Reserve PPI AC Parts'!$E$12)","v":44736.118455843476},"Low",75000,0.400725,{"$f":"IFERROR(INDEX('[2]narrow body'!$B$6:$K$73,MATCH(L50,'[2]narrow body'!$B$6:$B$73,0),7),INDEX('[2]narrow body'!$B$6:$K$73,MATCH(M50,'[2]narrow body'!$B$6:$B$73,0),7))","v":"Part of FMGC/FCU above?"},1,{"$f":"INDEX('[1]Pt1-DATA'!$A$5:$M$13349,MATCH(A50,'[1]Pt1-DATA'!$C$5:$C$13349,0),6)","v":"I"},"Auto pilot system","Autopilot /Auto thrust system",56029]
["633#879",{"$f":"IFERROR(INDEX('[3]Pt1-DATA'!$C:$D,MATCH(A51,'[3]Pt1-DATA'!$C:$C,0),2),\"\")","v":137227},{"$f":"IFERROR(INDEX('[2]narrow body'!$B$6:$K$73,MATCH(L51,'[2]narrow body'!$B$6:$B$73,0),4)*1000,INDEX('[2]narrow body'!$B$6:$K$73,MATCH(M51,'[2]narrow body'!$B$6:$B$73,0),4)*1000)","v":{"$error":"#N/A"}},{"$f":"B51*(1+'Federal Reserve PPI AC Parts'!$E$12)","v":153475.0831835008},null,"Validated Model 2020",155000,{"$error":"#N/A"},{"$f":"IFERROR(INDEX('[2]narrow body'!$B$6:$K$73,MATCH(L51,'[2]narrow body'!$B$6:$B$73,0),7),INDEX('[2]narrow body'!$B$6:$K$73,MATCH(M51,'[2]narrow body'!$B$6:$B$73,0),7))","v":{"$error":"#N/A"}},1,{"$f":"INDEX('[1]Pt1-DATA'!$A$5:$M$13349,MATCH(A51,'[1]Pt1-DATA'!$C$5:$C$13349,0),6)","v":"U"},"Software",null,137227]
["633#883",{"$f":"IFERROR(INDEX('[3]Pt1-DATA'!$C:$D,MATCH(A52,'[3]Pt1-DATA'!$C:$C,0),2),\"\")","v":47519},{"$f":"IFERROR(INDEX('[2]narrow body'!$B$6:$K$73,MATCH(L52,'[2]narrow body'!$B$6:$B$73,0),4)*1000,INDEX('[2]narrow body'!$B$6:$K$73,MATCH(M52,'[2]narrow body'!$B$6:$B$73,0),4)*1000)","v":{"$error":"#N/A"}},{"$f":"B52*(1+'Federal Reserve PPI AC Parts'!$E$12)","v":53145.39032258065},null,"Validated Model 2020",55000,{"$error":"#N/A"},{"$f":"IFERROR(INDEX('[2]narrow body'!$B$6:$K$73,MATCH(L52,'[2]narrow body'!$B$6:$B$73,0),7),INDEX('[2]narrow body'!$B$6:$K$73,MATCH(M52,'[2]narrow body'!$B$6:$B$73,0),7))","v":{"$error":"#N/A"}},1,{"$f":"INDEX('[1]Pt1-DATA'!$A$5:$M$13349,MATCH(A52,'[1]Pt1-DATA'!$C$5:$C$13349,0),6)","v":"A"},"Surveillance Sensors",null,47519]
["633#1056",{"$f":"IFERROR(INDEX('[3]Pt1-DATA'!$C:$D,MATCH(A53,'[3]Pt1-DATA'!$C:$C,0),2),\"\")","v":2903},{"$f":"IFERROR(INDEX('[2]narrow body'!$B$6:$K$73,MATCH(L53,'[2]narrow body'!$B$6:$B$73,0),4)*1000,INDEX('[2]narrow body'!$B$6:$K$73,MATCH(M53,'[2]narrow body'!$B$6:$B$73,0),4)*1000)","v":{"$error":"#N/A"}},{"$f":"B53*(1+'Federal Reserve PPI AC Parts'!$E$12)","v":3246.7237969328403},null,"Validated Model 2020",3500,{"$error":"#N/A"},{"$f":"IFERROR(INDEX('[2]narrow body'!$B$6:$K$73,MATCH(L53,'[2]narrow body'!$B$6:$B$73,0),7),INDEX('[2]narrow body'!$B$6:$K$73,MATCH(M53,'[2]narrow body'!$B$6:$B$73,0),7))","v":{"$error":"#N/A"}},1,{"$f":"INDEX('[1]Pt1-DATA'!$A$5:$M$13349,MATCH(A53,'[1]Pt1-DATA'!$C$5:$C$13349,0),6)","v":"BW"},"Avionics Harnesses",null,2903]
["633#1057",{"$f":"IFERROR(INDEX('[3]Pt1-DATA'!$C:$D,MATCH(A54,'[3]Pt1-DATA'!$C:$C,0),2),\"\")","v":20674},{"$f":"IFERROR(INDEX('[2]narrow body'!$B$6:$K$73,MATCH(L54,'[2]narrow body'!$B$6:$B$73,0),4)*1000,INDEX('[2]narrow body'!$B$6:$K$73,MATCH(M54,'[2]narrow body'!$B$6:$B$73,0),4)*1000)","v":{"$error":"#N/A"}},{"$f":"B54*(1+'Federal Reserve PPI AC Parts'!$E$12)","v":23121.862823902698},null,"Validated Model 2020",25000,{"$error":"#N/A"},{"$f":"IFERROR(INDEX('[2]narrow body'!$B$6:$K$73,MATCH(L54,'[2]narrow body'!$B$6:$B$73,0),7),INDEX('[2]narrow body'!$B$6:$K$73,MATCH(M54,'[2]narrow body'!$B$6:$B$73,0),7))","v":{"$error":"#N/A"}},1,{"$f":"INDEX('[1]Pt1-DATA'!$A$5:$M$13349,MATCH(A54,'[1]Pt1-DATA'!$C$5:$C$13349,0),6)","v":"BW"},"Avionics Harnesses",null,20674]
["633#1058",{"$f":"IFERROR(INDEX('[3]Pt1-DATA'!$C:$D,MATCH(A55,'[3]Pt1-DATA'!$C:$C,0),2),\"\")","v":25000},{"$f":"IFERROR(INDEX('[2]narrow body'!$B$6:$K$73,MATCH(L55,'[2]narrow body'!$B$6:$B$73,0),4)*1000,INDEX('[2]narrow body'!$B$6:$K$73,MATCH(M55,'[2]narrow body'!$B$6:$B$73,0),4)*1000)","v":{"$error":"#N/A"}},{"$f":"B55*(1+'Federal Reserve PPI AC Parts'!$E$12)","v":27960.074034902173},null,"Validated Model 2020",29000,{"$error":"#N/A"},{"$f":"IFERROR(INDEX('[2]narrow body'!$B$6:$K$73,MATCH(L55,'[2]narrow body'!$B$6:$B$73,0),7),INDEX('[2]narrow body'!$B$6:$K$73,MATCH(M55,'[2]narrow body'!$B$6:$B$73,0),7))","v":{"$error":"#N/A"}},1,{"$f":"INDEX('[1]Pt1-DATA'!$A$5:$M$13349,MATCH(A55,'[1]Pt1-DATA'!$C$5:$C$13349,0),6)","v":"BW"},"Avionics Harnesses",null,25000]
["633#1059",{"$f":"IFERROR(INDEX('[3]Pt1-DATA'!$C:$D,MATCH(A56,'[3]Pt1-DATA'!$C:$C,0),2),\"\")","v":5168},{"$f":"IFERROR(INDEX('[2]narrow body'!$B$6:$K$73,MATCH(L56,'[2]narrow body'!$B$6:$B$73,0),4)*1000,INDEX('[2]narrow body'!$B$6:$K$73,MATCH(M56,'[2]narrow body'!$B$6:$B$73,0),4)*1000)","v":{"$error":"#N/A"}},{"$f":"B56*(1+'Federal Reserve PPI AC Parts'!$E$12)","v":5779.9065044949766},null,"Validated Model 2020",6500,{"$error":"#N/A"},{"$f":"IFERROR(INDEX('[2]narrow body'!$B$6:$K$73,MATCH(L56,'[2]narrow body'!$B$6:$B$73,0),7),INDEX('[2]narrow body'!$B$6:$K$73,MATCH(M56,'[2]narrow body'!$B$6:$B$73,0),7))","v":{"$error":"#N/A"}},1,{"$f":"INDEX('[1]Pt1-DATA'!$A$5:$M$13349,MATCH(A56,'[1]Pt1-DATA'!$C$5:$C$13349,0),6)","v":"BW"},"Avionics Harnesses",null,5168]
[null,{"$f":"IFERROR(INDEX('[3]Pt1-DATA'!$C:$D,MATCH(A57,'[3]Pt1-DATA'!$C:$C,0),2),\"\")","v":""},{"$f":"IFERROR(INDEX('[2]narrow body'!$B$6:$K$73,MATCH(L57,'[2]narrow body'!$B$6:$B$73,0),4)*1000,INDEX('[2]narrow body'!$B$6:$K$73,MATCH(M57,'[2]narrow body'!$B$6:$B$73,0),4)*1000)","v":6000},null,{"$f":"C57*(1+'Federal Reserve PPI AC Parts'!$E$12)","v":6710.4177683765211},"Validated PW 2020",7500,{"$f":"(B57-C57)/C57","v":{"$error":"#VALUE!"}},{"$f":"IFERROR(INDEX('[2]narrow body'!$B$6:$K$73,MATCH(L57,'[2]narrow body'!$B$6:$B$73,0),7),INDEX('[2]narrow body'!$B$6:$K$73,MATCH(M57,'[2]narrow body'!$B$6:$B$73,0),7))","v":0},2,{"$f":"INDEX('[1]Pt1-DATA'!$A$5:$M$13349,MATCH(A57,'[1]Pt1-DATA'!$C$5:$C$13349,0),6)","v":{"$error":"#N/A"}},null,"ADIRS control panel",""]
[null,{"$f":"IFERROR(INDEX('[3]Pt1-DATA'!$C:$D,MATCH(A58,'[3]Pt1-DATA'!$C:$C,0),2),\"\")","v":""},{"$f":"IFERROR(INDEX('[2]narrow body'!$B$6:$K$73,MATCH(L58,'[2]narrow body'!$B$6:$B$73,0),4)*1000,INDEX('[2]narrow body'!$B$6:$K$73,MATCH(M58,'[2]narrow body'!$B$6:$B$73,0),4)*1000)","v":8000},null,{"$f":"C58*(1+'Federal Reserve PPI AC Parts'!$E$12)","v":8947.2236911686941},"Validated PW 2020",9000,{"$error":"#VALUE!"},{"$f":"IFERROR(INDEX('[2]narrow body'!$B$6:$K$73,MATCH(L58,'[2]narrow body'!$B$6:$B$73,0),7),INDEX('[2]narrow body'!$B$6:$K$73,MATCH(M58,'[2]narrow body'!$B$6:$B$73,0),7))","v":0},2,{"$f":"INDEX('[1]Pt1-DATA'!$A$5:$M$13349,MATCH(A58,'[1]Pt1-DATA'!$C$5:$C$13349,0),6)","v":{"$error":"#N/A"}},null,"Pedestal ADS select",""]
[null,{"$f":"IFERROR(INDEX('[3]Pt1-DATA'!$C:$D,MATCH(A59,'[3]Pt1-DATA'!$C:$C,0),2),\"\")","v":""},{"$f":"IFERROR(INDEX('[2]narrow body'!$B$6:$K$73,MATCH(L59,'[2]narrow body'!$B$6:$B$73,0),4)*1000,INDEX('[2]narrow body'!$B$6:$K$73,MATCH(M59,'[2]narrow body'!$B$6:$B$73,0),4)*1000)","v":4000},null,{"$f":"C59*(1+'Federal Reserve PPI AC Parts'!$E$12)","v":4473.6118455843471},"Validated PW 2020",4500,{"$error":"#VALUE!"},{"$f":"IFERROR(INDEX('[2]narrow body'!$B$6:$K$73,MATCH(L59,'[2]narrow body'!$B$6:$B$73,0),7),INDEX('[2]narrow body'!$B$6:$K$73,MATCH(M59,'[2]narrow body'!$B$6:$B$73,0),7))","v":0},2,{"$f":"INDEX('[1]Pt1-DATA'!$A$5:$M$13349,MATCH(A59,'[1]Pt1-DATA'!$C$5:$C$13349,0),6)","v":{"$error":"#N/A"}},null,"WX control panel",""]
[null,{"$f":"IFERROR(INDEX('[3]Pt1-DATA'!$C:$D,MATCH(A60,'[3]Pt1-DATA'!$C:$C,0),2),\"\")","v":""},{"$f":"IFERROR(INDEX('[2]narrow body'!$B$6:$K$73,MATCH(L60,'[2]narrow body'!$B$6:$B$73,0),4)*1000,INDEX('[2]narrow body'!$B$6:$K$73,MATCH(M60,'[2]narrow body'!$B$6:$B$73,0),4)*1000)","v":18000},null,{"$f":"C60*(1+'Federal Reserve PPI AC Parts'!$E$12)","v":20131.253305129565},"Validated PW 2020",21000,{"$error":"#VALUE!"},{"$f":"IFERROR(INDEX('[2]narrow body'!$B$6:$K$73,MATCH(L60,'[2]narrow body'!$B$6:$B$73,0),7),INDEX('[2]narrow body'!$B$6:$K$73,MATCH(M60,'[2]narrow body'!$B$6:$B$73,0),7))","v":"ACSS Thales with L3"},2,{"$f":"INDEX('[1]Pt1-DATA'!$A$5:$M$13349,MATCH(A60,'[1]Pt1-DATA'!$C$5:$C$13349,0),6)","v":{"$error":"#N/A"}},null,"TCAS computer",""]
[null,{"$f":"IFERROR(INDEX('[3]Pt1-DATA'!$C:$D,MATCH(A61,'[3]Pt1-DATA'!$C:$C,0),2),\"\")","v":""},{"$f":"IFERROR(INDEX('[2]narrow body'!$B$6:$K$73,MATCH(L61,'[2]narrow body'!$B$6:$B$73,0),4)*1000,INDEX('[2]narrow body'!$B$6:$K$73,MATCH(M61,'[2]narrow body'!$B$6:$B$73,0),4)*1000)","v":6000},null,{"$f":"C61*(1+'Federal Reserve PPI AC Parts'!$E$12)","v":6710.4177683765211},"Validated PW 2020",7000,{"$error":"#VALUE!"},{"$f":"IFERROR(INDEX('[2]narrow body'!$B$6:$K$73,MATCH(L61,'[2]narrow body'!$B$6:$B$73,0),7),INDEX('[2]narrow body'!$B$6:$K$73,MATCH(M61,'[2]narrow body'!$B$6:$B$73,0),7))","v":"ACSS Thales with L3"},2,{"$f":"INDEX('[1]Pt1-DATA'!$A$5:$M$13349,MATCH(A61,'[1]Pt1-DATA'!$C$5:$C$13349,0),6)","v":{"$error":"#N/A"}},null,"TCAS antennas",""]
[null,{"$f":"IFERROR(INDEX('[3]Pt1-DATA'!$C:$D,MATCH(A62,'[3]Pt1-DATA'!$C:$C,0),2),\"\")","v":""},{"$f":"IFERROR(INDEX('[2]narrow body'!$B$6:$K$73,MATCH(L62,'[2]narrow body'!$B$6:$B$73,0),4)*1000,INDEX('[2]narrow body'!$B$6:$K$73,MATCH(M62,'[2]narrow body'!$B$6:$B$73,0),4)*1000)","v":4000},null,{"$f":"C62*(1+'Federal Reserve PPI AC Parts'!$E$12)","v":4473.6118455843471},"Validated PW 2020",5000,{"$error":"#VALUE!"},{"$f":"IFERROR(INDEX('[2]narrow body'!$B$6:$K$73,MATCH(L62,'[2]narrow body'!$B$6:$B$73,0),7),INDEX('[2]narrow body'!$B$6:$K$73,MATCH(M62,'[2]narrow body'!$B$6:$B$73,0),7))","v":0},2,{"$f":"INDEX('[1]Pt1-DATA'!$A$5:$M$13349,MATCH(A62,'[1]Pt1-DATA'!$C$5:$C$13349,0),6)","v":{"$error":"#N/A"}},null,"TCAS control panel",""]
[null,{"$f":"IFERROR(INDEX('[3]Pt1-DATA'!$C:$D,MATCH(A63,'[3]Pt1-DATA'!$C:$C,0),2),\"\")","v":""},{"$f":"IFERROR(INDEX('[2]narrow body'!$B$6:$K$73,MATCH(L63,'[2]narrow body'!$B$6:$B$73,0),4)*1000,INDEX('[2]narrow body'!$B$6:$K$73,MATCH(M63,'[2]narrow body'!$B$6:$B$73,0),4)*1000)","v":0},null,{"$f":"C63*(1+'Federal Reserve PPI AC Parts'!$E$12)","v":0},"AE Estimate",10000,{"$error":"#VALUE!"},{"$f":"IFERROR(INDEX('[2]narrow body'!$B$6:$K$73,MATCH(L63,'[2]narrow body'!$B$6:$B$73,0),7),INDEX('[2]narrow body'!$B$6:$K$73,MATCH(M63,'[2]narrow body'!$B$6:$B$73,0),7))","v":0},1,{"$f":"INDEX('[1]Pt1-DATA'!$A$5:$M$13349,MATCH(A63,'[1]Pt1-DATA'!$C$5:$C$13349,0),6)","v":{"$error":"#N/A"}},null,"Avionic racking, databuses excluded",""]

{"sheet":"mil fighter","index":4,"n_rows":31,"n_cols":14,"rows_kept":31,"cut":false,"hidden":false,"merged":[]}
["Aircraft:",{"$f":"INDEX('[1]Pt1-AvionicsComponentCosts'!$A$11:$E$384,MATCH(VALUE(LEFT(A5,SEARCH(\"#\",A5)-1)),'[1]Pt1-AvionicsComponentCosts'!$A$11:$A$384,0),5)","v":"Lockheed Martin F-35 Lightning II"}]
[null,"Avionics Cost 2020",null,null,null,null,"Avionics Cost 2024",null,"% Change 2020 - 2024"]
[null,{"$f":"SUMPRODUCT(B5:B80,J5:J80)","v":4883711},null,null,null,null,{"$f":"SUMPRODUCT(G5:G80,J5:J80)","v":5489916.9190375451},null,{"$f":"($G$3-$B$3)/$B$3","v":0.12412813105393523}]
[null,"Model 2020","PW 2020","2024 PPI Model","2024 PPI PW","Notes","2024 AE Estimate","Pct Change","Source","#/AC","Factor","Item","Alt Item (PW)","previous"]
["146#784",{"$f":"IFERROR(INDEX('[1]Pt1-DATA'!$C:$D,MATCH(A5,'[1]Pt1-DATA'!$C:$C,0),2),\"\")","v":29163},{"$f":"IFERROR(INDEX('[2]mil fighter'!$B$6:$K$73,MATCH(L5,'[2]mil fighter'!$B$6:$B$73,0),4)*1000,INDEX('[2]mil fighter'!$B$6:$K$73,MATCH(M5,'[2]mil fighter'!$B$6:$B$73,0),4)*1000)","v":20000},{"$f":"B5*(1+'Federal Reserve PPI AC Parts'!$E$12)","v":32615.985563194081},{"$f":"C5*(1+'Federal Reserve PPI AC Parts'!$E$12)","v":22368.059227921738},"Used Model 2024",{"$f":"D5","v":32615.985563194081},{"$f":"(B5-C5)/C5","v":0.45815},{"$f":"IFERROR(INDEX('[2]mil fighter'!$B$6:$K$73,MATCH(#REF!,'[2]mil fighter'!$B$6:$B$73,0),8),INDEX('[2]mil fighter'!$B$6:$K$73,MATCH(L5,'[2]mil fighter'!$B$6:$B$73,0),8))","v":"GE Aviation"},10,{"$f":"INDEX('[1]Pt1-DATA'!$A$5:$M$13349,MATCH(A5,'[1]Pt1-DATA'!$C$5:$C$13349,0),6)","v":"D"},"Remote Data concentrators",null,29163]
["146#785",{"$f":"IFERROR(INDEX('[1]Pt1-DATA'!$C:$D,MATCH(A6,'[1]Pt1-DATA'!$C:$C,0),2),\"\")","v":520758},{"$f":"IFERROR(INDEX('[2]mil fighter'!$B$6:$K$73,MATCH(L6,'[2]mil fighter'!$B$6:$B$73,0),4)*1000,INDEX('[2]mil fighter'!$B$6:$K$73,MATCH(M6,'[2]mil fighter'!$B$6:$B$73,0),4)*1000)","v":400000},{"$f":"B6*(1+'Federal Reserve PPI AC Parts'!$E$12)","v":582417.28937070339},{"$f":"C6*(1+'Federal Reserve PPI AC Parts'!$E$12)","v":447361.18455843476},"Used Model 2024",{"$f":"D6","v":582417.28937070339},{"$f":"(B6-C6)/C6","v":0.30189500000000002},{"$f":"IFERROR(INDEX('[2]mil fighter'!$B$6:$K$73,MATCH(#REF!,'[2]mil fighter'!$B$6:$B$73,0),8),INDEX('[2]mil fighter'!$B$6:$K$73,MATCH(L6,'[2]mil fighter'!$B$6:$B$73,0),8))","v":"Harris L3"},1,{"$f":"INDEX('[1]Pt1-DATA'!$A$5:$M$13349,MATCH(A6,'[1]Pt1-DATA'!$C$5:$C$13349,0),6)","v":"C"},"Integrated Core Processor (ICP)",null,520758]
["146#786",{"$f":"IFERROR(INDEX('[1]Pt1-DATA'!$C:$D,MATCH(A7,'[1]Pt1-DATA'!$C:$C,0),2),\"\")","v":132982},{"$f":"IFERROR(INDEX('[2]mil fighter'!$B$6:$K$73,MATCH(L7,'[2]mil fighter'!$B$6:$B$73,0),4)*1000,INDEX('[2]mil fighter'!$B$6:$K$73,MATCH(M7,'[2]mil fighter'!$B$6:$B$73,0),4)*1000)","v":125000},{"$f":"B7*(1+'Federal Reserve PPI AC Parts'!$E$12)","v":148727.46261237442},{"$f":"C7*(1+'Federal Reserve PPI AC Parts'!$E$12)","v":139800.37017451087},"Used Model 2024",148727.46261237442,6.3855999999999996E-2,{"$f":"IFERROR(INDEX('[2]mil fighter'!$B$6:$K$73,MATCH(#REF!,'[2]mil fighter'!$B$6:$B$73,0),8),INDEX('[2]mil fighter'!$B$6:$K$73,MATCH(L7,'[2]mil fighter'!$B$6:$B$73,0),8))","v":"Northrop Grumman"},1,{"$f":"INDEX('[1]Pt1-DATA'!$A$5:$M$13349,MATCH(A7,'[1]Pt1-DATA'!$C$5:$C$13349,0),6)","v":"C"},"Communication, Navigation, Identification Unit AN/ASQ-242",null,132982]
["146#787",{"$f":"IFERROR(INDEX('[1]Pt1-DATA'!$C:$D,MATCH(A8,'[1]Pt1-DATA'!$C:$C,0),2),\"\")","v":122305},{"$f":"IFERROR(INDEX('[2]mil fighter'!$B$6:$K$73,MATCH(L8,'[2]mil fighter'!$B$6:$B$73,0),4)*1000,INDEX('[2]mil fighter'!$B$6:$K$73,MATCH(M8,'[2]mil fighter'!$B$6:$B$73,0),4)*1000)","v":125000},{"$f":"B8*(1+'Federal Reserve PPI AC Parts'!$E$12)","v":136786.27419354839},{"$f":"C8*(1+'Federal Reserve PPI AC Parts'!$E$12)","v":139800.37017451087},"Used Model 2024",136786.27419354839,-2.1559999999999999E-2,{"$f":"IFERROR(INDEX('[2]mil fighter'!$B$6:$K$73,MATCH(#REF!,'[2]mil fighter'!$B$6:$B$73,0),8),INDEX('[2]mil fighter'!$B$6:$K$73,MATCH(L8,'[2]mil fighter'!$B$6:$B$73,0),8))","v":"Northrop Grumman"},1,{"$f":"INDEX('[1]Pt1-DATA'!$A$5:$M$13349,MATCH(A8,'[1]Pt1-DATA'!$C$5:$C$13349,0),6)","v":"C"},"Communication, Navigation, Identification Unit AN/ASQ-242",null,122305]
["146#788",{"$f":"IFERROR(INDEX('[1]Pt1-DATA'!$C:$D,MATCH(A9,'[1]Pt1-DATA'!$C:$C,0),2),\"\")","v":229660},{"$f":"IFERROR(INDEX('[2]mil fighter'!$B$6:$K$73,MATCH(L9,'[2]mil fighter'!$B$6:$B$73,0),4)*1000,INDEX('[2]mil fighter'!$B$6:$K$73,MATCH(M9,'[2]mil fighter'!$B$6:$B$73,0),4)*1000)","v":250000},{"$f":"B9*(1+'Federal Reserve PPI AC Parts'!$E$12)","v":256852.42411422532},{"$f":"C9*(1+'Federal Reserve PPI AC Parts'!$E$12)","v":279600.74034902174},"Used Model 2024",256852.42411422532,-8.1360000000000002E-2,{"$f":"IFERROR(INDEX('[2]mil fighter'!$B$6:$K$73,MATCH(#REF!,'[2]mil fighter'!$B$6:$B$73,0),8),INDEX('[2]mil fighter'!$B$6:$K$73,MATCH(L9,'[2]mil fighter'!$B$6:$B$73,0),8))","v":"BAE Systems"},1,{"$f":"INDEX('[1]Pt1-DATA'!$A$5:$M$13349,MATCH(A9,'[1]Pt1-DATA'!$C$5:$C$13349,0),6)","v":"C"},"Electronic Warfare suite AN/ASQ-239 (evasion, engagement,  jamming, c/measures)",null,229660]
["146#789",{"$f":"IFERROR(INDEX('[1]Pt1-DATA'!$C:$D,MATCH(A10,'[1]Pt1-DATA'!$C:$C,0),2),\"\")","v":151818},{"$f":"IFERROR(INDEX('[2]mil fighter'!$B$6:$K$73,MATCH(L10,'[2]mil fighter'!$B$6:$B$73,0),4)*1000,INDEX('[2]mil fighter'!$B$6:$K$73,MATCH(M10,'[2]mil fighter'!$B$6:$B$73,0),4)*1000)","v":150000},{"$f":"B10*(1+'Federal Reserve PPI AC Parts'!$E$12)","v":169793.70079323111},{"$f":"C10*(1+'Federal Reserve PPI AC Parts'!$E$12)","v":167760.44420941302},"Used Model 2024",169793.70079323111,1.2120000000000001E-2,{"$f":"IFERROR(INDEX('[2]mil fighter'!$B$6:$K$73,MATCH(#REF!,'[2]mil fighter'!$B$6:$B$73,0),8),INDEX('[2]mil fighter'!$B$6:$K$73,MATCH(L10,'[2]mil fighter'!$B$6:$B$73,0),8))","v":"Harris L3"},2,{"$f":"INDEX('[1]Pt1-DATA'!$A$5:$M$13349,MATCH(A10,'[1]Pt1-DATA'!$C$5:$C$13349,0),6)","v":"B"},"Panoramic Display Cockpit Electronic Unit",null,151818]
["146#790",{"$f":"IFERROR(INDEX('[1]Pt1-DATA'!$C:$D,MATCH(A11,'[1]Pt1-DATA'!$C:$C,0),2),\"\")","v":202424},{"$f":"IFERROR(INDEX('[2]mil fighter'!$B$6:$K$73,MATCH(L11,'[2]mil fighter'!$B$6:$B$73,0),4)*1000,INDEX('[2]mil fighter'!$B$6:$K$73,MATCH(M11,'[2]mil fighter'!$B$6:$B$73,0),4)*1000)","v":200000},{"$f":"B11*(1+'Federal Reserve PPI AC Parts'!$E$12)","v":226391.6010576415},{"$f":"C11*(1+'Federal Reserve PPI AC Parts'!$E$12)","v":223680.59227921738},"Used Model 2024",226391.6010576415,1.2120000000000001E-2,{"$f":"IFERROR(INDEX('[2]mil fighter'!$B$6:$K$73,MATCH(#REF!,'[2]mil fighter'!$B$6:$B$73,0),8),INDEX('[2]mil fighter'!$B$6:$K$73,MATCH(L11,'[2]mil fighter'!$B$6:$B$73,0),8))","v":"Elbit (switched from Harris L3 in 2017)"},1,{"$f":"INDEX('[1]Pt1-DATA'!$A$5:$M$13349,MATCH(A11,'[1]Pt1-DATA'!$C$5:$C$13349,0),6)","v":"C"},"Panormic Cockpit Display",null,202424]
["146#791",{"$f":"IFERROR(INDEX('[1]Pt1-DATA'!$C:$D,MATCH(A12,'[1]Pt1-DATA'!$C:$C,0),2),\"\")","v":35424},{"$f":"IFERROR(INDEX('[2]mil fighter'!$B$6:$K$73,MATCH(L12,'[2]mil fighter'!$B$6:$B$73,0),4)*1000,INDEX('[2]mil fighter'!$B$6:$K$73,MATCH(M12,'[2]mil fighter'!$B$6:$B$73,0),4)*1000)","v":35000},{"$f":"B12*(1+'Federal Reserve PPI AC Parts'!$E$12)","v":39618.306504494984},{"$f":"C12*(1+'Federal Reserve PPI AC Parts'!$E$12)","v":39144.103648863042},"Used Model 2024",39618.306504494984,1.2114285714285715E-2,{"$f":"IFERROR(INDEX('[2]mil fighter'!$B$6:$K$73,MATCH(#REF!,'[2]mil fighter'!$B$6:$B$73,0),8),INDEX('[2]mil fighter'!$B$6:$K$73,MATCH(L12,'[2]mil fighter'!$B$6:$B$73,0),8))","v":"GE Aviation"},1,{"$f":"INDEX('[1]Pt1-DATA'!$A$5:$M$13349,MATCH(A12,'[1]Pt1-DATA'!$C$5:$C$13349,0),6)","v":"H"},"Standby display",null,35424]
["146#792",{"$f":"IFERROR(INDEX('[1]Pt1-DATA'!$C:$D,MATCH(A13,'[1]Pt1-DATA'!$C:$C,0),2),\"\")","v":38499},{"$f":"IFERROR(INDEX('[2]mil fighter'!$B$6:$K$73,MATCH(L13,'[2]mil fighter'!$B$6:$B$73,0),4)*1000,INDEX('[2]mil fighter'!$B$6:$K$73,MATCH(M13,'[2]mil fighter'!$B$6:$B$73,0),4)*1000)","v":25000},{"$f":"B13*(1+'Federal Reserve PPI AC Parts'!$E$12)","v":43057.395610787949},{"$f":"C13*(1+'Federal Reserve PPI AC Parts'!$E$12)","v":27960.074034902173},"Used Model 2024",43057.395610787949,0.53996,{"$f":"IFERROR(INDEX('[2]mil fighter'!$B$6:$K$73,MATCH(#REF!,'[2]mil fighter'!$B$6:$B$73,0),8),INDEX('[2]mil fighter'!$B$6:$K$73,MATCH(L13,'[2]mil fighter'!$B$6:$B$73,0),8))","v":"?????"},8,{"$f":"INDEX('[1]Pt1-DATA'!$A$5:$M$13349,MATCH(A13,'[1]Pt1-DATA'!$C$5:$C$13349,0),6)","v":"C"},"Electro Optical Targeting System (FLIR & IRST)",null,38499]
["146#793",{"$f":"IFERROR(INDEX('[1]Pt1-DATA'!$C:$D,MATCH(A14,'[1]Pt1-DATA'!$C:$C,0),2),\"\")","v":253030},{"$f":"IFERROR(INDEX('[2]mil fighter'!$B$6:$K$73,MATCH(L14,'[2]mil fighter'!$B$6:$B$73,0),4)*1000,INDEX('[2]mil fighter'!$B$6:$K$73,MATCH(M14,'[2]mil fighter'!$B$6:$B$73,0),4)*1000)","v":175000},{"$f":"B14*(1+'Federal Reserve PPI AC Parts'!$E$12)","v":282989.50132205186},{"$f":"C14*(1+'Federal Reserve PPI AC Parts'!$E$12)","v":195720.5182443152},"Used Model 2024",282989.50132205186,0.44588571428571427,{"$f":"IFERROR(INDEX('[2]mil fighter'!$B$6:$K$73,MATCH(#REF!,'[2]mil fighter'!$B$6:$B$73,0),8),INDEX('[2]mil fighter'!$B$6:$K$73,MATCH(L14,'[2]mil fighter'!$B$6:$B$73,0),8))","v":"Rockwell Collins/Elbit"},1,{"$f":"INDEX('[1]Pt1-DATA'!$A$5:$M$13349,MATCH(A14,'[1]Pt1-DATA'!$C$5:$C$13349,0),6)","v":"D"},"Pilot Helmet Mounted Display System",null,253030]
["146#794",{"$f":"IFERROR(INDEX('[1]Pt1-DATA'!$C:$D,MATCH(A15,'[1]Pt1-DATA'!$C:$C,0),2),\"\")","v":28767},{"$f":"IFERROR(INDEX('[2]mil fighter'!$B$6:$K$73,MATCH(L15,'[2]mil fighter'!$B$6:$B$73,0),4)*1000,INDEX('[2]mil fighter'!$B$6:$K$73,MATCH(M15,'[2]mil fighter'!$B$6:$B$73,0),4)*1000)","v":25000},{"$f":"B15*(1+'Federal Reserve PPI AC Parts'!$E$12)","v":32173.09799048123},{"$f":"C15*(1+'Federal Reserve PPI AC Parts'!$E$12)","v":27960.074034902173},"Used Model 2024",32173.09799048123,0.15068000000000001,{"$f":"IFERROR(INDEX('[2]mil fighter'!$B$6:$K$73,MATCH(#REF!,'[2]mil fighter'!$B$6:$B$73,0),8),INDEX('[2]mil fighter'!$B$6:$K$73,MATCH(L15,'[2]mil fighter'!$B$6:$B$73,0),8))","v":"Harris L3"},1,{"$f":"INDEX('[1]Pt1-DATA'!$A$5:$M$13349,MATCH(A15,'[1]Pt1-DATA'!$C$5:$C$13349,0),6)","v":"C"},"Multi function Advanced Data link AAA Array",null,28767]
["146#795",{"$f":"IFERROR(INDEX('[1]Pt1-DATA'!$C:$D,MATCH(A16,'[1]Pt1-DATA'!$C:$C,0),2),\"\")","v":279016},{"$f":"IFERROR(INDEX('[2]mil fighter'!$B$6:$K$73,MATCH(L16,'[2]mil fighter'!$B$6:$B$73,0),4)*1000,INDEX('[2]mil fighter'!$B$6:$K$73,MATCH(M16,'[2]mil fighter'!$B$6:$B$73,0),4)*1000)","v":200000},{"$f":"B16*(1+'Federal Reserve PPI AC Parts'!$E$12)","v":312052.32067689055},{"$f":"C16*(1+'Federal Reserve PPI AC Parts'!$E$12)","v":223680.59227921738},"Used Model 2024",312052.32067689055,0.39507999999999999,{"$f":"IFERROR(INDEX('[2]mil fighter'!$B$6:$K$73,MATCH(#REF!,'[2]mil fighter'!$B$6:$B$73,0),8),INDEX('[2]mil fighter'!$B$6:$K$73,MATCH(L16,'[2]mil fighter'!$B$6:$B$73,0),8))","v":"Harris L3 ??"},2,{"$f":"INDEX('[1]Pt1-DATA'!$A$5:$M$13349,MATCH(A16,'[1]Pt1-DATA'!$C$5:$C$13349,0),6)","v":"F"},"Mission computers",null,279016]
["146#796",{"$f":"IFERROR(INDEX('[1]Pt1-DATA'!$C:$D,MATCH(A17,'[1]Pt1-DATA'!$C:$C,0),2),\"\")","v":247492},{"$f":"IFERROR(INDEX('[2]mil fighter'!$B$6:$K$73,MATCH(L17,'[2]mil fighter'!$B$6:$B$73,0),4)*1000,INDEX('[2]mil fighter'!$B$6:$K$73,MATCH(M17,'[2]mil fighter'!$B$6:$B$73,0),4)*1000)","v":300000},{"$f":"B17*(1+'Federal Reserve PPI AC Parts'!$E$12)","v":276795.78572184034},{"$f":"C17*(1+'Federal Reserve PPI AC Parts'!$E$12)","v":335520.88841882604},"Used Model 2024",276795.78572184034,-0.17502666666666666,{"$f":"IFERROR(INDEX('[2]mil fighter'!$B$6:$K$73,MATCH(#REF!,'[2]mil fighter'!$B$6:$B$73,0),8),INDEX('[2]mil fighter'!$B$6:$K$73,MATCH(L17,'[2]mil fighter'!$B$6:$B$73,0),8))","v":"Northrop Grumman"},1,{"$f":"INDEX('[1]Pt1-DATA'!$A$5:$M$13349,MATCH(A17,'[1]Pt1-DATA'!$C$5:$C$13349,0),6)","v":"C"},"AESA Radar",null,247492]
["146#797",{"$f":"IFERROR(INDEX('[1]Pt1-DATA'!$C:$D,MATCH(A18,'[1]Pt1-DATA'!$C:$C,0),2),\"\")","v":86301},{"$f":"IFERROR(INDEX('[2]mil fighter'!$B$6:$K$73,MATCH(L18,'[2]mil fighter'!$B$6:$B$73,0),4)*1000,INDEX('[2]mil fighter'!$B$6:$K$73,MATCH(M18,'[2]mil fighter'!$B$6:$B$73,0),4)*1000)","v":50000},{"$f":"B18*(1+'Federal Reserve PPI AC Parts'!$E$12)","v":96519.293971443694},{"$f":"C18*(1+'Federal Reserve PPI AC Parts'!$E$12)","v":55920.148069804345},"Used Model 2024",96519.293971443694,0.72602,{"$f":"IFERROR(INDEX('[2]mil fighter'!$B$6:$K$73,MATCH(#REF!,'[2]mil fighter'!$B$6:$B$73,0),8),INDEX('[2]mil fighter'!$B$6:$K$73,MATCH(L18,'[2]mil fighter'!$B$6:$B$73,0),8))","v":"Harris"},1,{"$f":"INDEX('[1]Pt1-DATA'!$A$5:$M$13349,MATCH(A18,'[1]Pt1-DATA'!$C$5:$C$13349,0),6)","v":"C"},"Aircraft memory system",null,86301]
["146#798",{"$f":"IFERROR(INDEX('[1]Pt1-DATA'!$C:$D,MATCH(A19,'[1]Pt1-DATA'!$C:$C,0),2),\"\")","v":65998},{"$f":"IFERROR(INDEX('[2]mil fighter'!$B$6:$K$73,MATCH(L19,'[2]mil fighter'!$B$6:$B$73,0),4)*1000,INDEX('[2]mil fighter'!$B$6:$K$73,MATCH(M19,'[2]mil fighter'!$B$6:$B$73,0),4)*1000)","v":75000},{"$f":"B19*(1+'Federal Reserve PPI AC Parts'!$E$12)","v":73812.358646218941},{"$f":"C19*(1+'Federal Reserve PPI AC Parts'!$E$12)","v":83880.22210470651},"Used Model 2024",73812.358646218941,-0.12002666666666667,{"$f":"IFERROR(INDEX('[2]mil fighter'!$B$6:$K$73,MATCH(#REF!,'[2]mil fighter'!$B$6:$B$73,0),8),INDEX('[2]mil fighter'!$B$6:$K$73,MATCH(L19,'[2]mil fighter'!$B$6:$B$73,0),8))","v":"Northrop Grumman/Raytheon?"},6,{"$f":"INDEX('[1]Pt1-DATA'!$A$5:$M$13349,MATCH(A19,'[1]Pt1-DATA'!$C$5:$C$13349,0),6)","v":"C"},"Distributed Aperture System (electro-optical)",null,65998]
["146#799",{"$f":"IFERROR(INDEX('[1]Pt1-DATA'!$C:$D,MATCH(A20,'[1]Pt1-DATA'!$C:$C,0),2),\"\")","v":14677},{"$f":"IFERROR(INDEX('[2]mil fighter'!$B$6:$K$73,MATCH(L20,'[2]mil fighter'!$B$6:$B$73,0),4)*1000,INDEX('[2]mil fighter'!$B$6:$K$73,MATCH(M20,'[2]mil fighter'!$B$6:$B$73,0),4)*1000)","v":15000},{"$f":"B20*(1+'Federal Reserve PPI AC Parts'!$E$12)","v":16414.800264410365},{"$f":"C20*(1+'Federal Reserve PPI AC Parts'!$E$12)","v":16776.044420941304},"Used Model 2024",16414.800264410365,-2.1533333333333335E-2,{"$f":"IFERROR(INDEX('[2]mil fighter'!$B$6:$K$73,MATCH(#REF!,'[2]mil fighter'!$B$6:$B$73,0),8),INDEX('[2]mil fighter'!$B$6:$K$73,MATCH(L20,'[2]mil fighter'!$B$6:$B$73,0),8))","v":"Harris L3"},6,{"$f":"INDEX('[1]Pt1-DATA'!$A$5:$M$13349,MATCH(A20,'[1]Pt1-DATA'!$C$5:$C$13349,0),6)","v":"C"},"Antenna suite",null,14677]
["146#800",{"$f":"IFERROR(INDEX('[1]Pt1-DATA'!$C:$D,MATCH(A21,'[1]Pt1-DATA'!$C:$C,0),2),\"\")","v":57534},{"$f":"IFERROR(INDEX('[2]mil fighter'!$B$6:$K$73,MATCH(L21,'[2]mil fighter'!$B$6:$B$73,0),4)*1000,INDEX('[2]mil fighter'!$B$6:$K$73,MATCH(M21,'[2]mil fighter'!$B$6:$B$73,0),4)*1000)","v":50000},{"$f":"B21*(1+'Federal Reserve PPI AC Parts'!$E$12)","v":64346.19598096246},{"$f":"C21*(1+'Federal Reserve PPI AC Parts'!$E$12)","v":55920.148069804345},"Used Model 2024",64346.19598096246,0.15068000000000001,{"$f":"IFERROR(INDEX('[2]mil fighter'!$B$6:$K$73,MATCH(#REF!,'[2]mil fighter'!$B$6:$B$73,0),8),INDEX('[2]mil fighter'!$B$6:$K$73,MATCH(L21,'[2]mil fighter'!$B$6:$B$73,0),8))","v":"???"},2,{"$f":"INDEX('[1]Pt1-DATA'!$A$5:$M$13349,MATCH(A21,'[1]Pt1-DATA'!$C$5:$C$13349,0),6)","v":"C"},"High speed and fibre optics data/signalling network databuses",null,57534]
["146#801",{"$f":"IFERROR(INDEX('[1]Pt1-DATA'!$C:$D,MATCH(A22,'[1]Pt1-DATA'!$C:$C,0),2),\"\")","v":23014},{"$f":"IFERROR(INDEX('[2]mil fighter'!$B$6:$K$73,MATCH(L22,'[2]mil fighter'!$B$6:$B$73,0),4)*1000,INDEX('[2]mil fighter'!$B$6:$K$73,MATCH(M22,'[2]mil fighter'!$B$6:$B$73,0),4)*1000)","v":20000},{"$f":"B22*(1+'Federal Reserve PPI AC Parts'!$E$12)","v":25738.925753569543},{"$f":"C22*(1+'Federal Reserve PPI AC Parts'!$E$12)","v":22368.059227921738},"Used Model 2024",25738.925753569543,0.1507,{"$f":"IFERROR(INDEX('[2]mil fighter'!$B$6:$K$73,MATCH(#REF!,'[2]mil fighter'!$B$6:$B$73,0),8),INDEX('[2]mil fighter'!$B$6:$K$73,MATCH(L22,'[2]mil fighter'!$B$6:$B$73,0),8))","v":"Honeywell"},1,{"$f":"INDEX('[1]Pt1-DATA'!$A$5:$M$13349,MATCH(A22,'[1]Pt1-DATA'!$C$5:$C$13349,0),6)","v":"C"},"Radar altimeter",null,23014]
["146#879",{"$f":"IFERROR(INDEX('[1]Pt1-DATA'!$C:$D,MATCH(A23,'[1]Pt1-DATA'!$C:$C,0),2),\"\")","v":326072},{"$f":"IFERROR(INDEX('[2]mil fighter'!$B$6:$K$73,MATCH(L23,'[2]mil fighter'!$B$6:$B$73,0),4)*1000,INDEX('[2]mil fighter'!$B$6:$K$73,MATCH(M23,'[2]mil fighter'!$B$6:$B$73,0),4)*1000)","v":{"$error":"#N/A"}},{"$f":"B23*(1+'Federal Reserve PPI AC Parts'!$E$12)","v":364679.89042834484},{"$f":"C23*(1+'Federal Reserve PPI AC Parts'!$E$12)","v":{"$error":"#N/A"}},"Used Model 2024",364679.89042834484,{"$error":"#N/A"},{"$f":"IFERROR(INDEX('[2]mil fighter'!$B$6:$K$73,MATCH(#REF!,'[2]mil fighter'!$B$6:$B$73,0),8),INDEX('[2]mil fighter'!$B$6:$K$73,MATCH(L23,'[2]mil fighter'!$B$6:$B$73,0),8))","v":{"$error":"#N/A"}},1,{"$f":"INDEX('[1]Pt1-DATA'!$A$5:$M$13349,MATCH(A23,'[1]Pt1-DATA'!$C$5:$C$13349,0),6)","v":"AE"},"Software",null,326072]
["146#880",{"$f":"IFERROR(INDEX('[1]Pt1-DATA'!$C:$D,MATCH(A24,'[1]Pt1-DATA'!$C:$C,0),2),\"\")","v":27499},{"$f":"IFERROR(INDEX('[2]mil fighter'!$B$6:$K$73,MATCH(L24,'[2]mil fighter'!$B$6:$B$73,0),4)*1000,INDEX('[2]mil fighter'!$B$6:$K$73,MATCH(M24,'[2]mil fighter'!$B$6:$B$73,0),4)*1000)","v":{"$error":"#N/A"}},{"$f":"B24*(1+'Federal Reserve PPI AC Parts'!$E$12)","v":30754.963035430992},{"$f":"C24*(1+'Federal Reserve PPI AC Parts'!$E$12)","v":{"$error":"#N/A"}},"Used Model 2024",30754.963035430992,{"$error":"#N/A"},{"$f":"IFERROR(INDEX('[2]mil fighter'!$B$6:$K$73,MATCH(#REF!,'[2]mil fighter'!$B$6:$B$73,0),8),INDEX('[2]mil fighter'!$B$6:$K$73,MATCH(L24,'[2]mil fighter'!$B$6:$B$73,0),8))","v":{"$error":"#N/A"}},4,{"$f":"INDEX('[1]Pt1-DATA'!$A$5:$M$13349,MATCH(A24,'[1]Pt1-DATA'!$C$5:$C$13349,0),6)","v":"I"},"Air data sensors",null,27499]
["146#881",{"$f":"IFERROR(INDEX('[1]Pt1-DATA'!$C:$D,MATCH(A25,'[1]Pt1-DATA'!$C:$C,0),2),\"\")","v":279016},{"$f":"IFERROR(INDEX('[2]mil fighter'!$B$6:$K$73,MATCH(L25,'[2]mil fighter'!$B$6:$B$73,0),4)*1000,INDEX('[2]mil fighter'!$B$6:$K$73,MATCH(M25,'[2]mil fighter'!$B$6:$B$73,0),4)*1000)","v":{"$error":"#N/A"}},{"$f":"B25*(1+'Federal Reserve PPI AC Parts'!$E$12)","v":312052.32067689055},{"$f":"C25*(1+'Federal Reserve PPI AC Parts'!$E$12)","v":{"$error":"#N/A"}},"Used Model 2024",312052.32067689055,{"$error":"#N/A"},{"$f":"IFERROR(INDEX('[2]mil fighter'!$B$6:$K$73,MATCH(#REF!,'[2]mil fighter'!$B$6:$B$73,0),8),INDEX('[2]mil fighter'!$B$6:$K$73,MATCH(L25,'[2]mil fighter'!$B$6:$B$73,0),8))","v":{"$error":"#N/A"}},1,{"$f":"INDEX('[1]Pt1-DATA'!$A$5:$M$13349,MATCH(A25,'[1]Pt1-DATA'!$C$5:$C$13349,0),6)","v":"B"},"Stores management computer",null,279016]
["146#885",{"$f":"IFERROR(INDEX('[1]Pt1-DATA'!$C:$D,MATCH(A26,'[1]Pt1-DATA'!$C:$C,0),2),\"\")","v":177261},{"$f":"IFERROR(INDEX('[2]mil fighter'!$B$6:$K$73,MATCH(L26,'[2]mil fighter'!$B$6:$B$73,0),4)*1000,INDEX('[2]mil fighter'!$B$6:$K$73,MATCH(M26,'[2]mil fighter'!$B$6:$B$73,0),4)*1000)","v":{"$error":"#N/A"}},{"$f":"B26*(1+'Federal Reserve PPI AC Parts'!$E$12)","v":198249.22734003176},{"$f":"C26*(1+'Federal Reserve PPI AC Parts'!$E$12)","v":{"$error":"#N/A"}},"Used Model 2024",198249.22734003176,{"$error":"#N/A"},{"$f":"IFERROR(INDEX('[2]mil fighter'!$B$6:$K$73,MATCH(#REF!,'[2]mil fighter'!$B$6:$B$73,0),8),INDEX('[2]mil fighter'!$B$6:$K$73,MATCH(L26,'[2]mil fighter'!$B$6:$B$73,0),8))","v":{"$error":"#N/A"}},1,{"$f":"INDEX('[1]Pt1-DATA'!$A$5:$M$13349,MATCH(A26,'[1]Pt1-DATA'!$C$5:$C$13349,0),6)","v":"B"},"Enhanced Vision system",null,177261]
["146#1056",{"$f":"IFERROR(INDEX('[1]Pt1-DATA'!$C:$D,MATCH(A27,'[1]Pt1-DATA'!$C:$C,0),2),\"\")","v":2636},{"$f":"IFERROR(INDEX('[2]mil fighter'!$B$6:$K$73,MATCH(L27,'[2]mil fighter'!$B$6:$B$73,0),4)*1000,INDEX('[2]mil fighter'!$B$6:$K$73,MATCH(M27,'[2]mil fighter'!$B$6:$B$73,0),4)*1000)","v":{"$error":"#N/A"}},{"$f":"B27*(1+'Federal Reserve PPI AC Parts'!$E$12)","v":2948.1102062400851},{"$f":"C27*(1+'Federal Reserve PPI AC Parts'!$E$12)","v":{"$error":"#N/A"}},"Used Model 2024",2948.1102062400851,{"$error":"#N/A"},{"$f":"IFERROR(INDEX('[2]mil fighter'!$B$6:$K$73,MATCH(#REF!,'[2]mil fighter'!$B$6:$B$73,0),8),INDEX('[2]mil fighter'!$B$6:$K$73,MATCH(L27,'[2]mil fighter'!$B$6:$B$73,0),8))","v":{"$error":"#N/A"}},1,{"$f":"INDEX('[1]Pt1-DATA'!$A$5:$M$13349,MATCH(A27,'[1]Pt1-DATA'!$C$5:$C$13349,0),6)","v":"BR"},"Avionics Harnesses",null,2636]
["146#1057",{"$f":"IFERROR(INDEX('[1]Pt1-DATA'!$C:$D,MATCH(A28,'[1]Pt1-DATA'!$C:$C,0),2),\"\")","v":18772},{"$f":"IFERROR(INDEX('[2]mil fighter'!$B$6:$K$73,MATCH(L28,'[2]mil fighter'!$B$6:$B$73,0),4)*1000,INDEX('[2]mil fighter'!$B$6:$K$73,MATCH(M28,'[2]mil fighter'!$B$6:$B$73,0),4)*1000)","v":{"$error":"#N/A"}},{"$f":"B28*(1+'Federal Reserve PPI AC Parts'!$E$12)","v":20994.660391327343},{"$f":"C28*(1+'Federal Reserve PPI AC Parts'!$E$12)","v":{"$error":"#N/A"}},"Used Model 2024",20994.660391327343,{"$error":"#N/A"},{"$f":"IFERROR(INDEX('[2]mil fighter'!$B$6:$K$73,MATCH(#REF!,'[2]mil fighter'!$B$6:$B$73,0),8),INDEX('[2]mil fighter'!$B$6:$K$73,MATCH(L28,'[2]mil fighter'!$B$6:$B$73,0),8))","v":{"$error":"#N/A"}},1,{"$f":"INDEX('[1]Pt1-DATA'!$A$5:$M$13349,MATCH(A28,'[1]Pt1-DATA'!$C$5:$C$13349,0),6)","v":"BR"},"Avionics Harnesses",null,18772]
["146#1058",{"$f":"IFERROR(INDEX('[1]Pt1-DATA'!$C:$D,MATCH(A29,'[1]Pt1-DATA'!$C:$C,0),2),\"\")","v":22700},{"$f":"IFERROR(INDEX('[2]mil fighter'!$B$6:$K$73,MATCH(L29,'[2]mil fighter'!$B$6:$B$73,0),4)*1000,INDEX('[2]mil fighter'!$B$6:$K$73,MATCH(M29,'[2]mil fighter'!$B$6:$B$73,0),4)*1000)","v":{"$error":"#N/A"}},{"$f":"B29*(1+'Federal Reserve PPI AC Parts'!$E$12)","v":25387.747223691171},{"$f":"C29*(1+'Federal Reserve PPI AC Parts'!$E$12)","v":{"$error":"#N/A"}},"Used Model 2024",25387.747223691171,{"$error":"#N/A"},{"$f":"IFERROR(INDEX('[2]mil fighter'!$B$6:$K$73,MATCH(#REF!,'[2]mil fighter'!$B$6:$B$73,0),8),INDEX('[2]mil fighter'!$B$6:$K$73,MATCH(L29,'[2]mil fighter'!$B$6:$B$73,0),8))","v":{"$error":"#N/A"}},1,{"$f":"INDEX('[1]Pt1-DATA'!$A$5:$M$13349,MATCH(A29,'[1]Pt1-DATA'!$C$5:$C$13349,0),6)","v":"BR"},"Avionics Harnesses",null,22700]
["146#1059",{"$f":"IFERROR(INDEX('[1]Pt1-DATA'!$C:$D,MATCH(A30,'[1]Pt1-DATA'!$C:$C,0),2),\"\")","v":4693},{"$f":"IFERROR(INDEX('[2]mil fighter'!$B$6:$K$73,MATCH(L30,'[2]mil fighter'!$B$6:$B$73,0),4)*1000,INDEX('[2]mil fighter'!$B$6:$K$73,MATCH(M30,'[2]mil fighter'!$B$6:$B$73,0),4)*1000)","v":{"$error":"#N/A"}},{"$f":"B30*(1+'Federal Reserve PPI AC Parts'!$E$12)","v":5248.6650978318357},{"$f":"C30*(1+'Federal Reserve PPI AC Parts'!$E$12)","v":{"$error":"#N/A"}},"Used Model 2024",5248.6650978318357,{"$error":"#N/A"},{"$f":"IFERROR(INDEX('[2]mil fighter'!$B$6:$K$73,MATCH(#REF!,'[2]mil fighter'!$B$6:$B$73,0),8),INDEX('[2]mil fighter'!$B$6:$K$73,MATCH(L30,'[2]mil fighter'!$B$6:$B$73,0),8))","v":{"$error":"#N/A"}},1,{"$f":"INDEX('[1]Pt1-DATA'!$A$5:$M$13349,MATCH(A30,'[1]Pt1-DATA'!$C$5:$C$13349,0),6)","v":"BR"},"Avionics Harnesses",null,4693]
[null,{"$f":"IFERROR(INDEX('[1]Pt1-DATA'!$C:$D,MATCH(A31,'[1]Pt1-DATA'!$C:$C,0),2),\"\")","v":""},{"$f":"IFERROR(INDEX('[2]mil fighter'!$B$6:$K$73,MATCH(L31,'[2]mil fighter'!$B$6:$B$73,0),4)*1000,INDEX('[2]mil fighter'!$B$6:$K$73,MATCH(M31,'[2]mil fighter'!$B$6:$B$73,0),4)*1000)","v":25000},{"$f":"B31*(1+'Federal Reserve PPI AC Parts'!$E$12)","v":{"$error":"#VALUE!"}},{"$f":"C31*(1+'Federal Reserve PPI AC Parts'!$E$12)","v":27960.074034902173},"Used PW 2024",{"$f":"E31","v":27960.074034902173},{"$f":"(B31-C31)/C31","v":{"$error":"#VALUE!"}},{"$f":"IFERROR(INDEX('[2]mil fighter'!$B$6:$K$73,MATCH(#REF!,'[2]mil fighter'!$B$6:$B$73,0),8),INDEX('[2]mil fighter'!$B$6:$K$73,MATCH(L31,'[2]mil fighter'!$B$6:$B$73,0),8))","v":{"$error":"#N/A"}},1,{"$f":"INDEX('[1]Pt1-DATA'!$A$5:$M$13349,MATCH(A31,'[1]Pt1-DATA'!$C$5:$C$13349,0),6)","v":{"$error":"#N/A"}},null,"Multi function Advanced Data link AIA Antenna",""]

{"sheet":"wide body (non IMA)","index":5,"n_rows":63,"n_cols":14,"rows_kept":63,"cut":false,"hidden":false,"merged":[]}
["Aircraft:",{"$f":"INDEX('[1]Pt1-AvionicsComponentCosts'!$A$11:$E$384,MATCH(VALUE(LEFT(A5,SEARCH(\"#\",A5)-1)),'[1]Pt1-AvionicsComponentCosts'!$A$11:$A$384,0),5)","v":"Airbus A330-300"}]
[null,"Avionics Cost 2020",null,null,null,null,"Avionics Cost 2024",null,"% Change 2020 - 2024"]
[null,{"$f":"SUMPRODUCT(B5:B80,J5:J80)","v":3274381},null,null,null,null,{"$f":"SUMPRODUCT(G5:G80,J5:J80)","v":3897524.3257535701},null,{"$f":"($G$3-$B$3)/$B$3","v":0.19030874102725678}]
[null,"Model 2020","PW 2020","2024 PPI Model","2024 PPI PW","Notes","2024 AE Estimate","Pct Change","Source","#/AC","Factor","Item","Alt Item (PW)","previous"]
["518#709",{"$f":"IFERROR(INDEX('[1]Pt1-DATA'!$C:$D,MATCH(A5,'[1]Pt1-DATA'!$C:$C,0),2),\"\")","v":97461},{"$f":"IFERROR(INDEX('[2]wide body (non IMA)'!$B$6:$K$73,MATCH(L5,'[2]wide body (non IMA)'!$B$6:$B$73,0),4)*1000,INDEX('[2]wide body (non IMA)'!$B$6:$K$73,MATCH(M5,'[2]wide body (non IMA)'!$B$6:$B$73,0),4)*1000)","v":60000},{"$f":"B5*(1+'Federal Reserve PPI AC Parts'!$E$12)","v":109000.67102062402},{"$f":"C5*(1+'Federal Reserve PPI AC Parts'!$E$12)","v":67104.177683765214},"PW 2020 Low",110000,{"$f":"(B5-C5)/C5","v":0.62434999999999996},{"$f":"IFERROR(INDEX('[2]wide body (non IMA)'!$B$6:$K$73,MATCH(L5,'[2]wide body (non IMA)'!$B$6:$B$73,0),7),INDEX('[2]wide body (non IMA)'!$B$6:$K$73,MATCH(M5,'[2]wide body (non IMA)'!$B$6:$B$73,0),7))","v":"Honeywell or Thales"},2,{"$f":"INDEX('[1]Pt1-DATA'!$A$5:$M$13349,MATCH(A5,'[1]Pt1-DATA'!$C$5:$C$13349,0),6)","v":"L"},"FMGC",null,97461]
["518#710",{"$f":"IFERROR(INDEX('[1]Pt1-DATA'!$C:$D,MATCH(A6,'[1]Pt1-DATA'!$C:$C,0),2),\"\")","v":41750},{"$f":"IFERROR(INDEX('[2]wide body (non IMA)'!$B$6:$K$73,MATCH(L6,'[2]wide body (non IMA)'!$B$6:$B$73,0),4)*1000,INDEX('[2]wide body (non IMA)'!$B$6:$K$73,MATCH(M6,'[2]wide body (non IMA)'!$B$6:$B$73,0),4)*1000)","v":30000},{"$f":"B6*(1+'Federal Reserve PPI AC Parts'!$E$12)","v":46693.323638286623},{"$f":"C6*(1+'Federal Reserve PPI AC Parts'!$E$12)","v":33552.088841882607},"PW 2020 Low",50000,{"$f":"(B6-C6)/C6","v":0.39166666666666666},{"$f":"IFERROR(INDEX('[2]wide body (non IMA)'!$B$6:$K$73,MATCH(L6,'[2]wide body (non IMA)'!$B$6:$B$73,0),7),INDEX('[2]wide body (non IMA)'!$B$6:$K$73,MATCH(M6,'[2]wide body (non IMA)'!$B$6:$B$73,0),7))","v":"Honeywell or Thales"},3,{"$f":"INDEX('[1]Pt1-DATA'!$A$5:$M$13349,MATCH(A6,'[1]Pt1-DATA'!$C$5:$C$13349,0),6)","v":"J1"},"MCDU",null,41750]
["518#713",{"$f":"IFERROR(INDEX('[1]Pt1-DATA'!$C:$D,MATCH(A7,'[1]Pt1-DATA'!$C:$C,0),2),\"\")","v":11206},{"$f":"IFERROR(INDEX('[2]wide body (non IMA)'!$B$6:$K$73,MATCH(L7,'[2]wide body (non IMA)'!$B$6:$B$73,0),4)*1000,INDEX('[2]wide body (non IMA)'!$B$6:$K$73,MATCH(M7,'[2]wide body (non IMA)'!$B$6:$B$73,0),4)*1000)","v":30000},{"$f":"B7*(1+'Federal Reserve PPI AC Parts'!$E$12)","v":12532.823585404549},{"$f":"C7*(1+'Federal Reserve PPI AC Parts'!$E$12)","v":33552.088841882607},"PW 2020 High",13500,-0.62646666666666662,{"$f":"IFERROR(INDEX('[2]wide body (non IMA)'!$B$6:$K$73,MATCH(L7,'[2]wide body (non IMA)'!$B$6:$B$73,0),7),INDEX('[2]wide body (non IMA)'!$B$6:$K$73,MATCH(M7,'[2]wide body (non IMA)'!$B$6:$B$73,0),7))","v":0},2,{"$f":"INDEX('[1]Pt1-DATA'!$A$5:$M$13349,MATCH(A7,'[1]Pt1-DATA'!$C$5:$C$13349,0),6)","v":"C"},"A/T Engine Control Unit",null,11206]
["518#714",{"$f":"IFERROR(INDEX('[1]Pt1-DATA'!$C:$D,MATCH(A8,'[1]Pt1-DATA'!$C:$C,0),2),\"\")","v":34520},{"$f":"IFERROR(INDEX('[2]wide body (non IMA)'!$B$6:$K$73,MATCH(L8,'[2]wide body (non IMA)'!$B$6:$B$73,0),4)*1000,INDEX('[2]wide body (non IMA)'!$B$6:$K$73,MATCH(M8,'[2]wide body (non IMA)'!$B$6:$B$73,0),4)*1000)","v":15000},{"$f":"B8*(1+'Federal Reserve PPI AC Parts'!$E$12)","v":38607.270227392917},{"$f":"C8*(1+'Federal Reserve PPI AC Parts'!$E$12)","v":16776.044420941304},"PW 2020 Low",40000,1.3013333333333332,{"$f":"IFERROR(INDEX('[2]wide body (non IMA)'!$B$6:$K$73,MATCH(L8,'[2]wide body (non IMA)'!$B$6:$B$73,0),7),INDEX('[2]wide body (non IMA)'!$B$6:$K$73,MATCH(M8,'[2]wide body (non IMA)'!$B$6:$B$73,0),7))","v":0},2,{"$f":"INDEX('[1]Pt1-DATA'!$A$5:$M$13349,MATCH(A8,'[1]Pt1-DATA'!$C$5:$C$13349,0),6)","v":"E"},"Data Base loader",null,34520]
["518#716",{"$f":"IFERROR(INDEX('[1]Pt1-DATA'!$C:$D,MATCH(A9,'[1]Pt1-DATA'!$C:$C,0),2),\"\")","v":52188},{"$f":"IFERROR(INDEX('[2]wide body (non IMA)'!$B$6:$K$73,MATCH(L9,'[2]wide body (non IMA)'!$B$6:$B$73,0),4)*1000,INDEX('[2]wide body (non IMA)'!$B$6:$K$73,MATCH(M9,'[2]wide body (non IMA)'!$B$6:$B$73,0),4)*1000)","v":30000},{"$f":"B9*(1+'Federal Reserve PPI AC Parts'!$E$12)","v":58367.213749338982},{"$f":"C9*(1+'Federal Reserve PPI AC Parts'!$E$12)","v":33552.088841882607},"PW 2020 Low",60000,0.73960000000000004,{"$f":"IFERROR(INDEX('[2]wide body (non IMA)'!$B$6:$K$73,MATCH(L9,'[2]wide body (non IMA)'!$B$6:$B$73,0),7),INDEX('[2]wide body (non IMA)'!$B$6:$K$73,MATCH(M9,'[2]wide body (non IMA)'!$B$6:$B$73,0),7))","v":"Airbus"},2,{"$f":"INDEX('[1]Pt1-DATA'!$A$5:$M$13349,MATCH(A9,'[1]Pt1-DATA'!$C$5:$C$13349,0),6)","v":"E"},"Flight Warning Computer (FWC)","Flight Warning Computers (FWC)",52188]
["518#717",{"$f":"IFERROR(INDEX('[1]Pt1-DATA'!$C:$D,MATCH(A10,'[1]Pt1-DATA'!$C:$C,0),2),\"\")","v":44327},{"$f":"IFERROR(INDEX('[2]wide body (non IMA)'!$B$6:$K$73,MATCH(L10,'[2]wide body (non IMA)'!$B$6:$B$73,0),4)*1000,INDEX('[2]wide body (non IMA)'!$B$6:$K$73,MATCH(M10,'[2]wide body (non IMA)'!$B$6:$B$73,0),4)*1000)","v":60000},{"$f":"B10*(1+'Federal Reserve PPI AC Parts'!$E$12)","v":49575.448069804341},{"$f":"C10*(1+'Federal Reserve PPI AC Parts'!$E$12)","v":67104.177683765214},"Validated PW 2020",70000,-0.26121666666666665,{"$f":"IFERROR(INDEX('[2]wide body (non IMA)'!$B$6:$K$73,MATCH(L10,'[2]wide body (non IMA)'!$B$6:$B$73,0),7),INDEX('[2]wide body (non IMA)'!$B$6:$K$73,MATCH(M10,'[2]wide body (non IMA)'!$B$6:$B$73,0),7))","v":"NG/Litton Ind"},3,{"$f":"INDEX('[1]Pt1-DATA'!$A$5:$M$13349,MATCH(A10,'[1]Pt1-DATA'!$C$5:$C$13349,0),6)","v":"F"},"ADIRU",null,44327]
["518#721",{"$f":"IFERROR(INDEX('[1]Pt1-DATA'!$C:$D,MATCH(A11,'[1]Pt1-DATA'!$C:$C,0),2),\"\")","v":10638},{"$f":"IFERROR(INDEX('[2]wide body (non IMA)'!$B$6:$K$73,MATCH(L11,'[2]wide body (non IMA)'!$B$6:$B$73,0),4)*1000,INDEX('[2]wide body (non IMA)'!$B$6:$K$73,MATCH(M11,'[2]wide body (non IMA)'!$B$6:$B$73,0),4)*1000)","v":15000},{"$f":"B11*(1+'Federal Reserve PPI AC Parts'!$E$12)","v":11897.570703331572},{"$f":"C11*(1+'Federal Reserve PPI AC Parts'!$E$12)","v":16776.044420941304},"Validated PW 2020",17000,-0.2908,{"$f":"IFERROR(INDEX('[2]wide body (non IMA)'!$B$6:$K$73,MATCH(L11,'[2]wide body (non IMA)'!$B$6:$B$73,0),7),INDEX('[2]wide body (non IMA)'!$B$6:$K$73,MATCH(M11,'[2]wide body (non IMA)'!$B$6:$B$73,0),7))","v":"NG/Litton Ind"},8,{"$f":"INDEX('[1]Pt1-DATA'!$A$5:$M$13349,MATCH(A11,'[1]Pt1-DATA'!$C$5:$C$13349,0),6)","v":"E1"},"Air Data Modules (ADM)","Air Data Module",10638]
["518#722",{"$f":"IFERROR(INDEX('[1]Pt1-DATA'!$C:$D,MATCH(A12,'[1]Pt1-DATA'!$C:$C,0),2),\"\")","v":10999},{"$f":"IFERROR(INDEX('[2]wide body (non IMA)'!$B$6:$K$73,MATCH(L12,'[2]wide body (non IMA)'!$B$6:$B$73,0),4)*1000,INDEX('[2]wide body (non IMA)'!$B$6:$K$73,MATCH(M12,'[2]wide body (non IMA)'!$B$6:$B$73,0),4)*1000)","v":8000},{"$f":"B12*(1+'Federal Reserve PPI AC Parts'!$E$12)","v":12301.31417239556},{"$f":"C12*(1+'Federal Reserve PPI AC Parts'!$E$12)","v":8947.2236911686941},"Validated PW 2020",9000,0.37487500000000001,{"$f":"IFERROR(INDEX('[2]wide body (non IMA)'!$B$6:$K$73,MATCH(L12,'[2]wide body (non IMA)'!$B$6:$B$73,0),7),INDEX('[2]wide body (non IMA)'!$B$6:$K$73,MATCH(M12,'[2]wide body (non IMA)'!$B$6:$B$73,0),7))","v":"Collins replaced Thales in 2012"},8,{"$f":"INDEX('[1]Pt1-DATA'!$A$5:$M$13349,MATCH(A12,'[1]Pt1-DATA'!$C$5:$C$13349,0),6)","v":"G"},"Air data probes (pitot/static)","AOA/Pitot static sensors",10999]
["518#723",{"$f":"IFERROR(INDEX('[1]Pt1-DATA'!$C:$D,MATCH(A13,'[1]Pt1-DATA'!$C:$C,0),2),\"\")","v":44327},{"$f":"IFERROR(INDEX('[2]wide body (non IMA)'!$B$6:$K$73,MATCH(L13,'[2]wide body (non IMA)'!$B$6:$B$73,0),4)*1000,INDEX('[2]wide body (non IMA)'!$B$6:$K$73,MATCH(M13,'[2]wide body (non IMA)'!$B$6:$B$73,0),4)*1000)","v":40000},{"$f":"B13*(1+'Federal Reserve PPI AC Parts'!$E$12)","v":49575.448069804341},{"$f":"C13*(1+'Federal Reserve PPI AC Parts'!$E$12)","v":44736.118455843476},"Validated PW 2020",45000,0.10817499999999999,{"$f":"IFERROR(INDEX('[2]wide body (non IMA)'!$B$6:$K$73,MATCH(L13,'[2]wide body (non IMA)'!$B$6:$B$73,0),7),INDEX('[2]wide body (non IMA)'!$B$6:$K$73,MATCH(M13,'[2]wide body (non IMA)'!$B$6:$B$73,0),7))","v":"Collins, HWL or Thales"},2,{"$f":"INDEX('[1]Pt1-DATA'!$A$5:$M$13349,MATCH(A13,'[1]Pt1-DATA'!$C$5:$C$13349,0),6)","v":"D"},"Multi Mode Receiver (MMR)",null,44327]
["518#728",{"$f":"IFERROR(INDEX('[1]Pt1-DATA'!$C:$D,MATCH(A14,'[1]Pt1-DATA'!$C:$C,0),2),\"\")","v":15182},{"$f":"IFERROR(INDEX('[2]wide body (non IMA)'!$B$6:$K$73,MATCH(L14,'[2]wide body (non IMA)'!$B$6:$B$73,0),4)*1000,INDEX('[2]wide body (non IMA)'!$B$6:$K$73,MATCH(M14,'[2]wide body (non IMA)'!$B$6:$B$73,0),4)*1000)","v":15000},{"$f":"B14*(1+'Federal Reserve PPI AC Parts'!$E$12)","v":16979.593759915391},{"$f":"C14*(1+'Federal Reserve PPI AC Parts'!$E$12)","v":16776.044420941304},"Validated PW 2020",17500,1.2133333333333333E-2,{"$f":"IFERROR(INDEX('[2]wide body (non IMA)'!$B$6:$K$73,MATCH(L14,'[2]wide body (non IMA)'!$B$6:$B$73,0),7),INDEX('[2]wide body (non IMA)'!$B$6:$K$73,MATCH(M14,'[2]wide body (non IMA)'!$B$6:$B$73,0),7))","v":0},1,{"$f":"INDEX('[1]Pt1-DATA'!$A$5:$M$13349,MATCH(A14,'[1]Pt1-DATA'!$C$5:$C$13349,0),6)","v":"E"},"EFIS Control panel",null,15182]
["518#732",{"$f":"IFERROR(INDEX('[1]Pt1-DATA'!$C:$D,MATCH(A15,'[1]Pt1-DATA'!$C:$C,0),2),\"\")","v":30364},{"$f":"IFERROR(INDEX('[2]wide body (non IMA)'!$B$6:$K$73,MATCH(L15,'[2]wide body (non IMA)'!$B$6:$B$73,0),4)*1000,INDEX('[2]wide body (non IMA)'!$B$6:$K$73,MATCH(M15,'[2]wide body (non IMA)'!$B$6:$B$73,0),4)*1000)","v":35000},{"$f":"B15*(1+'Federal Reserve PPI AC Parts'!$E$12)","v":33959.187519830783},{"$f":"C15*(1+'Federal Reserve PPI AC Parts'!$E$12)","v":39144.103648863042},"Validated PW 2020",40000,-0.13245714285714286,{"$f":"IFERROR(INDEX('[2]wide body (non IMA)'!$B$6:$K$73,MATCH(L15,'[2]wide body (non IMA)'!$B$6:$B$73,0),7),INDEX('[2]wide body (non IMA)'!$B$6:$K$73,MATCH(M15,'[2]wide body (non IMA)'!$B$6:$B$73,0),7))","v":0},2,{"$f":"INDEX('[1]Pt1-DATA'!$A$5:$M$13349,MATCH(A15,'[1]Pt1-DATA'!$C$5:$C$13349,0),6)","v":"E"},"System Data Acquisition Concentrator (SDAC)",null,30364]
["518#733",{"$f":"IFERROR(INDEX('[1]Pt1-DATA'!$C:$D,MATCH(A16,'[1]Pt1-DATA'!$C:$C,0),2),\"\")","v":70849},{"$f":"IFERROR(INDEX('[2]wide body (non IMA)'!$B$6:$K$73,MATCH(L16,'[2]wide body (non IMA)'!$B$6:$B$73,0),4)*1000,INDEX('[2]wide body (non IMA)'!$B$6:$K$73,MATCH(M16,'[2]wide body (non IMA)'!$B$6:$B$73,0),4)*1000)","v":50000},{"$f":"B16*(1+'Federal Reserve PPI AC Parts'!$E$12)","v":79237.731411951361},{"$f":"C16*(1+'Federal Reserve PPI AC Parts'!$E$12)","v":55920.148069804345},"PW 2020 Low",80000,0.41698000000000002,{"$f":"IFERROR(INDEX('[2]wide body (non IMA)'!$B$6:$K$73,MATCH(L16,'[2]wide body (non IMA)'!$B$6:$B$73,0),7),INDEX('[2]wide body (non IMA)'!$B$6:$K$73,MATCH(M16,'[2]wide body (non IMA)'!$B$6:$B$73,0),7))","v":"Thales"},3,{"$f":"INDEX('[1]Pt1-DATA'!$A$5:$M$13349,MATCH(A16,'[1]Pt1-DATA'!$C$5:$C$13349,0),6)","v":"J"},"Display Management Computer (DMC/EFIS)","Display Management Computers (DMC)",70849]
["518#734",{"$f":"IFERROR(INDEX('[1]Pt1-DATA'!$C:$D,MATCH(A17,'[1]Pt1-DATA'!$C:$C,0),2),\"\")","v":10121},{"$f":"IFERROR(INDEX('[2]wide body (non IMA)'!$B$6:$K$73,MATCH(L17,'[2]wide body (non IMA)'!$B$6:$B$73,0),4)*1000,INDEX('[2]wide body (non IMA)'!$B$6:$K$73,MATCH(M17,'[2]wide body (non IMA)'!$B$6:$B$73,0),4)*1000)","v":8000},{"$f":"B17*(1+'Federal Reserve PPI AC Parts'!$E$12)","v":11319.356372289794},{"$f":"C17*(1+'Federal Reserve PPI AC Parts'!$E$12)","v":8947.2236911686941},"PW 2020 Low",12000,0.265125,{"$f":"IFERROR(INDEX('[2]wide body (non IMA)'!$B$6:$K$73,MATCH(L17,'[2]wide body (non IMA)'!$B$6:$B$73,0),7),INDEX('[2]wide body (non IMA)'!$B$6:$K$73,MATCH(M17,'[2]wide body (non IMA)'!$B$6:$B$73,0),7))","v":0},1,{"$f":"INDEX('[1]Pt1-DATA'!$A$5:$M$13349,MATCH(A17,'[1]Pt1-DATA'!$C$5:$C$13349,0),6)","v":"E"},"Compass",null,10121]
["518#735",{"$f":"IFERROR(INDEX('[1]Pt1-DATA'!$C:$D,MATCH(A18,'[1]Pt1-DATA'!$C:$C,0),2),\"\")","v":30364},{"$f":"IFERROR(INDEX('[2]wide body (non IMA)'!$B$6:$K$73,MATCH(L18,'[2]wide body (non IMA)'!$B$6:$B$73,0),4)*1000,INDEX('[2]wide body (non IMA)'!$B$6:$K$73,MATCH(M18,'[2]wide body (non IMA)'!$B$6:$B$73,0),4)*1000)","v":30000},{"$f":"B18*(1+'Federal Reserve PPI AC Parts'!$E$12)","v":33959.187519830783},{"$f":"C18*(1+'Federal Reserve PPI AC Parts'!$E$12)","v":33552.088841882607},"Validated PW 2020",34000,1.2133333333333333E-2,{"$f":"IFERROR(INDEX('[2]wide body (non IMA)'!$B$6:$K$73,MATCH(L18,'[2]wide body (non IMA)'!$B$6:$B$73,0),7),INDEX('[2]wide body (non IMA)'!$B$6:$K$73,MATCH(M18,'[2]wide body (non IMA)'!$B$6:$B$73,0),7))","v":"Thales"},1,{"$f":"INDEX('[1]Pt1-DATA'!$A$5:$M$13349,MATCH(A18,'[1]Pt1-DATA'!$C$5:$C$13349,0),6)","v":"F"},"Integrated Standby Instrument System",null,30364]
["518#737",{"$f":"IFERROR(INDEX('[1]Pt1-DATA'!$C:$D,MATCH(A19,'[1]Pt1-DATA'!$C:$C,0),2),\"\")","v":10121},{"$f":"IFERROR(INDEX('[2]wide body (non IMA)'!$B$6:$K$73,MATCH(L19,'[2]wide body (non IMA)'!$B$6:$B$73,0),4)*1000,INDEX('[2]wide body (non IMA)'!$B$6:$K$73,MATCH(M19,'[2]wide body (non IMA)'!$B$6:$B$73,0),4)*1000)","v":10000},{"$f":"B19*(1+'Federal Reserve PPI AC Parts'!$E$12)","v":11319.356372289794},{"$f":"C19*(1+'Federal Reserve PPI AC Parts'!$E$12)","v":11184.029613960869},"Validated PW 2020",11500,1.21E-2,{"$f":"IFERROR(INDEX('[2]wide body (non IMA)'!$B$6:$K$73,MATCH(L19,'[2]wide body (non IMA)'!$B$6:$B$73,0),7),INDEX('[2]wide body (non IMA)'!$B$6:$K$73,MATCH(M19,'[2]wide body (non IMA)'!$B$6:$B$73,0),7))","v":0},1,{"$f":"INDEX('[1]Pt1-DATA'!$A$5:$M$13349,MATCH(A19,'[1]Pt1-DATA'!$C$5:$C$13349,0),6)","v":"E"},"Clock",null,10121]
["518#738",{"$f":"IFERROR(INDEX('[1]Pt1-DATA'!$C:$D,MATCH(A20,'[1]Pt1-DATA'!$C:$C,0),2),\"\")","v":17612},{"$f":"IFERROR(INDEX('[2]wide body (non IMA)'!$B$6:$K$73,MATCH(L20,'[2]wide body (non IMA)'!$B$6:$B$73,0),4)*1000,INDEX('[2]wide body (non IMA)'!$B$6:$K$73,MATCH(M20,'[2]wide body (non IMA)'!$B$6:$B$73,0),4)*1000)","v":12000},{"$f":"B20*(1+'Federal Reserve PPI AC Parts'!$E$12)","v":19697.312956107882},{"$f":"C20*(1+'Federal Reserve PPI AC Parts'!$E$12)","v":13420.835536753042},"PW 2020 Low",20000,0.46766666666666667,{"$f":"IFERROR(INDEX('[2]wide body (non IMA)'!$B$6:$K$73,MATCH(L20,'[2]wide body (non IMA)'!$B$6:$B$73,0),7),INDEX('[2]wide body (non IMA)'!$B$6:$K$73,MATCH(M20,'[2]wide body (non IMA)'!$B$6:$B$73,0),7))","v":"Collins"},3,{"$f":"INDEX('[1]Pt1-DATA'!$A$5:$M$13349,MATCH(A20,'[1]Pt1-DATA'!$C$5:$C$13349,0),6)","v":"F"},"Comms Receivers VH (transceiver/antenna)",null,17612]
["518#739",{"$f":"IFERROR(INDEX('[1]Pt1-DATA'!$C:$D,MATCH(A21,'[1]Pt1-DATA'!$C:$C,0),2),\"\")","v":17612},{"$f":"IFERROR(INDEX('[2]wide body (non IMA)'!$B$6:$K$73,MATCH(L21,'[2]wide body (non IMA)'!$B$6:$B$73,0),4)*1000,INDEX('[2]wide body (non IMA)'!$B$6:$K$73,MATCH(M21,'[2]wide body (non IMA)'!$B$6:$B$73,0),4)*1000)","v":12000},{"$f":"B21*(1+'Federal Reserve PPI AC Parts'!$E$12)","v":19697.312956107882},{"$f":"C21*(1+'Federal Reserve PPI AC Parts'!$E$12)","v":13420.835536753042},"PW 2020 Low",20000,0.46766666666666667,{"$f":"IFERROR(INDEX('[2]wide body (non IMA)'!$B$6:$K$73,MATCH(L21,'[2]wide body (non IMA)'!$B$6:$B$73,0),7),INDEX('[2]wide body (non IMA)'!$B$6:$K$73,MATCH(M21,'[2]wide body (non IMA)'!$B$6:$B$73,0),7))","v":"Collins"},2,{"$f":"INDEX('[1]Pt1-DATA'!$A$5:$M$13349,MATCH(A21,'[1]Pt1-DATA'!$C$5:$C$13349,0),6)","v":"F"},"Comms Receivers UF (transceiver/antenna)",null,17612]
["518#741",{"$f":"IFERROR(INDEX('[1]Pt1-DATA'!$C:$D,MATCH(A22,'[1]Pt1-DATA'!$C:$C,0),2),\"\")","v":34245},{"$f":"IFERROR(INDEX('[2]wide body (non IMA)'!$B$6:$K$73,MATCH(L22,'[2]wide body (non IMA)'!$B$6:$B$73,0),4)*1000,INDEX('[2]wide body (non IMA)'!$B$6:$K$73,MATCH(M22,'[2]wide body (non IMA)'!$B$6:$B$73,0),4)*1000)","v":20000},{"$f":"B22*(1+'Federal Reserve PPI AC Parts'!$E$12)","v":38299.709413008997},{"$f":"C22*(1+'Federal Reserve PPI AC Parts'!$E$12)","v":22368.059227921738},"PW 2020 Low",40000,0.71225000000000005,{"$f":"IFERROR(INDEX('[2]wide body (non IMA)'!$B$6:$K$73,MATCH(L22,'[2]wide body (non IMA)'!$B$6:$B$73,0),7),INDEX('[2]wide body (non IMA)'!$B$6:$K$73,MATCH(M22,'[2]wide body (non IMA)'!$B$6:$B$73,0),7))","v":"Thales"},3,{"$f":"INDEX('[1]Pt1-DATA'!$A$5:$M$13349,MATCH(A22,'[1]Pt1-DATA'!$C$5:$C$13349,0),6)","v":"G"},"Radio management system",null,34245]
["518#743",{"$f":"IFERROR(INDEX('[1]Pt1-DATA'!$C:$D,MATCH(A23,'[1]Pt1-DATA'!$C:$C,0),2),\"\")","v":7828},{"$f":"IFERROR(INDEX('[2]wide body (non IMA)'!$B$6:$K$73,MATCH(L23,'[2]wide body (non IMA)'!$B$6:$B$73,0),4)*1000,INDEX('[2]wide body (non IMA)'!$B$6:$K$73,MATCH(M23,'[2]wide body (non IMA)'!$B$6:$B$73,0),4)*1000)","v":8000},{"$f":"B23*(1+'Federal Reserve PPI AC Parts'!$E$12)","v":8754.8583818085681},{"$f":"C23*(1+'Federal Reserve PPI AC Parts'!$E$12)","v":8947.2236911686941},"Validated PW 2020",9000,-2.1499999999999998E-2,{"$f":"IFERROR(INDEX('[2]wide body (non IMA)'!$B$6:$K$73,MATCH(L23,'[2]wide body (non IMA)'!$B$6:$B$73,0),7),INDEX('[2]wide body (non IMA)'!$B$6:$K$73,MATCH(M23,'[2]wide body (non IMA)'!$B$6:$B$73,0),7))","v":"Thales"},3,{"$f":"INDEX('[1]Pt1-DATA'!$A$5:$M$13349,MATCH(A23,'[1]Pt1-DATA'!$C$5:$C$13349,0),6)","v":"F"},"Radio Management Panel",null,7828]
["518#744",{"$f":"IFERROR(INDEX('[1]Pt1-DATA'!$C:$D,MATCH(A24,'[1]Pt1-DATA'!$C:$C,0),2),\"\")","v":35452},{"$f":"IFERROR(INDEX('[2]wide body (non IMA)'!$B$6:$K$73,MATCH(L24,'[2]wide body (non IMA)'!$B$6:$B$73,0),4)*1000,INDEX('[2]wide body (non IMA)'!$B$6:$K$73,MATCH(M24,'[2]wide body (non IMA)'!$B$6:$B$73,0),4)*1000)","v":18000},{"$f":"B24*(1+'Federal Reserve PPI AC Parts'!$E$12)","v":39649.621787414071},{"$f":"C24*(1+'Federal Reserve PPI AC Parts'!$E$12)","v":20131.253305129565},"PW 2020 Low",40000,0.9695555555555555,{"$f":"IFERROR(INDEX('[2]wide body (non IMA)'!$B$6:$K$73,MATCH(L24,'[2]wide body (non IMA)'!$B$6:$B$73,0),7),INDEX('[2]wide body (non IMA)'!$B$6:$K$73,MATCH(M24,'[2]wide body (non IMA)'!$B$6:$B$73,0),7))","v":"L3"},2,{"$f":"INDEX('[1]Pt1-DATA'!$A$5:$M$13349,MATCH(A24,'[1]Pt1-DATA'!$C$5:$C$13349,0),6)","v":"E"},"ATC Mode S Transponders (TCAS)",null,35452]
["518#746",{"$f":"IFERROR(INDEX('[1]Pt1-DATA'!$C:$D,MATCH(A25,'[1]Pt1-DATA'!$C:$C,0),2),\"\")","v":49498},{"$f":"IFERROR(INDEX('[2]wide body (non IMA)'!$B$6:$K$73,MATCH(L25,'[2]wide body (non IMA)'!$B$6:$B$73,0),4)*1000,INDEX('[2]wide body (non IMA)'!$B$6:$K$73,MATCH(M25,'[2]wide body (non IMA)'!$B$6:$B$73,0),4)*1000)","v":6000},{"$f":"B25*(1+'Federal Reserve PPI AC Parts'!$E$12)","v":55358.709783183505},{"$f":"C25*(1+'Federal Reserve PPI AC Parts'!$E$12)","v":6710.4177683765211},"PW 2020 Low",56000,7.2496666666666663,{"$f":"IFERROR(INDEX('[2]wide body (non IMA)'!$B$6:$K$73,MATCH(L25,'[2]wide body (non IMA)'!$B$6:$B$73,0),7),INDEX('[2]wide body (non IMA)'!$B$6:$K$73,MATCH(M25,'[2]wide body (non IMA)'!$B$6:$B$73,0),7))","v":0},1,{"$f":"INDEX('[1]Pt1-DATA'!$A$5:$M$13349,MATCH(A25,'[1]Pt1-DATA'!$C$5:$C$13349,0),6)","v":"J"},"Weather WX radar system","WX control panel",49498]
["518#748",{"$f":"IFERROR(INDEX('[1]Pt1-DATA'!$C:$D,MATCH(A26,'[1]Pt1-DATA'!$C:$C,0),2),\"\")","v":45581},{"$f":"IFERROR(INDEX('[2]wide body (non IMA)'!$B$6:$K$73,MATCH(L26,'[2]wide body (non IMA)'!$B$6:$B$73,0),4)*1000,INDEX('[2]wide body (non IMA)'!$B$6:$K$73,MATCH(M26,'[2]wide body (non IMA)'!$B$6:$B$73,0),4)*1000)","v":25000},{"$f":"B26*(1+'Federal Reserve PPI AC Parts'!$E$12)","v":50977.925383395035},{"$f":"C26*(1+'Federal Reserve PPI AC Parts'!$E$12)","v":27960.074034902173},"PW 2020 Low",28000,0.82323999999999997,{"$f":"IFERROR(INDEX('[2]wide body (non IMA)'!$B$6:$K$73,MATCH(L26,'[2]wide body (non IMA)'!$B$6:$B$73,0),7),INDEX('[2]wide body (non IMA)'!$B$6:$K$73,MATCH(M26,'[2]wide body (non IMA)'!$B$6:$B$73,0),7))","v":0},1,{"$f":"INDEX('[1]Pt1-DATA'!$A$5:$M$13349,MATCH(A26,'[1]Pt1-DATA'!$C$5:$C$13349,0),6)","v":"M"},"Ground Proximity Warning System (GPWS/EGPWS)","Ground Proximity Warning System (GPWS)",45581]
["518#752",{"$f":"IFERROR(INDEX('[1]Pt1-DATA'!$C:$D,MATCH(A27,'[1]Pt1-DATA'!$C:$C,0),2),\"\")","v":17612},{"$f":"IFERROR(INDEX('[2]wide body (non IMA)'!$B$6:$K$73,MATCH(L27,'[2]wide body (non IMA)'!$B$6:$B$73,0),4)*1000,INDEX('[2]wide body (non IMA)'!$B$6:$K$73,MATCH(M27,'[2]wide body (non IMA)'!$B$6:$B$73,0),4)*1000)","v":15000},{"$f":"B27*(1+'Federal Reserve PPI AC Parts'!$E$12)","v":19697.312956107882},{"$f":"C27*(1+'Federal Reserve PPI AC Parts'!$E$12)","v":16776.044420941304},"PW 2020 Low",20000,0.17413333333333333,{"$f":"IFERROR(INDEX('[2]wide body (non IMA)'!$B$6:$K$73,MATCH(L27,'[2]wide body (non IMA)'!$B$6:$B$73,0),7),INDEX('[2]wide body (non IMA)'!$B$6:$K$73,MATCH(M27,'[2]wide body (non IMA)'!$B$6:$B$73,0),7))","v":"L3"},1,{"$f":"INDEX('[1]Pt1-DATA'!$A$5:$M$13349,MATCH(A27,'[1]Pt1-DATA'!$C$5:$C$13349,0),6)","v":"H"},"Cockpit Voice Recorder",null,17612]
["518#753",{"$f":"IFERROR(INDEX('[1]Pt1-DATA'!$C:$D,MATCH(A28,'[1]Pt1-DATA'!$C:$C,0),2),\"\")","v":4893},{"$f":"IFERROR(INDEX('[2]wide body (non IMA)'!$B$6:$K$73,MATCH(L28,'[2]wide body (non IMA)'!$B$6:$B$73,0),4)*1000,INDEX('[2]wide body (non IMA)'!$B$6:$K$73,MATCH(M28,'[2]wide body (non IMA)'!$B$6:$B$73,0),4)*1000)","v":5000},{"$f":"B28*(1+'Federal Reserve PPI AC Parts'!$E$12)","v":5472.345690111053},{"$f":"C28*(1+'Federal Reserve PPI AC Parts'!$E$12)","v":5592.0148069804345},"Validated PW 2020",6000,-2.1399999999999999E-2,{"$f":"IFERROR(INDEX('[2]wide body (non IMA)'!$B$6:$K$73,MATCH(L28,'[2]wide body (non IMA)'!$B$6:$B$73,0),7),INDEX('[2]wide body (non IMA)'!$B$6:$K$73,MATCH(M28,'[2]wide body (non IMA)'!$B$6:$B$73,0),7))","v":0},1,{"$f":"INDEX('[1]Pt1-DATA'!$A$5:$M$13349,MATCH(A28,'[1]Pt1-DATA'!$C$5:$C$13349,0),6)","v":"C"},"CVR control panel",null,4893]
["518#754",{"$f":"IFERROR(INDEX('[1]Pt1-DATA'!$C:$D,MATCH(A29,'[1]Pt1-DATA'!$C:$C,0),2),\"\")","v":23014},{"$f":"IFERROR(INDEX('[2]wide body (non IMA)'!$B$6:$K$73,MATCH(L29,'[2]wide body (non IMA)'!$B$6:$B$73,0),4)*1000,INDEX('[2]wide body (non IMA)'!$B$6:$K$73,MATCH(M29,'[2]wide body (non IMA)'!$B$6:$B$73,0),4)*1000)","v":20000},{"$f":"B29*(1+'Federal Reserve PPI AC Parts'!$E$12)","v":25738.925753569543},{"$f":"C29*(1+'Federal Reserve PPI AC Parts'!$E$12)","v":22368.059227921738},"PW 2020 Low",26000,0.1507,{"$f":"IFERROR(INDEX('[2]wide body (non IMA)'!$B$6:$K$73,MATCH(L29,'[2]wide body (non IMA)'!$B$6:$B$73,0),7),INDEX('[2]wide body (non IMA)'!$B$6:$K$73,MATCH(M29,'[2]wide body (non IMA)'!$B$6:$B$73,0),7))","v":"L3"},1,{"$f":"INDEX('[1]Pt1-DATA'!$A$5:$M$13349,MATCH(A29,'[1]Pt1-DATA'!$C$5:$C$13349,0),6)","v":"I"},"Flight Data Recorder",null,23014]
["518#756",{"$f":"IFERROR(INDEX('[1]Pt1-DATA'!$C:$D,MATCH(A30,'[1]Pt1-DATA'!$C:$C,0),2),\"\")","v":20712},{"$f":"IFERROR(INDEX('[2]wide body (non IMA)'!$B$6:$K$73,MATCH(L30,'[2]wide body (non IMA)'!$B$6:$B$73,0),4)*1000,INDEX('[2]wide body (non IMA)'!$B$6:$K$73,MATCH(M30,'[2]wide body (non IMA)'!$B$6:$B$73,0),4)*1000)","v":15000},{"$f":"B30*(1+'Federal Reserve PPI AC Parts'!$E$12)","v":23164.36213643575},{"$f":"C30*(1+'Federal Reserve PPI AC Parts'!$E$12)","v":16776.044420941304},"PW 2020 Low",24000,0.38080000000000003,{"$f":"IFERROR(INDEX('[2]wide body (non IMA)'!$B$6:$K$73,MATCH(L30,'[2]wide body (non IMA)'!$B$6:$B$73,0),7),INDEX('[2]wide body (non IMA)'!$B$6:$K$73,MATCH(M30,'[2]wide body (non IMA)'!$B$6:$B$73,0),7))","v":0},1,{"$f":"INDEX('[1]Pt1-DATA'!$A$5:$M$13349,MATCH(A30,'[1]Pt1-DATA'!$C$5:$C$13349,0),6)","v":"B"},"Quick Access Recorder (QAR)",null,20712]
["518#759",{"$f":"IFERROR(INDEX('[1]Pt1-DATA'!$C:$D,MATCH(A31,'[1]Pt1-DATA'!$C:$C,0),2),\"\")","v":34520},{"$f":"IFERROR(INDEX('[2]wide body (non IMA)'!$B$6:$K$73,MATCH(L31,'[2]wide body (non IMA)'!$B$6:$B$73,0),4)*1000,INDEX('[2]wide body (non IMA)'!$B$6:$K$73,MATCH(M31,'[2]wide body (non IMA)'!$B$6:$B$73,0),4)*1000)","v":30000},{"$f":"B31*(1+'Federal Reserve PPI AC Parts'!$E$12)","v":38607.270227392917},{"$f":"C31*(1+'Federal Reserve PPI AC Parts'!$E$12)","v":33552.088841882607},"PW 2020 Low",40000,0.15066666666666667,{"$f":"IFERROR(INDEX('[2]wide body (non IMA)'!$B$6:$K$73,MATCH(L31,'[2]wide body (non IMA)'!$B$6:$B$73,0),7),INDEX('[2]wide body (non IMA)'!$B$6:$K$73,MATCH(M31,'[2]wide body (non IMA)'!$B$6:$B$73,0),7))","v":0},2,{"$f":"INDEX('[1]Pt1-DATA'!$A$5:$M$13349,MATCH(A31,'[1]Pt1-DATA'!$C$5:$C$13349,0),6)","v":"E"},"Electronic Flight Bags (EFBs)",null,34520]
["518#760",{"$f":"IFERROR(INDEX('[1]Pt1-DATA'!$C:$D,MATCH(A32,'[1]Pt1-DATA'!$C:$C,0),2),\"\")","v":31313},{"$f":"IFERROR(INDEX('[2]wide body (non IMA)'!$B$6:$K$73,MATCH(L32,'[2]wide body (non IMA)'!$B$6:$B$73,0),4)*1000,INDEX('[2]wide body (non IMA)'!$B$6:$K$73,MATCH(M32,'[2]wide body (non IMA)'!$B$6:$B$73,0),4)*1000)","v":20000},{"$f":"B32*(1+'Federal Reserve PPI AC Parts'!$E$12)","v":35020.551930195667},{"$f":"C32*(1+'Federal Reserve PPI AC Parts'!$E$12)","v":22368.059227921738},"PW 2020 Low",35000,0.56564999999999999,{"$f":"IFERROR(INDEX('[2]wide body (non IMA)'!$B$6:$K$73,MATCH(L32,'[2]wide body (non IMA)'!$B$6:$B$73,0),7),INDEX('[2]wide body (non IMA)'!$B$6:$K$73,MATCH(M32,'[2]wide body (non IMA)'!$B$6:$B$73,0),7))","v":0},1,{"$f":"INDEX('[1]Pt1-DATA'!$A$5:$M$13349,MATCH(A32,'[1]Pt1-DATA'!$C$5:$C$13349,0),6)","v":"B"},"Mode control Panel (Auto/Pilot control)",null,31313]
["518#761",{"$f":"IFERROR(INDEX('[1]Pt1-DATA'!$C:$D,MATCH(A33,'[1]Pt1-DATA'!$C:$C,0),2),\"\")","v":8800},{"$f":"IFERROR(INDEX('[2]wide body (non IMA)'!$B$6:$K$73,MATCH(L33,'[2]wide body (non IMA)'!$B$6:$B$73,0),4)*1000,INDEX('[2]wide body (non IMA)'!$B$6:$K$73,MATCH(M33,'[2]wide body (non IMA)'!$B$6:$B$73,0),4)*1000)","v":8000},{"$f":"B33*(1+'Federal Reserve PPI AC Parts'!$E$12)","v":9841.9460602855652},{"$f":"C33*(1+'Federal Reserve PPI AC Parts'!$E$12)","v":8947.2236911686941},"PW 2020 Low",10000,0.1,{"$f":"IFERROR(INDEX('[2]wide body (non IMA)'!$B$6:$K$73,MATCH(L33,'[2]wide body (non IMA)'!$B$6:$B$73,0),7),INDEX('[2]wide body (non IMA)'!$B$6:$K$73,MATCH(M33,'[2]wide body (non IMA)'!$B$6:$B$73,0),7))","v":"Collins replaced Thales in 2013"},6,{"$f":"INDEX('[1]Pt1-DATA'!$A$5:$M$13349,MATCH(A33,'[1]Pt1-DATA'!$C$5:$C$13349,0),6)","v":"A"},"Static/standby sensors",null,8800]
["518#762",{"$f":"IFERROR(INDEX('[1]Pt1-DATA'!$C:$D,MATCH(A34,'[1]Pt1-DATA'!$C:$C,0),2),\"\")","v":13298},{"$f":"IFERROR(INDEX('[2]wide body (non IMA)'!$B$6:$K$73,MATCH(L34,'[2]wide body (non IMA)'!$B$6:$B$73,0),4)*1000,INDEX('[2]wide body (non IMA)'!$B$6:$K$73,MATCH(M34,'[2]wide body (non IMA)'!$B$6:$B$73,0),4)*1000)","v":8000},{"$f":"B34*(1+'Federal Reserve PPI AC Parts'!$E$12)","v":14872.522580645164},{"$f":"C34*(1+'Federal Reserve PPI AC Parts'!$E$12)","v":8947.2236911686941},"PW 2020 Low",15000,0.66225000000000001,{"$f":"IFERROR(INDEX('[2]wide body (non IMA)'!$B$6:$K$73,MATCH(L34,'[2]wide body (non IMA)'!$B$6:$B$73,0),7),INDEX('[2]wide body (non IMA)'!$B$6:$K$73,MATCH(M34,'[2]wide body (non IMA)'!$B$6:$B$73,0),7))","v":"Collins"},2,{"$f":"INDEX('[1]Pt1-DATA'!$A$5:$M$13349,MATCH(A34,'[1]Pt1-DATA'!$C$5:$C$13349,0),6)","v":"A"},"VOR receivers",null,13298]
["518#763",{"$f":"IFERROR(INDEX('[1]Pt1-DATA'!$C:$D,MATCH(A35,'[1]Pt1-DATA'!$C:$C,0),2),\"\")","v":17612},{"$f":"IFERROR(INDEX('[2]wide body (non IMA)'!$B$6:$K$73,MATCH(L35,'[2]wide body (non IMA)'!$B$6:$B$73,0),4)*1000,INDEX('[2]wide body (non IMA)'!$B$6:$K$73,MATCH(M35,'[2]wide body (non IMA)'!$B$6:$B$73,0),4)*1000)","v":12000},{"$f":"B35*(1+'Federal Reserve PPI AC Parts'!$E$12)","v":19697.312956107882},{"$f":"C35*(1+'Federal Reserve PPI AC Parts'!$E$12)","v":13420.835536753042},"PW 2020 Low",20000,0.46766666666666667,{"$f":"IFERROR(INDEX('[2]wide body (non IMA)'!$B$6:$K$73,MATCH(L35,'[2]wide body (non IMA)'!$B$6:$B$73,0),7),INDEX('[2]wide body (non IMA)'!$B$6:$K$73,MATCH(M35,'[2]wide body (non IMA)'!$B$6:$B$73,0),7))","v":0},2,{"$f":"INDEX('[1]Pt1-DATA'!$A$5:$M$13349,MATCH(A35,'[1]Pt1-DATA'!$C$5:$C$13349,0),6)","v":"B"},"ADF radios",null,17612]
["518#764",{"$f":"IFERROR(INDEX('[1]Pt1-DATA'!$C:$D,MATCH(A36,'[1]Pt1-DATA'!$C:$C,0),2),\"\")","v":15958},{"$f":"IFERROR(INDEX('[2]wide body (non IMA)'!$B$6:$K$73,MATCH(L36,'[2]wide body (non IMA)'!$B$6:$B$73,0),4)*1000,INDEX('[2]wide body (non IMA)'!$B$6:$K$73,MATCH(M36,'[2]wide body (non IMA)'!$B$6:$B$73,0),4)*1000)","v":15000},{"$f":"B36*(1+'Federal Reserve PPI AC Parts'!$E$12)","v":17847.474457958753},{"$f":"C36*(1+'Federal Reserve PPI AC Parts'!$E$12)","v":16776.044420941304},"Validated PW 2020",17000,6.3866666666666669E-2,{"$f":"IFERROR(INDEX('[2]wide body (non IMA)'!$B$6:$K$73,MATCH(L36,'[2]wide body (non IMA)'!$B$6:$B$73,0),7),INDEX('[2]wide body (non IMA)'!$B$6:$K$73,MATCH(M36,'[2]wide body (non IMA)'!$B$6:$B$73,0),7))","v":"Thales"},2,{"$f":"INDEX('[1]Pt1-DATA'!$A$5:$M$13349,MATCH(A36,'[1]Pt1-DATA'!$C$5:$C$13349,0),6)","v":"F"},"Radar altimeters",null,15958]
["518#765",{"$f":"IFERROR(INDEX('[1]Pt1-DATA'!$C:$D,MATCH(A37,'[1]Pt1-DATA'!$C:$C,0),2),\"\")","v":70849},{"$f":"IFERROR(INDEX('[2]wide body (non IMA)'!$B$6:$K$73,MATCH(L37,'[2]wide body (non IMA)'!$B$6:$B$73,0),4)*1000,INDEX('[2]wide body (non IMA)'!$B$6:$K$73,MATCH(M37,'[2]wide body (non IMA)'!$B$6:$B$73,0),4)*1000)","v":50000},{"$f":"B37*(1+'Federal Reserve PPI AC Parts'!$E$12)","v":79237.731411951361},{"$f":"C37*(1+'Federal Reserve PPI AC Parts'!$E$12)","v":55920.148069804345},"PW 2020 Low",80000,0.41698000000000002,{"$f":"IFERROR(INDEX('[2]wide body (non IMA)'!$B$6:$K$73,MATCH(L37,'[2]wide body (non IMA)'!$B$6:$B$73,0),7),INDEX('[2]wide body (non IMA)'!$B$6:$K$73,MATCH(M37,'[2]wide body (non IMA)'!$B$6:$B$73,0),7))","v":"Thales"},6,{"$f":"INDEX('[1]Pt1-DATA'!$A$5:$M$13349,MATCH(A37,'[1]Pt1-DATA'!$C$5:$C$13349,0),6)","v":"N"},"Multi Function Display",null,70849]
["518#766",{"$f":"IFERROR(INDEX('[1]Pt1-DATA'!$C:$D,MATCH(A38,'[1]Pt1-DATA'!$C:$C,0),2),\"\")","v":25303},{"$f":"IFERROR(INDEX('[2]wide body (non IMA)'!$B$6:$K$73,MATCH(L38,'[2]wide body (non IMA)'!$B$6:$B$73,0),4)*1000,INDEX('[2]wide body (non IMA)'!$B$6:$K$73,MATCH(M38,'[2]wide body (non IMA)'!$B$6:$B$73,0),4)*1000)","v":25000},{"$f":"B38*(1+'Federal Reserve PPI AC Parts'!$E$12)","v":28298.950132205187},{"$f":"C38*(1+'Federal Reserve PPI AC Parts'!$E$12)","v":27960.074034902173},"Validated PW 2020",28000,1.2120000000000001E-2,{"$f":"IFERROR(INDEX('[2]wide body (non IMA)'!$B$6:$K$73,MATCH(L38,'[2]wide body (non IMA)'!$B$6:$B$73,0),7),INDEX('[2]wide body (non IMA)'!$B$6:$K$73,MATCH(M38,'[2]wide body (non IMA)'!$B$6:$B$73,0),7))","v":"Thales"},1,{"$f":"INDEX('[1]Pt1-DATA'!$A$5:$M$13349,MATCH(A38,'[1]Pt1-DATA'!$C$5:$C$13349,0),6)","v":"A"},"EICAS Crew alerting System",null,25303]
["518#767",{"$f":"IFERROR(INDEX('[1]Pt1-DATA'!$C:$D,MATCH(A39,'[1]Pt1-DATA'!$C:$C,0),2),\"\")","v":25303},{"$f":"IFERROR(INDEX('[2]wide body (non IMA)'!$B$6:$K$73,MATCH(L39,'[2]wide body (non IMA)'!$B$6:$B$73,0),4)*1000,INDEX('[2]wide body (non IMA)'!$B$6:$K$73,MATCH(M39,'[2]wide body (non IMA)'!$B$6:$B$73,0),4)*1000)","v":20000},{"$f":"B39*(1+'Federal Reserve PPI AC Parts'!$E$12)","v":28298.950132205187},{"$f":"C39*(1+'Federal Reserve PPI AC Parts'!$E$12)","v":22368.059227921738},"PW 2020 Low",28000,0.26515,{"$f":"IFERROR(INDEX('[2]wide body (non IMA)'!$B$6:$K$73,MATCH(L39,'[2]wide body (non IMA)'!$B$6:$B$73,0),7),INDEX('[2]wide body (non IMA)'!$B$6:$K$73,MATCH(M39,'[2]wide body (non IMA)'!$B$6:$B$73,0),7))","v":"GE Aviation"},2,{"$f":"INDEX('[1]Pt1-DATA'!$A$5:$M$13349,MATCH(A39,'[1]Pt1-DATA'!$C$5:$C$13349,0),6)","v":"A"},"Datalink cockpit Display Unit",null,25303]
["518#768",{"$f":"IFERROR(INDEX('[1]Pt1-DATA'!$C:$D,MATCH(A40,'[1]Pt1-DATA'!$C:$C,0),2),\"\")","v":24461},{"$f":"IFERROR(INDEX('[2]wide body (non IMA)'!$B$6:$K$73,MATCH(L40,'[2]wide body (non IMA)'!$B$6:$B$73,0),4)*1000,INDEX('[2]wide body (non IMA)'!$B$6:$K$73,MATCH(M40,'[2]wide body (non IMA)'!$B$6:$B$73,0),4)*1000)","v":12000},{"$f":"B40*(1+'Federal Reserve PPI AC Parts'!$E$12)","v":27357.254838709679},{"$f":"C40*(1+'Federal Reserve PPI AC Parts'!$E$12)","v":13420.835536753042},"PW 2020 Low",28000,1.0384166666666668,{"$f":"IFERROR(INDEX('[2]wide body (non IMA)'!$B$6:$K$73,MATCH(L40,'[2]wide body (non IMA)'!$B$6:$B$73,0),7),INDEX('[2]wide body (non IMA)'!$B$6:$K$73,MATCH(M40,'[2]wide body (non IMA)'!$B$6:$B$73,0),7))","v":"Collins"},1,{"$f":"INDEX('[1]Pt1-DATA'!$A$5:$M$13349,MATCH(A40,'[1]Pt1-DATA'!$C$5:$C$13349,0),6)","v":"B"},"HF Radio",null,24461]
["518#769",{"$f":"IFERROR(INDEX('[1]Pt1-DATA'!$C:$D,MATCH(A41,'[1]Pt1-DATA'!$C:$C,0),2),\"\")","v":48922},{"$f":"IFERROR(INDEX('[2]wide body (non IMA)'!$B$6:$K$73,MATCH(L41,'[2]wide body (non IMA)'!$B$6:$B$73,0),4)*1000,INDEX('[2]wide body (non IMA)'!$B$6:$K$73,MATCH(M41,'[2]wide body (non IMA)'!$B$6:$B$73,0),4)*1000)","v":50000},{"$f":"B41*(1+'Federal Reserve PPI AC Parts'!$E$12)","v":54714.509677419359},{"$f":"C41*(1+'Federal Reserve PPI AC Parts'!$E$12)","v":55920.148069804345},"Validated PW 2020",55000,-2.1559999999999999E-2,{"$f":"IFERROR(INDEX('[2]wide body (non IMA)'!$B$6:$K$73,MATCH(L41,'[2]wide body (non IMA)'!$B$6:$B$73,0),7),INDEX('[2]wide body (non IMA)'!$B$6:$K$73,MATCH(M41,'[2]wide body (non IMA)'!$B$6:$B$73,0),7))","v":"HWL"},1,{"$f":"INDEX('[1]Pt1-DATA'!$A$5:$M$13349,MATCH(A41,'[1]Pt1-DATA'!$C$5:$C$13349,0),6)","v":"C"},"SATCOM","SATCOM MSC 7200",48922]
["518#770",{"$f":"IFERROR(INDEX('[1]Pt1-DATA'!$C:$D,MATCH(A42,'[1]Pt1-DATA'!$C:$C,0),2),\"\")","v":24461},{"$f":"IFERROR(INDEX('[2]wide body (non IMA)'!$B$6:$K$73,MATCH(L42,'[2]wide body (non IMA)'!$B$6:$B$73,0),4)*1000,INDEX('[2]wide body (non IMA)'!$B$6:$K$73,MATCH(M42,'[2]wide body (non IMA)'!$B$6:$B$73,0),4)*1000)","v":25000},{"$f":"B42*(1+'Federal Reserve PPI AC Parts'!$E$12)","v":27357.254838709679},{"$f":"C42*(1+'Federal Reserve PPI AC Parts'!$E$12)","v":27960.074034902173},"Validated PW 2020",28000,-2.1559999999999999E-2,{"$f":"IFERROR(INDEX('[2]wide body (non IMA)'!$B$6:$K$73,MATCH(L42,'[2]wide body (non IMA)'!$B$6:$B$73,0),7),INDEX('[2]wide body (non IMA)'!$B$6:$K$73,MATCH(M42,'[2]wide body (non IMA)'!$B$6:$B$73,0),7))","v":0},1,{"$f":"INDEX('[1]Pt1-DATA'!$A$5:$M$13349,MATCH(A42,'[1]Pt1-DATA'!$C$5:$C$13349,0),6)","v":"A"},"Air Traffic Services Unit ",null,24461]
["518#771",{"$f":"IFERROR(INDEX('[1]Pt1-DATA'!$C:$D,MATCH(A43,'[1]Pt1-DATA'!$C:$C,0),2),\"\")","v":46027},{"$f":"IFERROR(INDEX('[2]wide body (non IMA)'!$B$6:$K$73,MATCH(L43,'[2]wide body (non IMA)'!$B$6:$B$73,0),4)*1000,INDEX('[2]wide body (non IMA)'!$B$6:$K$73,MATCH(M43,'[2]wide body (non IMA)'!$B$6:$B$73,0),4)*1000)","v":25000},{"$f":"B43*(1+'Federal Reserve PPI AC Parts'!$E$12)","v":51476.733104177692},{"$f":"C43*(1+'Federal Reserve PPI AC Parts'!$E$12)","v":27960.074034902173},"PW 2020 Low",52000,0.84108000000000005,{"$f":"IFERROR(INDEX('[2]wide body (non IMA)'!$B$6:$K$73,MATCH(L43,'[2]wide body (non IMA)'!$B$6:$B$73,0),7),INDEX('[2]wide body (non IMA)'!$B$6:$K$73,MATCH(M43,'[2]wide body (non IMA)'!$B$6:$B$73,0),7))","v":0},1,{"$f":"INDEX('[1]Pt1-DATA'!$A$5:$M$13349,MATCH(A43,'[1]Pt1-DATA'!$C$5:$C$13349,0),6)","v":"G"},"Data Management Unit",null,46027]
["518#772",{"$f":"IFERROR(INDEX('[1]Pt1-DATA'!$C:$D,MATCH(A44,'[1]Pt1-DATA'!$C:$C,0),2),\"\")","v":28767},{"$f":"IFERROR(INDEX('[2]wide body (non IMA)'!$B$6:$K$73,MATCH(L44,'[2]wide body (non IMA)'!$B$6:$B$73,0),4)*1000,INDEX('[2]wide body (non IMA)'!$B$6:$K$73,MATCH(M44,'[2]wide body (non IMA)'!$B$6:$B$73,0),4)*1000)","v":25000},{"$f":"B44*(1+'Federal Reserve PPI AC Parts'!$E$12)","v":32173.09799048123},{"$f":"C44*(1+'Federal Reserve PPI AC Parts'!$E$12)","v":27960.074034902173},"PW 2020 Low",33000,0.15068000000000001,{"$f":"IFERROR(INDEX('[2]wide body (non IMA)'!$B$6:$K$73,MATCH(L44,'[2]wide body (non IMA)'!$B$6:$B$73,0),7),INDEX('[2]wide body (non IMA)'!$B$6:$K$73,MATCH(M44,'[2]wide body (non IMA)'!$B$6:$B$73,0),7))","v":0},1,{"$f":"INDEX('[1]Pt1-DATA'!$A$5:$M$13349,MATCH(A44,'[1]Pt1-DATA'!$C$5:$C$13349,0),6)","v":"A"},"Wireless LAN data loader",null,28767]
["518#825",{"$f":"IFERROR(INDEX('[1]Pt1-DATA'!$C:$D,MATCH(A45,'[1]Pt1-DATA'!$C:$C,0),2),\"\")","v":59764},{"$f":"IFERROR(INDEX('[2]wide body (non IMA)'!$B$6:$K$73,MATCH(L45,'[2]wide body (non IMA)'!$B$6:$B$73,0),4)*1000,INDEX('[2]wide body (non IMA)'!$B$6:$K$73,MATCH(M45,'[2]wide body (non IMA)'!$B$6:$B$73,0),4)*1000)","v":40000},{"$f":"B45*(1+'Federal Reserve PPI AC Parts'!$E$12)","v":66840.23458487574},{"$f":"C45*(1+'Federal Reserve PPI AC Parts'!$E$12)","v":44736.118455843476},"PW 2020 Low",68000,0.49409999999999998,{"$f":"IFERROR(INDEX('[2]wide body (non IMA)'!$B$6:$K$73,MATCH(L45,'[2]wide body (non IMA)'!$B$6:$B$73,0),7),INDEX('[2]wide body (non IMA)'!$B$6:$K$73,MATCH(M45,'[2]wide body (non IMA)'!$B$6:$B$73,0),7))","v":"part of FMC above"},1,{"$f":"INDEX('[1]Pt1-DATA'!$A$5:$M$13349,MATCH(A45,'[1]Pt1-DATA'!$C$5:$C$13349,0),6)","v":"K"},"Auto pilot system","Autopilot /Auto thrust system",59764]
["518#878",{"$f":"IFERROR(INDEX('[1]Pt1-DATA'!$C:$D,MATCH(A46,'[1]Pt1-DATA'!$C:$C,0),2),\"\")","v":44879},{"$f":"IFERROR(INDEX('[2]wide body (non IMA)'!$B$6:$K$73,MATCH(L46,'[2]wide body (non IMA)'!$B$6:$B$73,0),4)*1000,INDEX('[2]wide body (non IMA)'!$B$6:$K$73,MATCH(M46,'[2]wide body (non IMA)'!$B$6:$B$73,0),4)*1000)","v":{"$error":"#N/A"}},{"$f":"B46*(1+'Federal Reserve PPI AC Parts'!$E$12)","v":50192.806504494984},{"$f":"C46*(1+'Federal Reserve PPI AC Parts'!$E$12)","v":{"$error":"#N/A"}},"Validated Model 2020",51000,{"$error":"#N/A"},{"$f":"IFERROR(INDEX('[2]wide body (non IMA)'!$B$6:$K$73,MATCH(L46,'[2]wide body (non IMA)'!$B$6:$B$73,0),7),INDEX('[2]wide body (non IMA)'!$B$6:$K$73,MATCH(M46,'[2]wide body (non IMA)'!$B$6:$B$73,0),7))","v":{"$error":"#N/A"}},1,{"$f":"INDEX('[1]Pt1-DATA'!$A$5:$M$13349,MATCH(A46,'[1]Pt1-DATA'!$C$5:$C$13349,0),6)","v":"C"},"Sensors IFF, other",null,44879]
["518#879",{"$f":"IFERROR(INDEX('[1]Pt1-DATA'!$C:$D,MATCH(A47,'[1]Pt1-DATA'!$C:$C,0),2),\"\")","v":190104},{"$f":"IFERROR(INDEX('[2]wide body (non IMA)'!$B$6:$K$73,MATCH(L47,'[2]wide body (non IMA)'!$B$6:$B$73,0),4)*1000,INDEX('[2]wide body (non IMA)'!$B$6:$K$73,MATCH(M47,'[2]wide body (non IMA)'!$B$6:$B$73,0),4)*1000)","v":{"$error":"#N/A"}},{"$f":"B47*(1+'Federal Reserve PPI AC Parts'!$E$12)","v":212612.87657324169},{"$f":"C47*(1+'Federal Reserve PPI AC Parts'!$E$12)","v":{"$error":"#N/A"}},"Validated Model 2020",215000,{"$error":"#N/A"},{"$f":"IFERROR(INDEX('[2]wide body (non IMA)'!$B$6:$K$73,MATCH(L47,'[2]wide body (non IMA)'!$B$6:$B$73,0),7),INDEX('[2]wide body (non IMA)'!$B$6:$K$73,MATCH(M47,'[2]wide body (non IMA)'!$B$6:$B$73,0),7))","v":{"$error":"#N/A"}},1,{"$f":"INDEX('[1]Pt1-DATA'!$A$5:$M$13349,MATCH(A47,'[1]Pt1-DATA'!$C$5:$C$13349,0),6)","v":"X"},"Software",null,190104]
["518#882",{"$f":"IFERROR(INDEX('[1]Pt1-DATA'!$C:$D,MATCH(A48,'[1]Pt1-DATA'!$C:$C,0),2),\"\")","v":104151},{"$f":"IFERROR(INDEX('[2]wide body (non IMA)'!$B$6:$K$73,MATCH(L48,'[2]wide body (non IMA)'!$B$6:$B$73,0),4)*1000,INDEX('[2]wide body (non IMA)'!$B$6:$K$73,MATCH(M48,'[2]wide body (non IMA)'!$B$6:$B$73,0),4)*1000)","v":{"$error":"#N/A"}},{"$f":"B48*(1+'Federal Reserve PPI AC Parts'!$E$12)","v":116482.78683236384},{"$f":"C48*(1+'Federal Reserve PPI AC Parts'!$E$12)","v":{"$error":"#N/A"}},"Validated Model 2020",120000,{"$error":"#N/A"},{"$f":"IFERROR(INDEX('[2]wide body (non IMA)'!$B$6:$K$73,MATCH(L48,'[2]wide body (non IMA)'!$B$6:$B$73,0),7),INDEX('[2]wide body (non IMA)'!$B$6:$K$73,MATCH(M48,'[2]wide body (non IMA)'!$B$6:$B$73,0),7))","v":{"$error":"#N/A"}},2,{"$f":"INDEX('[1]Pt1-DATA'!$A$5:$M$13349,MATCH(A48,'[1]Pt1-DATA'!$C$5:$C$13349,0),6)","v":"B"},"Aircraft avionics management unit",null,104151]
["518#883",{"$f":"IFERROR(INDEX('[1]Pt1-DATA'!$C:$D,MATCH(A49,'[1]Pt1-DATA'!$C:$C,0),2),\"\")","v":82497},{"$f":"IFERROR(INDEX('[2]wide body (non IMA)'!$B$6:$K$73,MATCH(L49,'[2]wide body (non IMA)'!$B$6:$B$73,0),4)*1000,INDEX('[2]wide body (non IMA)'!$B$6:$K$73,MATCH(M49,'[2]wide body (non IMA)'!$B$6:$B$73,0),4)*1000)","v":{"$error":"#N/A"}},{"$f":"B49*(1+'Federal Reserve PPI AC Parts'!$E$12)","v":92264.889106292976},{"$f":"C49*(1+'Federal Reserve PPI AC Parts'!$E$12)","v":{"$error":"#N/A"}},"Validated Model 2020",93000,{"$error":"#N/A"},{"$f":"IFERROR(INDEX('[2]wide body (non IMA)'!$B$6:$K$73,MATCH(L49,'[2]wide body (non IMA)'!$B$6:$B$73,0),7),INDEX('[2]wide body (non IMA)'!$B$6:$K$73,MATCH(M49,'[2]wide body (non IMA)'!$B$6:$B$73,0),7))","v":{"$error":"#N/A"}},1,{"$f":"INDEX('[1]Pt1-DATA'!$A$5:$M$13349,MATCH(A49,'[1]Pt1-DATA'!$C$5:$C$13349,0),6)","v":"C"},"Surveillance Sensors",null,82497]
["518#1056",{"$f":"IFERROR(INDEX('[1]Pt1-DATA'!$C:$D,MATCH(A50,'[1]Pt1-DATA'!$C:$C,0),2),\"\")","v":3890},{"$f":"IFERROR(INDEX('[2]wide body (non IMA)'!$B$6:$K$73,MATCH(L50,'[2]wide body (non IMA)'!$B$6:$B$73,0),4)*1000,INDEX('[2]wide body (non IMA)'!$B$6:$K$73,MATCH(M50,'[2]wide body (non IMA)'!$B$6:$B$73,0),4)*1000)","v":{"$error":"#N/A"}},{"$f":"B50*(1+'Federal Reserve PPI AC Parts'!$E$12)","v":4350.5875198307776},{"$f":"C50*(1+'Federal Reserve PPI AC Parts'!$E$12)","v":{"$error":"#N/A"}},"Validated Model 2020",4500,{"$error":"#N/A"},{"$f":"IFERROR(INDEX('[2]wide body (non IMA)'!$B$6:$K$73,MATCH(L50,'[2]wide body (non IMA)'!$B$6:$B$73,0),7),INDEX('[2]wide body (non IMA)'!$B$6:$K$73,MATCH(M50,'[2]wide body (non IMA)'!$B$6:$B$73,0),7))","v":{"$error":"#N/A"}},1,{"$f":"INDEX('[1]Pt1-DATA'!$A$5:$M$13349,MATCH(A50,'[1]Pt1-DATA'!$C$5:$C$13349,0),6)","v":"CF"},"Avionics Harnesses",null,3890]
["518#1057",{"$f":"IFERROR(INDEX('[1]Pt1-DATA'!$C:$D,MATCH(A51,'[1]Pt1-DATA'!$C:$C,0),2),\"\")","v":27702},{"$f":"IFERROR(INDEX('[2]wide body (non IMA)'!$B$6:$K$73,MATCH(L51,'[2]wide body (non IMA)'!$B$6:$B$73,0),4)*1000,INDEX('[2]wide body (non IMA)'!$B$6:$K$73,MATCH(M51,'[2]wide body (non IMA)'!$B$6:$B$73,0),4)*1000)","v":{"$error":"#N/A"}},{"$f":"B51*(1+'Federal Reserve PPI AC Parts'!$E$12)","v":30981.998836594397},{"$f":"C51*(1+'Federal Reserve PPI AC Parts'!$E$12)","v":{"$error":"#N/A"}},"Validated Model 2020",31000,{"$error":"#N/A"},{"$f":"IFERROR(INDEX('[2]wide body (non IMA)'!$B$6:$K$73,MATCH(L51,'[2]wide body (non IMA)'!$B$6:$B$73,0),7),INDEX('[2]wide body (non IMA)'!$B$6:$K$73,MATCH(M51,'[2]wide body (non IMA)'!$B$6:$B$73,0),7))","v":{"$error":"#N/A"}},1,{"$f":"INDEX('[1]Pt1-DATA'!$A$5:$M$13349,MATCH(A51,'[1]Pt1-DATA'!$C$5:$C$13349,0),6)","v":"CG"},"Avionics Harnesses",null,27702]
["518#1058",{"$f":"IFERROR(INDEX('[1]Pt1-DATA'!$C:$D,MATCH(A52,'[1]Pt1-DATA'!$C:$C,0),2),\"\")","v":33500},{"$f":"IFERROR(INDEX('[2]wide body (non IMA)'!$B$6:$K$73,MATCH(L52,'[2]wide body (non IMA)'!$B$6:$B$73,0),4)*1000,INDEX('[2]wide body (non IMA)'!$B$6:$K$73,MATCH(M52,'[2]wide body (non IMA)'!$B$6:$B$73,0),4)*1000)","v":{"$error":"#N/A"}},{"$f":"B52*(1+'Federal Reserve PPI AC Parts'!$E$12)","v":37466.499206768909},{"$f":"C52*(1+'Federal Reserve PPI AC Parts'!$E$12)","v":{"$error":"#N/A"}},"Validated Model 2020",38000,{"$error":"#N/A"},{"$f":"IFERROR(INDEX('[2]wide body (non IMA)'!$B$6:$K$73,MATCH(L52,'[2]wide body (non IMA)'!$B$6:$B$73,0),7),INDEX('[2]wide body (non IMA)'!$B$6:$K$73,MATCH(M52,'[2]wide body (non IMA)'!$B$6:$B$73,0),7))","v":{"$error":"#N/A"}},1,{"$f":"INDEX('[1]Pt1-DATA'!$A$5:$M$13349,MATCH(A52,'[1]Pt1-DATA'!$C$5:$C$13349,0),6)","v":"CF"},"Avionics Harnesses",null,33500]
["518#1059",{"$f":"IFERROR(INDEX('[1]Pt1-DATA'!$C:$D,MATCH(A53,'[1]Pt1-DATA'!$C:$C,0),2),\"\")","v":6926},{"$f":"IFERROR(INDEX('[2]wide body (non IMA)'!$B$6:$K$73,MATCH(L53,'[2]wide body (non IMA)'!$B$6:$B$73,0),4)*1000,INDEX('[2]wide body (non IMA)'!$B$6:$K$73,MATCH(M53,'[2]wide body (non IMA)'!$B$6:$B$73,0),4)*1000)","v":{"$error":"#N/A"}},{"$f":"B53*(1+'Federal Reserve PPI AC Parts'!$E$12)","v":7746.0589106292973},{"$f":"C53*(1+'Federal Reserve PPI AC Parts'!$E$12)","v":{"$error":"#N/A"}},"Validated Model 2020",8000,{"$error":"#N/A"},{"$f":"IFERROR(INDEX('[2]wide body (non IMA)'!$B$6:$K$73,MATCH(L53,'[2]wide body (non IMA)'!$B$6:$B$73,0),7),INDEX('[2]wide body (non IMA)'!$B$6:$K$73,MATCH(M53,'[2]wide body (non IMA)'!$B$6:$B$73,0),7))","v":{"$error":"#N/A"}},1,{"$f":"INDEX('[1]Pt1-DATA'!$A$5:$M$13349,MATCH(A53,'[1]Pt1-DATA'!$C$5:$C$13349,0),6)","v":"CG"},"Avionics Harnesses",null,6926]
[null,{"$f":"IFERROR(INDEX('[1]Pt1-DATA'!$C:$D,MATCH(A54,'[1]Pt1-DATA'!$C:$C,0),2),\"\")","v":""},{"$f":"IFERROR(INDEX('[2]wide body (non IMA)'!$B$6:$K$73,MATCH(L54,'[2]wide body (non IMA)'!$B$6:$B$73,0),4)*1000,INDEX('[2]wide body (non IMA)'!$B$6:$K$73,MATCH(M54,'[2]wide body (non IMA)'!$B$6:$B$73,0),4)*1000)","v":0},{"$f":"B54*(1+'Federal Reserve PPI AC Parts'!$E$12)","v":{"$error":"#VALUE!"}},{"$f":"C54*(1+'Federal Reserve PPI AC Parts'!$E$12)","v":0},"Validated PW 2020",{"$f":"E54","v":0},{"$f":"(B54-C54)/C54","v":{"$error":"#VALUE!"}},{"$f":"IFERROR(INDEX('[2]wide body (non IMA)'!$B$6:$K$73,MATCH(L54,'[2]wide body (non IMA)'!$B$6:$B$73,0),7),INDEX('[2]wide body (non IMA)'!$B$6:$K$73,MATCH(M54,'[2]wide body (non IMA)'!$B$6:$B$73,0),7))","v":"out of scope"},0,{"$f":"INDEX('[1]Pt1-DATA'!$A$5:$M$13349,MATCH(A54,'[1]Pt1-DATA'!$C$5:$C$13349,0),6)","v":{"$error":"#N/A"}},null,"Thrust levers",""]
[null,{"$f":"IFERROR(INDEX('[1]Pt1-DATA'!$C:$D,MATCH(A55,'[1]Pt1-DATA'!$C:$C,0),2),\"\")","v":""},{"$f":"IFERROR(INDEX('[2]wide body (non IMA)'!$B$6:$K$73,MATCH(L55,'[2]wide body (non IMA)'!$B$6:$B$73,0),4)*1000,INDEX('[2]wide body (non IMA)'!$B$6:$K$73,MATCH(M55,'[2]wide body (non IMA)'!$B$6:$B$73,0),4)*1000)","v":6000},{"$f":"B55*(1+'Federal Reserve PPI AC Parts'!$E$12)","v":{"$error":"#VALUE!"}},{"$f":"C55*(1+'Federal Reserve PPI AC Parts'!$E$12)","v":6710.4177683765211},"Validated PW 2020",{"$f":"E55","v":6710.4177683765211},{"$error":"#VALUE!"},{"$f":"IFERROR(INDEX('[2]wide body (non IMA)'!$B$6:$K$73,MATCH(L55,'[2]wide body (non IMA)'!$B$6:$B$73,0),7),INDEX('[2]wide body (non IMA)'!$B$6:$K$73,MATCH(M55,'[2]wide body (non IMA)'!$B$6:$B$73,0),7))","v":"within MMR"},0,{"$f":"INDEX('[1]Pt1-DATA'!$A$5:$M$13349,MATCH(A55,'[1]Pt1-DATA'!$C$5:$C$13349,0),6)","v":{"$error":"#N/A"}},null,"GPS receivers",""]
[null,{"$f":"IFERROR(INDEX('[1]Pt1-DATA'!$C:$D,MATCH(A56,'[1]Pt1-DATA'!$C:$C,0),2),\"\")","v":""},{"$f":"IFERROR(INDEX('[2]wide body (non IMA)'!$B$6:$K$73,MATCH(L56,'[2]wide body (non IMA)'!$B$6:$B$73,0),4)*1000,INDEX('[2]wide body (non IMA)'!$B$6:$K$73,MATCH(M56,'[2]wide body (non IMA)'!$B$6:$B$73,0),4)*1000)","v":6000},{"$f":"B56*(1+'Federal Reserve PPI AC Parts'!$E$12)","v":{"$error":"#VALUE!"}},{"$f":"C56*(1+'Federal Reserve PPI AC Parts'!$E$12)","v":6710.4177683765211},"Validated PW 2020",6710.4177683765211,{"$error":"#VALUE!"},{"$f":"IFERROR(INDEX('[2]wide body (non IMA)'!$B$6:$K$73,MATCH(L56,'[2]wide body (non IMA)'!$B$6:$B$73,0),7),INDEX('[2]wide body (non IMA)'!$B$6:$K$73,MATCH(M56,'[2]wide body (non IMA)'!$B$6:$B$73,0),7))","v":"within MMR"},0,{"$f":"INDEX('[1]Pt1-DATA'!$A$5:$M$13349,MATCH(A56,'[1]Pt1-DATA'!$C$5:$C$13349,0),6)","v":{"$error":"#N/A"}},null,"ILS receivers",""]
[null,{"$f":"IFERROR(INDEX('[1]Pt1-DATA'!$C:$D,MATCH(A57,'[1]Pt1-DATA'!$C:$C,0),2),\"\")","v":""},{"$f":"IFERROR(INDEX('[2]wide body (non IMA)'!$B$6:$K$73,MATCH(L57,'[2]wide body (non IMA)'!$B$6:$B$73,0),4)*1000,INDEX('[2]wide body (non IMA)'!$B$6:$K$73,MATCH(M57,'[2]wide body (non IMA)'!$B$6:$B$73,0),4)*1000)","v":0},{"$f":"B57*(1+'Federal Reserve PPI AC Parts'!$E$12)","v":{"$error":"#VALUE!"}},{"$f":"C57*(1+'Federal Reserve PPI AC Parts'!$E$12)","v":0},"Validated PW 2020",0,{"$error":"#VALUE!"},{"$f":"IFERROR(INDEX('[2]wide body (non IMA)'!$B$6:$K$73,MATCH(L57,'[2]wide body (non IMA)'!$B$6:$B$73,0),7),INDEX('[2]wide body (non IMA)'!$B$6:$K$73,MATCH(M57,'[2]wide body (non IMA)'!$B$6:$B$73,0),7))","v":"within MMR"},0,{"$f":"INDEX('[1]Pt1-DATA'!$A$5:$M$13349,MATCH(A57,'[1]Pt1-DATA'!$C$5:$C$13349,0),6)","v":{"$error":"#N/A"}},null,"DME receivers",""]
[null,{"$f":"IFERROR(INDEX('[1]Pt1-DATA'!$C:$D,MATCH(A58,'[1]Pt1-DATA'!$C:$C,0),2),\"\")","v":""},{"$f":"IFERROR(INDEX('[2]wide body (non IMA)'!$B$6:$K$73,MATCH(L58,'[2]wide body (non IMA)'!$B$6:$B$73,0),4)*1000,INDEX('[2]wide body (non IMA)'!$B$6:$K$73,MATCH(M58,'[2]wide body (non IMA)'!$B$6:$B$73,0),4)*1000)","v":25000},{"$f":"B58*(1+'Federal Reserve PPI AC Parts'!$E$12)","v":{"$error":"#VALUE!"}},{"$f":"C58*(1+'Federal Reserve PPI AC Parts'!$E$12)","v":27960.074034902173},"Validated PW 2020",27960.074034902173,{"$error":"#VALUE!"},{"$f":"IFERROR(INDEX('[2]wide body (non IMA)'!$B$6:$K$73,MATCH(L58,'[2]wide body (non IMA)'!$B$6:$B$73,0),7),INDEX('[2]wide body (non IMA)'!$B$6:$K$73,MATCH(M58,'[2]wide body (non IMA)'!$B$6:$B$73,0),7))","v":"Collins"},2,{"$f":"INDEX('[1]Pt1-DATA'!$A$5:$M$13349,MATCH(A58,'[1]Pt1-DATA'!$C$5:$C$13349,0),6)","v":{"$error":"#N/A"}},null,"Weather WX radar system (transceivers)",""]
[null,{"$f":"IFERROR(INDEX('[1]Pt1-DATA'!$C:$D,MATCH(A59,'[1]Pt1-DATA'!$C:$C,0),2),\"\")","v":""},{"$f":"IFERROR(INDEX('[2]wide body (non IMA)'!$B$6:$K$73,MATCH(L59,'[2]wide body (non IMA)'!$B$6:$B$73,0),4)*1000,INDEX('[2]wide body (non IMA)'!$B$6:$K$73,MATCH(M59,'[2]wide body (non IMA)'!$B$6:$B$73,0),4)*1000)","v":25000},{"$f":"B59*(1+'Federal Reserve PPI AC Parts'!$E$12)","v":{"$error":"#VALUE!"}},{"$f":"C59*(1+'Federal Reserve PPI AC Parts'!$E$12)","v":27960.074034902173},"Validated PW 2020",27960.074034902173,{"$error":"#VALUE!"},{"$f":"IFERROR(INDEX('[2]wide body (non IMA)'!$B$6:$K$73,MATCH(L59,'[2]wide body (non IMA)'!$B$6:$B$73,0),7),INDEX('[2]wide body (non IMA)'!$B$6:$K$73,MATCH(M59,'[2]wide body (non IMA)'!$B$6:$B$73,0),7))","v":"ACSS"},2,{"$f":"INDEX('[1]Pt1-DATA'!$A$5:$M$13349,MATCH(A59,'[1]Pt1-DATA'!$C$5:$C$13349,0),6)","v":{"$error":"#N/A"}},null,"TCAS computer",""]
[null,{"$f":"IFERROR(INDEX('[1]Pt1-DATA'!$C:$D,MATCH(A60,'[1]Pt1-DATA'!$C:$C,0),2),\"\")","v":""},{"$f":"IFERROR(INDEX('[2]wide body (non IMA)'!$B$6:$K$73,MATCH(L60,'[2]wide body (non IMA)'!$B$6:$B$73,0),4)*1000,INDEX('[2]wide body (non IMA)'!$B$6:$K$73,MATCH(M60,'[2]wide body (non IMA)'!$B$6:$B$73,0),4)*1000)","v":5000},{"$f":"B60*(1+'Federal Reserve PPI AC Parts'!$E$12)","v":{"$error":"#VALUE!"}},{"$f":"C60*(1+'Federal Reserve PPI AC Parts'!$E$12)","v":5592.0148069804345},"Validated PW 2020",5592.0148069804345,{"$error":"#VALUE!"},{"$f":"IFERROR(INDEX('[2]wide body (non IMA)'!$B$6:$K$73,MATCH(L60,'[2]wide body (non IMA)'!$B$6:$B$73,0),7),INDEX('[2]wide body (non IMA)'!$B$6:$K$73,MATCH(M60,'[2]wide body (non IMA)'!$B$6:$B$73,0),7))","v":"ACSS"},2,{"$f":"INDEX('[1]Pt1-DATA'!$A$5:$M$13349,MATCH(A60,'[1]Pt1-DATA'!$C$5:$C$13349,0),6)","v":{"$error":"#N/A"}},null,"TCAS control panel",""]
[null,{"$f":"IFERROR(INDEX('[1]Pt1-DATA'!$C:$D,MATCH(A61,'[1]Pt1-DATA'!$C:$C,0),2),\"\")","v":""},{"$f":"IFERROR(INDEX('[2]wide body (non IMA)'!$B$6:$K$73,MATCH(L61,'[2]wide body (non IMA)'!$B$6:$B$73,0),4)*1000,INDEX('[2]wide body (non IMA)'!$B$6:$K$73,MATCH(M61,'[2]wide body (non IMA)'!$B$6:$B$73,0),4)*1000)","v":0},{"$f":"B61*(1+'Federal Reserve PPI AC Parts'!$E$12)","v":{"$error":"#VALUE!"}},{"$f":"C61*(1+'Federal Reserve PPI AC Parts'!$E$12)","v":0},"Validated PW 2020",0,{"$error":"#VALUE!"},{"$f":"IFERROR(INDEX('[2]wide body (non IMA)'!$B$6:$K$73,MATCH(L61,'[2]wide body (non IMA)'!$B$6:$B$73,0),7),INDEX('[2]wide body (non IMA)'!$B$6:$K$73,MATCH(M61,'[2]wide body (non IMA)'!$B$6:$B$73,0),7))","v":0},1,null,null,"Avionic racking, databuses excluded",""]
[null,{"$f":"IFERROR(INDEX('[1]Pt1-DATA'!$C:$D,MATCH(A62,'[1]Pt1-DATA'!$C:$C,0),2),\"\")","v":""},null,null,null,null,null,null,null,null,null,null,null,""]
[null,{"$f":"IFERROR(INDEX('[1]Pt1-DATA'!$C:$D,MATCH(A63,'[1]Pt1-DATA'!$C:$C,0),2),\"\")","v":""},null,null,null,null,null,null,null,null,null,null,null,""]

{"sheet":"wide body (IMA)","index":6,"n_rows":70,"n_cols":14,"rows_kept":70,"cut":false,"hidden":false,"merged":[]}
["Aircraft:",{"$f":"INDEX('[1]Pt1-AvionicsComponentCosts'!$A$11:$E$384,MATCH(VALUE(LEFT(A5,SEARCH(\"#\",A5)-1)),'[1]Pt1-AvionicsComponentCosts'!$A$11:$A$384,0),5)","v":"Boeing 787 Dreamliner: 787-9"}]
[null,"Avionics Cost 2020",null,null,null,null,"Avionics Cost 2024",null,"% Change 2020 - 2024"]
[null,{"$f":"SUMPRODUCT(B5:B80,J5:J80)","v":4149545},null,null,null,null,{"$f":"SUMPRODUCT(G5:G80,J5:J80)","v":5017419.4606028553},null,{"$f":"($G$3-$B$3)/$B$3","v":0.20914930687650218}]
[null,"Model 2020","PW 2020","2024 PPI Model","2024 PPI PW","Notes","2024 AE Estimate","Pct Change","Source","#/AC","Factor","Item","Alt Item (PW)","previous"]
["199#709",{"$f":"IFERROR(INDEX('[1]Pt1-DATA'!$C:$D,MATCH(A5,'[1]Pt1-DATA'!$C:$C,0),2),\"\")","v":117423},{"$f":"IFERROR(INDEX('[2]wide body (IMA)'!$B$6:$K$73,MATCH(L5,'[2]wide body (IMA)'!$B$6:$B$73,0),4)*1000,INDEX('[2]wide body (IMA)'!$B$6:$K$73,MATCH(M5,'[2]wide body (IMA)'!$B$6:$B$73,0),4)*1000)","v":60000},{"$f":"B5*(1+'Federal Reserve PPI AC Parts'!$E$12)","v":131326.2309360127},{"$f":"C5*(1+'Federal Reserve PPI AC Parts'!$E$12)","v":67104.177683765214},"PW Low",132000,{"$f":"(B5-C5)/C5","v":0.95704999999999996},{"$f":"IFERROR(INDEX('[2]wide body (IMA)'!$B$6:$K$73,MATCH(L5,'[2]wide body (IMA)'!$B$6:$B$73,0),7),INDEX('[2]wide body (IMA)'!$B$6:$K$73,MATCH(M5,'[2]wide body (IMA)'!$B$6:$B$73,0),7))","v":"Honeywell"},2,{"$f":"INDEX('[1]Pt1-DATA'!$A$5:$M$13349,MATCH(A5,'[1]Pt1-DATA'!$C$5:$C$13349,0),6)","v":"M"},"FMGC",null,117423]
["199#710",{"$f":"IFERROR(INDEX('[1]Pt1-DATA'!$C:$D,MATCH(A6,'[1]Pt1-DATA'!$C:$C,0),2),\"\")","v":41750},{"$f":"IFERROR(INDEX('[2]wide body (IMA)'!$B$6:$K$73,MATCH(L6,'[2]wide body (IMA)'!$B$6:$B$73,0),4)*1000,INDEX('[2]wide body (IMA)'!$B$6:$K$73,MATCH(M6,'[2]wide body (IMA)'!$B$6:$B$73,0),4)*1000)","v":30000},{"$f":"B6*(1+'Federal Reserve PPI AC Parts'!$E$12)","v":46693.323638286623},{"$f":"C6*(1+'Federal Reserve PPI AC Parts'!$E$12)","v":33552.088841882607},"PW Low",47000,{"$f":"(B6-C6)/C6","v":0.39166666666666666},{"$f":"IFERROR(INDEX('[2]wide body (IMA)'!$B$6:$K$73,MATCH(L6,'[2]wide body (IMA)'!$B$6:$B$73,0),7),INDEX('[2]wide body (IMA)'!$B$6:$K$73,MATCH(M6,'[2]wide body (IMA)'!$B$6:$B$73,0),7))","v":"Honeywell"},2,{"$f":"INDEX('[1]Pt1-DATA'!$A$5:$M$13349,MATCH(A6,'[1]Pt1-DATA'!$C$5:$C$13349,0),6)","v":"J"},"MCDU",null,41750]
["199#713",{"$f":"IFERROR(INDEX('[1]Pt1-DATA'!$C:$D,MATCH(A7,'[1]Pt1-DATA'!$C:$C,0),2),\"\")","v":11206},{"$f":"IFERROR(INDEX('[2]wide body (IMA)'!$B$6:$K$73,MATCH(L7,'[2]wide body (IMA)'!$B$6:$B$73,0),4)*1000,INDEX('[2]wide body (IMA)'!$B$6:$K$73,MATCH(M7,'[2]wide body (IMA)'!$B$6:$B$73,0),4)*1000)","v":30000},{"$f":"B7*(1+'Federal Reserve PPI AC Parts'!$E$12)","v":12532.823585404549},{"$f":"C7*(1+'Federal Reserve PPI AC Parts'!$E$12)","v":33552.088841882607},"Validated PW 2020",34000,-0.62646666666666662,{"$f":"IFERROR(INDEX('[2]wide body (IMA)'!$B$6:$K$73,MATCH(L7,'[2]wide body (IMA)'!$B$6:$B$73,0),7),INDEX('[2]wide body (IMA)'!$B$6:$K$73,MATCH(M7,'[2]wide body (IMA)'!$B$6:$B$73,0),7))","v":0},2,{"$f":"INDEX('[1]Pt1-DATA'!$A$5:$M$13349,MATCH(A7,'[1]Pt1-DATA'!$C$5:$C$13349,0),6)","v":"C1"},"A/T Engine Control Unit",null,11206]
["199#714",{"$f":"IFERROR(INDEX('[1]Pt1-DATA'!$C:$D,MATCH(A8,'[1]Pt1-DATA'!$C:$C,0),2),\"\")","v":34520},{"$f":"IFERROR(INDEX('[2]wide body (IMA)'!$B$6:$K$73,MATCH(L8,'[2]wide body (IMA)'!$B$6:$B$73,0),4)*1000,INDEX('[2]wide body (IMA)'!$B$6:$K$73,MATCH(M8,'[2]wide body (IMA)'!$B$6:$B$73,0),4)*1000)","v":15000},{"$f":"B8*(1+'Federal Reserve PPI AC Parts'!$E$12)","v":38607.270227392917},{"$f":"C8*(1+'Federal Reserve PPI AC Parts'!$E$12)","v":16776.044420941304},"PW Low",40000,1.3013333333333332,{"$f":"IFERROR(INDEX('[2]wide body (IMA)'!$B$6:$K$73,MATCH(L8,'[2]wide body (IMA)'!$B$6:$B$73,0),7),INDEX('[2]wide body (IMA)'!$B$6:$K$73,MATCH(M8,'[2]wide body (IMA)'!$B$6:$B$73,0),7))","v":0},2,{"$f":"INDEX('[1]Pt1-DATA'!$A$5:$M$13349,MATCH(A8,'[1]Pt1-DATA'!$C$5:$C$13349,0),6)","v":"E"},"Data Base loader",null,34520]
["199#719",{"$f":"IFERROR(INDEX('[1]Pt1-DATA'!$C:$D,MATCH(A9,'[1]Pt1-DATA'!$C:$C,0),2),\"\")","v":20243},{"$f":"IFERROR(INDEX('[2]wide body (IMA)'!$B$6:$K$73,MATCH(L9,'[2]wide body (IMA)'!$B$6:$B$73,0),4)*1000,INDEX('[2]wide body (IMA)'!$B$6:$K$73,MATCH(M9,'[2]wide body (IMA)'!$B$6:$B$73,0),4)*1000)","v":15000},{"$f":"B9*(1+'Federal Reserve PPI AC Parts'!$E$12)","v":22639.831147540986},{"$f":"C9*(1+'Federal Reserve PPI AC Parts'!$E$12)","v":16776.044420941304},"PW Low",23000,0.34953333333333331,{"$f":"IFERROR(INDEX('[2]wide body (IMA)'!$B$6:$K$73,MATCH(L9,'[2]wide body (IMA)'!$B$6:$B$73,0),7),INDEX('[2]wide body (IMA)'!$B$6:$K$73,MATCH(M9,'[2]wide body (IMA)'!$B$6:$B$73,0),7))","v":"??"},1,{"$f":"INDEX('[1]Pt1-DATA'!$A$5:$M$13349,MATCH(A9,'[1]Pt1-DATA'!$C$5:$C$13349,0),6)","v":"E"},"ADIRS CDU",null,20243]
["199#721",{"$f":"IFERROR(INDEX('[1]Pt1-DATA'!$C:$D,MATCH(A10,'[1]Pt1-DATA'!$C:$C,0),2),\"\")","v":10638},{"$f":"IFERROR(INDEX('[2]wide body (IMA)'!$B$6:$K$73,MATCH(L10,'[2]wide body (IMA)'!$B$6:$B$73,0),4)*1000,INDEX('[2]wide body (IMA)'!$B$6:$K$73,MATCH(M10,'[2]wide body (IMA)'!$B$6:$B$73,0),4)*1000)","v":20000},{"$f":"B10*(1+'Federal Reserve PPI AC Parts'!$E$12)","v":11897.570703331572},{"$f":"C10*(1+'Federal Reserve PPI AC Parts'!$E$12)","v":22368.059227921738},"Validated PW 2020",23000,-0.46810000000000002,{"$f":"IFERROR(INDEX('[2]wide body (IMA)'!$B$6:$K$73,MATCH(L10,'[2]wide body (IMA)'!$B$6:$B$73,0),7),INDEX('[2]wide body (IMA)'!$B$6:$K$73,MATCH(M10,'[2]wide body (IMA)'!$B$6:$B$73,0),7))","v":"Honeywell"},8,{"$f":"INDEX('[1]Pt1-DATA'!$A$5:$M$13349,MATCH(A10,'[1]Pt1-DATA'!$C$5:$C$13349,0),6)","v":"E2"},"Air Data Modules (ADM)",null,10638]
["199#722",{"$f":"IFERROR(INDEX('[1]Pt1-DATA'!$C:$D,MATCH(A11,'[1]Pt1-DATA'!$C:$C,0),2),\"\")","v":13200},{"$f":"IFERROR(INDEX('[2]wide body (IMA)'!$B$6:$K$73,MATCH(L11,'[2]wide body (IMA)'!$B$6:$B$73,0),4)*1000,INDEX('[2]wide body (IMA)'!$B$6:$K$73,MATCH(M11,'[2]wide body (IMA)'!$B$6:$B$73,0),4)*1000)","v":12000},{"$f":"B11*(1+'Federal Reserve PPI AC Parts'!$E$12)","v":14762.919090428346},{"$f":"C11*(1+'Federal Reserve PPI AC Parts'!$E$12)","v":13420.835536753042},"Validated PW 2020",14000,0.1,{"$f":"IFERROR(INDEX('[2]wide body (IMA)'!$B$6:$K$73,MATCH(L11,'[2]wide body (IMA)'!$B$6:$B$73,0),7),INDEX('[2]wide body (IMA)'!$B$6:$K$73,MATCH(M11,'[2]wide body (IMA)'!$B$6:$B$73,0),7))","v":"??"},14,{"$f":"INDEX('[1]Pt1-DATA'!$A$5:$M$13349,MATCH(A11,'[1]Pt1-DATA'!$C$5:$C$13349,0),6)","v":"I"},"Air data probes (pitot/static)",null,13200]
["199#723",{"$f":"IFERROR(INDEX('[1]Pt1-DATA'!$C:$D,MATCH(A12,'[1]Pt1-DATA'!$C:$C,0),2),\"\")","v":44327},{"$f":"IFERROR(INDEX('[2]wide body (IMA)'!$B$6:$K$73,MATCH(L12,'[2]wide body (IMA)'!$B$6:$B$73,0),4)*1000,INDEX('[2]wide body (IMA)'!$B$6:$K$73,MATCH(M12,'[2]wide body (IMA)'!$B$6:$B$73,0),4)*1000)","v":40000},{"$f":"B12*(1+'Federal Reserve PPI AC Parts'!$E$12)","v":49575.448069804341},{"$f":"C12*(1+'Federal Reserve PPI AC Parts'!$E$12)","v":44736.118455843476},"Validated PW 2020",45000,0.10817499999999999,{"$f":"IFERROR(INDEX('[2]wide body (IMA)'!$B$6:$K$73,MATCH(L12,'[2]wide body (IMA)'!$B$6:$B$73,0),7),INDEX('[2]wide body (IMA)'!$B$6:$K$73,MATCH(M12,'[2]wide body (IMA)'!$B$6:$B$73,0),7))","v":"Honeywell"},2,{"$f":"INDEX('[1]Pt1-DATA'!$A$5:$M$13349,MATCH(A12,'[1]Pt1-DATA'!$C$5:$C$13349,0),6)","v":"D"},"Multi Mode Receiver (MMR)",null,44327]
["199#725",{"$f":"IFERROR(INDEX('[1]Pt1-DATA'!$C:$D,MATCH(A13,'[1]Pt1-DATA'!$C:$C,0),2),\"\")","v":10638},{"$f":"IFERROR(INDEX('[2]wide body (IMA)'!$B$6:$K$73,MATCH(L13,'[2]wide body (IMA)'!$B$6:$B$73,0),4)*1000,INDEX('[2]wide body (IMA)'!$B$6:$K$73,MATCH(M13,'[2]wide body (IMA)'!$B$6:$B$73,0),4)*1000)","v":10000},{"$f":"B13*(1+'Federal Reserve PPI AC Parts'!$E$12)","v":11897.570703331572},{"$f":"C13*(1+'Federal Reserve PPI AC Parts'!$E$12)","v":11184.029613960869},"Validated PW 2020",12000,6.3799999999999996E-2,{"$f":"IFERROR(INDEX('[2]wide body (IMA)'!$B$6:$K$73,MATCH(L13,'[2]wide body (IMA)'!$B$6:$B$73,0),7),INDEX('[2]wide body (IMA)'!$B$6:$K$73,MATCH(M13,'[2]wide body (IMA)'!$B$6:$B$73,0),7))","v":"Honeywell"},2,{"$f":"INDEX('[1]Pt1-DATA'!$A$5:$M$13349,MATCH(A13,'[1]Pt1-DATA'!$C$5:$C$13349,0),6)","v":"C"},"DME receivers",null,10638]
["199#728",{"$f":"IFERROR(INDEX('[1]Pt1-DATA'!$C:$D,MATCH(A14,'[1]Pt1-DATA'!$C:$C,0),2),\"\")","v":20243},{"$f":"IFERROR(INDEX('[2]wide body (IMA)'!$B$6:$K$73,MATCH(L14,'[2]wide body (IMA)'!$B$6:$B$73,0),4)*1000,INDEX('[2]wide body (IMA)'!$B$6:$K$73,MATCH(M14,'[2]wide body (IMA)'!$B$6:$B$73,0),4)*1000)","v":15000},{"$f":"B14*(1+'Federal Reserve PPI AC Parts'!$E$12)","v":22639.831147540986},{"$f":"C14*(1+'Federal Reserve PPI AC Parts'!$E$12)","v":16776.044420941304},"PW Low",23000,0.34953333333333331,{"$f":"IFERROR(INDEX('[2]wide body (IMA)'!$B$6:$K$73,MATCH(L14,'[2]wide body (IMA)'!$B$6:$B$73,0),7),INDEX('[2]wide body (IMA)'!$B$6:$K$73,MATCH(M14,'[2]wide body (IMA)'!$B$6:$B$73,0),7))","v":0},1,{"$f":"INDEX('[1]Pt1-DATA'!$A$5:$M$13349,MATCH(A14,'[1]Pt1-DATA'!$C$5:$C$13349,0),6)","v":"G"},"EFIS Control panel",null,20243]
["199#730",{"$f":"IFERROR(INDEX('[1]Pt1-DATA'!$C:$D,MATCH(A15,'[1]Pt1-DATA'!$C:$C,0),2),\"\")","v":111333},{"$f":"IFERROR(INDEX('[2]wide body (IMA)'!$B$6:$K$73,MATCH(L15,'[2]wide body (IMA)'!$B$6:$B$73,0),4)*1000,INDEX('[2]wide body (IMA)'!$B$6:$K$73,MATCH(M15,'[2]wide body (IMA)'!$B$6:$B$73,0),4)*1000)","v":90000},{"$f":"B15*(1+'Federal Reserve PPI AC Parts'!$E$12)","v":124515.15690111053},{"$f":"C15*(1+'Federal Reserve PPI AC Parts'!$E$12)","v":100656.26652564782},"PW Low",125000,0.23703333333333335,{"$f":"IFERROR(INDEX('[2]wide body (IMA)'!$B$6:$K$73,MATCH(L15,'[2]wide body (IMA)'!$B$6:$B$73,0),7),INDEX('[2]wide body (IMA)'!$B$6:$K$73,MATCH(M15,'[2]wide body (IMA)'!$B$6:$B$73,0),7))","v":"Collins"},2,{"$f":"INDEX('[1]Pt1-DATA'!$A$5:$M$13349,MATCH(A15,'[1]Pt1-DATA'!$C$5:$C$13349,0),6)","v":"G"},"HUD display system",null,111333]
["199#733",{"$f":"IFERROR(INDEX('[1]Pt1-DATA'!$C:$D,MATCH(A16,'[1]Pt1-DATA'!$C:$C,0),2),\"\")","v":50606},{"$f":"IFERROR(INDEX('[2]wide body (IMA)'!$B$6:$K$73,MATCH(L16,'[2]wide body (IMA)'!$B$6:$B$73,0),4)*1000,INDEX('[2]wide body (IMA)'!$B$6:$K$73,MATCH(M16,'[2]wide body (IMA)'!$B$6:$B$73,0),4)*1000)","v":25000},{"$f":"B16*(1+'Federal Reserve PPI AC Parts'!$E$12)","v":56597.900264410375},{"$f":"C16*(1+'Federal Reserve PPI AC Parts'!$E$12)","v":27960.074034902173},"PW Low",58000,1.02424,{"$f":"IFERROR(INDEX('[2]wide body (IMA)'!$B$6:$K$73,MATCH(L16,'[2]wide body (IMA)'!$B$6:$B$73,0),7),INDEX('[2]wide body (IMA)'!$B$6:$K$73,MATCH(M16,'[2]wide body (IMA)'!$B$6:$B$73,0),7))","v":"IMA software function"},2,{"$f":"INDEX('[1]Pt1-DATA'!$A$5:$M$13349,MATCH(A16,'[1]Pt1-DATA'!$C$5:$C$13349,0),6)","v":"I"},"Display Management Computer (DMC/EFIS)","Display Management Computer (EFIS)",50606]
["199#734",{"$f":"IFERROR(INDEX('[1]Pt1-DATA'!$C:$D,MATCH(A17,'[1]Pt1-DATA'!$C:$C,0),2),\"\")","v":10121},{"$f":"IFERROR(INDEX('[2]wide body (IMA)'!$B$6:$K$73,MATCH(L17,'[2]wide body (IMA)'!$B$6:$B$73,0),4)*1000,INDEX('[2]wide body (IMA)'!$B$6:$K$73,MATCH(M17,'[2]wide body (IMA)'!$B$6:$B$73,0),4)*1000)","v":8000},{"$f":"B17*(1+'Federal Reserve PPI AC Parts'!$E$12)","v":11319.356372289794},{"$f":"C17*(1+'Federal Reserve PPI AC Parts'!$E$12)","v":8947.2236911686941},"PW Low",12000,0.265125,{"$f":"IFERROR(INDEX('[2]wide body (IMA)'!$B$6:$K$73,MATCH(L17,'[2]wide body (IMA)'!$B$6:$B$73,0),7),INDEX('[2]wide body (IMA)'!$B$6:$K$73,MATCH(M17,'[2]wide body (IMA)'!$B$6:$B$73,0),7))","v":0},1,{"$f":"INDEX('[1]Pt1-DATA'!$A$5:$M$13349,MATCH(A17,'[1]Pt1-DATA'!$C$5:$C$13349,0),6)","v":"E"},"Compass",null,10121]
["199#735",{"$f":"IFERROR(INDEX('[1]Pt1-DATA'!$C:$D,MATCH(A18,'[1]Pt1-DATA'!$C:$C,0),2),\"\")","v":35424},{"$f":"IFERROR(INDEX('[2]wide body (IMA)'!$B$6:$K$73,MATCH(L18,'[2]wide body (IMA)'!$B$6:$B$73,0),4)*1000,INDEX('[2]wide body (IMA)'!$B$6:$K$73,MATCH(M18,'[2]wide body (IMA)'!$B$6:$B$73,0),4)*1000)","v":30000},{"$f":"B18*(1+'Federal Reserve PPI AC Parts'!$E$12)","v":39618.306504494984},{"$f":"C18*(1+'Federal Reserve PPI AC Parts'!$E$12)","v":33552.088841882607},"PW Low",40000,0.18079999999999999,{"$f":"IFERROR(INDEX('[2]wide body (IMA)'!$B$6:$K$73,MATCH(L18,'[2]wide body (IMA)'!$B$6:$B$73,0),7),INDEX('[2]wide body (IMA)'!$B$6:$K$73,MATCH(M18,'[2]wide body (IMA)'!$B$6:$B$73,0),7))","v":"Thales"},1,{"$f":"INDEX('[1]Pt1-DATA'!$A$5:$M$13349,MATCH(A18,'[1]Pt1-DATA'!$C$5:$C$13349,0),6)","v":"G"},"Integrated Standby Instrument System",null,35424]
["199#738",{"$f":"IFERROR(INDEX('[1]Pt1-DATA'!$C:$D,MATCH(A19,'[1]Pt1-DATA'!$C:$C,0),2),\"\")","v":17612},{"$f":"IFERROR(INDEX('[2]wide body (IMA)'!$B$6:$K$73,MATCH(L19,'[2]wide body (IMA)'!$B$6:$B$73,0),4)*1000,INDEX('[2]wide body (IMA)'!$B$6:$K$73,MATCH(M19,'[2]wide body (IMA)'!$B$6:$B$73,0),4)*1000)","v":12000},{"$f":"B19*(1+'Federal Reserve PPI AC Parts'!$E$12)","v":19697.312956107882},{"$f":"C19*(1+'Federal Reserve PPI AC Parts'!$E$12)","v":13420.835536753042},"PW Low",20000,0.46766666666666667,{"$f":"IFERROR(INDEX('[2]wide body (IMA)'!$B$6:$K$73,MATCH(L19,'[2]wide body (IMA)'!$B$6:$B$73,0),7),INDEX('[2]wide body (IMA)'!$B$6:$K$73,MATCH(M19,'[2]wide body (IMA)'!$B$6:$B$73,0),7))","v":"Collins"},2,{"$f":"INDEX('[1]Pt1-DATA'!$A$5:$M$13349,MATCH(A19,'[1]Pt1-DATA'!$C$5:$C$13349,0),6)","v":"F"},"Comms Receivers VH (transceiver/antenna)",null,17612]
["199#739",{"$f":"IFERROR(INDEX('[1]Pt1-DATA'!$C:$D,MATCH(A20,'[1]Pt1-DATA'!$C:$C,0),2),\"\")","v":17612},{"$f":"IFERROR(INDEX('[2]wide body (IMA)'!$B$6:$K$73,MATCH(L20,'[2]wide body (IMA)'!$B$6:$B$73,0),4)*1000,INDEX('[2]wide body (IMA)'!$B$6:$K$73,MATCH(M20,'[2]wide body (IMA)'!$B$6:$B$73,0),4)*1000)","v":12000},{"$f":"B20*(1+'Federal Reserve PPI AC Parts'!$E$12)","v":19697.312956107882},{"$f":"C20*(1+'Federal Reserve PPI AC Parts'!$E$12)","v":13420.835536753042},"PW Low",20000,0.46766666666666667,{"$f":"IFERROR(INDEX('[2]wide body (IMA)'!$B$6:$K$73,MATCH(L20,'[2]wide body (IMA)'!$B$6:$B$73,0),7),INDEX('[2]wide body (IMA)'!$B$6:$K$73,MATCH(M20,'[2]wide body (IMA)'!$B$6:$B$73,0),7))","v":"Collins"},2,{"$f":"INDEX('[1]Pt1-DATA'!$A$5:$M$13349,MATCH(A20,'[1]Pt1-DATA'!$C$5:$C$13349,0),6)","v":"F"},"Comms Receivers UF (transceiver/antenna)",null,17612]
["199#743",{"$f":"IFERROR(INDEX('[1]Pt1-DATA'!$C:$D,MATCH(A21,'[1]Pt1-DATA'!$C:$C,0),2),\"\")","v":7828},{"$f":"IFERROR(INDEX('[2]wide body (IMA)'!$B$6:$K$73,MATCH(L21,'[2]wide body (IMA)'!$B$6:$B$73,0),4)*1000,INDEX('[2]wide body (IMA)'!$B$6:$K$73,MATCH(M21,'[2]wide body (IMA)'!$B$6:$B$73,0),4)*1000)","v":8000},{"$f":"B21*(1+'Federal Reserve PPI AC Parts'!$E$12)","v":8754.8583818085681},{"$f":"C21*(1+'Federal Reserve PPI AC Parts'!$E$12)","v":8947.2236911686941},"Validated PW 2020",9000,-2.1499999999999998E-2,{"$f":"IFERROR(INDEX('[2]wide body (IMA)'!$B$6:$K$73,MATCH(L21,'[2]wide body (IMA)'!$B$6:$B$73,0),7),INDEX('[2]wide body (IMA)'!$B$6:$K$73,MATCH(M21,'[2]wide body (IMA)'!$B$6:$B$73,0),7))","v":"?/"},1,{"$f":"INDEX('[1]Pt1-DATA'!$A$5:$M$13349,MATCH(A21,'[1]Pt1-DATA'!$C$5:$C$13349,0),6)","v":"F"},"Radio Management Panel",null,7828]
["199#744",{"$f":"IFERROR(INDEX('[1]Pt1-DATA'!$C:$D,MATCH(A22,'[1]Pt1-DATA'!$C:$C,0),2),\"\")","v":42542},{"$f":"IFERROR(INDEX('[2]wide body (IMA)'!$B$6:$K$73,MATCH(L22,'[2]wide body (IMA)'!$B$6:$B$73,0),4)*1000,INDEX('[2]wide body (IMA)'!$B$6:$K$73,MATCH(M22,'[2]wide body (IMA)'!$B$6:$B$73,0),4)*1000)","v":18000},{"$f":"B22*(1+'Federal Reserve PPI AC Parts'!$E$12)","v":47579.098783712325},{"$f":"C22*(1+'Federal Reserve PPI AC Parts'!$E$12)","v":20131.253305129565},"PW Low",48000,1.3634444444444445,{"$f":"IFERROR(INDEX('[2]wide body (IMA)'!$B$6:$K$73,MATCH(L22,'[2]wide body (IMA)'!$B$6:$B$73,0),7),INDEX('[2]wide body (IMA)'!$B$6:$K$73,MATCH(M22,'[2]wide body (IMA)'!$B$6:$B$73,0),7))","v":"Collins"},2,{"$f":"INDEX('[1]Pt1-DATA'!$A$5:$M$13349,MATCH(A22,'[1]Pt1-DATA'!$C$5:$C$13349,0),6)","v":"F"},"ATC Mode S Transponders (TCAS)",null,42542]
["199#746",{"$f":"IFERROR(INDEX('[1]Pt1-DATA'!$C:$D,MATCH(A23,'[1]Pt1-DATA'!$C:$C,0),2),\"\")","v":49498},{"$f":"IFERROR(INDEX('[2]wide body (IMA)'!$B$6:$K$73,MATCH(L23,'[2]wide body (IMA)'!$B$6:$B$73,0),4)*1000,INDEX('[2]wide body (IMA)'!$B$6:$K$73,MATCH(M23,'[2]wide body (IMA)'!$B$6:$B$73,0),4)*1000)","v":25000},{"$f":"B23*(1+'Federal Reserve PPI AC Parts'!$E$12)","v":55358.709783183505},{"$f":"C23*(1+'Federal Reserve PPI AC Parts'!$E$12)","v":27960.074034902173},"PW Low",56000,0.97992000000000001,{"$f":"IFERROR(INDEX('[2]wide body (IMA)'!$B$6:$K$73,MATCH(L23,'[2]wide body (IMA)'!$B$6:$B$73,0),7),INDEX('[2]wide body (IMA)'!$B$6:$K$73,MATCH(M23,'[2]wide body (IMA)'!$B$6:$B$73,0),7))","v":"Collins"},1,{"$f":"INDEX('[1]Pt1-DATA'!$A$5:$M$13349,MATCH(A23,'[1]Pt1-DATA'!$C$5:$C$13349,0),6)","v":"J"},"Weather WX radar system","Weather WX radar system (transceivers)",49498]
["199#748",{"$f":"IFERROR(INDEX('[1]Pt1-DATA'!$C:$D,MATCH(A24,'[1]Pt1-DATA'!$C:$C,0),2),\"\")","v":48620},{"$f":"IFERROR(INDEX('[2]wide body (IMA)'!$B$6:$K$73,MATCH(L24,'[2]wide body (IMA)'!$B$6:$B$73,0),4)*1000,INDEX('[2]wide body (IMA)'!$B$6:$K$73,MATCH(M24,'[2]wide body (IMA)'!$B$6:$B$73,0),4)*1000)","v":25000},{"$f":"B24*(1+'Federal Reserve PPI AC Parts'!$E$12)","v":54376.751983077746},{"$f":"C24*(1+'Federal Reserve PPI AC Parts'!$E$12)","v":27960.074034902173},"PW Low",55000,0.94479999999999997,{"$f":"IFERROR(INDEX('[2]wide body (IMA)'!$B$6:$K$73,MATCH(L24,'[2]wide body (IMA)'!$B$6:$B$73,0),7),INDEX('[2]wide body (IMA)'!$B$6:$K$73,MATCH(M24,'[2]wide body (IMA)'!$B$6:$B$73,0),7))","v":"Collins"},1,{"$f":"INDEX('[1]Pt1-DATA'!$A$5:$M$13349,MATCH(A24,'[1]Pt1-DATA'!$C$5:$C$13349,0),6)","v":"N"},"Ground Proximity Warning System (GPWS/EGPWS)","Ground Proximity Warning System (GPWS)",48620]
["199#752",{"$f":"IFERROR(INDEX('[1]Pt1-DATA'!$C:$D,MATCH(A25,'[1]Pt1-DATA'!$C:$C,0),2),\"\")","v":19569},{"$f":"IFERROR(INDEX('[2]wide body (IMA)'!$B$6:$K$73,MATCH(L25,'[2]wide body (IMA)'!$B$6:$B$73,0),4)*1000,INDEX('[2]wide body (IMA)'!$B$6:$K$73,MATCH(M25,'[2]wide body (IMA)'!$B$6:$B$73,0),4)*1000)","v":15000},{"$f":"B25*(1+'Federal Reserve PPI AC Parts'!$E$12)","v":21886.027551560022},{"$f":"C25*(1+'Federal Reserve PPI AC Parts'!$E$12)","v":16776.044420941304},"PW Low",22000,0.30459999999999998,{"$f":"IFERROR(INDEX('[2]wide body (IMA)'!$B$6:$K$73,MATCH(L25,'[2]wide body (IMA)'!$B$6:$B$73,0),7),INDEX('[2]wide body (IMA)'!$B$6:$K$73,MATCH(M25,'[2]wide body (IMA)'!$B$6:$B$73,0),7))","v":"Collins"},1,{"$f":"INDEX('[1]Pt1-DATA'!$A$5:$M$13349,MATCH(A25,'[1]Pt1-DATA'!$C$5:$C$13349,0),6)","v":"J1"},"Cockpit Voice Recorder",null,19569]
["199#753",{"$f":"IFERROR(INDEX('[1]Pt1-DATA'!$C:$D,MATCH(A26,'[1]Pt1-DATA'!$C:$C,0),2),\"\")","v":4893},{"$f":"IFERROR(INDEX('[2]wide body (IMA)'!$B$6:$K$73,MATCH(L26,'[2]wide body (IMA)'!$B$6:$B$73,0),4)*1000,INDEX('[2]wide body (IMA)'!$B$6:$K$73,MATCH(M26,'[2]wide body (IMA)'!$B$6:$B$73,0),4)*1000)","v":5000},{"$f":"B26*(1+'Federal Reserve PPI AC Parts'!$E$12)","v":5472.345690111053},{"$f":"C26*(1+'Federal Reserve PPI AC Parts'!$E$12)","v":5592.0148069804345},"Validated PW 2020",6000,-2.1399999999999999E-2,{"$f":"IFERROR(INDEX('[2]wide body (IMA)'!$B$6:$K$73,MATCH(L26,'[2]wide body (IMA)'!$B$6:$B$73,0),7),INDEX('[2]wide body (IMA)'!$B$6:$K$73,MATCH(M26,'[2]wide body (IMA)'!$B$6:$B$73,0),7))","v":"Collins"},1,{"$f":"INDEX('[1]Pt1-DATA'!$A$5:$M$13349,MATCH(A26,'[1]Pt1-DATA'!$C$5:$C$13349,0),6)","v":"C"},"CVR control panel",null,4893]
["199#754",{"$f":"IFERROR(INDEX('[1]Pt1-DATA'!$C:$D,MATCH(A27,'[1]Pt1-DATA'!$C:$C,0),2),\"\")","v":23014},{"$f":"IFERROR(INDEX('[2]wide body (IMA)'!$B$6:$K$73,MATCH(L27,'[2]wide body (IMA)'!$B$6:$B$73,0),4)*1000,INDEX('[2]wide body (IMA)'!$B$6:$K$73,MATCH(M27,'[2]wide body (IMA)'!$B$6:$B$73,0),4)*1000)","v":20000},{"$f":"B27*(1+'Federal Reserve PPI AC Parts'!$E$12)","v":25738.925753569543},{"$f":"C27*(1+'Federal Reserve PPI AC Parts'!$E$12)","v":22368.059227921738},"PW Low",26000,0.1507,{"$f":"IFERROR(INDEX('[2]wide body (IMA)'!$B$6:$K$73,MATCH(L27,'[2]wide body (IMA)'!$B$6:$B$73,0),7),INDEX('[2]wide body (IMA)'!$B$6:$K$73,MATCH(M27,'[2]wide body (IMA)'!$B$6:$B$73,0),7))","v":"Collins"},1,{"$f":"INDEX('[1]Pt1-DATA'!$A$5:$M$13349,MATCH(A27,'[1]Pt1-DATA'!$C$5:$C$13349,0),6)","v":"I"},"Flight Data Recorder",null,23014]
["199#755",{"$f":"IFERROR(INDEX('[1]Pt1-DATA'!$C:$D,MATCH(A28,'[1]Pt1-DATA'!$C:$C,0),2),\"\")","v":9205},{"$f":"IFERROR(INDEX('[2]wide body (IMA)'!$B$6:$K$73,MATCH(L28,'[2]wide body (IMA)'!$B$6:$B$73,0),4)*1000,INDEX('[2]wide body (IMA)'!$B$6:$K$73,MATCH(M28,'[2]wide body (IMA)'!$B$6:$B$73,0),4)*1000)","v":8000},{"$f":"B28*(1+'Federal Reserve PPI AC Parts'!$E$12)","v":10294.89925965098},{"$f":"C28*(1+'Federal Reserve PPI AC Parts'!$E$12)","v":8947.2236911686941},"PW Low",11000,0.15062500000000001,{"$f":"IFERROR(INDEX('[2]wide body (IMA)'!$B$6:$K$73,MATCH(L28,'[2]wide body (IMA)'!$B$6:$B$73,0),7),INDEX('[2]wide body (IMA)'!$B$6:$K$73,MATCH(M28,'[2]wide body (IMA)'!$B$6:$B$73,0),7))","v":"Collins"},1,{"$f":"INDEX('[1]Pt1-DATA'!$A$5:$M$13349,MATCH(A28,'[1]Pt1-DATA'!$C$5:$C$13349,0),6)","v":"C1"},"FD Interface Unit",null,9205]
["199#756",{"$f":"IFERROR(INDEX('[1]Pt1-DATA'!$C:$D,MATCH(A29,'[1]Pt1-DATA'!$C:$C,0),2),\"\")","v":27616},{"$f":"IFERROR(INDEX('[2]wide body (IMA)'!$B$6:$K$73,MATCH(L29,'[2]wide body (IMA)'!$B$6:$B$73,0),4)*1000,INDEX('[2]wide body (IMA)'!$B$6:$K$73,MATCH(M29,'[2]wide body (IMA)'!$B$6:$B$73,0),4)*1000)","v":15000},{"$f":"B29*(1+'Federal Reserve PPI AC Parts'!$E$12)","v":30885.816181914335},{"$f":"C29*(1+'Federal Reserve PPI AC Parts'!$E$12)","v":16776.044420941304},"PW Low",31000,0.84106666666666663,{"$f":"IFERROR(INDEX('[2]wide body (IMA)'!$B$6:$K$73,MATCH(L29,'[2]wide body (IMA)'!$B$6:$B$73,0),7),INDEX('[2]wide body (IMA)'!$B$6:$K$73,MATCH(M29,'[2]wide body (IMA)'!$B$6:$B$73,0),7))","v":0},1,{"$f":"INDEX('[1]Pt1-DATA'!$A$5:$M$13349,MATCH(A29,'[1]Pt1-DATA'!$C$5:$C$13349,0),6)","v":"E"},"Quick Access Recorder (QAR)",null,27616]
["199#759",{"$f":"IFERROR(INDEX('[1]Pt1-DATA'!$C:$D,MATCH(A30,'[1]Pt1-DATA'!$C:$C,0),2),\"\")","v":34520},{"$f":"IFERROR(INDEX('[2]wide body (IMA)'!$B$6:$K$73,MATCH(L30,'[2]wide body (IMA)'!$B$6:$B$73,0),4)*1000,INDEX('[2]wide body (IMA)'!$B$6:$K$73,MATCH(M30,'[2]wide body (IMA)'!$B$6:$B$73,0),4)*1000)","v":30000},{"$f":"B30*(1+'Federal Reserve PPI AC Parts'!$E$12)","v":38607.270227392917},{"$f":"C30*(1+'Federal Reserve PPI AC Parts'!$E$12)","v":33552.088841882607},"PW Low",40000,0.15066666666666667,{"$f":"IFERROR(INDEX('[2]wide body (IMA)'!$B$6:$K$73,MATCH(L30,'[2]wide body (IMA)'!$B$6:$B$73,0),7),INDEX('[2]wide body (IMA)'!$B$6:$K$73,MATCH(M30,'[2]wide body (IMA)'!$B$6:$B$73,0),7))","v":"Astronautics"},2,{"$f":"INDEX('[1]Pt1-DATA'!$A$5:$M$13349,MATCH(A30,'[1]Pt1-DATA'!$C$5:$C$13349,0),6)","v":"E"},"Electronic Flight Bags (EFBs)",null,34520]
["199#760",{"$f":"IFERROR(INDEX('[1]Pt1-DATA'!$C:$D,MATCH(A31,'[1]Pt1-DATA'!$C:$C,0),2),\"\")","v":15657},{"$f":"IFERROR(INDEX('[2]wide body (IMA)'!$B$6:$K$73,MATCH(L31,'[2]wide body (IMA)'!$B$6:$B$73,0),4)*1000,INDEX('[2]wide body (IMA)'!$B$6:$K$73,MATCH(M31,'[2]wide body (IMA)'!$B$6:$B$73,0),4)*1000)","v":15000},{"$f":"B31*(1+'Federal Reserve PPI AC Parts'!$E$12)","v":17510.83516657853},{"$f":"C31*(1+'Federal Reserve PPI AC Parts'!$E$12)","v":16776.044420941304},"Validated PW 2020",17000,4.3799999999999999E-2,{"$f":"IFERROR(INDEX('[2]wide body (IMA)'!$B$6:$K$73,MATCH(L31,'[2]wide body (IMA)'!$B$6:$B$73,0),7),INDEX('[2]wide body (IMA)'!$B$6:$K$73,MATCH(M31,'[2]wide body (IMA)'!$B$6:$B$73,0),7))","v":0},1,{"$f":"INDEX('[1]Pt1-DATA'!$A$5:$M$13349,MATCH(A31,'[1]Pt1-DATA'!$C$5:$C$13349,0),6)","v":"A"},"Mode control Panel (Auto/Pilot control)",null,15657]
["199#763",{"$f":"IFERROR(INDEX('[1]Pt1-DATA'!$C:$D,MATCH(A32,'[1]Pt1-DATA'!$C:$C,0),2),\"\")","v":11741},{"$f":"IFERROR(INDEX('[2]wide body (IMA)'!$B$6:$K$73,MATCH(L32,'[2]wide body (IMA)'!$B$6:$B$73,0),4)*1000,INDEX('[2]wide body (IMA)'!$B$6:$K$73,MATCH(M32,'[2]wide body (IMA)'!$B$6:$B$73,0),4)*1000)","v":12000},{"$f":"B32*(1+'Federal Reserve PPI AC Parts'!$E$12)","v":13131.169169751456},{"$f":"C32*(1+'Federal Reserve PPI AC Parts'!$E$12)","v":13420.835536753042},"Validated PW 2020",14000,-2.1583333333333333E-2,{"$f":"IFERROR(INDEX('[2]wide body (IMA)'!$B$6:$K$73,MATCH(L32,'[2]wide body (IMA)'!$B$6:$B$73,0),7),INDEX('[2]wide body (IMA)'!$B$6:$K$73,MATCH(M32,'[2]wide body (IMA)'!$B$6:$B$73,0),7))","v":"Honeywell"},2,{"$f":"INDEX('[1]Pt1-DATA'!$A$5:$M$13349,MATCH(A32,'[1]Pt1-DATA'!$C$5:$C$13349,0),6)","v":"A"},"ADF radios",null,11741]
["199#764",{"$f":"IFERROR(INDEX('[1]Pt1-DATA'!$C:$D,MATCH(A33,'[1]Pt1-DATA'!$C:$C,0),2),\"\")","v":13298},{"$f":"IFERROR(INDEX('[2]wide body (IMA)'!$B$6:$K$73,MATCH(L33,'[2]wide body (IMA)'!$B$6:$B$73,0),4)*1000,INDEX('[2]wide body (IMA)'!$B$6:$K$73,MATCH(M33,'[2]wide body (IMA)'!$B$6:$B$73,0),4)*1000)","v":15000},{"$f":"B33*(1+'Federal Reserve PPI AC Parts'!$E$12)","v":14872.522580645164},{"$f":"C33*(1+'Federal Reserve PPI AC Parts'!$E$12)","v":16776.044420941304},"Validated PW 2020",17000,-0.11346666666666666,{"$f":"IFERROR(INDEX('[2]wide body (IMA)'!$B$6:$K$73,MATCH(L33,'[2]wide body (IMA)'!$B$6:$B$73,0),7),INDEX('[2]wide body (IMA)'!$B$6:$K$73,MATCH(M33,'[2]wide body (IMA)'!$B$6:$B$73,0),7))","v":"Honeywell"},2,{"$f":"INDEX('[1]Pt1-DATA'!$A$5:$M$13349,MATCH(A33,'[1]Pt1-DATA'!$C$5:$C$13349,0),6)","v":"C"},"Radar altimeters",null,13298]
["199#765",{"$f":"IFERROR(INDEX('[1]Pt1-DATA'!$C:$D,MATCH(A34,'[1]Pt1-DATA'!$C:$C,0),2),\"\")","v":85018},{"$f":"IFERROR(INDEX('[2]wide body (IMA)'!$B$6:$K$73,MATCH(L34,'[2]wide body (IMA)'!$B$6:$B$73,0),4)*1000,INDEX('[2]wide body (IMA)'!$B$6:$K$73,MATCH(M34,'[2]wide body (IMA)'!$B$6:$B$73,0),4)*1000)","v":60000},{"$f":"B34*(1+'Federal Reserve PPI AC Parts'!$E$12)","v":95084.382971972518},{"$f":"C34*(1+'Federal Reserve PPI AC Parts'!$E$12)","v":67104.177683765214},"PW Low",96000,0.41696666666666665,{"$f":"IFERROR(INDEX('[2]wide body (IMA)'!$B$6:$K$73,MATCH(L34,'[2]wide body (IMA)'!$B$6:$B$73,0),7),INDEX('[2]wide body (IMA)'!$B$6:$K$73,MATCH(M34,'[2]wide body (IMA)'!$B$6:$B$73,0),7))","v":"Collins"},5,{"$f":"INDEX('[1]Pt1-DATA'!$A$5:$M$13349,MATCH(A34,'[1]Pt1-DATA'!$C$5:$C$13349,0),6)","v":"O"},"Multi Function Display",null,85018]
["199#766",{"$f":"IFERROR(INDEX('[1]Pt1-DATA'!$C:$D,MATCH(A35,'[1]Pt1-DATA'!$C:$C,0),2),\"\")","v":30364},{"$f":"IFERROR(INDEX('[2]wide body (IMA)'!$B$6:$K$73,MATCH(L35,'[2]wide body (IMA)'!$B$6:$B$73,0),4)*1000,INDEX('[2]wide body (IMA)'!$B$6:$K$73,MATCH(M35,'[2]wide body (IMA)'!$B$6:$B$73,0),4)*1000)","v":25000},{"$f":"B35*(1+'Federal Reserve PPI AC Parts'!$E$12)","v":33959.187519830783},{"$f":"C35*(1+'Federal Reserve PPI AC Parts'!$E$12)","v":27960.074034902173},"PW Low",34000,0.21456,{"$f":"IFERROR(INDEX('[2]wide body (IMA)'!$B$6:$K$73,MATCH(L35,'[2]wide body (IMA)'!$B$6:$B$73,0),7),INDEX('[2]wide body (IMA)'!$B$6:$K$73,MATCH(M35,'[2]wide body (IMA)'!$B$6:$B$73,0),7))","v":"Collins"},1,{"$f":"INDEX('[1]Pt1-DATA'!$A$5:$M$13349,MATCH(A35,'[1]Pt1-DATA'!$C$5:$C$13349,0),6)","v":"B"},"EICAS Crew alerting System",null,30364]
["199#768",{"$f":"IFERROR(INDEX('[1]Pt1-DATA'!$C:$D,MATCH(A36,'[1]Pt1-DATA'!$C:$C,0),2),\"\")","v":19569},{"$f":"IFERROR(INDEX('[2]wide body (IMA)'!$B$6:$K$73,MATCH(L36,'[2]wide body (IMA)'!$B$6:$B$73,0),4)*1000,INDEX('[2]wide body (IMA)'!$B$6:$K$73,MATCH(M36,'[2]wide body (IMA)'!$B$6:$B$73,0),4)*1000)","v":12000},{"$f":"B36*(1+'Federal Reserve PPI AC Parts'!$E$12)","v":21886.027551560022},{"$f":"C36*(1+'Federal Reserve PPI AC Parts'!$E$12)","v":13420.835536753042},"PW Low",22000,0.63075000000000003,{"$f":"IFERROR(INDEX('[2]wide body (IMA)'!$B$6:$K$73,MATCH(L36,'[2]wide body (IMA)'!$B$6:$B$73,0),7),INDEX('[2]wide body (IMA)'!$B$6:$K$73,MATCH(M36,'[2]wide body (IMA)'!$B$6:$B$73,0),7))","v":"Collins"},1,{"$f":"INDEX('[1]Pt1-DATA'!$A$5:$M$13349,MATCH(A36,'[1]Pt1-DATA'!$C$5:$C$13349,0),6)","v":"A"},"HF Radio",null,19569]
["199#769",{"$f":"IFERROR(INDEX('[1]Pt1-DATA'!$C:$D,MATCH(A37,'[1]Pt1-DATA'!$C:$C,0),2),\"\")","v":48922},{"$f":"IFERROR(INDEX('[2]wide body (IMA)'!$B$6:$K$73,MATCH(L37,'[2]wide body (IMA)'!$B$6:$B$73,0),4)*1000,INDEX('[2]wide body (IMA)'!$B$6:$K$73,MATCH(M37,'[2]wide body (IMA)'!$B$6:$B$73,0),4)*1000)","v":50000},{"$f":"B37*(1+'Federal Reserve PPI AC Parts'!$E$12)","v":54714.509677419359},{"$f":"C37*(1+'Federal Reserve PPI AC Parts'!$E$12)","v":55920.148069804345},"Validated PW 2020",56000,-2.1559999999999999E-2,{"$f":"IFERROR(INDEX('[2]wide body (IMA)'!$B$6:$K$73,MATCH(L37,'[2]wide body (IMA)'!$B$6:$B$73,0),7),INDEX('[2]wide body (IMA)'!$B$6:$K$73,MATCH(M37,'[2]wide body (IMA)'!$B$6:$B$73,0),7))","v":"Collins"},1,{"$f":"INDEX('[1]Pt1-DATA'!$A$5:$M$13349,MATCH(A37,'[1]Pt1-DATA'!$C$5:$C$13349,0),6)","v":"C"},"SATCOM","SATCOM 2100",48922]
["199#772",{"$f":"IFERROR(INDEX('[1]Pt1-DATA'!$C:$D,MATCH(A38,'[1]Pt1-DATA'!$C:$C,0),2),\"\")","v":28767},{"$f":"IFERROR(INDEX('[2]wide body (IMA)'!$B$6:$K$73,MATCH(L38,'[2]wide body (IMA)'!$B$6:$B$73,0),4)*1000,INDEX('[2]wide body (IMA)'!$B$6:$K$73,MATCH(M38,'[2]wide body (IMA)'!$B$6:$B$73,0),4)*1000)","v":25000},{"$f":"B38*(1+'Federal Reserve PPI AC Parts'!$E$12)","v":32173.09799048123},{"$f":"C38*(1+'Federal Reserve PPI AC Parts'!$E$12)","v":27960.074034902173},"PW Low",33000,0.15068000000000001,{"$f":"IFERROR(INDEX('[2]wide body (IMA)'!$B$6:$K$73,MATCH(L38,'[2]wide body (IMA)'!$B$6:$B$73,0),7),INDEX('[2]wide body (IMA)'!$B$6:$K$73,MATCH(M38,'[2]wide body (IMA)'!$B$6:$B$73,0),7))","v":"Honeywell"},1,{"$f":"INDEX('[1]Pt1-DATA'!$A$5:$M$13349,MATCH(A38,'[1]Pt1-DATA'!$C$5:$C$13349,0),6)","v":"A"},"Wireless LAN data loader",null,28767]
["199#773",{"$f":"IFERROR(INDEX('[1]Pt1-DATA'!$C:$D,MATCH(A39,'[1]Pt1-DATA'!$C:$C,0),2),\"\")","v":182270},{"$f":"IFERROR(INDEX('[2]wide body (IMA)'!$B$6:$K$73,MATCH(L39,'[2]wide body (IMA)'!$B$6:$B$73,0),4)*1000,INDEX('[2]wide body (IMA)'!$B$6:$K$73,MATCH(M39,'[2]wide body (IMA)'!$B$6:$B$73,0),4)*1000)","v":150000},{"$f":"B39*(1+'Federal Reserve PPI AC Parts'!$E$12)","v":203851.30777366474},{"$f":"C39*(1+'Federal Reserve PPI AC Parts'!$E$12)","v":167760.44420941302},"PW Low",205000,0.21513333333333334,{"$f":"IFERROR(INDEX('[2]wide body (IMA)'!$B$6:$K$73,MATCH(L39,'[2]wide body (IMA)'!$B$6:$B$73,0),7),INDEX('[2]wide body (IMA)'!$B$6:$K$73,MATCH(M39,'[2]wide body (IMA)'!$B$6:$B$73,0),7))","v":"GE Aviation"},2,{"$f":"INDEX('[1]Pt1-DATA'!$A$5:$M$13349,MATCH(A39,'[1]Pt1-DATA'!$C$5:$C$13349,0),6)","v":"G"},"Common Core processing",null,182270]
["199#775",{"$f":"IFERROR(INDEX('[1]Pt1-DATA'!$C:$D,MATCH(A40,'[1]Pt1-DATA'!$C:$C,0),2),\"\")","v":156228},{"$f":"IFERROR(INDEX('[2]wide body (IMA)'!$B$6:$K$73,MATCH(L40,'[2]wide body (IMA)'!$B$6:$B$73,0),4)*1000,INDEX('[2]wide body (IMA)'!$B$6:$K$73,MATCH(M40,'[2]wide body (IMA)'!$B$6:$B$73,0),4)*1000)","v":150000},{"$f":"B40*(1+'Federal Reserve PPI AC Parts'!$E$12)","v":174725.85785298786},{"$f":"C40*(1+'Federal Reserve PPI AC Parts'!$E$12)","v":167760.44420941302},"Validated PW 2020",170000,4.1520000000000001E-2,{"$f":"IFERROR(INDEX('[2]wide body (IMA)'!$B$6:$K$73,MATCH(L40,'[2]wide body (IMA)'!$B$6:$B$73,0),7),INDEX('[2]wide body (IMA)'!$B$6:$K$73,MATCH(M40,'[2]wide body (IMA)'!$B$6:$B$73,0),7))","v":"Collins"},1,{"$f":"INDEX('[1]Pt1-DATA'!$A$5:$M$13349,MATCH(A40,'[1]Pt1-DATA'!$C$5:$C$13349,0),6)","v":"F"},"Common Data Network",null,156228]
["199#776",{"$f":"IFERROR(INDEX('[1]Pt1-DATA'!$C:$D,MATCH(A41,'[1]Pt1-DATA'!$C:$C,0),2),\"\")","v":39894},{"$f":"IFERROR(INDEX('[2]wide body (IMA)'!$B$6:$K$73,MATCH(L41,'[2]wide body (IMA)'!$B$6:$B$73,0),4)*1000,INDEX('[2]wide body (IMA)'!$B$6:$K$73,MATCH(M41,'[2]wide body (IMA)'!$B$6:$B$73,0),4)*1000)","v":60000},{"$f":"B41*(1+'Federal Reserve PPI AC Parts'!$E$12)","v":44617.567741935491},{"$f":"C41*(1+'Federal Reserve PPI AC Parts'!$E$12)","v":67104.177683765214},"PW Low",45000,-0.33510000000000001,{"$f":"IFERROR(INDEX('[2]wide body (IMA)'!$B$6:$K$73,MATCH(L41,'[2]wide body (IMA)'!$B$6:$B$73,0),7),INDEX('[2]wide body (IMA)'!$B$6:$K$73,MATCH(M41,'[2]wide body (IMA)'!$B$6:$B$73,0),7))","v":"Honeywell"},2,{"$f":"INDEX('[1]Pt1-DATA'!$A$5:$M$13349,MATCH(A41,'[1]Pt1-DATA'!$C$5:$C$13349,0),6)","v":"A"},"IRU package",null,39894]
["199#777",{"$f":"IFERROR(INDEX('[1]Pt1-DATA'!$C:$D,MATCH(A42,'[1]Pt1-DATA'!$C:$C,0),2),\"\")","v":31029},{"$f":"IFERROR(INDEX('[2]wide body (IMA)'!$B$6:$K$73,MATCH(L42,'[2]wide body (IMA)'!$B$6:$B$73,0),4)*1000,INDEX('[2]wide body (IMA)'!$B$6:$K$73,MATCH(M42,'[2]wide body (IMA)'!$B$6:$B$73,0),4)*1000)","v":35000},{"$f":"B42*(1+'Federal Reserve PPI AC Parts'!$E$12)","v":34702.925489159177},{"$f":"C42*(1+'Federal Reserve PPI AC Parts'!$E$12)","v":39144.103648863042},"Validated PW 2020",40000,-0.11345714285714285,{"$f":"IFERROR(INDEX('[2]wide body (IMA)'!$B$6:$K$73,MATCH(L42,'[2]wide body (IMA)'!$B$6:$B$73,0),7),INDEX('[2]wide body (IMA)'!$B$6:$K$73,MATCH(M42,'[2]wide body (IMA)'!$B$6:$B$73,0),7))","v":"Honeywell"},2,{"$f":"INDEX('[1]Pt1-DATA'!$A$5:$M$13349,MATCH(A42,'[1]Pt1-DATA'!$C$5:$C$13349,0),6)","v":"A"},"AHRS package",null,31029]
["199#778",{"$f":"IFERROR(INDEX('[1]Pt1-DATA'!$C:$D,MATCH(A43,'[1]Pt1-DATA'!$C:$C,0),2),\"\")","v":13298},{"$f":"IFERROR(INDEX('[2]wide body (IMA)'!$B$6:$K$73,MATCH(L43,'[2]wide body (IMA)'!$B$6:$B$73,0),4)*1000,INDEX('[2]wide body (IMA)'!$B$6:$K$73,MATCH(M43,'[2]wide body (IMA)'!$B$6:$B$73,0),4)*1000)","v":60000},{"$f":"B43*(1+'Federal Reserve PPI AC Parts'!$E$12)","v":14872.522580645164},{"$f":"C43*(1+'Federal Reserve PPI AC Parts'!$E$12)","v":67104.177683765214},"Validated PW 2020",68000,-0.77836666666666665,{"$f":"IFERROR(INDEX('[2]wide body (IMA)'!$B$6:$K$73,MATCH(L43,'[2]wide body (IMA)'!$B$6:$B$73,0),7),INDEX('[2]wide body (IMA)'!$B$6:$K$73,MATCH(M43,'[2]wide body (IMA)'!$B$6:$B$73,0),7))","v":"Honeywell"},2,{"$f":"INDEX('[1]Pt1-DATA'!$A$5:$M$13349,MATCH(A43,'[1]Pt1-DATA'!$C$5:$C$13349,0),6)","v":"A"},"Intergated Nav Receivers (INRs)",null,13298]
["199#779",{"$f":"IFERROR(INDEX('[1]Pt1-DATA'!$C:$D,MATCH(A44,'[1]Pt1-DATA'!$C:$C,0),2),\"\")","v":50606},{"$f":"IFERROR(INDEX('[2]wide body (IMA)'!$B$6:$K$73,MATCH(L44,'[2]wide body (IMA)'!$B$6:$B$73,0),4)*1000,INDEX('[2]wide body (IMA)'!$B$6:$K$73,MATCH(M44,'[2]wide body (IMA)'!$B$6:$B$73,0),4)*1000)","v":50000},{"$f":"B44*(1+'Federal Reserve PPI AC Parts'!$E$12)","v":56597.900264410375},{"$f":"C44*(1+'Federal Reserve PPI AC Parts'!$E$12)","v":55920.148069804345},"Validated PW 2020",56000,1.2120000000000001E-2,{"$f":"IFERROR(INDEX('[2]wide body (IMA)'!$B$6:$K$73,MATCH(L44,'[2]wide body (IMA)'!$B$6:$B$73,0),7),INDEX('[2]wide body (IMA)'!$B$6:$K$73,MATCH(M44,'[2]wide body (IMA)'!$B$6:$B$73,0),7))","v":"Honeywell software package"},1,{"$f":"INDEX('[1]Pt1-DATA'!$A$5:$M$13349,MATCH(A44,'[1]Pt1-DATA'!$C$5:$C$13349,0),6)","v":"A"},"Crew Info System/Maint System",null,50606]
["199#780",{"$f":"IFERROR(INDEX('[1]Pt1-DATA'!$C:$D,MATCH(A45,'[1]Pt1-DATA'!$C:$C,0),2),\"\")","v":24461},{"$f":"IFERROR(INDEX('[2]wide body (IMA)'!$B$6:$K$73,MATCH(L45,'[2]wide body (IMA)'!$B$6:$B$73,0),4)*1000,INDEX('[2]wide body (IMA)'!$B$6:$K$73,MATCH(M45,'[2]wide body (IMA)'!$B$6:$B$73,0),4)*1000)","v":25000},{"$f":"B45*(1+'Federal Reserve PPI AC Parts'!$E$12)","v":27357.254838709679},{"$f":"C45*(1+'Federal Reserve PPI AC Parts'!$E$12)","v":27960.074034902173},"Validated PW 2020",28000,-2.1559999999999999E-2,{"$f":"IFERROR(INDEX('[2]wide body (IMA)'!$B$6:$K$73,MATCH(L45,'[2]wide body (IMA)'!$B$6:$B$73,0),7),INDEX('[2]wide body (IMA)'!$B$6:$K$73,MATCH(M45,'[2]wide body (IMA)'!$B$6:$B$73,0),7))","v":"?/"},2,{"$f":"INDEX('[1]Pt1-DATA'!$A$5:$M$13349,MATCH(A45,'[1]Pt1-DATA'!$C$5:$C$13349,0),6)","v":"A"},"Radio Tuning control Panels",null,24461]
["199#781",{"$f":"IFERROR(INDEX('[1]Pt1-DATA'!$C:$D,MATCH(A46,'[1]Pt1-DATA'!$C:$C,0),2),\"\")","v":34245},{"$f":"IFERROR(INDEX('[2]wide body (IMA)'!$B$6:$K$73,MATCH(L46,'[2]wide body (IMA)'!$B$6:$B$73,0),4)*1000,INDEX('[2]wide body (IMA)'!$B$6:$K$73,MATCH(M46,'[2]wide body (IMA)'!$B$6:$B$73,0),4)*1000)","v":35000},{"$f":"B46*(1+'Federal Reserve PPI AC Parts'!$E$12)","v":38299.709413008997},{"$f":"C46*(1+'Federal Reserve PPI AC Parts'!$E$12)","v":39144.103648863042},"Validated PW 2020",40000,-2.1571428571428571E-2,{"$f":"IFERROR(INDEX('[2]wide body (IMA)'!$B$6:$K$73,MATCH(L46,'[2]wide body (IMA)'!$B$6:$B$73,0),7),INDEX('[2]wide body (IMA)'!$B$6:$K$73,MATCH(M46,'[2]wide body (IMA)'!$B$6:$B$73,0),7))","v":"Collins"},1,{"$f":"INDEX('[1]Pt1-DATA'!$A$5:$M$13349,MATCH(A46,'[1]Pt1-DATA'!$C$5:$C$13349,0),6)","v":"A"},"HST 2100 ",null,34245]
["199#782",{"$f":"IFERROR(INDEX('[1]Pt1-DATA'!$C:$D,MATCH(A47,'[1]Pt1-DATA'!$C:$C,0),2),\"\")","v":24461},{"$f":"IFERROR(INDEX('[2]wide body (IMA)'!$B$6:$K$73,MATCH(L47,'[2]wide body (IMA)'!$B$6:$B$73,0),4)*1000,INDEX('[2]wide body (IMA)'!$B$6:$K$73,MATCH(M47,'[2]wide body (IMA)'!$B$6:$B$73,0),4)*1000)","v":25000},{"$f":"B47*(1+'Federal Reserve PPI AC Parts'!$E$12)","v":27357.254838709679},{"$f":"C47*(1+'Federal Reserve PPI AC Parts'!$E$12)","v":27960.074034902173},"Validated PW 2020",28000,-2.1559999999999999E-2,{"$f":"IFERROR(INDEX('[2]wide body (IMA)'!$B$6:$K$73,MATCH(L47,'[2]wide body (IMA)'!$B$6:$B$73,0),7),INDEX('[2]wide body (IMA)'!$B$6:$K$73,MATCH(M47,'[2]wide body (IMA)'!$B$6:$B$73,0),7))","v":"Honeywell"},1,{"$f":"INDEX('[1]Pt1-DATA'!$A$5:$M$13349,MATCH(A47,'[1]Pt1-DATA'!$C$5:$C$13349,0),6)","v":"A"},"Comms Management Function (CMF)","CommsManagement Function (CMF)",24461]
["199#783",{"$f":"IFERROR(INDEX('[1]Pt1-DATA'!$C:$D,MATCH(A48,'[1]Pt1-DATA'!$C:$C,0),2),\"\")","v":43555},{"$f":"IFERROR(INDEX('[2]wide body (IMA)'!$B$6:$K$73,MATCH(L48,'[2]wide body (IMA)'!$B$6:$B$73,0),4)*1000,INDEX('[2]wide body (IMA)'!$B$6:$K$73,MATCH(M48,'[2]wide body (IMA)'!$B$6:$B$73,0),4)*1000)","v":35000},{"$f":"B48*(1+'Federal Reserve PPI AC Parts'!$E$12)","v":48712.040983606566},{"$f":"C48*(1+'Federal Reserve PPI AC Parts'!$E$12)","v":39144.103648863042},"PW Low",49000,0.24442857142857144,{"$f":"IFERROR(INDEX('[2]wide body (IMA)'!$B$6:$K$73,MATCH(L48,'[2]wide body (IMA)'!$B$6:$B$73,0),7),INDEX('[2]wide body (IMA)'!$B$6:$K$73,MATCH(M48,'[2]wide body (IMA)'!$B$6:$B$73,0),7))","v":"Collins"},1,{"$f":"INDEX('[1]Pt1-DATA'!$A$5:$M$13349,MATCH(A48,'[1]Pt1-DATA'!$C$5:$C$13349,0),6)","v":"A"},"Multi Scan Hazard Detection System",null,43555]
["199#784",{"$f":"IFERROR(INDEX('[1]Pt1-DATA'!$C:$D,MATCH(A49,'[1]Pt1-DATA'!$C:$C,0),2),\"\")","v":26038},{"$f":"IFERROR(INDEX('[2]wide body (IMA)'!$B$6:$K$73,MATCH(L49,'[2]wide body (IMA)'!$B$6:$B$73,0),4)*1000,INDEX('[2]wide body (IMA)'!$B$6:$K$73,MATCH(M49,'[2]wide body (IMA)'!$B$6:$B$73,0),4)*1000)","v":20000},{"$f":"B49*(1+'Federal Reserve PPI AC Parts'!$E$12)","v":29120.976308831308},{"$f":"C49*(1+'Federal Reserve PPI AC Parts'!$E$12)","v":22368.059227921738},"PW Low",30000,0.3019,{"$f":"IFERROR(INDEX('[2]wide body (IMA)'!$B$6:$K$73,MATCH(L49,'[2]wide body (IMA)'!$B$6:$B$73,0),7),INDEX('[2]wide body (IMA)'!$B$6:$K$73,MATCH(M49,'[2]wide body (IMA)'!$B$6:$B$73,0),7))","v":"GE Aviation"},14,{"$f":"INDEX('[1]Pt1-DATA'!$A$5:$M$13349,MATCH(A49,'[1]Pt1-DATA'!$C$5:$C$13349,0),6)","v":"C"},"Remote Data concentrators",null,26038]
["199#804",{"$f":"IFERROR(INDEX('[1]Pt1-DATA'!$C:$D,MATCH(A50,'[1]Pt1-DATA'!$C:$C,0),2),\"\")","v":48559},{"$f":"IFERROR(INDEX('[2]wide body (IMA)'!$B$6:$K$73,MATCH(L50,'[2]wide body (IMA)'!$B$6:$B$73,0),4)*1000,INDEX('[2]wide body (IMA)'!$B$6:$K$73,MATCH(M50,'[2]wide body (IMA)'!$B$6:$B$73,0),4)*1000)","v":40000},{"$f":"B50*(1+'Federal Reserve PPI AC Parts'!$E$12)","v":54308.529402432585},{"$f":"C50*(1+'Federal Reserve PPI AC Parts'!$E$12)","v":44736.118455843476},"PW Low",55000,0.213975,{"$f":"IFERROR(INDEX('[2]wide body (IMA)'!$B$6:$K$73,MATCH(L50,'[2]wide body (IMA)'!$B$6:$B$73,0),7),INDEX('[2]wide body (IMA)'!$B$6:$K$73,MATCH(M50,'[2]wide body (IMA)'!$B$6:$B$73,0),7))","v":"part of FMC above"},2,{"$f":"INDEX('[1]Pt1-DATA'!$A$5:$M$13349,MATCH(A50,'[1]Pt1-DATA'!$C$5:$C$13349,0),6)","v":"G"},"Flight Guidance System (A/Pilot)","Autopilot /Auto thrust system",48559]
["199#825",{"$f":"IFERROR(INDEX('[1]Pt1-DATA'!$C:$D,MATCH(A51,'[1]Pt1-DATA'!$C:$C,0),2),\"\")","v":59764},{"$f":"IFERROR(INDEX('[2]wide body (IMA)'!$B$6:$K$73,MATCH(L51,'[2]wide body (IMA)'!$B$6:$B$73,0),4)*1000,INDEX('[2]wide body (IMA)'!$B$6:$K$73,MATCH(M51,'[2]wide body (IMA)'!$B$6:$B$73,0),4)*1000)","v":40000},{"$f":"B51*(1+'Federal Reserve PPI AC Parts'!$E$12)","v":66840.23458487574},{"$f":"C51*(1+'Federal Reserve PPI AC Parts'!$E$12)","v":44736.118455843476},"PW Low",67000,0.49409999999999998,{"$f":"IFERROR(INDEX('[2]wide body (IMA)'!$B$6:$K$73,MATCH(L51,'[2]wide body (IMA)'!$B$6:$B$73,0),7),INDEX('[2]wide body (IMA)'!$B$6:$K$73,MATCH(M51,'[2]wide body (IMA)'!$B$6:$B$73,0),7))","v":"part of FMC above"},1,{"$f":"INDEX('[1]Pt1-DATA'!$A$5:$M$13349,MATCH(A51,'[1]Pt1-DATA'!$C$5:$C$13349,0),6)","v":"K"},"Auto pilot system","Autopilot /Auto thrust system",59764]
["199#878",{"$f":"IFERROR(INDEX('[1]Pt1-DATA'!$C:$D,MATCH(A52,'[1]Pt1-DATA'!$C:$C,0),2),\"\")","v":48179},{"$f":"IFERROR(INDEX('[2]wide body (IMA)'!$B$6:$K$73,MATCH(L52,'[2]wide body (IMA)'!$B$6:$B$73,0),4)*1000,INDEX('[2]wide body (IMA)'!$B$6:$K$73,MATCH(M52,'[2]wide body (IMA)'!$B$6:$B$73,0),4)*1000)","v":{"$error":"#N/A"}},{"$f":"B52*(1+'Federal Reserve PPI AC Parts'!$E$12)","v":53883.536277102066},{"$f":"C52*(1+'Federal Reserve PPI AC Parts'!$E$12)","v":{"$error":"#N/A"}},"Validated Model 2020",54000,{"$error":"#N/A"},{"$f":"IFERROR(INDEX('[2]wide body (IMA)'!$B$6:$K$73,MATCH(L52,'[2]wide body (IMA)'!$B$6:$B$73,0),7),INDEX('[2]wide body (IMA)'!$B$6:$K$73,MATCH(M52,'[2]wide body (IMA)'!$B$6:$B$73,0),7))","v":{"$error":"#N/A"}},1,{"$f":"INDEX('[1]Pt1-DATA'!$A$5:$M$13349,MATCH(A52,'[1]Pt1-DATA'!$C$5:$C$13349,0),6)","v":"D"},"Sensors IFF, other",null,48179]
["199#879",{"$f":"IFERROR(INDEX('[1]Pt1-DATA'!$C:$D,MATCH(A53,'[1]Pt1-DATA'!$C:$C,0),2),\"\")","v":261865},{"$f":"IFERROR(INDEX('[2]wide body (IMA)'!$B$6:$K$73,MATCH(L53,'[2]wide body (IMA)'!$B$6:$B$73,0),4)*1000,INDEX('[2]wide body (IMA)'!$B$6:$K$73,MATCH(M53,'[2]wide body (IMA)'!$B$6:$B$73,0),4)*1000)","v":{"$error":"#N/A"}},{"$f":"B53*(1+'Federal Reserve PPI AC Parts'!$E$12)","v":292870.59148598631},{"$f":"C53*(1+'Federal Reserve PPI AC Parts'!$E$12)","v":{"$error":"#N/A"}},"Validated Model 2020",295000,{"$error":"#N/A"},{"$f":"IFERROR(INDEX('[2]wide body (IMA)'!$B$6:$K$73,MATCH(L53,'[2]wide body (IMA)'!$B$6:$B$73,0),7),INDEX('[2]wide body (IMA)'!$B$6:$K$73,MATCH(M53,'[2]wide body (IMA)'!$B$6:$B$73,0),7))","v":{"$error":"#N/A"}},1,{"$f":"INDEX('[1]Pt1-DATA'!$A$5:$M$13349,MATCH(A53,'[1]Pt1-DATA'!$C$5:$C$13349,0),6)","v":"AB"},"Software",null,261865]
["199#883",{"$f":"IFERROR(INDEX('[1]Pt1-DATA'!$C:$D,MATCH(A54,'[1]Pt1-DATA'!$C:$C,0),2),\"\")","v":82497},{"$f":"IFERROR(INDEX('[2]wide body (IMA)'!$B$6:$K$73,MATCH(L54,'[2]wide body (IMA)'!$B$6:$B$73,0),4)*1000,INDEX('[2]wide body (IMA)'!$B$6:$K$73,MATCH(M54,'[2]wide body (IMA)'!$B$6:$B$73,0),4)*1000)","v":{"$error":"#N/A"}},{"$f":"B54*(1+'Federal Reserve PPI AC Parts'!$E$12)","v":92264.889106292976},{"$f":"C54*(1+'Federal Reserve PPI AC Parts'!$E$12)","v":{"$error":"#N/A"}},"Validated Model 2020",93000,{"$error":"#N/A"},{"$f":"IFERROR(INDEX('[2]wide body (IMA)'!$B$6:$K$73,MATCH(L54,'[2]wide body (IMA)'!$B$6:$B$73,0),7),INDEX('[2]wide body (IMA)'!$B$6:$K$73,MATCH(M54,'[2]wide body (IMA)'!$B$6:$B$73,0),7))","v":{"$error":"#N/A"}},1,{"$f":"INDEX('[1]Pt1-DATA'!$A$5:$M$13349,MATCH(A54,'[1]Pt1-DATA'!$C$5:$C$13349,0),6)","v":"C"},"Surveillance Sensors",null,82497]
["199#1056",{"$f":"IFERROR(INDEX('[1]Pt1-DATA'!$C:$D,MATCH(A55,'[1]Pt1-DATA'!$C:$C,0),2),\"\")","v":6038},{"$f":"IFERROR(INDEX('[2]wide body (IMA)'!$B$6:$K$73,MATCH(L55,'[2]wide body (IMA)'!$B$6:$B$73,0),4)*1000,INDEX('[2]wide body (IMA)'!$B$6:$K$73,MATCH(M55,'[2]wide body (IMA)'!$B$6:$B$73,0),4)*1000)","v":{"$error":"#N/A"}},{"$f":"B55*(1+'Federal Reserve PPI AC Parts'!$E$12)","v":6752.9170809095722},{"$f":"C55*(1+'Federal Reserve PPI AC Parts'!$E$12)","v":{"$error":"#N/A"}},"Validated Model 2020",7000,{"$error":"#N/A"},{"$f":"IFERROR(INDEX('[2]wide body (IMA)'!$B$6:$K$73,MATCH(L55,'[2]wide body (IMA)'!$B$6:$B$73,0),7),INDEX('[2]wide body (IMA)'!$B$6:$K$73,MATCH(M55,'[2]wide body (IMA)'!$B$6:$B$73,0),7))","v":{"$error":"#N/A"}},1,{"$f":"INDEX('[1]Pt1-DATA'!$A$5:$M$13349,MATCH(A55,'[1]Pt1-DATA'!$C$5:$C$13349,0),6)","v":"CK"},"Avionics Harnesses",null,6038]
["199#1057",{"$f":"IFERROR(INDEX('[1]Pt1-DATA'!$C:$D,MATCH(A56,'[1]Pt1-DATA'!$C:$C,0),2),\"\")","v":43000},{"$f":"IFERROR(INDEX('[2]wide body (IMA)'!$B$6:$K$73,MATCH(L56,'[2]wide body (IMA)'!$B$6:$B$73,0),4)*1000,INDEX('[2]wide body (IMA)'!$B$6:$K$73,MATCH(M56,'[2]wide body (IMA)'!$B$6:$B$73,0),4)*1000)","v":{"$error":"#N/A"}},{"$f":"B56*(1+'Federal Reserve PPI AC Parts'!$E$12)","v":48091.327340031734},{"$f":"C56*(1+'Federal Reserve PPI AC Parts'!$E$12)","v":{"$error":"#N/A"}},"Validated Model 2020",48000,{"$error":"#N/A"},{"$f":"IFERROR(INDEX('[2]wide body (IMA)'!$B$6:$K$73,MATCH(L56,'[2]wide body (IMA)'!$B$6:$B$73,0),7),INDEX('[2]wide body (IMA)'!$B$6:$K$73,MATCH(M56,'[2]wide body (IMA)'!$B$6:$B$73,0),7))","v":{"$error":"#N/A"}},1,{"$f":"INDEX('[1]Pt1-DATA'!$A$5:$M$13349,MATCH(A56,'[1]Pt1-DATA'!$C$5:$C$13349,0),6)","v":"CL"},"Avionics Harnesses",null,43000]
["199#1058",{"$f":"IFERROR(INDEX('[1]Pt1-DATA'!$C:$D,MATCH(A57,'[1]Pt1-DATA'!$C:$C,0),2),\"\")","v":52000},{"$f":"IFERROR(INDEX('[2]wide body (IMA)'!$B$6:$K$73,MATCH(L57,'[2]wide body (IMA)'!$B$6:$B$73,0),4)*1000,INDEX('[2]wide body (IMA)'!$B$6:$K$73,MATCH(M57,'[2]wide body (IMA)'!$B$6:$B$73,0),4)*1000)","v":{"$error":"#N/A"}},{"$f":"B57*(1+'Federal Reserve PPI AC Parts'!$E$12)","v":58156.953992596515},{"$f":"C57*(1+'Federal Reserve PPI AC Parts'!$E$12)","v":{"$error":"#N/A"}},"Validated Model 2020",58000,{"$error":"#N/A"},{"$f":"IFERROR(INDEX('[2]wide body (IMA)'!$B$6:$K$73,MATCH(L57,'[2]wide body (IMA)'!$B$6:$B$73,0),7),INDEX('[2]wide body (IMA)'!$B$6:$K$73,MATCH(M57,'[2]wide body (IMA)'!$B$6:$B$73,0),7))","v":{"$error":"#N/A"}},1,{"$f":"INDEX('[1]Pt1-DATA'!$A$5:$M$13349,MATCH(A57,'[1]Pt1-DATA'!$C$5:$C$13349,0),6)","v":"CK"},"Avionics Harnesses",null,52000]
["199#1059",{"$f":"IFERROR(INDEX('[1]Pt1-DATA'!$C:$D,MATCH(A58,'[1]Pt1-DATA'!$C:$C,0),2),\"\")","v":10750},{"$f":"IFERROR(INDEX('[2]wide body (IMA)'!$B$6:$K$73,MATCH(L58,'[2]wide body (IMA)'!$B$6:$B$73,0),4)*1000,INDEX('[2]wide body (IMA)'!$B$6:$K$73,MATCH(M58,'[2]wide body (IMA)'!$B$6:$B$73,0),4)*1000)","v":{"$error":"#N/A"}},{"$f":"B58*(1+'Federal Reserve PPI AC Parts'!$E$12)","v":12022.831835007933},{"$f":"C58*(1+'Federal Reserve PPI AC Parts'!$E$12)","v":{"$error":"#N/A"}},"Validated Model 2020",12000,{"$error":"#N/A"},{"$f":"IFERROR(INDEX('[2]wide body (IMA)'!$B$6:$K$73,MATCH(L58,'[2]wide body (IMA)'!$B$6:$B$73,0),7),INDEX('[2]wide body (IMA)'!$B$6:$K$73,MATCH(M58,'[2]wide body (IMA)'!$B$6:$B$73,0),7))","v":{"$error":"#N/A"}},1,{"$f":"INDEX('[1]Pt1-DATA'!$A$5:$M$13349,MATCH(A58,'[1]Pt1-DATA'!$C$5:$C$13349,0),6)","v":"CL"},"Avionics Harnesses",null,10750]
[null,{"$f":"IFERROR(INDEX('[1]Pt1-DATA'!$C:$D,MATCH(A59,'[1]Pt1-DATA'!$C:$C,0),2),\"\")","v":""},{"$f":"IFERROR(INDEX('[2]wide body (IMA)'!$B$6:$K$73,MATCH(L59,'[2]wide body (IMA)'!$B$6:$B$73,0),4)*1000,INDEX('[2]wide body (IMA)'!$B$6:$K$73,MATCH(M59,'[2]wide body (IMA)'!$B$6:$B$73,0),4)*1000)","v":0},{"$f":"B59*(1+'Federal Reserve PPI AC Parts'!$E$12)","v":{"$error":"#VALUE!"}},{"$f":"C59*(1+'Federal Reserve PPI AC Parts'!$E$12)","v":0},"Validated PW 2020",{"$f":"E59","v":0},{"$f":"(B59-C59)/C59","v":{"$error":"#VALUE!"}},{"$f":"IFERROR(INDEX('[2]wide body (IMA)'!$B$6:$K$73,MATCH(L59,'[2]wide body (IMA)'!$B$6:$B$73,0),7),INDEX('[2]wide body (IMA)'!$B$6:$K$73,MATCH(M59,'[2]wide body (IMA)'!$B$6:$B$73,0),7))","v":"out of scope"},0,{"$f":"INDEX('[1]Pt1-DATA'!$A$5:$M$13349,MATCH(A59,'[1]Pt1-DATA'!$C$5:$C$13349,0),6)","v":{"$error":"#N/A"}},null,"Thrust levers",""]
[null,{"$f":"IFERROR(INDEX('[1]Pt1-DATA'!$C:$D,MATCH(A60,'[1]Pt1-DATA'!$C:$C,0),2),\"\")","v":""},{"$f":"IFERROR(INDEX('[2]wide body (IMA)'!$B$6:$K$73,MATCH(L60,'[2]wide body (IMA)'!$B$6:$B$73,0),4)*1000,INDEX('[2]wide body (IMA)'!$B$6:$K$73,MATCH(M60,'[2]wide body (IMA)'!$B$6:$B$73,0),4)*1000)","v":0},{"$f":"B60*(1+'Federal Reserve PPI AC Parts'!$E$12)","v":{"$error":"#VALUE!"}},{"$f":"C60*(1+'Federal Reserve PPI AC Parts'!$E$12)","v":0},"Validated PW 2020",{"$f":"E60","v":0},{"$error":"#VALUE!"},{"$f":"IFERROR(INDEX('[2]wide body (IMA)'!$B$6:$K$73,MATCH(L60,'[2]wide body (IMA)'!$B$6:$B$73,0),7),INDEX('[2]wide body (IMA)'!$B$6:$K$73,MATCH(M60,'[2]wide body (IMA)'!$B$6:$B$73,0),7))","v":"Honeywell"},2,{"$f":"INDEX('[1]Pt1-DATA'!$A$5:$M$13349,MATCH(A60,'[1]Pt1-DATA'!$C$5:$C$13349,0),6)","v":{"$error":"#N/A"}},null,"Earth Reference System ",""]
[null,{"$f":"IFERROR(INDEX('[1]Pt1-DATA'!$C:$D,MATCH(A61,'[1]Pt1-DATA'!$C:$C,0),2),\"\")","v":""},{"$f":"IFERROR(INDEX('[2]wide body (IMA)'!$B$6:$K$73,MATCH(L61,'[2]wide body (IMA)'!$B$6:$B$73,0),4)*1000,INDEX('[2]wide body (IMA)'!$B$6:$K$73,MATCH(M61,'[2]wide body (IMA)'!$B$6:$B$73,0),4)*1000)","v":8000},{"$f":"B61*(1+'Federal Reserve PPI AC Parts'!$E$12)","v":{"$error":"#VALUE!"}},{"$f":"C61*(1+'Federal Reserve PPI AC Parts'!$E$12)","v":8947.2236911686941},"Validated PW 2020",8947.2236911686941,{"$error":"#VALUE!"},{"$f":"IFERROR(INDEX('[2]wide body (IMA)'!$B$6:$K$73,MATCH(L61,'[2]wide body (IMA)'!$B$6:$B$73,0),7),INDEX('[2]wide body (IMA)'!$B$6:$K$73,MATCH(M61,'[2]wide body (IMA)'!$B$6:$B$73,0),7))","v":"??"},2,{"$f":"INDEX('[1]Pt1-DATA'!$A$5:$M$13349,MATCH(A61,'[1]Pt1-DATA'!$C$5:$C$13349,0),6)","v":{"$error":"#N/A"}},null,"Pedestal ADS select",""]
[null,{"$f":"IFERROR(INDEX('[1]Pt1-DATA'!$C:$D,MATCH(A62,'[1]Pt1-DATA'!$C:$C,0),2),\"\")","v":""},{"$f":"IFERROR(INDEX('[2]wide body (IMA)'!$B$6:$K$73,MATCH(L62,'[2]wide body (IMA)'!$B$6:$B$73,0),4)*1000,INDEX('[2]wide body (IMA)'!$B$6:$K$73,MATCH(M62,'[2]wide body (IMA)'!$B$6:$B$73,0),4)*1000)","v":6000},{"$f":"B62*(1+'Federal Reserve PPI AC Parts'!$E$12)","v":{"$error":"#VALUE!"}},{"$f":"C62*(1+'Federal Reserve PPI AC Parts'!$E$12)","v":6710.4177683765211},"Validated PW 2020",6710.4177683765211,{"$error":"#VALUE!"},{"$f":"IFERROR(INDEX('[2]wide body (IMA)'!$B$6:$K$73,MATCH(L62,'[2]wide body (IMA)'!$B$6:$B$73,0),7),INDEX('[2]wide body (IMA)'!$B$6:$K$73,MATCH(M62,'[2]wide body (IMA)'!$B$6:$B$73,0),7))","v":"integrated with INR"},0,{"$f":"INDEX('[1]Pt1-DATA'!$A$5:$M$13349,MATCH(A62,'[1]Pt1-DATA'!$C$5:$C$13349,0),6)","v":{"$error":"#N/A"}},null,"GPS receivers",""]
[null,{"$f":"IFERROR(INDEX('[1]Pt1-DATA'!$C:$D,MATCH(A63,'[1]Pt1-DATA'!$C:$C,0),2),\"\")","v":""},{"$f":"IFERROR(INDEX('[2]wide body (IMA)'!$B$6:$K$73,MATCH(L63,'[2]wide body (IMA)'!$B$6:$B$73,0),4)*1000,INDEX('[2]wide body (IMA)'!$B$6:$K$73,MATCH(M63,'[2]wide body (IMA)'!$B$6:$B$73,0),4)*1000)","v":6000},{"$f":"B63*(1+'Federal Reserve PPI AC Parts'!$E$12)","v":{"$error":"#VALUE!"}},{"$f":"C63*(1+'Federal Reserve PPI AC Parts'!$E$12)","v":6710.4177683765211},"Validated PW 2020",6710.4177683765211,{"$error":"#VALUE!"},{"$f":"IFERROR(INDEX('[2]wide body (IMA)'!$B$6:$K$73,MATCH(L63,'[2]wide body (IMA)'!$B$6:$B$73,0),7),INDEX('[2]wide body (IMA)'!$B$6:$K$73,MATCH(M63,'[2]wide body (IMA)'!$B$6:$B$73,0),7))","v":"integrated with INR"},0,{"$f":"INDEX('[1]Pt1-DATA'!$A$5:$M$13349,MATCH(A63,'[1]Pt1-DATA'!$C$5:$C$13349,0),6)","v":{"$error":"#N/A"}},null,"VOR receivers",""]
[null,{"$f":"IFERROR(INDEX('[1]Pt1-DATA'!$C:$D,MATCH(A64,'[1]Pt1-DATA'!$C:$C,0),2),\"\")","v":""},{"$f":"IFERROR(INDEX('[2]wide body (IMA)'!$B$6:$K$73,MATCH(L64,'[2]wide body (IMA)'!$B$6:$B$73,0),4)*1000,INDEX('[2]wide body (IMA)'!$B$6:$K$73,MATCH(M64,'[2]wide body (IMA)'!$B$6:$B$73,0),4)*1000)","v":6000},{"$f":"B64*(1+'Federal Reserve PPI AC Parts'!$E$12)","v":{"$error":"#VALUE!"}},{"$f":"C64*(1+'Federal Reserve PPI AC Parts'!$E$12)","v":6710.4177683765211},"Validated PW 2020",6710.4177683765211,{"$error":"#VALUE!"},{"$f":"IFERROR(INDEX('[2]wide body (IMA)'!$B$6:$K$73,MATCH(L64,'[2]wide body (IMA)'!$B$6:$B$73,0),7),INDEX('[2]wide body (IMA)'!$B$6:$K$73,MATCH(M64,'[2]wide body (IMA)'!$B$6:$B$73,0),7))","v":"integrated with INR"},0,{"$f":"INDEX('[1]Pt1-DATA'!$A$5:$M$13349,MATCH(A64,'[1]Pt1-DATA'!$C$5:$C$13349,0),6)","v":{"$error":"#N/A"}},null,"ILS receivers",""]
[null,{"$f":"IFERROR(INDEX('[1]Pt1-DATA'!$C:$D,MATCH(A65,'[1]Pt1-DATA'!$C:$C,0),2),\"\")","v":""},{"$f":"IFERROR(INDEX('[2]wide body (IMA)'!$B$6:$K$73,MATCH(L65,'[2]wide body (IMA)'!$B$6:$B$73,0),4)*1000,INDEX('[2]wide body (IMA)'!$B$6:$K$73,MATCH(M65,'[2]wide body (IMA)'!$B$6:$B$73,0),4)*1000)","v":0},{"$f":"B65*(1+'Federal Reserve PPI AC Parts'!$E$12)","v":{"$error":"#VALUE!"}},{"$f":"C65*(1+'Federal Reserve PPI AC Parts'!$E$12)","v":0},"Validated PW 2020",0,{"$error":"#VALUE!"},{"$f":"IFERROR(INDEX('[2]wide body (IMA)'!$B$6:$K$73,MATCH(L65,'[2]wide body (IMA)'!$B$6:$B$73,0),7),INDEX('[2]wide body (IMA)'!$B$6:$K$73,MATCH(M65,'[2]wide body (IMA)'!$B$6:$B$73,0),7))","v":"Collins"},2,{"$f":"INDEX('[1]Pt1-DATA'!$A$5:$M$13349,MATCH(A65,'[1]Pt1-DATA'!$C$5:$C$13349,0),6)","v":{"$error":"#N/A"}},null,"Integrated Navigation Radios",""]
[null,{"$f":"IFERROR(INDEX('[1]Pt1-DATA'!$C:$D,MATCH(A66,'[1]Pt1-DATA'!$C:$C,0),2),\"\")","v":""},{"$f":"IFERROR(INDEX('[2]wide body (IMA)'!$B$6:$K$73,MATCH(L66,'[2]wide body (IMA)'!$B$6:$B$73,0),4)*1000,INDEX('[2]wide body (IMA)'!$B$6:$K$73,MATCH(M66,'[2]wide body (IMA)'!$B$6:$B$73,0),4)*1000)","v":0},{"$f":"B66*(1+'Federal Reserve PPI AC Parts'!$E$12)","v":{"$error":"#VALUE!"}},{"$f":"C66*(1+'Federal Reserve PPI AC Parts'!$E$12)","v":0},"Validated PW 2020",0,{"$error":"#VALUE!"},{"$f":"IFERROR(INDEX('[2]wide body (IMA)'!$B$6:$K$73,MATCH(L66,'[2]wide body (IMA)'!$B$6:$B$73,0),7),INDEX('[2]wide body (IMA)'!$B$6:$K$73,MATCH(M66,'[2]wide body (IMA)'!$B$6:$B$73,0),7))","v":"Collins"},2,{"$f":"INDEX('[1]Pt1-DATA'!$A$5:$M$13349,MATCH(A66,'[1]Pt1-DATA'!$C$5:$C$13349,0),6)","v":{"$error":"#N/A"}},null,"Integrated Surveillance System CISS 2100",""]
[null,{"$f":"IFERROR(INDEX('[1]Pt1-DATA'!$C:$D,MATCH(A67,'[1]Pt1-DATA'!$C:$C,0),2),\"\")","v":""},{"$f":"IFERROR(INDEX('[2]wide body (IMA)'!$B$6:$K$73,MATCH(L67,'[2]wide body (IMA)'!$B$6:$B$73,0),4)*1000,INDEX('[2]wide body (IMA)'!$B$6:$K$73,MATCH(M67,'[2]wide body (IMA)'!$B$6:$B$73,0),4)*1000)","v":6000},{"$f":"B67*(1+'Federal Reserve PPI AC Parts'!$E$12)","v":{"$error":"#VALUE!"}},{"$f":"C67*(1+'Federal Reserve PPI AC Parts'!$E$12)","v":6710.4177683765211},"Validated PW 2020",6710.4177683765211,{"$error":"#VALUE!"},{"$f":"IFERROR(INDEX('[2]wide body (IMA)'!$B$6:$K$73,MATCH(L67,'[2]wide body (IMA)'!$B$6:$B$73,0),7),INDEX('[2]wide body (IMA)'!$B$6:$K$73,MATCH(M67,'[2]wide body (IMA)'!$B$6:$B$73,0),7))","v":"Collins"},2,{"$f":"INDEX('[1]Pt1-DATA'!$A$5:$M$13349,MATCH(A67,'[1]Pt1-DATA'!$C$5:$C$13349,0),6)","v":{"$error":"#N/A"}},null,"WX control panel",""]
[null,{"$f":"IFERROR(INDEX('[1]Pt1-DATA'!$C:$D,MATCH(A68,'[1]Pt1-DATA'!$C:$C,0),2),\"\")","v":""},{"$f":"IFERROR(INDEX('[2]wide body (IMA)'!$B$6:$K$73,MATCH(L68,'[2]wide body (IMA)'!$B$6:$B$73,0),4)*1000,INDEX('[2]wide body (IMA)'!$B$6:$K$73,MATCH(M68,'[2]wide body (IMA)'!$B$6:$B$73,0),4)*1000)","v":25000},{"$f":"B68*(1+'Federal Reserve PPI AC Parts'!$E$12)","v":{"$error":"#VALUE!"}},{"$f":"C68*(1+'Federal Reserve PPI AC Parts'!$E$12)","v":27960.074034902173},"Validated PW 2020",27960.074034902173,{"$error":"#VALUE!"},{"$f":"IFERROR(INDEX('[2]wide body (IMA)'!$B$6:$K$73,MATCH(L68,'[2]wide body (IMA)'!$B$6:$B$73,0),7),INDEX('[2]wide body (IMA)'!$B$6:$K$73,MATCH(M68,'[2]wide body (IMA)'!$B$6:$B$73,0),7))","v":"Collins"},2,{"$f":"INDEX('[1]Pt1-DATA'!$A$5:$M$13349,MATCH(A68,'[1]Pt1-DATA'!$C$5:$C$13349,0),6)","v":{"$error":"#N/A"}},null,"TCAS computer",""]
[null,{"$f":"IFERROR(INDEX('[1]Pt1-DATA'!$C:$D,MATCH(A69,'[1]Pt1-DATA'!$C:$C,0),2),\"\")","v":""},{"$f":"IFERROR(INDEX('[2]wide body (IMA)'!$B$6:$K$73,MATCH(L69,'[2]wide body (IMA)'!$B$6:$B$73,0),4)*1000,INDEX('[2]wide body (IMA)'!$B$6:$K$73,MATCH(M69,'[2]wide body (IMA)'!$B$6:$B$73,0),4)*1000)","v":5000},{"$f":"B69*(1+'Federal Reserve PPI AC Parts'!$E$12)","v":{"$error":"#VALUE!"}},{"$f":"C69*(1+'Federal Reserve PPI AC Parts'!$E$12)","v":5592.0148069804345},"Validated PW 2020",5592.0148069804345,{"$error":"#VALUE!"},{"$f":"IFERROR(INDEX('[2]wide body (IMA)'!$B$6:$K$73,MATCH(L69,'[2]wide body (IMA)'!$B$6:$B$73,0),7),INDEX('[2]wide body (IMA)'!$B$6:$K$73,MATCH(M69,'[2]wide body (IMA)'!$B$6:$B$73,0),7))","v":"Collins"},2,{"$f":"INDEX('[1]Pt1-DATA'!$A$5:$M$13349,MATCH(A69,'[1]Pt1-DATA'!$C$5:$C$13349,0),6)","v":{"$error":"#N/A"}},null,"TCAS control panel",""]
[null,{"$f":"IFERROR(INDEX('[1]Pt1-DATA'!$C:$D,MATCH(A70,'[1]Pt1-DATA'!$C:$C,0),2),\"\")","v":""},null,null,null,null,null,null,null,null,null,null,null,""]

{"sheet":"regional","index":7,"n_rows":31,"n_cols":14,"rows_kept":31,"cut":false,"hidden":false,"merged":[]}
["Aircraft:",{"$f":"INDEX('[3]Pt1-AvionicsComponentCosts'!$A$11:$E$384,MATCH(VALUE(LEFT(A5,SEARCH(\"#\",A5)-1)),'[3]Pt1-AvionicsComponentCosts'!$A$11:$A$384,0),5)","v":"Embraer E190"}]
[null,"Avionics Cost 2020",null,null,null,null,"Avionics Cost 2024",null,"% Change 2020 - 2024"]
[null,{"$f":"SUMPRODUCT(B5:B80,J5:J80)","v":2135752},null,null,null,null,{"$f":"SUMPRODUCT(G5:G80,J5:J80)","v":2437350},null,{"$f":"($G$3-$B$3)/$B$3","v":0.1412139611715218}]
[null,"Model 2020","PW 2020","2024 PPI Model","2024 PPI PW","Notes","2024 AE Estimate","Pct Change","Source","#/AC","Factor","Item","Alt Item (PW)","previous"]
["23#709",{"$f":"IFERROR(INDEX('[1]Pt1-DATA'!$C:$D,MATCH(A5,'[1]Pt1-DATA'!$C:$C,0),2),\"\")","v":78282},{"$f":"IFERROR(INDEX([2]regional!$B$6:$K$73,MATCH(L5,[2]regional!$B$6:$B$73,0),4)*1000,INDEX([2]regional!$B$6:$K$73,MATCH(M5,[2]regional!$B$6:$B$73,0),4)*1000)","v":35000},{"$f":"B5*(1+'Federal Reserve PPI AC Parts'!$E$12)","v":87550.820624008469},{"$f":"C5*(1+'Federal Reserve PPI AC Parts'!$E$12)","v":39144.103648863042},"PW Low",90000,{"$f":"(B5-C5)/C5","v":1.2366285714285714},{"$f":"IFERROR(INDEX([2]regional!$B$6:$K$73,MATCH(L5,[2]regional!$B$6:$B$73,0),7),INDEX([2]regional!$B$6:$K$73,MATCH(M5,[2]regional!$B$6:$B$73,0),7))","v":"HWL"},2,{"$f":"INDEX('[1]Pt1-DATA'!$A$5:$M$13349,MATCH(A5,'[1]Pt1-DATA'!$C$5:$C$13349,0),6)","v":"K"},"FMGC","FMZ - 2000 FMS",31312]
["23#710",{"$f":"IFERROR(INDEX('[1]Pt1-DATA'!$C:$D,MATCH(A6,'[1]Pt1-DATA'!$C:$C,0),2),\"\")","v":31313},{"$f":"IFERROR(INDEX([2]regional!$B$6:$K$73,MATCH(L6,[2]regional!$B$6:$B$73,0),4)*1000,INDEX([2]regional!$B$6:$K$73,MATCH(M6,[2]regional!$B$6:$B$73,0),4)*1000)","v":25000},{"$f":"B6*(1+'Federal Reserve PPI AC Parts'!$E$12)","v":35020.551930195667},{"$f":"C6*(1+'Federal Reserve PPI AC Parts'!$E$12)","v":27960.074034902173},"PW Low",35000,{"$f":"(B6-C6)/C6","v":0.25252000000000002},{"$f":"IFERROR(INDEX([2]regional!$B$6:$K$73,MATCH(L6,[2]regional!$B$6:$B$73,0),7),INDEX([2]regional!$B$6:$K$73,MATCH(M6,[2]regional!$B$6:$B$73,0),7))","v":"HWL"},2,{"$f":"INDEX('[1]Pt1-DATA'!$A$5:$M$13349,MATCH(A6,'[1]Pt1-DATA'!$C$5:$C$13349,0),6)","v":"I"},"MCDU","Primus Epic MCDUs",31313]
["23#717",{"$f":"IFERROR(INDEX('[1]Pt1-DATA'!$C:$D,MATCH(A7,'[1]Pt1-DATA'!$C:$C,0),2),\"\")","v":39894},{"$f":"IFERROR(INDEX([2]regional!$B$6:$K$73,MATCH(L7,[2]regional!$B$6:$B$73,0),4)*1000,INDEX([2]regional!$B$6:$K$73,MATCH(M7,[2]regional!$B$6:$B$73,0),4)*1000)","v":20000},{"$f":"B7*(1+'Federal Reserve PPI AC Parts'!$E$12)","v":44617.567741935491},{"$f":"C7*(1+'Federal Reserve PPI AC Parts'!$E$12)","v":22368.059227921738},"PW Low",45000,0.99470000000000003,{"$f":"IFERROR(INDEX([2]regional!$B$6:$K$73,MATCH(L7,[2]regional!$B$6:$B$73,0),7),INDEX([2]regional!$B$6:$K$73,MATCH(M7,[2]regional!$B$6:$B$73,0),7))","v":"HWL"},3,{"$f":"INDEX('[1]Pt1-DATA'!$A$5:$M$13349,MATCH(A7,'[1]Pt1-DATA'!$C$5:$C$13349,0),6)","v":"E"},"ADIRU","Air Data System",39894]
["23#726",{"$f":"IFERROR(INDEX('[1]Pt1-DATA'!$C:$D,MATCH(A8,'[1]Pt1-DATA'!$C:$C,0),2),\"\")","v":50606},{"$f":"IFERROR(INDEX([2]regional!$B$6:$K$73,MATCH(L8,[2]regional!$B$6:$B$73,0),4)*1000,INDEX([2]regional!$B$6:$K$73,MATCH(M8,[2]regional!$B$6:$B$73,0),4)*1000)","v":45000},{"$f":"B8*(1+'Federal Reserve PPI AC Parts'!$E$12)","v":56597.900264410375},{"$f":"C8*(1+'Federal Reserve PPI AC Parts'!$E$12)","v":50328.133262823911},"PW Low",57000,0.12457777777777777,{"$f":"IFERROR(INDEX([2]regional!$B$6:$K$73,MATCH(L8,[2]regional!$B$6:$B$73,0),7),INDEX([2]regional!$B$6:$K$73,MATCH(M8,[2]regional!$B$6:$B$73,0),7))","v":"HWL"},5,{"$f":"INDEX('[1]Pt1-DATA'!$A$5:$M$13349,MATCH(A8,'[1]Pt1-DATA'!$C$5:$C$13349,0),6)","v":"E"},"Primary Flight Display (EFIS)","Primus Epic displays",50606]
["23#730",{"$f":"IFERROR(INDEX('[1]Pt1-DATA'!$C:$D,MATCH(A9,'[1]Pt1-DATA'!$C:$C,0),2),\"\")","v":65788},{"$f":"IFERROR(INDEX([2]regional!$B$6:$K$73,MATCH(L9,[2]regional!$B$6:$B$73,0),4)*1000,INDEX([2]regional!$B$6:$K$73,MATCH(M9,[2]regional!$B$6:$B$73,0),4)*1000)","v":65000},{"$f":"B9*(1+'Federal Reserve PPI AC Parts'!$E$12)","v":73577.494024325759},{"$f":"C9*(1+'Federal Reserve PPI AC Parts'!$E$12)","v":72696.192490745641},"Validated PW 2020",73000,1.2123076923076924E-2,{"$f":"IFERROR(INDEX([2]regional!$B$6:$K$73,MATCH(L9,[2]regional!$B$6:$B$73,0),7),INDEX([2]regional!$B$6:$K$73,MATCH(M9,[2]regional!$B$6:$B$73,0),7))","v":"Collins"},2,{"$f":"INDEX('[1]Pt1-DATA'!$A$5:$M$13349,MATCH(A9,'[1]Pt1-DATA'!$C$5:$C$13349,0),6)","v":"C"},"HUD display system","Head Up Guidance System",65788]
["23#741",{"$f":"IFERROR(INDEX('[1]Pt1-DATA'!$C:$D,MATCH(A10,'[1]Pt1-DATA'!$C:$C,0),2),\"\")","v":29353},{"$f":"IFERROR(INDEX([2]regional!$B$6:$K$73,MATCH(L10,[2]regional!$B$6:$B$73,0),4)*1000,INDEX([2]regional!$B$6:$K$73,MATCH(M10,[2]regional!$B$6:$B$73,0),4)*1000)","v":20000},{"$f":"B10*(1+'Federal Reserve PPI AC Parts'!$E$12)","v":32828.482125859337},{"$f":"C10*(1+'Federal Reserve PPI AC Parts'!$E$12)","v":22368.059227921738},"PW Low",33000,0.46765000000000001,{"$f":"IFERROR(INDEX([2]regional!$B$6:$K$73,MATCH(L10,[2]regional!$B$6:$B$73,0),7),INDEX([2]regional!$B$6:$K$73,MATCH(M10,[2]regional!$B$6:$B$73,0),7))","v":"HWL"},2,{"$f":"INDEX('[1]Pt1-DATA'!$A$5:$M$13349,MATCH(A10,'[1]Pt1-DATA'!$C$5:$C$13349,0),6)","v":"F"},"Radio management system","Intergated Radio System",29353]
["23#742",{"$f":"IFERROR(INDEX('[1]Pt1-DATA'!$C:$D,MATCH(A11,'[1]Pt1-DATA'!$C:$C,0),2),\"\")","v":6849},{"$f":"IFERROR(INDEX([2]regional!$B$6:$K$73,MATCH(L11,[2]regional!$B$6:$B$73,0),4)*1000,INDEX([2]regional!$B$6:$K$73,MATCH(M11,[2]regional!$B$6:$B$73,0),4)*1000)","v":7000},{"$f":"B11*(1+'Federal Reserve PPI AC Parts'!$E$12)","v":7659.9418826017991},{"$f":"C11*(1+'Federal Reserve PPI AC Parts'!$E$12)","v":7828.8207297726076},"Validated PW 2020",8000,-2.1571428571428571E-2,{"$f":"IFERROR(INDEX([2]regional!$B$6:$K$73,MATCH(L11,[2]regional!$B$6:$B$73,0),7),INDEX([2]regional!$B$6:$K$73,MATCH(M11,[2]regional!$B$6:$B$73,0),7))","v":0},3,{"$f":"INDEX('[1]Pt1-DATA'!$A$5:$M$13349,MATCH(A11,'[1]Pt1-DATA'!$C$5:$C$13349,0),6)","v":"E"},"Audio Control Panel",null,6849]
["23#746",{"$f":"IFERROR(INDEX('[1]Pt1-DATA'!$C:$D,MATCH(A12,'[1]Pt1-DATA'!$C:$C,0),2),\"\")","v":32999},{"$f":"IFERROR(INDEX([2]regional!$B$6:$K$73,MATCH(L12,[2]regional!$B$6:$B$73,0),4)*1000,INDEX([2]regional!$B$6:$K$73,MATCH(M12,[2]regional!$B$6:$B$73,0),4)*1000)","v":18000},{"$f":"B12*(1+'Federal Reserve PPI AC Parts'!$E$12)","v":36906.179323109471},{"$f":"C12*(1+'Federal Reserve PPI AC Parts'!$E$12)","v":20131.253305129565},"PW Low",37000,0.83327777777777778,{"$f":"IFERROR(INDEX([2]regional!$B$6:$K$73,MATCH(L12,[2]regional!$B$6:$B$73,0),7),INDEX([2]regional!$B$6:$K$73,MATCH(M12,[2]regional!$B$6:$B$73,0),7))","v":"HWL"},1,{"$f":"INDEX('[1]Pt1-DATA'!$A$5:$M$13349,MATCH(A12,'[1]Pt1-DATA'!$C$5:$C$13349,0),6)","v":"E"},"Weather WX radar system","Weather Radar System",32999]
["23#748",{"$f":"IFERROR(INDEX('[1]Pt1-DATA'!$C:$D,MATCH(A13,'[1]Pt1-DATA'!$C:$C,0),2),\"\")","v":50646},{"$f":"IFERROR(INDEX([2]regional!$B$6:$K$73,MATCH(L13,[2]regional!$B$6:$B$73,0),4)*1000,INDEX([2]regional!$B$6:$K$73,MATCH(M13,[2]regional!$B$6:$B$73,0),4)*1000)","v":18000},{"$f":"B13*(1+'Federal Reserve PPI AC Parts'!$E$12)","v":56642.636382866214},{"$f":"C13*(1+'Federal Reserve PPI AC Parts'!$E$12)","v":20131.253305129565},"PW Low",57000,1.8136666666666668,{"$f":"IFERROR(INDEX([2]regional!$B$6:$K$73,MATCH(L13,[2]regional!$B$6:$B$73,0),7),INDEX([2]regional!$B$6:$K$73,MATCH(M13,[2]regional!$B$6:$B$73,0),7))","v":"HWL"},1,{"$f":"INDEX('[1]Pt1-DATA'!$A$5:$M$13349,MATCH(A13,'[1]Pt1-DATA'!$C$5:$C$13349,0),6)","v":"O"},"Ground Proximity Warning System (GPWS/EGPWS)","EGPWS",50646]
["23#749",{"$f":"IFERROR(INDEX('[1]Pt1-DATA'!$C:$D,MATCH(A14,'[1]Pt1-DATA'!$C:$C,0),2),\"\")","v":0},{"$f":"IFERROR(INDEX([2]regional!$B$6:$K$73,MATCH(L14,[2]regional!$B$6:$B$73,0),4)*1000,INDEX([2]regional!$B$6:$K$73,MATCH(M14,[2]regional!$B$6:$B$73,0),4)*1000)","v":18000},{"$f":"B14*(1+'Federal Reserve PPI AC Parts'!$E$12)","v":0},{"$f":"C14*(1+'Federal Reserve PPI AC Parts'!$E$12)","v":20131.253305129565},"Validated PW 2020",21000,-1,{"$f":"IFERROR(INDEX([2]regional!$B$6:$K$73,MATCH(L14,[2]regional!$B$6:$B$73,0),7),INDEX([2]regional!$B$6:$K$73,MATCH(M14,[2]regional!$B$6:$B$73,0),7))","v":"HWL"},1,{"$f":"INDEX('[1]Pt1-DATA'!$A$5:$M$13349,MATCH(A14,'[1]Pt1-DATA'!$C$5:$C$13349,0),6)","v":"A2"},"TCAS computer","TCAS",0]
["23#759",{"$f":"IFERROR(INDEX('[1]Pt1-DATA'!$C:$D,MATCH(A15,'[1]Pt1-DATA'!$C:$C,0),2),\"\")","v":13808},{"$f":"IFERROR(INDEX([2]regional!$B$6:$K$73,MATCH(L15,[2]regional!$B$6:$B$73,0),4)*1000,INDEX([2]regional!$B$6:$K$73,MATCH(M15,[2]regional!$B$6:$B$73,0),4)*1000)","v":12000},{"$f":"B15*(1+'Federal Reserve PPI AC Parts'!$E$12)","v":15442.908090957168},{"$f":"C15*(1+'Federal Reserve PPI AC Parts'!$E$12)","v":13420.835536753042},"Validated PW 2020",14000,0.15066666666666667,{"$f":"IFERROR(INDEX([2]regional!$B$6:$K$73,MATCH(L15,[2]regional!$B$6:$B$73,0),7),INDEX([2]regional!$B$6:$K$73,MATCH(M15,[2]regional!$B$6:$B$73,0),7))","v":0},2,{"$f":"INDEX('[1]Pt1-DATA'!$A$5:$M$13349,MATCH(A15,'[1]Pt1-DATA'!$C$5:$C$13349,0),6)","v":"A"},"Electronic Flight Bags (EFBs)","Electronic Flight Bag",13808]
["23#764",{"$f":"IFERROR(INDEX('[1]Pt1-DATA'!$C:$D,MATCH(A16,'[1]Pt1-DATA'!$C:$C,0),2),\"\")","v":15958},{"$f":"IFERROR(INDEX([2]regional!$B$6:$K$73,MATCH(L16,[2]regional!$B$6:$B$73,0),4)*1000,INDEX([2]regional!$B$6:$K$73,MATCH(M16,[2]regional!$B$6:$B$73,0),4)*1000)","v":18000},{"$f":"B16*(1+'Federal Reserve PPI AC Parts'!$E$12)","v":17847.474457958753},{"$f":"C16*(1+'Federal Reserve PPI AC Parts'!$E$12)","v":20131.253305129565},"Validated PW 2020",21000,-0.11344444444444444,{"$f":"IFERROR(INDEX([2]regional!$B$6:$K$73,MATCH(L16,[2]regional!$B$6:$B$73,0),7),INDEX([2]regional!$B$6:$K$73,MATCH(M16,[2]regional!$B$6:$B$73,0),7))","v":"HWL"},1,{"$f":"INDEX('[1]Pt1-DATA'!$A$5:$M$13349,MATCH(A16,'[1]Pt1-DATA'!$C$5:$C$13349,0),6)","v":"F2"},"Radar altimeters","Radio Altimeter",15958]
["23#802",{"$f":"IFERROR(INDEX('[1]Pt1-DATA'!$C:$D,MATCH(A17,'[1]Pt1-DATA'!$C:$C,0),2),\"\")","v":60728},{"$f":"IFERROR(INDEX([2]regional!$B$6:$K$73,MATCH(L17,[2]regional!$B$6:$B$73,0),4)*1000,INDEX([2]regional!$B$6:$K$73,MATCH(M17,[2]regional!$B$6:$B$73,0),4)*1000)","v":30000},{"$f":"B17*(1+'Federal Reserve PPI AC Parts'!$E$12)","v":67918.375039661565},{"$f":"C17*(1+'Federal Reserve PPI AC Parts'!$E$12)","v":33552.088841882607},"PW Low",70000,1.0242666666666667,{"$f":"IFERROR(INDEX([2]regional!$B$6:$K$73,MATCH(L17,[2]regional!$B$6:$B$73,0),7),INDEX([2]regional!$B$6:$K$73,MATCH(M17,[2]regional!$B$6:$B$73,0),7))","v":"HWL"},3,{"$f":"INDEX('[1]Pt1-DATA'!$A$5:$M$13349,MATCH(A17,'[1]Pt1-DATA'!$C$5:$C$13349,0),6)","v":"A"},"Display Controllers",null,60728]
["23#803",{"$f":"IFERROR(INDEX('[1]Pt1-DATA'!$C:$D,MATCH(A18,'[1]Pt1-DATA'!$C:$C,0),2),\"\")","v":28369},{"$f":"IFERROR(INDEX([2]regional!$B$6:$K$73,MATCH(L18,[2]regional!$B$6:$B$73,0),4)*1000,INDEX([2]regional!$B$6:$K$73,MATCH(M18,[2]regional!$B$6:$B$73,0),4)*1000)","v":25000},{"$f":"B18*(1+'Federal Reserve PPI AC Parts'!$E$12)","v":31727.973611845588},{"$f":"C18*(1+'Federal Reserve PPI AC Parts'!$E$12)","v":27960.074034902173},"PW Low",32000,0.13475999999999999,{"$f":"IFERROR(INDEX([2]regional!$B$6:$K$73,MATCH(L18,[2]regional!$B$6:$B$73,0),7),INDEX([2]regional!$B$6:$K$73,MATCH(M18,[2]regional!$B$6:$B$73,0),7))","v":"HWL"},4,{"$f":"INDEX('[1]Pt1-DATA'!$A$5:$M$13349,MATCH(A18,'[1]Pt1-DATA'!$C$5:$C$13349,0),6)","v":"A"},"IRS Gyroscope System",null,28369]
["23#804",{"$f":"IFERROR(INDEX('[1]Pt1-DATA'!$C:$D,MATCH(A19,'[1]Pt1-DATA'!$C:$C,0),2),\"\")","v":56029},{"$f":"IFERROR(INDEX([2]regional!$B$6:$K$73,MATCH(L19,[2]regional!$B$6:$B$73,0),4)*1000,INDEX([2]regional!$B$6:$K$73,MATCH(M19,[2]regional!$B$6:$B$73,0),4)*1000)","v":35000},{"$f":"B19*(1+'Federal Reserve PPI AC Parts'!$E$12)","v":62662.99952406135},{"$f":"C19*(1+'Federal Reserve PPI AC Parts'!$E$12)","v":39144.103648863042},"PW Low",64000,0.60082857142857138,{"$f":"IFERROR(INDEX([2]regional!$B$6:$K$73,MATCH(L19,[2]regional!$B$6:$B$73,0),7),INDEX([2]regional!$B$6:$K$73,MATCH(M19,[2]regional!$B$6:$B$73,0),7))","v":"HWL"},1,{"$f":"INDEX('[1]Pt1-DATA'!$A$5:$M$13349,MATCH(A19,'[1]Pt1-DATA'!$C$5:$C$13349,0),6)","v":"H"},"Flight Guidance System (A/Pilot)",null,56029]
["23#805",{"$f":"IFERROR(INDEX('[1]Pt1-DATA'!$C:$D,MATCH(A20,'[1]Pt1-DATA'!$C:$C,0),2),\"\")","v":156228},{"$f":"IFERROR(INDEX([2]regional!$B$6:$K$73,MATCH(L20,[2]regional!$B$6:$B$73,0),4)*1000,INDEX([2]regional!$B$6:$K$73,MATCH(M20,[2]regional!$B$6:$B$73,0),4)*1000)","v":50000},{"$f":"B20*(1+'Federal Reserve PPI AC Parts'!$E$12)","v":174725.85785298786},{"$f":"C20*(1+'Federal Reserve PPI AC Parts'!$E$12)","v":55920.148069804345},"PW Low",175000,2.1245599999999998,{"$f":"IFERROR(INDEX([2]regional!$B$6:$K$73,MATCH(L20,[2]regional!$B$6:$B$73,0),7),INDEX([2]regional!$B$6:$K$73,MATCH(M20,[2]regional!$B$6:$B$73,0),7))","v":"HWl"},3,{"$f":"INDEX('[1]Pt1-DATA'!$A$5:$M$13349,MATCH(A20,'[1]Pt1-DATA'!$C$5:$C$13349,0),6)","v":"B"},"Modular Avionic Unit, 1,2 and 3",null,156228]
["23#806",{"$f":"IFERROR(INDEX('[1]Pt1-DATA'!$C:$D,MATCH(A21,'[1]Pt1-DATA'!$C:$C,0),2),\"\")","v":11741},{"$f":"IFERROR(INDEX([2]regional!$B$6:$K$73,MATCH(L21,[2]regional!$B$6:$B$73,0),4)*1000,INDEX([2]regional!$B$6:$K$73,MATCH(M21,[2]regional!$B$6:$B$73,0),4)*1000)","v":8000},{"$f":"B21*(1+'Federal Reserve PPI AC Parts'!$E$12)","v":13131.169169751456},{"$f":"C21*(1+'Federal Reserve PPI AC Parts'!$E$12)","v":8947.2236911686941},"PW Low",14000,0.46762500000000001,{"$f":"IFERROR(INDEX([2]regional!$B$6:$K$73,MATCH(L21,[2]regional!$B$6:$B$73,0),7),INDEX([2]regional!$B$6:$K$73,MATCH(M21,[2]regional!$B$6:$B$73,0),7))","v":"???"},4,{"$f":"INDEX('[1]Pt1-DATA'!$A$5:$M$13349,MATCH(A21,'[1]Pt1-DATA'!$C$5:$C$13349,0),6)","v":"B"},"Radio Antennas",null,11741]
["23#807",{"$f":"IFERROR(INDEX('[1]Pt1-DATA'!$C:$D,MATCH(A22,'[1]Pt1-DATA'!$C:$C,0),2),\"\")","v":7700},{"$f":"IFERROR(INDEX([2]regional!$B$6:$K$73,MATCH(L22,[2]regional!$B$6:$B$73,0),4)*1000,INDEX([2]regional!$B$6:$K$73,MATCH(M22,[2]regional!$B$6:$B$73,0),4)*1000)","v":7000},{"$f":"B22*(1+'Federal Reserve PPI AC Parts'!$E$12)","v":8611.7028027498691},{"$f":"C22*(1+'Federal Reserve PPI AC Parts'!$E$12)","v":7828.8207297726076},"PW Low",9000,0.1,{"$f":"IFERROR(INDEX([2]regional!$B$6:$K$73,MATCH(L22,[2]regional!$B$6:$B$73,0),7),INDEX([2]regional!$B$6:$K$73,MATCH(M22,[2]regional!$B$6:$B$73,0),7))","v":"???"},8,{"$f":"INDEX('[1]Pt1-DATA'!$A$5:$M$13349,MATCH(A22,'[1]Pt1-DATA'!$C$5:$C$13349,0),6)","v":"A"},"Pitot Static sensors",null,7700]
["23#808",{"$f":"IFERROR(INDEX('[1]Pt1-DATA'!$C:$D,MATCH(A23,'[1]Pt1-DATA'!$C:$C,0),2),\"\")","v":3037},{"$f":"IFERROR(INDEX([2]regional!$B$6:$K$73,MATCH(L23,[2]regional!$B$6:$B$73,0),4)*1000,INDEX([2]regional!$B$6:$K$73,MATCH(M23,[2]regional!$B$6:$B$73,0),4)*1000)","v":3000},{"$f":"B23*(1+'Federal Reserve PPI AC Parts'!$E$12)","v":3396.5897937599157},{"$f":"C23*(1+'Federal Reserve PPI AC Parts'!$E$12)","v":3355.2088841882605},"Validated PW 2020",3500,1.2333333333333333E-2,{"$f":"IFERROR(INDEX([2]regional!$B$6:$K$73,MATCH(L23,[2]regional!$B$6:$B$73,0),7),INDEX([2]regional!$B$6:$K$73,MATCH(M23,[2]regional!$B$6:$B$73,0),7))","v":"HWL"},2,{"$f":"INDEX('[1]Pt1-DATA'!$A$5:$M$13349,MATCH(A23,'[1]Pt1-DATA'!$C$5:$C$13349,0),6)","v":"A"},"Cursor Control Device",null,3037]
["23#809",{"$f":"IFERROR(INDEX('[1]Pt1-DATA'!$C:$D,MATCH(A24,'[1]Pt1-DATA'!$C:$C,0),2),\"\")","v":34520},{"$f":"IFERROR(INDEX([2]regional!$B$6:$K$73,MATCH(L24,[2]regional!$B$6:$B$73,0),4)*1000,INDEX([2]regional!$B$6:$K$73,MATCH(M24,[2]regional!$B$6:$B$73,0),4)*1000)","v":30000},{"$f":"B24*(1+'Federal Reserve PPI AC Parts'!$E$12)","v":38607.270227392917},{"$f":"C24*(1+'Federal Reserve PPI AC Parts'!$E$12)","v":33552.088841882607},"PW Low",39000,0.15066666666666667,{"$f":"IFERROR(INDEX([2]regional!$B$6:$K$73,MATCH(L24,[2]regional!$B$6:$B$73,0),7),INDEX([2]regional!$B$6:$K$73,MATCH(M24,[2]regional!$B$6:$B$73,0),7))","v":0},1,{"$f":"INDEX('[1]Pt1-DATA'!$A$5:$M$13349,MATCH(A24,'[1]Pt1-DATA'!$C$5:$C$13349,0),6)","v":"A"},"Digital Voice & Data Recorder",null,34520]
["23#810",{"$f":"IFERROR(INDEX('[1]Pt1-DATA'!$C:$D,MATCH(A25,'[1]Pt1-DATA'!$C:$C,0),2),\"\")","v":25303},{"$f":"IFERROR(INDEX([2]regional!$B$6:$K$73,MATCH(L25,[2]regional!$B$6:$B$73,0),4)*1000,INDEX([2]regional!$B$6:$K$73,MATCH(M25,[2]regional!$B$6:$B$73,0),4)*1000)","v":25000},{"$f":"B25*(1+'Federal Reserve PPI AC Parts'!$E$12)","v":28298.950132205187},{"$f":"C25*(1+'Federal Reserve PPI AC Parts'!$E$12)","v":27960.074034902173},"Validated PW 2020",28000,1.2120000000000001E-2,{"$f":"IFERROR(INDEX([2]regional!$B$6:$K$73,MATCH(L25,[2]regional!$B$6:$B$73,0),7),INDEX([2]regional!$B$6:$K$73,MATCH(M25,[2]regional!$B$6:$B$73,0),7))","v":0},1,{"$f":"INDEX('[1]Pt1-DATA'!$A$5:$M$13349,MATCH(A25,'[1]Pt1-DATA'!$C$5:$C$13349,0),6)","v":"A"},"Integrated Electronic Standby System",null,25303]
["23#879",{"$f":"IFERROR(INDEX('[1]Pt1-DATA'!$C:$D,MATCH(A26,'[1]Pt1-DATA'!$C:$C,0),2),\"\")","v":101976},{"$f":"IFERROR(INDEX([2]regional!$B$6:$K$73,MATCH(L26,[2]regional!$B$6:$B$73,0),4)*1000,INDEX([2]regional!$B$6:$K$73,MATCH(M26,[2]regional!$B$6:$B$73,0),4)*1000)","v":{"$error":"#N/A"}},{"$f":"B26*(1+'Federal Reserve PPI AC Parts'!$E$12)","v":114050.26039132735},{"$f":"C26*(1+'Federal Reserve PPI AC Parts'!$E$12)","v":{"$error":"#N/A"}},"Validated Model 2020",115000,{"$error":"#N/A"},{"$f":"IFERROR(INDEX([2]regional!$B$6:$K$73,MATCH(L26,[2]regional!$B$6:$B$73,0),7),INDEX([2]regional!$B$6:$K$73,MATCH(M26,[2]regional!$B$6:$B$73,0),7))","v":{"$error":"#N/A"}},1,{"$f":"INDEX('[1]Pt1-DATA'!$A$5:$M$13349,MATCH(A26,'[1]Pt1-DATA'!$C$5:$C$13349,0),6)","v":"P"},"Software",null,101976]
["23#880",{"$f":"IFERROR(INDEX('[1]Pt1-DATA'!$C:$D,MATCH(A27,'[1]Pt1-DATA'!$C:$C,0),2),\"\")","v":32999},{"$f":"IFERROR(INDEX([2]regional!$B$6:$K$73,MATCH(L27,[2]regional!$B$6:$B$73,0),4)*1000,INDEX([2]regional!$B$6:$K$73,MATCH(M27,[2]regional!$B$6:$B$73,0),4)*1000)","v":{"$error":"#N/A"}},{"$f":"B27*(1+'Federal Reserve PPI AC Parts'!$E$12)","v":36906.179323109471},{"$f":"C27*(1+'Federal Reserve PPI AC Parts'!$E$12)","v":{"$error":"#N/A"}},"Validated Model 2020",37000,{"$error":"#N/A"},{"$f":"IFERROR(INDEX([2]regional!$B$6:$K$73,MATCH(L27,[2]regional!$B$6:$B$73,0),7),INDEX([2]regional!$B$6:$K$73,MATCH(M27,[2]regional!$B$6:$B$73,0),7))","v":{"$error":"#N/A"}},2,{"$f":"INDEX('[1]Pt1-DATA'!$A$5:$M$13349,MATCH(A27,'[1]Pt1-DATA'!$C$5:$C$13349,0),6)","v":"J"},"Air data sensors",null,32999]
["23#1056",{"$f":"IFERROR(INDEX('[1]Pt1-DATA'!$C:$D,MATCH(A28,'[1]Pt1-DATA'!$C:$C,0),2),\"\")","v":2322},{"$f":"IFERROR(INDEX([2]regional!$B$6:$K$73,MATCH(L28,[2]regional!$B$6:$B$73,0),4)*1000,INDEX([2]regional!$B$6:$K$73,MATCH(M28,[2]regional!$B$6:$B$73,0),4)*1000)","v":{"$error":"#N/A"}},{"$f":"B28*(1+'Federal Reserve PPI AC Parts'!$E$12)","v":2596.9316763617135},{"$f":"C28*(1+'Federal Reserve PPI AC Parts'!$E$12)","v":{"$error":"#N/A"}},"Validated Model 2020",2600,{"$error":"#N/A"},{"$f":"IFERROR(INDEX([2]regional!$B$6:$K$73,MATCH(L28,[2]regional!$B$6:$B$73,0),7),INDEX([2]regional!$B$6:$K$73,MATCH(M28,[2]regional!$B$6:$B$73,0),7))","v":{"$error":"#N/A"}},1,{"$f":"INDEX('[1]Pt1-DATA'!$A$5:$M$13349,MATCH(A28,'[1]Pt1-DATA'!$C$5:$C$13349,0),6)","v":"BO"},"Avionics Harnesses",null,2322]
["23#1057",{"$f":"IFERROR(INDEX('[1]Pt1-DATA'!$C:$D,MATCH(A29,'[1]Pt1-DATA'!$C:$C,0),2),\"\")","v":16538},{"$f":"IFERROR(INDEX([2]regional!$B$6:$K$73,MATCH(L29,[2]regional!$B$6:$B$73,0),4)*1000,INDEX([2]regional!$B$6:$K$73,MATCH(M29,[2]regional!$B$6:$B$73,0),4)*1000)","v":{"$error":"#N/A"}},{"$f":"B29*(1+'Federal Reserve PPI AC Parts'!$E$12)","v":18496.148175568484},{"$f":"C29*(1+'Federal Reserve PPI AC Parts'!$E$12)","v":{"$error":"#N/A"}},"Validated Model 2020",19000,{"$error":"#N/A"},{"$f":"IFERROR(INDEX([2]regional!$B$6:$K$73,MATCH(L29,[2]regional!$B$6:$B$73,0),7),INDEX([2]regional!$B$6:$K$73,MATCH(M29,[2]regional!$B$6:$B$73,0),7))","v":{"$error":"#N/A"}},1,{"$f":"INDEX('[1]Pt1-DATA'!$A$5:$M$13349,MATCH(A29,'[1]Pt1-DATA'!$C$5:$C$13349,0),6)","v":"BO"},"Avionics Harnesses",null,16538]
["23#1058",{"$f":"IFERROR(INDEX('[1]Pt1-DATA'!$C:$D,MATCH(A30,'[1]Pt1-DATA'!$C:$C,0),2),\"\")","v":20000},{"$f":"IFERROR(INDEX([2]regional!$B$6:$K$73,MATCH(L30,[2]regional!$B$6:$B$73,0),4)*1000,INDEX([2]regional!$B$6:$K$73,MATCH(M30,[2]regional!$B$6:$B$73,0),4)*1000)","v":{"$error":"#N/A"}},{"$f":"B30*(1+'Federal Reserve PPI AC Parts'!$E$12)","v":22368.059227921738},{"$f":"C30*(1+'Federal Reserve PPI AC Parts'!$E$12)","v":{"$error":"#N/A"}},"Validated Model 2020",23000,{"$error":"#N/A"},{"$f":"IFERROR(INDEX([2]regional!$B$6:$K$73,MATCH(L30,[2]regional!$B$6:$B$73,0),7),INDEX([2]regional!$B$6:$K$73,MATCH(M30,[2]regional!$B$6:$B$73,0),7))","v":{"$error":"#N/A"}},1,{"$f":"INDEX('[1]Pt1-DATA'!$A$5:$M$13349,MATCH(A30,'[1]Pt1-DATA'!$C$5:$C$13349,0),6)","v":"BO"},"Avionics Harnesses",null,20000]
["23#1059",{"$f":"IFERROR(INDEX('[1]Pt1-DATA'!$C:$D,MATCH(A31,'[1]Pt1-DATA'!$C:$C,0),2),\"\")","v":4134},{"$f":"IFERROR(INDEX([2]regional!$B$6:$K$73,MATCH(L31,[2]regional!$B$6:$B$73,0),4)*1000,INDEX([2]regional!$B$6:$K$73,MATCH(M31,[2]regional!$B$6:$B$73,0),4)*1000)","v":{"$error":"#N/A"}},{"$f":"B31*(1+'Federal Reserve PPI AC Parts'!$E$12)","v":4623.4778424114229},{"$f":"C31*(1+'Federal Reserve PPI AC Parts'!$E$12)","v":{"$error":"#N/A"}},"Validated Model 2020",4750,{"$error":"#N/A"},{"$f":"IFERROR(INDEX([2]regional!$B$6:$K$73,MATCH(L31,[2]regional!$B$6:$B$73,0),7),INDEX([2]regional!$B$6:$K$73,MATCH(M31,[2]regional!$B$6:$B$73,0),7))","v":{"$error":"#N/A"}},1,{"$f":"INDEX('[1]Pt1-DATA'!$A$5:$M$13349,MATCH(A31,'[1]Pt1-DATA'!$C$5:$C$13349,0),6)","v":"BO"},"Avionics Harnesses",null,4134]

{"sheet":"mil trainer","index":8,"n_rows":26,"n_cols":14,"rows_kept":26,"cut":false,"hidden":false,"merged":[]}
["Aircraft:",{"$f":"INDEX('[3]Pt1-AvionicsComponentCosts'!$A$11:$E$384,MATCH(VALUE(LEFT(A5,SEARCH(\"#\",A5)-1)),'[3]Pt1-AvionicsComponentCosts'!$A$11:$A$384,0),5)","v":"BAE Systems Hawk"}]
[null,"Avionics Cost 2020",null,null,null,null,"Avionics Cost 2024",null,"% Change 2020 - 2024"]
[null,{"$f":"SUMPRODUCT(B5:B80,J5:J80)","v":1672408},null,null,null,null,{"$f":"SUMPRODUCT(G5:G80,J5:J80)","v":1890557.3131676365},null,{"$f":"($G$3-$B$3)/$B$3","v":0.13044024733655693}]
[null,"Model 2020","PW 2020","2024 PPI Model","2024 PPI PW","Notes","2024 AE Estimate","Pct Change","Source","#/AC","Factor","Item","Alt Item (PW)","previous"]
["167#730",{"$f":"IFERROR(INDEX('[1]Pt1-DATA'!$C:$D,MATCH(A5,'[1]Pt1-DATA'!$C:$C,0),2),\"\")","v":70849},{"$f":"IFERROR(INDEX('[2]mil trainer'!$B$6:$K$73,MATCH(L5,'[2]mil trainer'!$B$6:$B$73,0),4)*1000,INDEX('[2]mil trainer'!$B$6:$K$73,MATCH(M5,'[2]mil trainer'!$B$6:$B$73,0),4)*1000)","v":70000},{"$f":"B5*(1+'Federal Reserve PPI AC Parts'!$E$12)","v":79237.731411951361},{"$f":"C5*(1+'Federal Reserve PPI AC Parts'!$E$12)","v":78288.207297726083},"Used Model 2024",{"$f":"D5","v":79237.731411951361},{"$f":"(B5-C5)/C5","v":1.2128571428571428E-2},{"$f":"IFERROR(INDEX('[2]mil trainer'!$B$6:$K$73,MATCH(L5,'[2]mil trainer'!$B$6:$B$73,0),8),INDEX('[2]mil trainer'!$B$6:$K$73,MATCH(M5,'[2]mil trainer'!$B$6:$B$73,0),8))","v":"BAE Systems"},1,{"$f":"INDEX('[1]Pt1-DATA'!$A$5:$M$13349,MATCH(A5,'[1]Pt1-DATA'!$C$5:$C$13349,0),6)","v":"D"},"HUD display system","HUD",70849]
["167#748",{"$f":"IFERROR(INDEX('[1]Pt1-DATA'!$C:$D,MATCH(A6,'[1]Pt1-DATA'!$C:$C,0),2),\"\")","v":81034},{"$f":"IFERROR(INDEX('[2]mil trainer'!$B$6:$K$73,MATCH(L6,'[2]mil trainer'!$B$6:$B$73,0),4)*1000,INDEX('[2]mil trainer'!$B$6:$K$73,MATCH(M6,'[2]mil trainer'!$B$6:$B$73,0),4)*1000)","v":20000},{"$f":"B6*(1+'Federal Reserve PPI AC Parts'!$E$12)","v":90628.6655737705},{"$f":"C6*(1+'Federal Reserve PPI AC Parts'!$E$12)","v":22368.059227921738},"Used Model 2024",{"$f":"D6","v":90628.6655737705},{"$f":"(B6-C6)/C6","v":3.0516999999999999},{"$f":"IFERROR(INDEX('[2]mil trainer'!$B$6:$K$73,MATCH(L6,'[2]mil trainer'!$B$6:$B$73,0),8),INDEX('[2]mil trainer'!$B$6:$K$73,MATCH(M6,'[2]mil trainer'!$B$6:$B$73,0),8))","v":"BAE systems"},1,{"$f":"INDEX('[1]Pt1-DATA'!$A$5:$M$13349,MATCH(A6,'[1]Pt1-DATA'!$C$5:$C$13349,0),6)","v":"Q"},"Ground Proximity Warning System (GPWS/EGPWS)","GPWS/TERPROM",81034]
["167#749",{"$f":"IFERROR(INDEX('[1]Pt1-DATA'!$C:$D,MATCH(A7,'[1]Pt1-DATA'!$C:$C,0),2),\"\")","v":0},{"$f":"IFERROR(INDEX('[2]mil trainer'!$B$6:$K$73,MATCH(L7,'[2]mil trainer'!$B$6:$B$73,0),4)*1000,INDEX('[2]mil trainer'!$B$6:$K$73,MATCH(M7,'[2]mil trainer'!$B$6:$B$73,0),4)*1000)","v":18000},{"$f":"B7*(1+'Federal Reserve PPI AC Parts'!$E$12)","v":0},{"$f":"C7*(1+'Federal Reserve PPI AC Parts'!$E$12)","v":20131.253305129565},"Used PW 2024",{"$f":"E7","v":20131.253305129565},-1,{"$f":"IFERROR(INDEX('[2]mil trainer'!$B$6:$K$73,MATCH(L7,'[2]mil trainer'!$B$6:$B$73,0),8),INDEX('[2]mil trainer'!$B$6:$K$73,MATCH(M7,'[2]mil trainer'!$B$6:$B$73,0),8))","v":"???"},1,{"$f":"INDEX('[1]Pt1-DATA'!$A$5:$M$13349,MATCH(A7,'[1]Pt1-DATA'!$C$5:$C$13349,0),6)","v":"A1"},"TCAS computer","TCAS",0]
["167#764",{"$f":"IFERROR(INDEX('[1]Pt1-DATA'!$C:$D,MATCH(A8,'[1]Pt1-DATA'!$C:$C,0),2),\"\")","v":17731},{"$f":"IFERROR(INDEX('[2]mil trainer'!$B$6:$K$73,MATCH(L8,'[2]mil trainer'!$B$6:$B$73,0),4)*1000,INDEX('[2]mil trainer'!$B$6:$K$73,MATCH(M8,'[2]mil trainer'!$B$6:$B$73,0),4)*1000)","v":20000},{"$f":"B8*(1+'Federal Reserve PPI AC Parts'!$E$12)","v":19830.402908514017},{"$f":"C8*(1+'Federal Reserve PPI AC Parts'!$E$12)","v":22368.059227921738},"Used Model 2024",19830.402908514017,-0.11345,{"$f":"IFERROR(INDEX('[2]mil trainer'!$B$6:$K$73,MATCH(L8,'[2]mil trainer'!$B$6:$B$73,0),8),INDEX('[2]mil trainer'!$B$6:$K$73,MATCH(M8,'[2]mil trainer'!$B$6:$B$73,0),8))","v":"Meggitt"},1,{"$f":"INDEX('[1]Pt1-DATA'!$A$5:$M$13349,MATCH(A8,'[1]Pt1-DATA'!$C$5:$C$13349,0),6)","v":"H"},"Radar altimeters",null,17731]
["167#795",{"$f":"IFERROR(INDEX('[1]Pt1-DATA'!$C:$D,MATCH(A9,'[1]Pt1-DATA'!$C:$C,0),2),\"\")","v":111607},{"$f":"IFERROR(INDEX('[2]mil trainer'!$B$6:$K$73,MATCH(L9,'[2]mil trainer'!$B$6:$B$73,0),4)*1000,INDEX('[2]mil trainer'!$B$6:$K$73,MATCH(M9,'[2]mil trainer'!$B$6:$B$73,0),4)*1000)","v":50000},{"$f":"B9*(1+'Federal Reserve PPI AC Parts'!$E$12)","v":124821.59931253307},{"$f":"C9*(1+'Federal Reserve PPI AC Parts'!$E$12)","v":55920.148069804345},"Used Model 2024",124821.59931253307,1.23214,{"$f":"IFERROR(INDEX('[2]mil trainer'!$B$6:$K$73,MATCH(L9,'[2]mil trainer'!$B$6:$B$73,0),8),INDEX('[2]mil trainer'!$B$6:$K$73,MATCH(M9,'[2]mil trainer'!$B$6:$B$73,0),8))","v":"BAE Systems"},2,{"$f":"INDEX('[1]Pt1-DATA'!$A$5:$M$13349,MATCH(A9,'[1]Pt1-DATA'!$C$5:$C$13349,0),6)","v":"A"},"Mission computers",null,111607]
["167#811",{"$f":"IFERROR(INDEX('[1]Pt1-DATA'!$C:$D,MATCH(A10,'[1]Pt1-DATA'!$C:$C,0),2),\"\")","v":60728},{"$f":"IFERROR(INDEX('[2]mil trainer'!$B$6:$K$73,MATCH(L10,'[2]mil trainer'!$B$6:$B$73,0),4)*1000,INDEX('[2]mil trainer'!$B$6:$K$73,MATCH(M10,'[2]mil trainer'!$B$6:$B$73,0),4)*1000)","v":60000},{"$f":"B10*(1+'Federal Reserve PPI AC Parts'!$E$12)","v":67918.375039661565},{"$f":"C10*(1+'Federal Reserve PPI AC Parts'!$E$12)","v":67104.177683765214},"Used Model 2024",67918.375039661565,1.2133333333333333E-2,{"$f":"IFERROR(INDEX('[2]mil trainer'!$B$6:$K$73,MATCH(L10,'[2]mil trainer'!$B$6:$B$73,0),8),INDEX('[2]mil trainer'!$B$6:$K$73,MATCH(M10,'[2]mil trainer'!$B$6:$B$73,0),8))","v":"?????"},3,{"$f":"INDEX('[1]Pt1-DATA'!$A$5:$M$13349,MATCH(A10,'[1]Pt1-DATA'!$C$5:$C$13349,0),6)","v":"G"},"Main displays",null,60728]
["167#812",{"$f":"IFERROR(INDEX('[1]Pt1-DATA'!$C:$D,MATCH(A11,'[1]Pt1-DATA'!$C:$C,0),2),\"\")","v":50606},{"$f":"IFERROR(INDEX('[2]mil trainer'!$B$6:$K$73,MATCH(L11,'[2]mil trainer'!$B$6:$B$73,0),4)*1000,INDEX('[2]mil trainer'!$B$6:$K$73,MATCH(M11,'[2]mil trainer'!$B$6:$B$73,0),4)*1000)","v":50000},{"$f":"B11*(1+'Federal Reserve PPI AC Parts'!$E$12)","v":56597.900264410375},{"$f":"C11*(1+'Federal Reserve PPI AC Parts'!$E$12)","v":55920.148069804345},"Used Model 2024",56597.900264410375,1.2120000000000001E-2,{"$f":"IFERROR(INDEX('[2]mil trainer'!$B$6:$K$73,MATCH(L11,'[2]mil trainer'!$B$6:$B$73,0),8),INDEX('[2]mil trainer'!$B$6:$K$73,MATCH(M11,'[2]mil trainer'!$B$6:$B$73,0),8))","v":"?????"},1,{"$f":"INDEX('[1]Pt1-DATA'!$A$5:$M$13349,MATCH(A11,'[1]Pt1-DATA'!$C$5:$C$13349,0),6)","v":"A"},"Display processor",null,50606]
["167#813",{"$f":"IFERROR(INDEX('[1]Pt1-DATA'!$C:$D,MATCH(A12,'[1]Pt1-DATA'!$C:$C,0),2),\"\")","v":48760},{"$f":"IFERROR(INDEX('[2]mil trainer'!$B$6:$K$73,MATCH(L12,'[2]mil trainer'!$B$6:$B$73,0),4)*1000,INDEX('[2]mil trainer'!$B$6:$K$73,MATCH(M12,'[2]mil trainer'!$B$6:$B$73,0),4)*1000)","v":40000},{"$f":"B12*(1+'Federal Reserve PPI AC Parts'!$E$12)","v":54533.328397673198},{"$f":"C12*(1+'Federal Reserve PPI AC Parts'!$E$12)","v":44736.118455843476},"Used Model 2024",54533.328397673198,0.219,{"$f":"IFERROR(INDEX('[2]mil trainer'!$B$6:$K$73,MATCH(L12,'[2]mil trainer'!$B$6:$B$73,0),8),INDEX('[2]mil trainer'!$B$6:$K$73,MATCH(M12,'[2]mil trainer'!$B$6:$B$73,0),8))","v":"Northrop Grumman  LINS 300"},2,{"$f":"INDEX('[1]Pt1-DATA'!$A$5:$M$13349,MATCH(A12,'[1]Pt1-DATA'!$C$5:$C$13349,0),6)","v":"A"},"IN/GPS system ",null,48760]
["167#814",{"$f":"IFERROR(INDEX('[1]Pt1-DATA'!$C:$D,MATCH(A13,'[1]Pt1-DATA'!$C:$C,0),2),\"\")","v":81034},{"$f":"IFERROR(INDEX('[2]mil trainer'!$B$6:$K$73,MATCH(L13,'[2]mil trainer'!$B$6:$B$73,0),4)*1000,INDEX('[2]mil trainer'!$B$6:$K$73,MATCH(M13,'[2]mil trainer'!$B$6:$B$73,0),4)*1000)","v":40000},{"$f":"B13*(1+'Federal Reserve PPI AC Parts'!$E$12)","v":90628.6655737705},{"$f":"C13*(1+'Federal Reserve PPI AC Parts'!$E$12)","v":44736.118455843476},"Used Model 2024",90628.6655737705,1.0258499999999999,{"$f":"IFERROR(INDEX('[2]mil trainer'!$B$6:$K$73,MATCH(L13,'[2]mil trainer'!$B$6:$B$73,0),8),INDEX('[2]mil trainer'!$B$6:$K$73,MATCH(M13,'[2]mil trainer'!$B$6:$B$73,0),8))","v":"Northrop Grumman NG AG-66H"},1,{"$f":"INDEX('[1]Pt1-DATA'!$A$5:$M$13349,MATCH(A13,'[1]Pt1-DATA'!$C$5:$C$13349,0),6)","v":"A"},"Multi mode radar",null,81034]
["167#815",{"$f":"IFERROR(INDEX('[1]Pt1-DATA'!$C:$D,MATCH(A14,'[1]Pt1-DATA'!$C:$C,0),2),\"\")","v":49498},{"$f":"IFERROR(INDEX('[2]mil trainer'!$B$6:$K$73,MATCH(L14,'[2]mil trainer'!$B$6:$B$73,0),4)*1000,INDEX('[2]mil trainer'!$B$6:$K$73,MATCH(M14,'[2]mil trainer'!$B$6:$B$73,0),4)*1000)","v":45000},{"$f":"B14*(1+'Federal Reserve PPI AC Parts'!$E$12)","v":55358.709783183505},{"$f":"C14*(1+'Federal Reserve PPI AC Parts'!$E$12)","v":50328.133262823911},"Used Model 2024",55358.709783183505,9.9955555555555561E-2,{"$f":"IFERROR(INDEX('[2]mil trainer'!$B$6:$K$73,MATCH(L14,'[2]mil trainer'!$B$6:$B$73,0),8),INDEX('[2]mil trainer'!$B$6:$K$73,MATCH(M14,'[2]mil trainer'!$B$6:$B$73,0),8))","v":"Collins"},3,{"$f":"INDEX('[1]Pt1-DATA'!$A$5:$M$13349,MATCH(A14,'[1]Pt1-DATA'!$C$5:$C$13349,0),6)","v":"A"},"Air Data smart sensor",null,49498]
["167#816",{"$f":"IFERROR(INDEX('[1]Pt1-DATA'!$C:$D,MATCH(A15,'[1]Pt1-DATA'!$C:$C,0),2),\"\")","v":54998},{"$f":"IFERROR(INDEX('[2]mil trainer'!$B$6:$K$73,MATCH(L15,'[2]mil trainer'!$B$6:$B$73,0),4)*1000,INDEX('[2]mil trainer'!$B$6:$K$73,MATCH(M15,'[2]mil trainer'!$B$6:$B$73,0),4)*1000)","v":30000},{"$f":"B15*(1+'Federal Reserve PPI AC Parts'!$E$12)","v":61509.926070861984},{"$f":"C15*(1+'Federal Reserve PPI AC Parts'!$E$12)","v":33552.088841882607},"Used Model 2024",61509.926070861984,0.83326666666666671,{"$f":"IFERROR(INDEX('[2]mil trainer'!$B$6:$K$73,MATCH(L15,'[2]mil trainer'!$B$6:$B$73,0),8),INDEX('[2]mil trainer'!$B$6:$K$73,MATCH(M15,'[2]mil trainer'!$B$6:$B$73,0),8))","v":0},2,{"$f":"INDEX('[1]Pt1-DATA'!$A$5:$M$13349,MATCH(A15,'[1]Pt1-DATA'!$C$5:$C$13349,0),6)","v":"A"},"FLIR sensors",null,54998]
["167#817",{"$f":"IFERROR(INDEX('[1]Pt1-DATA'!$C:$D,MATCH(A16,'[1]Pt1-DATA'!$C:$C,0),2),\"\")","v":26597},{"$f":"IFERROR(INDEX('[2]mil trainer'!$B$6:$K$73,MATCH(L16,'[2]mil trainer'!$B$6:$B$73,0),4)*1000,INDEX('[2]mil trainer'!$B$6:$K$73,MATCH(M16,'[2]mil trainer'!$B$6:$B$73,0),4)*1000)","v":30000},{"$f":"B16*(1+'Federal Reserve PPI AC Parts'!$E$12)","v":29746.163564251721},{"$f":"C16*(1+'Federal Reserve PPI AC Parts'!$E$12)","v":33552.088841882607},"Used Model 2024",29746.163564251721,-0.11343333333333333,{"$f":"IFERROR(INDEX('[2]mil trainer'!$B$6:$K$73,MATCH(L16,'[2]mil trainer'!$B$6:$B$73,0),8),INDEX('[2]mil trainer'!$B$6:$K$73,MATCH(M16,'[2]mil trainer'!$B$6:$B$73,0),8))","v":0},1,{"$f":"INDEX('[1]Pt1-DATA'!$A$5:$M$13349,MATCH(A16,'[1]Pt1-DATA'!$C$5:$C$13349,0),6)","v":"A"},"Navigation receiver",null,26597]
["167#818",{"$f":"IFERROR(INDEX('[1]Pt1-DATA'!$C:$D,MATCH(A17,'[1]Pt1-DATA'!$C:$C,0),2),\"\")","v":68491},{"$f":"IFERROR(INDEX('[2]mil trainer'!$B$6:$K$73,MATCH(L17,'[2]mil trainer'!$B$6:$B$73,0),4)*1000,INDEX('[2]mil trainer'!$B$6:$K$73,MATCH(M17,'[2]mil trainer'!$B$6:$B$73,0),4)*1000)","v":30000},{"$f":"B17*(1+'Federal Reserve PPI AC Parts'!$E$12)","v":76600.537228979389},{"$f":"C17*(1+'Federal Reserve PPI AC Parts'!$E$12)","v":33552.088841882607},"Used Model 2024",76600.537228979389,1.2830333333333332,{"$f":"IFERROR(INDEX('[2]mil trainer'!$B$6:$K$73,MATCH(L17,'[2]mil trainer'!$B$6:$B$73,0),8),INDEX('[2]mil trainer'!$B$6:$K$73,MATCH(M17,'[2]mil trainer'!$B$6:$B$73,0),8))","v":"???"},1,{"$f":"INDEX('[1]Pt1-DATA'!$A$5:$M$13349,MATCH(A17,'[1]Pt1-DATA'!$C$5:$C$13349,0),6)","v":"B"},"Radio receivers",null,68491]
["167#819",{"$f":"IFERROR(INDEX('[1]Pt1-DATA'!$C:$D,MATCH(A18,'[1]Pt1-DATA'!$C:$C,0),2),\"\")","v":78124},{"$f":"IFERROR(INDEX('[2]mil trainer'!$B$6:$K$73,MATCH(L18,'[2]mil trainer'!$B$6:$B$73,0),4)*1000,INDEX('[2]mil trainer'!$B$6:$K$73,MATCH(M18,'[2]mil trainer'!$B$6:$B$73,0),4)*1000)","v":50000},{"$f":"B18*(1+'Federal Reserve PPI AC Parts'!$E$12)","v":87374.112956107885},{"$f":"C18*(1+'Federal Reserve PPI AC Parts'!$E$12)","v":55920.148069804345},"Used Model 2024",87374.112956107885,0.56247999999999998,{"$f":"IFERROR(INDEX('[2]mil trainer'!$B$6:$K$73,MATCH(L18,'[2]mil trainer'!$B$6:$B$73,0),8),INDEX('[2]mil trainer'!$B$6:$K$73,MATCH(M18,'[2]mil trainer'!$B$6:$B$73,0),8))","v":"???"},2,{"$f":"INDEX('[1]Pt1-DATA'!$A$5:$M$13349,MATCH(A18,'[1]Pt1-DATA'!$C$5:$C$13349,0),6)","v":"A"},"Stores Management System",null,78124]
["167#820",{"$f":"IFERROR(INDEX('[1]Pt1-DATA'!$C:$D,MATCH(A19,'[1]Pt1-DATA'!$C:$C,0),2),\"\")","v":75910},{"$f":"IFERROR(INDEX('[2]mil trainer'!$B$6:$K$73,MATCH(L19,'[2]mil trainer'!$B$6:$B$73,0),4)*1000,INDEX('[2]mil trainer'!$B$6:$K$73,MATCH(M19,'[2]mil trainer'!$B$6:$B$73,0),4)*1000)","v":75000},{"$f":"B19*(1+'Federal Reserve PPI AC Parts'!$E$12)","v":84897.968799576949},{"$f":"C19*(1+'Federal Reserve PPI AC Parts'!$E$12)","v":83880.22210470651},"Used Model 2024",84897.968799576949,1.2133333333333333E-2,{"$f":"IFERROR(INDEX('[2]mil trainer'!$B$6:$K$73,MATCH(L19,'[2]mil trainer'!$B$6:$B$73,0),8),INDEX('[2]mil trainer'!$B$6:$K$73,MATCH(M19,'[2]mil trainer'!$B$6:$B$73,0),8))","v":0},1,{"$f":"INDEX('[1]Pt1-DATA'!$A$5:$M$13349,MATCH(A19,'[1]Pt1-DATA'!$C$5:$C$13349,0),6)","v":"A"},"Dual redundant digital bus",null,75910]
["167#821",{"$f":"IFERROR(INDEX('[1]Pt1-DATA'!$C:$D,MATCH(A20,'[1]Pt1-DATA'!$C:$C,0),2),\"\")","v":74794},{"$f":"IFERROR(INDEX('[2]mil trainer'!$B$6:$K$73,MATCH(L20,'[2]mil trainer'!$B$6:$B$73,0),4)*1000,INDEX('[2]mil trainer'!$B$6:$K$73,MATCH(M20,'[2]mil trainer'!$B$6:$B$73,0),4)*1000)","v":35000},{"$f":"B20*(1+'Federal Reserve PPI AC Parts'!$E$12)","v":83649.831094658919},{"$f":"C20*(1+'Federal Reserve PPI AC Parts'!$E$12)","v":39144.103648863042},"Used Model 2024",83649.831094658919,1.1369714285714285,{"$f":"IFERROR(INDEX('[2]mil trainer'!$B$6:$K$73,MATCH(L20,'[2]mil trainer'!$B$6:$B$73,0),8),INDEX('[2]mil trainer'!$B$6:$K$73,MATCH(M20,'[2]mil trainer'!$B$6:$B$73,0),8))","v":0},1,{"$f":"INDEX('[1]Pt1-DATA'!$A$5:$M$13349,MATCH(A20,'[1]Pt1-DATA'!$C$5:$C$13349,0),6)","v":"B"},"Digital Data link/transfer",null,74794]
["167#878",{"$f":"IFERROR(INDEX('[1]Pt1-DATA'!$C:$D,MATCH(A21,'[1]Pt1-DATA'!$C:$C,0),2),\"\")","v":82497},{"$f":"IFERROR(INDEX('[2]mil trainer'!$B$6:$K$73,MATCH(L21,'[2]mil trainer'!$B$6:$B$73,0),4)*1000,INDEX('[2]mil trainer'!$B$6:$K$73,MATCH(M21,'[2]mil trainer'!$B$6:$B$73,0),4)*1000)","v":{"$error":"#N/A"}},{"$f":"B21*(1+'Federal Reserve PPI AC Parts'!$E$12)","v":92264.889106292976},{"$f":"C21*(1+'Federal Reserve PPI AC Parts'!$E$12)","v":{"$error":"#N/A"}},"Used Model 2024",92264.889106292976,{"$error":"#N/A"},{"$f":"IFERROR(INDEX('[2]mil trainer'!$B$6:$K$73,MATCH(L21,'[2]mil trainer'!$B$6:$B$73,0),8),INDEX('[2]mil trainer'!$B$6:$K$73,MATCH(M21,'[2]mil trainer'!$B$6:$B$73,0),8))","v":{"$error":"#N/A"}},1,{"$f":"INDEX('[1]Pt1-DATA'!$A$5:$M$13349,MATCH(A21,'[1]Pt1-DATA'!$C$5:$C$13349,0),6)","v":"G"},"Sensors IFF, other",null,82497]
["167#879",{"$f":"IFERROR(INDEX('[1]Pt1-DATA'!$C:$D,MATCH(A22,'[1]Pt1-DATA'!$C:$C,0),2),\"\")","v":114566},{"$f":"IFERROR(INDEX('[2]mil trainer'!$B$6:$K$73,MATCH(L22,'[2]mil trainer'!$B$6:$B$73,0),4)*1000,INDEX('[2]mil trainer'!$B$6:$K$73,MATCH(M22,'[2]mil trainer'!$B$6:$B$73,0),4)*1000)","v":{"$error":"#N/A"}},{"$f":"B22*(1+'Federal Reserve PPI AC Parts'!$E$12)","v":128130.95367530409},{"$f":"C22*(1+'Federal Reserve PPI AC Parts'!$E$12)","v":{"$error":"#N/A"}},"Used Model 2024",128130.95367530409,{"$error":"#N/A"},{"$f":"IFERROR(INDEX('[2]mil trainer'!$B$6:$K$73,MATCH(L22,'[2]mil trainer'!$B$6:$B$73,0),8),INDEX('[2]mil trainer'!$B$6:$K$73,MATCH(M22,'[2]mil trainer'!$B$6:$B$73,0),8))","v":{"$error":"#N/A"}},1,{"$f":"INDEX('[1]Pt1-DATA'!$A$5:$M$13349,MATCH(A22,'[1]Pt1-DATA'!$C$5:$C$13349,0),6)","v":"S"},"Software",null,114566]
["167#1056",{"$f":"IFERROR(INDEX('[1]Pt1-DATA'!$C:$D,MATCH(A23,'[1]Pt1-DATA'!$C:$C,0),2),\"\")","v":575},{"$f":"IFERROR(INDEX('[2]mil trainer'!$B$6:$K$73,MATCH(L23,'[2]mil trainer'!$B$6:$B$73,0),4)*1000,INDEX('[2]mil trainer'!$B$6:$K$73,MATCH(M23,'[2]mil trainer'!$B$6:$B$73,0),4)*1000)","v":{"$error":"#N/A"}},{"$f":"B23*(1+'Federal Reserve PPI AC Parts'!$E$12)","v":643.08170280274999},{"$f":"C23*(1+'Federal Reserve PPI AC Parts'!$E$12)","v":{"$error":"#N/A"}},"Used Model 2024",643.08170280274999,{"$error":"#N/A"},{"$f":"IFERROR(INDEX('[2]mil trainer'!$B$6:$K$73,MATCH(L23,'[2]mil trainer'!$B$6:$B$73,0),8),INDEX('[2]mil trainer'!$B$6:$K$73,MATCH(M23,'[2]mil trainer'!$B$6:$B$73,0),8))","v":{"$error":"#N/A"}},1,{"$f":"INDEX('[1]Pt1-DATA'!$A$5:$M$13349,MATCH(A23,'[1]Pt1-DATA'!$C$5:$C$13349,0),6)","v":"AF"},"Avionics Harnesses",null,575]
["167#1057",{"$f":"IFERROR(INDEX('[1]Pt1-DATA'!$C:$D,MATCH(A24,'[1]Pt1-DATA'!$C:$C,0),2),\"\")","v":4094},{"$f":"IFERROR(INDEX('[2]mil trainer'!$B$6:$K$73,MATCH(L24,'[2]mil trainer'!$B$6:$B$73,0),4)*1000,INDEX('[2]mil trainer'!$B$6:$K$73,MATCH(M24,'[2]mil trainer'!$B$6:$B$73,0),4)*1000)","v":{"$error":"#N/A"}},{"$f":"B24*(1+'Federal Reserve PPI AC Parts'!$E$12)","v":4578.7417239555798},{"$f":"C24*(1+'Federal Reserve PPI AC Parts'!$E$12)","v":{"$error":"#N/A"}},"Used Model 2024",4578.7417239555798,{"$error":"#N/A"},{"$f":"IFERROR(INDEX('[2]mil trainer'!$B$6:$K$73,MATCH(L24,'[2]mil trainer'!$B$6:$B$73,0),8),INDEX('[2]mil trainer'!$B$6:$K$73,MATCH(M24,'[2]mil trainer'!$B$6:$B$73,0),8))","v":{"$error":"#N/A"}},1,{"$f":"INDEX('[1]Pt1-DATA'!$A$5:$M$13349,MATCH(A24,'[1]Pt1-DATA'!$C$5:$C$13349,0),6)","v":"AF"},"Avionics Harnesses",null,4094]
["167#1058",{"$f":"IFERROR(INDEX('[1]Pt1-DATA'!$C:$D,MATCH(A25,'[1]Pt1-DATA'!$C:$C,0),2),\"\")","v":4950},{"$f":"IFERROR(INDEX('[2]mil trainer'!$B$6:$K$73,MATCH(L25,'[2]mil trainer'!$B$6:$B$73,0),4)*1000,INDEX('[2]mil trainer'!$B$6:$K$73,MATCH(M25,'[2]mil trainer'!$B$6:$B$73,0),4)*1000)","v":{"$error":"#N/A"}},{"$f":"B25*(1+'Federal Reserve PPI AC Parts'!$E$12)","v":5536.0946589106297},{"$f":"C25*(1+'Federal Reserve PPI AC Parts'!$E$12)","v":{"$error":"#N/A"}},"Used Model 2024",5536.0946589106297,{"$error":"#N/A"},{"$f":"IFERROR(INDEX('[2]mil trainer'!$B$6:$K$73,MATCH(L25,'[2]mil trainer'!$B$6:$B$73,0),8),INDEX('[2]mil trainer'!$B$6:$K$73,MATCH(M25,'[2]mil trainer'!$B$6:$B$73,0),8))","v":{"$error":"#N/A"}},1,{"$f":"INDEX('[1]Pt1-DATA'!$A$5:$M$13349,MATCH(A25,'[1]Pt1-DATA'!$C$5:$C$13349,0),6)","v":"AF"},"Avionics Harnesses",null,4950]
["167#1059",{"$f":"IFERROR(INDEX('[1]Pt1-DATA'!$C:$D,MATCH(A26,'[1]Pt1-DATA'!$C:$C,0),2),\"\")","v":1024},{"$f":"IFERROR(INDEX('[2]mil trainer'!$B$6:$K$73,MATCH(L26,'[2]mil trainer'!$B$6:$B$73,0),4)*1000,INDEX('[2]mil trainer'!$B$6:$K$73,MATCH(M26,'[2]mil trainer'!$B$6:$B$73,0),4)*1000)","v":{"$error":"#N/A"}},{"$f":"B26*(1+'Federal Reserve PPI AC Parts'!$E$12)","v":1145.2446324695929},{"$f":"C26*(1+'Federal Reserve PPI AC Parts'!$E$12)","v":{"$error":"#N/A"}},"Used Model 2024",1145.2446324695929,{"$error":"#N/A"},{"$f":"IFERROR(INDEX('[2]mil trainer'!$B$6:$K$73,MATCH(L26,'[2]mil trainer'!$B$6:$B$73,0),8),INDEX('[2]mil trainer'!$B$6:$K$73,MATCH(M26,'[2]mil trainer'!$B$6:$B$73,0),8))","v":{"$error":"#N/A"}},1,{"$f":"INDEX('[1]Pt1-DATA'!$A$5:$M$13349,MATCH(A26,'[1]Pt1-DATA'!$C$5:$C$13349,0),6)","v":"AF"},"Avionics Harnesses",null,1024]

{"sheet":"bizjet","index":9,"n_rows":48,"n_cols":14,"rows_kept":48,"cut":false,"hidden":false,"merged":[]}
["Aircraft:",{"$f":"INDEX('[3]Pt1-AvionicsComponentCosts'!$A$11:$E$384,MATCH(VALUE(LEFT(A5,SEARCH(\"#\",A5)-1)),'[3]Pt1-AvionicsComponentCosts'!$A$11:$A$384,0),5)","v":"Bombardier Global 5000"}]
[null,"Avionics Cost 2020",null,null,null,null,"Avionics Cost 2024",null,"% Change 2020 - 2024"]
[null,{"$f":"SUMPRODUCT(B5:B80,J5:J80)","v":2101332},null,null,null,null,{"$f":"SUMPRODUCT(G5:G80,J5:J80)","v":2781900},null,{"$f":"($G$3-$B$3)/$B$3","v":0.32387457098640293}]
[null,"Model 2020","PW 2020","2024 PPI Model","2024 PPI PW","Notes","2024 AE Estimate","Pct Change","Source","#/AC","Factor","Item","Alt Item (PW)","previous"]
["36#709",{"$f":"IFERROR(INDEX('[1]Pt1-DATA'!$C:$D,MATCH(A5,'[1]Pt1-DATA'!$C:$C,0),2),\"\")","v":54797},{"$f":"IFERROR(INDEX([2]bizjet!$B$6:$K$73,MATCH(L5,[2]bizjet!$B$6:$B$73,0),4)*1000,INDEX([2]bizjet!$B$6:$K$73,MATCH(M5,[2]bizjet!$B$6:$B$73,0),4)*1000)","v":30000},{"$f":"B5*(1+'Federal Reserve PPI AC Parts'!$E$12)","v":61285.127075621371},{"$f":"C5*(1+'Federal Reserve PPI AC Parts'!$E$12)","v":33552.088841882607},"PW Low",63000,{"$f":"(B5-C5)/C5","v":0.82656666666666667},{"$f":"IFERROR(INDEX([2]bizjet!$B$6:$K$73,MATCH(L5,[2]bizjet!$B$6:$B$73,0),7),INDEX([2]bizjet!$B$6:$K$73,MATCH(M5,[2]bizjet!$B$6:$B$73,0),7))","v":"HWL"},2,{"$f":"INDEX('[1]Pt1-DATA'!$A$5:$M$13349,MATCH(A5,'[1]Pt1-DATA'!$C$5:$C$13349,0),6)","v":"I"},"FMGC","Flight Management FMS 1 & 2 (FMS 3 optional",54797]
["36#710",{"$f":"IFERROR(INDEX('[1]Pt1-DATA'!$C:$D,MATCH(A6,'[1]Pt1-DATA'!$C:$C,0),2),\"\")","v":26094},{"$f":"IFERROR(INDEX([2]bizjet!$B$6:$K$73,MATCH(L6,[2]bizjet!$B$6:$B$73,0),4)*1000,INDEX([2]bizjet!$B$6:$K$73,MATCH(M6,[2]bizjet!$B$6:$B$73,0),4)*1000)","v":25000},{"$f":"B6*(1+'Federal Reserve PPI AC Parts'!$E$12)","v":29183.606874669491},{"$f":"C6*(1+'Federal Reserve PPI AC Parts'!$E$12)","v":27960.074034902173},"Validated PW 2020",30000,{"$f":"(B6-C6)/C6","v":4.376E-2},{"$f":"IFERROR(INDEX([2]bizjet!$B$6:$K$73,MATCH(L6,[2]bizjet!$B$6:$B$73,0),7),INDEX([2]bizjet!$B$6:$K$73,MATCH(M6,[2]bizjet!$B$6:$B$73,0),7))","v":"HWL"},2,{"$f":"INDEX('[1]Pt1-DATA'!$A$5:$M$13349,MATCH(A6,'[1]Pt1-DATA'!$C$5:$C$13349,0),6)","v":"G"},"MCDU","MCDU inputs",26094]
["36#721",{"$f":"IFERROR(INDEX('[1]Pt1-DATA'!$C:$D,MATCH(A7,'[1]Pt1-DATA'!$C:$C,0),2),\"\")","v":26597},{"$f":"IFERROR(INDEX([2]bizjet!$B$6:$K$73,MATCH(L7,[2]bizjet!$B$6:$B$73,0),4)*1000,INDEX([2]bizjet!$B$6:$K$73,MATCH(M7,[2]bizjet!$B$6:$B$73,0),4)*1000)","v":30000},{"$f":"B7*(1+'Federal Reserve PPI AC Parts'!$E$12)","v":29746.163564251721},{"$f":"C7*(1+'Federal Reserve PPI AC Parts'!$E$12)","v":33552.088841882607},"Validated PW 2020",34000,-0.11343333333333333,{"$f":"IFERROR(INDEX([2]bizjet!$B$6:$K$73,MATCH(L7,[2]bizjet!$B$6:$B$73,0),7),INDEX([2]bizjet!$B$6:$K$73,MATCH(M7,[2]bizjet!$B$6:$B$73,0),7))","v":"HWL"},3,{"$f":"INDEX('[1]Pt1-DATA'!$A$5:$M$13349,MATCH(A7,'[1]Pt1-DATA'!$C$5:$C$13349,0),6)","v":"P1"},"Air Data Modules (ADM)","Air Data Computers",26597]
["36#722",{"$f":"IFERROR(INDEX('[1]Pt1-DATA'!$C:$D,MATCH(A8,'[1]Pt1-DATA'!$C:$C,0),2),\"\")","v":10999},{"$f":"IFERROR(INDEX([2]bizjet!$B$6:$K$73,MATCH(L8,[2]bizjet!$B$6:$B$73,0),4)*1000,INDEX([2]bizjet!$B$6:$K$73,MATCH(M8,[2]bizjet!$B$6:$B$73,0),4)*1000)","v":10000},{"$f":"B8*(1+'Federal Reserve PPI AC Parts'!$E$12)","v":12301.31417239556},{"$f":"C8*(1+'Federal Reserve PPI AC Parts'!$E$12)","v":11184.029613960869},"Validated PW 2020",12000,9.9900000000000003E-2,{"$f":"IFERROR(INDEX([2]bizjet!$B$6:$K$73,MATCH(L8,[2]bizjet!$B$6:$B$73,0),7),INDEX([2]bizjet!$B$6:$K$73,MATCH(M8,[2]bizjet!$B$6:$B$73,0),7))","v":"Collins ??"},4,{"$f":"INDEX('[1]Pt1-DATA'!$A$5:$M$13349,MATCH(A8,'[1]Pt1-DATA'!$C$5:$C$13349,0),6)","v":"G1"},"Air data probes (pitot/static)","Pitot Static sensors",10999]
["36#727",{"$f":"IFERROR(INDEX('[1]Pt1-DATA'!$C:$D,MATCH(A9,'[1]Pt1-DATA'!$C:$C,0),2),\"\")","v":35424},{"$f":"IFERROR(INDEX([2]bizjet!$B$6:$K$73,MATCH(L9,[2]bizjet!$B$6:$B$73,0),4)*1000,INDEX([2]bizjet!$B$6:$K$73,MATCH(M9,[2]bizjet!$B$6:$B$73,0),4)*1000)","v":40000},{"$f":"B9*(1+'Federal Reserve PPI AC Parts'!$E$12)","v":39618.306504494984},{"$f":"C9*(1+'Federal Reserve PPI AC Parts'!$E$12)","v":44736.118455843476},"Validated PW 2020",45000,-0.1144,{"$f":"IFERROR(INDEX([2]bizjet!$B$6:$K$73,MATCH(L9,[2]bizjet!$B$6:$B$73,0),7),INDEX([2]bizjet!$B$6:$K$73,MATCH(M9,[2]bizjet!$B$6:$B$73,0),7))","v":"HWL"},1,{"$f":"INDEX('[1]Pt1-DATA'!$A$5:$M$13349,MATCH(A9,'[1]Pt1-DATA'!$C$5:$C$13349,0),6)","v":"F"},"Navigation display (EFIS)","Display units",35424]
["36#747",{"$f":"IFERROR(INDEX('[1]Pt1-DATA'!$C:$D,MATCH(A10,'[1]Pt1-DATA'!$C:$C,0),2),\"\")","v":0},{"$f":"IFERROR(INDEX([2]bizjet!$B$6:$K$73,MATCH(L10,[2]bizjet!$B$6:$B$73,0),4)*1000,INDEX([2]bizjet!$B$6:$K$73,MATCH(M10,[2]bizjet!$B$6:$B$73,0),4)*1000)","v":20000},{"$f":"B10*(1+'Federal Reserve PPI AC Parts'!$E$12)","v":0},{"$f":"C10*(1+'Federal Reserve PPI AC Parts'!$E$12)","v":22368.059227921738},"Validated PW 2020",23000,-1,{"$f":"IFERROR(INDEX([2]bizjet!$B$6:$K$73,MATCH(L10,[2]bizjet!$B$6:$B$73,0),7),INDEX([2]bizjet!$B$6:$K$73,MATCH(M10,[2]bizjet!$B$6:$B$73,0),7))","v":"HWL"},1,{"$f":"INDEX('[1]Pt1-DATA'!$A$5:$M$13349,MATCH(A10,'[1]Pt1-DATA'!$C$5:$C$13349,0),6)","v":"A"},"WX control panel","WX Radar Controller ",0]
["36#750",{"$f":"IFERROR(INDEX('[1]Pt1-DATA'!$C:$D,MATCH(A11,'[1]Pt1-DATA'!$C:$C,0),2),\"\")","v":0},{"$f":"IFERROR(INDEX([2]bizjet!$B$6:$K$73,MATCH(L11,[2]bizjet!$B$6:$B$73,0),4)*1000,INDEX([2]bizjet!$B$6:$K$73,MATCH(M11,[2]bizjet!$B$6:$B$73,0),4)*1000)","v":{"$error":"#N/A"}},{"$f":"B11*(1+'Federal Reserve PPI AC Parts'!$E$12)","v":0},{"$f":"C11*(1+'Federal Reserve PPI AC Parts'!$E$12)","v":{"$error":"#N/A"}},null,0,{"$error":"#N/A"},{"$f":"IFERROR(INDEX([2]bizjet!$B$6:$K$73,MATCH(L11,[2]bizjet!$B$6:$B$73,0),7),INDEX([2]bizjet!$B$6:$K$73,MATCH(M11,[2]bizjet!$B$6:$B$73,0),7))","v":{"$error":"#N/A"}},1,{"$f":"INDEX('[1]Pt1-DATA'!$A$5:$M$13349,MATCH(A11,'[1]Pt1-DATA'!$C$5:$C$13349,0),6)","v":"A"},"TCAS antennas",null,0]
["36#752",{"$f":"IFERROR(INDEX('[1]Pt1-DATA'!$C:$D,MATCH(A12,'[1]Pt1-DATA'!$C:$C,0),2),\"\")","v":14677},{"$f":"IFERROR(INDEX([2]bizjet!$B$6:$K$73,MATCH(L12,[2]bizjet!$B$6:$B$73,0),4)*1000,INDEX([2]bizjet!$B$6:$K$73,MATCH(M12,[2]bizjet!$B$6:$B$73,0),4)*1000)","v":15000},{"$f":"B12*(1+'Federal Reserve PPI AC Parts'!$E$12)","v":16414.800264410365},{"$f":"C12*(1+'Federal Reserve PPI AC Parts'!$E$12)","v":16776.044420941304},"Validated PW 2020",17000,-2.1533333333333335E-2,{"$f":"IFERROR(INDEX([2]bizjet!$B$6:$K$73,MATCH(L12,[2]bizjet!$B$6:$B$73,0),7),INDEX([2]bizjet!$B$6:$K$73,MATCH(M12,[2]bizjet!$B$6:$B$73,0),7))","v":"???"},1,{"$f":"INDEX('[1]Pt1-DATA'!$A$5:$M$13349,MATCH(A12,'[1]Pt1-DATA'!$C$5:$C$13349,0),6)","v":"E"},"Cockpit Voice Recorder","Cockpit Data Recorder",14677]
["36#754",{"$f":"IFERROR(INDEX('[1]Pt1-DATA'!$C:$D,MATCH(A13,'[1]Pt1-DATA'!$C:$C,0),2),\"\")","v":17261},{"$f":"IFERROR(INDEX([2]bizjet!$B$6:$K$73,MATCH(L13,[2]bizjet!$B$6:$B$73,0),4)*1000,INDEX([2]bizjet!$B$6:$K$73,MATCH(M13,[2]bizjet!$B$6:$B$73,0),4)*1000)","v":15000},{"$f":"B13*(1+'Federal Reserve PPI AC Parts'!$E$12)","v":19304.753516657856},{"$f":"C13*(1+'Federal Reserve PPI AC Parts'!$E$12)","v":16776.044420941304},"PW Low",20000,0.15073333333333333,{"$f":"IFERROR(INDEX([2]bizjet!$B$6:$K$73,MATCH(L13,[2]bizjet!$B$6:$B$73,0),7),INDEX([2]bizjet!$B$6:$K$73,MATCH(M13,[2]bizjet!$B$6:$B$73,0),7))","v":"???"},1,{"$f":"INDEX('[1]Pt1-DATA'!$A$5:$M$13349,MATCH(A13,'[1]Pt1-DATA'!$C$5:$C$13349,0),6)","v":"G"},"Flight Data Recorder",null,17261]
["36#764",{"$f":"IFERROR(INDEX('[1]Pt1-DATA'!$C:$D,MATCH(A14,'[1]Pt1-DATA'!$C:$C,0),2),\"\")","v":17731},{"$f":"IFERROR(INDEX([2]bizjet!$B$6:$K$73,MATCH(L14,[2]bizjet!$B$6:$B$73,0),4)*1000,INDEX([2]bizjet!$B$6:$K$73,MATCH(M14,[2]bizjet!$B$6:$B$73,0),4)*1000)","v":20000},{"$f":"B14*(1+'Federal Reserve PPI AC Parts'!$E$12)","v":19830.402908514017},{"$f":"C14*(1+'Federal Reserve PPI AC Parts'!$E$12)","v":22368.059227921738},"Validated PW 2020",23000,-0.11345,{"$f":"IFERROR(INDEX([2]bizjet!$B$6:$K$73,MATCH(L14,[2]bizjet!$B$6:$B$73,0),7),INDEX([2]bizjet!$B$6:$K$73,MATCH(M14,[2]bizjet!$B$6:$B$73,0),7))","v":"????"},1,{"$f":"INDEX('[1]Pt1-DATA'!$A$5:$M$13349,MATCH(A14,'[1]Pt1-DATA'!$C$5:$C$13349,0),6)","v":"H1"},"Radar altimeters","Radio Altimeter System",17731]
["36#765",{"$f":"IFERROR(INDEX('[1]Pt1-DATA'!$C:$D,MATCH(A15,'[1]Pt1-DATA'!$C:$C,0),2),\"\")","v":10121},{"$f":"IFERROR(INDEX([2]bizjet!$B$6:$K$73,MATCH(L15,[2]bizjet!$B$6:$B$73,0),4)*1000,INDEX([2]bizjet!$B$6:$K$73,MATCH(M15,[2]bizjet!$B$6:$B$73,0),4)*1000)","v":40000},{"$f":"B15*(1+'Federal Reserve PPI AC Parts'!$E$12)","v":11319.356372289794},{"$f":"C15*(1+'Federal Reserve PPI AC Parts'!$E$12)","v":44736.118455843476},"Validated PW 2020",45000,-0.74697499999999994,{"$f":"IFERROR(INDEX([2]bizjet!$B$6:$K$73,MATCH(L15,[2]bizjet!$B$6:$B$73,0),7),INDEX([2]bizjet!$B$6:$K$73,MATCH(M15,[2]bizjet!$B$6:$B$73,0),7))","v":"HWL"},2,{"$f":"INDEX('[1]Pt1-DATA'!$A$5:$M$13349,MATCH(A15,'[1]Pt1-DATA'!$C$5:$C$13349,0),6)","v":"F"},"Multi Function Display","Display units",10121]
["36#771",{"$f":"IFERROR(INDEX('[1]Pt1-DATA'!$C:$D,MATCH(A16,'[1]Pt1-DATA'!$C:$C,0),2),\"\")","v":34520},{"$f":"IFERROR(INDEX([2]bizjet!$B$6:$K$73,MATCH(L16,[2]bizjet!$B$6:$B$73,0),4)*1000,INDEX([2]bizjet!$B$6:$K$73,MATCH(M16,[2]bizjet!$B$6:$B$73,0),4)*1000)","v":{"$error":"#N/A"}},{"$f":"B16*(1+'Federal Reserve PPI AC Parts'!$E$12)","v":38607.270227392917},{"$f":"C16*(1+'Federal Reserve PPI AC Parts'!$E$12)","v":{"$error":"#N/A"}},null,0,{"$error":"#N/A"},{"$f":"IFERROR(INDEX([2]bizjet!$B$6:$K$73,MATCH(L16,[2]bizjet!$B$6:$B$73,0),7),INDEX([2]bizjet!$B$6:$K$73,MATCH(M16,[2]bizjet!$B$6:$B$73,0),7))","v":{"$error":"#N/A"}},4,{"$f":"INDEX('[1]Pt1-DATA'!$A$5:$M$13349,MATCH(A16,'[1]Pt1-DATA'!$C$5:$C$13349,0),6)","v":"E"},"Data Management Unit",null,34520]
["36#773",{"$f":"IFERROR(INDEX('[1]Pt1-DATA'!$C:$D,MATCH(A17,'[1]Pt1-DATA'!$C:$C,0),2),\"\")","v":72906},{"$f":"IFERROR(INDEX([2]bizjet!$B$6:$K$73,MATCH(L17,[2]bizjet!$B$6:$B$73,0),4)*1000,INDEX([2]bizjet!$B$6:$K$73,MATCH(M17,[2]bizjet!$B$6:$B$73,0),4)*1000)","v":40000},{"$f":"B17*(1+'Federal Reserve PPI AC Parts'!$E$12)","v":81538.286303543107},{"$f":"C17*(1+'Federal Reserve PPI AC Parts'!$E$12)","v":44736.118455843476},"PW Low",82000,0.82264999999999999,{"$f":"IFERROR(INDEX([2]bizjet!$B$6:$K$73,MATCH(L17,[2]bizjet!$B$6:$B$73,0),7),INDEX([2]bizjet!$B$6:$K$73,MATCH(M17,[2]bizjet!$B$6:$B$73,0),7))","v":"HWL"},2,{"$f":"INDEX('[1]Pt1-DATA'!$A$5:$M$13349,MATCH(A17,'[1]Pt1-DATA'!$C$5:$C$13349,0),6)","v":"C"},"Common Core processing","Integrated Avionics computers (IACs)",72906]
["36#775",{"$f":"IFERROR(INDEX('[1]Pt1-DATA'!$C:$D,MATCH(A18,'[1]Pt1-DATA'!$C:$C,0),2),\"\")","v":41660},{"$f":"IFERROR(INDEX([2]bizjet!$B$6:$K$73,MATCH(L18,[2]bizjet!$B$6:$B$73,0),4)*1000,INDEX([2]bizjet!$B$6:$K$73,MATCH(M18,[2]bizjet!$B$6:$B$73,0),4)*1000)","v":{"$error":"#N/A"}},{"$f":"B18*(1+'Federal Reserve PPI AC Parts'!$E$12)","v":46592.667371760981},{"$f":"C18*(1+'Federal Reserve PPI AC Parts'!$E$12)","v":{"$error":"#N/A"}},null,0,{"$error":"#N/A"},{"$f":"IFERROR(INDEX([2]bizjet!$B$6:$K$73,MATCH(L18,[2]bizjet!$B$6:$B$73,0),7),INDEX([2]bizjet!$B$6:$K$73,MATCH(M18,[2]bizjet!$B$6:$B$73,0),7))","v":{"$error":"#N/A"}},1,{"$f":"INDEX('[1]Pt1-DATA'!$A$5:$M$13349,MATCH(A18,'[1]Pt1-DATA'!$C$5:$C$13349,0),6)","v":"C"},"Common Data Network",null,41660]
["36#804",{"$f":"IFERROR(INDEX('[1]Pt1-DATA'!$C:$D,MATCH(A19,'[1]Pt1-DATA'!$C:$C,0),2),\"\")","v":8965},{"$f":"IFERROR(INDEX([2]bizjet!$B$6:$K$73,MATCH(L19,[2]bizjet!$B$6:$B$73,0),4)*1000,INDEX([2]bizjet!$B$6:$K$73,MATCH(M19,[2]bizjet!$B$6:$B$73,0),4)*1000)","v":30000},{"$f":"B19*(1+'Federal Reserve PPI AC Parts'!$E$12)","v":10026.482548915919},{"$f":"C19*(1+'Federal Reserve PPI AC Parts'!$E$12)","v":33552.088841882607},"Validated PW 2020",34000,-0.70116666666666672,{"$f":"IFERROR(INDEX([2]bizjet!$B$6:$K$73,MATCH(L19,[2]bizjet!$B$6:$B$73,0),7),INDEX([2]bizjet!$B$6:$K$73,MATCH(M19,[2]bizjet!$B$6:$B$73,0),7))","v":"HWL"},1,{"$f":"INDEX('[1]Pt1-DATA'!$A$5:$M$13349,MATCH(A19,'[1]Pt1-DATA'!$C$5:$C$13349,0),6)","v":"E"},"Flight Guidance System (A/Pilot)","Auto pilot system",8965]
["36#806",{"$f":"IFERROR(INDEX('[1]Pt1-DATA'!$C:$D,MATCH(A20,'[1]Pt1-DATA'!$C:$C,0),2),\"\")","v":24461},{"$f":"IFERROR(INDEX([2]bizjet!$B$6:$K$73,MATCH(L20,[2]bizjet!$B$6:$B$73,0),4)*1000,INDEX([2]bizjet!$B$6:$K$73,MATCH(M20,[2]bizjet!$B$6:$B$73,0),4)*1000)","v":25000},{"$f":"B20*(1+'Federal Reserve PPI AC Parts'!$E$12)","v":27357.254838709679},{"$f":"C20*(1+'Federal Reserve PPI AC Parts'!$E$12)","v":27960.074034902173},"Validated PW 2020",28000,-2.1559999999999999E-2,{"$f":"IFERROR(INDEX([2]bizjet!$B$6:$K$73,MATCH(L20,[2]bizjet!$B$6:$B$73,0),7),INDEX([2]bizjet!$B$6:$K$73,MATCH(M20,[2]bizjet!$B$6:$B$73,0),7))","v":"???"},3,{"$f":"INDEX('[1]Pt1-DATA'!$A$5:$M$13349,MATCH(A20,'[1]Pt1-DATA'!$C$5:$C$13349,0),6)","v":"F"},"Radio Antennas","Radio antenna, amplifier, sat data",24461]
["36#811",{"$f":"IFERROR(INDEX('[1]Pt1-DATA'!$C:$D,MATCH(A21,'[1]Pt1-DATA'!$C:$C,0),2),\"\")","v":40485},{"$f":"IFERROR(INDEX([2]bizjet!$B$6:$K$73,MATCH(L21,[2]bizjet!$B$6:$B$73,0),4)*1000,INDEX([2]bizjet!$B$6:$K$73,MATCH(M21,[2]bizjet!$B$6:$B$73,0),4)*1000)","v":40000},{"$f":"B21*(1+'Federal Reserve PPI AC Parts'!$E$12)","v":45278.543892120579},{"$f":"C21*(1+'Federal Reserve PPI AC Parts'!$E$12)","v":44736.118455843476},"Validated PW 2020",45000,1.2125E-2,{"$f":"IFERROR(INDEX([2]bizjet!$B$6:$K$73,MATCH(L21,[2]bizjet!$B$6:$B$73,0),7),INDEX([2]bizjet!$B$6:$K$73,MATCH(M21,[2]bizjet!$B$6:$B$73,0),7))","v":"HWL"},6,{"$f":"INDEX('[1]Pt1-DATA'!$A$5:$M$13349,MATCH(A21,'[1]Pt1-DATA'!$C$5:$C$13349,0),6)","v":"E"},"Main displays","Display units",40485]
["36#822",{"$f":"IFERROR(INDEX('[1]Pt1-DATA'!$C:$D,MATCH(A22,'[1]Pt1-DATA'!$C:$C,0),2),\"\")","v":93736},{"$f":"IFERROR(INDEX([2]bizjet!$B$6:$K$73,MATCH(L22,[2]bizjet!$B$6:$B$73,0),4)*1000,INDEX([2]bizjet!$B$6:$K$73,MATCH(M22,[2]bizjet!$B$6:$B$73,0),4)*1000)","v":40000},{"$f":"B22*(1+'Federal Reserve PPI AC Parts'!$E$12)","v":104834.61998942359},{"$f":"C22*(1+'Federal Reserve PPI AC Parts'!$E$12)","v":44736.118455843476},"PW Low",105000,1.3433999999999999,{"$f":"IFERROR(INDEX([2]bizjet!$B$6:$K$73,MATCH(L22,[2]bizjet!$B$6:$B$73,0),7),INDEX([2]bizjet!$B$6:$K$73,MATCH(M22,[2]bizjet!$B$6:$B$73,0),7))","v":"HWL"},3,{"$f":"INDEX('[1]Pt1-DATA'!$A$5:$M$13349,MATCH(A22,'[1]Pt1-DATA'!$C$5:$C$13349,0),6)","v":"E"},"Integrated Avionics computers (IACs)",null,93736]
["36#823",{"$f":"IFERROR(INDEX('[1]Pt1-DATA'!$C:$D,MATCH(A23,'[1]Pt1-DATA'!$C:$C,0),2),\"\")","v":25303},{"$f":"IFERROR(INDEX([2]bizjet!$B$6:$K$73,MATCH(L23,[2]bizjet!$B$6:$B$73,0),4)*1000,INDEX([2]bizjet!$B$6:$K$73,MATCH(M23,[2]bizjet!$B$6:$B$73,0),4)*1000)","v":25000},{"$f":"B23*(1+'Federal Reserve PPI AC Parts'!$E$12)","v":28298.950132205187},{"$f":"C23*(1+'Federal Reserve PPI AC Parts'!$E$12)","v":27960.074034902173},"Validated PW 2020",28000,1.2120000000000001E-2,{"$f":"IFERROR(INDEX([2]bizjet!$B$6:$K$73,MATCH(L23,[2]bizjet!$B$6:$B$73,0),7),INDEX([2]bizjet!$B$6:$K$73,MATCH(M23,[2]bizjet!$B$6:$B$73,0),7))","v":"Collins"},1,{"$f":"INDEX('[1]Pt1-DATA'!$A$5:$M$13349,MATCH(A23,'[1]Pt1-DATA'!$C$5:$C$13349,0),6)","v":"E"},"Standby display unit",null,25303]
["36#824",{"$f":"IFERROR(INDEX('[1]Pt1-DATA'!$C:$D,MATCH(A24,'[1]Pt1-DATA'!$C:$C,0),2),\"\")","v":8097},{"$f":"IFERROR(INDEX([2]bizjet!$B$6:$K$73,MATCH(L24,[2]bizjet!$B$6:$B$73,0),4)*1000,INDEX([2]bizjet!$B$6:$K$73,MATCH(M24,[2]bizjet!$B$6:$B$73,0),4)*1000)","v":8000},{"$f":"B24*(1+'Federal Reserve PPI AC Parts'!$E$12)","v":9055.7087784241157},{"$f":"C24*(1+'Federal Reserve PPI AC Parts'!$E$12)","v":8947.2236911686941},"Validated PW 2020",9000,1.2125E-2,{"$f":"IFERROR(INDEX([2]bizjet!$B$6:$K$73,MATCH(L24,[2]bizjet!$B$6:$B$73,0),7),INDEX([2]bizjet!$B$6:$K$73,MATCH(M24,[2]bizjet!$B$6:$B$73,0),7))","v":"???"},2,{"$f":"INDEX('[1]Pt1-DATA'!$A$5:$M$13349,MATCH(A24,'[1]Pt1-DATA'!$C$5:$C$13349,0),6)","v":"E"},"PFD Control panels",null,8097]
["36#825",{"$f":"IFERROR(INDEX('[1]Pt1-DATA'!$C:$D,MATCH(A25,'[1]Pt1-DATA'!$C:$C,0),2),\"\")","v":37353},{"$f":"IFERROR(INDEX([2]bizjet!$B$6:$K$73,MATCH(L25,[2]bizjet!$B$6:$B$73,0),4)*1000,INDEX([2]bizjet!$B$6:$K$73,MATCH(M25,[2]bizjet!$B$6:$B$73,0),4)*1000)","v":30000},{"$f":"B25*(1+'Federal Reserve PPI AC Parts'!$E$12)","v":41775.705817028029},{"$f":"C25*(1+'Federal Reserve PPI AC Parts'!$E$12)","v":33552.088841882607},"PW Low",42000,0.24510000000000001,{"$f":"IFERROR(INDEX([2]bizjet!$B$6:$K$73,MATCH(L25,[2]bizjet!$B$6:$B$73,0),7),INDEX([2]bizjet!$B$6:$K$73,MATCH(M25,[2]bizjet!$B$6:$B$73,0),7))","v":"HWL"},1,{"$f":"INDEX('[1]Pt1-DATA'!$A$5:$M$13349,MATCH(A25,'[1]Pt1-DATA'!$C$5:$C$13349,0),6)","v":"F"},"Auto pilot system",null,37353]
["36#826",{"$f":"IFERROR(INDEX('[1]Pt1-DATA'!$C:$D,MATCH(A26,'[1]Pt1-DATA'!$C:$C,0),2),\"\")","v":35461},{"$f":"IFERROR(INDEX([2]bizjet!$B$6:$K$73,MATCH(L26,[2]bizjet!$B$6:$B$73,0),4)*1000,INDEX([2]bizjet!$B$6:$K$73,MATCH(M26,[2]bizjet!$B$6:$B$73,0),4)*1000)","v":45000},{"$f":"B26*(1+'Federal Reserve PPI AC Parts'!$E$12)","v":39659.687414066633},{"$f":"C26*(1+'Federal Reserve PPI AC Parts'!$E$12)","v":50328.133262823911},"Validated PW 2020",51000,-0.21197777777777776,{"$f":"IFERROR(INDEX([2]bizjet!$B$6:$K$73,MATCH(L26,[2]bizjet!$B$6:$B$73,0),7),INDEX([2]bizjet!$B$6:$K$73,MATCH(M26,[2]bizjet!$B$6:$B$73,0),7))","v":"HWL"},3,{"$f":"INDEX('[1]Pt1-DATA'!$A$5:$M$13349,MATCH(A26,'[1]Pt1-DATA'!$C$5:$C$13349,0),6)","v":"E"},"Inertial Ref Unit (IRU)",null,35461]
["36#827",{"$f":"IFERROR(INDEX('[1]Pt1-DATA'!$C:$D,MATCH(A27,'[1]Pt1-DATA'!$C:$C,0),2),\"\")","v":8097},{"$f":"IFERROR(INDEX([2]bizjet!$B$6:$K$73,MATCH(L27,[2]bizjet!$B$6:$B$73,0),4)*1000,INDEX([2]bizjet!$B$6:$K$73,MATCH(M27,[2]bizjet!$B$6:$B$73,0),4)*1000)","v":8000},{"$f":"B27*(1+'Federal Reserve PPI AC Parts'!$E$12)","v":9055.7087784241157},{"$f":"C27*(1+'Federal Reserve PPI AC Parts'!$E$12)","v":8947.2236911686941},"Validated PW 2020",9000,1.2125E-2,{"$f":"IFERROR(INDEX([2]bizjet!$B$6:$K$73,MATCH(L27,[2]bizjet!$B$6:$B$73,0),7),INDEX([2]bizjet!$B$6:$K$73,MATCH(M27,[2]bizjet!$B$6:$B$73,0),7))","v":"HWL"},1,{"$f":"INDEX('[1]Pt1-DATA'!$A$5:$M$13349,MATCH(A27,'[1]Pt1-DATA'!$C$5:$C$13349,0),6)","v":"E"},"EICAS Controller panel",null,8097]
["36#828",{"$f":"IFERROR(INDEX('[1]Pt1-DATA'!$C:$D,MATCH(A28,'[1]Pt1-DATA'!$C:$C,0),2),\"\")","v":17612},{"$f":"IFERROR(INDEX([2]bizjet!$B$6:$K$73,MATCH(L28,[2]bizjet!$B$6:$B$73,0),4)*1000,INDEX([2]bizjet!$B$6:$K$73,MATCH(M28,[2]bizjet!$B$6:$B$73,0),4)*1000)","v":18000},{"$f":"B28*(1+'Federal Reserve PPI AC Parts'!$E$12)","v":19697.312956107882},{"$f":"C28*(1+'Federal Reserve PPI AC Parts'!$E$12)","v":20131.253305129565},"Validated PW 2020",20000,-2.1555555555555557E-2,{"$f":"IFERROR(INDEX([2]bizjet!$B$6:$K$73,MATCH(L28,[2]bizjet!$B$6:$B$73,0),7),INDEX([2]bizjet!$B$6:$K$73,MATCH(M28,[2]bizjet!$B$6:$B$73,0),7))","v":"HWL"},2,{"$f":"INDEX('[1]Pt1-DATA'!$A$5:$M$13349,MATCH(A28,'[1]Pt1-DATA'!$C$5:$C$13349,0),6)","v":"E"},"ATC Transponder",null,17612]
["36#829",{"$f":"IFERROR(INDEX('[1]Pt1-DATA'!$C:$D,MATCH(A29,'[1]Pt1-DATA'!$C:$C,0),2),\"\")","v":40517},{"$f":"IFERROR(INDEX([2]bizjet!$B$6:$K$73,MATCH(L29,[2]bizjet!$B$6:$B$73,0),4)*1000,INDEX([2]bizjet!$B$6:$K$73,MATCH(M29,[2]bizjet!$B$6:$B$73,0),4)*1000)","v":50000},{"$f":"B29*(1+'Federal Reserve PPI AC Parts'!$E$12)","v":45314.33278688525},{"$f":"C29*(1+'Federal Reserve PPI AC Parts'!$E$12)","v":55920.148069804345},"Validated PW 2020",56000,-0.18966,{"$f":"IFERROR(INDEX([2]bizjet!$B$6:$K$73,MATCH(L29,[2]bizjet!$B$6:$B$73,0),7),INDEX([2]bizjet!$B$6:$K$73,MATCH(M29,[2]bizjet!$B$6:$B$73,0),7))","v":"????"},1,{"$f":"INDEX('[1]Pt1-DATA'!$A$5:$M$13349,MATCH(A29,'[1]Pt1-DATA'!$C$5:$C$13349,0),6)","v":"E"},"Radar Antenna (nose nounted)",null,40517]
["36#830",{"$f":"IFERROR(INDEX('[1]Pt1-DATA'!$C:$D,MATCH(A30,'[1]Pt1-DATA'!$C:$C,0),2),\"\")","v":21526},{"$f":"IFERROR(INDEX([2]bizjet!$B$6:$K$73,MATCH(L30,[2]bizjet!$B$6:$B$73,0),4)*1000,INDEX([2]bizjet!$B$6:$K$73,MATCH(M30,[2]bizjet!$B$6:$B$73,0),4)*1000)","v":25000},{"$f":"B30*(1+'Federal Reserve PPI AC Parts'!$E$12)","v":24074.742147012166},{"$f":"C30*(1+'Federal Reserve PPI AC Parts'!$E$12)","v":27960.074034902173},"Validated PW 2020",28000,-0.13896,{"$f":"IFERROR(INDEX([2]bizjet!$B$6:$K$73,MATCH(L30,[2]bizjet!$B$6:$B$73,0),7),INDEX([2]bizjet!$B$6:$K$73,MATCH(M30,[2]bizjet!$B$6:$B$73,0),7))","v":"???"},3,{"$f":"INDEX('[1]Pt1-DATA'!$A$5:$M$13349,MATCH(A30,'[1]Pt1-DATA'!$C$5:$C$13349,0),6)","v":"E"},"Radio antenna, amplifier, sat data",null,21526]
["36#831",{"$f":"IFERROR(INDEX('[1]Pt1-DATA'!$C:$D,MATCH(A31,'[1]Pt1-DATA'!$C:$C,0),2),\"\")","v":26597},{"$f":"IFERROR(INDEX([2]bizjet!$B$6:$K$73,MATCH(L31,[2]bizjet!$B$6:$B$73,0),4)*1000,INDEX([2]bizjet!$B$6:$K$73,MATCH(M31,[2]bizjet!$B$6:$B$73,0),4)*1000)","v":25000},{"$f":"B31*(1+'Federal Reserve PPI AC Parts'!$E$12)","v":29746.163564251721},{"$f":"C31*(1+'Federal Reserve PPI AC Parts'!$E$12)","v":27960.074034902173},"Validated PW 2020",28000,6.3880000000000006E-2,{"$f":"IFERROR(INDEX([2]bizjet!$B$6:$K$73,MATCH(L31,[2]bizjet!$B$6:$B$73,0),7),INDEX([2]bizjet!$B$6:$K$73,MATCH(M31,[2]bizjet!$B$6:$B$73,0),7))","v":"???"},1,{"$f":"INDEX('[1]Pt1-DATA'!$A$5:$M$13349,MATCH(A31,'[1]Pt1-DATA'!$C$5:$C$13349,0),6)","v":"E"},"Radio antenna, amplifier, sat data",null,26597]
["36#832",{"$f":"IFERROR(INDEX('[1]Pt1-DATA'!$C:$D,MATCH(A32,'[1]Pt1-DATA'!$C:$C,0),2),\"\")","v":21526},{"$f":"IFERROR(INDEX([2]bizjet!$B$6:$K$73,MATCH(L32,[2]bizjet!$B$6:$B$73,0),4)*1000,INDEX([2]bizjet!$B$6:$K$73,MATCH(M32,[2]bizjet!$B$6:$B$73,0),4)*1000)","v":25000},{"$f":"B32*(1+'Federal Reserve PPI AC Parts'!$E$12)","v":24074.742147012166},{"$f":"C32*(1+'Federal Reserve PPI AC Parts'!$E$12)","v":27960.074034902173},"Validated PW 2020",28000,-0.13896,{"$f":"IFERROR(INDEX([2]bizjet!$B$6:$K$73,MATCH(L32,[2]bizjet!$B$6:$B$73,0),7),INDEX([2]bizjet!$B$6:$K$73,MATCH(M32,[2]bizjet!$B$6:$B$73,0),7))","v":0},2,{"$f":"INDEX('[1]Pt1-DATA'!$A$5:$M$13349,MATCH(A32,'[1]Pt1-DATA'!$C$5:$C$13349,0),6)","v":"E"},"Comms Management System",null,21526]
["36#878",{"$f":"IFERROR(INDEX('[1]Pt1-DATA'!$C:$D,MATCH(A33,'[1]Pt1-DATA'!$C:$C,0),2),\"\")","v":82497},{"$f":"IFERROR(INDEX([2]bizjet!$B$6:$K$73,MATCH(L33,[2]bizjet!$B$6:$B$73,0),4)*1000,INDEX([2]bizjet!$B$6:$K$73,MATCH(M33,[2]bizjet!$B$6:$B$73,0),4)*1000)","v":{"$error":"#N/A"}},{"$f":"B33*(1+'Federal Reserve PPI AC Parts'!$E$12)","v":92264.889106292976},{"$f":"C33*(1+'Federal Reserve PPI AC Parts'!$E$12)","v":{"$error":"#N/A"}},"Validated Model 2020",93000,{"$error":"#N/A"},{"$f":"IFERROR(INDEX([2]bizjet!$B$6:$K$73,MATCH(L33,[2]bizjet!$B$6:$B$73,0),7),INDEX([2]bizjet!$B$6:$K$73,MATCH(M33,[2]bizjet!$B$6:$B$73,0),7))","v":{"$error":"#N/A"}},1,{"$f":"INDEX('[1]Pt1-DATA'!$A$5:$M$13349,MATCH(A33,'[1]Pt1-DATA'!$C$5:$C$13349,0),6)","v":"G1"},"Sensors IFF, other",null,82497]
["36#879",{"$f":"IFERROR(INDEX('[1]Pt1-DATA'!$C:$D,MATCH(A34,'[1]Pt1-DATA'!$C:$C,0),2),\"\")","v":107012},{"$f":"IFERROR(INDEX([2]bizjet!$B$6:$K$73,MATCH(L34,[2]bizjet!$B$6:$B$73,0),4)*1000,INDEX([2]bizjet!$B$6:$K$73,MATCH(M34,[2]bizjet!$B$6:$B$73,0),4)*1000)","v":{"$error":"#N/A"}},{"$f":"B34*(1+'Federal Reserve PPI AC Parts'!$E$12)","v":119682.53770491805},{"$f":"C34*(1+'Federal Reserve PPI AC Parts'!$E$12)","v":{"$error":"#N/A"}},"Validated Model 2020",120000,{"$error":"#N/A"},{"$f":"IFERROR(INDEX([2]bizjet!$B$6:$K$73,MATCH(L34,[2]bizjet!$B$6:$B$73,0),7),INDEX([2]bizjet!$B$6:$K$73,MATCH(M34,[2]bizjet!$B$6:$B$73,0),7))","v":{"$error":"#N/A"}},1,{"$f":"INDEX('[1]Pt1-DATA'!$A$5:$M$13349,MATCH(A34,'[1]Pt1-DATA'!$C$5:$C$13349,0),6)","v":"Q"},"Software",null,107012]
["36#880",{"$f":"IFERROR(INDEX('[1]Pt1-DATA'!$C:$D,MATCH(A35,'[1]Pt1-DATA'!$C:$C,0),2),\"\")","v":8800},{"$f":"IFERROR(INDEX([2]bizjet!$B$6:$K$73,MATCH(L35,[2]bizjet!$B$6:$B$73,0),4)*1000,INDEX([2]bizjet!$B$6:$K$73,MATCH(M35,[2]bizjet!$B$6:$B$73,0),4)*1000)","v":{"$error":"#N/A"}},{"$f":"B35*(1+'Federal Reserve PPI AC Parts'!$E$12)","v":9841.9460602855652},{"$f":"C35*(1+'Federal Reserve PPI AC Parts'!$E$12)","v":{"$error":"#N/A"}},"Validated Model 2020",10000,{"$error":"#N/A"},{"$f":"IFERROR(INDEX([2]bizjet!$B$6:$K$73,MATCH(L35,[2]bizjet!$B$6:$B$73,0),7),INDEX([2]bizjet!$B$6:$K$73,MATCH(M35,[2]bizjet!$B$6:$B$73,0),7))","v":{"$error":"#N/A"}},8,{"$f":"INDEX('[1]Pt1-DATA'!$A$5:$M$13349,MATCH(A35,'[1]Pt1-DATA'!$C$5:$C$13349,0),6)","v":"E"},"Air data sensors",null,8800]
["36#884",{"$f":"IFERROR(INDEX('[1]Pt1-DATA'!$C:$D,MATCH(A36,'[1]Pt1-DATA'!$C:$C,0),2),\"\")","v":75969},{"$f":"IFERROR(INDEX([2]bizjet!$B$6:$K$73,MATCH(L36,[2]bizjet!$B$6:$B$73,0),4)*1000,INDEX([2]bizjet!$B$6:$K$73,MATCH(M36,[2]bizjet!$B$6:$B$73,0),4)*1000)","v":{"$error":"#N/A"}},{"$f":"B36*(1+'Federal Reserve PPI AC Parts'!$E$12)","v":84963.954574299321},{"$f":"C36*(1+'Federal Reserve PPI AC Parts'!$E$12)","v":{"$error":"#N/A"}},"Validated Model 2020",85000,{"$error":"#N/A"},{"$f":"IFERROR(INDEX([2]bizjet!$B$6:$K$73,MATCH(L36,[2]bizjet!$B$6:$B$73,0),7),INDEX([2]bizjet!$B$6:$K$73,MATCH(M36,[2]bizjet!$B$6:$B$73,0),7))","v":{"$error":"#N/A"}},1,{"$f":"INDEX('[1]Pt1-DATA'!$A$5:$M$13349,MATCH(A36,'[1]Pt1-DATA'!$C$5:$C$13349,0),6)","v":"E"},"Sensor suite WX radar etc",null,75969]
["36#1056",{"$f":"IFERROR(INDEX('[1]Pt1-DATA'!$C:$D,MATCH(A37,'[1]Pt1-DATA'!$C:$C,0),2),\"\")","v":2119},{"$f":"IFERROR(INDEX([2]bizjet!$B$6:$K$73,MATCH(L37,[2]bizjet!$B$6:$B$73,0),4)*1000,INDEX([2]bizjet!$B$6:$K$73,MATCH(M37,[2]bizjet!$B$6:$B$73,0),4)*1000)","v":{"$error":"#N/A"}},{"$f":"B37*(1+'Federal Reserve PPI AC Parts'!$E$12)","v":2369.8958751983082},{"$f":"C37*(1+'Federal Reserve PPI AC Parts'!$E$12)","v":{"$error":"#N/A"}},"Validated Model 2020",2400,{"$error":"#N/A"},{"$f":"IFERROR(INDEX([2]bizjet!$B$6:$K$73,MATCH(L37,[2]bizjet!$B$6:$B$73,0),7),INDEX([2]bizjet!$B$6:$K$73,MATCH(M37,[2]bizjet!$B$6:$B$73,0),7))","v":{"$error":"#N/A"}},1,{"$f":"INDEX('[1]Pt1-DATA'!$A$5:$M$13349,MATCH(A37,'[1]Pt1-DATA'!$C$5:$C$13349,0),6)","v":"BL"},"Avionics Harnesses",null,2119]
["36#1057",{"$f":"IFERROR(INDEX('[1]Pt1-DATA'!$C:$D,MATCH(A38,'[1]Pt1-DATA'!$C:$C,0),2),\"\")","v":15092},{"$f":"IFERROR(INDEX([2]bizjet!$B$6:$K$73,MATCH(L38,[2]bizjet!$B$6:$B$73,0),4)*1000,INDEX([2]bizjet!$B$6:$K$73,MATCH(M38,[2]bizjet!$B$6:$B$73,0),4)*1000)","v":{"$error":"#N/A"}},{"$f":"B38*(1+'Federal Reserve PPI AC Parts'!$E$12)","v":16878.937493389742},{"$f":"C38*(1+'Federal Reserve PPI AC Parts'!$E$12)","v":{"$error":"#N/A"}},"Validated Model 2020",17000,{"$error":"#N/A"},{"$f":"IFERROR(INDEX([2]bizjet!$B$6:$K$73,MATCH(L38,[2]bizjet!$B$6:$B$73,0),7),INDEX([2]bizjet!$B$6:$K$73,MATCH(M38,[2]bizjet!$B$6:$B$73,0),7))","v":{"$error":"#N/A"}},1,{"$f":"INDEX('[1]Pt1-DATA'!$A$5:$M$13349,MATCH(A38,'[1]Pt1-DATA'!$C$5:$C$13349,0),6)","v":"BL"},"Avionics Harnesses",null,15092]
["36#1058",{"$f":"IFERROR(INDEX('[1]Pt1-DATA'!$C:$D,MATCH(A39,'[1]Pt1-DATA'!$C:$C,0),2),\"\")","v":18250},{"$f":"IFERROR(INDEX([2]bizjet!$B$6:$K$73,MATCH(L39,[2]bizjet!$B$6:$B$73,0),4)*1000,INDEX([2]bizjet!$B$6:$K$73,MATCH(M39,[2]bizjet!$B$6:$B$73,0),4)*1000)","v":{"$error":"#N/A"}},{"$f":"B39*(1+'Federal Reserve PPI AC Parts'!$E$12)","v":20410.854045478583},{"$f":"C39*(1+'Federal Reserve PPI AC Parts'!$E$12)","v":{"$error":"#N/A"}},"Validated Model 2020",21000,{"$error":"#N/A"},{"$f":"IFERROR(INDEX([2]bizjet!$B$6:$K$73,MATCH(L39,[2]bizjet!$B$6:$B$73,0),7),INDEX([2]bizjet!$B$6:$K$73,MATCH(M39,[2]bizjet!$B$6:$B$73,0),7))","v":{"$error":"#N/A"}},1,{"$f":"INDEX('[1]Pt1-DATA'!$A$5:$M$13349,MATCH(A39,'[1]Pt1-DATA'!$C$5:$C$13349,0),6)","v":"BL"},"Avionics Harnesses",null,18250]
["36#1059",{"$f":"IFERROR(INDEX('[1]Pt1-DATA'!$C:$D,MATCH(A40,'[1]Pt1-DATA'!$C:$C,0),2),\"\")","v":3773},{"$f":"IFERROR(INDEX([2]bizjet!$B$6:$K$73,MATCH(L40,[2]bizjet!$B$6:$B$73,0),4)*1000,INDEX([2]bizjet!$B$6:$K$73,MATCH(M40,[2]bizjet!$B$6:$B$73,0),4)*1000)","v":{"$error":"#N/A"}},{"$f":"B40*(1+'Federal Reserve PPI AC Parts'!$E$12)","v":4219.7343733474354},{"$f":"C40*(1+'Federal Reserve PPI AC Parts'!$E$12)","v":{"$error":"#N/A"}},"Validated Model 2020",4500,{"$error":"#N/A"},{"$f":"IFERROR(INDEX([2]bizjet!$B$6:$K$73,MATCH(L40,[2]bizjet!$B$6:$B$73,0),7),INDEX([2]bizjet!$B$6:$K$73,MATCH(M40,[2]bizjet!$B$6:$B$73,0),7))","v":{"$error":"#N/A"}},1,{"$f":"INDEX('[1]Pt1-DATA'!$A$5:$M$13349,MATCH(A40,'[1]Pt1-DATA'!$C$5:$C$13349,0),6)","v":"BL"},"Avionics Harnesses",null,3773]
[null,{"$f":"IFERROR(INDEX('[1]Pt1-DATA'!$C:$D,MATCH(A41,'[1]Pt1-DATA'!$C:$C,0),2),\"\")","v":""},{"$f":"IFERROR(INDEX([2]bizjet!$B$6:$K$73,MATCH(L41,[2]bizjet!$B$6:$B$73,0),4)*1000,INDEX([2]bizjet!$B$6:$K$73,MATCH(M41,[2]bizjet!$B$6:$B$73,0),4)*1000)","v":30000},{"$f":"B41*(1+'Federal Reserve PPI AC Parts'!$E$12)","v":{"$error":"#VALUE!"}},{"$f":"C41*(1+'Federal Reserve PPI AC Parts'!$E$12)","v":33552.088841882607},"Validated PW 2020",34000,{"$f":"(B41-C41)/C41","v":{"$error":"#VALUE!"}},{"$f":"IFERROR(INDEX([2]bizjet!$B$6:$K$73,MATCH(L41,[2]bizjet!$B$6:$B$73,0),7),INDEX([2]bizjet!$B$6:$K$73,MATCH(M41,[2]bizjet!$B$6:$B$73,0),7))","v":"HWL"},1,{"$f":"INDEX('[1]Pt1-DATA'!$A$5:$M$13349,MATCH(A41,'[1]Pt1-DATA'!$C$5:$C$13349,0),6)","v":{"$error":"#N/A"}},null,"Data Acquisition Units (DAUs)",""]
[null,{"$f":"IFERROR(INDEX('[1]Pt1-DATA'!$C:$D,MATCH(A42,'[1]Pt1-DATA'!$C:$C,0),2),\"\")","v":""},{"$f":"IFERROR(INDEX([2]bizjet!$B$6:$K$73,MATCH(L42,[2]bizjet!$B$6:$B$73,0),4)*1000,INDEX([2]bizjet!$B$6:$K$73,MATCH(M42,[2]bizjet!$B$6:$B$73,0),4)*1000)","v":10000},{"$f":"B42*(1+'Federal Reserve PPI AC Parts'!$E$12)","v":{"$error":"#VALUE!"}},{"$f":"C42*(1+'Federal Reserve PPI AC Parts'!$E$12)","v":11184.029613960869},"Validated PW 2020",12000,{"$error":"#VALUE!"},{"$f":"IFERROR(INDEX([2]bizjet!$B$6:$K$73,MATCH(L42,[2]bizjet!$B$6:$B$73,0),7),INDEX([2]bizjet!$B$6:$K$73,MATCH(M42,[2]bizjet!$B$6:$B$73,0),7))","v":"??/"},2,{"$f":"INDEX('[1]Pt1-DATA'!$A$5:$M$13349,MATCH(A42,'[1]Pt1-DATA'!$C$5:$C$13349,0),6)","v":{"$error":"#N/A"}},null,"MFD control panels",""]
[null,{"$f":"IFERROR(INDEX('[1]Pt1-DATA'!$C:$D,MATCH(A43,'[1]Pt1-DATA'!$C:$C,0),2),\"\")","v":""},{"$f":"IFERROR(INDEX([2]bizjet!$B$6:$K$73,MATCH(L43,[2]bizjet!$B$6:$B$73,0),4)*1000,INDEX([2]bizjet!$B$6:$K$73,MATCH(M43,[2]bizjet!$B$6:$B$73,0),4)*1000)","v":35000},{"$f":"B43*(1+'Federal Reserve PPI AC Parts'!$E$12)","v":{"$error":"#VALUE!"}},{"$f":"C43*(1+'Federal Reserve PPI AC Parts'!$E$12)","v":39144.103648863042},"Validated PW 2020",40000,{"$error":"#VALUE!"},{"$f":"IFERROR(INDEX([2]bizjet!$B$6:$K$73,MATCH(L43,[2]bizjet!$B$6:$B$73,0),7),INDEX([2]bizjet!$B$6:$K$73,MATCH(M43,[2]bizjet!$B$6:$B$73,0),7))","v":"HWL"},2,{"$f":"INDEX('[1]Pt1-DATA'!$A$5:$M$13349,MATCH(A43,'[1]Pt1-DATA'!$C$5:$C$13349,0),6)","v":{"$error":"#N/A"}},null,"Navigation Control Display unit",""]
[null,{"$f":"IFERROR(INDEX('[1]Pt1-DATA'!$C:$D,MATCH(A44,'[1]Pt1-DATA'!$C:$C,0),2),\"\")","v":""},{"$f":"IFERROR(INDEX([2]bizjet!$B$6:$K$73,MATCH(L44,[2]bizjet!$B$6:$B$73,0),4)*1000,INDEX([2]bizjet!$B$6:$K$73,MATCH(M44,[2]bizjet!$B$6:$B$73,0),4)*1000)","v":12000},{"$f":"B44*(1+'Federal Reserve PPI AC Parts'!$E$12)","v":{"$error":"#VALUE!"}},{"$f":"C44*(1+'Federal Reserve PPI AC Parts'!$E$12)","v":13420.835536753042},"Validated PW 2020",14000,{"$error":"#VALUE!"},{"$f":"IFERROR(INDEX([2]bizjet!$B$6:$K$73,MATCH(L44,[2]bizjet!$B$6:$B$73,0),7),INDEX([2]bizjet!$B$6:$K$73,MATCH(M44,[2]bizjet!$B$6:$B$73,0),7))","v":"HWL"},2,{"$f":"INDEX('[1]Pt1-DATA'!$A$5:$M$13349,MATCH(A44,'[1]Pt1-DATA'!$C$5:$C$13349,0),6)","v":{"$error":"#N/A"}},null,"Flight Gudance Control panel (A/Pilot etc)",""]
[null,{"$f":"IFERROR(INDEX('[1]Pt1-DATA'!$C:$D,MATCH(A45,'[1]Pt1-DATA'!$C:$C,0),2),\"\")","v":""},{"$f":"IFERROR(INDEX([2]bizjet!$B$6:$K$73,MATCH(L45,[2]bizjet!$B$6:$B$73,0),4)*1000,INDEX([2]bizjet!$B$6:$K$73,MATCH(M45,[2]bizjet!$B$6:$B$73,0),4)*1000)","v":15000},{"$f":"B45*(1+'Federal Reserve PPI AC Parts'!$E$12)","v":{"$error":"#VALUE!"}},{"$f":"C45*(1+'Federal Reserve PPI AC Parts'!$E$12)","v":16776.044420941304},"Validated PW 2020",17000,{"$error":"#VALUE!"},{"$f":"IFERROR(INDEX([2]bizjet!$B$6:$K$73,MATCH(L45,[2]bizjet!$B$6:$B$73,0),7),INDEX([2]bizjet!$B$6:$K$73,MATCH(M45,[2]bizjet!$B$6:$B$73,0),7))","v":"HWL"},2,{"$f":"INDEX('[1]Pt1-DATA'!$A$5:$M$13349,MATCH(A45,'[1]Pt1-DATA'!$C$5:$C$13349,0),6)","v":{"$error":"#N/A"}},null,"TCAS transceiver",""]
[null,{"$f":"IFERROR(INDEX('[1]Pt1-DATA'!$C:$D,MATCH(A46,'[1]Pt1-DATA'!$C:$C,0),2),\"\")","v":""},{"$f":"IFERROR(INDEX([2]bizjet!$B$6:$K$73,MATCH(L46,[2]bizjet!$B$6:$B$73,0),4)*1000,INDEX([2]bizjet!$B$6:$K$73,MATCH(M46,[2]bizjet!$B$6:$B$73,0),4)*1000)","v":0},{"$f":"B46*(1+'Federal Reserve PPI AC Parts'!$E$12)","v":{"$error":"#VALUE!"}},{"$f":"C46*(1+'Federal Reserve PPI AC Parts'!$E$12)","v":0},"Validated PW 2020",0,{"$error":"#VALUE!"},{"$f":"IFERROR(INDEX([2]bizjet!$B$6:$K$73,MATCH(L46,[2]bizjet!$B$6:$B$73,0),7),INDEX([2]bizjet!$B$6:$K$73,MATCH(M46,[2]bizjet!$B$6:$B$73,0),7))","v":"HWL"},2,{"$f":"INDEX('[1]Pt1-DATA'!$A$5:$M$13349,MATCH(A46,'[1]Pt1-DATA'!$C$5:$C$13349,0),6)","v":{"$error":"#N/A"}},null,"Radio Management Unit (integrated Nav and Comms unit)",""]
[null,{"$f":"IFERROR(INDEX('[1]Pt1-DATA'!$C:$D,MATCH(A47,'[1]Pt1-DATA'!$C:$C,0),2),\"\")","v":""},{"$f":"IFERROR(INDEX([2]bizjet!$B$6:$K$73,MATCH(L47,[2]bizjet!$B$6:$B$73,0),4)*1000,INDEX([2]bizjet!$B$6:$K$73,MATCH(M47,[2]bizjet!$B$6:$B$73,0),4)*1000)","v":50000},{"$f":"B47*(1+'Federal Reserve PPI AC Parts'!$E$12)","v":{"$error":"#VALUE!"}},{"$f":"C47*(1+'Federal Reserve PPI AC Parts'!$E$12)","v":55920.148069804345},"Validated PW 2020",56000,{"$error":"#VALUE!"},{"$f":"IFERROR(INDEX([2]bizjet!$B$6:$K$73,MATCH(L47,[2]bizjet!$B$6:$B$73,0),7),INDEX([2]bizjet!$B$6:$K$73,MATCH(M47,[2]bizjet!$B$6:$B$73,0),7))","v":0},2,{"$f":"INDEX('[1]Pt1-DATA'!$A$5:$M$13349,MATCH(A47,'[1]Pt1-DATA'!$C$5:$C$13349,0),6)","v":{"$error":"#N/A"}},null,"Comms part",""]
[null,{"$f":"IFERROR(INDEX('[1]Pt1-DATA'!$C:$D,MATCH(A48,'[1]Pt1-DATA'!$C:$C,0),2),\"\")","v":""},{"$f":"IFERROR(INDEX([2]bizjet!$B$6:$K$73,MATCH(L48,[2]bizjet!$B$6:$B$73,0),4)*1000,INDEX([2]bizjet!$B$6:$K$73,MATCH(M48,[2]bizjet!$B$6:$B$73,0),4)*1000)","v":50000},{"$f":"B48*(1+'Federal Reserve PPI AC Parts'!$E$12)","v":{"$error":"#VALUE!"}},{"$f":"C48*(1+'Federal Reserve PPI AC Parts'!$E$12)","v":55920.148069804345},"Validated PW 2020",56000,{"$error":"#VALUE!"},{"$f":"IFERROR(INDEX([2]bizjet!$B$6:$K$73,MATCH(L48,[2]bizjet!$B$6:$B$73,0),7),INDEX([2]bizjet!$B$6:$K$73,MATCH(M48,[2]bizjet!$B$6:$B$73,0),7))","v":0},2,{"$f":"INDEX('[1]Pt1-DATA'!$A$5:$M$13349,MATCH(A48,'[1]Pt1-DATA'!$C$5:$C$13349,0),6)","v":{"$error":"#N/A"}},null,"Nav part",""]

{"sheet":"Mil trans","index":10,"n_rows":37,"n_cols":14,"rows_kept":37,"cut":false,"hidden":false,"merged":[]}
["Aircraft:",{"$f":"INDEX('[3]Pt1-AvionicsComponentCosts'!$A$11:$E$384,MATCH(VALUE(LEFT(A5,SEARCH(\"#\",A5)-1)),'[3]Pt1-AvionicsComponentCosts'!$A$11:$A$384,0),5)","v":"Airbus A400M Atlas"}]
[null,"Avionics Cost 2020",null,null,null,null,"Avionics Cost 2024",null,"% Change 2020 - 2024"]
[null,{"$f":"SUMPRODUCT(B5:B80,J5:J80)","v":4699824},null,null,null,null,{"$f":"SUMPRODUCT(G5:G80,J5:J80)","v":5379321.4053939711},null,{"$f":"($G$3-$B$3)/$B$3","v":0.14457933007575841}]
[null,"Model 2020","PW 2020","2024 PPI Model","2024 PPI PW","Notes","2024 AE Estimate","Pct Change","Source","#/AC","Factor","Item","Alt Item (PW)","previous"]
["150#710",{"$f":"IFERROR(INDEX('[1]Pt1-DATA'!$C:$D,MATCH(A5,'[1]Pt1-DATA'!$C:$C,0),2),\"\")","v":46970},{"$f":"IFERROR(INDEX('[2]Mil trans'!$B$6:$K$73,MATCH(L5,'[2]Mil trans'!$B$6:$B$73,0),4)*1000,INDEX('[2]Mil trans'!$B$6:$K$73,MATCH(M5,'[2]Mil trans'!$B$6:$B$73,0),4)*1000)","v":40000},{"$f":"B5*(1+'Federal Reserve PPI AC Parts'!$E$12)","v":52531.387096774197},{"$f":"C5*(1+'Federal Reserve PPI AC Parts'!$E$12)","v":44736.118455843476},"Used Model 2024",{"$f":"D5","v":52531.387096774197},{"$f":"(B5-C5)/C5","v":0.17424999999999999},{"$f":"IFERROR(INDEX('[2]Mil trans'!$B$6:$K$73,MATCH(L5,'[2]Mil trans'!$B$6:$B$73,0),7),INDEX('[2]Mil trans'!$B$6:$K$73,MATCH(M5,'[2]Mil trans'!$B$6:$B$73,0),7))","v":"Thales"},2,{"$f":"INDEX('[1]Pt1-DATA'!$A$5:$M$13349,MATCH(A5,'[1]Pt1-DATA'!$C$5:$C$13349,0),6)","v":"K"},"MCDU","FMS MCDUs",46970]
["150#721",{"$f":"IFERROR(INDEX('[1]Pt1-DATA'!$C:$D,MATCH(A6,'[1]Pt1-DATA'!$C:$C,0),2),\"\")","v":26597},{"$f":"IFERROR(INDEX('[2]Mil trans'!$B$6:$K$73,MATCH(L6,'[2]Mil trans'!$B$6:$B$73,0),4)*1000,INDEX('[2]Mil trans'!$B$6:$K$73,MATCH(M6,'[2]Mil trans'!$B$6:$B$73,0),4)*1000)","v":25000},{"$f":"B6*(1+'Federal Reserve PPI AC Parts'!$E$12)","v":29746.163564251721},{"$f":"C6*(1+'Federal Reserve PPI AC Parts'!$E$12)","v":27960.074034902173},"Used Model 2024",{"$f":"D6","v":29746.163564251721},{"$f":"(B6-C6)/C6","v":6.3880000000000006E-2},{"$f":"IFERROR(INDEX('[2]Mil trans'!$B$6:$K$73,MATCH(L6,'[2]Mil trans'!$B$6:$B$73,0),7),INDEX('[2]Mil trans'!$B$6:$K$73,MATCH(M6,'[2]Mil trans'!$B$6:$B$73,0),7))","v":0},2,{"$f":"INDEX('[1]Pt1-DATA'!$A$5:$M$13349,MATCH(A6,'[1]Pt1-DATA'!$C$5:$C$13349,0),6)","v":"P"},"Air Data Modules (ADM)","Air Data Computers",26597]
["150#722",{"$f":"IFERROR(INDEX('[1]Pt1-DATA'!$C:$D,MATCH(A7,'[1]Pt1-DATA'!$C:$C,0),2),\"\")","v":13200},{"$f":"IFERROR(INDEX('[2]Mil trans'!$B$6:$K$73,MATCH(L7,'[2]Mil trans'!$B$6:$B$73,0),4)*1000,INDEX('[2]Mil trans'!$B$6:$K$73,MATCH(M7,'[2]Mil trans'!$B$6:$B$73,0),4)*1000)","v":10000},{"$f":"B7*(1+'Federal Reserve PPI AC Parts'!$E$12)","v":14762.919090428346},{"$f":"C7*(1+'Federal Reserve PPI AC Parts'!$E$12)","v":11184.029613960869},"Used Model 2024",14762.919090428346,0.32,{"$f":"IFERROR(INDEX('[2]Mil trans'!$B$6:$K$73,MATCH(L7,'[2]Mil trans'!$B$6:$B$73,0),7),INDEX('[2]Mil trans'!$B$6:$K$73,MATCH(M7,'[2]Mil trans'!$B$6:$B$73,0),7))","v":0},8,{"$f":"INDEX('[1]Pt1-DATA'!$A$5:$M$13349,MATCH(A7,'[1]Pt1-DATA'!$C$5:$C$13349,0),6)","v":"I1"},"Air data probes (pitot/static)","Air data pitot static sensors",13200]
["150#723",{"$f":"IFERROR(INDEX('[1]Pt1-DATA'!$C:$D,MATCH(A8,'[1]Pt1-DATA'!$C:$C,0),2),\"\")","v":44327},{"$f":"IFERROR(INDEX('[2]Mil trans'!$B$6:$K$73,MATCH(L8,'[2]Mil trans'!$B$6:$B$73,0),4)*1000,INDEX('[2]Mil trans'!$B$6:$K$73,MATCH(M8,'[2]Mil trans'!$B$6:$B$73,0),4)*1000)","v":80000},{"$f":"B8*(1+'Federal Reserve PPI AC Parts'!$E$12)","v":49575.448069804341},{"$f":"C8*(1+'Federal Reserve PPI AC Parts'!$E$12)","v":89472.236911686952},"Used Model 2024",49575.448069804341,-0.44591249999999999,{"$f":"IFERROR(INDEX('[2]Mil trans'!$B$6:$K$73,MATCH(L8,'[2]Mil trans'!$B$6:$B$73,0),7),INDEX('[2]Mil trans'!$B$6:$K$73,MATCH(M8,'[2]Mil trans'!$B$6:$B$73,0),7))","v":"Thales"},2,{"$f":"INDEX('[1]Pt1-DATA'!$A$5:$M$13349,MATCH(A8,'[1]Pt1-DATA'!$C$5:$C$13349,0),6)","v":"D1"},"Multi Mode Receiver (MMR)","Multi Mode Receiver incl",44327]
["150#726",{"$f":"IFERROR(INDEX('[1]Pt1-DATA'!$C:$D,MATCH(A9,'[1]Pt1-DATA'!$C:$C,0),2),\"\")","v":65788},{"$f":"IFERROR(INDEX('[2]Mil trans'!$B$6:$K$73,MATCH(L9,'[2]Mil trans'!$B$6:$B$73,0),4)*1000,INDEX('[2]Mil trans'!$B$6:$K$73,MATCH(M9,'[2]Mil trans'!$B$6:$B$73,0),4)*1000)","v":65000},{"$f":"B9*(1+'Federal Reserve PPI AC Parts'!$E$12)","v":73577.494024325759},{"$f":"C9*(1+'Federal Reserve PPI AC Parts'!$E$12)","v":72696.192490745641},"Used Model 2024",73577.494024325759,1.2123076923076924E-2,{"$f":"IFERROR(INDEX('[2]Mil trans'!$B$6:$K$73,MATCH(L9,'[2]Mil trans'!$B$6:$B$73,0),7),INDEX('[2]Mil trans'!$B$6:$K$73,MATCH(M9,'[2]Mil trans'!$B$6:$B$73,0),7))","v":"Thales"},6,{"$f":"INDEX('[1]Pt1-DATA'!$A$5:$M$13349,MATCH(A9,'[1]Pt1-DATA'!$C$5:$C$13349,0),6)","v":"F"},"Primary Flight Display (EFIS)","Cockpit displays",65788]
["150#730",{"$f":"IFERROR(INDEX('[1]Pt1-DATA'!$C:$D,MATCH(A10,'[1]Pt1-DATA'!$C:$C,0),2),\"\")","v":151818},{"$f":"IFERROR(INDEX('[2]Mil trans'!$B$6:$K$73,MATCH(L10,'[2]Mil trans'!$B$6:$B$73,0),4)*1000,INDEX('[2]Mil trans'!$B$6:$K$73,MATCH(M10,'[2]Mil trans'!$B$6:$B$73,0),4)*1000)","v":125000},{"$f":"B10*(1+'Federal Reserve PPI AC Parts'!$E$12)","v":169793.70079323111},{"$f":"C10*(1+'Federal Reserve PPI AC Parts'!$E$12)","v":139800.37017451087},"Used Model 2024",169793.70079323111,0.21454400000000001,{"$f":"IFERROR(INDEX('[2]Mil trans'!$B$6:$K$73,MATCH(L10,'[2]Mil trans'!$B$6:$B$73,0),7),INDEX('[2]Mil trans'!$B$6:$K$73,MATCH(M10,'[2]Mil trans'!$B$6:$B$73,0),7))","v":"Thales"},2,{"$f":"INDEX('[1]Pt1-DATA'!$A$5:$M$13349,MATCH(A10,'[1]Pt1-DATA'!$C$5:$C$13349,0),6)","v":"H"},"HUD display system","Head Up Displays (incl Enhanced Synthetic Vision(",151818]
["150#764",{"$f":"IFERROR(INDEX('[1]Pt1-DATA'!$C:$D,MATCH(A11,'[1]Pt1-DATA'!$C:$C,0),2),\"\")","v":15958},{"$f":"IFERROR(INDEX('[2]Mil trans'!$B$6:$K$73,MATCH(L11,'[2]Mil trans'!$B$6:$B$73,0),4)*1000,INDEX('[2]Mil trans'!$B$6:$K$73,MATCH(M11,'[2]Mil trans'!$B$6:$B$73,0),4)*1000)","v":15000},{"$f":"B11*(1+'Federal Reserve PPI AC Parts'!$E$12)","v":17847.474457958753},{"$f":"C11*(1+'Federal Reserve PPI AC Parts'!$E$12)","v":16776.044420941304},"Used Model 2024",17847.474457958753,6.3866666666666669E-2,{"$f":"IFERROR(INDEX('[2]Mil trans'!$B$6:$K$73,MATCH(L11,'[2]Mil trans'!$B$6:$B$73,0),7),INDEX('[2]Mil trans'!$B$6:$K$73,MATCH(M11,'[2]Mil trans'!$B$6:$B$73,0),7))","v":"HWL ?"},2,{"$f":"INDEX('[1]Pt1-DATA'!$A$5:$M$13349,MATCH(A11,'[1]Pt1-DATA'!$C$5:$C$13349,0),6)","v":"F1"},"Radar altimeters",null,15958]
["150#814",{"$f":"IFERROR(INDEX('[1]Pt1-DATA'!$C:$D,MATCH(A12,'[1]Pt1-DATA'!$C:$C,0),2),\"\")","v":81034},{"$f":"IFERROR(INDEX('[2]Mil trans'!$B$6:$K$73,MATCH(L12,'[2]Mil trans'!$B$6:$B$73,0),4)*1000,INDEX('[2]Mil trans'!$B$6:$K$73,MATCH(M12,'[2]Mil trans'!$B$6:$B$73,0),4)*1000)","v":{"$error":"#N/A"}},{"$f":"B12*(1+'Federal Reserve PPI AC Parts'!$E$12)","v":90628.6655737705},{"$f":"C12*(1+'Federal Reserve PPI AC Parts'!$E$12)","v":{"$error":"#N/A"}},"Used Model 2024",90628.6655737705,{"$error":"#N/A"},{"$f":"IFERROR(INDEX('[2]Mil trans'!$B$6:$K$73,MATCH(L12,'[2]Mil trans'!$B$6:$B$73,0),7),INDEX('[2]Mil trans'!$B$6:$K$73,MATCH(M12,'[2]Mil trans'!$B$6:$B$73,0),7))","v":{"$error":"#N/A"}},3,{"$f":"INDEX('[1]Pt1-DATA'!$A$5:$M$13349,MATCH(A12,'[1]Pt1-DATA'!$C$5:$C$13349,0),6)","v":"A"},"Multi mode radar",null,81034]
["150#825",{"$f":"IFERROR(INDEX('[1]Pt1-DATA'!$C:$D,MATCH(A13,'[1]Pt1-DATA'!$C:$C,0),2),\"\")","v":97116},{"$f":"IFERROR(INDEX('[2]Mil trans'!$B$6:$K$73,MATCH(L13,'[2]Mil trans'!$B$6:$B$73,0),4)*1000,INDEX('[2]Mil trans'!$B$6:$K$73,MATCH(M13,'[2]Mil trans'!$B$6:$B$73,0),4)*1000)","v":{"$error":"#N/A"}},{"$f":"B13*(1+'Federal Reserve PPI AC Parts'!$E$12)","v":108614.82199894237},{"$f":"C13*(1+'Federal Reserve PPI AC Parts'!$E$12)","v":{"$error":"#N/A"}},"Used Model 2024",108614.82199894237,{"$error":"#N/A"},{"$f":"IFERROR(INDEX('[2]Mil trans'!$B$6:$K$73,MATCH(L13,'[2]Mil trans'!$B$6:$B$73,0),7),INDEX('[2]Mil trans'!$B$6:$K$73,MATCH(M13,'[2]Mil trans'!$B$6:$B$73,0),7))","v":{"$error":"#N/A"}},1,{"$f":"INDEX('[1]Pt1-DATA'!$A$5:$M$13349,MATCH(A13,'[1]Pt1-DATA'!$C$5:$C$13349,0),6)","v":"N"},"Auto pilot system",null,97116]
["150#833",{"$f":"IFERROR(INDEX('[1]Pt1-DATA'!$C:$D,MATCH(A14,'[1]Pt1-DATA'!$C:$C,0),2),\"\")","v":676984},{"$f":"IFERROR(INDEX('[2]Mil trans'!$B$6:$K$73,MATCH(L14,'[2]Mil trans'!$B$6:$B$73,0),4)*1000,INDEX('[2]Mil trans'!$B$6:$K$73,MATCH(M14,'[2]Mil trans'!$B$6:$B$73,0),4)*1000)","v":500000},{"$f":"B14*(1+'Federal Reserve PPI AC Parts'!$E$12)","v":757140.91041776852},{"$f":"C14*(1+'Federal Reserve PPI AC Parts'!$E$12)","v":559201.48069804348},"Used Model 2024",757140.91041776852,0.353968,{"$f":"IFERROR(INDEX('[2]Mil trans'!$B$6:$K$73,MATCH(L14,'[2]Mil trans'!$B$6:$B$73,0),7),INDEX('[2]Mil trans'!$B$6:$K$73,MATCH(M14,'[2]Mil trans'!$B$6:$B$73,0),7))","v":"Thales"},1,{"$f":"INDEX('[1]Pt1-DATA'!$A$5:$M$13349,MATCH(A14,'[1]Pt1-DATA'!$C$5:$C$13349,0),6)","v":"C"},"IMA",null,676984]
["150#834",{"$f":"IFERROR(INDEX('[1]Pt1-DATA'!$C:$D,MATCH(A15,'[1]Pt1-DATA'!$C:$C,0),2),\"\")","v":44327},{"$f":"IFERROR(INDEX('[2]Mil trans'!$B$6:$K$73,MATCH(L15,'[2]Mil trans'!$B$6:$B$73,0),4)*1000,INDEX('[2]Mil trans'!$B$6:$K$73,MATCH(M15,'[2]Mil trans'!$B$6:$B$73,0),4)*1000)","v":40000},{"$f":"B15*(1+'Federal Reserve PPI AC Parts'!$E$12)","v":49575.448069804341},{"$f":"C15*(1+'Federal Reserve PPI AC Parts'!$E$12)","v":44736.118455843476},"Used Model 2024",49575.448069804341,0.10817499999999999,{"$f":"IFERROR(INDEX('[2]Mil trans'!$B$6:$K$73,MATCH(L15,'[2]Mil trans'!$B$6:$B$73,0),7),INDEX('[2]Mil trans'!$B$6:$K$73,MATCH(M15,'[2]Mil trans'!$B$6:$B$73,0),7))","v":0},3,{"$f":"INDEX('[1]Pt1-DATA'!$A$5:$M$13349,MATCH(A15,'[1]Pt1-DATA'!$C$5:$C$13349,0),6)","v":"A"},"Inertial Reference System",null,44327]
["150#835",{"$f":"IFERROR(INDEX('[1]Pt1-DATA'!$C:$D,MATCH(A16,'[1]Pt1-DATA'!$C:$C,0),2),\"\")","v":78282},{"$f":"IFERROR(INDEX('[2]Mil trans'!$B$6:$K$73,MATCH(L16,'[2]Mil trans'!$B$6:$B$73,0),4)*1000,INDEX('[2]Mil trans'!$B$6:$K$73,MATCH(M16,'[2]Mil trans'!$B$6:$B$73,0),4)*1000)","v":75000},{"$f":"B16*(1+'Federal Reserve PPI AC Parts'!$E$12)","v":87550.820624008469},{"$f":"C16*(1+'Federal Reserve PPI AC Parts'!$E$12)","v":83880.22210470651},"Used Model 2024",87550.820624008469,4.376E-2,{"$f":"IFERROR(INDEX('[2]Mil trans'!$B$6:$K$73,MATCH(L16,'[2]Mil trans'!$B$6:$B$73,0),7),INDEX('[2]Mil trans'!$B$6:$K$73,MATCH(M16,'[2]Mil trans'!$B$6:$B$73,0),7))","v":"Thales"},2,{"$f":"INDEX('[1]Pt1-DATA'!$A$5:$M$13349,MATCH(A16,'[1]Pt1-DATA'!$C$5:$C$13349,0),6)","v":"A"},"Flight Management System",null,78282]
["150#836",{"$f":"IFERROR(INDEX('[1]Pt1-DATA'!$C:$D,MATCH(A17,'[1]Pt1-DATA'!$C:$C,0),2),\"\")","v":20243},{"$f":"IFERROR(INDEX('[2]Mil trans'!$B$6:$K$73,MATCH(L17,'[2]Mil trans'!$B$6:$B$73,0),4)*1000,INDEX('[2]Mil trans'!$B$6:$K$73,MATCH(M17,'[2]Mil trans'!$B$6:$B$73,0),4)*1000)","v":20000},{"$f":"B17*(1+'Federal Reserve PPI AC Parts'!$E$12)","v":22639.831147540986},{"$f":"C17*(1+'Federal Reserve PPI AC Parts'!$E$12)","v":22368.059227921738},"Used Model 2024",22639.831147540986,1.2149999999999999E-2,{"$f":"IFERROR(INDEX('[2]Mil trans'!$B$6:$K$73,MATCH(L17,'[2]Mil trans'!$B$6:$B$73,0),7),INDEX('[2]Mil trans'!$B$6:$K$73,MATCH(M17,'[2]Mil trans'!$B$6:$B$73,0),7))","v":"Thales"},2,{"$f":"INDEX('[1]Pt1-DATA'!$A$5:$M$13349,MATCH(A17,'[1]Pt1-DATA'!$C$5:$C$13349,0),6)","v":"A"},"Keyboard cursor Control Units (KCCU)",null,20243]
["150#837",{"$f":"IFERROR(INDEX('[1]Pt1-DATA'!$C:$D,MATCH(A18,'[1]Pt1-DATA'!$C:$C,0),2),\"\")","v":167409},{"$f":"IFERROR(INDEX('[2]Mil trans'!$B$6:$K$73,MATCH(L18,'[2]Mil trans'!$B$6:$B$73,0),4)*1000,INDEX('[2]Mil trans'!$B$6:$K$73,MATCH(M18,'[2]Mil trans'!$B$6:$B$73,0),4)*1000)","v":75000},{"$f":"B18*(1+'Federal Reserve PPI AC Parts'!$E$12)","v":187230.72136435751},{"$f":"C18*(1+'Federal Reserve PPI AC Parts'!$E$12)","v":83880.22210470651},"Used Model 2024",187230.72136435751,1.2321200000000001,{"$f":"IFERROR(INDEX('[2]Mil trans'!$B$6:$K$73,MATCH(L18,'[2]Mil trans'!$B$6:$B$73,0),7),INDEX('[2]Mil trans'!$B$6:$K$73,MATCH(M18,'[2]Mil trans'!$B$6:$B$73,0),7))","v":"Thales??"},2,{"$f":"INDEX('[1]Pt1-DATA'!$A$5:$M$13349,MATCH(A18,'[1]Pt1-DATA'!$C$5:$C$13349,0),6)","v":"A"},"Military Mission Management System",null,167409]
["150#838",{"$f":"IFERROR(INDEX('[1]Pt1-DATA'!$C:$D,MATCH(A19,'[1]Pt1-DATA'!$C:$C,0),2),\"\")","v":22164},{"$f":"IFERROR(INDEX('[2]Mil trans'!$B$6:$K$73,MATCH(L19,'[2]Mil trans'!$B$6:$B$73,0),4)*1000,INDEX('[2]Mil trans'!$B$6:$K$73,MATCH(M19,'[2]Mil trans'!$B$6:$B$73,0),4)*1000)","v":15000},{"$f":"B19*(1+'Federal Reserve PPI AC Parts'!$E$12)","v":24788.283236382867},{"$f":"C19*(1+'Federal Reserve PPI AC Parts'!$E$12)","v":16776.044420941304},"Used Model 2024",24788.283236382867,0.47760000000000002,{"$f":"IFERROR(INDEX('[2]Mil trans'!$B$6:$K$73,MATCH(L19,'[2]Mil trans'!$B$6:$B$73,0),7),INDEX('[2]Mil trans'!$B$6:$K$73,MATCH(M19,'[2]Mil trans'!$B$6:$B$73,0),7))","v":0},2,{"$f":"INDEX('[1]Pt1-DATA'!$A$5:$M$13349,MATCH(A19,'[1]Pt1-DATA'!$C$5:$C$13349,0),6)","v":"A"},"TACAN",null,22164]
["150#839",{"$f":"IFERROR(INDEX('[1]Pt1-DATA'!$C:$D,MATCH(A20,'[1]Pt1-DATA'!$C:$C,0),2),\"\")","v":136744},{"$f":"IFERROR(INDEX('[2]Mil trans'!$B$6:$K$73,MATCH(L20,'[2]Mil trans'!$B$6:$B$73,0),4)*1000,INDEX('[2]Mil trans'!$B$6:$K$73,MATCH(M20,'[2]Mil trans'!$B$6:$B$73,0),4)*1000)","v":75000},{"$f":"B20*(1+'Federal Reserve PPI AC Parts'!$E$12)","v":152934.8945531465},{"$f":"C20*(1+'Federal Reserve PPI AC Parts'!$E$12)","v":83880.22210470651},"Used Model 2024",152934.8945531465,0.82325333333333328,{"$f":"IFERROR(INDEX('[2]Mil trans'!$B$6:$K$73,MATCH(L20,'[2]Mil trans'!$B$6:$B$73,0),7),INDEX('[2]Mil trans'!$B$6:$K$73,MATCH(M20,'[2]Mil trans'!$B$6:$B$73,0),7))","v":"HWL"},1,{"$f":"INDEX('[1]Pt1-DATA'!$A$5:$M$13349,MATCH(A20,'[1]Pt1-DATA'!$C$5:$C$13349,0),6)","v":"A"},"Aircraft Environment Surveillance System (AESS)",null,136744]
["150#840",{"$f":"IFERROR(INDEX('[1]Pt1-DATA'!$C:$D,MATCH(A21,'[1]Pt1-DATA'!$C:$C,0),2),\"\")","v":73384},{"$f":"IFERROR(INDEX('[2]Mil trans'!$B$6:$K$73,MATCH(L21,'[2]Mil trans'!$B$6:$B$73,0),4)*1000,INDEX('[2]Mil trans'!$B$6:$K$73,MATCH(M21,'[2]Mil trans'!$B$6:$B$73,0),4)*1000)","v":75000},{"$f":"B21*(1+'Federal Reserve PPI AC Parts'!$E$12)","v":82072.882919090436},{"$f":"C21*(1+'Federal Reserve PPI AC Parts'!$E$12)","v":83880.22210470651},"Used Model 2024",82072.882919090436,-2.1546666666666665E-2,{"$f":"IFERROR(INDEX('[2]Mil trans'!$B$6:$K$73,MATCH(L21,'[2]Mil trans'!$B$6:$B$73,0),7),INDEX('[2]Mil trans'!$B$6:$K$73,MATCH(M21,'[2]Mil trans'!$B$6:$B$73,0),7))","v":"Collins"},1,{"$f":"INDEX('[1]Pt1-DATA'!$A$5:$M$13349,MATCH(A21,'[1]Pt1-DATA'!$C$5:$C$13349,0),6)","v":"A"},"HF-9500 High Frequency Communications System",null,73384]
["150#841",{"$f":"IFERROR(INDEX('[1]Pt1-DATA'!$C:$D,MATCH(A22,'[1]Pt1-DATA'!$C:$C,0),2),\"\")","v":115069},{"$f":"IFERROR(INDEX('[2]Mil trans'!$B$6:$K$73,MATCH(L22,'[2]Mil trans'!$B$6:$B$73,0),4)*1000,INDEX('[2]Mil trans'!$B$6:$K$73,MATCH(M22,'[2]Mil trans'!$B$6:$B$73,0),4)*1000)","v":100000},{"$f":"B22*(1+'Federal Reserve PPI AC Parts'!$E$12)","v":128693.51036488632},{"$f":"C22*(1+'Federal Reserve PPI AC Parts'!$E$12)","v":111840.29613960869},"Used Model 2024",128693.51036488632,0.15068999999999999,{"$f":"IFERROR(INDEX('[2]Mil trans'!$B$6:$K$73,MATCH(L22,'[2]Mil trans'!$B$6:$B$73,0),7),INDEX('[2]Mil trans'!$B$6:$K$73,MATCH(M22,'[2]Mil trans'!$B$6:$B$73,0),7))","v":"Collins"},1,{"$f":"INDEX('[1]Pt1-DATA'!$A$5:$M$13349,MATCH(A22,'[1]Pt1-DATA'!$C$5:$C$13349,0),6)","v":"A"},"AFDX databus",null,115069]
["150#842",{"$f":"IFERROR(INDEX('[1]Pt1-DATA'!$C:$D,MATCH(A23,'[1]Pt1-DATA'!$C:$C,0),2),\"\")","v":39138},{"$f":"IFERROR(INDEX('[2]Mil trans'!$B$6:$K$73,MATCH(L23,'[2]Mil trans'!$B$6:$B$73,0),4)*1000,INDEX('[2]Mil trans'!$B$6:$K$73,MATCH(M23,'[2]Mil trans'!$B$6:$B$73,0),4)*1000)","v":40000},{"$f":"B23*(1+'Federal Reserve PPI AC Parts'!$E$12)","v":43772.055103120045},{"$f":"C23*(1+'Federal Reserve PPI AC Parts'!$E$12)","v":44736.118455843476},"Used Model 2024",43772.055103120045,-2.155E-2,{"$f":"IFERROR(INDEX('[2]Mil trans'!$B$6:$K$73,MATCH(L23,'[2]Mil trans'!$B$6:$B$73,0),7),INDEX('[2]Mil trans'!$B$6:$K$73,MATCH(M23,'[2]Mil trans'!$B$6:$B$73,0),7))","v":"Collins"},2,{"$f":"INDEX('[1]Pt1-DATA'!$A$5:$M$13349,MATCH(A23,'[1]Pt1-DATA'!$C$5:$C$13349,0),6)","v":"A"},"Avionics Comms Router (ACR)",null,39138]
["150#843",{"$f":"IFERROR(INDEX('[1]Pt1-DATA'!$C:$D,MATCH(A24,'[1]Pt1-DATA'!$C:$C,0),2),\"\")","v":58707},{"$f":"IFERROR(INDEX('[2]Mil trans'!$B$6:$K$73,MATCH(L24,'[2]Mil trans'!$B$6:$B$73,0),4)*1000,INDEX('[2]Mil trans'!$B$6:$K$73,MATCH(M24,'[2]Mil trans'!$B$6:$B$73,0),4)*1000)","v":60000},{"$f":"B24*(1+'Federal Reserve PPI AC Parts'!$E$12)","v":65658.082654680067},{"$f":"C24*(1+'Federal Reserve PPI AC Parts'!$E$12)","v":67104.177683765214},"Used Model 2024",65658.082654680067,-2.155E-2,{"$f":"IFERROR(INDEX('[2]Mil trans'!$B$6:$K$73,MATCH(L24,'[2]Mil trans'!$B$6:$B$73,0),7),INDEX('[2]Mil trans'!$B$6:$K$73,MATCH(M24,'[2]Mil trans'!$B$6:$B$73,0),7))","v":"Thales"},1,{"$f":"INDEX('[1]Pt1-DATA'!$A$5:$M$13349,MATCH(A24,'[1]Pt1-DATA'!$C$5:$C$13349,0),6)","v":"A"},"Central Crypto System",null,58707]
["150#844",{"$f":"IFERROR(INDEX('[1]Pt1-DATA'!$C:$D,MATCH(A25,'[1]Pt1-DATA'!$C:$C,0),2),\"\")","v":54998},{"$f":"IFERROR(INDEX('[2]Mil trans'!$B$6:$K$73,MATCH(L25,'[2]Mil trans'!$B$6:$B$73,0),4)*1000,INDEX('[2]Mil trans'!$B$6:$K$73,MATCH(M25,'[2]Mil trans'!$B$6:$B$73,0),4)*1000)","v":35000},{"$f":"B25*(1+'Federal Reserve PPI AC Parts'!$E$12)","v":61509.926070861984},{"$f":"C25*(1+'Federal Reserve PPI AC Parts'!$E$12)","v":39144.103648863042},"Used Model 2024",61509.926070861984,0.57137142857142853,{"$f":"IFERROR(INDEX('[2]Mil trans'!$B$6:$K$73,MATCH(L25,'[2]Mil trans'!$B$6:$B$73,0),7),INDEX('[2]Mil trans'!$B$6:$K$73,MATCH(M25,'[2]Mil trans'!$B$6:$B$73,0),7))","v":"Thales"},3,{"$f":"INDEX('[1]Pt1-DATA'!$A$5:$M$13349,MATCH(A25,'[1]Pt1-DATA'!$C$5:$C$13349,0),6)","v":"A"},"Mulit InfraRed alerting System (MIRAS) Sensors",null,54998]
["150#845",{"$f":"IFERROR(INDEX('[1]Pt1-DATA'!$C:$D,MATCH(A26,'[1]Pt1-DATA'!$C:$C,0),2),\"\")","v":195311},{"$f":"IFERROR(INDEX('[2]Mil trans'!$B$6:$K$73,MATCH(L26,'[2]Mil trans'!$B$6:$B$73,0),4)*1000,INDEX('[2]Mil trans'!$B$6:$K$73,MATCH(M26,'[2]Mil trans'!$B$6:$B$73,0),4)*1000)","v":150000},{"$f":"B26*(1+'Federal Reserve PPI AC Parts'!$E$12)","v":218436.40079323112},{"$f":"C26*(1+'Federal Reserve PPI AC Parts'!$E$12)","v":167760.44420941302},"Used Model 2024",218436.40079323112,0.30207333333333336,{"$f":"IFERROR(INDEX('[2]Mil trans'!$B$6:$K$73,MATCH(L26,'[2]Mil trans'!$B$6:$B$73,0),7),INDEX('[2]Mil trans'!$B$6:$K$73,MATCH(M26,'[2]Mil trans'!$B$6:$B$73,0),7))","v":"Thales, EADS, Diehl, Safran"},1,{"$f":"INDEX('[1]Pt1-DATA'!$A$5:$M$13349,MATCH(A26,'[1]Pt1-DATA'!$C$5:$C$13349,0),6)","v":"A"},"Directed InfraRed Counter Measures",null,195311]
["150#846",{"$f":"IFERROR(INDEX('[1]Pt1-DATA'!$C:$D,MATCH(A27,'[1]Pt1-DATA'!$C:$C,0),2),\"\")","v":167409},{"$f":"IFERROR(INDEX('[2]Mil trans'!$B$6:$K$73,MATCH(L27,'[2]Mil trans'!$B$6:$B$73,0),4)*1000,INDEX('[2]Mil trans'!$B$6:$K$73,MATCH(M27,'[2]Mil trans'!$B$6:$B$73,0),4)*1000)","v":75000},{"$f":"B27*(1+'Federal Reserve PPI AC Parts'!$E$12)","v":187230.72136435751},{"$f":"C27*(1+'Federal Reserve PPI AC Parts'!$E$12)","v":83880.22210470651},"Used Model 2024",187230.72136435751,1.2321200000000001,{"$f":"IFERROR(INDEX('[2]Mil trans'!$B$6:$K$73,MATCH(L27,'[2]Mil trans'!$B$6:$B$73,0),7),INDEX('[2]Mil trans'!$B$6:$K$73,MATCH(M27,'[2]Mil trans'!$B$6:$B$73,0),7))","v":"???/"},1,{"$f":"INDEX('[1]Pt1-DATA'!$A$5:$M$13349,MATCH(A27,'[1]Pt1-DATA'!$C$5:$C$13349,0),6)","v":"A"},"Defensive Aids Computer",null,167409]
["150#866",{"$f":"IFERROR(INDEX('[1]Pt1-DATA'!$C:$D,MATCH(A28,'[1]Pt1-DATA'!$C:$C,0),2),\"\")","v":150669},{"$f":"IFERROR(INDEX('[2]Mil trans'!$B$6:$K$73,MATCH(L28,'[2]Mil trans'!$B$6:$B$73,0),4)*1000,INDEX('[2]Mil trans'!$B$6:$K$73,MATCH(M28,'[2]Mil trans'!$B$6:$B$73,0),4)*1000)","v":125000},{"$f":"B28*(1+'Federal Reserve PPI AC Parts'!$E$12)","v":168508.65579058701},{"$f":"C28*(1+'Federal Reserve PPI AC Parts'!$E$12)","v":139800.37017451087},"Used Model 2024",168508.65579058701,0.20535200000000001,{"$f":"IFERROR(INDEX('[2]Mil trans'!$B$6:$K$73,MATCH(L28,'[2]Mil trans'!$B$6:$B$73,0),7),INDEX('[2]Mil trans'!$B$6:$K$73,MATCH(M28,'[2]Mil trans'!$B$6:$B$73,0),7))","v":"MBDA"},1,{"$f":"INDEX('[1]Pt1-DATA'!$A$5:$M$13349,MATCH(A28,'[1]Pt1-DATA'!$C$5:$C$13349,0),6)","v":"C"},"Defensive counter measures","Defensive Aids Sub System (DASS)",150669]
["150#878",{"$f":"IFERROR(INDEX('[1]Pt1-DATA'!$C:$D,MATCH(A29,'[1]Pt1-DATA'!$C:$C,0),2),\"\")","v":137496},{"$f":"IFERROR(INDEX('[2]Mil trans'!$B$6:$K$73,MATCH(L29,'[2]Mil trans'!$B$6:$B$73,0),4)*1000,INDEX('[2]Mil trans'!$B$6:$K$73,MATCH(M29,'[2]Mil trans'!$B$6:$B$73,0),4)*1000)","v":{"$error":"#N/A"}},{"$f":"B29*(1+'Federal Reserve PPI AC Parts'!$E$12)","v":153775.93358011637},{"$f":"C29*(1+'Federal Reserve PPI AC Parts'!$E$12)","v":{"$error":"#N/A"}},"Used Model 2024",153775.93358011637,{"$error":"#N/A"},{"$f":"IFERROR(INDEX('[2]Mil trans'!$B$6:$K$73,MATCH(L29,'[2]Mil trans'!$B$6:$B$73,0),7),INDEX('[2]Mil trans'!$B$6:$K$73,MATCH(M29,'[2]Mil trans'!$B$6:$B$73,0),7))","v":{"$error":"#N/A"}},1,{"$f":"INDEX('[1]Pt1-DATA'!$A$5:$M$13349,MATCH(A29,'[1]Pt1-DATA'!$C$5:$C$13349,0),6)","v":"I"},"Sensors IFF, other",null,137496]
["150#879",{"$f":"IFERROR(INDEX('[1]Pt1-DATA'!$C:$D,MATCH(A30,'[1]Pt1-DATA'!$C:$C,0),2),\"\")","v":279491},{"$f":"IFERROR(INDEX('[2]Mil trans'!$B$6:$K$73,MATCH(L30,'[2]Mil trans'!$B$6:$B$73,0),4)*1000,INDEX('[2]Mil trans'!$B$6:$K$73,MATCH(M30,'[2]Mil trans'!$B$6:$B$73,0),4)*1000)","v":{"$error":"#N/A"}},{"$f":"B30*(1+'Federal Reserve PPI AC Parts'!$E$12)","v":312583.5620835537},{"$f":"C30*(1+'Federal Reserve PPI AC Parts'!$E$12)","v":{"$error":"#N/A"}},"Used Model 2024",312583.5620835537,{"$error":"#N/A"},{"$f":"IFERROR(INDEX('[2]Mil trans'!$B$6:$K$73,MATCH(L30,'[2]Mil trans'!$B$6:$B$73,0),7),INDEX('[2]Mil trans'!$B$6:$K$73,MATCH(M30,'[2]Mil trans'!$B$6:$B$73,0),7))","v":{"$error":"#N/A"}},1,{"$f":"INDEX('[1]Pt1-DATA'!$A$5:$M$13349,MATCH(A30,'[1]Pt1-DATA'!$C$5:$C$13349,0),6)","v":"AC"},"Software",null,279491]
["150#882",{"$f":"IFERROR(INDEX('[1]Pt1-DATA'!$C:$D,MATCH(A31,'[1]Pt1-DATA'!$C:$C,0),2),\"\")","v":78114},{"$f":"IFERROR(INDEX('[2]Mil trans'!$B$6:$K$73,MATCH(L31,'[2]Mil trans'!$B$6:$B$73,0),4)*1000,INDEX('[2]Mil trans'!$B$6:$K$73,MATCH(M31,'[2]Mil trans'!$B$6:$B$73,0),4)*1000)","v":{"$error":"#N/A"}},{"$f":"B31*(1+'Federal Reserve PPI AC Parts'!$E$12)","v":87362.928926493929},{"$f":"C31*(1+'Federal Reserve PPI AC Parts'!$E$12)","v":{"$error":"#N/A"}},"Used Model 2024",87362.928926493929,{"$error":"#N/A"},{"$f":"IFERROR(INDEX('[2]Mil trans'!$B$6:$K$73,MATCH(L31,'[2]Mil trans'!$B$6:$B$73,0),7),INDEX('[2]Mil trans'!$B$6:$K$73,MATCH(M31,'[2]Mil trans'!$B$6:$B$73,0),7))","v":{"$error":"#N/A"}},2,{"$f":"INDEX('[1]Pt1-DATA'!$A$5:$M$13349,MATCH(A31,'[1]Pt1-DATA'!$C$5:$C$13349,0),6)","v":"A"},"Aircraft avionics management unit",null,78114]
["150#1056",{"$f":"IFERROR(INDEX('[1]Pt1-DATA'!$C:$D,MATCH(A32,'[1]Pt1-DATA'!$C:$C,0),2),\"\")","v":10154},{"$f":"IFERROR(INDEX('[2]Mil trans'!$B$6:$K$73,MATCH(L32,'[2]Mil trans'!$B$6:$B$73,0),4)*1000,INDEX('[2]Mil trans'!$B$6:$K$73,MATCH(M32,'[2]Mil trans'!$B$6:$B$73,0),4)*1000)","v":{"$error":"#N/A"}},{"$f":"B32*(1+'Federal Reserve PPI AC Parts'!$E$12)","v":11356.263670015866},{"$f":"C32*(1+'Federal Reserve PPI AC Parts'!$E$12)","v":{"$error":"#N/A"}},"Used Model 2024",11356.263670015866,{"$error":"#N/A"},{"$f":"IFERROR(INDEX('[2]Mil trans'!$B$6:$K$73,MATCH(L32,'[2]Mil trans'!$B$6:$B$73,0),7),INDEX('[2]Mil trans'!$B$6:$K$73,MATCH(M32,'[2]Mil trans'!$B$6:$B$73,0),7))","v":{"$error":"#N/A"}},1,{"$f":"INDEX('[1]Pt1-DATA'!$A$5:$M$13349,MATCH(A32,'[1]Pt1-DATA'!$C$5:$C$13349,0),6)","v":"CO"},"Avionics Harnesses",null,10154]
["150#1057",{"$f":"IFERROR(INDEX('[1]Pt1-DATA'!$C:$D,MATCH(A33,'[1]Pt1-DATA'!$C:$C,0),2),\"\")","v":72316},{"$f":"IFERROR(INDEX('[2]Mil trans'!$B$6:$K$73,MATCH(L33,'[2]Mil trans'!$B$6:$B$73,0),4)*1000,INDEX('[2]Mil trans'!$B$6:$K$73,MATCH(M33,'[2]Mil trans'!$B$6:$B$73,0),4)*1000)","v":{"$error":"#N/A"}},{"$f":"B33*(1+'Federal Reserve PPI AC Parts'!$E$12)","v":80878.428556319413},{"$f":"C33*(1+'Federal Reserve PPI AC Parts'!$E$12)","v":{"$error":"#N/A"}},"Used Model 2024",80878.428556319413,{"$error":"#N/A"},{"$f":"IFERROR(INDEX('[2]Mil trans'!$B$6:$K$73,MATCH(L33,'[2]Mil trans'!$B$6:$B$73,0),7),INDEX('[2]Mil trans'!$B$6:$K$73,MATCH(M33,'[2]Mil trans'!$B$6:$B$73,0),7))","v":{"$error":"#N/A"}},1,{"$f":"INDEX('[1]Pt1-DATA'!$A$5:$M$13349,MATCH(A33,'[1]Pt1-DATA'!$C$5:$C$13349,0),6)","v":"CP"},"Avionics Harnesses",null,72316]
["150#1058",{"$f":"IFERROR(INDEX('[1]Pt1-DATA'!$C:$D,MATCH(A34,'[1]Pt1-DATA'!$C:$C,0),2),\"\")","v":87450},{"$f":"IFERROR(INDEX('[2]Mil trans'!$B$6:$K$73,MATCH(L34,'[2]Mil trans'!$B$6:$B$73,0),4)*1000,INDEX('[2]Mil trans'!$B$6:$K$73,MATCH(M34,'[2]Mil trans'!$B$6:$B$73,0),4)*1000)","v":{"$error":"#N/A"}},{"$f":"B34*(1+'Federal Reserve PPI AC Parts'!$E$12)","v":97804.33897408779},{"$f":"C34*(1+'Federal Reserve PPI AC Parts'!$E$12)","v":{"$error":"#N/A"}},"Used Model 2024",97804.33897408779,{"$error":"#N/A"},{"$f":"IFERROR(INDEX('[2]Mil trans'!$B$6:$K$73,MATCH(L34,'[2]Mil trans'!$B$6:$B$73,0),7),INDEX('[2]Mil trans'!$B$6:$K$73,MATCH(M34,'[2]Mil trans'!$B$6:$B$73,0),7))","v":{"$error":"#N/A"}},1,{"$f":"INDEX('[1]Pt1-DATA'!$A$5:$M$13349,MATCH(A34,'[1]Pt1-DATA'!$C$5:$C$13349,0),6)","v":"CO"},"Avionics Harnesses",null,87450]
["150#1059",{"$f":"IFERROR(INDEX('[1]Pt1-DATA'!$C:$D,MATCH(A35,'[1]Pt1-DATA'!$C:$C,0),2),\"\")","v":18079},{"$f":"IFERROR(INDEX('[2]Mil trans'!$B$6:$K$73,MATCH(L35,'[2]Mil trans'!$B$6:$B$73,0),4)*1000,INDEX('[2]Mil trans'!$B$6:$K$73,MATCH(M35,'[2]Mil trans'!$B$6:$B$73,0),4)*1000)","v":{"$error":"#N/A"}},{"$f":"B35*(1+'Federal Reserve PPI AC Parts'!$E$12)","v":20219.607139079853},{"$f":"C35*(1+'Federal Reserve PPI AC Parts'!$E$12)","v":{"$error":"#N/A"}},"Used Model 2024",20219.607139079853,{"$f":"(B35-C35)/C35","v":{"$error":"#N/A"}},{"$f":"IFERROR(INDEX('[2]Mil trans'!$B$6:$K$73,MATCH(L35,'[2]Mil trans'!$B$6:$B$73,0),7),INDEX('[2]Mil trans'!$B$6:$K$73,MATCH(M35,'[2]Mil trans'!$B$6:$B$73,0),7))","v":{"$error":"#N/A"}},1,{"$f":"INDEX('[1]Pt1-DATA'!$A$5:$M$13349,MATCH(A35,'[1]Pt1-DATA'!$C$5:$C$13349,0),6)","v":"CP"},"Avionics Harnesses",null,18079]
[null,{"$f":"IFERROR(INDEX('[1]Pt1-DATA'!$C:$D,MATCH(A36,'[1]Pt1-DATA'!$C:$C,0),2),\"\")","v":""},{"$f":"IFERROR(INDEX('[2]Mil trans'!$B$6:$K$73,MATCH(L36,'[2]Mil trans'!$B$6:$B$73,0),4)*1000,INDEX('[2]Mil trans'!$B$6:$K$73,MATCH(M36,'[2]Mil trans'!$B$6:$B$73,0),4)*1000)","v":75000},{"$f":"B36*(1+'Federal Reserve PPI AC Parts'!$E$12)","v":{"$error":"#VALUE!"}},{"$f":"C36*(1+'Federal Reserve PPI AC Parts'!$E$12)","v":83880.22210470651},"Used PW 2024",{"$f":"E36","v":83880.22210470651},{"$f":"(B36-C36)/C36","v":{"$error":"#VALUE!"}},{"$f":"IFERROR(INDEX('[2]Mil trans'!$B$6:$K$73,MATCH(L36,'[2]Mil trans'!$B$6:$B$73,0),7),INDEX('[2]Mil trans'!$B$6:$K$73,MATCH(M36,'[2]Mil trans'!$B$6:$B$73,0),7))","v":0},1,null,null,"Terrain Masking Low Level Flight System (TMLLFS",""]
[null,{"$f":"IFERROR(INDEX('[1]Pt1-DATA'!$C:$D,MATCH(A37,'[1]Pt1-DATA'!$C:$C,0),2),\"\")","v":""},{"$f":"IFERROR(INDEX('[2]Mil trans'!$B$6:$K$73,MATCH(L37,'[2]Mil trans'!$B$6:$B$73,0),4)*1000,INDEX('[2]Mil trans'!$B$6:$K$73,MATCH(M37,'[2]Mil trans'!$B$6:$B$73,0),4)*1000)","v":35000},{"$f":"B37*(1+'Federal Reserve PPI AC Parts'!$E$12)","v":{"$error":"#VALUE!"}},{"$f":"C37*(1+'Federal Reserve PPI AC Parts'!$E$12)","v":39144.103648863042},"Used PW 2024",{"$f":"E37","v":39144.103648863042},{"$f":"(B37-C37)/C37","v":{"$error":"#VALUE!"}},{"$f":"IFERROR(INDEX('[2]Mil trans'!$B$6:$K$73,MATCH(L37,'[2]Mil trans'!$B$6:$B$73,0),7),INDEX('[2]Mil trans'!$B$6:$K$73,MATCH(M37,'[2]Mil trans'!$B$6:$B$73,0),7))","v":"?????"},1,null,null,"Formation Keeping System (video surv)",""]

{"sheet":"rotorcraft mil","index":11,"n_rows":34,"n_cols":14,"rows_kept":34,"cut":false,"hidden":false,"merged":[]}
["Aircraft:",{"$f":"INDEX('[3]Pt1-AvionicsComponentCosts'!$A$11:$E$384,MATCH(VALUE(LEFT(A5,SEARCH(\"#\",A5)-1)),'[3]Pt1-AvionicsComponentCosts'!$A$11:$A$384,0),5)","v":"Boeing AH-64 Apache"}]
[null,"Avionics Cost 2020",null,null,null,null,"Avionics Cost 2024",null,"% Change 2020 - 2024"]
[null,{"$f":"SUMPRODUCT(B5:B80,J5:J80)","v":1898859},null,null,null,null,{"$f":"SUMPRODUCT(G5:G80,J5:J80)","v":2100171.5330512957},null,{"$f":"($G$3-$B$3)/$B$3","v":0.10601763114127782}]
[null,"Model 2020","PW 2020","2024 PPI Model","2024 PPI PW","Notes","2024 AE Estimate","Pct Change","Source","#/AC","Factor","Item","Alt Item (PW)","previous"]
["98#735",{"$f":"IFERROR(INDEX('[1]Pt1-DATA'!$C:$D,MATCH(A5,'[1]Pt1-DATA'!$C:$C,0),2),\"\")","v":25303},{"$f":"IFERROR(INDEX('[2]rotorcraft mil'!$B$6:$K$73,MATCH(L5,'[2]rotorcraft mil'!$B$6:$B$73,0),4)*1000,INDEX('[2]rotorcraft mil'!$B$6:$K$73,MATCH(M5,'[2]rotorcraft mil'!$B$6:$B$73,0),4)*1000)","v":25000},{"$f":"B5*(1+'Federal Reserve PPI AC Parts'!$E$12)","v":28298.950132205187},{"$f":"C5*(1+'Federal Reserve PPI AC Parts'!$E$12)","v":27960.074034902173},"Used Model 2024",{"$f":"B5","v":25303},{"$f":"(B5-C5)/C5","v":1.2120000000000001E-2},{"$f":"IFERROR(INDEX('[2]rotorcraft mil'!$B$6:$K$73,MATCH(L5,'[2]rotorcraft mil'!$B$6:$B$73,0),7),INDEX('[2]rotorcraft mil'!$B$6:$K$73,MATCH(M5,'[2]rotorcraft mil'!$B$6:$B$73,0),7))","v":0},1,{"$f":"INDEX('[1]Pt1-DATA'!$A$5:$M$13349,MATCH(A5,'[1]Pt1-DATA'!$C$5:$C$13349,0),6)","v":"C"},"Integrated Standby Instrument System","Standy instrument",25303]
["98#765",{"$f":"IFERROR(INDEX('[1]Pt1-DATA'!$C:$D,MATCH(A6,'[1]Pt1-DATA'!$C:$C,0),2),\"\")","v":50606},{"$f":"IFERROR(INDEX('[2]rotorcraft mil'!$B$6:$K$73,MATCH(L6,'[2]rotorcraft mil'!$B$6:$B$73,0),4)*1000,INDEX('[2]rotorcraft mil'!$B$6:$K$73,MATCH(M6,'[2]rotorcraft mil'!$B$6:$B$73,0),4)*1000)","v":{"$error":"#N/A"}},{"$f":"B6*(1+'Federal Reserve PPI AC Parts'!$E$12)","v":56597.900264410375},{"$f":"C6*(1+'Federal Reserve PPI AC Parts'!$E$12)","v":{"$error":"#N/A"}},"Used Model 2024",{"$f":"B6","v":50606},{"$f":"(B6-C6)/C6","v":{"$error":"#N/A"}},{"$f":"IFERROR(INDEX('[2]rotorcraft mil'!$B$6:$K$73,MATCH(L6,'[2]rotorcraft mil'!$B$6:$B$73,0),7),INDEX('[2]rotorcraft mil'!$B$6:$K$73,MATCH(M6,'[2]rotorcraft mil'!$B$6:$B$73,0),7))","v":{"$error":"#N/A"}},2,{"$f":"INDEX('[1]Pt1-DATA'!$A$5:$M$13349,MATCH(A6,'[1]Pt1-DATA'!$C$5:$C$13349,0),6)","v":"L"},"Multi Function Display",null,50606]
["98#793",{"$f":"IFERROR(INDEX('[1]Pt1-DATA'!$C:$D,MATCH(A7,'[1]Pt1-DATA'!$C:$C,0),2),\"\")","v":101212},{"$f":"IFERROR(INDEX('[2]rotorcraft mil'!$B$6:$K$73,MATCH(L7,'[2]rotorcraft mil'!$B$6:$B$73,0),4)*1000,INDEX('[2]rotorcraft mil'!$B$6:$K$73,MATCH(M7,'[2]rotorcraft mil'!$B$6:$B$73,0),4)*1000)","v":75000},{"$f":"B7*(1+'Federal Reserve PPI AC Parts'!$E$12)","v":113195.80052882075},{"$f":"C7*(1+'Federal Reserve PPI AC Parts'!$E$12)","v":83880.22210470651},"Used Model 2024",101212,0.34949333333333332,{"$f":"IFERROR(INDEX('[2]rotorcraft mil'!$B$6:$K$73,MATCH(L7,'[2]rotorcraft mil'!$B$6:$B$73,0),7),INDEX('[2]rotorcraft mil'!$B$6:$K$73,MATCH(M7,'[2]rotorcraft mil'!$B$6:$B$73,0),7))","v":0},1,{"$f":"INDEX('[1]Pt1-DATA'!$A$5:$M$13349,MATCH(A7,'[1]Pt1-DATA'!$C$5:$C$13349,0),6)","v":"A"},"Pilot Helmet Mounted Display System","Integrated Helmet and display system",101212]
["98#795",{"$f":"IFERROR(INDEX('[1]Pt1-DATA'!$C:$D,MATCH(A8,'[1]Pt1-DATA'!$C:$C,0),2),\"\")","v":111607},{"$f":"IFERROR(INDEX('[2]rotorcraft mil'!$B$6:$K$73,MATCH(L8,'[2]rotorcraft mil'!$B$6:$B$73,0),4)*1000,INDEX('[2]rotorcraft mil'!$B$6:$K$73,MATCH(M8,'[2]rotorcraft mil'!$B$6:$B$73,0),4)*1000)","v":{"$error":"#N/A"}},{"$f":"B8*(1+'Federal Reserve PPI AC Parts'!$E$12)","v":124821.59931253307},{"$f":"C8*(1+'Federal Reserve PPI AC Parts'!$E$12)","v":{"$error":"#N/A"}},"Used Model 2024",111607,{"$error":"#N/A"},{"$f":"IFERROR(INDEX('[2]rotorcraft mil'!$B$6:$K$73,MATCH(L8,'[2]rotorcraft mil'!$B$6:$B$73,0),7),INDEX('[2]rotorcraft mil'!$B$6:$K$73,MATCH(M8,'[2]rotorcraft mil'!$B$6:$B$73,0),7))","v":{"$error":"#N/A"}},2,{"$f":"INDEX('[1]Pt1-DATA'!$A$5:$M$13349,MATCH(A8,'[1]Pt1-DATA'!$C$5:$C$13349,0),6)","v":"A1"},"Mission computers",null,111607]
["98#825",{"$f":"IFERROR(INDEX('[1]Pt1-DATA'!$C:$D,MATCH(A9,'[1]Pt1-DATA'!$C:$C,0),2),\"\")","v":59764},{"$f":"IFERROR(INDEX('[2]rotorcraft mil'!$B$6:$K$73,MATCH(L9,'[2]rotorcraft mil'!$B$6:$B$73,0),4)*1000,INDEX('[2]rotorcraft mil'!$B$6:$K$73,MATCH(M9,'[2]rotorcraft mil'!$B$6:$B$73,0),4)*1000)","v":{"$error":"#N/A"}},{"$f":"B9*(1+'Federal Reserve PPI AC Parts'!$E$12)","v":66840.23458487574},{"$f":"C9*(1+'Federal Reserve PPI AC Parts'!$E$12)","v":{"$error":"#N/A"}},"Used Model 2024",59764,{"$error":"#N/A"},{"$f":"IFERROR(INDEX('[2]rotorcraft mil'!$B$6:$K$73,MATCH(L9,'[2]rotorcraft mil'!$B$6:$B$73,0),7),INDEX('[2]rotorcraft mil'!$B$6:$K$73,MATCH(M9,'[2]rotorcraft mil'!$B$6:$B$73,0),7))","v":{"$error":"#N/A"}},1,{"$f":"INDEX('[1]Pt1-DATA'!$A$5:$M$13349,MATCH(A9,'[1]Pt1-DATA'!$C$5:$C$13349,0),6)","v":"K"},"Auto pilot system",null,59764]
["98#829",{"$f":"IFERROR(INDEX('[1]Pt1-DATA'!$C:$D,MATCH(A10,'[1]Pt1-DATA'!$C:$C,0),2),\"\")","v":98253},{"$f":"IFERROR(INDEX('[2]rotorcraft mil'!$B$6:$K$73,MATCH(L10,'[2]rotorcraft mil'!$B$6:$B$73,0),4)*1000,INDEX('[2]rotorcraft mil'!$B$6:$K$73,MATCH(M10,'[2]rotorcraft mil'!$B$6:$B$73,0),4)*1000)","v":{"$error":"#N/A"}},{"$f":"B10*(1+'Federal Reserve PPI AC Parts'!$E$12)","v":109886.44616604972},{"$f":"C10*(1+'Federal Reserve PPI AC Parts'!$E$12)","v":{"$error":"#N/A"}},"Used Model 2024",98253,{"$error":"#N/A"},{"$f":"IFERROR(INDEX('[2]rotorcraft mil'!$B$6:$K$73,MATCH(L10,'[2]rotorcraft mil'!$B$6:$B$73,0),7),INDEX('[2]rotorcraft mil'!$B$6:$K$73,MATCH(M10,'[2]rotorcraft mil'!$B$6:$B$73,0),7))","v":{"$error":"#N/A"}},1,{"$f":"INDEX('[1]Pt1-DATA'!$A$5:$M$13349,MATCH(A10,'[1]Pt1-DATA'!$C$5:$C$13349,0),6)","v":"G"},"Radar Antenna (nose nounted)",null,98253]
["98#833",{"$f":"IFERROR(INDEX('[1]Pt1-DATA'!$C:$D,MATCH(A11,'[1]Pt1-DATA'!$C:$C,0),2),\"\")","v":156228},{"$f":"IFERROR(INDEX('[2]rotorcraft mil'!$B$6:$K$73,MATCH(L11,'[2]rotorcraft mil'!$B$6:$B$73,0),4)*1000,INDEX('[2]rotorcraft mil'!$B$6:$K$73,MATCH(M11,'[2]rotorcraft mil'!$B$6:$B$73,0),4)*1000)","v":{"$error":"#N/A"}},{"$f":"B11*(1+'Federal Reserve PPI AC Parts'!$E$12)","v":174725.85785298786},{"$f":"C11*(1+'Federal Reserve PPI AC Parts'!$E$12)","v":{"$error":"#N/A"}},"Used Model 2024",156228,{"$error":"#N/A"},{"$f":"IFERROR(INDEX('[2]rotorcraft mil'!$B$6:$K$73,MATCH(L11,'[2]rotorcraft mil'!$B$6:$B$73,0),7),INDEX('[2]rotorcraft mil'!$B$6:$K$73,MATCH(M11,'[2]rotorcraft mil'!$B$6:$B$73,0),7))","v":{"$error":"#N/A"}},1,{"$f":"INDEX('[1]Pt1-DATA'!$A$5:$M$13349,MATCH(A11,'[1]Pt1-DATA'!$C$5:$C$13349,0),6)","v":"A"},"IMA",null,156228]
["98#847",{"$f":"IFERROR(INDEX('[1]Pt1-DATA'!$C:$D,MATCH(A12,'[1]Pt1-DATA'!$C:$C,0),2),\"\")","v":25303},{"$f":"IFERROR(INDEX('[2]rotorcraft mil'!$B$6:$K$73,MATCH(L12,'[2]rotorcraft mil'!$B$6:$B$73,0),4)*1000,INDEX('[2]rotorcraft mil'!$B$6:$K$73,MATCH(M12,'[2]rotorcraft mil'!$B$6:$B$73,0),4)*1000)","v":20000},{"$f":"B12*(1+'Federal Reserve PPI AC Parts'!$E$12)","v":28298.950132205187},{"$f":"C12*(1+'Federal Reserve PPI AC Parts'!$E$12)","v":22368.059227921738},"Used Model 2024",25303,0.26515,{"$f":"IFERROR(INDEX('[2]rotorcraft mil'!$B$6:$K$73,MATCH(L12,'[2]rotorcraft mil'!$B$6:$B$73,0),7),INDEX('[2]rotorcraft mil'!$B$6:$K$73,MATCH(M12,'[2]rotorcraft mil'!$B$6:$B$73,0),7))","v":0},2,{"$f":"INDEX('[1]Pt1-DATA'!$A$5:$M$13349,MATCH(A12,'[1]Pt1-DATA'!$C$5:$C$13349,0),6)","v":"G"},"Engine/fuel/ displays",null,25303]
["98#848",{"$f":"IFERROR(INDEX('[1]Pt1-DATA'!$C:$D,MATCH(A13,'[1]Pt1-DATA'!$C:$C,0),2),\"\")","v":53193},{"$f":"IFERROR(INDEX('[2]rotorcraft mil'!$B$6:$K$73,MATCH(L13,'[2]rotorcraft mil'!$B$6:$B$73,0),4)*1000,INDEX('[2]rotorcraft mil'!$B$6:$K$73,MATCH(M13,'[2]rotorcraft mil'!$B$6:$B$73,0),4)*1000)","v":75000},{"$f":"B13*(1+'Federal Reserve PPI AC Parts'!$E$12)","v":59491.208725542048},{"$f":"C13*(1+'Federal Reserve PPI AC Parts'!$E$12)","v":83880.22210470651},"Used Model 2024",53193,-0.29076000000000002,{"$f":"IFERROR(INDEX('[2]rotorcraft mil'!$B$6:$K$73,MATCH(L13,'[2]rotorcraft mil'!$B$6:$B$73,0),7),INDEX('[2]rotorcraft mil'!$B$6:$K$73,MATCH(M13,'[2]rotorcraft mil'!$B$6:$B$73,0),7))","v":"HWL"},2,{"$f":"INDEX('[1]Pt1-DATA'!$A$5:$M$13349,MATCH(A13,'[1]Pt1-DATA'!$C$5:$C$13349,0),6)","v":"J"},"Embedded GPS/INS","Embedded GPS/INS (Heading and Attitude Ref System)",53193]
["98#849",{"$f":"IFERROR(INDEX('[1]Pt1-DATA'!$C:$D,MATCH(A14,'[1]Pt1-DATA'!$C:$C,0),2),\"\")","v":53814},{"$f":"IFERROR(INDEX('[2]rotorcraft mil'!$B$6:$K$73,MATCH(L14,'[2]rotorcraft mil'!$B$6:$B$73,0),4)*1000,INDEX('[2]rotorcraft mil'!$B$6:$K$73,MATCH(M14,'[2]rotorcraft mil'!$B$6:$B$73,0),4)*1000)","v":35000},{"$f":"B14*(1+'Federal Reserve PPI AC Parts'!$E$12)","v":60185.73696456902},{"$f":"C14*(1+'Federal Reserve PPI AC Parts'!$E$12)","v":39144.103648863042},"Used Model 2024",53814,0.5375428571428571,{"$f":"IFERROR(INDEX('[2]rotorcraft mil'!$B$6:$K$73,MATCH(L14,'[2]rotorcraft mil'!$B$6:$B$73,0),7),INDEX('[2]rotorcraft mil'!$B$6:$K$73,MATCH(M14,'[2]rotorcraft mil'!$B$6:$B$73,0),7))","v":"LM"},1,{"$f":"INDEX('[1]Pt1-DATA'!$A$5:$M$13349,MATCH(A14,'[1]Pt1-DATA'!$C$5:$C$13349,0),6)","v":"A"},"Joint tactical radio system (JTRS),"," joint tactical radio system (JTRS),",53814]
["98#850",{"$f":"IFERROR(INDEX('[1]Pt1-DATA'!$C:$D,MATCH(A15,'[1]Pt1-DATA'!$C:$C,0),2),\"\")","v":20243},{"$f":"IFERROR(INDEX('[2]rotorcraft mil'!$B$6:$K$73,MATCH(L15,'[2]rotorcraft mil'!$B$6:$B$73,0),4)*1000,INDEX('[2]rotorcraft mil'!$B$6:$K$73,MATCH(M15,'[2]rotorcraft mil'!$B$6:$B$73,0),4)*1000)","v":20000},{"$f":"B15*(1+'Federal Reserve PPI AC Parts'!$E$12)","v":22639.831147540986},{"$f":"C15*(1+'Federal Reserve PPI AC Parts'!$E$12)","v":22368.059227921738},"Used Model 2024",20243,1.2149999999999999E-2,{"$f":"IFERROR(INDEX('[2]rotorcraft mil'!$B$6:$K$73,MATCH(L15,'[2]rotorcraft mil'!$B$6:$B$73,0),7),INDEX('[2]rotorcraft mil'!$B$6:$K$73,MATCH(M15,'[2]rotorcraft mil'!$B$6:$B$73,0),7))","v":"NG"},1,{"$f":"INDEX('[1]Pt1-DATA'!$A$5:$M$13349,MATCH(A15,'[1]Pt1-DATA'!$C$5:$C$13349,0),6)","v":"A"},"Pilot Night Vision Sensors (PNVS) systems","Pilot Night Vision Sensors (PNVS) systems",20243]
["98#851",{"$f":"IFERROR(INDEX('[1]Pt1-DATA'!$C:$D,MATCH(A16,'[1]Pt1-DATA'!$C:$C,0),2),\"\")","v":82497},{"$f":"IFERROR(INDEX('[2]rotorcraft mil'!$B$6:$K$73,MATCH(L16,'[2]rotorcraft mil'!$B$6:$B$73,0),4)*1000,INDEX('[2]rotorcraft mil'!$B$6:$K$73,MATCH(M16,'[2]rotorcraft mil'!$B$6:$B$73,0),4)*1000)","v":40000},{"$f":"B16*(1+'Federal Reserve PPI AC Parts'!$E$12)","v":92264.889106292976},{"$f":"C16*(1+'Federal Reserve PPI AC Parts'!$E$12)","v":44736.118455843476},"Used Model 2024",82497,1.062425,{"$f":"IFERROR(INDEX('[2]rotorcraft mil'!$B$6:$K$73,MATCH(L16,'[2]rotorcraft mil'!$B$6:$B$73,0),7),INDEX('[2]rotorcraft mil'!$B$6:$K$73,MATCH(M16,'[2]rotorcraft mil'!$B$6:$B$73,0),7))","v":"NG"},1,{"$f":"INDEX('[1]Pt1-DATA'!$A$5:$M$13349,MATCH(A16,'[1]Pt1-DATA'!$C$5:$C$13349,0),6)","v":"A"},"Millimeter wave fire-control radar, frequency interferometer, fire-and-forget radar","Northrop Grumman AN/APG-78 millimeter wave fire-control radar, frequency interferometer, fire-and-forget radar",82497]
["98#852",{"$f":"IFERROR(INDEX('[1]Pt1-DATA'!$C:$D,MATCH(A17,'[1]Pt1-DATA'!$C:$C,0),2),\"\")","v":78124},{"$f":"IFERROR(INDEX('[2]rotorcraft mil'!$B$6:$K$73,MATCH(L17,'[2]rotorcraft mil'!$B$6:$B$73,0),4)*1000,INDEX('[2]rotorcraft mil'!$B$6:$K$73,MATCH(M17,'[2]rotorcraft mil'!$B$6:$B$73,0),4)*1000)","v":30000},{"$f":"B17*(1+'Federal Reserve PPI AC Parts'!$E$12)","v":87374.112956107885},{"$f":"C17*(1+'Federal Reserve PPI AC Parts'!$E$12)","v":33552.088841882607},"Used Model 2024",78124,1.6041333333333334,{"$f":"IFERROR(INDEX('[2]rotorcraft mil'!$B$6:$K$73,MATCH(L17,'[2]rotorcraft mil'!$B$6:$B$73,0),7),INDEX('[2]rotorcraft mil'!$B$6:$K$73,MATCH(M17,'[2]rotorcraft mil'!$B$6:$B$73,0),7))","v":"LM"},1,{"$f":"INDEX('[1]Pt1-DATA'!$A$5:$M$13349,MATCH(A17,'[1]Pt1-DATA'!$C$5:$C$13349,0),6)","v":"A"},"Modernized Target Acquisition Designation Sight (M-TADS) ","Lockheed Martin Apache Arrowhead Modernized Target Acquisition Designation Sight (M-TADS) ",78124]
["98#853",{"$f":"IFERROR(INDEX('[1]Pt1-DATA'!$C:$D,MATCH(A18,'[1]Pt1-DATA'!$C:$C,0),2),\"\")","v":28767},{"$f":"IFERROR(INDEX('[2]rotorcraft mil'!$B$6:$K$73,MATCH(L18,'[2]rotorcraft mil'!$B$6:$B$73,0),4)*1000,INDEX('[2]rotorcraft mil'!$B$6:$K$73,MATCH(M18,'[2]rotorcraft mil'!$B$6:$B$73,0),4)*1000)","v":18000},{"$f":"B18*(1+'Federal Reserve PPI AC Parts'!$E$12)","v":32173.09799048123},{"$f":"C18*(1+'Federal Reserve PPI AC Parts'!$E$12)","v":20131.253305129565},"Used Model 2024",28767,0.59816666666666662,{"$f":"IFERROR(INDEX('[2]rotorcraft mil'!$B$6:$K$73,MATCH(L18,'[2]rotorcraft mil'!$B$6:$B$73,0),7),INDEX('[2]rotorcraft mil'!$B$6:$K$73,MATCH(M18,'[2]rotorcraft mil'!$B$6:$B$73,0),7))","v":"GE Aviation"},1,{"$f":"INDEX('[1]Pt1-DATA'!$A$5:$M$13349,MATCH(A18,'[1]Pt1-DATA'!$C$5:$C$13349,0),6)","v":"A"},"Interface maintenance data recorders",null,28767]
["98#854",{"$f":"IFERROR(INDEX('[1]Pt1-DATA'!$C:$D,MATCH(A19,'[1]Pt1-DATA'!$C:$C,0),2),\"\")","v":24461},{"$f":"IFERROR(INDEX('[2]rotorcraft mil'!$B$6:$K$73,MATCH(L19,'[2]rotorcraft mil'!$B$6:$B$73,0),4)*1000,INDEX('[2]rotorcraft mil'!$B$6:$K$73,MATCH(M19,'[2]rotorcraft mil'!$B$6:$B$73,0),4)*1000)","v":25000},{"$f":"B19*(1+'Federal Reserve PPI AC Parts'!$E$12)","v":27357.254838709679},{"$f":"C19*(1+'Federal Reserve PPI AC Parts'!$E$12)","v":27960.074034902173},"Used Model 2024",24461,-2.1559999999999999E-2,{"$f":"IFERROR(INDEX('[2]rotorcraft mil'!$B$6:$K$73,MATCH(L19,'[2]rotorcraft mil'!$B$6:$B$73,0),7),INDEX('[2]rotorcraft mil'!$B$6:$K$73,MATCH(M19,'[2]rotorcraft mil'!$B$6:$B$73,0),7))","v":0},1,{"$f":"INDEX('[1]Pt1-DATA'!$A$5:$M$13349,MATCH(A19,'[1]Pt1-DATA'!$C$5:$C$13349,0),6)","v":"A"},"Target data acquisition","Link 16 target data acquisition",24461]
["98#855",{"$f":"IFERROR(INDEX('[1]Pt1-DATA'!$C:$D,MATCH(A20,'[1]Pt1-DATA'!$C:$C,0),2),\"\")","v":43999},{"$f":"IFERROR(INDEX('[2]rotorcraft mil'!$B$6:$K$73,MATCH(L20,'[2]rotorcraft mil'!$B$6:$B$73,0),4)*1000,INDEX('[2]rotorcraft mil'!$B$6:$K$73,MATCH(M20,'[2]rotorcraft mil'!$B$6:$B$73,0),4)*1000)","v":25000},{"$f":"B20*(1+'Federal Reserve PPI AC Parts'!$E$12)","v":49208.611898466428},{"$f":"C20*(1+'Federal Reserve PPI AC Parts'!$E$12)","v":27960.074034902173},"Used Model 2024",43999,0.75995999999999997,{"$f":"IFERROR(INDEX('[2]rotorcraft mil'!$B$6:$K$73,MATCH(L20,'[2]rotorcraft mil'!$B$6:$B$73,0),7),INDEX('[2]rotorcraft mil'!$B$6:$K$73,MATCH(M20,'[2]rotorcraft mil'!$B$6:$B$73,0),7))","v":"Nothrop Grumman"},2,{"$f":"INDEX('[1]Pt1-DATA'!$A$5:$M$13349,MATCH(A20,'[1]Pt1-DATA'!$C$5:$C$13349,0),6)","v":"A"},"Radar warning receivers"," AN / APR-39A (V) radar warning receivers",43999]
["98#856",{"$f":"IFERROR(INDEX('[1]Pt1-DATA'!$C:$D,MATCH(A21,'[1]Pt1-DATA'!$C:$C,0),2),\"\")","v":76997},{"$f":"IFERROR(INDEX('[2]rotorcraft mil'!$B$6:$K$73,MATCH(L21,'[2]rotorcraft mil'!$B$6:$B$73,0),4)*1000,INDEX('[2]rotorcraft mil'!$B$6:$K$73,MATCH(M21,'[2]rotorcraft mil'!$B$6:$B$73,0),4)*1000)","v":40000},{"$f":"B21*(1+'Federal Reserve PPI AC Parts'!$E$12)","v":86113.672818614505},{"$f":"C21*(1+'Federal Reserve PPI AC Parts'!$E$12)","v":44736.118455843476},"Used Model 2024",76997,0.924925,{"$f":"IFERROR(INDEX('[2]rotorcraft mil'!$B$6:$K$73,MATCH(L21,'[2]rotorcraft mil'!$B$6:$B$73,0),7),INDEX('[2]rotorcraft mil'!$B$6:$K$73,MATCH(M21,'[2]rotorcraft mil'!$B$6:$B$73,0),7))","v":"LM"},1,{"$f":"INDEX('[1]Pt1-DATA'!$A$5:$M$13349,MATCH(A21,'[1]Pt1-DATA'!$C$5:$C$13349,0),6)","v":"A"},"Electronic Interferometer Frequency Radar Supports target acquisition systems"," Lockheed Martin AN / APR-48A Electronic Interferometer Frequency Radar Supports target acquisition systems",76997]
["98#857",{"$f":"IFERROR(INDEX('[1]Pt1-DATA'!$C:$D,MATCH(A22,'[1]Pt1-DATA'!$C:$C,0),2),\"\")","v":83705},{"$f":"IFERROR(INDEX('[2]rotorcraft mil'!$B$6:$K$73,MATCH(L22,'[2]rotorcraft mil'!$B$6:$B$73,0),4)*1000,INDEX('[2]rotorcraft mil'!$B$6:$K$73,MATCH(M22,'[2]rotorcraft mil'!$B$6:$B$73,0),4)*1000)","v":50000},{"$f":"B22*(1+'Federal Reserve PPI AC Parts'!$E$12)","v":93615.919883659444},{"$f":"C22*(1+'Federal Reserve PPI AC Parts'!$E$12)","v":55920.148069804345},"Used Model 2024",83705,0.67410000000000003,{"$f":"IFERROR(INDEX('[2]rotorcraft mil'!$B$6:$K$73,MATCH(L22,'[2]rotorcraft mil'!$B$6:$B$73,0),7),INDEX('[2]rotorcraft mil'!$B$6:$K$73,MATCH(M22,'[2]rotorcraft mil'!$B$6:$B$73,0),7))","v":0},1,{"$f":"INDEX('[1]Pt1-DATA'!$A$5:$M$13349,MATCH(A22,'[1]Pt1-DATA'!$C$5:$C$13349,0),6)","v":"A"},"Infra-red countermeasure","AN / ALQ-144 infra-red countermeasure determined from BAE Systems IEWS ",83705]
["98#858",{"$f":"IFERROR(INDEX('[1]Pt1-DATA'!$C:$D,MATCH(A23,'[1]Pt1-DATA'!$C:$C,0),2),\"\")","v":43999},{"$f":"IFERROR(INDEX('[2]rotorcraft mil'!$B$6:$K$73,MATCH(L23,'[2]rotorcraft mil'!$B$6:$B$73,0),4)*1000,INDEX('[2]rotorcraft mil'!$B$6:$K$73,MATCH(M23,'[2]rotorcraft mil'!$B$6:$B$73,0),4)*1000)","v":30000},{"$f":"B23*(1+'Federal Reserve PPI AC Parts'!$E$12)","v":49208.611898466428},{"$f":"C23*(1+'Federal Reserve PPI AC Parts'!$E$12)","v":33552.088841882607},"Used Model 2024",43999,0.46663333333333334,{"$f":"IFERROR(INDEX('[2]rotorcraft mil'!$B$6:$K$73,MATCH(L23,'[2]rotorcraft mil'!$B$6:$B$73,0),7),INDEX('[2]rotorcraft mil'!$B$6:$K$73,MATCH(M23,'[2]rotorcraft mil'!$B$6:$B$73,0),7))","v":"Collins"},1,{"$f":"INDEX('[1]Pt1-DATA'!$A$5:$M$13349,MATCH(A23,'[1]Pt1-DATA'!$C$5:$C$13349,0),6)","v":"A"},"Laser warning receiver"," AN / AVR-2 laser warning receiver from Goodrich",43999]
["98#859",{"$f":"IFERROR(INDEX('[1]Pt1-DATA'!$C:$D,MATCH(A24,'[1]Pt1-DATA'!$C:$C,0),2),\"\")","v":54998},{"$f":"IFERROR(INDEX('[2]rotorcraft mil'!$B$6:$K$73,MATCH(L24,'[2]rotorcraft mil'!$B$6:$B$73,0),4)*1000,INDEX('[2]rotorcraft mil'!$B$6:$K$73,MATCH(M24,'[2]rotorcraft mil'!$B$6:$B$73,0),4)*1000)","v":25000},{"$f":"B24*(1+'Federal Reserve PPI AC Parts'!$E$12)","v":61509.926070861984},{"$f":"C24*(1+'Federal Reserve PPI AC Parts'!$E$12)","v":27960.074034902173},"Used Model 2024",54998,1.1999200000000001,{"$f":"IFERROR(INDEX('[2]rotorcraft mil'!$B$6:$K$73,MATCH(L24,'[2]rotorcraft mil'!$B$6:$B$73,0),7),INDEX('[2]rotorcraft mil'!$B$6:$K$73,MATCH(M24,'[2]rotorcraft mil'!$B$6:$B$73,0),7))","v":"ITT Aerospace"},1,{"$f":"INDEX('[1]Pt1-DATA'!$A$5:$M$13349,MATCH(A24,'[1]Pt1-DATA'!$C$5:$C$13349,0),6)","v":"A"},"Radar jammer","AN / ALQ-136 (V) radar jammer developed by ITT;",54998]
["98#860",{"$f":"IFERROR(INDEX('[1]Pt1-DATA'!$C:$D,MATCH(A25,'[1]Pt1-DATA'!$C:$C,0),2),\"\")","v":34520},{"$f":"IFERROR(INDEX('[2]rotorcraft mil'!$B$6:$K$73,MATCH(L25,'[2]rotorcraft mil'!$B$6:$B$73,0),4)*1000,INDEX('[2]rotorcraft mil'!$B$6:$K$73,MATCH(M25,'[2]rotorcraft mil'!$B$6:$B$73,0),4)*1000)","v":15000},{"$f":"B25*(1+'Federal Reserve PPI AC Parts'!$E$12)","v":38607.270227392917},{"$f":"C25*(1+'Federal Reserve PPI AC Parts'!$E$12)","v":16776.044420941304},"Used Model 2024",34520,1.3013333333333332,{"$f":"IFERROR(INDEX('[2]rotorcraft mil'!$B$6:$K$73,MATCH(L25,'[2]rotorcraft mil'!$B$6:$B$73,0),7),INDEX('[2]rotorcraft mil'!$B$6:$K$73,MATCH(M25,'[2]rotorcraft mil'!$B$6:$B$73,0),7))","v":0},1,{"$f":"INDEX('[1]Pt1-DATA'!$A$5:$M$13349,MATCH(A25,'[1]Pt1-DATA'!$C$5:$C$13349,0),6)","v":"A"},"Integrated data modem",null,34520]
["98#861",{"$f":"IFERROR(INDEX('[1]Pt1-DATA'!$C:$D,MATCH(A26,'[1]Pt1-DATA'!$C:$C,0),2),\"\")","v":44643},{"$f":"IFERROR(INDEX('[2]rotorcraft mil'!$B$6:$K$73,MATCH(L26,'[2]rotorcraft mil'!$B$6:$B$73,0),4)*1000,INDEX('[2]rotorcraft mil'!$B$6:$K$73,MATCH(M26,'[2]rotorcraft mil'!$B$6:$B$73,0),4)*1000)","v":25000},{"$f":"B26*(1+'Federal Reserve PPI AC Parts'!$E$12)","v":49928.863405605509},{"$f":"C26*(1+'Federal Reserve PPI AC Parts'!$E$12)","v":27960.074034902173},"Used Model 2024",44643,0.78571999999999997,{"$f":"IFERROR(INDEX('[2]rotorcraft mil'!$B$6:$K$73,MATCH(L26,'[2]rotorcraft mil'!$B$6:$B$73,0),7),INDEX('[2]rotorcraft mil'!$B$6:$K$73,MATCH(M26,'[2]rotorcraft mil'!$B$6:$B$73,0),7))","v":"Collins"},1,{"$f":"INDEX('[1]Pt1-DATA'!$A$5:$M$13349,MATCH(A26,'[1]Pt1-DATA'!$C$5:$C$13349,0),6)","v":"A"},"Data Transfer module","Data Transfer module for mission planning",44643]
["98#879",{"$f":"IFERROR(INDEX('[1]Pt1-DATA'!$C:$D,MATCH(A27,'[1]Pt1-DATA'!$C:$C,0),2),\"\")","v":114566},{"$f":"IFERROR(INDEX('[2]rotorcraft mil'!$B$6:$K$73,MATCH(L27,'[2]rotorcraft mil'!$B$6:$B$73,0),4)*1000,INDEX('[2]rotorcraft mil'!$B$6:$K$73,MATCH(M27,'[2]rotorcraft mil'!$B$6:$B$73,0),4)*1000)","v":{"$error":"#N/A"}},{"$f":"B27*(1+'Federal Reserve PPI AC Parts'!$E$12)","v":128130.95367530409},{"$f":"C27*(1+'Federal Reserve PPI AC Parts'!$E$12)","v":{"$error":"#N/A"}},"Used Model 2024",114566,{"$error":"#N/A"},{"$f":"IFERROR(INDEX('[2]rotorcraft mil'!$B$6:$K$73,MATCH(L27,'[2]rotorcraft mil'!$B$6:$B$73,0),7),INDEX('[2]rotorcraft mil'!$B$6:$K$73,MATCH(M27,'[2]rotorcraft mil'!$B$6:$B$73,0),7))","v":{"$error":"#N/A"}},1,{"$f":"INDEX('[1]Pt1-DATA'!$A$5:$M$13349,MATCH(A27,'[1]Pt1-DATA'!$C$5:$C$13349,0),6)","v":"S"},"Software",null,114566]
["98#885",{"$f":"IFERROR(INDEX('[1]Pt1-DATA'!$C:$D,MATCH(A28,'[1]Pt1-DATA'!$C:$C,0),2),\"\")","v":121551},{"$f":"IFERROR(INDEX('[2]rotorcraft mil'!$B$6:$K$73,MATCH(L28,'[2]rotorcraft mil'!$B$6:$B$73,0),4)*1000,INDEX('[2]rotorcraft mil'!$B$6:$K$73,MATCH(M28,'[2]rotorcraft mil'!$B$6:$B$73,0),4)*1000)","v":{"$error":"#N/A"}},{"$f":"B28*(1+'Federal Reserve PPI AC Parts'!$E$12)","v":135942.99836065577},{"$f":"C28*(1+'Federal Reserve PPI AC Parts'!$E$12)","v":{"$error":"#N/A"}},"Used Model 2024",121551,{"$error":"#N/A"},{"$f":"IFERROR(INDEX('[2]rotorcraft mil'!$B$6:$K$73,MATCH(L28,'[2]rotorcraft mil'!$B$6:$B$73,0),7),INDEX('[2]rotorcraft mil'!$B$6:$K$73,MATCH(M28,'[2]rotorcraft mil'!$B$6:$B$73,0),7))","v":{"$error":"#N/A"}},1,{"$f":"INDEX('[1]Pt1-DATA'!$A$5:$M$13349,MATCH(A28,'[1]Pt1-DATA'!$C$5:$C$13349,0),6)","v":"A"},"Enhanced Vision system",null,121551]
["98#1056",{"$f":"IFERROR(INDEX('[1]Pt1-DATA'!$C:$D,MATCH(A29,'[1]Pt1-DATA'!$C:$C,0),2),\"\")","v":1394},{"$f":"IFERROR(INDEX('[2]rotorcraft mil'!$B$6:$K$73,MATCH(L29,'[2]rotorcraft mil'!$B$6:$B$73,0),4)*1000,INDEX('[2]rotorcraft mil'!$B$6:$K$73,MATCH(M29,'[2]rotorcraft mil'!$B$6:$B$73,0),4)*1000)","v":{"$error":"#N/A"}},{"$f":"B29*(1+'Federal Reserve PPI AC Parts'!$E$12)","v":1559.053728186145},{"$f":"C29*(1+'Federal Reserve PPI AC Parts'!$E$12)","v":{"$error":"#N/A"}},"Used Model 2024",1394,{"$error":"#N/A"},{"$f":"IFERROR(INDEX('[2]rotorcraft mil'!$B$6:$K$73,MATCH(L29,'[2]rotorcraft mil'!$B$6:$B$73,0),7),INDEX('[2]rotorcraft mil'!$B$6:$K$73,MATCH(M29,'[2]rotorcraft mil'!$B$6:$B$73,0),7))","v":{"$error":"#N/A"}},1,{"$f":"INDEX('[1]Pt1-DATA'!$A$5:$M$13349,MATCH(A29,'[1]Pt1-DATA'!$C$5:$C$13349,0),6)","v":"BA"},"Avionics Harnesses",null,1394]
["98#1057",{"$f":"IFERROR(INDEX('[1]Pt1-DATA'!$C:$D,MATCH(A30,'[1]Pt1-DATA'!$C:$C,0),2),\"\")","v":9923},{"$f":"IFERROR(INDEX('[2]rotorcraft mil'!$B$6:$K$73,MATCH(L30,'[2]rotorcraft mil'!$B$6:$B$73,0),4)*1000,INDEX('[2]rotorcraft mil'!$B$6:$K$73,MATCH(M30,'[2]rotorcraft mil'!$B$6:$B$73,0),4)*1000)","v":{"$error":"#N/A"}},{"$f":"B30*(1+'Federal Reserve PPI AC Parts'!$E$12)","v":11097.912585933371},{"$f":"C30*(1+'Federal Reserve PPI AC Parts'!$E$12)","v":{"$error":"#N/A"}},"Used Model 2024",9923,{"$error":"#N/A"},{"$f":"IFERROR(INDEX('[2]rotorcraft mil'!$B$6:$K$73,MATCH(L30,'[2]rotorcraft mil'!$B$6:$B$73,0),7),INDEX('[2]rotorcraft mil'!$B$6:$K$73,MATCH(M30,'[2]rotorcraft mil'!$B$6:$B$73,0),7))","v":{"$error":"#N/A"}},1,{"$f":"INDEX('[1]Pt1-DATA'!$A$5:$M$13349,MATCH(A30,'[1]Pt1-DATA'!$C$5:$C$13349,0),6)","v":"BA"},"Avionics Harnesses",null,9923]
["98#1058",{"$f":"IFERROR(INDEX('[1]Pt1-DATA'!$C:$D,MATCH(A31,'[1]Pt1-DATA'!$C:$C,0),2),\"\")","v":12000},{"$f":"IFERROR(INDEX('[2]rotorcraft mil'!$B$6:$K$73,MATCH(L31,'[2]rotorcraft mil'!$B$6:$B$73,0),4)*1000,INDEX('[2]rotorcraft mil'!$B$6:$K$73,MATCH(M31,'[2]rotorcraft mil'!$B$6:$B$73,0),4)*1000)","v":{"$error":"#N/A"}},{"$f":"B31*(1+'Federal Reserve PPI AC Parts'!$E$12)","v":13420.835536753042},{"$f":"C31*(1+'Federal Reserve PPI AC Parts'!$E$12)","v":{"$error":"#N/A"}},"Used Model 2024",12000,{"$error":"#N/A"},{"$f":"IFERROR(INDEX('[2]rotorcraft mil'!$B$6:$K$73,MATCH(L31,'[2]rotorcraft mil'!$B$6:$B$73,0),7),INDEX('[2]rotorcraft mil'!$B$6:$K$73,MATCH(M31,'[2]rotorcraft mil'!$B$6:$B$73,0),7))","v":{"$error":"#N/A"}},1,{"$f":"INDEX('[1]Pt1-DATA'!$A$5:$M$13349,MATCH(A31,'[1]Pt1-DATA'!$C$5:$C$13349,0),6)","v":"BA"},"Avionics Harnesses",null,12000]
["98#1059",{"$f":"IFERROR(INDEX('[1]Pt1-DATA'!$C:$D,MATCH(A32,'[1]Pt1-DATA'!$C:$C,0),2),\"\")","v":2481},{"$f":"IFERROR(INDEX('[2]rotorcraft mil'!$B$6:$K$73,MATCH(L32,'[2]rotorcraft mil'!$B$6:$B$73,0),4)*1000,INDEX('[2]rotorcraft mil'!$B$6:$K$73,MATCH(M32,'[2]rotorcraft mil'!$B$6:$B$73,0),4)*1000)","v":{"$error":"#N/A"}},{"$f":"B32*(1+'Federal Reserve PPI AC Parts'!$E$12)","v":2774.7577472236917},{"$f":"C32*(1+'Federal Reserve PPI AC Parts'!$E$12)","v":{"$error":"#N/A"}},"Used Model 2024",2481,{"$error":"#N/A"},{"$f":"IFERROR(INDEX('[2]rotorcraft mil'!$B$6:$K$73,MATCH(L32,'[2]rotorcraft mil'!$B$6:$B$73,0),7),INDEX('[2]rotorcraft mil'!$B$6:$K$73,MATCH(M32,'[2]rotorcraft mil'!$B$6:$B$73,0),7))","v":{"$error":"#N/A"}},1,{"$f":"INDEX('[1]Pt1-DATA'!$A$5:$M$13349,MATCH(A32,'[1]Pt1-DATA'!$C$5:$C$13349,0),6)","v":"BA"},"Avionics Harnesses",null,2481]
[null,{"$f":"IFERROR(INDEX('[1]Pt1-DATA'!$C:$D,MATCH(A33,'[1]Pt1-DATA'!$C:$C,0),2),\"\")","v":""},{"$f":"IFERROR(INDEX('[2]rotorcraft mil'!$B$6:$K$73,MATCH(L33,'[2]rotorcraft mil'!$B$6:$B$73,0),4)*1000,INDEX('[2]rotorcraft mil'!$B$6:$K$73,MATCH(M33,'[2]rotorcraft mil'!$B$6:$B$73,0),4)*1000)","v":45000},{"$f":"B33*(1+'Federal Reserve PPI AC Parts'!$E$12)","v":{"$error":"#VALUE!"}},{"$f":"C33*(1+'Federal Reserve PPI AC Parts'!$E$12)","v":50328.133262823911},"Used PW 2024",{"$f":"E33","v":50328.133262823911},{"$f":"(B33-C33)/C33","v":{"$error":"#VALUE!"}},{"$f":"IFERROR(INDEX('[2]rotorcraft mil'!$B$6:$K$73,MATCH(L33,'[2]rotorcraft mil'!$B$6:$B$73,0),7),INDEX('[2]rotorcraft mil'!$B$6:$K$73,MATCH(M33,'[2]rotorcraft mil'!$B$6:$B$73,0),7))","v":"Lockheed Martin (TEDAC display)"},2,{"$f":"INDEX('[1]Pt1-DATA'!$A$5:$M$13349,MATCH(A33,'[1]Pt1-DATA'!$C$5:$C$13349,0),6)","v":{"$error":"#N/A"}},null,"Flat panel displays",""]
[null,{"$f":"IFERROR(INDEX('[1]Pt1-DATA'!$C:$D,MATCH(A34,'[1]Pt1-DATA'!$C:$C,0),2),\"\")","v":""},{"$f":"IFERROR(INDEX('[2]rotorcraft mil'!$B$6:$K$73,MATCH(L34,'[2]rotorcraft mil'!$B$6:$B$73,0),4)*1000,INDEX('[2]rotorcraft mil'!$B$6:$K$73,MATCH(M34,'[2]rotorcraft mil'!$B$6:$B$73,0),4)*1000)","v":45000},{"$f":"B34*(1+'Federal Reserve PPI AC Parts'!$E$12)","v":{"$error":"#VALUE!"}},{"$f":"C34*(1+'Federal Reserve PPI AC Parts'!$E$12)","v":50328.133262823911},"Used PW 2024",{"$f":"E34","v":50328.133262823911},{"$f":"(B34-C34)/C34","v":{"$error":"#VALUE!"}},{"$f":"IFERROR(INDEX('[2]rotorcraft mil'!$B$6:$K$73,MATCH(L34,'[2]rotorcraft mil'!$B$6:$B$73,0),7),INDEX('[2]rotorcraft mil'!$B$6:$K$73,MATCH(M34,'[2]rotorcraft mil'!$B$6:$B$73,0),7))","v":0},2,{"$f":"INDEX('[1]Pt1-DATA'!$A$5:$M$13349,MATCH(A34,'[1]Pt1-DATA'!$C$5:$C$13349,0),6)","v":{"$error":"#N/A"}},null,"nose-mounted radar sensor suite for target acquisition and night vision systems.",""]

{"sheet":"rotocraft civil","index":12,"n_rows":24,"n_cols":14,"rows_kept":24,"cut":false,"hidden":false,"merged":[]}
["Aircraft:",{"$f":"INDEX('[3]Pt1-AvionicsComponentCosts'!$A$11:$E$384,MATCH(VALUE(LEFT(A5,SEARCH(\"#\",A5)-1)),'[3]Pt1-AvionicsComponentCosts'!$A$11:$A$384,0),5)","v":"Airbus H175"}]
[null,"Avionics Cost 2020",null,null,null,null,"Avionics Cost 2024",null,"% Change 2020 - 2024"]
[null,{"$f":"SUMPRODUCT(B5:B80,J5:J80)","v":801513},null,null,null,null,{"$f":"SUMPRODUCT(G5:G80,J5:J80)","v":971240},null,{"$f":"($G$3-$B$3)/$B$3","v":0.21175826218663951}]
[null,"Model 2020","PW 2020","2024 PPI Model","2024 PPI PW","Notes","2024 AE Estimate","Pct Change","Source","#/AC","Factor","Item","Alt Item (PW)","previous"]
["102#721",{"$f":"IFERROR(INDEX('[1]Pt1-DATA'!$C:$D,MATCH(A5,'[1]Pt1-DATA'!$C:$C,0),2),\"\")","v":22164},{"$f":"IFERROR(INDEX('[2]rotocraft civil'!$B$6:$K$73,MATCH(L5,'[2]rotocraft civil'!$B$6:$B$73,0),4)*1000,INDEX('[2]rotocraft civil'!$B$6:$K$73,MATCH(M5,'[2]rotocraft civil'!$B$6:$B$73,0),4)*1000)","v":35000},{"$f":"B5*(1+'Federal Reserve PPI AC Parts'!$E$12)","v":24788.283236382867},{"$f":"C5*(1+'Federal Reserve PPI AC Parts'!$E$12)","v":39144.103648863042},"Validated PW 2020",40000,{"$f":"(B5-C5)/C5","v":-0.36674285714285715},{"$f":"IFERROR(INDEX('[2]rotocraft civil'!$B$6:$K$73,MATCH(L5,'[2]rotocraft civil'!$B$6:$B$73,0),7),INDEX('[2]rotocraft civil'!$B$6:$K$73,MATCH(M5,'[2]rotocraft civil'!$B$6:$B$73,0),7))","v":"Thales/HWL "},2,{"$f":"INDEX('[1]Pt1-DATA'!$A$5:$M$13349,MATCH(A5,'[1]Pt1-DATA'!$C$5:$C$13349,0),6)","v":"N"},"Air Data Modules (ADM)","Air data System",22164]
["102#733",{"$f":"IFERROR(INDEX('[1]Pt1-DATA'!$C:$D,MATCH(A6,'[1]Pt1-DATA'!$C:$C,0),2),\"\")","v":40485},{"$f":"IFERROR(INDEX('[2]rotocraft civil'!$B$6:$K$73,MATCH(L6,'[2]rotocraft civil'!$B$6:$B$73,0),4)*1000,INDEX('[2]rotocraft civil'!$B$6:$K$73,MATCH(M6,'[2]rotocraft civil'!$B$6:$B$73,0),4)*1000)","v":20000},{"$f":"B6*(1+'Federal Reserve PPI AC Parts'!$E$12)","v":45278.543892120579},{"$f":"C6*(1+'Federal Reserve PPI AC Parts'!$E$12)","v":22368.059227921738},"PW Low",46000,{"$f":"(B6-C6)/C6","v":1.0242500000000001},{"$f":"IFERROR(INDEX('[2]rotocraft civil'!$B$6:$K$73,MATCH(L6,'[2]rotocraft civil'!$B$6:$B$73,0),7),INDEX('[2]rotocraft civil'!$B$6:$K$73,MATCH(M6,'[2]rotocraft civil'!$B$6:$B$73,0),7))","v":0},1,{"$f":"INDEX('[1]Pt1-DATA'!$A$5:$M$13349,MATCH(A6,'[1]Pt1-DATA'!$C$5:$C$13349,0),6)","v":"H"},"Display Management Computer (DMC/EFIS)","Engine/fuel/ displays",40485]
["102#746",{"$f":"IFERROR(INDEX('[1]Pt1-DATA'!$C:$D,MATCH(A7,'[1]Pt1-DATA'!$C:$C,0),2),\"\")","v":43999},{"$f":"IFERROR(INDEX('[2]rotocraft civil'!$B$6:$K$73,MATCH(L7,'[2]rotocraft civil'!$B$6:$B$73,0),4)*1000,INDEX('[2]rotocraft civil'!$B$6:$K$73,MATCH(M7,'[2]rotocraft civil'!$B$6:$B$73,0),4)*1000)","v":0},{"$f":"B7*(1+'Federal Reserve PPI AC Parts'!$E$12)","v":49208.611898466428},{"$f":"C7*(1+'Federal Reserve PPI AC Parts'!$E$12)","v":0},"PW Low",50000,{"$error":"#DIV/0!"},{"$f":"IFERROR(INDEX('[2]rotocraft civil'!$B$6:$K$73,MATCH(L7,'[2]rotocraft civil'!$B$6:$B$73,0),7),INDEX('[2]rotocraft civil'!$B$6:$K$73,MATCH(M7,'[2]rotocraft civil'!$B$6:$B$73,0),7))","v":"optional"},1,{"$f":"INDEX('[1]Pt1-DATA'!$A$5:$M$13349,MATCH(A7,'[1]Pt1-DATA'!$C$5:$C$13349,0),6)","v":"H"},"Weather WX radar system","Weather radar",43999]
["102#748",{"$f":"IFERROR(INDEX('[1]Pt1-DATA'!$C:$D,MATCH(A8,'[1]Pt1-DATA'!$C:$C,0),2),\"\")","v":30388},{"$f":"IFERROR(INDEX('[2]rotocraft civil'!$B$6:$K$73,MATCH(L8,'[2]rotocraft civil'!$B$6:$B$73,0),4)*1000,INDEX('[2]rotocraft civil'!$B$6:$K$73,MATCH(M8,'[2]rotocraft civil'!$B$6:$B$73,0),4)*1000)","v":15000},{"$f":"B8*(1+'Federal Reserve PPI AC Parts'!$E$12)","v":33986.029190904286},{"$f":"C8*(1+'Federal Reserve PPI AC Parts'!$E$12)","v":16776.044420941304},"PW Low",34000,1.0258666666666667,{"$f":"IFERROR(INDEX('[2]rotocraft civil'!$B$6:$K$73,MATCH(L8,'[2]rotocraft civil'!$B$6:$B$73,0),7),INDEX('[2]rotocraft civil'!$B$6:$K$73,MATCH(M8,'[2]rotocraft civil'!$B$6:$B$73,0),7))","v":0},1,{"$f":"INDEX('[1]Pt1-DATA'!$A$5:$M$13349,MATCH(A8,'[1]Pt1-DATA'!$C$5:$C$13349,0),6)","v":"K"},"Ground Proximity Warning System (GPWS/EGPWS)","EGPWS",30388]
["102#749",{"$f":"IFERROR(INDEX('[1]Pt1-DATA'!$C:$D,MATCH(A9,'[1]Pt1-DATA'!$C:$C,0),2),\"\")","v":0},{"$f":"IFERROR(INDEX('[2]rotocraft civil'!$B$6:$K$73,MATCH(L9,'[2]rotocraft civil'!$B$6:$B$73,0),4)*1000,INDEX('[2]rotocraft civil'!$B$6:$K$73,MATCH(M9,'[2]rotocraft civil'!$B$6:$B$73,0),4)*1000)","v":15000},{"$f":"B9*(1+'Federal Reserve PPI AC Parts'!$E$12)","v":0},{"$f":"C9*(1+'Federal Reserve PPI AC Parts'!$E$12)","v":16776.044420941304},"Validated PW 2020",17000,-1,{"$f":"IFERROR(INDEX('[2]rotocraft civil'!$B$6:$K$73,MATCH(L9,'[2]rotocraft civil'!$B$6:$B$73,0),7),INDEX('[2]rotocraft civil'!$B$6:$K$73,MATCH(M9,'[2]rotocraft civil'!$B$6:$B$73,0),7))","v":0},1,{"$f":"INDEX('[1]Pt1-DATA'!$A$5:$M$13349,MATCH(A9,'[1]Pt1-DATA'!$C$5:$C$13349,0),6)","v":"A"},"TCAS computer","TCAS",0]
["102#765",{"$f":"IFERROR(INDEX('[1]Pt1-DATA'!$C:$D,MATCH(A10,'[1]Pt1-DATA'!$C:$C,0),2),\"\")","v":45546},{"$f":"IFERROR(INDEX('[2]rotocraft civil'!$B$6:$K$73,MATCH(L10,'[2]rotocraft civil'!$B$6:$B$73,0),4)*1000,INDEX('[2]rotocraft civil'!$B$6:$K$73,MATCH(M10,'[2]rotocraft civil'!$B$6:$B$73,0),4)*1000)","v":45000},{"$f":"B10*(1+'Federal Reserve PPI AC Parts'!$E$12)","v":50938.781279746174},{"$f":"C10*(1+'Federal Reserve PPI AC Parts'!$E$12)","v":50328.133262823911},"Validated PW 2020",51000,1.2133333333333333E-2,{"$f":"IFERROR(INDEX('[2]rotocraft civil'!$B$6:$K$73,MATCH(L10,'[2]rotocraft civil'!$B$6:$B$73,0),7),INDEX('[2]rotocraft civil'!$B$6:$K$73,MATCH(M10,'[2]rotocraft civil'!$B$6:$B$73,0),7))","v":"Thales"},4,{"$f":"INDEX('[1]Pt1-DATA'!$A$5:$M$13349,MATCH(A10,'[1]Pt1-DATA'!$C$5:$C$13349,0),6)","v":"K"},"Multi Function Display","Flat panel MFD displays",45546]
["102#791",{"$f":"IFERROR(INDEX('[1]Pt1-DATA'!$C:$D,MATCH(A11,'[1]Pt1-DATA'!$C:$C,0),2),\"\")","v":25303},{"$f":"IFERROR(INDEX('[2]rotocraft civil'!$B$6:$K$73,MATCH(L11,'[2]rotocraft civil'!$B$6:$B$73,0),4)*1000,INDEX('[2]rotocraft civil'!$B$6:$K$73,MATCH(M11,'[2]rotocraft civil'!$B$6:$B$73,0),4)*1000)","v":25000},{"$f":"B11*(1+'Federal Reserve PPI AC Parts'!$E$12)","v":28298.950132205187},{"$f":"C11*(1+'Federal Reserve PPI AC Parts'!$E$12)","v":27960.074034902173},"Validated PW 2020",28000,1.2120000000000001E-2,{"$f":"IFERROR(INDEX('[2]rotocraft civil'!$B$6:$K$73,MATCH(L11,'[2]rotocraft civil'!$B$6:$B$73,0),7),INDEX('[2]rotocraft civil'!$B$6:$K$73,MATCH(M11,'[2]rotocraft civil'!$B$6:$B$73,0),7))","v":0},1,{"$f":"INDEX('[1]Pt1-DATA'!$A$5:$M$13349,MATCH(A11,'[1]Pt1-DATA'!$C$5:$C$13349,0),6)","v":"E"},"Standby display","Standy instrument",25303]
["102#847",{"$f":"IFERROR(INDEX('[1]Pt1-DATA'!$C:$D,MATCH(A12,'[1]Pt1-DATA'!$C:$C,0),2),\"\")","v":25303},{"$f":"IFERROR(INDEX('[2]rotocraft civil'!$B$6:$K$73,MATCH(L12,'[2]rotocraft civil'!$B$6:$B$73,0),4)*1000,INDEX('[2]rotocraft civil'!$B$6:$K$73,MATCH(M12,'[2]rotocraft civil'!$B$6:$B$73,0),4)*1000)","v":20000},{"$f":"B12*(1+'Federal Reserve PPI AC Parts'!$E$12)","v":28298.950132205187},{"$f":"C12*(1+'Federal Reserve PPI AC Parts'!$E$12)","v":22368.059227921738},"PW Low",29000,0.26515,{"$f":"IFERROR(INDEX('[2]rotocraft civil'!$B$6:$K$73,MATCH(L12,'[2]rotocraft civil'!$B$6:$B$73,0),7),INDEX('[2]rotocraft civil'!$B$6:$K$73,MATCH(M12,'[2]rotocraft civil'!$B$6:$B$73,0),7))","v":0},2,{"$f":"INDEX('[1]Pt1-DATA'!$A$5:$M$13349,MATCH(A12,'[1]Pt1-DATA'!$C$5:$C$13349,0),6)","v":"G1"},"Engine/fuel/ displays",null,25303]
["102#848",{"$f":"IFERROR(INDEX('[1]Pt1-DATA'!$C:$D,MATCH(A13,'[1]Pt1-DATA'!$C:$C,0),2),\"\")","v":31029},{"$f":"IFERROR(INDEX('[2]rotocraft civil'!$B$6:$K$73,MATCH(L13,'[2]rotocraft civil'!$B$6:$B$73,0),4)*1000,INDEX('[2]rotocraft civil'!$B$6:$K$73,MATCH(M13,'[2]rotocraft civil'!$B$6:$B$73,0),4)*1000)","v":60000},{"$f":"B13*(1+'Federal Reserve PPI AC Parts'!$E$12)","v":34702.925489159177},{"$f":"C13*(1+'Federal Reserve PPI AC Parts'!$E$12)","v":67104.177683765214},"PW Low",35000,-0.48285,{"$f":"IFERROR(INDEX('[2]rotocraft civil'!$B$6:$K$73,MATCH(L13,'[2]rotocraft civil'!$B$6:$B$73,0),7),INDEX('[2]rotocraft civil'!$B$6:$K$73,MATCH(M13,'[2]rotocraft civil'!$B$6:$B$73,0),7))","v":"HWL"},2,{"$f":"INDEX('[1]Pt1-DATA'!$A$5:$M$13349,MATCH(A13,'[1]Pt1-DATA'!$C$5:$C$13349,0),6)","v":"H"},"Embedded GPS/INS","Embedded GPS/INS (Heading and Attitude Ref System)",31029]
["102#862",{"$f":"IFERROR(INDEX('[1]Pt1-DATA'!$C:$D,MATCH(A14,'[1]Pt1-DATA'!$C:$C,0),2),\"\")","v":45546},{"$f":"IFERROR(INDEX('[2]rotocraft civil'!$B$6:$K$73,MATCH(L14,'[2]rotocraft civil'!$B$6:$B$73,0),4)*1000,INDEX('[2]rotocraft civil'!$B$6:$K$73,MATCH(M14,'[2]rotocraft civil'!$B$6:$B$73,0),4)*1000)","v":45000},{"$f":"B14*(1+'Federal Reserve PPI AC Parts'!$E$12)","v":50938.781279746174},{"$f":"C14*(1+'Federal Reserve PPI AC Parts'!$E$12)","v":50328.133262823911},"Validated PW 2020",51000,1.2133333333333333E-2,{"$f":"IFERROR(INDEX('[2]rotocraft civil'!$B$6:$K$73,MATCH(L14,'[2]rotocraft civil'!$B$6:$B$73,0),7),INDEX('[2]rotocraft civil'!$B$6:$K$73,MATCH(M14,'[2]rotocraft civil'!$B$6:$B$73,0),7))","v":"Thales"},1,{"$f":"INDEX('[1]Pt1-DATA'!$A$5:$M$13349,MATCH(A14,'[1]Pt1-DATA'!$C$5:$C$13349,0),6)","v":"E"},"Central Mission display",null,45546]
["102#863",{"$f":"IFERROR(INDEX('[1]Pt1-DATA'!$C:$D,MATCH(A15,'[1]Pt1-DATA'!$C:$C,0),2),\"\")","v":56029},{"$f":"IFERROR(INDEX('[2]rotocraft civil'!$B$6:$K$73,MATCH(L15,'[2]rotocraft civil'!$B$6:$B$73,0),4)*1000,INDEX('[2]rotocraft civil'!$B$6:$K$73,MATCH(M15,'[2]rotocraft civil'!$B$6:$B$73,0),4)*1000)","v":75000},{"$f":"B15*(1+'Federal Reserve PPI AC Parts'!$E$12)","v":62662.99952406135},{"$f":"C15*(1+'Federal Reserve PPI AC Parts'!$E$12)","v":83880.22210470651},"Validated PW 2020",84000,-0.25294666666666665,{"$f":"IFERROR(INDEX('[2]rotocraft civil'!$B$6:$K$73,MATCH(L15,'[2]rotocraft civil'!$B$6:$B$73,0),7),INDEX('[2]rotocraft civil'!$B$6:$K$73,MATCH(M15,'[2]rotocraft civil'!$B$6:$B$73,0),7))","v":0},1,{"$f":"INDEX('[1]Pt1-DATA'!$A$5:$M$13349,MATCH(A15,'[1]Pt1-DATA'!$C$5:$C$13349,0),6)","v":"E"},"Dual axis dual system Auto-pilot",null,56029]
["102#864",{"$f":"IFERROR(INDEX('[1]Pt1-DATA'!$C:$D,MATCH(A16,'[1]Pt1-DATA'!$C:$C,0),2),\"\")","v":28767},{"$f":"IFERROR(INDEX('[2]rotocraft civil'!$B$6:$K$73,MATCH(L16,'[2]rotocraft civil'!$B$6:$B$73,0),4)*1000,INDEX('[2]rotocraft civil'!$B$6:$K$73,MATCH(M16,'[2]rotocraft civil'!$B$6:$B$73,0),4)*1000)","v":25000},{"$f":"B16*(1+'Federal Reserve PPI AC Parts'!$E$12)","v":32173.09799048123},{"$f":"C16*(1+'Federal Reserve PPI AC Parts'!$E$12)","v":27960.074034902173},"PW Low",33000,0.15068000000000001,{"$f":"IFERROR(INDEX('[2]rotocraft civil'!$B$6:$K$73,MATCH(L16,'[2]rotocraft civil'!$B$6:$B$73,0),7),INDEX('[2]rotocraft civil'!$B$6:$K$73,MATCH(M16,'[2]rotocraft civil'!$B$6:$B$73,0),7))","v":"HWL"},1,{"$f":"INDEX('[1]Pt1-DATA'!$A$5:$M$13349,MATCH(A16,'[1]Pt1-DATA'!$C$5:$C$13349,0),6)","v":"E"},"Combined cockpit voice and data recorder",null,28767]
["102#876",{"$f":"IFERROR(INDEX('[1]Pt1-DATA'!$C:$D,MATCH(A17,'[1]Pt1-DATA'!$C:$C,0),2),\"\")","v":44030},{"$f":"IFERROR(INDEX('[2]rotocraft civil'!$B$6:$K$73,MATCH(L17,'[2]rotocraft civil'!$B$6:$B$73,0),4)*1000,INDEX('[2]rotocraft civil'!$B$6:$K$73,MATCH(M17,'[2]rotocraft civil'!$B$6:$B$73,0),4)*1000)","v":{"$error":"#N/A"}},{"$f":"B17*(1+'Federal Reserve PPI AC Parts'!$E$12)","v":49243.282390269706},{"$f":"C17*(1+'Federal Reserve PPI AC Parts'!$E$12)","v":{"$error":"#N/A"}},"Validated Model 2020",50000,{"$error":"#N/A"},{"$f":"IFERROR(INDEX('[2]rotocraft civil'!$B$6:$K$73,MATCH(L17,'[2]rotocraft civil'!$B$6:$B$73,0),7),INDEX('[2]rotocraft civil'!$B$6:$K$73,MATCH(M17,'[2]rotocraft civil'!$B$6:$B$73,0),7))","v":{"$error":"#N/A"}},0,{"$f":"INDEX('[1]Pt1-DATA'!$A$5:$M$13349,MATCH(A17,'[1]Pt1-DATA'!$C$5:$C$13349,0),6)","v":"C"},"Radio antenna receivers/transmitters",null,44030]
["102#878",{"$f":"IFERROR(INDEX('[1]Pt1-DATA'!$C:$D,MATCH(A18,'[1]Pt1-DATA'!$C:$C,0),2),\"\")","v":54998},{"$f":"IFERROR(INDEX('[2]rotocraft civil'!$B$6:$K$73,MATCH(L18,'[2]rotocraft civil'!$B$6:$B$73,0),4)*1000,INDEX('[2]rotocraft civil'!$B$6:$K$73,MATCH(M18,'[2]rotocraft civil'!$B$6:$B$73,0),4)*1000)","v":{"$error":"#N/A"}},{"$f":"B18*(1+'Federal Reserve PPI AC Parts'!$E$12)","v":61509.926070861984},{"$f":"C18*(1+'Federal Reserve PPI AC Parts'!$E$12)","v":{"$error":"#N/A"}},"Validated Model 2020",62000,{"$error":"#N/A"},{"$f":"IFERROR(INDEX('[2]rotocraft civil'!$B$6:$K$73,MATCH(L18,'[2]rotocraft civil'!$B$6:$B$73,0),7),INDEX('[2]rotocraft civil'!$B$6:$K$73,MATCH(M18,'[2]rotocraft civil'!$B$6:$B$73,0),7))","v":{"$error":"#N/A"}},1,{"$f":"INDEX('[1]Pt1-DATA'!$A$5:$M$13349,MATCH(A18,'[1]Pt1-DATA'!$C$5:$C$13349,0),6)","v":"E"},"Sensors IFF, other",null,54998]
["102#879",{"$f":"IFERROR(INDEX('[1]Pt1-DATA'!$C:$D,MATCH(A19,'[1]Pt1-DATA'!$C:$C,0),2),\"\")","v":67985},{"$f":"IFERROR(INDEX('[2]rotocraft civil'!$B$6:$K$73,MATCH(L19,'[2]rotocraft civil'!$B$6:$B$73,0),4)*1000,INDEX('[2]rotocraft civil'!$B$6:$K$73,MATCH(M19,'[2]rotocraft civil'!$B$6:$B$73,0),4)*1000)","v":{"$error":"#N/A"}},{"$f":"B19*(1+'Federal Reserve PPI AC Parts'!$E$12)","v":76034.625330512965},{"$f":"C19*(1+'Federal Reserve PPI AC Parts'!$E$12)","v":{"$error":"#N/A"}},"Validated Model 2020",77000,{"$error":"#N/A"},{"$f":"IFERROR(INDEX('[2]rotocraft civil'!$B$6:$K$73,MATCH(L19,'[2]rotocraft civil'!$B$6:$B$73,0),7),INDEX('[2]rotocraft civil'!$B$6:$K$73,MATCH(M19,'[2]rotocraft civil'!$B$6:$B$73,0),7))","v":{"$error":"#N/A"}},1,{"$f":"INDEX('[1]Pt1-DATA'!$A$5:$M$13349,MATCH(A19,'[1]Pt1-DATA'!$C$5:$C$13349,0),6)","v":"J"},"Software",null,67985]
["102#880",{"$f":"IFERROR(INDEX('[1]Pt1-DATA'!$C:$D,MATCH(A20,'[1]Pt1-DATA'!$C:$C,0),2),\"\")","v":32999},{"$f":"IFERROR(INDEX('[2]rotocraft civil'!$B$6:$K$73,MATCH(L20,'[2]rotocraft civil'!$B$6:$B$73,0),4)*1000,INDEX('[2]rotocraft civil'!$B$6:$K$73,MATCH(M20,'[2]rotocraft civil'!$B$6:$B$73,0),4)*1000)","v":{"$error":"#N/A"}},{"$f":"B20*(1+'Federal Reserve PPI AC Parts'!$E$12)","v":36906.179323109471},{"$f":"C20*(1+'Federal Reserve PPI AC Parts'!$E$12)","v":{"$error":"#N/A"}},"Validated Model 2020",37000,{"$error":"#N/A"},{"$f":"IFERROR(INDEX('[2]rotocraft civil'!$B$6:$K$73,MATCH(L20,'[2]rotocraft civil'!$B$6:$B$73,0),7),INDEX('[2]rotocraft civil'!$B$6:$K$73,MATCH(M20,'[2]rotocraft civil'!$B$6:$B$73,0),7))","v":{"$error":"#N/A"}},2,{"$f":"INDEX('[1]Pt1-DATA'!$A$5:$M$13349,MATCH(A20,'[1]Pt1-DATA'!$C$5:$C$13349,0),6)","v":"J"},"Air data sensors",null,32999]
["102#1056",{"$f":"IFERROR(INDEX('[1]Pt1-DATA'!$C:$D,MATCH(A21,'[1]Pt1-DATA'!$C:$C,0),2),\"\")","v":154},{"$f":"IFERROR(INDEX('[2]rotocraft civil'!$B$6:$K$73,MATCH(L21,'[2]rotocraft civil'!$B$6:$B$73,0),4)*1000,INDEX('[2]rotocraft civil'!$B$6:$K$73,MATCH(M21,'[2]rotocraft civil'!$B$6:$B$73,0),4)*1000)","v":{"$error":"#N/A"}},{"$f":"B21*(1+'Federal Reserve PPI AC Parts'!$E$12)","v":172.23405605499738},{"$f":"C21*(1+'Federal Reserve PPI AC Parts'!$E$12)","v":{"$error":"#N/A"}},"Validated Model 2020",180,{"$error":"#N/A"},{"$f":"IFERROR(INDEX('[2]rotocraft civil'!$B$6:$K$73,MATCH(L21,'[2]rotocraft civil'!$B$6:$B$73,0),7),INDEX('[2]rotocraft civil'!$B$6:$K$73,MATCH(M21,'[2]rotocraft civil'!$B$6:$B$73,0),7))","v":{"$error":"#N/A"}},1,{"$f":"INDEX('[1]Pt1-DATA'!$A$5:$M$13349,MATCH(A21,'[1]Pt1-DATA'!$C$5:$C$13349,0),6)","v":"K"},"Avionics Harnesses",null,154]
["102#1057",{"$f":"IFERROR(INDEX('[1]Pt1-DATA'!$C:$D,MATCH(A22,'[1]Pt1-DATA'!$C:$C,0),2),\"\")","v":1092},{"$f":"IFERROR(INDEX('[2]rotocraft civil'!$B$6:$K$73,MATCH(L22,'[2]rotocraft civil'!$B$6:$B$73,0),4)*1000,INDEX('[2]rotocraft civil'!$B$6:$K$73,MATCH(M22,'[2]rotocraft civil'!$B$6:$B$73,0),4)*1000)","v":{"$error":"#N/A"}},{"$f":"B22*(1+'Federal Reserve PPI AC Parts'!$E$12)","v":1221.2960338445268},{"$f":"C22*(1+'Federal Reserve PPI AC Parts'!$E$12)","v":{"$error":"#N/A"}},"Validated Model 2020",1250,{"$error":"#N/A"},{"$f":"IFERROR(INDEX('[2]rotocraft civil'!$B$6:$K$73,MATCH(L22,'[2]rotocraft civil'!$B$6:$B$73,0),7),INDEX('[2]rotocraft civil'!$B$6:$K$73,MATCH(M22,'[2]rotocraft civil'!$B$6:$B$73,0),7))","v":{"$error":"#N/A"}},1,{"$f":"INDEX('[1]Pt1-DATA'!$A$5:$M$13349,MATCH(A22,'[1]Pt1-DATA'!$C$5:$C$13349,0),6)","v":"K"},"Avionics Harnesses",null,1092]
["102#1058",{"$f":"IFERROR(INDEX('[1]Pt1-DATA'!$C:$D,MATCH(A23,'[1]Pt1-DATA'!$C:$C,0),2),\"\")","v":1320},{"$f":"IFERROR(INDEX('[2]rotocraft civil'!$B$6:$K$73,MATCH(L23,'[2]rotocraft civil'!$B$6:$B$73,0),4)*1000,INDEX('[2]rotocraft civil'!$B$6:$K$73,MATCH(M23,'[2]rotocraft civil'!$B$6:$B$73,0),4)*1000)","v":{"$error":"#N/A"}},{"$f":"B23*(1+'Federal Reserve PPI AC Parts'!$E$12)","v":1476.2919090428347},{"$f":"C23*(1+'Federal Reserve PPI AC Parts'!$E$12)","v":{"$error":"#N/A"}},"Validated Model 2020",1500,{"$error":"#N/A"},{"$f":"IFERROR(INDEX('[2]rotocraft civil'!$B$6:$K$73,MATCH(L23,'[2]rotocraft civil'!$B$6:$B$73,0),7),INDEX('[2]rotocraft civil'!$B$6:$K$73,MATCH(M23,'[2]rotocraft civil'!$B$6:$B$73,0),7))","v":{"$error":"#N/A"}},1,{"$f":"INDEX('[1]Pt1-DATA'!$A$5:$M$13349,MATCH(A23,'[1]Pt1-DATA'!$C$5:$C$13349,0),6)","v":"K"},"Avionics Harnesses",null,1320]
["102#1059",{"$f":"IFERROR(INDEX('[1]Pt1-DATA'!$C:$D,MATCH(A24,'[1]Pt1-DATA'!$C:$C,0),2),\"\")","v":273},{"$f":"IFERROR(INDEX('[2]rotocraft civil'!$B$6:$K$73,MATCH(L24,'[2]rotocraft civil'!$B$6:$B$73,0),4)*1000,INDEX('[2]rotocraft civil'!$B$6:$K$73,MATCH(M24,'[2]rotocraft civil'!$B$6:$B$73,0),4)*1000)","v":{"$error":"#N/A"}},{"$f":"B24*(1+'Federal Reserve PPI AC Parts'!$E$12)","v":305.32400846113171},{"$f":"C24*(1+'Federal Reserve PPI AC Parts'!$E$12)","v":{"$error":"#N/A"}},"Validated Model 2020",310,{"$error":"#N/A"},{"$f":"IFERROR(INDEX('[2]rotocraft civil'!$B$6:$K$73,MATCH(L24,'[2]rotocraft civil'!$B$6:$B$73,0),7),INDEX('[2]rotocraft civil'!$B$6:$K$73,MATCH(M24,'[2]rotocraft civil'!$B$6:$B$73,0),7))","v":{"$error":"#N/A"}},1,{"$f":"INDEX('[1]Pt1-DATA'!$A$5:$M$13349,MATCH(A24,'[1]Pt1-DATA'!$C$5:$C$13349,0),6)","v":"K"},"Avionics Harnesses",null,273]

{"sheet":"large UAV","index":13,"n_rows":25,"n_cols":14,"rows_kept":25,"cut":false,"hidden":false,"merged":[]}
["Aircraft:",{"$f":"INDEX('[3]Pt1-AvionicsComponentCosts'!$A$11:$E$384,MATCH(VALUE(LEFT(A5,SEARCH(\"#\",A5)-1)),'[3]Pt1-AvionicsComponentCosts'!$A$11:$A$384,0),5)","v":"RQ-4A Global Hawk"}]
[null,"Avionics Cost 2020",null,null,null,null,"Avionics Cost 2024",null,"% Change 2020 - 2024"]
[null,{"$f":"SUMPRODUCT(B5:B80,J5:J80)","v":1197158},null,null,null,null,{"$f":"SUMPRODUCT(G5:G80,J5:J80)","v":1413905.0524590167},null,{"$f":"($G$3-$B$3)/$B$3","v":0.18105133362431414}]
[null,"Model 2020","PW 2020","2024 PPI Model","2024 PPI PW","Notes","2024 AE Estimate","Pct Change","Source","#/AC","Factor","Item","Alt Item (PW)","previous"]
["452#769",{"$f":"IFERROR(INDEX('[1]Pt1-DATA'!$C:$D,MATCH(A5,'[1]Pt1-DATA'!$C:$C,0),2),\"\")","v":24461},{"$f":"IFERROR(INDEX('[2]large UAV'!$B$6:$K$73,MATCH(L5,'[2]large UAV'!$B$6:$B$73,0),4)*1000,INDEX('[2]large UAV'!$B$6:$K$73,MATCH(M5,'[2]large UAV'!$B$6:$B$73,0),4)*1000)","v":20000},{"$f":"B5*(1+'Federal Reserve PPI AC Parts'!$E$12)","v":27357.254838709679},{"$f":"C5*(1+'Federal Reserve PPI AC Parts'!$E$12)","v":22368.059227921738},"Used Model 2024",{"$f":"D5","v":27357.254838709679},{"$f":"(B5-C5)/C5","v":0.22305},{"$f":"IFERROR(INDEX('[2]large UAV'!$B$6:$K$73,MATCH(L5,'[2]large UAV'!$B$6:$B$73,0),7),INDEX('[2]large UAV'!$B$6:$K$73,MATCH(M5,'[2]large UAV'!$B$6:$B$73,0),7))","v":0},1,{"$f":"INDEX('[1]Pt1-DATA'!$A$5:$M$13349,MATCH(A5,'[1]Pt1-DATA'!$C$5:$C$13349,0),6)","v":"A"},"SATCOM",null,24461]
["452#771",{"$f":"IFERROR(INDEX('[1]Pt1-DATA'!$C:$D,MATCH(A6,'[1]Pt1-DATA'!$C:$C,0),2),\"\")","v":51781},{"$f":"IFERROR(INDEX('[2]large UAV'!$B$6:$K$73,MATCH(L6,'[2]large UAV'!$B$6:$B$73,0),4)*1000,INDEX('[2]large UAV'!$B$6:$K$73,MATCH(M6,'[2]large UAV'!$B$6:$B$73,0),4)*1000)","v":{"$error":"#N/A"}},{"$f":"B6*(1+'Federal Reserve PPI AC Parts'!$E$12)","v":57912.023744050777},{"$f":"C6*(1+'Federal Reserve PPI AC Parts'!$E$12)","v":{"$error":"#N/A"}},"Used Model 2024",{"$f":"D6","v":57912.023744050777},{"$f":"(B6-C6)/C6","v":{"$error":"#N/A"}},{"$f":"IFERROR(INDEX('[2]large UAV'!$B$6:$K$73,MATCH(L6,'[2]large UAV'!$B$6:$B$73,0),7),INDEX('[2]large UAV'!$B$6:$K$73,MATCH(M6,'[2]large UAV'!$B$6:$B$73,0),7))","v":{"$error":"#N/A"}},1,{"$f":"INDEX('[1]Pt1-DATA'!$A$5:$M$13349,MATCH(A6,'[1]Pt1-DATA'!$C$5:$C$13349,0),6)","v":"H"},"Data Management Unit",null,51781]
["452#795",{"$f":"IFERROR(INDEX('[1]Pt1-DATA'!$C:$D,MATCH(A7,'[1]Pt1-DATA'!$C:$C,0),2),\"\")","v":139508},{"$f":"IFERROR(INDEX('[2]large UAV'!$B$6:$K$73,MATCH(L7,'[2]large UAV'!$B$6:$B$73,0),4)*1000,INDEX('[2]large UAV'!$B$6:$K$73,MATCH(M7,'[2]large UAV'!$B$6:$B$73,0),4)*1000)","v":{"$error":"#N/A"}},{"$f":"B7*(1+'Federal Reserve PPI AC Parts'!$E$12)","v":156026.16033844528},{"$f":"C7*(1+'Federal Reserve PPI AC Parts'!$E$12)","v":{"$error":"#N/A"}},"Used Model 2024",156026.16033844528,{"$error":"#N/A"},{"$f":"IFERROR(INDEX('[2]large UAV'!$B$6:$K$73,MATCH(L7,'[2]large UAV'!$B$6:$B$73,0),7),INDEX('[2]large UAV'!$B$6:$K$73,MATCH(M7,'[2]large UAV'!$B$6:$B$73,0),7))","v":{"$error":"#N/A"}},1,{"$f":"INDEX('[1]Pt1-DATA'!$A$5:$M$13349,MATCH(A7,'[1]Pt1-DATA'!$C$5:$C$13349,0),6)","v":"B"},"Mission computers",null,139508]
["452#825",{"$f":"IFERROR(INDEX('[1]Pt1-DATA'!$C:$D,MATCH(A8,'[1]Pt1-DATA'!$C:$C,0),2),\"\")","v":37353},{"$f":"IFERROR(INDEX('[2]large UAV'!$B$6:$K$73,MATCH(L8,'[2]large UAV'!$B$6:$B$73,0),4)*1000,INDEX('[2]large UAV'!$B$6:$K$73,MATCH(M8,'[2]large UAV'!$B$6:$B$73,0),4)*1000)","v":{"$error":"#N/A"}},{"$f":"B8*(1+'Federal Reserve PPI AC Parts'!$E$12)","v":41775.705817028029},{"$f":"C8*(1+'Federal Reserve PPI AC Parts'!$E$12)","v":{"$error":"#N/A"}},"Used Model 2024",41775.705817028029,{"$error":"#N/A"},{"$f":"IFERROR(INDEX('[2]large UAV'!$B$6:$K$73,MATCH(L8,'[2]large UAV'!$B$6:$B$73,0),7),INDEX('[2]large UAV'!$B$6:$K$73,MATCH(M8,'[2]large UAV'!$B$6:$B$73,0),7))","v":{"$error":"#N/A"}},1,{"$f":"INDEX('[1]Pt1-DATA'!$A$5:$M$13349,MATCH(A8,'[1]Pt1-DATA'!$C$5:$C$13349,0),6)","v":"F1"},"Auto pilot system",null,37353]
["452#848",{"$f":"IFERROR(INDEX('[1]Pt1-DATA'!$C:$D,MATCH(A9,'[1]Pt1-DATA'!$C:$C,0),2),\"\")","v":66491},{"$f":"IFERROR(INDEX('[2]large UAV'!$B$6:$K$73,MATCH(L9,'[2]large UAV'!$B$6:$B$73,0),4)*1000,INDEX('[2]large UAV'!$B$6:$K$73,MATCH(M9,'[2]large UAV'!$B$6:$B$73,0),4)*1000)","v":{"$error":"#N/A"}},{"$f":"B9*(1+'Federal Reserve PPI AC Parts'!$E$12)","v":74363.731306187212},{"$f":"C9*(1+'Federal Reserve PPI AC Parts'!$E$12)","v":{"$error":"#N/A"}},"Used Model 2024",74363.731306187212,{"$error":"#N/A"},{"$f":"IFERROR(INDEX('[2]large UAV'!$B$6:$K$73,MATCH(L9,'[2]large UAV'!$B$6:$B$73,0),7),INDEX('[2]large UAV'!$B$6:$K$73,MATCH(M9,'[2]large UAV'!$B$6:$B$73,0),7))","v":{"$error":"#N/A"}},1,{"$f":"INDEX('[1]Pt1-DATA'!$A$5:$M$13349,MATCH(A9,'[1]Pt1-DATA'!$C$5:$C$13349,0),6)","v":"K"},"Embedded GPS/INS",null,66491]
["452#865",{"$f":"IFERROR(INDEX('[1]Pt1-DATA'!$C:$D,MATCH(A10,'[1]Pt1-DATA'!$C:$C,0),2),\"\")","v":40517},{"$f":"IFERROR(INDEX('[2]large UAV'!$B$6:$K$73,MATCH(L10,'[2]large UAV'!$B$6:$B$73,0),4)*1000,INDEX('[2]large UAV'!$B$6:$K$73,MATCH(M10,'[2]large UAV'!$B$6:$B$73,0),4)*1000)","v":20000},{"$f":"B10*(1+'Federal Reserve PPI AC Parts'!$E$12)","v":45314.33278688525},{"$f":"C10*(1+'Federal Reserve PPI AC Parts'!$E$12)","v":22368.059227921738},"Used Model 2024",45314.33278688525,1.0258499999999999,{"$f":"IFERROR(INDEX('[2]large UAV'!$B$6:$K$73,MATCH(L10,'[2]large UAV'!$B$6:$B$73,0),7),INDEX('[2]large UAV'!$B$6:$K$73,MATCH(M10,'[2]large UAV'!$B$6:$B$73,0),7))","v":"NG"},4,{"$f":"INDEX('[1]Pt1-DATA'!$A$5:$M$13349,MATCH(A10,'[1]Pt1-DATA'!$C$5:$C$13349,0),6)","v":"A"},"Multi spectral camera","MS-177 Multi spectral camera",40517]
["452#866",{"$f":"IFERROR(INDEX('[1]Pt1-DATA'!$C:$D,MATCH(A11,'[1]Pt1-DATA'!$C:$C,0),2),\"\")","v":100446},{"$f":"IFERROR(INDEX('[2]large UAV'!$B$6:$K$73,MATCH(L11,'[2]large UAV'!$B$6:$B$73,0),4)*1000,INDEX('[2]large UAV'!$B$6:$K$73,MATCH(M11,'[2]large UAV'!$B$6:$B$73,0),4)*1000)","v":50000},{"$f":"B11*(1+'Federal Reserve PPI AC Parts'!$E$12)","v":112339.10386039135},{"$f":"C11*(1+'Federal Reserve PPI AC Parts'!$E$12)","v":55920.148069804345},"Used Model 2024",112339.10386039135,1.00892,{"$f":"IFERROR(INDEX('[2]large UAV'!$B$6:$K$73,MATCH(L11,'[2]large UAV'!$B$6:$B$73,0),7),INDEX('[2]large UAV'!$B$6:$K$73,MATCH(M11,'[2]large UAV'!$B$6:$B$73,0),7))","v":0},1,{"$f":"INDEX('[1]Pt1-DATA'!$A$5:$M$13349,MATCH(A11,'[1]Pt1-DATA'!$C$5:$C$13349,0),6)","v":"A"},"Defensive counter measures","AN-ASQ230 defensive counter measures",100446]
["452#867",{"$f":"IFERROR(INDEX('[1]Pt1-DATA'!$C:$D,MATCH(A12,'[1]Pt1-DATA'!$C:$C,0),2),\"\")","v":70904},{"$f":"IFERROR(INDEX('[2]large UAV'!$B$6:$K$73,MATCH(L12,'[2]large UAV'!$B$6:$B$73,0),4)*1000,INDEX('[2]large UAV'!$B$6:$K$73,MATCH(M12,'[2]large UAV'!$B$6:$B$73,0),4)*1000)","v":50000},{"$f":"B12*(1+'Federal Reserve PPI AC Parts'!$E$12)","v":79299.243574828142},{"$f":"C12*(1+'Federal Reserve PPI AC Parts'!$E$12)","v":55920.148069804345},"Used Model 2024",79299.243574828142,0.41808000000000001,{"$f":"IFERROR(INDEX('[2]large UAV'!$B$6:$K$73,MATCH(L12,'[2]large UAV'!$B$6:$B$73,0),7),INDEX('[2]large UAV'!$B$6:$K$73,MATCH(M12,'[2]large UAV'!$B$6:$B$73,0),7))","v":"Collins"},1,{"$f":"INDEX('[1]Pt1-DATA'!$A$5:$M$13349,MATCH(A12,'[1]Pt1-DATA'!$C$5:$C$13349,0),6)","v":"A"},"Electro-optical reconnaissance sesnor","MS177 electro-optical reconnaissance sesnor",70904]
["452#868",{"$f":"IFERROR(INDEX('[1]Pt1-DATA'!$C:$D,MATCH(A13,'[1]Pt1-DATA'!$C:$C,0),2),\"\")","v":43999},{"$f":"IFERROR(INDEX('[2]large UAV'!$B$6:$K$73,MATCH(L13,'[2]large UAV'!$B$6:$B$73,0),4)*1000,INDEX('[2]large UAV'!$B$6:$K$73,MATCH(M13,'[2]large UAV'!$B$6:$B$73,0),4)*1000)","v":40000},{"$f":"B13*(1+'Federal Reserve PPI AC Parts'!$E$12)","v":49208.611898466428},{"$f":"C13*(1+'Federal Reserve PPI AC Parts'!$E$12)","v":44736.118455843476},"Used Model 2024",49208.611898466428,9.9974999999999994E-2,{"$f":"IFERROR(INDEX('[2]large UAV'!$B$6:$K$73,MATCH(L13,'[2]large UAV'!$B$6:$B$73,0),7),INDEX('[2]large UAV'!$B$6:$K$73,MATCH(M13,'[2]large UAV'!$B$6:$B$73,0),7))","v":0},1,{"$f":"INDEX('[1]Pt1-DATA'!$A$5:$M$13349,MATCH(A13,'[1]Pt1-DATA'!$C$5:$C$13349,0),6)","v":"A"},"Airborne Systems Intelligence Payload sensor",null,43999]
["452#869",{"$f":"IFERROR(INDEX('[1]Pt1-DATA'!$C:$D,MATCH(A14,'[1]Pt1-DATA'!$C:$C,0),2),\"\")","v":87997},{"$f":"IFERROR(INDEX('[2]large UAV'!$B$6:$K$73,MATCH(L14,'[2]large UAV'!$B$6:$B$73,0),4)*1000,INDEX('[2]large UAV'!$B$6:$K$73,MATCH(M14,'[2]large UAV'!$B$6:$B$73,0),4)*1000)","v":80000},{"$f":"B14*(1+'Federal Reserve PPI AC Parts'!$E$12)","v":98416.105393971462},{"$f":"C14*(1+'Federal Reserve PPI AC Parts'!$E$12)","v":89472.236911686952},"Used Model 2024",98416.105393971462,9.9962499999999996E-2,{"$f":"IFERROR(INDEX('[2]large UAV'!$B$6:$K$73,MATCH(L14,'[2]large UAV'!$B$6:$B$73,0),7),INDEX('[2]large UAV'!$B$6:$K$73,MATCH(M14,'[2]large UAV'!$B$6:$B$73,0),7))","v":0},1,{"$f":"INDEX('[1]Pt1-DATA'!$A$5:$M$13349,MATCH(A14,'[1]Pt1-DATA'!$C$5:$C$13349,0),6)","v":"A"},"Enhanced Integrated Sensor Suite","Enhanced Integrated Sensor Suite (Synthetic Aperture Radar, Ground Moving Target sensor, digital camera, infra red sensor)",87997]
["452#870",{"$f":"IFERROR(INDEX('[1]Pt1-DATA'!$C:$D,MATCH(A15,'[1]Pt1-DATA'!$C:$C,0),2),\"\")","v":19569},{"$f":"IFERROR(INDEX('[2]large UAV'!$B$6:$K$73,MATCH(L15,'[2]large UAV'!$B$6:$B$73,0),4)*1000,INDEX('[2]large UAV'!$B$6:$K$73,MATCH(M15,'[2]large UAV'!$B$6:$B$73,0),4)*1000)","v":20000},{"$f":"B15*(1+'Federal Reserve PPI AC Parts'!$E$12)","v":21886.027551560022},{"$f":"C15*(1+'Federal Reserve PPI AC Parts'!$E$12)","v":22368.059227921738},"Used Model 2024",21886.027551560022,-2.155E-2,{"$f":"IFERROR(INDEX('[2]large UAV'!$B$6:$K$73,MATCH(L15,'[2]large UAV'!$B$6:$B$73,0),7),INDEX('[2]large UAV'!$B$6:$K$73,MATCH(M15,'[2]large UAV'!$B$6:$B$73,0),7))","v":0},2,{"$f":"INDEX('[1]Pt1-DATA'!$A$5:$M$13349,MATCH(A15,'[1]Pt1-DATA'!$C$5:$C$13349,0),6)","v":"A"},"Radio Altimeters",null,19569]
["452#871",{"$f":"IFERROR(INDEX('[1]Pt1-DATA'!$C:$D,MATCH(A16,'[1]Pt1-DATA'!$C:$C,0),2),\"\")","v":20712},{"$f":"IFERROR(INDEX('[2]large UAV'!$B$6:$K$73,MATCH(L16,'[2]large UAV'!$B$6:$B$73,0),4)*1000,INDEX('[2]large UAV'!$B$6:$K$73,MATCH(M16,'[2]large UAV'!$B$6:$B$73,0),4)*1000)","v":15000},{"$f":"B16*(1+'Federal Reserve PPI AC Parts'!$E$12)","v":23164.36213643575},{"$f":"C16*(1+'Federal Reserve PPI AC Parts'!$E$12)","v":16776.044420941304},"Used Model 2024",23164.36213643575,0.38080000000000003,{"$f":"IFERROR(INDEX('[2]large UAV'!$B$6:$K$73,MATCH(L16,'[2]large UAV'!$B$6:$B$73,0),7),INDEX('[2]large UAV'!$B$6:$K$73,MATCH(M16,'[2]large UAV'!$B$6:$B$73,0),7))","v":0},1,{"$f":"INDEX('[1]Pt1-DATA'!$A$5:$M$13349,MATCH(A16,'[1]Pt1-DATA'!$C$5:$C$13349,0),6)","v":"A"},"Digital recorder",null,20712]
["452#872",{"$f":"IFERROR(INDEX('[1]Pt1-DATA'!$C:$D,MATCH(A17,'[1]Pt1-DATA'!$C:$C,0),2),\"\")","v":19569},{"$f":"IFERROR(INDEX('[2]large UAV'!$B$6:$K$73,MATCH(L17,'[2]large UAV'!$B$6:$B$73,0),4)*1000,INDEX('[2]large UAV'!$B$6:$K$73,MATCH(M17,'[2]large UAV'!$B$6:$B$73,0),4)*1000)","v":10000},{"$f":"B17*(1+'Federal Reserve PPI AC Parts'!$E$12)","v":21886.027551560022},{"$f":"C17*(1+'Federal Reserve PPI AC Parts'!$E$12)","v":11184.029613960869},"Used Model 2024",21886.027551560022,0.95689999999999997,{"$f":"IFERROR(INDEX('[2]large UAV'!$B$6:$K$73,MATCH(L17,'[2]large UAV'!$B$6:$B$73,0),7),INDEX('[2]large UAV'!$B$6:$K$73,MATCH(M17,'[2]large UAV'!$B$6:$B$73,0),7))","v":0},1,{"$f":"INDEX('[1]Pt1-DATA'!$A$5:$M$13349,MATCH(A17,'[1]Pt1-DATA'!$C$5:$C$13349,0),6)","v":"A"},"UHF SATCOM antenna",null,19569]
["452#873",{"$f":"IFERROR(INDEX('[1]Pt1-DATA'!$C:$D,MATCH(A18,'[1]Pt1-DATA'!$C:$C,0),2),\"\")","v":13298},{"$f":"IFERROR(INDEX('[2]large UAV'!$B$6:$K$73,MATCH(L18,'[2]large UAV'!$B$6:$B$73,0),4)*1000,INDEX('[2]large UAV'!$B$6:$K$73,MATCH(M18,'[2]large UAV'!$B$6:$B$73,0),4)*1000)","v":10000},{"$f":"B18*(1+'Federal Reserve PPI AC Parts'!$E$12)","v":14872.522580645164},{"$f":"C18*(1+'Federal Reserve PPI AC Parts'!$E$12)","v":11184.029613960869},"Used Model 2024",14872.522580645164,0.32979999999999998,{"$f":"IFERROR(INDEX('[2]large UAV'!$B$6:$K$73,MATCH(L18,'[2]large UAV'!$B$6:$B$73,0),7),INDEX('[2]large UAV'!$B$6:$K$73,MATCH(M18,'[2]large UAV'!$B$6:$B$73,0),7))","v":0},2,{"$f":"INDEX('[1]Pt1-DATA'!$A$5:$M$13349,MATCH(A18,'[1]Pt1-DATA'!$C$5:$C$13349,0),6)","v":"A"},"GPS antenna",null,13298]
["452#874",{"$f":"IFERROR(INDEX('[1]Pt1-DATA'!$C:$D,MATCH(A19,'[1]Pt1-DATA'!$C:$C,0),2),\"\")","v":17731},{"$f":"IFERROR(INDEX('[2]large UAV'!$B$6:$K$73,MATCH(L19,'[2]large UAV'!$B$6:$B$73,0),4)*1000,INDEX('[2]large UAV'!$B$6:$K$73,MATCH(M19,'[2]large UAV'!$B$6:$B$73,0),4)*1000)","v":10000},{"$f":"B19*(1+'Federal Reserve PPI AC Parts'!$E$12)","v":19830.402908514017},{"$f":"C19*(1+'Federal Reserve PPI AC Parts'!$E$12)","v":11184.029613960869},"Used Model 2024",19830.402908514017,0.77310000000000001,{"$f":"IFERROR(INDEX('[2]large UAV'!$B$6:$K$73,MATCH(L19,'[2]large UAV'!$B$6:$B$73,0),7),INDEX('[2]large UAV'!$B$6:$K$73,MATCH(M19,'[2]large UAV'!$B$6:$B$73,0),7))","v":0},2,{"$f":"INDEX('[1]Pt1-DATA'!$A$5:$M$13349,MATCH(A19,'[1]Pt1-DATA'!$C$5:$C$13349,0),6)","v":"A"},"Differential GPS antenna",null,17731]
["452#875",{"$f":"IFERROR(INDEX('[1]Pt1-DATA'!$C:$D,MATCH(A20,'[1]Pt1-DATA'!$C:$C,0),2),\"\")","v":24461},{"$f":"IFERROR(INDEX('[2]large UAV'!$B$6:$K$73,MATCH(L20,'[2]large UAV'!$B$6:$B$73,0),4)*1000,INDEX('[2]large UAV'!$B$6:$K$73,MATCH(M20,'[2]large UAV'!$B$6:$B$73,0),4)*1000)","v":18000},{"$f":"B20*(1+'Federal Reserve PPI AC Parts'!$E$12)","v":27357.254838709679},{"$f":"C20*(1+'Federal Reserve PPI AC Parts'!$E$12)","v":20131.253305129565},"Used Model 2024",27357.254838709679,0.35894444444444445,{"$f":"IFERROR(INDEX('[2]large UAV'!$B$6:$K$73,MATCH(L20,'[2]large UAV'!$B$6:$B$73,0),7),INDEX('[2]large UAV'!$B$6:$K$73,MATCH(M20,'[2]large UAV'!$B$6:$B$73,0),7))","v":0},2,{"$f":"INDEX('[1]Pt1-DATA'!$A$5:$M$13349,MATCH(A20,'[1]Pt1-DATA'!$C$5:$C$13349,0),6)","v":"A"},"ARC 210 radios",null,24461]
["452#876",{"$f":"IFERROR(INDEX('[1]Pt1-DATA'!$C:$D,MATCH(A21,'[1]Pt1-DATA'!$C:$C,0),2),\"\")","v":11741},{"$f":"IFERROR(INDEX('[2]large UAV'!$B$6:$K$73,MATCH(L21,'[2]large UAV'!$B$6:$B$73,0),4)*1000,INDEX('[2]large UAV'!$B$6:$K$73,MATCH(M21,'[2]large UAV'!$B$6:$B$73,0),4)*1000)","v":10000},{"$f":"B21*(1+'Federal Reserve PPI AC Parts'!$E$12)","v":13131.169169751456},{"$f":"C21*(1+'Federal Reserve PPI AC Parts'!$E$12)","v":11184.029613960869},"Used Model 2024",13131.169169751456,0.1741,{"$f":"IFERROR(INDEX('[2]large UAV'!$B$6:$K$73,MATCH(L21,'[2]large UAV'!$B$6:$B$73,0),7),INDEX('[2]large UAV'!$B$6:$K$73,MATCH(M21,'[2]large UAV'!$B$6:$B$73,0),7))","v":0},4,{"$f":"INDEX('[1]Pt1-DATA'!$A$5:$M$13349,MATCH(A21,'[1]Pt1-DATA'!$C$5:$C$13349,0),6)","v":"A"},"Radio antenna receivers/transmitters",null,11741]
["452#877",{"$f":"IFERROR(INDEX('[1]Pt1-DATA'!$C:$D,MATCH(A22,'[1]Pt1-DATA'!$C:$C,0),2),\"\")","v":11741},{"$f":"IFERROR(INDEX('[2]large UAV'!$B$6:$K$73,MATCH(L22,'[2]large UAV'!$B$6:$B$73,0),4)*1000,INDEX('[2]large UAV'!$B$6:$K$73,MATCH(M22,'[2]large UAV'!$B$6:$B$73,0),4)*1000)","v":10000},{"$f":"B22*(1+'Federal Reserve PPI AC Parts'!$E$12)","v":13131.169169751456},{"$f":"C22*(1+'Federal Reserve PPI AC Parts'!$E$12)","v":11184.029613960869},"Used Model 2024",13131.169169751456,0.1741,{"$f":"IFERROR(INDEX('[2]large UAV'!$B$6:$K$73,MATCH(L22,'[2]large UAV'!$B$6:$B$73,0),7),INDEX('[2]large UAV'!$B$6:$K$73,MATCH(M22,'[2]large UAV'!$B$6:$B$73,0),7))","v":0},2,{"$f":"INDEX('[1]Pt1-DATA'!$A$5:$M$13349,MATCH(A22,'[1]Pt1-DATA'!$C$5:$C$13349,0),6)","v":"A"},"UHF LOS antennas",null,11741]
["452#879",{"$f":"IFERROR(INDEX('[1]Pt1-DATA'!$C:$D,MATCH(A23,'[1]Pt1-DATA'!$C:$C,0),2),\"\")","v":91905},{"$f":"IFERROR(INDEX('[2]large UAV'!$B$6:$K$73,MATCH(L23,'[2]large UAV'!$B$6:$B$73,0),4)*1000,INDEX('[2]large UAV'!$B$6:$K$73,MATCH(M23,'[2]large UAV'!$B$6:$B$73,0),4)*1000)","v":{"$error":"#N/A"}},{"$f":"B23*(1+'Federal Reserve PPI AC Parts'!$E$12)","v":102786.82416710736},{"$f":"C23*(1+'Federal Reserve PPI AC Parts'!$E$12)","v":{"$error":"#N/A"}},"Used Model 2024",102786.82416710736,{"$error":"#N/A"},{"$f":"IFERROR(INDEX('[2]large UAV'!$B$6:$K$73,MATCH(L23,'[2]large UAV'!$B$6:$B$73,0),7),INDEX('[2]large UAV'!$B$6:$K$73,MATCH(M23,'[2]large UAV'!$B$6:$B$73,0),7))","v":{"$error":"#N/A"}},1,{"$f":"INDEX('[1]Pt1-DATA'!$A$5:$M$13349,MATCH(A23,'[1]Pt1-DATA'!$C$5:$C$13349,0),6)","v":"N"},"Software",null,91905]
["452#880",{"$f":"IFERROR(INDEX('[1]Pt1-DATA'!$C:$D,MATCH(A24,'[1]Pt1-DATA'!$C:$C,0),2),\"\")","v":19800},{"$f":"IFERROR(INDEX('[2]large UAV'!$B$6:$K$73,MATCH(L24,'[2]large UAV'!$B$6:$B$73,0),4)*1000,INDEX('[2]large UAV'!$B$6:$K$73,MATCH(M24,'[2]large UAV'!$B$6:$B$73,0),4)*1000)","v":{"$error":"#N/A"}},{"$f":"B24*(1+'Federal Reserve PPI AC Parts'!$E$12)","v":22144.378635642519},{"$f":"C24*(1+'Federal Reserve PPI AC Parts'!$E$12)","v":{"$error":"#N/A"}},"Used Model 2024",22144.378635642519,{"$error":"#N/A"},{"$f":"IFERROR(INDEX('[2]large UAV'!$B$6:$K$73,MATCH(L24,'[2]large UAV'!$B$6:$B$73,0),7),INDEX('[2]large UAV'!$B$6:$K$73,MATCH(M24,'[2]large UAV'!$B$6:$B$73,0),7))","v":{"$error":"#N/A"}},3,{"$f":"INDEX('[1]Pt1-DATA'!$A$5:$M$13349,MATCH(A24,'[1]Pt1-DATA'!$C$5:$C$13349,0),6)","v":"G"},"Air data sensors",null,19800]
[null,{"$f":"IFERROR(INDEX('[1]Pt1-DATA'!$C:$D,MATCH(A25,'[1]Pt1-DATA'!$C:$C,0),2),\"\")","v":""},{"$f":"IFERROR(INDEX('[2]large UAV'!$B$6:$K$73,MATCH(L25,'[2]large UAV'!$B$6:$B$73,0),4)*1000,INDEX('[2]large UAV'!$B$6:$K$73,MATCH(M25,'[2]large UAV'!$B$6:$B$73,0),4)*1000)","v":65000},{"$f":"B25*(1+'Federal Reserve PPI AC Parts'!$E$12)","v":{"$error":"#VALUE!"}},{"$f":"C25*(1+'Federal Reserve PPI AC Parts'!$E$12)","v":72696.192490745641},"Used PW 2024",75000,{"$f":"(B25-C25)/C25","v":{"$error":"#VALUE!"}},{"$f":"IFERROR(INDEX('[2]large UAV'!$B$6:$K$73,MATCH(L25,'[2]large UAV'!$B$6:$B$73,0),7),INDEX('[2]large UAV'!$B$6:$K$73,MATCH(M25,'[2]large UAV'!$B$6:$B$73,0),7))","v":0},1,null,null,"Intergated Navigation suite (INS/Air data?)",""]

{"sheet":"Combined data","index":14,"n_rows":331,"n_cols":20,"rows_kept":331,"cut":false,"hidden":false,"merged":[]}
["Aircraft:",{"$f":"INDEX('[3]Pt1-AvionicsComponentCosts'!$A$11:$E$384,MATCH(VALUE(LEFT(A5,SEARCH(\"#\",A5)-1)),'[3]Pt1-AvionicsComponentCosts'!$A$11:$A$384,0),5)","v":"A320-200"}]
[]
[]
[null,"Model 2020","PW 2020","2024 PPI Model","2024 PPI PW","Notes","2024 AE Estimate","Pct Change","Source","#/AC","Factor","Item","Alt Item (PW)","previous",null,"Category","seq",null,"sheet"]
[{"$f":"INDIRECT(\"'\"&$S5&\"'!R\"&$T5&\"C\"&COLUMN(),FALSE)","v":"633#709"},{"$f":"INDIRECT(\"'\"&$S5&\"'!R\"&$T5&\"C\"&COLUMN(),FALSE)","v":46970},{"$f":"INDIRECT(\"'\"&$S5&\"'!R\"&$T5&\"C\"&COLUMN(),FALSE)","v":30000},{"$f":"INDIRECT(\"'\"&$S5&\"'!R\"&$T5&\"C\"&COLUMN(),FALSE)","v":52531.387096774197},{"$f":"INDIRECT(\"'\"&$S5&\"'!R\"&$T5&\"C\"&COLUMN(),FALSE)","v":33552.088841882607},{"$f":"INDIRECT(\"'\"&$S5&\"'!R\"&$T5&\"C\"&COLUMN(),FALSE)","v":"Low for Airbus FMS"},{"$f":"INDIRECT(\"'\"&$S5&\"'!R\"&$T5&\"C\"&COLUMN(),FALSE)","v":55000},{"$f":"INDIRECT(\"'\"&$S5&\"'!R\"&$T5&\"C\"&COLUMN(),FALSE)","v":0.56566666666666665},{"$f":"INDIRECT(\"'\"&$S5&\"'!R\"&$T5&\"C\"&COLUMN(),FALSE)","v":"BFE option. Thales or Honeywell"},{"$f":"INDIRECT(\"'\"&$S5&\"'!R\"&$T5&\"C\"&COLUMN(),FALSE)","v":2},{"$f":"INDIRECT(\"'\"&$S5&\"'!R\"&$T5&\"C\"&COLUMN(),FALSE)","v":"G"},{"$f":"INDIRECT(\"'\"&$S5&\"'!R\"&$T5&\"C\"&COLUMN(),FALSE)","v":"FMGC"},{"$f":"INDIRECT(\"'\"&$S5&\"'!R\"&$T5&\"C\"&COLUMN(),FALSE)","v":0},{"$f":"INDIRECT(\"'\"&$S5&\"'!R\"&$T5&\"C\"&COLUMN(),FALSE)","v":46970},null,{"$f":"IFERROR(LEFT(A5,SEARCH(\"#\",A5)-1),\"\")","v":"633"},1,{"$f":"N5&\"#\"&IFERROR(LEFT(K5,SEARCH(\" \",K5)-1),K5)","v":"46970#G"},"Narrow Body",5]
[{"$f":"INDIRECT(\"'\"&$S6&\"'!R\"&$T6&\"C\"&COLUMN(),FALSE)","v":"633#710"},{"$f":"INDIRECT(\"'\"&$S6&\"'!R\"&$T6&\"C\"&COLUMN(),FALSE)","v":26094},{"$f":"INDIRECT(\"'\"&$S6&\"'!R\"&$T6&\"C\"&COLUMN(),FALSE)","v":25000},{"$f":"INDIRECT(\"'\"&$S6&\"'!R\"&$T6&\"C\"&COLUMN(),FALSE)","v":29183.606874669491},{"$f":"INDIRECT(\"'\"&$S6&\"'!R\"&$T6&\"C\"&COLUMN(),FALSE)","v":27960.074034902173},{"$f":"INDIRECT(\"'\"&$S6&\"'!R\"&$T6&\"C\"&COLUMN(),FALSE)","v":"PW Low"},{"$f":"INDIRECT(\"'\"&$S6&\"'!R\"&$T6&\"C\"&COLUMN(),FALSE)","v":30000},{"$f":"INDIRECT(\"'\"&$S6&\"'!R\"&$T6&\"C\"&COLUMN(),FALSE)","v":4.376E-2},{"$f":"INDIRECT(\"'\"&$S6&\"'!R\"&$T6&\"C\"&COLUMN(),FALSE)","v":"BFE option. Thales or Honeywell"},{"$f":"INDIRECT(\"'\"&$S6&\"'!R\"&$T6&\"C\"&COLUMN(),FALSE)","v":2},{"$f":"INDIRECT(\"'\"&$S6&\"'!R\"&$T6&\"C\"&COLUMN(),FALSE)","v":"G"},{"$f":"INDIRECT(\"'\"&$S6&\"'!R\"&$T6&\"C\"&COLUMN(),FALSE)","v":"MCDU"},{"$f":"INDIRECT(\"'\"&$S6&\"'!R\"&$T6&\"C\"&COLUMN(),FALSE)","v":0},{"$f":"INDIRECT(\"'\"&$S6&\"'!R\"&$T6&\"C\"&COLUMN(),FALSE)","v":26094},null,{"$f":"IFERROR(LEFT(A6,SEARCH(\"#\",A6)-1),\"\")","v":"633"},2,{"$f":"N6&\"#\"&IFERROR(LEFT(K6,SEARCH(\" \",K6)-1),K6)","v":"26094#G"},"Narrow Body",6]
[{"$f":"INDIRECT(\"'\"&$S7&\"'!R\"&$T7&\"C\"&COLUMN(),FALSE)","v":"633#711"},{"$f":"INDIRECT(\"'\"&$S7&\"'!R\"&$T7&\"C\"&COLUMN(),FALSE)","v":20876},{"$f":"INDIRECT(\"'\"&$S7&\"'!R\"&$T7&\"C\"&COLUMN(),FALSE)","v":20000},{"$f":"INDIRECT(\"'\"&$S7&\"'!R\"&$T7&\"C\"&COLUMN(),FALSE)","v":23347.78022210471},{"$f":"INDIRECT(\"'\"&$S7&\"'!R\"&$T7&\"C\"&COLUMN(),FALSE)","v":22368.059227921738},{"$f":"INDIRECT(\"'\"&$S7&\"'!R\"&$T7&\"C\"&COLUMN(),FALSE)","v":"Validated PW 2020"},{"$f":"INDIRECT(\"'\"&$S7&\"'!R\"&$T7&\"C\"&COLUMN(),FALSE)","v":25000},{"$f":"INDIRECT(\"'\"&$S7&\"'!R\"&$T7&\"C\"&COLUMN(),FALSE)","v":4.3799999999999999E-2},{"$f":"INDIRECT(\"'\"&$S7&\"'!R\"&$T7&\"C\"&COLUMN(),FALSE)","v":"BFE option. Thales or Honeywell"},{"$f":"INDIRECT(\"'\"&$S7&\"'!R\"&$T7&\"C\"&COLUMN(),FALSE)","v":1},{"$f":"INDIRECT(\"'\"&$S7&\"'!R\"&$T7&\"C\"&COLUMN(),FALSE)","v":"C"},{"$f":"INDIRECT(\"'\"&$S7&\"'!R\"&$T7&\"C\"&COLUMN(),FALSE)","v":"FCU"},{"$f":"INDIRECT(\"'\"&$S7&\"'!R\"&$T7&\"C\"&COLUMN(),FALSE)","v":"FCU (part of FMGC above)"},{"$f":"INDIRECT(\"'\"&$S7&\"'!R\"&$T7&\"C\"&COLUMN(),FALSE)","v":20876},null,"633",3,"20876#C","Narrow Body",7]
[{"$f":"INDIRECT(\"'\"&$S8&\"'!R\"&$T8&\"C\"&COLUMN(),FALSE)","v":"633#712"},{"$f":"INDIRECT(\"'\"&$S8&\"'!R\"&$T8&\"C\"&COLUMN(),FALSE)","v":26094},{"$f":"INDIRECT(\"'\"&$S8&\"'!R\"&$T8&\"C\"&COLUMN(),FALSE)","v":25000},{"$f":"INDIRECT(\"'\"&$S8&\"'!R\"&$T8&\"C\"&COLUMN(),FALSE)","v":29183.606874669491},{"$f":"INDIRECT(\"'\"&$S8&\"'!R\"&$T8&\"C\"&COLUMN(),FALSE)","v":27960.074034902173},{"$f":"INDIRECT(\"'\"&$S8&\"'!R\"&$T8&\"C\"&COLUMN(),FALSE)","v":"PW Low"},{"$f":"INDIRECT(\"'\"&$S8&\"'!R\"&$T8&\"C\"&COLUMN(),FALSE)","v":30000},{"$f":"INDIRECT(\"'\"&$S8&\"'!R\"&$T8&\"C\"&COLUMN(),FALSE)","v":4.376E-2},{"$f":"INDIRECT(\"'\"&$S8&\"'!R\"&$T8&\"C\"&COLUMN(),FALSE)","v":"BFE option. Thales or Honeywell"},{"$f":"INDIRECT(\"'\"&$S8&\"'!R\"&$T8&\"C\"&COLUMN(),FALSE)","v":2},{"$f":"INDIRECT(\"'\"&$S8&\"'!R\"&$T8&\"C\"&COLUMN(),FALSE)","v":"C"},{"$f":"INDIRECT(\"'\"&$S8&\"'!R\"&$T8&\"C\"&COLUMN(),FALSE)","v":"Flight Augmentation Computers"},{"$f":"INDIRECT(\"'\"&$S8&\"'!R\"&$T8&\"C\"&COLUMN(),FALSE)","v":"Flight Augmentation Computers (FAC) part of FMGC system above"},{"$f":"INDIRECT(\"'\"&$S8&\"'!R\"&$T8&\"C\"&COLUMN(),FALSE)","v":26094},null,"633",4,"26094#C","Narrow Body",8]
[{"$f":"INDIRECT(\"'\"&$S9&\"'!R\"&$T9&\"C\"&COLUMN(),FALSE)","v":"633#713"},{"$f":"INDIRECT(\"'\"&$S9&\"'!R\"&$T9&\"C\"&COLUMN(),FALSE)","v":14941},{"$f":"INDIRECT(\"'\"&$S9&\"'!R\"&$T9&\"C\"&COLUMN(),FALSE)","v":20000},{"$f":"INDIRECT(\"'\"&$S9&\"'!R\"&$T9&\"C\"&COLUMN(),FALSE)","v":16710.058646218935},{"$f":"INDIRECT(\"'\"&$S9&\"'!R\"&$T9&\"C\"&COLUMN(),FALSE)","v":22368.059227921738},{"$f":"INDIRECT(\"'\"&$S9&\"'!R\"&$T9&\"C\"&COLUMN(),FALSE)","v":"Validated PW 2020"},{"$f":"INDIRECT(\"'\"&$S9&\"'!R\"&$T9&\"C\"&COLUMN(),FALSE)","v":23500},{"$f":"INDIRECT(\"'\"&$S9&\"'!R\"&$T9&\"C\"&COLUMN(),FALSE)","v":-0.25295000000000001},{"$f":"INDIRECT(\"'\"&$S9&\"'!R\"&$T9&\"C\"&COLUMN(),FALSE)","v":"Who supplies????"},{"$f":"INDIRECT(\"'\"&$S9&\"'!R\"&$T9&\"C\"&COLUMN(),FALSE)","v":2},{"$f":"INDIRECT(\"'\"&$S9&\"'!R\"&$T9&\"C\"&COLUMN(),FALSE)","v":"E"},{"$f":"INDIRECT(\"'\"&$S9&\"'!R\"&$T9&\"C\"&COLUMN(),FALSE)","v":"A/T Engine Control Unit"},{"$f":"INDIRECT(\"'\"&$S9&\"'!R\"&$T9&\"C\"&COLUMN(),FALSE)","v":0},{"$f":"INDIRECT(\"'\"&$S9&\"'!R\"&$T9&\"C\"&COLUMN(),FALSE)","v":14941},null,"633",5,"14941#E","Narrow Body",9]
[{"$f":"INDIRECT(\"'\"&$S10&\"'!R\"&$T10&\"C\"&COLUMN(),FALSE)","v":"633#714"},{"$f":"INDIRECT(\"'\"&$S10&\"'!R\"&$T10&\"C\"&COLUMN(),FALSE)","v":11506},{"$f":"INDIRECT(\"'\"&$S10&\"'!R\"&$T10&\"C\"&COLUMN(),FALSE)","v":10000},{"$f":"INDIRECT(\"'\"&$S10&\"'!R\"&$T10&\"C\"&COLUMN(),FALSE)","v":12868.344473823376},{"$f":"INDIRECT(\"'\"&$S10&\"'!R\"&$T10&\"C\"&COLUMN(),FALSE)","v":11184.029613960869},{"$f":"INDIRECT(\"'\"&$S10&\"'!R\"&$T10&\"C\"&COLUMN(),FALSE)","v":"Validated PW 2020"},{"$f":"INDIRECT(\"'\"&$S10&\"'!R\"&$T10&\"C\"&COLUMN(),FALSE)","v":13000},{"$f":"INDIRECT(\"'\"&$S10&\"'!R\"&$T10&\"C\"&COLUMN(),FALSE)","v":0.15060000000000001},{"$f":"INDIRECT(\"'\"&$S10&\"'!R\"&$T10&\"C\"&COLUMN(),FALSE)","v":"BFE option. Thales or Honeywell"},{"$f":"INDIRECT(\"'\"&$S10&\"'!R\"&$T10&\"C\"&COLUMN(),FALSE)","v":2},{"$f":"INDIRECT(\"'\"&$S10&\"'!R\"&$T10&\"C\"&COLUMN(),FALSE)","v":"C"},{"$f":"INDIRECT(\"'\"&$S10&\"'!R\"&$T10&\"C\"&COLUMN(),FALSE)","v":"Data Base loader"},{"$f":"INDIRECT(\"'\"&$S10&\"'!R\"&$T10&\"C\"&COLUMN(),FALSE)","v":0},{"$f":"INDIRECT(\"'\"&$S10&\"'!R\"&$T10&\"C\"&COLUMN(),FALSE)","v":11506},null,"633",6,"11506#C","Narrow Body",10]
[{"$f":"INDIRECT(\"'\"&$S11&\"'!R\"&$T11&\"C\"&COLUMN(),FALSE)","v":"633#715"},{"$f":"INDIRECT(\"'\"&$S11&\"'!R\"&$T11&\"C\"&COLUMN(),FALSE)","v":12525},{"$f":"INDIRECT(\"'\"&$S11&\"'!R\"&$T11&\"C\"&COLUMN(),FALSE)","v":12000},{"$f":"INDIRECT(\"'\"&$S11&\"'!R\"&$T11&\"C\"&COLUMN(),FALSE)","v":14007.997091485988},{"$f":"INDIRECT(\"'\"&$S11&\"'!R\"&$T11&\"C\"&COLUMN(),FALSE)","v":13420.835536753042},{"$f":"INDIRECT(\"'\"&$S11&\"'!R\"&$T11&\"C\"&COLUMN(),FALSE)","v":"Validated PW 2020"},{"$f":"INDIRECT(\"'\"&$S11&\"'!R\"&$T11&\"C\"&COLUMN(),FALSE)","v":14000},{"$f":"INDIRECT(\"'\"&$S11&\"'!R\"&$T11&\"C\"&COLUMN(),FALSE)","v":4.3749999999999997E-2},{"$f":"INDIRECT(\"'\"&$S11&\"'!R\"&$T11&\"C\"&COLUMN(),FALSE)","v":"Glareshield "},{"$f":"INDIRECT(\"'\"&$S11&\"'!R\"&$T11&\"C\"&COLUMN(),FALSE)","v":3},{"$f":"INDIRECT(\"'\"&$S11&\"'!R\"&$T11&\"C\"&COLUMN(),FALSE)","v":"C"},{"$f":"INDIRECT(\"'\"&$S11&\"'!R\"&$T11&\"C\"&COLUMN(),FALSE)","v":"Flight Control Unit (FCU) panel"},{"$f":"INDIRECT(\"'\"&$S11&\"'!R\"&$T11&\"C\"&COLUMN(),FALSE)","v":"Flight Control Unit (FCU) panel (3 panels)"},{"$f":"INDIRECT(\"'\"&$S11&\"'!R\"&$T11&\"C\"&COLUMN(),FALSE)","v":12525},null,"633",7,"12525#C","Narrow Body",11]
[{"$f":"INDIRECT(\"'\"&$S12&\"'!R\"&$T12&\"C\"&COLUMN(),FALSE)","v":"633#716"},{"$f":"INDIRECT(\"'\"&$S12&\"'!R\"&$T12&\"C\"&COLUMN(),FALSE)","v":10437},{"$f":"INDIRECT(\"'\"&$S12&\"'!R\"&$T12&\"C\"&COLUMN(),FALSE)","v":10000},{"$f":"INDIRECT(\"'\"&$S12&\"'!R\"&$T12&\"C\"&COLUMN(),FALSE)","v":11672.771708090959},{"$f":"INDIRECT(\"'\"&$S12&\"'!R\"&$T12&\"C\"&COLUMN(),FALSE)","v":11184.029613960869},{"$f":"INDIRECT(\"'\"&$S12&\"'!R\"&$T12&\"C\"&COLUMN(),FALSE)","v":"Validated PW 2020"},{"$f":"INDIRECT(\"'\"&$S12&\"'!R\"&$T12&\"C\"&COLUMN(),FALSE)","v":12000},{"$f":"INDIRECT(\"'\"&$S12&\"'!R\"&$T12&\"C\"&COLUMN(),FALSE)","v":4.3700000000000003E-2},{"$f":"INDIRECT(\"'\"&$S12&\"'!R\"&$T12&\"C\"&COLUMN(),FALSE)","v":"??????"},{"$f":"INDIRECT(\"'\"&$S12&\"'!R\"&$T12&\"C\"&COLUMN(),FALSE)","v":2},{"$f":"INDIRECT(\"'\"&$S12&\"'!R\"&$T12&\"C\"&COLUMN(),FALSE)","v":"C"},{"$f":"INDIRECT(\"'\"&$S12&\"'!R\"&$T12&\"C\"&COLUMN(),FALSE)","v":"Flight Warning Computer (FWC)"},{"$f":"INDIRECT(\"'\"&$S12&\"'!R\"&$T12&\"C\"&COLUMN(),FALSE)","v":0},{"$f":"INDIRECT(\"'\"&$S12&\"'!R\"&$T12&\"C\"&COLUMN(),FALSE)","v":10437},null,"633",8,"10437#C","Narrow Body",12]
[{"$f":"INDIRECT(\"'\"&$S13&\"'!R\"&$T13&\"C\"&COLUMN(),FALSE)","v":"633#717"},{"$f":"INDIRECT(\"'\"&$S13&\"'!R\"&$T13&\"C\"&COLUMN(),FALSE)","v":31029},{"$f":"INDIRECT(\"'\"&$S13&\"'!R\"&$T13&\"C\"&COLUMN(),FALSE)","v":35000},{"$f":"INDIRECT(\"'\"&$S13&\"'!R\"&$T13&\"C\"&COLUMN(),FALSE)","v":34702.925489159177},{"$f":"INDIRECT(\"'\"&$S13&\"'!R\"&$T13&\"C\"&COLUMN(),FALSE)","v":39144.103648863042},{"$f":"INDIRECT(\"'\"&$S13&\"'!R\"&$T13&\"C\"&COLUMN(),FALSE)","v":"Validated PW 2020"},{"$f":"INDIRECT(\"'\"&$S13&\"'!R\"&$T13&\"C\"&COLUMN(),FALSE)","v":39000},{"$f":"INDIRECT(\"'\"&$S13&\"'!R\"&$T13&\"C\"&COLUMN(),FALSE)","v":-0.11345714285714285},{"$f":"INDIRECT(\"'\"&$S13&\"'!R\"&$T13&\"C\"&COLUMN(),FALSE)","v":"Honeywell"},{"$f":"INDIRECT(\"'\"&$S13&\"'!R\"&$T13&\"C\"&COLUMN(),FALSE)","v":3},{"$f":"INDIRECT(\"'\"&$S13&\"'!R\"&$T13&\"C\"&COLUMN(),FALSE)","v":"C"},{"$f":"INDIRECT(\"'\"&$S13&\"'!R\"&$T13&\"C\"&COLUMN(),FALSE)","v":"ADIRU"},{"$f":"INDIRECT(\"'\"&$S13&\"'!R\"&$T13&\"C\"&COLUMN(),FALSE)","v":0},{"$f":"INDIRECT(\"'\"&$S13&\"'!R\"&$T13&\"C\"&COLUMN(),FALSE)","v":31029},null,"633",9,"31029#C","Narrow Body",13]
[{"$f":"INDIRECT(\"'\"&$S14&\"'!R\"&$T14&\"C\"&COLUMN(),FALSE)","v":"633#719"},{"$f":"INDIRECT(\"'\"&$S14&\"'!R\"&$T14&\"C\"&COLUMN(),FALSE)","v":15182},{"$f":"INDIRECT(\"'\"&$S14&\"'!R\"&$T14&\"C\"&COLUMN(),FALSE)","v":15000},{"$f":"INDIRECT(\"'\"&$S14&\"'!R\"&$T14&\"C\"&COLUMN(),FALSE)","v":16979.593759915391},{"$f":"INDIRECT(\"'\"&$S14&\"'!R\"&$T14&\"C\"&COLUMN(),FALSE)","v":16776.044420941304},{"$f":"INDIRECT(\"'\"&$S14&\"'!R\"&$T14&\"C\"&COLUMN(),FALSE)","v":"Validated PW 2020"},{"$f":"INDIRECT(\"'\"&$S14&\"'!R\"&$T14&\"C\"&COLUMN(),FALSE)","v":17000},{"$f":"INDIRECT(\"'\"&$S14&\"'!R\"&$T14&\"C\"&COLUMN(),FALSE)","v":1.2133333333333333E-2},{"$f":"INDIRECT(\"'\"&$S14&\"'!R\"&$T14&\"C\"&COLUMN(),FALSE)","v":"Honeywell"},{"$f":"INDIRECT(\"'\"&$S14&\"'!R\"&$T14&\"C\"&COLUMN(),FALSE)","v":1},{"$f":"INDIRECT(\"'\"&$S14&\"'!R\"&$T14&\"C\"&COLUMN(),FALSE)","v":"C"},{"$f":"INDIRECT(\"'\"&$S14&\"'!R\"&$T14&\"C\"&COLUMN(),FALSE)","v":"ADIRS CDU"},{"$f":"INDIRECT(\"'\"&$S14&\"'!R\"&$T14&\"C\"&COLUMN(),FALSE)","v":0},{"$f":"INDIRECT(\"'\"&$S14&\"'!R\"&$T14&\"C\"&COLUMN(),FALSE)","v":15182},null,"633",10,"15182#C","Narrow Body",14]
[{"$f":"INDIRECT(\"'\"&$S15&\"'!R\"&$T15&\"C\"&COLUMN(),FALSE)","v":"633#721"},{"$f":"INDIRECT(\"'\"&$S15&\"'!R\"&$T15&\"C\"&COLUMN(),FALSE)","v":10638},{"$f":"INDIRECT(\"'\"&$S15&\"'!R\"&$T15&\"C\"&COLUMN(),FALSE)","v":12000},{"$f":"INDIRECT(\"'\"&$S15&\"'!R\"&$T15&\"C\"&COLUMN(),FALSE)","v":11897.570703331572},{"$f":"INDIRECT(\"'\"&$S15&\"'!R\"&$T15&\"C\"&COLUMN(),FALSE)","v":13420.835536753042},{"$f":"INDIRECT(\"'\"&$S15&\"'!R\"&$T15&\"C\"&COLUMN(),FALSE)","v":"Validated PW 2020"},{"$f":"INDIRECT(\"'\"&$S15&\"'!R\"&$T15&\"C\"&COLUMN(),FALSE)","v":13500},{"$f":"INDIRECT(\"'\"&$S15&\"'!R\"&$T15&\"C\"&COLUMN(),FALSE)","v":-0.1135},{"$f":"INDIRECT(\"'\"&$S15&\"'!R\"&$T15&\"C\"&COLUMN(),FALSE)","v":"Collins"},{"$f":"INDIRECT(\"'\"&$S15&\"'!R\"&$T15&\"C\"&COLUMN(),FALSE)","v":8},{"$f":"INDIRECT(\"'\"&$S15&\"'!R\"&$T15&\"C\"&COLUMN(),FALSE)","v":"E"},{"$f":"INDIRECT(\"'\"&$S15&\"'!R\"&$T15&\"C\"&COLUMN(),FALSE)","v":"Air Data Modules (ADM)"},{"$f":"INDIRECT(\"'\"&$S15&\"'!R\"&$T15&\"C\"&COLUMN(),FALSE)","v":0},{"$f":"INDIRECT(\"'\"&$S15&\"'!R\"&$T15&\"C\"&COLUMN(),FALSE)","v":10638},null,"633",11,"10638#E","Narrow Body",15]
[{"$f":"INDIRECT(\"'\"&$S16&\"'!R\"&$T16&\"C\"&COLUMN(),FALSE)","v":"633#722"},{"$f":"INDIRECT(\"'\"&$S16&\"'!R\"&$T16&\"C\"&COLUMN(),FALSE)","v":8800},{"$f":"INDIRECT(\"'\"&$S16&\"'!R\"&$T16&\"C\"&COLUMN(),FALSE)","v":8000},{"$f":"INDIRECT(\"'\"&$S16&\"'!R\"&$T16&\"C\"&COLUMN(),FALSE)","v":9841.9460602855652},{"$f":"INDIRECT(\"'\"&$S16&\"'!R\"&$T16&\"C\"&COLUMN(),FALSE)","v":8947.2236911686941},{"$f":"INDIRECT(\"'\"&$S16&\"'!R\"&$T16&\"C\"&COLUMN(),FALSE)","v":"Validated PW 2020"},{"$f":"INDIRECT(\"'\"&$S16&\"'!R\"&$T16&\"C\"&COLUMN(),FALSE)","v":10000},{"$f":"INDIRECT(\"'\"&$S16&\"'!R\"&$T16&\"C\"&COLUMN(),FALSE)","v":0.1},{"$f":"INDIRECT(\"'\"&$S16&\"'!R\"&$T16&\"C\"&COLUMN(),FALSE)","v":"Collins"},{"$f":"INDIRECT(\"'\"&$S16&\"'!R\"&$T16&\"C\"&COLUMN(),FALSE)","v":12},{"$f":"INDIRECT(\"'\"&$S16&\"'!R\"&$T16&\"C\"&COLUMN(),FALSE)","v":"E"},{"$f":"INDIRECT(\"'\"&$S16&\"'!R\"&$T16&\"C\"&COLUMN(),FALSE)","v":"Air data probes (pitot/static)"},{"$f":"INDIRECT(\"'\"&$S16&\"'!R\"&$T16&\"C\"&COLUMN(),FALSE)","v":0},{"$f":"INDIRECT(\"'\"&$S16&\"'!R\"&$T16&\"C\"&COLUMN(),FALSE)","v":8800},null,"633",12,"8800#E","Narrow Body",16]
[{"$f":"INDIRECT(\"'\"&$S17&\"'!R\"&$T17&\"C\"&COLUMN(),FALSE)","v":"633#723"},{"$f":"INDIRECT(\"'\"&$S17&\"'!R\"&$T17&\"C\"&COLUMN(),FALSE)","v":44327},{"$f":"INDIRECT(\"'\"&$S17&\"'!R\"&$T17&\"C\"&COLUMN(),FALSE)","v":50000},{"$f":"INDIRECT(\"'\"&$S17&\"'!R\"&$T17&\"C\"&COLUMN(),FALSE)","v":49575.448069804341},{"$f":"INDIRECT(\"'\"&$S17&\"'!R\"&$T17&\"C\"&COLUMN(),FALSE)","v":55920.148069804345},{"$f":"INDIRECT(\"'\"&$S17&\"'!R\"&$T17&\"C\"&COLUMN(),FALSE)","v":"Validated PW 2020"},{"$f":"INDIRECT(\"'\"&$S17&\"'!R\"&$T17&\"C\"&COLUMN(),FALSE)","v":56000},{"$f":"INDIRECT(\"'\"&$S17&\"'!R\"&$T17&\"C\"&COLUMN(),FALSE)","v":-0.11346000000000001},{"$f":"INDIRECT(\"'\"&$S17&\"'!R\"&$T17&\"C\"&COLUMN(),FALSE)","v":"Option (HWL/Collins/Thales)"},{"$f":"INDIRECT(\"'\"&$S17&\"'!R\"&$T17&\"C\"&COLUMN(),FALSE)","v":1},{"$f":"INDIRECT(\"'\"&$S17&\"'!R\"&$T17&\"C\"&COLUMN(),FALSE)","v":"D2"},{"$f":"INDIRECT(\"'\"&$S17&\"'!R\"&$T17&\"C\"&COLUMN(),FALSE)","v":"Multi Mode Receiver (MMR)"},{"$f":"INDIRECT(\"'\"&$S17&\"'!R\"&$T17&\"C\"&COLUMN(),FALSE)","v":0},{"$f":"INDIRECT(\"'\"&$S17&\"'!R\"&$T17&\"C\"&COLUMN(),FALSE)","v":44327},null,"633",13,"44327#D2","Narrow Body",17]
[{"$f":"INDIRECT(\"'\"&$S18&\"'!R\"&$T18&\"C\"&COLUMN(),FALSE)","v":"633#724"},{"$f":"INDIRECT(\"'\"&$S18&\"'!R\"&$T18&\"C\"&COLUMN(),FALSE)","v":13699},{"$f":"INDIRECT(\"'\"&$S18&\"'!R\"&$T18&\"C\"&COLUMN(),FALSE)","v":10000},{"$f":"INDIRECT(\"'\"&$S18&\"'!R\"&$T18&\"C\"&COLUMN(),FALSE)","v":15321.002168164994},{"$f":"INDIRECT(\"'\"&$S18&\"'!R\"&$T18&\"C\"&COLUMN(),FALSE)","v":11184.029613960869},{"$f":"INDIRECT(\"'\"&$S18&\"'!R\"&$T18&\"C\"&COLUMN(),FALSE)","v":"Validated PW 2020"},{"$f":"INDIRECT(\"'\"&$S18&\"'!R\"&$T18&\"C\"&COLUMN(),FALSE)","v":12500},{"$f":"INDIRECT(\"'\"&$S18&\"'!R\"&$T18&\"C\"&COLUMN(),FALSE)","v":0.36990000000000001},{"$f":"INDIRECT(\"'\"&$S18&\"'!R\"&$T18&\"C\"&COLUMN(),FALSE)","v":"Cobham/L3/Collins"},{"$f":"INDIRECT(\"'\"&$S18&\"'!R\"&$T18&\"C\"&COLUMN(),FALSE)","v":2},{"$f":"INDIRECT(\"'\"&$S18&\"'!R\"&$T18&\"C\"&COLUMN(),FALSE)","v":"E"},{"$f":"INDIRECT(\"'\"&$S18&\"'!R\"&$T18&\"C\"&COLUMN(),FALSE)","v":"ADF system"},{"$f":"INDIRECT(\"'\"&$S18&\"'!R\"&$T18&\"C\"&COLUMN(),FALSE)","v":0},{"$f":"INDIRECT(\"'\"&$S18&\"'!R\"&$T18&\"C\"&COLUMN(),FALSE)","v":13699},null,"633",14,"13699#E","Narrow Body",18]
[{"$f":"INDIRECT(\"'\"&$S19&\"'!R\"&$T19&\"C\"&COLUMN(),FALSE)","v":"633#725"},{"$f":"INDIRECT(\"'\"&$S19&\"'!R\"&$T19&\"C\"&COLUMN(),FALSE)","v":12412},{"$f":"INDIRECT(\"'\"&$S19&\"'!R\"&$T19&\"C\"&COLUMN(),FALSE)","v":6000},{"$f":"INDIRECT(\"'\"&$S19&\"'!R\"&$T19&\"C\"&COLUMN(),FALSE)","v":13881.61755684823},{"$f":"INDIRECT(\"'\"&$S19&\"'!R\"&$T19&\"C\"&COLUMN(),FALSE)","v":6710.4177683765211},{"$f":"INDIRECT(\"'\"&$S19&\"'!R\"&$T19&\"C\"&COLUMN(),FALSE)","v":"PW Low"},{"$f":"INDIRECT(\"'\"&$S19&\"'!R\"&$T19&\"C\"&COLUMN(),FALSE)","v":15000},{"$f":"INDIRECT(\"'\"&$S19&\"'!R\"&$T19&\"C\"&COLUMN(),FALSE)","v":1.0686666666666667},{"$f":"INDIRECT(\"'\"&$S19&\"'!R\"&$T19&\"C\"&COLUMN(),FALSE)","v":"Collins"},{"$f":"INDIRECT(\"'\"&$S19&\"'!R\"&$T19&\"C\"&COLUMN(),FALSE)","v":2},{"$f":"INDIRECT(\"'\"&$S19&\"'!R\"&$T19&\"C\"&COLUMN(),FALSE)","v":"D"},{"$f":"INDIRECT(\"'\"&$S19&\"'!R\"&$T19&\"C\"&COLUMN(),FALSE)","v":"DME receivers"},{"$f":"INDIRECT(\"'\"&$S19&\"'!R\"&$T19&\"C\"&COLUMN(),FALSE)","v":0},{"$f":"INDIRECT(\"'\"&$S19&\"'!R\"&$T19&\"C\"&COLUMN(),FALSE)","v":12412},null,"633",15,"12412#D","Narrow Body",19]
[{"$f":"INDIRECT(\"'\"&$S20&\"'!R\"&$T20&\"C\"&COLUMN(),FALSE)","v":"633#726"},{"$f":"INDIRECT(\"'\"&$S20&\"'!R\"&$T20&\"C\"&COLUMN(),FALSE)","v":45546},{"$f":"INDIRECT(\"'\"&$S20&\"'!R\"&$T20&\"C\"&COLUMN(),FALSE)","v":45000},{"$f":"INDIRECT(\"'\"&$S20&\"'!R\"&$T20&\"C\"&COLUMN(),FALSE)","v":50938.781279746174},{"$f":"INDIRECT(\"'\"&$S20&\"'!R\"&$T20&\"C\"&COLUMN(),FALSE)","v":50328.133262823911},{"$f":"INDIRECT(\"'\"&$S20&\"'!R\"&$T20&\"C\"&COLUMN(),FALSE)","v":"Validated PW 2020"},{"$f":"INDIRECT(\"'\"&$S20&\"'!R\"&$T20&\"C\"&COLUMN(),FALSE)","v":50100},{"$f":"INDIRECT(\"'\"&$S20&\"'!R\"&$T20&\"C\"&COLUMN(),FALSE)","v":1.2133333333333333E-2},{"$f":"INDIRECT(\"'\"&$S20&\"'!R\"&$T20&\"C\"&COLUMN(),FALSE)","v":"Thales/Diehl"},{"$f":"INDIRECT(\"'\"&$S20&\"'!R\"&$T20&\"C\"&COLUMN(),FALSE)","v":2},{"$f":"INDIRECT(\"'\"&$S20&\"'!R\"&$T20&\"C\"&COLUMN(),FALSE)","v":"C"},{"$f":"INDIRECT(\"'\"&$S20&\"'!R\"&$T20&\"C\"&COLUMN(),FALSE)","v":"Primary Flight Display (EFIS)"},{"$f":"INDIRECT(\"'\"&$S20&\"'!R\"&$T20&\"C\"&COLUMN(),FALSE)","v":0},{"$f":"INDIRECT(\"'\"&$S20&\"'!R\"&$T20&\"C\"&COLUMN(),FALSE)","v":45546},null,"633",16,"45546#C","Narrow Body",20]
[{"$f":"INDIRECT(\"'\"&$S21&\"'!R\"&$T21&\"C\"&COLUMN(),FALSE)","v":"633#727"},{"$f":"INDIRECT(\"'\"&$S21&\"'!R\"&$T21&\"C\"&COLUMN(),FALSE)","v":45546},{"$f":"INDIRECT(\"'\"&$S21&\"'!R\"&$T21&\"C\"&COLUMN(),FALSE)","v":45000},{"$f":"INDIRECT(\"'\"&$S21&\"'!R\"&$T21&\"C\"&COLUMN(),FALSE)","v":50938.781279746174},{"$f":"INDIRECT(\"'\"&$S21&\"'!R\"&$T21&\"C\"&COLUMN(),FALSE)","v":50328.133262823911},{"$f":"INDIRECT(\"'\"&$S21&\"'!R\"&$T21&\"C\"&COLUMN(),FALSE)","v":"Validated PW 2020"},{"$f":"INDIRECT(\"'\"&$S21&\"'!R\"&$T21&\"C\"&COLUMN(),FALSE)","v":50100},{"$f":"INDIRECT(\"'\"&$S21&\"'!R\"&$T21&\"C\"&COLUMN(),FALSE)","v":1.2133333333333333E-2},{"$f":"INDIRECT(\"'\"&$S21&\"'!R\"&$T21&\"C\"&COLUMN(),FALSE)","v":"Thales/Diehl"},{"$f":"INDIRECT(\"'\"&$S21&\"'!R\"&$T21&\"C\"&COLUMN(),FALSE)","v":2},{"$f":"INDIRECT(\"'\"&$S21&\"'!R\"&$T21&\"C\"&COLUMN(),FALSE)","v":"I"},{"$f":"INDIRECT(\"'\"&$S21&\"'!R\"&$T21&\"C\"&COLUMN(),FALSE)","v":"Navigation display (EFIS)"},{"$f":"INDIRECT(\"'\"&$S21&\"'!R\"&$T21&\"C\"&COLUMN(),FALSE)","v":0},{"$f":"INDIRECT(\"'\"&$S21&\"'!R\"&$T21&\"C\"&COLUMN(),FALSE)","v":45546},null,"633",17,"45546#I","Narrow Body",21]
[{"$f":"INDIRECT(\"'\"&$S22&\"'!R\"&$T22&\"C\"&COLUMN(),FALSE)","v":"633#728"},{"$f":"INDIRECT(\"'\"&$S22&\"'!R\"&$T22&\"C\"&COLUMN(),FALSE)","v":8097},{"$f":"INDIRECT(\"'\"&$S22&\"'!R\"&$T22&\"C\"&COLUMN(),FALSE)","v":8000},{"$f":"INDIRECT(\"'\"&$S22&\"'!R\"&$T22&\"C\"&COLUMN(),FALSE)","v":9055.7087784241157},{"$f":"INDIRECT(\"'\"&$S22&\"'!R\"&$T22&\"C\"&COLUMN(),FALSE)","v":8947.2236911686941},{"$f":"INDIRECT(\"'\"&$S22&\"'!R\"&$T22&\"C\"&COLUMN(),FALSE)","v":"Validated PW 2020"},{"$f":"INDIRECT(\"'\"&$S22&\"'!R\"&$T22&\"C\"&COLUMN(),FALSE)","v":9500},{"$f":"INDIRECT(\"'\"&$S22&\"'!R\"&$T22&\"C\"&COLUMN(),FALSE)","v":1.2125E-2},{"$f":"INDIRECT(\"'\"&$S22&\"'!R\"&$T22&\"C\"&COLUMN(),FALSE)","v":0},{"$f":"INDIRECT(\"'\"&$S22&\"'!R\"&$T22&\"C\"&COLUMN(),FALSE)","v":2},{"$f":"INDIRECT(\"'\"&$S22&\"'!R\"&$T22&\"C\"&COLUMN(),FALSE)","v":"C"},{"$f":"INDIRECT(\"'\"&$S22&\"'!R\"&$T22&\"C\"&COLUMN(),FALSE)","v":"EFIS Control panel"},{"$f":"INDIRECT(\"'\"&$S22&\"'!R\"&$T22&\"C\"&COLUMN(),FALSE)","v":0},{"$f":"INDIRECT(\"'\"&$S22&\"'!R\"&$T22&\"C\"&COLUMN(),FALSE)","v":8097},null,"633",18,"8097#C","Narrow Body",22]
[{"$f":"INDIRECT(\"'\"&$S23&\"'!R\"&$T23&\"C\"&COLUMN(),FALSE)","v":"633#729"},{"$f":"INDIRECT(\"'\"&$S23&\"'!R\"&$T23&\"C\"&COLUMN(),FALSE)","v":30364},{"$f":"INDIRECT(\"'\"&$S23&\"'!R\"&$T23&\"C\"&COLUMN(),FALSE)","v":30000},{"$f":"INDIRECT(\"'\"&$S23&\"'!R\"&$T23&\"C\"&COLUMN(),FALSE)","v":33959.187519830783},{"$f":"INDIRECT(\"'\"&$S23&\"'!R\"&$T23&\"C\"&COLUMN(),FALSE)","v":33552.088841882607},{"$f":"INDIRECT(\"'\"&$S23&\"'!R\"&$T23&\"C\"&COLUMN(),FALSE)","v":"Low"},{"$f":"INDIRECT(\"'\"&$S23&\"'!R\"&$T23&\"C\"&COLUMN(),FALSE)","v":60000},{"$f":"INDIRECT(\"'\"&$S23&\"'!R\"&$T23&\"C\"&COLUMN(),FALSE)","v":1.2133333333333333E-2},{"$f":"INDIRECT(\"'\"&$S23&\"'!R\"&$T23&\"C\"&COLUMN(),FALSE)","v":"Thales/Diehl"},{"$f":"INDIRECT(\"'\"&$S23&\"'!R\"&$T23&\"C\"&COLUMN(),FALSE)","v":2},{"$f":"INDIRECT(\"'\"&$S23&\"'!R\"&$T23&\"C\"&COLUMN(),FALSE)","v":"C"},{"$f":"INDIRECT(\"'\"&$S23&\"'!R\"&$T23&\"C\"&COLUMN(),FALSE)","v":"ECAM display"},{"$f":"INDIRECT(\"'\"&$S23&\"'!R\"&$T23&\"C\"&COLUMN(),FALSE)","v":0},{"$f":"INDIRECT(\"'\"&$S23&\"'!R\"&$T23&\"C\"&COLUMN(),FALSE)","v":30364},null,"633",19,"30364#C","Narrow Body",23]
[{"$f":"INDIRECT(\"'\"&$S24&\"'!R\"&$T24&\"C\"&COLUMN(),FALSE)","v":"633#730"},{"$f":"INDIRECT(\"'\"&$S24&\"'!R\"&$T24&\"C\"&COLUMN(),FALSE)","v":75910},{"$f":"INDIRECT(\"'\"&$S24&\"'!R\"&$T24&\"C\"&COLUMN(),FALSE)","v":75000},{"$f":"INDIRECT(\"'\"&$S24&\"'!R\"&$T24&\"C\"&COLUMN(),FALSE)","v":84897.968799576949},{"$f":"INDIRECT(\"'\"&$S24&\"'!R\"&$T24&\"C\"&COLUMN(),FALSE)","v":83880.22210470651},{"$f":"INDIRECT(\"'\"&$S24&\"'!R\"&$T24&\"C\"&COLUMN(),FALSE)","v":"Validated PW 2020"},{"$f":"INDIRECT(\"'\"&$S24&\"'!R\"&$T24&\"C\"&COLUMN(),FALSE)","v":85000},{"$f":"INDIRECT(\"'\"&$S24&\"'!R\"&$T24&\"C\"&COLUMN(),FALSE)","v":1.2133333333333333E-2},{"$f":"INDIRECT(\"'\"&$S24&\"'!R\"&$T24&\"C\"&COLUMN(),FALSE)","v":"Optional"},{"$f":"INDIRECT(\"'\"&$S24&\"'!R\"&$T24&\"C\"&COLUMN(),FALSE)","v":1},{"$f":"INDIRECT(\"'\"&$S24&\"'!R\"&$T24&\"C\"&COLUMN(),FALSE)","v":"E"},{"$f":"INDIRECT(\"'\"&$S24&\"'!R\"&$T24&\"C\"&COLUMN(),FALSE)","v":"HUD display system"},{"$f":"INDIRECT(\"'\"&$S24&\"'!R\"&$T24&\"C\"&COLUMN(),FALSE)","v":0},{"$f":"INDIRECT(\"'\"&$S24&\"'!R\"&$T24&\"C\"&COLUMN(),FALSE)","v":75910},null,"633",20,"75910#E","Narrow Body",24]
[{"$f":"INDIRECT(\"'\"&$S25&\"'!R\"&$T25&\"C\"&COLUMN(),FALSE)","v":"633#731"},{"$f":"INDIRECT(\"'\"&$S25&\"'!R\"&$T25&\"C\"&COLUMN(),FALSE)","v":7085},{"$f":"INDIRECT(\"'\"&$S25&\"'!R\"&$T25&\"C\"&COLUMN(),FALSE)","v":7000},{"$f":"INDIRECT(\"'\"&$S25&\"'!R\"&$T25&\"C\"&COLUMN(),FALSE)","v":7923.8849814912755},{"$f":"INDIRECT(\"'\"&$S25&\"'!R\"&$T25&\"C\"&COLUMN(),FALSE)","v":7828.8207297726076},{"$f":"INDIRECT(\"'\"&$S25&\"'!R\"&$T25&\"C\"&COLUMN(),FALSE)","v":"Validated PW 2020"},{"$f":"INDIRECT(\"'\"&$S25&\"'!R\"&$T25&\"C\"&COLUMN(),FALSE)","v":8000},{"$f":"INDIRECT(\"'\"&$S25&\"'!R\"&$T25&\"C\"&COLUMN(),FALSE)","v":1.2142857142857143E-2},{"$f":"INDIRECT(\"'\"&$S25&\"'!R\"&$T25&\"C\"&COLUMN(),FALSE)","v":0},{"$f":"INDIRECT(\"'\"&$S25&\"'!R\"&$T25&\"C\"&COLUMN(),FALSE)","v":2},{"$f":"INDIRECT(\"'\"&$S25&\"'!R\"&$T25&\"C\"&COLUMN(),FALSE)","v":"C"},{"$f":"INDIRECT(\"'\"&$S25&\"'!R\"&$T25&\"C\"&COLUMN(),FALSE)","v":"ECAM Control panel"},{"$f":"INDIRECT(\"'\"&$S25&\"'!R\"&$T25&\"C\"&COLUMN(),FALSE)","v":0},{"$f":"INDIRECT(\"'\"&$S25&\"'!R\"&$T25&\"C\"&COLUMN(),FALSE)","v":7085},null,"633",21,"7085#C","Narrow Body",25]
[{"$f":"INDIRECT(\"'\"&$S26&\"'!R\"&$T26&\"C\"&COLUMN(),FALSE)","v":"633#732"},{"$f":"INDIRECT(\"'\"&$S26&\"'!R\"&$T26&\"C\"&COLUMN(),FALSE)","v":15182},{"$f":"INDIRECT(\"'\"&$S26&\"'!R\"&$T26&\"C\"&COLUMN(),FALSE)","v":15000},{"$f":"INDIRECT(\"'\"&$S26&\"'!R\"&$T26&\"C\"&COLUMN(),FALSE)","v":16979.593759915391},{"$f":"INDIRECT(\"'\"&$S26&\"'!R\"&$T26&\"C\"&COLUMN(),FALSE)","v":16776.044420941304},{"$f":"INDIRECT(\"'\"&$S26&\"'!R\"&$T26&\"C\"&COLUMN(),FALSE)","v":"Validated PW 2020"},{"$f":"INDIRECT(\"'\"&$S26&\"'!R\"&$T26&\"C\"&COLUMN(),FALSE)","v":17000},{"$f":"INDIRECT(\"'\"&$S26&\"'!R\"&$T26&\"C\"&COLUMN(),FALSE)","v":1.2133333333333333E-2},{"$f":"INDIRECT(\"'\"&$S26&\"'!R\"&$T26&\"C\"&COLUMN(),FALSE)","v":"Thales/Diehl"},{"$f":"INDIRECT(\"'\"&$S26&\"'!R\"&$T26&\"C\"&COLUMN(),FALSE)","v":2},{"$f":"INDIRECT(\"'\"&$S26&\"'!R\"&$T26&\"C\"&COLUMN(),FALSE)","v":"C"},{"$f":"INDIRECT(\"'\"&$S26&\"'!R\"&$T26&\"C\"&COLUMN(),FALSE)","v":"System Data Acquisition Concentrator (SDAC)"},{"$f":"INDIRECT(\"'\"&$S26&\"'!R\"&$T26&\"C\"&COLUMN(),FALSE)","v":0},{"$f":"INDIRECT(\"'\"&$S26&\"'!R\"&$T26&\"C\"&COLUMN(),FALSE)","v":15182},null,"633",22,"15182#C","Narrow Body",26]
[{"$f":"INDIRECT(\"'\"&$S27&\"'!R\"&$T27&\"C\"&COLUMN(),FALSE)","v":"633#733"},{"$f":"INDIRECT(\"'\"&$S27&\"'!R\"&$T27&\"C\"&COLUMN(),FALSE)","v":30364},{"$f":"INDIRECT(\"'\"&$S27&\"'!R\"&$T27&\"C\"&COLUMN(),FALSE)","v":30000},{"$f":"INDIRECT(\"'\"&$S27&\"'!R\"&$T27&\"C\"&COLUMN(),FALSE)","v":33959.187519830783},{"$f":"INDIRECT(\"'\"&$S27&\"'!R\"&$T27&\"C\"&COLUMN(),FALSE)","v":33552.088841882607},{"$f":"INDIRECT(\"'\"&$S27&\"'!R\"&$T27&\"C\"&COLUMN(),FALSE)","v":"Validated PW 2020"},{"$f":"INDIRECT(\"'\"&$S27&\"'!R\"&$T27&\"C\"&COLUMN(),FALSE)","v":34000},{"$f":"INDIRECT(\"'\"&$S27&\"'!R\"&$T27&\"C\"&COLUMN(),FALSE)","v":1.2133333333333333E-2},{"$f":"INDIRECT(\"'\"&$S27&\"'!R\"&$T27&\"C\"&COLUMN(),FALSE)","v":"Thales/Diehl"},{"$f":"INDIRECT(\"'\"&$S27&\"'!R\"&$T27&\"C\"&COLUMN(),FALSE)","v":3},{"$f":"INDIRECT(\"'\"&$S27&\"'!R\"&$T27&\"C\"&COLUMN(),FALSE)","v":"F"},{"$f":"INDIRECT(\"'\"&$S27&\"'!R\"&$T27&\"C\"&COLUMN(),FALSE)","v":"Display Management Computer (DMC/EFIS)"},{"$f":"INDIRECT(\"'\"&$S27&\"'!R\"&$T27&\"C\"&COLUMN(),FALSE)","v":"Display Management Computer (EFIS)"},{"$f":"INDIRECT(\"'\"&$S27&\"'!R\"&$T27&\"C\"&COLUMN(),FALSE)","v":30364},null,"633",23,"30364#F","Narrow Body",27]
[{"$f":"INDIRECT(\"'\"&$S28&\"'!R\"&$T28&\"C\"&COLUMN(),FALSE)","v":"633#734"},{"$f":"INDIRECT(\"'\"&$S28&\"'!R\"&$T28&\"C\"&COLUMN(),FALSE)","v":8097},{"$f":"INDIRECT(\"'\"&$S28&\"'!R\"&$T28&\"C\"&COLUMN(),FALSE)","v":8000},{"$f":"INDIRECT(\"'\"&$S28&\"'!R\"&$T28&\"C\"&COLUMN(),FALSE)","v":9055.7087784241157},{"$f":"INDIRECT(\"'\"&$S28&\"'!R\"&$T28&\"C\"&COLUMN(),FALSE)","v":8947.2236911686941},{"$f":"INDIRECT(\"'\"&$S28&\"'!R\"&$T28&\"C\"&COLUMN(),FALSE)","v":"Validated PW 2020"},{"$f":"INDIRECT(\"'\"&$S28&\"'!R\"&$T28&\"C\"&COLUMN(),FALSE)","v":9500},{"$f":"INDIRECT(\"'\"&$S28&\"'!R\"&$T28&\"C\"&COLUMN(),FALSE)","v":1.2125E-2},{"$f":"INDIRECT(\"'\"&$S28&\"'!R\"&$T28&\"C\"&COLUMN(),FALSE)","v":"Thales/Diehl"},{"$f":"INDIRECT(\"'\"&$S28&\"'!R\"&$T28&\"C\"&COLUMN(),FALSE)","v":1},{"$f":"INDIRECT(\"'\"&$S28&\"'!R\"&$T28&\"C\"&COLUMN(),FALSE)","v":"C"},{"$f":"INDIRECT(\"'\"&$S28&\"'!R\"&$T28&\"C\"&COLUMN(),FALSE)","v":"Compass"},{"$f":"INDIRECT(\"'\"&$S28&\"'!R\"&$T28&\"C\"&COLUMN(),FALSE)","v":0},{"$f":"INDIRECT(\"'\"&$S28&\"'!R\"&$T28&\"C\"&COLUMN(),FALSE)","v":8097},null,"633",24,"8097#C","Narrow Body",28]
[{"$f":"INDIRECT(\"'\"&$S29&\"'!R\"&$T29&\"C\"&COLUMN(),FALSE)","v":"633#735"},{"$f":"INDIRECT(\"'\"&$S29&\"'!R\"&$T29&\"C\"&COLUMN(),FALSE)","v":28340},{"$f":"INDIRECT(\"'\"&$S29&\"'!R\"&$T29&\"C\"&COLUMN(),FALSE)","v":28000},{"$f":"INDIRECT(\"'\"&$S29&\"'!R\"&$T29&\"C\"&COLUMN(),FALSE)","v":31695.539925965102},{"$f":"INDIRECT(\"'\"&$S29&\"'!R\"&$T29&\"C\"&COLUMN(),FALSE)","v":31315.28291909043},{"$f":"INDIRECT(\"'\"&$S29&\"'!R\"&$T29&\"C\"&COLUMN(),FALSE)","v":"Validated PW 2020"},{"$f":"INDIRECT(\"'\"&$S29&\"'!R\"&$T29&\"C\"&COLUMN(),FALSE)","v":32500},{"$f":"INDIRECT(\"'\"&$S29&\"'!R\"&$T29&\"C\"&COLUMN(),FALSE)","v":1.2142857142857143E-2},{"$f":"INDIRECT(\"'\"&$S29&\"'!R\"&$T29&\"C\"&COLUMN(),FALSE)","v":"Thales"},{"$f":"INDIRECT(\"'\"&$S29&\"'!R\"&$T29&\"C\"&COLUMN(),FALSE)","v":1},{"$f":"INDIRECT(\"'\"&$S29&\"'!R\"&$T29&\"C\"&COLUMN(),FALSE)","v":"D"},{"$f":"INDIRECT(\"'\"&$S29&\"'!R\"&$T29&\"C\"&COLUMN(),FALSE)","v":"Integrated Standby Instrument System"},{"$f":"INDIRECT(\"'\"&$S29&\"'!R\"&$T29&\"C\"&COLUMN(),FALSE)","v":0},{"$f":"INDIRECT(\"'\"&$S29&\"'!R\"&$T29&\"C\"&COLUMN(),FALSE)","v":28340},null,"633",25,"28340#D","Narrow Body",29]
[{"$f":"INDIRECT(\"'\"&$S30&\"'!R\"&$T30&\"C\"&COLUMN(),FALSE)","v":"633#736"},{"$f":"INDIRECT(\"'\"&$S30&\"'!R\"&$T30&\"C\"&COLUMN(),FALSE)","v":12145},{"$f":"INDIRECT(\"'\"&$S30&\"'!R\"&$T30&\"C\"&COLUMN(),FALSE)","v":12000},{"$f":"INDIRECT(\"'\"&$S30&\"'!R\"&$T30&\"C\"&COLUMN(),FALSE)","v":13583.003966155475},{"$f":"INDIRECT(\"'\"&$S30&\"'!R\"&$T30&\"C\"&COLUMN(),FALSE)","v":13420.835536753042},{"$f":"INDIRECT(\"'\"&$S30&\"'!R\"&$T30&\"C\"&COLUMN(),FALSE)","v":"Validated PW 2020"},{"$f":"INDIRECT(\"'\"&$S30&\"'!R\"&$T30&\"C\"&COLUMN(),FALSE)","v":14000},{"$f":"INDIRECT(\"'\"&$S30&\"'!R\"&$T30&\"C\"&COLUMN(),FALSE)","v":1.2083333333333333E-2},{"$f":"INDIRECT(\"'\"&$S30&\"'!R\"&$T30&\"C\"&COLUMN(),FALSE)","v":0},{"$f":"INDIRECT(\"'\"&$S30&\"'!R\"&$T30&\"C\"&COLUMN(),FALSE)","v":1},{"$f":"INDIRECT(\"'\"&$S30&\"'!R\"&$T30&\"C\"&COLUMN(),FALSE)","v":"C"},{"$f":"INDIRECT(\"'\"&$S30&\"'!R\"&$T30&\"C\"&COLUMN(),FALSE)","v":"DDRMI display"},{"$f":"INDIRECT(\"'\"&$S30&\"'!R\"&$T30&\"C\"&COLUMN(),FALSE)","v":0},{"$f":"INDIRECT(\"'\"&$S30&\"'!R\"&$T30&\"C\"&COLUMN(),FALSE)","v":12145},null,"633",26,"12145#C","Narrow Body",30]
[{"$f":"INDIRECT(\"'\"&$S31&\"'!R\"&$T31&\"C\"&COLUMN(),FALSE)","v":"633#737"},{"$f":"INDIRECT(\"'\"&$S31&\"'!R\"&$T31&\"C\"&COLUMN(),FALSE)","v":8097},{"$f":"INDIRECT(\"'\"&$S31&\"'!R\"&$T31&\"C\"&COLUMN(),FALSE)","v":8000},{"$f":"INDIRECT(\"'\"&$S31&\"'!R\"&$T31&\"C\"&COLUMN(),FALSE)","v":9055.7087784241157},{"$f":"INDIRECT(\"'\"&$S31&\"'!R\"&$T31&\"C\"&COLUMN(),FALSE)","v":8947.2236911686941},{"$f":"INDIRECT(\"'\"&$S31&\"'!R\"&$T31&\"C\"&COLUMN(),FALSE)","v":"2 units"},{"$f":"INDIRECT(\"'\"&$S31&\"'!R\"&$T31&\"C\"&COLUMN(),FALSE)","v":9000},{"$f":"INDIRECT(\"'\"&$S31&\"'!R\"&$T31&\"C\"&COLUMN(),FALSE)","v":1.2125E-2},{"$f":"INDIRECT(\"'\"&$S31&\"'!R\"&$T31&\"C\"&COLUMN(),FALSE)","v":0},{"$f":"INDIRECT(\"'\"&$S31&\"'!R\"&$T31&\"C\"&COLUMN(),FALSE)","v":2},{"$f":"INDIRECT(\"'\"&$S31&\"'!R\"&$T31&\"C\"&COLUMN(),FALSE)","v":"C"},{"$f":"INDIRECT(\"'\"&$S31&\"'!R\"&$T31&\"C\"&COLUMN(),FALSE)","v":"Clock"},{"$f":"INDIRECT(\"'\"&$S31&\"'!R\"&$T31&\"C\"&COLUMN(),FALSE)","v":0},{"$f":"INDIRECT(\"'\"&$S31&\"'!R\"&$T31&\"C\"&COLUMN(),FALSE)","v":8097},null,"633",27,"8097#C","Narrow Body",31]
[{"$f":"INDIRECT(\"'\"&$S32&\"'!R\"&$T32&\"C\"&COLUMN(),FALSE)","v":"633#738"},{"$f":"INDIRECT(\"'\"&$S32&\"'!R\"&$T32&\"C\"&COLUMN(),FALSE)","v":11741},{"$f":"INDIRECT(\"'\"&$S32&\"'!R\"&$T32&\"C\"&COLUMN(),FALSE)","v":6000},{"$f":"INDIRECT(\"'\"&$S32&\"'!R\"&$T32&\"C\"&COLUMN(),FALSE)","v":13131.169169751456},{"$f":"INDIRECT(\"'\"&$S32&\"'!R\"&$T32&\"C\"&COLUMN(),FALSE)","v":6710.4177683765211},{"$f":"INDIRECT(\"'\"&$S32&\"'!R\"&$T32&\"C\"&COLUMN(),FALSE)","v":"Low"},{"$f":"INDIRECT(\"'\"&$S32&\"'!R\"&$T32&\"C\"&COLUMN(),FALSE)","v":12000},{"$f":"INDIRECT(\"'\"&$S32&\"'!R\"&$T32&\"C\"&COLUMN(),FALSE)","v":0.95683333333333331},{"$f":"INDIRECT(\"'\"&$S32&\"'!R\"&$T32&\"C\"&COLUMN(),FALSE)","v":"Cobham/L3/Collins"},{"$f":"INDIRECT(\"'\"&$S32&\"'!R\"&$T32&\"C\"&COLUMN(),FALSE)","v":2},{"$f":"INDIRECT(\"'\"&$S32&\"'!R\"&$T32&\"C\"&COLUMN(),FALSE)","v":"D"},{"$f":"INDIRECT(\"'\"&$S32&\"'!R\"&$T32&\"C\"&COLUMN(),FALSE)","v":"Comms Receivers VH (transceiver/antenna)"},{"$f":"INDIRECT(\"'\"&$S32&\"'!R\"&$T32&\"C\"&COLUMN(),FALSE)","v":0},{"$f":"INDIRECT(\"'\"&$S32&\"'!R\"&$T32&\"C\"&COLUMN(),FALSE)","v":11741},null,"633",28,"11741#D","Narrow Body",32]
[{"$f":"INDIRECT(\"'\"&$S33&\"'!R\"&$T33&\"C\"&COLUMN(),FALSE)","v":"633#739"},{"$f":"INDIRECT(\"'\"&$S33&\"'!R\"&$T33&\"C\"&COLUMN(),FALSE)","v":11741},{"$f":"INDIRECT(\"'\"&$S33&\"'!R\"&$T33&\"C\"&COLUMN(),FALSE)","v":6000},{"$f":"INDIRECT(\"'\"&$S33&\"'!R\"&$T33&\"C\"&COLUMN(),FALSE)","v":13131.169169751456},{"$f":"INDIRECT(\"'\"&$S33&\"'!R\"&$T33&\"C\"&COLUMN(),FALSE)","v":6710.4177683765211},{"$f":"INDIRECT(\"'\"&$S33&\"'!R\"&$T33&\"C\"&COLUMN(),FALSE)","v":"Low"},{"$f":"INDIRECT(\"'\"&$S33&\"'!R\"&$T33&\"C\"&COLUMN(),FALSE)","v":12000},{"$f":"INDIRECT(\"'\"&$S33&\"'!R\"&$T33&\"C\"&COLUMN(),FALSE)","v":0.95683333333333331},{"$f":"INDIRECT(\"'\"&$S33&\"'!R\"&$T33&\"C\"&COLUMN(),FALSE)","v":"Cobham/L3/Collins"},{"$f":"INDIRECT(\"'\"&$S33&\"'!R\"&$T33&\"C\"&COLUMN(),FALSE)","v":2},{"$f":"INDIRECT(\"'\"&$S33&\"'!R\"&$T33&\"C\"&COLUMN(),FALSE)","v":"D"},{"$f":"INDIRECT(\"'\"&$S33&\"'!R\"&$T33&\"C\"&COLUMN(),FALSE)","v":"Comms Receivers UF (transceiver/antenna)"},{"$f":"INDIRECT(\"'\"&$S33&\"'!R\"&$T33&\"C\"&COLUMN(),FALSE)","v":0},{"$f":"INDIRECT(\"'\"&$S33&\"'!R\"&$T33&\"C\"&COLUMN(),FALSE)","v":11741},null,"633",29,"11741#D","Narrow Body",33]
[{"$f":"INDIRECT(\"'\"&$S34&\"'!R\"&$T34&\"C\"&COLUMN(),FALSE)","v":"633#740"},{"$f":"INDIRECT(\"'\"&$S34&\"'!R\"&$T34&\"C\"&COLUMN(),FALSE)","v":9784},{"$f":"INDIRECT(\"'\"&$S34&\"'!R\"&$T34&\"C\"&COLUMN(),FALSE)","v":6000},{"$f":"INDIRECT(\"'\"&$S34&\"'!R\"&$T34&\"C\"&COLUMN(),FALSE)","v":10942.454574299314},{"$f":"INDIRECT(\"'\"&$S34&\"'!R\"&$T34&\"C\"&COLUMN(),FALSE)","v":6710.4177683765211},{"$f":"INDIRECT(\"'\"&$S34&\"'!R\"&$T34&\"C\"&COLUMN(),FALSE)","v":"Low"},{"$f":"INDIRECT(\"'\"&$S34&\"'!R\"&$T34&\"C\"&COLUMN(),FALSE)","v":10000},{"$f":"INDIRECT(\"'\"&$S34&\"'!R\"&$T34&\"C\"&COLUMN(),FALSE)","v":0.63066666666666671},{"$f":"INDIRECT(\"'\"&$S34&\"'!R\"&$T34&\"C\"&COLUMN(),FALSE)","v":"Cobham/L3/Collins"},{"$f":"INDIRECT(\"'\"&$S34&\"'!R\"&$T34&\"C\"&COLUMN(),FALSE)","v":1},{"$f":"INDIRECT(\"'\"&$S34&\"'!R\"&$T34&\"C\"&COLUMN(),FALSE)","v":"D"},{"$f":"INDIRECT(\"'\"&$S34&\"'!R\"&$T34&\"C\"&COLUMN(),FALSE)","v":"Audio Management Unit"},{"$f":"INDIRECT(\"'\"&$S34&\"'!R\"&$T34&\"C\"&COLUMN(),FALSE)","v":0},{"$f":"INDIRECT(\"'\"&$S34&\"'!R\"&$T34&\"C\"&COLUMN(),FALSE)","v":9784},null,"633",30,"9784#D","Narrow Body",34]
[{"$f":"INDIRECT(\"'\"&$S35&\"'!R\"&$T35&\"C\"&COLUMN(),FALSE)","v":"633#741"},{"$f":"INDIRECT(\"'\"&$S35&\"'!R\"&$T35&\"C\"&COLUMN(),FALSE)","v":5871},{"$f":"INDIRECT(\"'\"&$S35&\"'!R\"&$T35&\"C\"&COLUMN(),FALSE)","v":{"$error":"#N/A"}},{"$f":"INDIRECT(\"'\"&$S35&\"'!R\"&$T35&\"C\"&COLUMN(),FALSE)","v":6566.1437863564261},{"$f":"INDIRECT(\"'\"&$S35&\"'!R\"&$T35&\"C\"&COLUMN(),FALSE)","v":0},{"$f":"INDIRECT(\"'\"&$S35&\"'!R\"&$T35&\"C\"&COLUMN(),FALSE)","v":"3 units"},{"$f":"INDIRECT(\"'\"&$S35&\"'!R\"&$T35&\"C\"&COLUMN(),FALSE)","v":10000},{"$f":"INDIRECT(\"'\"&$S35&\"'!R\"&$T35&\"C\"&COLUMN(),FALSE)","v":{"$error":"#N/A"}},{"$f":"INDIRECT(\"'\"&$S35&\"'!R\"&$T35&\"C\"&COLUMN(),FALSE)","v":{"$error":"#N/A"}},{"$f":"INDIRECT(\"'\"&$S35&\"'!R\"&$T35&\"C\"&COLUMN(),FALSE)","v":3},{"$f":"INDIRECT(\"'\"&$S35&\"'!R\"&$T35&\"C\"&COLUMN(),FALSE)","v":"D"},{"$f":"INDIRECT(\"'\"&$S35&\"'!R\"&$T35&\"C\"&COLUMN(),FALSE)","v":"Radio management system"},{"$f":"INDIRECT(\"'\"&$S35&\"'!R\"&$T35&\"C\"&COLUMN(),FALSE)","v":0},{"$f":"INDIRECT(\"'\"&$S35&\"'!R\"&$T35&\"C\"&COLUMN(),FALSE)","v":5871},null,"633",31,"5871#D","Narrow Body",35]
[{"$f":"INDIRECT(\"'\"&$S36&\"'!R\"&$T36&\"C\"&COLUMN(),FALSE)","v":"633#742"},{"$f":"INDIRECT(\"'\"&$S36&\"'!R\"&$T36&\"C\"&COLUMN(),FALSE)","v":5871},{"$f":"INDIRECT(\"'\"&$S36&\"'!R\"&$T36&\"C\"&COLUMN(),FALSE)","v":5000},{"$f":"INDIRECT(\"'\"&$S36&\"'!R\"&$T36&\"C\"&COLUMN(),FALSE)","v":6566.1437863564261},{"$f":"INDIRECT(\"'\"&$S36&\"'!R\"&$T36&\"C\"&COLUMN(),FALSE)","v":5592.0148069804345},{"$f":"INDIRECT(\"'\"&$S36&\"'!R\"&$T36&\"C\"&COLUMN(),FALSE)","v":"Low"},{"$f":"INDIRECT(\"'\"&$S36&\"'!R\"&$T36&\"C\"&COLUMN(),FALSE)","v":10000},{"$f":"INDIRECT(\"'\"&$S36&\"'!R\"&$T36&\"C\"&COLUMN(),FALSE)","v":0.17419999999999999},{"$f":"INDIRECT(\"'\"&$S36&\"'!R\"&$T36&\"C\"&COLUMN(),FALSE)","v":0},{"$f":"INDIRECT(\"'\"&$S36&\"'!R\"&$T36&\"C\"&COLUMN(),FALSE)","v":1},{"$f":"INDIRECT(\"'\"&$S36&\"'!R\"&$T36&\"C\"&COLUMN(),FALSE)","v":"C"},{"$f":"INDIRECT(\"'\"&$S36&\"'!R\"&$T36&\"C\"&COLUMN(),FALSE)","v":"Audio Control Panel"},{"$f":"INDIRECT(\"'\"&$S36&\"'!R\"&$T36&\"C\"&COLUMN(),FALSE)","v":0},{"$f":"INDIRECT(\"'\"&$S36&\"'!R\"&$T36&\"C\"&COLUMN(),FALSE)","v":5871},null,"633",32,"5871#C","Narrow Body",36]
[{"$f":"INDIRECT(\"'\"&$S37&\"'!R\"&$T37&\"C\"&COLUMN(),FALSE)","v":"633#743"},{"$f":"INDIRECT(\"'\"&$S37&\"'!R\"&$T37&\"C\"&COLUMN(),FALSE)","v":5871},{"$f":"INDIRECT(\"'\"&$S37&\"'!R\"&$T37&\"C\"&COLUMN(),FALSE)","v":5000},{"$f":"INDIRECT(\"'\"&$S37&\"'!R\"&$T37&\"C\"&COLUMN(),FALSE)","v":6566.1437863564261},{"$f":"INDIRECT(\"'\"&$S37&\"'!R\"&$T37&\"C\"&COLUMN(),FALSE)","v":5592.0148069804345},{"$f":"INDIRECT(\"'\"&$S37&\"'!R\"&$T37&\"C\"&COLUMN(),FALSE)","v":"Validated PW 2020"},{"$f":"INDIRECT(\"'\"&$S37&\"'!R\"&$T37&\"C\"&COLUMN(),FALSE)","v":7500},{"$f":"INDIRECT(\"'\"&$S37&\"'!R\"&$T37&\"C\"&COLUMN(),FALSE)","v":0.17419999999999999},{"$f":"INDIRECT(\"'\"&$S37&\"'!R\"&$T37&\"C\"&COLUMN(),FALSE)","v":0},{"$f":"INDIRECT(\"'\"&$S37&\"'!R\"&$T37&\"C\"&COLUMN(),FALSE)","v":1},{"$f":"INDIRECT(\"'\"&$S37&\"'!R\"&$T37&\"C\"&COLUMN(),FALSE)","v":"D"},{"$f":"INDIRECT(\"'\"&$S37&\"'!R\"&$T37&\"C\"&COLUMN(),FALSE)","v":"Radio Management Panel"},{"$f":"INDIRECT(\"'\"&$S37&\"'!R\"&$T37&\"C\"&COLUMN(),FALSE)","v":0},{"$f":"INDIRECT(\"'\"&$S37&\"'!R\"&$T37&\"C\"&COLUMN(),FALSE)","v":5871},null,"633",33,"5871#D","Narrow Body",37]
[{"$f":"INDIRECT(\"'\"&$S38&\"'!R\"&$T38&\"C\"&COLUMN(),FALSE)","v":"633#744"},{"$f":"INDIRECT(\"'\"&$S38&\"'!R\"&$T38&\"C\"&COLUMN(),FALSE)","v":30388},{"$f":"INDIRECT(\"'\"&$S38&\"'!R\"&$T38&\"C\"&COLUMN(),FALSE)","v":7000},{"$f":"INDIRECT(\"'\"&$S38&\"'!R\"&$T38&\"C\"&COLUMN(),FALSE)","v":33986.029190904286},{"$f":"INDIRECT(\"'\"&$S38&\"'!R\"&$T38&\"C\"&COLUMN(),FALSE)","v":7828.8207297726076},{"$f":"INDIRECT(\"'\"&$S38&\"'!R\"&$T38&\"C\"&COLUMN(),FALSE)","v":"Low"},{"$f":"INDIRECT(\"'\"&$S38&\"'!R\"&$T38&\"C\"&COLUMN(),FALSE)","v":35000},{"$f":"INDIRECT(\"'\"&$S38&\"'!R\"&$T38&\"C\"&COLUMN(),FALSE)","v":3.3411428571428572},{"$f":"INDIRECT(\"'\"&$S38&\"'!R\"&$T38&\"C\"&COLUMN(),FALSE)","v":"ACSS Thales with L3"},{"$f":"INDIRECT(\"'\"&$S38&\"'!R\"&$T38&\"C\"&COLUMN(),FALSE)","v":2},{"$f":"INDIRECT(\"'\"&$S38&\"'!R\"&$T38&\"C\"&COLUMN(),FALSE)","v":"C"},{"$f":"INDIRECT(\"'\"&$S38&\"'!R\"&$T38&\"C\"&COLUMN(),FALSE)","v":"ATC Mode S Transponders (TCAS)"},{"$f":"INDIRECT(\"'\"&$S38&\"'!R\"&$T38&\"C\"&COLUMN(),FALSE)","v":0},{"$f":"INDIRECT(\"'\"&$S38&\"'!R\"&$T38&\"C\"&COLUMN(),FALSE)","v":30388},null,"633",34,"30388#C","Narrow Body",38]
[{"$f":"INDIRECT(\"'\"&$S39&\"'!R\"&$T39&\"C\"&COLUMN(),FALSE)","v":"633#745"},{"$f":"INDIRECT(\"'\"&$S39&\"'!R\"&$T39&\"C\"&COLUMN(),FALSE)","v":6078},{"$f":"INDIRECT(\"'\"&$S39&\"'!R\"&$T39&\"C\"&COLUMN(),FALSE)","v":5000},{"$f":"INDIRECT(\"'\"&$S39&\"'!R\"&$T39&\"C\"&COLUMN(),FALSE)","v":6797.6531993654162},{"$f":"INDIRECT(\"'\"&$S39&\"'!R\"&$T39&\"C\"&COLUMN(),FALSE)","v":5592.0148069804345},{"$f":"INDIRECT(\"'\"&$S39&\"'!R\"&$T39&\"C\"&COLUMN(),FALSE)","v":"Validated PW 2020"},{"$f":"INDIRECT(\"'\"&$S39&\"'!R\"&$T39&\"C\"&COLUMN(),FALSE)","v":7500},{"$f":"INDIRECT(\"'\"&$S39&\"'!R\"&$T39&\"C\"&COLUMN(),FALSE)","v":0.21560000000000001},{"$f":"INDIRECT(\"'\"&$S39&\"'!R\"&$T39&\"C\"&COLUMN(),FALSE)","v":"ACSS Thales with L3"},{"$f":"INDIRECT(\"'\"&$S39&\"'!R\"&$T39&\"C\"&COLUMN(),FALSE)","v":1},{"$f":"INDIRECT(\"'\"&$S39&\"'!R\"&$T39&\"C\"&COLUMN(),FALSE)","v":"C"},{"$f":"INDIRECT(\"'\"&$S39&\"'!R\"&$T39&\"C\"&COLUMN(),FALSE)","v":"ATC control box"},{"$f":"INDIRECT(\"'\"&$S39&\"'!R\"&$T39&\"C\"&COLUMN(),FALSE)","v":0},{"$f":"INDIRECT(\"'\"&$S39&\"'!R\"&$T39&\"C\"&COLUMN(),FALSE)","v":6078},null,"633",35,"6078#C","Narrow Body",39]
[{"$f":"INDIRECT(\"'\"&$S40&\"'!R\"&$T40&\"C\"&COLUMN(),FALSE)","v":"633#746"},{"$f":"INDIRECT(\"'\"&$S40&\"'!R\"&$T40&\"C\"&COLUMN(),FALSE)","v":43999},{"$f":"INDIRECT(\"'\"&$S40&\"'!R\"&$T40&\"C\"&COLUMN(),FALSE)","v":18000},{"$f":"INDIRECT(\"'\"&$S40&\"'!R\"&$T40&\"C\"&COLUMN(),FALSE)","v":49208.611898466428},{"$f":"INDIRECT(\"'\"&$S40&\"'!R\"&$T40&\"C\"&COLUMN(),FALSE)","v":20131.253305129565},{"$f":"INDIRECT(\"'\"&$S40&\"'!R\"&$T40&\"C\"&COLUMN(),FALSE)","v":"Low"},{"$f":"INDIRECT(\"'\"&$S40&\"'!R\"&$T40&\"C\"&COLUMN(),FALSE)","v":50000},{"$f":"INDIRECT(\"'\"&$S40&\"'!R\"&$T40&\"C\"&COLUMN(),FALSE)","v":1.4443888888888889},{"$f":"INDIRECT(\"'\"&$S40&\"'!R\"&$T40&\"C\"&COLUMN(),FALSE)","v":"Collins/Honeywell"},{"$f":"INDIRECT(\"'\"&$S40&\"'!R\"&$T40&\"C\"&COLUMN(),FALSE)","v":1},{"$f":"INDIRECT(\"'\"&$S40&\"'!R\"&$T40&\"C\"&COLUMN(),FALSE)","v":"H"},{"$f":"INDIRECT(\"'\"&$S40&\"'!R\"&$T40&\"C\"&COLUMN(),FALSE)","v":"Weather WX radar system"},{"$f":"INDIRECT(\"'\"&$S40&\"'!R\"&$T40&\"C\"&COLUMN(),FALSE)","v":0},{"$f":"INDIRECT(\"'\"&$S40&\"'!R\"&$T40&\"C\"&COLUMN(),FALSE)","v":43999},null,"633",36,"43999#H","Narrow Body",40]
[{"$f":"INDIRECT(\"'\"&$S41&\"'!R\"&$T41&\"C\"&COLUMN(),FALSE)","v":"633#748"},{"$f":"INDIRECT(\"'\"&$S41&\"'!R\"&$T41&\"C\"&COLUMN(),FALSE)","v":24310},{"$f":"INDIRECT(\"'\"&$S41&\"'!R\"&$T41&\"C\"&COLUMN(),FALSE)","v":20000},{"$f":"INDIRECT(\"'\"&$S41&\"'!R\"&$T41&\"C\"&COLUMN(),FALSE)","v":27188.375991538873},{"$f":"INDIRECT(\"'\"&$S41&\"'!R\"&$T41&\"C\"&COLUMN(),FALSE)","v":22368.059227921738},{"$f":"INDIRECT(\"'\"&$S41&\"'!R\"&$T41&\"C\"&COLUMN(),FALSE)","v":"Low"},{"$f":"INDIRECT(\"'\"&$S41&\"'!R\"&$T41&\"C\"&COLUMN(),FALSE)","v":28000},{"$f":"INDIRECT(\"'\"&$S41&\"'!R\"&$T41&\"C\"&COLUMN(),FALSE)","v":0.2155},{"$f":"INDIRECT(\"'\"&$S41&\"'!R\"&$T41&\"C\"&COLUMN(),FALSE)","v":0},{"$f":"INDIRECT(\"'\"&$S41&\"'!R\"&$T41&\"C\"&COLUMN(),FALSE)","v":1},{"$f":"INDIRECT(\"'\"&$S41&\"'!R\"&$T41&\"C\"&COLUMN(),FALSE)","v":"I"},{"$f":"INDIRECT(\"'\"&$S41&\"'!R\"&$T41&\"C\"&COLUMN(),FALSE)","v":"Ground Proximity Warning System (GPWS/EGPWS)"},{"$f":"INDIRECT(\"'\"&$S41&\"'!R\"&$T41&\"C\"&COLUMN(),FALSE)","v":"Ground Proximity Warning System (GPWS)"},{"$f":"INDIRECT(\"'\"&$S41&\"'!R\"&$T41&\"C\"&COLUMN(),FALSE)","v":24310},null,"633",37,"24310#I","Narrow Body",41]
[{"$f":"INDIRECT(\"'\"&$S42&\"'!R\"&$T42&\"C\"&COLUMN(),FALSE)","v":"633#752"},{"$f":"INDIRECT(\"'\"&$S42&\"'!R\"&$T42&\"C\"&COLUMN(),FALSE)","v":19569},{"$f":"INDIRECT(\"'\"&$S42&\"'!R\"&$T42&\"C\"&COLUMN(),FALSE)","v":12000},{"$f":"INDIRECT(\"'\"&$S42&\"'!R\"&$T42&\"C\"&COLUMN(),FALSE)","v":21886.027551560022},{"$f":"INDIRECT(\"'\"&$S42&\"'!R\"&$T42&\"C\"&COLUMN(),FALSE)","v":13420.835536753042},{"$f":"INDIRECT(\"'\"&$S42&\"'!R\"&$T42&\"C\"&COLUMN(),FALSE)","v":"Low"},{"$f":"INDIRECT(\"'\"&$S42&\"'!R\"&$T42&\"C\"&COLUMN(),FALSE)","v":25000},{"$f":"INDIRECT(\"'\"&$S42&\"'!R\"&$T42&\"C\"&COLUMN(),FALSE)","v":0.63075000000000003},{"$f":"INDIRECT(\"'\"&$S42&\"'!R\"&$T42&\"C\"&COLUMN(),FALSE)","v":"L3"},{"$f":"INDIRECT(\"'\"&$S42&\"'!R\"&$T42&\"C\"&COLUMN(),FALSE)","v":1},{"$f":"INDIRECT(\"'\"&$S42&\"'!R\"&$T42&\"C\"&COLUMN(),FALSE)","v":"J"},{"$f":"INDIRECT(\"'\"&$S42&\"'!R\"&$T42&\"C\"&COLUMN(),FALSE)","v":"Cockpit Voice Recorder"},{"$f":"INDIRECT(\"'\"&$S42&\"'!R\"&$T42&\"C\"&COLUMN(),FALSE)","v":0},{"$f":"INDIRECT(\"'\"&$S42&\"'!R\"&$T42&\"C\"&COLUMN(),FALSE)","v":19569},null,"633",38,"19569#J","Narrow Body",42]
[{"$f":"INDIRECT(\"'\"&$S43&\"'!R\"&$T43&\"C\"&COLUMN(),FALSE)","v":"633#753"},{"$f":"INDIRECT(\"'\"&$S43&\"'!R\"&$T43&\"C\"&COLUMN(),FALSE)","v":5871},{"$f":"INDIRECT(\"'\"&$S43&\"'!R\"&$T43&\"C\"&COLUMN(),FALSE)","v":4000},{"$f":"INDIRECT(\"'\"&$S43&\"'!R\"&$T43&\"C\"&COLUMN(),FALSE)","v":6566.1437863564261},{"$f":"INDIRECT(\"'\"&$S43&\"'!R\"&$T43&\"C\"&COLUMN(),FALSE)","v":4473.6118455843471},{"$f":"INDIRECT(\"'\"&$S43&\"'!R\"&$T43&\"C\"&COLUMN(),FALSE)","v":"Low"},{"$f":"INDIRECT(\"'\"&$S43&\"'!R\"&$T43&\"C\"&COLUMN(),FALSE)","v":7500},{"$f":"INDIRECT(\"'\"&$S43&\"'!R\"&$T43&\"C\"&COLUMN(),FALSE)","v":0.46775},{"$f":"INDIRECT(\"'\"&$S43&\"'!R\"&$T43&\"C\"&COLUMN(),FALSE)","v":0},{"$f":"INDIRECT(\"'\"&$S43&\"'!R\"&$T43&\"C\"&COLUMN(),FALSE)","v":1},{"$f":"INDIRECT(\"'\"&$S43&\"'!R\"&$T43&\"C\"&COLUMN(),FALSE)","v":"E"},{"$f":"INDIRECT(\"'\"&$S43&\"'!R\"&$T43&\"C\"&COLUMN(),FALSE)","v":"CVR control panel"},{"$f":"INDIRECT(\"'\"&$S43&\"'!R\"&$T43&\"C\"&COLUMN(),FALSE)","v":0},{"$f":"INDIRECT(\"'\"&$S43&\"'!R\"&$T43&\"C\"&COLUMN(),FALSE)","v":5871},null,"633",39,"5871#E","Narrow Body",43]
[{"$f":"INDIRECT(\"'\"&$S44&\"'!R\"&$T44&\"C\"&COLUMN(),FALSE)","v":"633#754"},{"$f":"INDIRECT(\"'\"&$S44&\"'!R\"&$T44&\"C\"&COLUMN(),FALSE)","v":17261},{"$f":"INDIRECT(\"'\"&$S44&\"'!R\"&$T44&\"C\"&COLUMN(),FALSE)","v":15000},{"$f":"INDIRECT(\"'\"&$S44&\"'!R\"&$T44&\"C\"&COLUMN(),FALSE)","v":19304.753516657856},{"$f":"INDIRECT(\"'\"&$S44&\"'!R\"&$T44&\"C\"&COLUMN(),FALSE)","v":16776.044420941304},{"$f":"INDIRECT(\"'\"&$S44&\"'!R\"&$T44&\"C\"&COLUMN(),FALSE)","v":"Low"},{"$f":"INDIRECT(\"'\"&$S44&\"'!R\"&$T44&\"C\"&COLUMN(),FALSE)","v":20000},{"$f":"INDIRECT(\"'\"&$S44&\"'!R\"&$T44&\"C\"&COLUMN(),FALSE)","v":0.15073333333333333},{"$f":"INDIRECT(\"'\"&$S44&\"'!R\"&$T44&\"C\"&COLUMN(),FALSE)","v":"L3"},{"$f":"INDIRECT(\"'\"&$S44&\"'!R\"&$T44&\"C\"&COLUMN(),FALSE)","v":1},{"$f":"INDIRECT(\"'\"&$S44&\"'!R\"&$T44&\"C\"&COLUMN(),FALSE)","v":"G"},{"$f":"INDIRECT(\"'\"&$S44&\"'!R\"&$T44&\"C\"&COLUMN(),FALSE)","v":"Flight Data Recorder"},{"$f":"INDIRECT(\"'\"&$S44&\"'!R\"&$T44&\"C\"&COLUMN(),FALSE)","v":0},{"$f":"INDIRECT(\"'\"&$S44&\"'!R\"&$T44&\"C\"&COLUMN(),FALSE)","v":17261},null,"633",40,"17261#G","Narrow Body",44]
[{"$f":"INDIRECT(\"'\"&$S45&\"'!R\"&$T45&\"C\"&COLUMN(),FALSE)","v":"633#755"},{"$f":"INDIRECT(\"'\"&$S45&\"'!R\"&$T45&\"C\"&COLUMN(),FALSE)","v":9205},{"$f":"INDIRECT(\"'\"&$S45&\"'!R\"&$T45&\"C\"&COLUMN(),FALSE)","v":8000},{"$f":"INDIRECT(\"'\"&$S45&\"'!R\"&$T45&\"C\"&COLUMN(),FALSE)","v":10294.89925965098},{"$f":"INDIRECT(\"'\"&$S45&\"'!R\"&$T45&\"C\"&COLUMN(),FALSE)","v":8947.2236911686941},{"$f":"INDIRECT(\"'\"&$S45&\"'!R\"&$T45&\"C\"&COLUMN(),FALSE)","v":"Validated PW 2020"},{"$f":"INDIRECT(\"'\"&$S45&\"'!R\"&$T45&\"C\"&COLUMN(),FALSE)","v":10000},{"$f":"INDIRECT(\"'\"&$S45&\"'!R\"&$T45&\"C\"&COLUMN(),FALSE)","v":0.15062500000000001},{"$f":"INDIRECT(\"'\"&$S45&\"'!R\"&$T45&\"C\"&COLUMN(),FALSE)","v":0},{"$f":"INDIRECT(\"'\"&$S45&\"'!R\"&$T45&\"C\"&COLUMN(),FALSE)","v":1},{"$f":"INDIRECT(\"'\"&$S45&\"'!R\"&$T45&\"C\"&COLUMN(),FALSE)","v":"C"},{"$f":"INDIRECT(\"'\"&$S45&\"'!R\"&$T45&\"C\"&COLUMN(),FALSE)","v":"FD Interface Unit"},{"$f":"INDIRECT(\"'\"&$S45&\"'!R\"&$T45&\"C\"&COLUMN(),FALSE)","v":0},{"$f":"INDIRECT(\"'\"&$S45&\"'!R\"&$T45&\"C\"&COLUMN(),FALSE)","v":9205},null,"633",41,"9205#C","Narrow Body",45]
[{"$f":"INDIRECT(\"'\"&$S46&\"'!R\"&$T46&\"C\"&COLUMN(),FALSE)","v":"633#756"},{"$f":"INDIRECT(\"'\"&$S46&\"'!R\"&$T46&\"C\"&COLUMN(),FALSE)","v":28767},{"$f":"INDIRECT(\"'\"&$S46&\"'!R\"&$T46&\"C\"&COLUMN(),FALSE)","v":10000},{"$f":"INDIRECT(\"'\"&$S46&\"'!R\"&$T46&\"C\"&COLUMN(),FALSE)","v":32173.09799048123},{"$f":"INDIRECT(\"'\"&$S46&\"'!R\"&$T46&\"C\"&COLUMN(),FALSE)","v":11184.029613960869},{"$f":"INDIRECT(\"'\"&$S46&\"'!R\"&$T46&\"C\"&COLUMN(),FALSE)","v":"Low"},{"$f":"INDIRECT(\"'\"&$S46&\"'!R\"&$T46&\"C\"&COLUMN(),FALSE)","v":35000},{"$f":"INDIRECT(\"'\"&$S46&\"'!R\"&$T46&\"C\"&COLUMN(),FALSE)","v":1.8767},{"$f":"INDIRECT(\"'\"&$S46&\"'!R\"&$T46&\"C\"&COLUMN(),FALSE)","v":"Optional fit"},{"$f":"INDIRECT(\"'\"&$S46&\"'!R\"&$T46&\"C\"&COLUMN(),FALSE)","v":1},{"$f":"INDIRECT(\"'\"&$S46&\"'!R\"&$T46&\"C\"&COLUMN(),FALSE)","v":"F"},{"$f":"INDIRECT(\"'\"&$S46&\"'!R\"&$T46&\"C\"&COLUMN(),FALSE)","v":"Quick Access Recorder (QAR)"},{"$f":"INDIRECT(\"'\"&$S46&\"'!R\"&$T46&\"C\"&COLUMN(),FALSE)","v":0},{"$f":"INDIRECT(\"'\"&$S46&\"'!R\"&$T46&\"C\"&COLUMN(),FALSE)","v":28767},null,"633",42,"28767#F","Narrow Body",46]
[{"$f":"INDIRECT(\"'\"&$S47&\"'!R\"&$T47&\"C\"&COLUMN(),FALSE)","v":"633#757"},{"$f":"INDIRECT(\"'\"&$S47&\"'!R\"&$T47&\"C\"&COLUMN(),FALSE)","v":17261},{"$f":"INDIRECT(\"'\"&$S47&\"'!R\"&$T47&\"C\"&COLUMN(),FALSE)","v":15000},{"$f":"INDIRECT(\"'\"&$S47&\"'!R\"&$T47&\"C\"&COLUMN(),FALSE)","v":19304.753516657856},{"$f":"INDIRECT(\"'\"&$S47&\"'!R\"&$T47&\"C\"&COLUMN(),FALSE)","v":16776.044420941304},{"$f":"INDIRECT(\"'\"&$S47&\"'!R\"&$T47&\"C\"&COLUMN(),FALSE)","v":"ACMS? QAR Integral?"},{"$f":"INDIRECT(\"'\"&$S47&\"'!R\"&$T47&\"C\"&COLUMN(),FALSE)","v":20000},{"$f":"INDIRECT(\"'\"&$S47&\"'!R\"&$T47&\"C\"&COLUMN(),FALSE)","v":0.15073333333333333},{"$f":"INDIRECT(\"'\"&$S47&\"'!R\"&$T47&\"C\"&COLUMN(),FALSE)","v":0},{"$f":"INDIRECT(\"'\"&$S47&\"'!R\"&$T47&\"C\"&COLUMN(),FALSE)","v":1},{"$f":"INDIRECT(\"'\"&$S47&\"'!R\"&$T47&\"C\"&COLUMN(),FALSE)","v":"C"},{"$f":"INDIRECT(\"'\"&$S47&\"'!R\"&$T47&\"C\"&COLUMN(),FALSE)","v":"Aircraft Intergated Data System (AIDS)"},{"$f":"INDIRECT(\"'\"&$S47&\"'!R\"&$T47&\"C\"&COLUMN(),FALSE)","v":0},{"$f":"INDIRECT(\"'\"&$S47&\"'!R\"&$T47&\"C\"&COLUMN(),FALSE)","v":17261},null,"633",43,"17261#C","Narrow Body",47]
[{"$f":"INDIRECT(\"'\"&$S48&\"'!R\"&$T48&\"C\"&COLUMN(),FALSE)","v":"633#758"},{"$f":"INDIRECT(\"'\"&$S48&\"'!R\"&$T48&\"C\"&COLUMN(),FALSE)","v":20712},{"$f":"INDIRECT(\"'\"&$S48&\"'!R\"&$T48&\"C\"&COLUMN(),FALSE)","v":12000},{"$f":"INDIRECT(\"'\"&$S48&\"'!R\"&$T48&\"C\"&COLUMN(),FALSE)","v":23164.36213643575},{"$f":"INDIRECT(\"'\"&$S48&\"'!R\"&$T48&\"C\"&COLUMN(),FALSE)","v":13420.835536753042},{"$f":"INDIRECT(\"'\"&$S48&\"'!R\"&$T48&\"C\"&COLUMN(),FALSE)","v":"Low"},{"$f":"INDIRECT(\"'\"&$S48&\"'!R\"&$T48&\"C\"&COLUMN(),FALSE)","v":24000},{"$f":"INDIRECT(\"'\"&$S48&\"'!R\"&$T48&\"C\"&COLUMN(),FALSE)","v":0.72599999999999998},{"$f":"INDIRECT(\"'\"&$S48&\"'!R\"&$T48&\"C\"&COLUMN(),FALSE)","v":"Teledyne controls"},{"$f":"INDIRECT(\"'\"&$S48&\"'!R\"&$T48&\"C\"&COLUMN(),FALSE)","v":1},{"$f":"INDIRECT(\"'\"&$S48&\"'!R\"&$T48&\"C\"&COLUMN(),FALSE)","v":"D"},{"$f":"INDIRECT(\"'\"&$S48&\"'!R\"&$T48&\"C\"&COLUMN(),FALSE)","v":"Air Traffic Services Unit (ATSU)"},{"$f":"INDIRECT(\"'\"&$S48&\"'!R\"&$T48&\"C\"&COLUMN(),FALSE)","v":0},{"$f":"INDIRECT(\"'\"&$S48&\"'!R\"&$T48&\"C\"&COLUMN(),FALSE)","v":20712},null,"633",44,"20712#D","Narrow Body",48]
[{"$f":"INDIRECT(\"'\"&$S49&\"'!R\"&$T49&\"C\"&COLUMN(),FALSE)","v":"633#759"},{"$f":"INDIRECT(\"'\"&$S49&\"'!R\"&$T49&\"C\"&COLUMN(),FALSE)","v":23014},{"$f":"INDIRECT(\"'\"&$S49&\"'!R\"&$T49&\"C\"&COLUMN(),FALSE)","v":20000},{"$f":"INDIRECT(\"'\"&$S49&\"'!R\"&$T49&\"C\"&COLUMN(),FALSE)","v":25738.925753569543},{"$f":"INDIRECT(\"'\"&$S49&\"'!R\"&$T49&\"C\"&COLUMN(),FALSE)","v":22368.059227921738},{"$f":"INDIRECT(\"'\"&$S49&\"'!R\"&$T49&\"C\"&COLUMN(),FALSE)","v":"Validated PW 2020"},{"$f":"INDIRECT(\"'\"&$S49&\"'!R\"&$T49&\"C\"&COLUMN(),FALSE)","v":25000},{"$f":"INDIRECT(\"'\"&$S49&\"'!R\"&$T49&\"C\"&COLUMN(),FALSE)","v":0.1507},{"$f":"INDIRECT(\"'\"&$S49&\"'!R\"&$T49&\"C\"&COLUMN(),FALSE)","v":"Teledyne controls"},{"$f":"INDIRECT(\"'\"&$S49&\"'!R\"&$T49&\"C\"&COLUMN(),FALSE)","v":2},{"$f":"INDIRECT(\"'\"&$S49&\"'!R\"&$T49&\"C\"&COLUMN(),FALSE)","v":"C"},{"$f":"INDIRECT(\"'\"&$S49&\"'!R\"&$T49&\"C\"&COLUMN(),FALSE)","v":"Electronic Flight Bags (EFBs)"},{"$f":"INDIRECT(\"'\"&$S49&\"'!R\"&$T49&\"C\"&COLUMN(),FALSE)","v":0},{"$f":"INDIRECT(\"'\"&$S49&\"'!R\"&$T49&\"C\"&COLUMN(),FALSE)","v":23014},null,"633",45,"23014#C","Narrow Body",49]
[{"$f":"INDIRECT(\"'\"&$S50&\"'!R\"&$T50&\"C\"&COLUMN(),FALSE)","v":"633#825"},{"$f":"INDIRECT(\"'\"&$S50&\"'!R\"&$T50&\"C\"&COLUMN(),FALSE)","v":56029},{"$f":"INDIRECT(\"'\"&$S50&\"'!R\"&$T50&\"C\"&COLUMN(),FALSE)","v":40000},{"$f":"INDIRECT(\"'\"&$S50&\"'!R\"&$T50&\"C\"&COLUMN(),FALSE)","v":62662.99952406135},{"$f":"INDIRECT(\"'\"&$S50&\"'!R\"&$T50&\"C\"&COLUMN(),FALSE)","v":44736.118455843476},{"$f":"INDIRECT(\"'\"&$S50&\"'!R\"&$T50&\"C\"&COLUMN(),FALSE)","v":"Low"},{"$f":"INDIRECT(\"'\"&$S50&\"'!R\"&$T50&\"C\"&COLUMN(),FALSE)","v":75000},{"$f":"INDIRECT(\"'\"&$S50&\"'!R\"&$T50&\"C\"&COLUMN(),FALSE)","v":0.400725},{"$f":"INDIRECT(\"'\"&$S50&\"'!R\"&$T50&\"C\"&COLUMN(),FALSE)","v":"Part of FMGC/FCU above?"},{"$f":"INDIRECT(\"'\"&$S50&\"'!R\"&$T50&\"C\"&COLUMN(),FALSE)","v":1},{"$f":"INDIRECT(\"'\"&$S50&\"'!R\"&$T50&\"C\"&COLUMN(),FALSE)","v":"I"},{"$f":"INDIRECT(\"'\"&$S50&\"'!R\"&$T50&\"C\"&COLUMN(),FALSE)","v":"Auto pilot system"},{"$f":"INDIRECT(\"'\"&$S50&\"'!R\"&$T50&\"C\"&COLUMN(),FALSE)","v":"Autopilot /Auto thrust system"},{"$f":"INDIRECT(\"'\"&$S50&\"'!R\"&$T50&\"C\"&COLUMN(),FALSE)","v":56029},null,"633",46,"56029#I","Narrow Body",50]
[{"$f":"INDIRECT(\"'\"&$S51&\"'!R\"&$T51&\"C\"&COLUMN(),FALSE)","v":"633#879"},{"$f":"INDIRECT(\"'\"&$S51&\"'!R\"&$T51&\"C\"&COLUMN(),FALSE)","v":137227},{"$f":"INDIRECT(\"'\"&$S51&\"'!R\"&$T51&\"C\"&COLUMN(),FALSE)","v":{"$error":"#N/A"}},{"$f":"INDIRECT(\"'\"&$S51&\"'!R\"&$T51&\"C\"&COLUMN(),FALSE)","v":153475.0831835008},{"$f":"INDIRECT(\"'\"&$S51&\"'!R\"&$T51&\"C\"&COLUMN(),FALSE)","v":0},{"$f":"INDIRECT(\"'\"&$S51&\"'!R\"&$T51&\"C\"&COLUMN(),FALSE)","v":"Validated Model 2020"},{"$f":"INDIRECT(\"'\"&$S51&\"'!R\"&$T51&\"C\"&COLUMN(),FALSE)","v":155000},{"$f":"INDIRECT(\"'\"&$S51&\"'!R\"&$T51&\"C\"&COLUMN(),FALSE)","v":{"$error":"#N/A"}},{"$f":"INDIRECT(\"'\"&$S51&\"'!R\"&$T51&\"C\"&COLUMN(),FALSE)","v":{"$error":"#N/A"}},{"$f":"INDIRECT(\"'\"&$S51&\"'!R\"&$T51&\"C\"&COLUMN(),FALSE)","v":1},{"$f":"INDIRECT(\"'\"&$S51&\"'!R\"&$T51&\"C\"&COLUMN(),FALSE)","v":"U"},{"$f":"INDIRECT(\"'\"&$S51&\"'!R\"&$T51&\"C\"&COLUMN(),FALSE)","v":"Software"},{"$f":"INDIRECT(\"'\"&$S51&\"'!R\"&$T51&\"C\"&COLUMN(),FALSE)","v":0},{"$f":"INDIRECT(\"'\"&$S51&\"'!R\"&$T51&\"C\"&COLUMN(),FALSE)","v":137227},null,"633",47,"137227#U","Narrow Body",51]
[{"$f":"INDIRECT(\"'\"&$S52&\"'!R\"&$T52&\"C\"&COLUMN(),FALSE)","v":"633#883"},{"$f":"INDIRECT(\"'\"&$S52&\"'!R\"&$T52&\"C\"&COLUMN(),FALSE)","v":47519},{"$f":"INDIRECT(\"'\"&$S52&\"'!R\"&$T52&\"C\"&COLUMN(),FALSE)","v":{"$error":"#N/A"}},{"$f":"INDIRECT(\"'\"&$S52&\"'!R\"&$T52&\"C\"&COLUMN(),FALSE)","v":53145.39032258065},{"$f":"INDIRECT(\"'\"&$S52&\"'!R\"&$T52&\"C\"&COLUMN(),FALSE)","v":0},{"$f":"INDIRECT(\"'\"&$S52&\"'!R\"&$T52&\"C\"&COLUMN(),FALSE)","v":"Validated Model 2020"},{"$f":"INDIRECT(\"'\"&$S52&\"'!R\"&$T52&\"C\"&COLUMN(),FALSE)","v":55000},{"$f":"INDIRECT(\"'\"&$S52&\"'!R\"&$T52&\"C\"&COLUMN(),FALSE)","v":{"$error":"#N/A"}},{"$f":"INDIRECT(\"'\"&$S52&\"'!R\"&$T52&\"C\"&COLUMN(),FALSE)","v":{"$error":"#N/A"}},{"$f":"INDIRECT(\"'\"&$S52&\"'!R\"&$T52&\"C\"&COLUMN(),FALSE)","v":1},{"$f":"INDIRECT(\"'\"&$S52&\"'!R\"&$T52&\"C\"&COLUMN(),FALSE)","v":"A"},{"$f":"INDIRECT(\"'\"&$S52&\"'!R\"&$T52&\"C\"&COLUMN(),FALSE)","v":"Surveillance Sensors"},{"$f":"INDIRECT(\"'\"&$S52&\"'!R\"&$T52&\"C\"&COLUMN(),FALSE)","v":0},{"$f":"INDIRECT(\"'\"&$S52&\"'!R\"&$T52&\"C\"&COLUMN(),FALSE)","v":47519},null,"633",48,"47519#A","Narrow Body",52]
[{"$f":"INDIRECT(\"'\"&$S53&\"'!R\"&$T53&\"C\"&COLUMN(),FALSE)","v":"633#1056"},{"$f":"INDIRECT(\"'\"&$S53&\"'!R\"&$T53&\"C\"&COLUMN(),FALSE)","v":2903},{"$f":"INDIRECT(\"'\"&$S53&\"'!R\"&$T53&\"C\"&COLUMN(),FALSE)","v":{"$error":"#N/A"}},{"$f":"INDIRECT(\"'\"&$S53&\"'!R\"&$T53&\"C\"&COLUMN(),FALSE)","v":3246.7237969328403},{"$f":"INDIRECT(\"'\"&$S53&\"'!R\"&$T53&\"C\"&COLUMN(),FALSE)","v":0},{"$f":"INDIRECT(\"'\"&$S53&\"'!R\"&$T53&\"C\"&COLUMN(),FALSE)","v":"Validated Model 2020"},{"$f":"INDIRECT(\"'\"&$S53&\"'!R\"&$T53&\"C\"&COLUMN(),FALSE)","v":3500},{"$f":"INDIRECT(\"'\"&$S53&\"'!R\"&$T53&\"C\"&COLUMN(),FALSE)","v":{"$error":"#N/A"}},{"$f":"INDIRECT(\"'\"&$S53&\"'!R\"&$T53&\"C\"&COLUMN(),FALSE)","v":{"$error":"#N/A"}},{"$f":"INDIRECT(\"'\"&$S53&\"'!R\"&$T53&\"C\"&COLUMN(),FALSE)","v":1},{"$f":"INDIRECT(\"'\"&$S53&\"'!R\"&$T53&\"C\"&COLUMN(),FALSE)","v":"BW"},{"$f":"INDIRECT(\"'\"&$S53&\"'!R\"&$T53&\"C\"&COLUMN(),FALSE)","v":"Avionics Harnesses"},{"$f":"INDIRECT(\"'\"&$S53&\"'!R\"&$T53&\"C\"&COLUMN(),FALSE)","v":0},{"$f":"INDIRECT(\"'\"&$S53&\"'!R\"&$T53&\"C\"&COLUMN(),FALSE)","v":2903},null,"633",49,"2903#BW","Narrow Body",53]
[{"$f":"INDIRECT(\"'\"&$S54&\"'!R\"&$T54&\"C\"&COLUMN(),FALSE)","v":"633#1057"},{"$f":"INDIRECT(\"'\"&$S54&\"'!R\"&$T54&\"C\"&COLUMN(),FALSE)","v":20674},{"$f":"INDIRECT(\"'\"&$S54&\"'!R\"&$T54&\"C\"&COLUMN(),FALSE)","v":{"$error":"#N/A"}},{"$f":"INDIRECT(\"'\"&$S54&\"'!R\"&$T54&\"C\"&COLUMN(),FALSE)","v":23121.862823902698},{"$f":"INDIRECT(\"'\"&$S54&\"'!R\"&$T54&\"C\"&COLUMN(),FALSE)","v":0},{"$f":"INDIRECT(\"'\"&$S54&\"'!R\"&$T54&\"C\"&COLUMN(),FALSE)","v":"Validated Model 2020"},{"$f":"INDIRECT(\"'\"&$S54&\"'!R\"&$T54&\"C\"&COLUMN(),FALSE)","v":25000},{"$f":"INDIRECT(\"'\"&$S54&\"'!R\"&$T54&\"C\"&COLUMN(),FALSE)","v":{"$error":"#N/A"}},{"$f":"INDIRECT(\"'\"&$S54&\"'!R\"&$T54&\"C\"&COLUMN(),FALSE)","v":{"$error":"#N/A"}},{"$f":"INDIRECT(\"'\"&$S54&\"'!R\"&$T54&\"C\"&COLUMN(),FALSE)","v":1},{"$f":"INDIRECT(\"'\"&$S54&\"'!R\"&$T54&\"C\"&COLUMN(),FALSE)","v":"BW"},{"$f":"INDIRECT(\"'\"&$S54&\"'!R\"&$T54&\"C\"&COLUMN(),FALSE)","v":"Avionics Harnesses"},{"$f":"INDIRECT(\"'\"&$S54&\"'!R\"&$T54&\"C\"&COLUMN(),FALSE)","v":0},{"$f":"INDIRECT(\"'\"&$S54&\"'!R\"&$T54&\"C\"&COLUMN(),FALSE)","v":20674},null,"633",50,"20674#BW","Narrow Body",54]
[{"$f":"INDIRECT(\"'\"&$S55&\"'!R\"&$T55&\"C\"&COLUMN(),FALSE)","v":"633#1058"},{"$f":"INDIRECT(\"'\"&$S55&\"'!R\"&$T55&\"C\"&COLUMN(),FALSE)","v":25000},{"$f":"INDIRECT(\"'\"&$S55&\"'!R\"&$T55&\"C\"&COLUMN(),FALSE)","v":{"$error":"#N/A"}},{"$f":"INDIRECT(\"'\"&$S55&\"'!R\"&$T55&\"C\"&COLUMN(),FALSE)","v":27960.074034902173},{"$f":"INDIRECT(\"'\"&$S55&\"'!R\"&$T55&\"C\"&COLUMN(),FALSE)","v":0},{"$f":"INDIRECT(\"'\"&$S55&\"'!R\"&$T55&\"C\"&COLUMN(),FALSE)","v":"Validated Model 2020"},{"$f":"INDIRECT(\"'\"&$S55&\"'!R\"&$T55&\"C\"&COLUMN(),FALSE)","v":29000},{"$f":"INDIRECT(\"'\"&$S55&\"'!R\"&$T55&\"C\"&COLUMN(),FALSE)","v":{"$error":"#N/A"}},{"$f":"INDIRECT(\"'\"&$S55&\"'!R\"&$T55&\"C\"&COLUMN(),FALSE)","v":{"$error":"#N/A"}},{"$f":"INDIRECT(\"'\"&$S55&\"'!R\"&$T55&\"C\"&COLUMN(),FALSE)","v":1},{"$f":"INDIRECT(\"'\"&$S55&\"'!R\"&$T55&\"C\"&COLUMN(),FALSE)","v":"BW"},{"$f":"INDIRECT(\"'\"&$S55&\"'!R\"&$T55&\"C\"&COLUMN(),FALSE)","v":"Avionics Harnesses"},{"$f":"INDIRECT(\"'\"&$S55&\"'!R\"&$T55&\"C\"&COLUMN(),FALSE)","v":0},{"$f":"INDIRECT(\"'\"&$S55&\"'!R\"&$T55&\"C\"&COLUMN(),FALSE)","v":25000},null,"633",51,"25000#BW","Narrow Body",55]
[{"$f":"INDIRECT(\"'\"&$S56&\"'!R\"&$T56&\"C\"&COLUMN(),FALSE)","v":"633#1059"},{"$f":"INDIRECT(\"'\"&$S56&\"'!R\"&$T56&\"C\"&COLUMN(),FALSE)","v":5168},{"$f":"INDIRECT(\"'\"&$S56&\"'!R\"&$T56&\"C\"&COLUMN(),FALSE)","v":{"$error":"#N/A"}},{"$f":"INDIRECT(\"'\"&$S56&\"'!R\"&$T56&\"C\"&COLUMN(),FALSE)","v":5779.9065044949766},{"$f":"INDIRECT(\"'\"&$S56&\"'!R\"&$T56&\"C\"&COLUMN(),FALSE)","v":0},{"$f":"INDIRECT(\"'\"&$S56&\"'!R\"&$T56&\"C\"&COLUMN(),FALSE)","v":"Validated Model 2020"},{"$f":"INDIRECT(\"'\"&$S56&\"'!R\"&$T56&\"C\"&COLUMN(),FALSE)","v":6500},{"$f":"INDIRECT(\"'\"&$S56&\"'!R\"&$T56&\"C\"&COLUMN(),FALSE)","v":{"$error":"#N/A"}},{"$f":"INDIRECT(\"'\"&$S56&\"'!R\"&$T56&\"C\"&COLUMN(),FALSE)","v":{"$error":"#N/A"}},{"$f":"INDIRECT(\"'\"&$S56&\"'!R\"&$T56&\"C\"&COLUMN(),FALSE)","v":1},{"$f":"INDIRECT(\"'\"&$S56&\"'!R\"&$T56&\"C\"&COLUMN(),FALSE)","v":"BW"},{"$f":"INDIRECT(\"'\"&$S56&\"'!R\"&$T56&\"C\"&COLUMN(),FALSE)","v":"Avionics Harnesses"},{"$f":"INDIRECT(\"'\"&$S56&\"'!R\"&$T56&\"C\"&COLUMN(),FALSE)","v":0},{"$f":"INDIRECT(\"'\"&$S56&\"'!R\"&$T56&\"C\"&COLUMN(),FALSE)","v":5168},null,"633",52,"5168#BW","Narrow Body",56]
[{"$f":"INDIRECT(\"'\"&$S57&\"'!R\"&$T57&\"C\"&COLUMN(),FALSE)","v":0},{"$f":"INDIRECT(\"'\"&$S57&\"'!R\"&$T57&\"C\"&COLUMN(),FALSE)","v":""},{"$f":"INDIRECT(\"'\"&$S57&\"'!R\"&$T57&\"C\"&COLUMN(),FALSE)","v":6000},{"$f":"INDIRECT(\"'\"&$S57&\"'!R\"&$T57&\"C\"&COLUMN(),FALSE)","v":0},{"$f":"INDIRECT(\"'\"&$S57&\"'!R\"&$T57&\"C\"&COLUMN(),FALSE)","v":6710.4177683765211},{"$f":"INDIRECT(\"'\"&$S57&\"'!R\"&$T57&\"C\"&COLUMN(),FALSE)","v":"Validated PW 2020"},{"$f":"INDIRECT(\"'\"&$S57&\"'!R\"&$T57&\"C\"&COLUMN(),FALSE)","v":7500},{"$f":"INDIRECT(\"'\"&$S57&\"'!R\"&$T57&\"C\"&COLUMN(),FALSE)","v":{"$error":"#VALUE!"}},{"$f":"INDIRECT(\"'\"&$S57&\"'!R\"&$T57&\"C\"&COLUMN(),FALSE)","v":0},{"$f":"INDIRECT(\"'\"&$S57&\"'!R\"&$T57&\"C\"&COLUMN(),FALSE)","v":2},{"$f":"INDIRECT(\"'\"&$S57&\"'!R\"&$T57&\"C\"&COLUMN(),FALSE)","v":{"$error":"#N/A"}},{"$f":"INDIRECT(\"'\"&$S57&\"'!R\"&$T57&\"C\"&COLUMN(),FALSE)","v":0},{"$f":"INDIRECT(\"'\"&$S57&\"'!R\"&$T57&\"C\"&COLUMN(),FALSE)","v":"ADIRS control panel"},{"$f":"INDIRECT(\"'\"&$S57&\"'!R\"&$T57&\"C\"&COLUMN(),FALSE)","v":""},null,"",53,{"$error":"#N/A"},"Narrow Body",57]
[{"$f":"INDIRECT(\"'\"&$S58&\"'!R\"&$T58&\"C\"&COLUMN(),FALSE)","v":0},{"$f":"INDIRECT(\"'\"&$S58&\"'!R\"&$T58&\"C\"&COLUMN(),FALSE)","v":""},{"$f":"INDIRECT(\"'\"&$S58&\"'!R\"&$T58&\"C\"&COLUMN(),FALSE)","v":8000},{"$f":"INDIRECT(\"'\"&$S58&\"'!R\"&$T58&\"C\"&COLUMN(),FALSE)","v":0},{"$f":"INDIRECT(\"'\"&$S58&\"'!R\"&$T58&\"C\"&COLUMN(),FALSE)","v":8947.2236911686941},{"$f":"INDIRECT(\"'\"&$S58&\"'!R\"&$T58&\"C\"&COLUMN(),FALSE)","v":"Validated PW 2020"},{"$f":"INDIRECT(\"'\"&$S58&\"'!R\"&$T58&\"C\"&COLUMN(),FALSE)","v":9000},{"$f":"INDIRECT(\"'\"&$S58&\"'!R\"&$T58&\"C\"&COLUMN(),FALSE)","v":{"$error":"#VALUE!"}},{"$f":"INDIRECT(\"'\"&$S58&\"'!R\"&$T58&\"C\"&COLUMN(),FALSE)","v":0},{"$f":"INDIRECT(\"'\"&$S58&\"'!R\"&$T58&\"C\"&COLUMN(),FALSE)","v":2},{"$f":"INDIRECT(\"'\"&$S58&\"'!R\"&$T58&\"C\"&COLUMN(),FALSE)","v":{"$error":"#N/A"}},{"$f":"INDIRECT(\"'\"&$S58&\"'!R\"&$T58&\"C\"&COLUMN(),FALSE)","v":0},{"$f":"INDIRECT(\"'\"&$S58&\"'!R\"&$T58&\"C\"&COLUMN(),FALSE)","v":"Pedestal ADS select"},{"$f":"INDIRECT(\"'\"&$S58&\"'!R\"&$T58&\"C\"&COLUMN(),FALSE)","v":""},null,"",54,{"$error":"#N/A"},"Narrow Body",58]
[{"$f":"INDIRECT(\"'\"&$S59&\"'!R\"&$T59&\"C\"&COLUMN(),FALSE)","v":0},{"$f":"INDIRECT(\"'\"&$S59&\"'!R\"&$T59&\"C\"&COLUMN(),FALSE)","v":""},{"$f":"INDIRECT(\"'\"&$S59&\"'!R\"&$T59&\"C\"&COLUMN(),FALSE)","v":4000},{"$f":"INDIRECT(\"'\"&$S59&\"'!R\"&$T59&\"C\"&COLUMN(),FALSE)","v":0},{"$f":"INDIRECT(\"'\"&$S59&\"'!R\"&$T59&\"C\"&COLUMN(),FALSE)","v":4473.6118455843471},{"$f":"INDIRECT(\"'\"&$S59&\"'!R\"&$T59&\"C\"&COLUMN(),FALSE)","v":"Validated PW 2020"},{"$f":"INDIRECT(\"'\"&$S59&\"'!R\"&$T59&\"C\"&COLUMN(),FALSE)","v":4500},{"$f":"INDIRECT(\"'\"&$S59&\"'!R\"&$T59&\"C\"&COLUMN(),FALSE)","v":{"$error":"#VALUE!"}},{"$f":"INDIRECT(\"'\"&$S59&\"'!R\"&$T59&\"C\"&COLUMN(),FALSE)","v":0},{"$f":"INDIRECT(\"'\"&$S59&\"'!R\"&$T59&\"C\"&COLUMN(),FALSE)","v":2},{"$f":"INDIRECT(\"'\"&$S59&\"'!R\"&$T59&\"C\"&COLUMN(),FALSE)","v":{"$error":"#N/A"}},{"$f":"INDIRECT(\"'\"&$S59&\"'!R\"&$T59&\"C\"&COLUMN(),FALSE)","v":0},{"$f":"INDIRECT(\"'\"&$S59&\"'!R\"&$T59&\"C\"&COLUMN(),FALSE)","v":"WX control panel"},{"$f":"INDIRECT(\"'\"&$S59&\"'!R\"&$T59&\"C\"&COLUMN(),FALSE)","v":""},null,"",55,{"$error":"#N/A"},"Narrow Body",59]
[{"$f":"INDIRECT(\"'\"&$S60&\"'!R\"&$T60&\"C\"&COLUMN(),FALSE)","v":0},{"$f":"INDIRECT(\"'\"&$S60&\"'!R\"&$T60&\"C\"&COLUMN(),FALSE)","v":""},{"$f":"INDIRECT(\"'\"&$S60&\"'!R\"&$T60&\"C\"&COLUMN(),FALSE)","v":18000},{"$f":"INDIRECT(\"'\"&$S60&\"'!R\"&$T60&\"C\"&COLUMN(),FALSE)","v":0},{"$f":"INDIRECT(\"'\"&$S60&\"'!R\"&$T60&\"C\"&COLUMN(),FALSE)","v":20131.253305129565},{"$f":"INDIRECT(\"'\"&$S60&\"'!R\"&$T60&\"C\"&COLUMN(),FALSE)","v":"Validated PW 2020"},{"$f":"INDIRECT(\"'\"&$S60&\"'!R\"&$T60&\"C\"&COLUMN(),FALSE)","v":21000},{"$f":"INDIRECT(\"'\"&$S60&\"'!R\"&$T60&\"C\"&COLUMN(),FALSE)","v":{"$error":"#VALUE!"}},{"$f":"INDIRECT(\"'\"&$S60&\"'!R\"&$T60&\"C\"&COLUMN(),FALSE)","v":"ACSS Thales with L3"},{"$f":"INDIRECT(\"'\"&$S60&\"'!R\"&$T60&\"C\"&COLUMN(),FALSE)","v":2},{"$f":"INDIRECT(\"'\"&$S60&\"'!R\"&$T60&\"C\"&COLUMN(),FALSE)","v":{"$error":"#N/A"}},{"$f":"INDIRECT(\"'\"&$S60&\"'!R\"&$T60&\"C\"&COLUMN(),FALSE)","v":0},{"$f":"INDIRECT(\"'\"&$S60&\"'!R\"&$T60&\"C\"&COLUMN(),FALSE)","v":"TCAS computer"},{"$f":"INDIRECT(\"'\"&$S60&\"'!R\"&$T60&\"C\"&COLUMN(),FALSE)","v":""},null,"",56,{"$error":"#N/A"},"Narrow Body",60]
[{"$f":"INDIRECT(\"'\"&$S61&\"'!R\"&$T61&\"C\"&COLUMN(),FALSE)","v":0},{"$f":"INDIRECT(\"'\"&$S61&\"'!R\"&$T61&\"C\"&COLUMN(),FALSE)","v":""},{"$f":"INDIRECT(\"'\"&$S61&\"'!R\"&$T61&\"C\"&COLUMN(),FALSE)","v":6000},{"$f":"INDIRECT(\"'\"&$S61&\"'!R\"&$T61&\"C\"&COLUMN(),FALSE)","v":0},{"$f":"INDIRECT(\"'\"&$S61&\"'!R\"&$T61&\"C\"&COLUMN(),FALSE)","v":6710.4177683765211},{"$f":"INDIRECT(\"'\"&$S61&\"'!R\"&$T61&\"C\"&COLUMN(),FALSE)","v":"Validated PW 2020"},{"$f":"INDIRECT(\"'\"&$S61&\"'!R\"&$T61&\"C\"&COLUMN(),FALSE)","v":7000},{"$f":"INDIRECT(\"'\"&$S61&\"'!R\"&$T61&\"C\"&COLUMN(),FALSE)","v":{"$error":"#VALUE!"}},{"$f":"INDIRECT(\"'\"&$S61&\"'!R\"&$T61&\"C\"&COLUMN(),FALSE)","v":"ACSS Thales with L3"},{"$f":"INDIRECT(\"'\"&$S61&\"'!R\"&$T61&\"C\"&COLUMN(),FALSE)","v":2},{"$f":"INDIRECT(\"'\"&$S61&\"'!R\"&$T61&\"C\"&COLUMN(),FALSE)","v":{"$error":"#N/A"}},{"$f":"INDIRECT(\"'\"&$S61&\"'!R\"&$T61&\"C\"&COLUMN(),FALSE)","v":0},{"$f":"INDIRECT(\"'\"&$S61&\"'!R\"&$T61&\"C\"&COLUMN(),FALSE)","v":"TCAS antennas"},{"$f":"INDIRECT(\"'\"&$S61&\"'!R\"&$T61&\"C\"&COLUMN(),FALSE)","v":""},null,"",57,{"$error":"#N/A"},"Narrow Body",61]
[{"$f":"INDIRECT(\"'\"&$S62&\"'!R\"&$T62&\"C\"&COLUMN(),FALSE)","v":0},{"$f":"INDIRECT(\"'\"&$S62&\"'!R\"&$T62&\"C\"&COLUMN(),FALSE)","v":""},{"$f":"INDIRECT(\"'\"&$S62&\"'!R\"&$T62&\"C\"&COLUMN(),FALSE)","v":4000},{"$f":"INDIRECT(\"'\"&$S62&\"'!R\"&$T62&\"C\"&COLUMN(),FALSE)","v":0},{"$f":"INDIRECT(\"'\"&$S62&\"'!R\"&$T62&\"C\"&COLUMN(),FALSE)","v":4473.6118455843471},{"$f":"INDIRECT(\"'\"&$S62&\"'!R\"&$T62&\"C\"&COLUMN(),FALSE)","v":"Validated PW 2020"},{"$f":"INDIRECT(\"'\"&$S62&\"'!R\"&$T62&\"C\"&COLUMN(),FALSE)","v":5000},{"$f":"INDIRECT(\"'\"&$S62&\"'!R\"&$T62&\"C\"&COLUMN(),FALSE)","v":{"$error":"#VALUE!"}},{"$f":"INDIRECT(\"'\"&$S62&\"'!R\"&$T62&\"C\"&COLUMN(),FALSE)","v":0},{"$f":"INDIRECT(\"'\"&$S62&\"'!R\"&$T62&\"C\"&COLUMN(),FALSE)","v":2},{"$f":"INDIRECT(\"'\"&$S62&\"'!R\"&$T62&\"C\"&COLUMN(),FALSE)","v":{"$error":"#N/A"}},{"$f":"INDIRECT(\"'\"&$S62&\"'!R\"&$T62&\"C\"&COLUMN(),FALSE)","v":0},{"$f":"INDIRECT(\"'\"&$S62&\"'!R\"&$T62&\"C\"&COLUMN(),FALSE)","v":"TCAS control panel"},{"$f":"INDIRECT(\"'\"&$S62&\"'!R\"&$T62&\"C\"&COLUMN(),FALSE)","v":""},null,"",58,{"$error":"#N/A"},"Narrow Body",62]
[{"$f":"INDIRECT(\"'\"&$S63&\"'!R\"&$T63&\"C\"&COLUMN(),FALSE)","v":0},{"$f":"INDIRECT(\"'\"&$S63&\"'!R\"&$T63&\"C\"&COLUMN(),FALSE)","v":""},{"$f":"INDIRECT(\"'\"&$S63&\"'!R\"&$T63&\"C\"&COLUMN(),FALSE)","v":0},{"$f":"INDIRECT(\"'\"&$S63&\"'!R\"&$T63&\"C\"&COLUMN(),FALSE)","v":0},{"$f":"INDIRECT(\"'\"&$S63&\"'!R\"&$T63&\"C\"&COLUMN(),FALSE)","v":0},{"$f":"INDIRECT(\"'\"&$S63&\"'!R\"&$T63&\"C\"&COLUMN(),FALSE)","v":"AE Estimate"},{"$f":"INDIRECT(\"'\"&$S63&\"'!R\"&$T63&\"C\"&COLUMN(),FALSE)","v":10000},{"$f":"INDIRECT(\"'\"&$S63&\"'!R\"&$T63&\"C\"&COLUMN(),FALSE)","v":{"$error":"#VALUE!"}},{"$f":"INDIRECT(\"'\"&$S63&\"'!R\"&$T63&\"C\"&COLUMN(),FALSE)","v":0},{"$f":"INDIRECT(\"'\"&$S63&\"'!R\"&$T63&\"C\"&COLUMN(),FALSE)","v":1},{"$f":"INDIRECT(\"'\"&$S63&\"'!R\"&$T63&\"C\"&COLUMN(),FALSE)","v":{"$error":"#N/A"}},{"$f":"INDIRECT(\"'\"&$S63&\"'!R\"&$T63&\"C\"&COLUMN(),FALSE)","v":0},{"$f":"INDIRECT(\"'\"&$S63&\"'!R\"&$T63&\"C\"&COLUMN(),FALSE)","v":"Avionic racking, databuses excluded"},{"$f":"INDIRECT(\"'\"&$S63&\"'!R\"&$T63&\"C\"&COLUMN(),FALSE)","v":""},null,"",59,{"$error":"#N/A"},"Narrow Body",63]
[{"$f":"INDIRECT(\"'\"&$S64&\"'!R\"&$T64&\"C\"&COLUMN(),FALSE)","v":"146#784"},{"$f":"INDIRECT(\"'\"&$S64&\"'!R\"&$T64&\"C\"&COLUMN(),FALSE)","v":29163},{"$f":"INDIRECT(\"'\"&$S64&\"'!R\"&$T64&\"C\"&COLUMN(),FALSE)","v":20000},{"$f":"INDIRECT(\"'\"&$S64&\"'!R\"&$T64&\"C\"&COLUMN(),FALSE)","v":32615.985563194081},{"$f":"INDIRECT(\"'\"&$S64&\"'!R\"&$T64&\"C\"&COLUMN(),FALSE)","v":22368.059227921738},{"$f":"INDIRECT(\"'\"&$S64&\"'!R\"&$T64&\"C\"&COLUMN(),FALSE)","v":"Used Model 2024"},{"$f":"INDIRECT(\"'\"&$S64&\"'!R\"&$T64&\"C\"&COLUMN(),FALSE)","v":32615.985563194081},{"$f":"INDIRECT(\"'\"&$S64&\"'!R\"&$T64&\"C\"&COLUMN(),FALSE)","v":0.45815},{"$f":"INDIRECT(\"'\"&$S64&\"'!R\"&$T64&\"C\"&COLUMN(),FALSE)","v":"GE Aviation"},{"$f":"INDIRECT(\"'\"&$S64&\"'!R\"&$T64&\"C\"&COLUMN(),FALSE)","v":10},{"$f":"INDIRECT(\"'\"&$S64&\"'!R\"&$T64&\"C\"&COLUMN(),FALSE)","v":"D"},{"$f":"INDIRECT(\"'\"&$S64&\"'!R\"&$T64&\"C\"&COLUMN(),FALSE)","v":"Remote Data concentrators"},{"$f":"INDIRECT(\"'\"&$S64&\"'!R\"&$T64&\"C\"&COLUMN(),FALSE)","v":0},{"$f":"INDIRECT(\"'\"&$S64&\"'!R\"&$T64&\"C\"&COLUMN(),FALSE)","v":29163},null,"146",60,"29163#D","mil fighter",5]
[{"$f":"INDIRECT(\"'\"&$S65&\"'!R\"&$T65&\"C\"&COLUMN(),FALSE)","v":"146#785"},{"$f":"INDIRECT(\"'\"&$S65&\"'!R\"&$T65&\"C\"&COLUMN(),FALSE)","v":520758},{"$f":"INDIRECT(\"'\"&$S65&\"'!R\"&$T65&\"C\"&COLUMN(),FALSE)","v":400000},{"$f":"INDIRECT(\"'\"&$S65&\"'!R\"&$T65&\"C\"&COLUMN(),FALSE)","v":582417.28937070339},{"$f":"INDIRECT(\"'\"&$S65&\"'!R\"&$T65&\"C\"&COLUMN(),FALSE)","v":447361.18455843476},{"$f":"INDIRECT(\"'\"&$S65&\"'!R\"&$T65&\"C\"&COLUMN(),FALSE)","v":"Used Model 2024"},{"$f":"INDIRECT(\"'\"&$S65&\"'!R\"&$T65&\"C\"&COLUMN(),FALSE)","v":582417.28937070339},{"$f":"INDIRECT(\"'\"&$S65&\"'!R\"&$T65&\"C\"&COLUMN(),FALSE)","v":0.30189500000000002},{"$f":"INDIRECT(\"'\"&$S65&\"'!R\"&$T65&\"C\"&COLUMN(),FALSE)","v":"Harris L3"},{"$f":"INDIRECT(\"'\"&$S65&\"'!R\"&$T65&\"C\"&COLUMN(),FALSE)","v":1},{"$f":"INDIRECT(\"'\"&$S65&\"'!R\"&$T65&\"C\"&COLUMN(),FALSE)","v":"C"},{"$f":"INDIRECT(\"'\"&$S65&\"'!R\"&$T65&\"C\"&COLUMN(),FALSE)","v":"Integrated Core Processor (ICP)"},{"$f":"INDIRECT(\"'\"&$S65&\"'!R\"&$T65&\"C\"&COLUMN(),FALSE)","v":0},{"$f":"INDIRECT(\"'\"&$S65&\"'!R\"&$T65&\"C\"&COLUMN(),FALSE)","v":520758},null,"146",61,"520758#C","mil fighter",6]
[{"$f":"INDIRECT(\"'\"&$S66&\"'!R\"&$T66&\"C\"&COLUMN(),FALSE)","v":"146#786"},{"$f":"INDIRECT(\"'\"&$S66&\"'!R\"&$T66&\"C\"&COLUMN(),FALSE)","v":132982},{"$f":"INDIRECT(\"'\"&$S66&\"'!R\"&$T66&\"C\"&COLUMN(),FALSE)","v":125000},{"$f":"INDIRECT(\"'\"&$S66&\"'!R\"&$T66&\"C\"&COLUMN(),FALSE)","v":148727.46261237442},{"$f":"INDIRECT(\"'\"&$S66&\"'!R\"&$T66&\"C\"&COLUMN(),FALSE)","v":139800.37017451087},{"$f":"INDIRECT(\"'\"&$S66&\"'!R\"&$T66&\"C\"&COLUMN(),FALSE)","v":"Used Model 2024"},{"$f":"INDIRECT(\"'\"&$S66&\"'!R\"&$T66&\"C\"&COLUMN(),FALSE)","v":148727.46261237442},{"$f":"INDIRECT(\"'\"&$S66&\"'!R\"&$T66&\"C\"&COLUMN(),FALSE)","v":6.3855999999999996E-2},{"$f":"INDIRECT(\"'\"&$S66&\"'!R\"&$T66&\"C\"&COLUMN(),FALSE)","v":"Northrop Grumman"},{"$f":"INDIRECT(\"'\"&$S66&\"'!R\"&$T66&\"C\"&COLUMN(),FALSE)","v":1},{"$f":"INDIRECT(\"'\"&$S66&\"'!R\"&$T66&\"C\"&COLUMN(),FALSE)","v":"C"},{"$f":"INDIRECT(\"'\"&$S66&\"'!R\"&$T66&\"C\"&COLUMN(),FALSE)","v":"Communication, Navigation, Identification Unit AN/ASQ-242"},{"$f":"INDIRECT(\"'\"&$S66&\"'!R\"&$T66&\"C\"&COLUMN(),FALSE)","v":0},{"$f":"INDIRECT(\"'\"&$S66&\"'!R\"&$T66&\"C\"&COLUMN(),FALSE)","v":132982},null,"146",62,"132982#C","mil fighter",7]
[{"$f":"INDIRECT(\"'\"&$S67&\"'!R\"&$T67&\"C\"&COLUMN(),FALSE)","v":"146#787"},{"$f":"INDIRECT(\"'\"&$S67&\"'!R\"&$T67&\"C\"&COLUMN(),FALSE)","v":122305},{"$f":"INDIRECT(\"'\"&$S67&\"'!R\"&$T67&\"C\"&COLUMN(),FALSE)","v":125000},{"$f":"INDIRECT(\"'\"&$S67&\"'!R\"&$T67&\"C\"&COLUMN(),FALSE)","v":136786.27419354839},{"$f":"INDIRECT(\"'\"&$S67&\"'!R\"&$T67&\"C\"&COLUMN(),FALSE)","v":139800.37017451087},{"$f":"INDIRECT(\"'\"&$S67&\"'!R\"&$T67&\"C\"&COLUMN(),FALSE)","v":"Used Model 2024"},{"$f":"INDIRECT(\"'\"&$S67&\"'!R\"&$T67&\"C\"&COLUMN(),FALSE)","v":136786.27419354839},{"$f":"INDIRECT(\"'\"&$S67&\"'!R\"&$T67&\"C\"&COLUMN(),FALSE)","v":-2.1559999999999999E-2},{"$f":"INDIRECT(\"'\"&$S67&\"'!R\"&$T67&\"C\"&COLUMN(),FALSE)","v":"Northrop Grumman"},{"$f":"INDIRECT(\"'\"&$S67&\"'!R\"&$T67&\"C\"&COLUMN(),FALSE)","v":1},{"$f":"INDIRECT(\"'\"&$S67&\"'!R\"&$T67&\"C\"&COLUMN(),FALSE)","v":"C"},{"$f":"INDIRECT(\"'\"&$S67&\"'!R\"&$T67&\"C\"&COLUMN(),FALSE)","v":"Communication, Navigation, Identification Unit AN/ASQ-242"},{"$f":"INDIRECT(\"'\"&$S67&\"'!R\"&$T67&\"C\"&COLUMN(),FALSE)","v":0},{"$f":"INDIRECT(\"'\"&$S67&\"'!R\"&$T67&\"C\"&COLUMN(),FALSE)","v":122305},null,"146",63,"122305#C","mil fighter",8]
[{"$f":"INDIRECT(\"'\"&$S68&\"'!R\"&$T68&\"C\"&COLUMN(),FALSE)","v":"146#788"},{"$f":"INDIRECT(\"'\"&$S68&\"'!R\"&$T68&\"C\"&COLUMN(),FALSE)","v":229660},{"$f":"INDIRECT(\"'\"&$S68&\"'!R\"&$T68&\"C\"&COLUMN(),FALSE)","v":250000},{"$f":"INDIRECT(\"'\"&$S68&\"'!R\"&$T68&\"C\"&COLUMN(),FALSE)","v":256852.42411422532},{"$f":"INDIRECT(\"'\"&$S68&\"'!R\"&$T68&\"C\"&COLUMN(),FALSE)","v":279600.74034902174},{"$f":"INDIRECT(\"'\"&$S68&\"'!R\"&$T68&\"C\"&COLUMN(),FALSE)","v":"Used Model 2024"},{"$f":"INDIRECT(\"'\"&$S68&\"'!R\"&$T68&\"C\"&COLUMN(),FALSE)","v":256852.42411422532},{"$f":"INDIRECT(\"'\"&$S68&\"'!R\"&$T68&\"C\"&COLUMN(),FALSE)","v":-8.1360000000000002E-2},{"$f":"INDIRECT(\"'\"&$S68&\"'!R\"&$T68&\"C\"&COLUMN(),FALSE)","v":"BAE Systems"},{"$f":"INDIRECT(\"'\"&$S68&\"'!R\"&$T68&\"C\"&COLUMN(),FALSE)","v":1},{"$f":"INDIRECT(\"'\"&$S68&\"'!R\"&$T68&\"C\"&COLUMN(),FALSE)","v":"C"},{"$f":"INDIRECT(\"'\"&$S68&\"'!R\"&$T68&\"C\"&COLUMN(),FALSE)","v":"Electronic Warfare suite AN/ASQ-239 (evasion, engagement,  jamming, c/measures)"},{"$f":"INDIRECT(\"'\"&$S68&\"'!R\"&$T68&\"C\"&COLUMN(),FALSE)","v":0},{"$f":"INDIRECT(\"'\"&$S68&\"'!R\"&$T68&\"C\"&COLUMN(),FALSE)","v":229660},null,"146",64,"229660#C","mil fighter",9]
[{"$f":"INDIRECT(\"'\"&$S69&\"'!R\"&$T69&\"C\"&COLUMN(),FALSE)","v":"146#789"},{"$f":"INDIRECT(\"'\"&$S69&\"'!R\"&$T69&\"C\"&COLUMN(),FALSE)","v":151818},{"$f":"INDIRECT(\"'\"&$S69&\"'!R\"&$T69&\"C\"&COLUMN(),FALSE)","v":150000},{"$f":"INDIRECT(\"'\"&$S69&\"'!R\"&$T69&\"C\"&COLUMN(),FALSE)","v":169793.70079323111},{"$f":"INDIRECT(\"'\"&$S69&\"'!R\"&$T69&\"C\"&COLUMN(),FALSE)","v":167760.44420941302},{"$f":"INDIRECT(\"'\"&$S69&\"'!R\"&$T69&\"C\"&COLUMN(),FALSE)","v":"Used Model 2024"},{"$f":"INDIRECT(\"'\"&$S69&\"'!R\"&$T69&\"C\"&COLUMN(),FALSE)","v":169793.70079323111},{"$f":"INDIRECT(\"'\"&$S69&\"'!R\"&$T69&\"C\"&COLUMN(),FALSE)","v":1.2120000000000001E-2},{"$f":"INDIRECT(\"'\"&$S69&\"'!R\"&$T69&\"C\"&COLUMN(),FALSE)","v":"Harris L3"},{"$f":"INDIRECT(\"'\"&$S69&\"'!R\"&$T69&\"C\"&COLUMN(),FALSE)","v":2},{"$f":"INDIRECT(\"'\"&$S69&\"'!R\"&$T69&\"C\"&COLUMN(),FALSE)","v":"B"},{"$f":"INDIRECT(\"'\"&$S69&\"'!R\"&$T69&\"C\"&COLUMN(),FALSE)","v":"Panoramic Display Cockpit Electronic Unit"},{"$f":"INDIRECT(\"'\"&$S69&\"'!R\"&$T69&\"C\"&COLUMN(),FALSE)","v":0},{"$f":"INDIRECT(\"'\"&$S69&\"'!R\"&$T69&\"C\"&COLUMN(),FALSE)","v":151818},null,"146",65,"151818#B","mil fighter",10]
[{"$f":"INDIRECT(\"'\"&$S70&\"'!R\"&$T70&\"C\"&COLUMN(),FALSE)","v":"146#790"},{"$f":"INDIRECT(\"'\"&$S70&\"'!R\"&$T70&\"C\"&COLUMN(),FALSE)","v":202424},{"$f":"INDIRECT(\"'\"&$S70&\"'!R\"&$T70&\"C\"&COLUMN(),FALSE)","v":200000},{"$f":"INDIRECT(\"'\"&$S70&\"'!R\"&$T70&\"C\"&COLUMN(),FALSE)","v":226391.6010576415},{"$f":"INDIRECT(\"'\"&$S70&\"'!R\"&$T70&\"C\"&COLUMN(),FALSE)","v":223680.59227921738},{"$f":"INDIRECT(\"'\"&$S70&\"'!R\"&$T70&\"C\"&COLUMN(),FALSE)","v":"Used Model 2024"},{"$f":"INDIRECT(\"'\"&$S70&\"'!R\"&$T70&\"C\"&COLUMN(),FALSE)","v":226391.6010576415},{"$f":"INDIRECT(\"'\"&$S70&\"'!R\"&$T70&\"C\"&COLUMN(),FALSE)","v":1.2120000000000001E-2},{"$f":"INDIRECT(\"'\"&$S70&\"'!R\"&$T70&\"C\"&COLUMN(),FALSE)","v":"Elbit (switched from Harris L3 in 2017)"},{"$f":"INDIRECT(\"'\"&$S70&\"'!R\"&$T70&\"C\"&COLUMN(),FALSE)","v":1},{"$f":"INDIRECT(\"'\"&$S70&\"'!R\"&$T70&\"C\"&COLUMN(),FALSE)","v":"C"},{"$f":"INDIRECT(\"'\"&$S70&\"'!R\"&$T70&\"C\"&COLUMN(),FALSE)","v":"Panormic Cockpit Display"},{"$f":"INDIRECT(\"'\"&$S70&\"'!R\"&$T70&\"C\"&COLUMN(),FALSE)","v":0},{"$f":"INDIRECT(\"'\"&$S70&\"'!R\"&$T70&\"C\"&COLUMN(),FALSE)","v":202424},null,{"$f":"IFERROR(LEFT(A70,SEARCH(\"#\",A70)-1),\"\")","v":"146"},66,{"$f":"N70&\"#\"&IFERROR(LEFT(K70,SEARCH(\" \",K70)-1),K70)","v":"202424#C"},"mil fighter",11]
[{"$f":"INDIRECT(\"'\"&$S71&\"'!R\"&$T71&\"C\"&COLUMN(),FALSE)","v":"146#791"},{"$f":"INDIRECT(\"'\"&$S71&\"'!R\"&$T71&\"C\"&COLUMN(),FALSE)","v":35424},{"$f":"INDIRECT(\"'\"&$S71&\"'!R\"&$T71&\"C\"&COLUMN(),FALSE)","v":35000},{"$f":"INDIRECT(\"'\"&$S71&\"'!R\"&$T71&\"C\"&COLUMN(),FALSE)","v":39618.306504494984},{"$f":"INDIRECT(\"'\"&$S71&\"'!R\"&$T71&\"C\"&COLUMN(),FALSE)","v":39144.103648863042},{"$f":"INDIRECT(\"'\"&$S71&\"'!R\"&$T71&\"C\"&COLUMN(),FALSE)","v":"Used Model 2024"},{"$f":"INDIRECT(\"'\"&$S71&\"'!R\"&$T71&\"C\"&COLUMN(),FALSE)","v":39618.306504494984},{"$f":"INDIRECT(\"'\"&$S71&\"'!R\"&$T71&\"C\"&COLUMN(),FALSE)","v":1.2114285714285715E-2},{"$f":"INDIRECT(\"'\"&$S71&\"'!R\"&$T71&\"C\"&COLUMN(),FALSE)","v":"GE Aviation"},{"$f":"INDIRECT(\"'\"&$S71&\"'!R\"&$T71&\"C\"&COLUMN(),FALSE)","v":1},{"$f":"INDIRECT(\"'\"&$S71&\"'!R\"&$T71&\"C\"&COLUMN(),FALSE)","v":"H"},{"$f":"INDIRECT(\"'\"&$S71&\"'!R\"&$T71&\"C\"&COLUMN(),FALSE)","v":"Standby display"},{"$f":"INDIRECT(\"'\"&$S71&\"'!R\"&$T71&\"C\"&COLUMN(),FALSE)","v":0},{"$f":"INDIRECT(\"'\"&$S71&\"'!R\"&$T71&\"C\"&COLUMN(),FALSE)","v":35424},null,"146",67,"35424#H","mil fighter",12]
[{"$f":"INDIRECT(\"'\"&$S72&\"'!R\"&$T72&\"C\"&COLUMN(),FALSE)","v":"146#792"},{"$f":"INDIRECT(\"'\"&$S72&\"'!R\"&$T72&\"C\"&COLUMN(),FALSE)","v":38499},{"$f":"INDIRECT(\"'\"&$S72&\"'!R\"&$T72&\"C\"&COLUMN(),FALSE)","v":25000},{"$f":"INDIRECT(\"'\"&$S72&\"'!R\"&$T72&\"C\"&COLUMN(),FALSE)","v":43057.395610787949},{"$f":"INDIRECT(\"'\"&$S72&\"'!R\"&$T72&\"C\"&COLUMN(),FALSE)","v":27960.074034902173},{"$f":"INDIRECT(\"'\"&$S72&\"'!R\"&$T72&\"C\"&COLUMN(),FALSE)","v":"Used Model 2024"},{"$f":"INDIRECT(\"'\"&$S72&\"'!R\"&$T72&\"C\"&COLUMN(),FALSE)","v":43057.395610787949},{"$f":"INDIRECT(\"'\"&$S72&\"'!R\"&$T72&\"C\"&COLUMN(),FALSE)","v":0.53996},{"$f":"INDIRECT(\"'\"&$S72&\"'!R\"&$T72&\"C\"&COLUMN(),FALSE)","v":"?????"},{"$f":"INDIRECT(\"'\"&$S72&\"'!R\"&$T72&\"C\"&COLUMN(),FALSE)","v":8},{"$f":"INDIRECT(\"'\"&$S72&\"'!R\"&$T72&\"C\"&COLUMN(),FALSE)","v":"C"},{"$f":"INDIRECT(\"'\"&$S72&\"'!R\"&$T72&\"C\"&COLUMN(),FALSE)","v":"Electro Optical Targeting System (FLIR & IRST)"},{"$f":"INDIRECT(\"'\"&$S72&\"'!R\"&$T72&\"C\"&COLUMN(),FALSE)","v":0},{"$f":"INDIRECT(\"'\"&$S72&\"'!R\"&$T72&\"C\"&COLUMN(),FALSE)","v":38499},null,"146",68,"38499#C","mil fighter",13]
[{"$f":"INDIRECT(\"'\"&$S73&\"'!R\"&$T73&\"C\"&COLUMN(),FALSE)","v":"146#793"},{"$f":"INDIRECT(\"'\"&$S73&\"'!R\"&$T73&\"C\"&COLUMN(),FALSE)","v":253030},{"$f":"INDIRECT(\"'\"&$S73&\"'!R\"&$T73&\"C\"&COLUMN(),FALSE)","v":175000},{"$f":"INDIRECT(\"'\"&$S73&\"'!R\"&$T73&\"C\"&COLUMN(),FALSE)","v":282989.50132205186},{"$f":"INDIRECT(\"'\"&$S73&\"'!R\"&$T73&\"C\"&COLUMN(),FALSE)","v":195720.5182443152},{"$f":"INDIRECT(\"'\"&$S73&\"'!R\"&$T73&\"C\"&COLUMN(),FALSE)","v":"Used Model 2024"},{"$f":"INDIRECT(\"'\"&$S73&\"'!R\"&$T73&\"C\"&COLUMN(),FALSE)","v":282989.50132205186},{"$f":"INDIRECT(\"'\"&$S73&\"'!R\"&$T73&\"C\"&COLUMN(),FALSE)","v":0.44588571428571427},{"$f":"INDIRECT(\"'\"&$S73&\"'!R\"&$T73&\"C\"&COLUMN(),FALSE)","v":"Rockwell Collins/Elbit"},{"$f":"INDIRECT(\"'\"&$S73&\"'!R\"&$T73&\"C\"&COLUMN(),FALSE)","v":1},{"$f":"INDIRECT(\"'\"&$S73&\"'!R\"&$T73&\"C\"&COLUMN(),FALSE)","v":"D"},{"$f":"INDIRECT(\"'\"&$S73&\"'!R\"&$T73&\"C\"&COLUMN(),FALSE)","v":"Pilot Helmet Mounted Display System"},{"$f":"INDIRECT(\"'\"&$S73&\"'!R\"&$T73&\"C\"&COLUMN(),FALSE)","v":0},{"$f":"INDIRECT(\"'\"&$S73&\"'!R\"&$T73&\"C\"&COLUMN(),FALSE)","v":253030},null,"146",69,"253030#D","mil fighter",14]
[{"$f":"INDIRECT(\"'\"&$S74&\"'!R\"&$T74&\"C\"&COLUMN(),FALSE)","v":"146#794"},{"$f":"INDIRECT(\"'\"&$S74&\"'!R\"&$T74&\"C\"&COLUMN(),FALSE)","v":28767},{"$f":"INDIRECT(\"'\"&$S74&\"'!R\"&$T74&\"C\"&COLUMN(),FALSE)","v":25000},{"$f":"INDIRECT(\"'\"&$S74&\"'!R\"&$T74&\"C\"&COLUMN(),FALSE)","v":32173.09799048123},{"$f":"INDIRECT(\"'\"&$S74&\"'!R\"&$T74&\"C\"&COLUMN(),FALSE)","v":27960.074034902173},{"$f":"INDIRECT(\"'\"&$S74&\"'!R\"&$T74&\"C\"&COLUMN(),FALSE)","v":"Used Model 2024"},{"$f":"INDIRECT(\"'\"&$S74&\"'!R\"&$T74&\"C\"&COLUMN(),FALSE)","v":32173.09799048123},{"$f":"INDIRECT(\"'\"&$S74&\"'!R\"&$T74&\"C\"&COLUMN(),FALSE)","v":0.15068000000000001},{"$f":"INDIRECT(\"'\"&$S74&\"'!R\"&$T74&\"C\"&COLUMN(),FALSE)","v":"Harris L3"},{"$f":"INDIRECT(\"'\"&$S74&\"'!R\"&$T74&\"C\"&COLUMN(),FALSE)","v":1},{"$f":"INDIRECT(\"'\"&$S74&\"'!R\"&$T74&\"C\"&COLUMN(),FALSE)","v":"C"},{"$f":"INDIRECT(\"'\"&$S74&\"'!R\"&$T74&\"C\"&COLUMN(),FALSE)","v":"Multi function Advanced Data link AAA Array"},{"$f":"INDIRECT(\"'\"&$S74&\"'!R\"&$T74&\"C\"&COLUMN(),FALSE)","v":0},{"$f":"INDIRECT(\"'\"&$S74&\"'!R\"&$T74&\"C\"&COLUMN(),FALSE)","v":28767},null,"146",70,"28767#C","mil fighter",15]
[{"$f":"INDIRECT(\"'\"&$S75&\"'!R\"&$T75&\"C\"&COLUMN(),FALSE)","v":"146#795"},{"$f":"INDIRECT(\"'\"&$S75&\"'!R\"&$T75&\"C\"&COLUMN(),FALSE)","v":279016},{"$f":"INDIRECT(\"'\"&$S75&\"'!R\"&$T75&\"C\"&COLUMN(),FALSE)","v":200000},{"$f":"INDIRECT(\"'\"&$S75&\"'!R\"&$T75&\"C\"&COLUMN(),FALSE)","v":312052.32067689055},{"$f":"INDIRECT(\"'\"&$S75&\"'!R\"&$T75&\"C\"&COLUMN(),FALSE)","v":223680.59227921738},{"$f":"INDIRECT(\"'\"&$S75&\"'!R\"&$T75&\"C\"&COLUMN(),FALSE)","v":"Used Model 2024"},{"$f":"INDIRECT(\"'\"&$S75&\"'!R\"&$T75&\"C\"&COLUMN(),FALSE)","v":312052.32067689055},{"$f":"INDIRECT(\"'\"&$S75&\"'!R\"&$T75&\"C\"&COLUMN(),FALSE)","v":0.39507999999999999},{"$f":"INDIRECT(\"'\"&$S75&\"'!R\"&$T75&\"C\"&COLUMN(),FALSE)","v":"Harris L3 ??"},{"$f":"INDIRECT(\"'\"&$S75&\"'!R\"&$T75&\"C\"&COLUMN(),FALSE)","v":2},{"$f":"INDIRECT(\"'\"&$S75&\"'!R\"&$T75&\"C\"&COLUMN(),FALSE)","v":"F"},{"$f":"INDIRECT(\"'\"&$S75&\"'!R\"&$T75&\"C\"&COLUMN(),FALSE)","v":"Mission computers"},{"$f":"INDIRECT(\"'\"&$S75&\"'!R\"&$T75&\"C\"&COLUMN(),FALSE)","v":0},{"$f":"INDIRECT(\"'\"&$S75&\"'!R\"&$T75&\"C\"&COLUMN(),FALSE)","v":279016},null,"146",71,"279016#F","mil fighter",16]
[{"$f":"INDIRECT(\"'\"&$S76&\"'!R\"&$T76&\"C\"&COLUMN(),FALSE)","v":"146#796"},{"$f":"INDIRECT(\"'\"&$S76&\"'!R\"&$T76&\"C\"&COLUMN(),FALSE)","v":247492},{"$f":"INDIRECT(\"'\"&$S76&\"'!R\"&$T76&\"C\"&COLUMN(),FALSE)","v":300000},{"$f":"INDIRECT(\"'\"&$S76&\"'!R\"&$T76&\"C\"&COLUMN(),FALSE)","v":276795.78572184034},{"$f":"INDIRECT(\"'\"&$S76&\"'!R\"&$T76&\"C\"&COLUMN(),FALSE)","v":335520.88841882604},{"$f":"INDIRECT(\"'\"&$S76&\"'!R\"&$T76&\"C\"&COLUMN(),FALSE)","v":"Used Model 2024"},{"$f":"INDIRECT(\"'\"&$S76&\"'!R\"&$T76&\"C\"&COLUMN(),FALSE)","v":276795.78572184034},{"$f":"INDIRECT(\"'\"&$S76&\"'!R\"&$T76&\"C\"&COLUMN(),FALSE)","v":-0.17502666666666666},{"$f":"INDIRECT(\"'\"&$S76&\"'!R\"&$T76&\"C\"&COLUMN(),FALSE)","v":"Northrop Grumman"},{"$f":"INDIRECT(\"'\"&$S76&\"'!R\"&$T76&\"C\"&COLUMN(),FALSE)","v":1},{"$f":"INDIRECT(\"'\"&$S76&\"'!R\"&$T76&\"C\"&COLUMN(),FALSE)","v":"C"},{"$f":"INDIRECT(\"'\"&$S76&\"'!R\"&$T76&\"C\"&COLUMN(),FALSE)","v":"AESA Radar"},{"$f":"INDIRECT(\"'\"&$S76&\"'!R\"&$T76&\"C\"&COLUMN(),FALSE)","v":0},{"$f":"INDIRECT(\"'\"&$S76&\"'!R\"&$T76&\"C\"&COLUMN(),FALSE)","v":247492},null,"146",72,"247492#C","mil fighter",17]
[{"$f":"INDIRECT(\"'\"&$S77&\"'!R\"&$T77&\"C\"&COLUMN(),FALSE)","v":"146#797"},{"$f":"INDIRECT(\"'\"&$S77&\"'!R\"&$T77&\"C\"&COLUMN(),FALSE)","v":86301},{"$f":"INDIRECT(\"'\"&$S77&\"'!R\"&$T77&\"C\"&COLUMN(),FALSE)","v":50000},{"$f":"INDIRECT(\"'\"&$S77&\"'!R\"&$T77&\"C\"&COLUMN(),FALSE)","v":96519.293971443694},{"$f":"INDIRECT(\"'\"&$S77&\"'!R\"&$T77&\"C\"&COLUMN(),FALSE)","v":55920.148069804345},{"$f":"INDIRECT(\"'\"&$S77&\"'!R\"&$T77&\"C\"&COLUMN(),FALSE)","v":"Used Model 2024"},{"$f":"INDIRECT(\"'\"&$S77&\"'!R\"&$T77&\"C\"&COLUMN(),FALSE)","v":96519.293971443694},{"$f":"INDIRECT(\"'\"&$S77&\"'!R\"&$T77&\"C\"&COLUMN(),FALSE)","v":0.72602},{"$f":"INDIRECT(\"'\"&$S77&\"'!R\"&$T77&\"C\"&COLUMN(),FALSE)","v":"Harris"},{"$f":"INDIRECT(\"'\"&$S77&\"'!R\"&$T77&\"C\"&COLUMN(),FALSE)","v":1},{"$f":"INDIRECT(\"'\"&$S77&\"'!R\"&$T77&\"C\"&COLUMN(),FALSE)","v":"C"},{"$f":"INDIRECT(\"'\"&$S77&\"'!R\"&$T77&\"C\"&COLUMN(),FALSE)","v":"Aircraft memory system"},{"$f":"INDIRECT(\"'\"&$S77&\"'!R\"&$T77&\"C\"&COLUMN(),FALSE)","v":0},{"$f":"INDIRECT(\"'\"&$S77&\"'!R\"&$T77&\"C\"&COLUMN(),FALSE)","v":86301},null,"146",73,"86301#C","mil fighter",18]
[{"$f":"INDIRECT(\"'\"&$S78&\"'!R\"&$T78&\"C\"&COLUMN(),FALSE)","v":"146#798"},{"$f":"INDIRECT(\"'\"&$S78&\"'!R\"&$T78&\"C\"&COLUMN(),FALSE)","v":65998},{"$f":"INDIRECT(\"'\"&$S78&\"'!R\"&$T78&\"C\"&COLUMN(),FALSE)","v":75000},{"$f":"INDIRECT(\"'\"&$S78&\"'!R\"&$T78&\"C\"&COLUMN(),FALSE)","v":73812.358646218941},{"$f":"INDIRECT(\"'\"&$S78&\"'!R\"&$T78&\"C\"&COLUMN(),FALSE)","v":83880.22210470651},{"$f":"INDIRECT(\"'\"&$S78&\"'!R\"&$T78&\"C\"&COLUMN(),FALSE)","v":"Used Model 2024"},{"$f":"INDIRECT(\"'\"&$S78&\"'!R\"&$T78&\"C\"&COLUMN(),FALSE)","v":73812.358646218941},{"$f":"INDIRECT(\"'\"&$S78&\"'!R\"&$T78&\"C\"&COLUMN(),FALSE)","v":-0.12002666666666667},{"$f":"INDIRECT(\"'\"&$S78&\"'!R\"&$T78&\"C\"&COLUMN(),FALSE)","v":"Northrop Grumman/Raytheon?"},{"$f":"INDIRECT(\"'\"&$S78&\"'!R\"&$T78&\"C\"&COLUMN(),FALSE)","v":6},{"$f":"INDIRECT(\"'\"&$S78&\"'!R\"&$T78&\"C\"&COLUMN(),FALSE)","v":"C"},{"$f":"INDIRECT(\"'\"&$S78&\"'!R\"&$T78&\"C\"&COLUMN(),FALSE)","v":"Distributed Aperture System (electro-optical)"},{"$f":"INDIRECT(\"'\"&$S78&\"'!R\"&$T78&\"C\"&COLUMN(),FALSE)","v":0},{"$f":"INDIRECT(\"'\"&$S78&\"'!R\"&$T78&\"C\"&COLUMN(),FALSE)","v":65998},null,"146",74,"65998#C","mil fighter",19]
[{"$f":"INDIRECT(\"'\"&$S79&\"'!R\"&$T79&\"C\"&COLUMN(),FALSE)","v":"146#799"},{"$f":"INDIRECT(\"'\"&$S79&\"'!R\"&$T79&\"C\"&COLUMN(),FALSE)","v":14677},{"$f":"INDIRECT(\"'\"&$S79&\"'!R\"&$T79&\"C\"&COLUMN(),FALSE)","v":15000},{"$f":"INDIRECT(\"'\"&$S79&\"'!R\"&$T79&\"C\"&COLUMN(),FALSE)","v":16414.800264410365},{"$f":"INDIRECT(\"'\"&$S79&\"'!R\"&$T79&\"C\"&COLUMN(),FALSE)","v":16776.044420941304},{"$f":"INDIRECT(\"'\"&$S79&\"'!R\"&$T79&\"C\"&COLUMN(),FALSE)","v":"Used Model 2024"},{"$f":"INDIRECT(\"'\"&$S79&\"'!R\"&$T79&\"C\"&COLUMN(),FALSE)","v":16414.800264410365},{"$f":"INDIRECT(\"'\"&$S79&\"'!R\"&$T79&\"C\"&COLUMN(),FALSE)","v":-2.1533333333333335E-2},{"$f":"INDIRECT(\"'\"&$S79&\"'!R\"&$T79&\"C\"&COLUMN(),FALSE)","v":"Harris L3"},{"$f":"INDIRECT(\"'\"&$S79&\"'!R\"&$T79&\"C\"&COLUMN(),FALSE)","v":6},{"$f":"INDIRECT(\"'\"&$S79&\"'!R\"&$T79&\"C\"&COLUMN(),FALSE)","v":"C"},{"$f":"INDIRECT(\"'\"&$S79&\"'!R\"&$T79&\"C\"&COLUMN(),FALSE)","v":"Antenna suite"},{"$f":"INDIRECT(\"'\"&$S79&\"'!R\"&$T79&\"C\"&COLUMN(),FALSE)","v":0},{"$f":"INDIRECT(\"'\"&$S79&\"'!R\"&$T79&\"C\"&COLUMN(),FALSE)","v":14677},null,"146",75,"14677#C","mil fighter",20]
[{"$f":"INDIRECT(\"'\"&$S80&\"'!R\"&$T80&\"C\"&COLUMN(),FALSE)","v":"146#800"},{"$f":"INDIRECT(\"'\"&$S80&\"'!R\"&$T80&\"C\"&COLUMN(),FALSE)","v":57534},{"$f":"INDIRECT(\"'\"&$S80&\"'!R\"&$T80&\"C\"&COLUMN(),FALSE)","v":50000},{"$f":"INDIRECT(\"'\"&$S80&\"'!R\"&$T80&\"C\"&COLUMN(),FALSE)","v":64346.19598096246},{"$f":"INDIRECT(\"'\"&$S80&\"'!R\"&$T80&\"C\"&COLUMN(),FALSE)","v":55920.148069804345},{"$f":"INDIRECT(\"'\"&$S80&\"'!R\"&$T80&\"C\"&COLUMN(),FALSE)","v":"Used Model 2024"},{"$f":"INDIRECT(\"'\"&$S80&\"'!R\"&$T80&\"C\"&COLUMN(),FALSE)","v":64346.19598096246},{"$f":"INDIRECT(\"'\"&$S80&\"'!R\"&$T80&\"C\"&COLUMN(),FALSE)","v":0.15068000000000001},{"$f":"INDIRECT(\"'\"&$S80&\"'!R\"&$T80&\"C\"&COLUMN(),FALSE)","v":"???"},{"$f":"INDIRECT(\"'\"&$S80&\"'!R\"&$T80&\"C\"&COLUMN(),FALSE)","v":2},{"$f":"INDIRECT(\"'\"&$S80&\"'!R\"&$T80&\"C\"&COLUMN(),FALSE)","v":"C"},{"$f":"INDIRECT(\"'\"&$S80&\"'!R\"&$T80&\"C\"&COLUMN(),FALSE)","v":"High speed and fibre optics data/signalling network databuses"},{"$f":"INDIRECT(\"'\"&$S80&\"'!R\"&$T80&\"C\"&COLUMN(),FALSE)","v":0},{"$f":"INDIRECT(\"'\"&$S80&\"'!R\"&$T80&\"C\"&COLUMN(),FALSE)","v":57534},null,"146",76,"57534#C","mil fighter",21]
[{"$f":"INDIRECT(\"'\"&$S81&\"'!R\"&$T81&\"C\"&COLUMN(),FALSE)","v":"146#801"},{"$f":"INDIRECT(\"'\"&$S81&\"'!R\"&$T81&\"C\"&COLUMN(),FALSE)","v":23014},{"$f":"INDIRECT(\"'\"&$S81&\"'!R\"&$T81&\"C\"&COLUMN(),FALSE)","v":20000},{"$f":"INDIRECT(\"'\"&$S81&\"'!R\"&$T81&\"C\"&COLUMN(),FALSE)","v":25738.925753569543},{"$f":"INDIRECT(\"'\"&$S81&\"'!R\"&$T81&\"C\"&COLUMN(),FALSE)","v":22368.059227921738},{"$f":"INDIRECT(\"'\"&$S81&\"'!R\"&$T81&\"C\"&COLUMN(),FALSE)","v":"Used Model 2024"},{"$f":"INDIRECT(\"'\"&$S81&\"'!R\"&$T81&\"C\"&COLUMN(),FALSE)","v":25738.925753569543},{"$f":"INDIRECT(\"'\"&$S81&\"'!R\"&$T81&\"C\"&COLUMN(),FALSE)","v":0.1507},{"$f":"INDIRECT(\"'\"&$S81&\"'!R\"&$T81&\"C\"&COLUMN(),FALSE)","v":"Honeywell"},{"$f":"INDIRECT(\"'\"&$S81&\"'!R\"&$T81&\"C\"&COLUMN(),FALSE)","v":1},{"$f":"INDIRECT(\"'\"&$S81&\"'!R\"&$T81&\"C\"&COLUMN(),FALSE)","v":"C"},{"$f":"INDIRECT(\"'\"&$S81&\"'!R\"&$T81&\"C\"&COLUMN(),FALSE)","v":"Radar altimeter"},{"$f":"INDIRECT(\"'\"&$S81&\"'!R\"&$T81&\"C\"&COLUMN(),FALSE)","v":0},{"$f":"INDIRECT(\"'\"&$S81&\"'!R\"&$T81&\"C\"&COLUMN(),FALSE)","v":23014},null,"146",77,"23014#C","mil fighter",22]
[{"$f":"INDIRECT(\"'\"&$S82&\"'!R\"&$T82&\"C\"&COLUMN(),FALSE)","v":"146#879"},{"$f":"INDIRECT(\"'\"&$S82&\"'!R\"&$T82&\"C\"&COLUMN(),FALSE)","v":326072},{"$f":"INDIRECT(\"'\"&$S82&\"'!R\"&$T82&\"C\"&COLUMN(),FALSE)","v":{"$error":"#N/A"}},{"$f":"INDIRECT(\"'\"&$S82&\"'!R\"&$T82&\"C\"&COLUMN(),FALSE)","v":364679.89042834484},{"$f":"INDIRECT(\"'\"&$S82&\"'!R\"&$T82&\"C\"&COLUMN(),FALSE)","v":{"$error":"#N/A"}},{"$f":"INDIRECT(\"'\"&$S82&\"'!R\"&$T82&\"C\"&COLUMN(),FALSE)","v":"Used Model 2024"},{"$f":"INDIRECT(\"'\"&$S82&\"'!R\"&$T82&\"C\"&COLUMN(),FALSE)","v":364679.89042834484},{"$f":"INDIRECT(\"'\"&$S82&\"'!R\"&$T82&\"C\"&COLUMN(),FALSE)","v":{"$error":"#N/A"}},{"$f":"INDIRECT(\"'\"&$S82&\"'!R\"&$T82&\"C\"&COLUMN(),FALSE)","v":{"$error":"#N/A"}},{"$f":"INDIRECT(\"'\"&$S82&\"'!R\"&$T82&\"C\"&COLUMN(),FALSE)","v":1},{"$f":"INDIRECT(\"'\"&$S82&\"'!R\"&$T82&\"C\"&COLUMN(),FALSE)","v":"AE"},{"$f":"INDIRECT(\"'\"&$S82&\"'!R\"&$T82&\"C\"&COLUMN(),FALSE)","v":"Software"},{"$f":"INDIRECT(\"'\"&$S82&\"'!R\"&$T82&\"C\"&COLUMN(),FALSE)","v":0},{"$f":"INDIRECT(\"'\"&$S82&\"'!R\"&$T82&\"C\"&COLUMN(),FALSE)","v":326072},null,"146",78,"326072#AE","mil fighter",23]
[{"$f":"INDIRECT(\"'\"&$S83&\"'!R\"&$T83&\"C\"&COLUMN(),FALSE)","v":"146#880"},{"$f":"INDIRECT(\"'\"&$S83&\"'!R\"&$T83&\"C\"&COLUMN(),FALSE)","v":27499},{"$f":"INDIRECT(\"'\"&$S83&\"'!R\"&$T83&\"C\"&COLUMN(),FALSE)","v":{"$error":"#N/A"}},{"$f":"INDIRECT(\"'\"&$S83&\"'!R\"&$T83&\"C\"&COLUMN(),FALSE)","v":30754.963035430992},{"$f":"INDIRECT(\"'\"&$S83&\"'!R\"&$T83&\"C\"&COLUMN(),FALSE)","v":{"$error":"#N/A"}},{"$f":"INDIRECT(\"'\"&$S83&\"'!R\"&$T83&\"C\"&COLUMN(),FALSE)","v":"Used Model 2024"},{"$f":"INDIRECT(\"'\"&$S83&\"'!R\"&$T83&\"C\"&COLUMN(),FALSE)","v":30754.963035430992},{"$f":"INDIRECT(\"'\"&$S83&\"'!R\"&$T83&\"C\"&COLUMN(),FALSE)","v":{"$error":"#N/A"}},{"$f":"INDIRECT(\"'\"&$S83&\"'!R\"&$T83&\"C\"&COLUMN(),FALSE)","v":{"$error":"#N/A"}},{"$f":"INDIRECT(\"'\"&$S83&\"'!R\"&$T83&\"C\"&COLUMN(),FALSE)","v":4},{"$f":"INDIRECT(\"'\"&$S83&\"'!R\"&$T83&\"C\"&COLUMN(),FALSE)","v":"I"},{"$f":"INDIRECT(\"'\"&$S83&\"'!R\"&$T83&\"C\"&COLUMN(),FALSE)","v":"Air data sensors"},{"$f":"INDIRECT(\"'\"&$S83&\"'!R\"&$T83&\"C\"&COLUMN(),FALSE)","v":0},{"$f":"INDIRECT(\"'\"&$S83&\"'!R\"&$T83&\"C\"&COLUMN(),FALSE)","v":27499},null,"146",79,"27499#I","mil fighter",24]
[{"$f":"INDIRECT(\"'\"&$S84&\"'!R\"&$T84&\"C\"&COLUMN(),FALSE)","v":"146#881"},{"$f":"INDIRECT(\"'\"&$S84&\"'!R\"&$T84&\"C\"&COLUMN(),FALSE)","v":279016},{"$f":"INDIRECT(\"'\"&$S84&\"'!R\"&$T84&\"C\"&COLUMN(),FALSE)","v":{"$error":"#N/A"}},{"$f":"INDIRECT(\"'\"&$S84&\"'!R\"&$T84&\"C\"&COLUMN(),FALSE)","v":312052.32067689055},{"$f":"INDIRECT(\"'\"&$S84&\"'!R\"&$T84&\"C\"&COLUMN(),FALSE)","v":{"$error":"#N/A"}},{"$f":"INDIRECT(\"'\"&$S84&\"'!R\"&$T84&\"C\"&COLUMN(),FALSE)","v":"Used Model 2024"},{"$f":"INDIRECT(\"'\"&$S84&\"'!R\"&$T84&\"C\"&COLUMN(),FALSE)","v":312052.32067689055},{"$f":"INDIRECT(\"'\"&$S84&\"'!R\"&$T84&\"C\"&COLUMN(),FALSE)","v":{"$error":"#N/A"}},{"$f":"INDIRECT(\"'\"&$S84&\"'!R\"&$T84&\"C\"&COLUMN(),FALSE)","v":{"$error":"#N/A"}},{"$f":"INDIRECT(\"'\"&$S84&\"'!R\"&$T84&\"C\"&COLUMN(),FALSE)","v":1},{"$f":"INDIRECT(\"'\"&$S84&\"'!R\"&$T84&\"C\"&COLUMN(),FALSE)","v":"B"},{"$f":"INDIRECT(\"'\"&$S84&\"'!R\"&$T84&\"C\"&COLUMN(),FALSE)","v":"Stores management computer"},{"$f":"INDIRECT(\"'\"&$S84&\"'!R\"&$T84&\"C\"&COLUMN(),FALSE)","v":0},{"$f":"INDIRECT(\"'\"&$S84&\"'!R\"&$T84&\"C\"&COLUMN(),FALSE)","v":279016},null,"146",80,"279016#B","mil fighter",25]
[{"$f":"INDIRECT(\"'\"&$S85&\"'!R\"&$T85&\"C\"&COLUMN(),FALSE)","v":"146#885"},{"$f":"INDIRECT(\"'\"&$S85&\"'!R\"&$T85&\"C\"&COLUMN(),FALSE)","v":177261},{"$f":"INDIRECT(\"'\"&$S85&\"'!R\"&$T85&\"C\"&COLUMN(),FALSE)","v":{"$error":"#N/A"}},{"$f":"INDIRECT(\"'\"&$S85&\"'!R\"&$T85&\"C\"&COLUMN(),FALSE)","v":198249.22734003176},{"$f":"INDIRECT(\"'\"&$S85&\"'!R\"&$T85&\"C\"&COLUMN(),FALSE)","v":{"$error":"#N/A"}},{"$f":"INDIRECT(\"'\"&$S85&\"'!R\"&$T85&\"C\"&COLUMN(),FALSE)","v":"Used Model 2024"},{"$f":"INDIRECT(\"'\"&$S85&\"'!R\"&$T85&\"C\"&COLUMN(),FALSE)","v":198249.22734003176},{"$f":"INDIRECT(\"'\"&$S85&\"'!R\"&$T85&\"C\"&COLUMN(),FALSE)","v":{"$error":"#N/A"}},{"$f":"INDIRECT(\"'\"&$S85&\"'!R\"&$T85&\"C\"&COLUMN(),FALSE)","v":{"$error":"#N/A"}},{"$f":"INDIRECT(\"'\"&$S85&\"'!R\"&$T85&\"C\"&COLUMN(),FALSE)","v":1},{"$f":"INDIRECT(\"'\"&$S85&\"'!R\"&$T85&\"C\"&COLUMN(),FALSE)","v":"B"},{"$f":"INDIRECT(\"'\"&$S85&\"'!R\"&$T85&\"C\"&COLUMN(),FALSE)","v":"Enhanced Vision system"},{"$f":"INDIRECT(\"'\"&$S85&\"'!R\"&$T85&\"C\"&COLUMN(),FALSE)","v":0},{"$f":"INDIRECT(\"'\"&$S85&\"'!R\"&$T85&\"C\"&COLUMN(),FALSE)","v":177261},null,"146",81,"177261#B","mil fighter",26]
[{"$f":"INDIRECT(\"'\"&$S86&\"'!R\"&$T86&\"C\"&COLUMN(),FALSE)","v":"146#1056"},{"$f":"INDIRECT(\"'\"&$S86&\"'!R\"&$T86&\"C\"&COLUMN(),FALSE)","v":2636},{"$f":"INDIRECT(\"'\"&$S86&\"'!R\"&$T86&\"C\"&COLUMN(),FALSE)","v":{"$error":"#N/A"}},{"$f":"INDIRECT(\"'\"&$S86&\"'!R\"&$T86&\"C\"&COLUMN(),FALSE)","v":2948.1102062400851},{"$f":"INDIRECT(\"'\"&$S86&\"'!R\"&$T86&\"C\"&COLUMN(),FALSE)","v":{"$error":"#N/A"}},{"$f":"INDIRECT(\"'\"&$S86&\"'!R\"&$T86&\"C\"&COLUMN(),FALSE)","v":"Used Model 2024"},{"$f":"INDIRECT(\"'\"&$S86&\"'!R\"&$T86&\"C\"&COLUMN(),FALSE)","v":2948.1102062400851},{"$f":"INDIRECT(\"'\"&$S86&\"'!R\"&$T86&\"C\"&COLUMN(),FALSE)","v":{"$error":"#N/A"}},{"$f":"INDIRECT(\"'\"&$S86&\"'!R\"&$T86&\"C\"&COLUMN(),FALSE)","v":{"$error":"#N/A"}},{"$f":"INDIRECT(\"'\"&$S86&\"'!R\"&$T86&\"C\"&COLUMN(),FALSE)","v":1},{"$f":"INDIRECT(\"'\"&$S86&\"'!R\"&$T86&\"C\"&COLUMN(),FALSE)","v":"BR"},{"$f":"INDIRECT(\"'\"&$S86&\"'!R\"&$T86&\"C\"&COLUMN(),FALSE)","v":"Avionics Harnesses"},{"$f":"INDIRECT(\"'\"&$S86&\"'!R\"&$T86&\"C\"&COLUMN(),FALSE)","v":0},{"$f":"INDIRECT(\"'\"&$S86&\"'!R\"&$T86&\"C\"&COLUMN(),FALSE)","v":2636},null,"146",82,"2636#BR","mil fighter",27]
[{"$f":"INDIRECT(\"'\"&$S87&\"'!R\"&$T87&\"C\"&COLUMN(),FALSE)","v":"146#1057"},{"$f":"INDIRECT(\"'\"&$S87&\"'!R\"&$T87&\"C\"&COLUMN(),FALSE)","v":18772},{"$f":"INDIRECT(\"'\"&$S87&\"'!R\"&$T87&\"C\"&COLUMN(),FALSE)","v":{"$error":"#N/A"}},{"$f":"INDIRECT(\"'\"&$S87&\"'!R\"&$T87&\"C\"&COLUMN(),FALSE)","v":20994.660391327343},{"$f":"INDIRECT(\"'\"&$S87&\"'!R\"&$T87&\"C\"&COLUMN(),FALSE)","v":{"$error":"#N/A"}},{"$f":"INDIRECT(\"'\"&$S87&\"'!R\"&$T87&\"C\"&COLUMN(),FALSE)","v":"Used Model 2024"},{"$f":"INDIRECT(\"'\"&$S87&\"'!R\"&$T87&\"C\"&COLUMN(),FALSE)","v":20994.660391327343},{"$f":"INDIRECT(\"'\"&$S87&\"'!R\"&$T87&\"C\"&COLUMN(),FALSE)","v":{"$error":"#N/A"}},{"$f":"INDIRECT(\"'\"&$S87&\"'!R\"&$T87&\"C\"&COLUMN(),FALSE)","v":{"$error":"#N/A"}},{"$f":"INDIRECT(\"'\"&$S87&\"'!R\"&$T87&\"C\"&COLUMN(),FALSE)","v":1},{"$f":"INDIRECT(\"'\"&$S87&\"'!R\"&$T87&\"C\"&COLUMN(),FALSE)","v":"BR"},{"$f":"INDIRECT(\"'\"&$S87&\"'!R\"&$T87&\"C\"&COLUMN(),FALSE)","v":"Avionics Harnesses"},{"$f":"INDIRECT(\"'\"&$S87&\"'!R\"&$T87&\"C\"&COLUMN(),FALSE)","v":0},{"$f":"INDIRECT(\"'\"&$S87&\"'!R\"&$T87&\"C\"&COLUMN(),FALSE)","v":18772},null,"146",83,"18772#BR","mil fighter",28]
[{"$f":"INDIRECT(\"'\"&$S88&\"'!R\"&$T88&\"C\"&COLUMN(),FALSE)","v":"146#1058"},{"$f":"INDIRECT(\"'\"&$S88&\"'!R\"&$T88&\"C\"&COLUMN(),FALSE)","v":22700},{"$f":"INDIRECT(\"'\"&$S88&\"'!R\"&$T88&\"C\"&COLUMN(),FALSE)","v":{"$error":"#N/A"}},{"$f":"INDIRECT(\"'\"&$S88&\"'!R\"&$T88&\"C\"&COLUMN(),FALSE)","v":25387.747223691171},{"$f":"INDIRECT(\"'\"&$S88&\"'!R\"&$T88&\"C\"&COLUMN(),FALSE)","v":{"$error":"#N/A"}},{"$f":"INDIRECT(\"'\"&$S88&\"'!R\"&$T88&\"C\"&COLUMN(),FALSE)","v":"Used Model 2024"},{"$f":"INDIRECT(\"'\"&$S88&\"'!R\"&$T88&\"C\"&COLUMN(),FALSE)","v":25387.747223691171},{"$f":"INDIRECT(\"'\"&$S88&\"'!R\"&$T88&\"C\"&COLUMN(),FALSE)","v":{"$error":"#N/A"}},{"$f":"INDIRECT(\"'\"&$S88&\"'!R\"&$T88&\"C\"&COLUMN(),FALSE)","v":{"$error":"#N/A"}},{"$f":"INDIRECT(\"'\"&$S88&\"'!R\"&$T88&\"C\"&COLUMN(),FALSE)","v":1},{"$f":"INDIRECT(\"'\"&$S88&\"'!R\"&$T88&\"C\"&COLUMN(),FALSE)","v":"BR"},{"$f":"INDIRECT(\"'\"&$S88&\"'!R\"&$T88&\"C\"&COLUMN(),FALSE)","v":"Avionics Harnesses"},{"$f":"INDIRECT(\"'\"&$S88&\"'!R\"&$T88&\"C\"&COLUMN(),FALSE)","v":0},{"$f":"INDIRECT(\"'\"&$S88&\"'!R\"&$T88&\"C\"&COLUMN(),FALSE)","v":22700},null,"146",84,"22700#BR","mil fighter",29]
[{"$f":"INDIRECT(\"'\"&$S89&\"'!R\"&$T89&\"C\"&COLUMN(),FALSE)","v":"146#1059"},{"$f":"INDIRECT(\"'\"&$S89&\"'!R\"&$T89&\"C\"&COLUMN(),FALSE)","v":4693},{"$f":"INDIRECT(\"'\"&$S89&\"'!R\"&$T89&\"C\"&COLUMN(),FALSE)","v":{"$error":"#N/A"}},{"$f":"INDIRECT(\"'\"&$S89&\"'!R\"&$T89&\"C\"&COLUMN(),FALSE)","v":5248.6650978318357},{"$f":"INDIRECT(\"'\"&$S89&\"'!R\"&$T89&\"C\"&COLUMN(),FALSE)","v":{"$error":"#N/A"}},{"$f":"INDIRECT(\"'\"&$S89&\"'!R\"&$T89&\"C\"&COLUMN(),FALSE)","v":"Used Model 2024"},{"$f":"INDIRECT(\"'\"&$S89&\"'!R\"&$T89&\"C\"&COLUMN(),FALSE)","v":5248.6650978318357},{"$f":"INDIRECT(\"'\"&$S89&\"'!R\"&$T89&\"C\"&COLUMN(),FALSE)","v":{"$error":"#N/A"}},{"$f":"INDIRECT(\"'\"&$S89&\"'!R\"&$T89&\"C\"&COLUMN(),FALSE)","v":{"$error":"#N/A"}},{"$f":"INDIRECT(\"'\"&$S89&\"'!R\"&$T89&\"C\"&COLUMN(),FALSE)","v":1},{"$f":"INDIRECT(\"'\"&$S89&\"'!R\"&$T89&\"C\"&COLUMN(),FALSE)","v":"BR"},{"$f":"INDIRECT(\"'\"&$S89&\"'!R\"&$T89&\"C\"&COLUMN(),FALSE)","v":"Avionics Harnesses"},{"$f":"INDIRECT(\"'\"&$S89&\"'!R\"&$T89&\"C\"&COLUMN(),FALSE)","v":0},{"$f":"INDIRECT(\"'\"&$S89&\"'!R\"&$T89&\"C\"&COLUMN(),FALSE)","v":4693},null,"146",85,"4693#BR","mil fighter",30]
[{"$f":"INDIRECT(\"'\"&$S90&\"'!R\"&$T90&\"C\"&COLUMN(),FALSE)","v":0},{"$f":"INDIRECT(\"'\"&$S90&\"'!R\"&$T90&\"C\"&COLUMN(),FALSE)","v":""},{"$f":"INDIRECT(\"'\"&$S90&\"'!R\"&$T90&\"C\"&COLUMN(),FALSE)","v":25000},{"$f":"INDIRECT(\"'\"&$S90&\"'!R\"&$T90&\"C\"&COLUMN(),FALSE)","v":{"$error":"#VALUE!"}},{"$f":"INDIRECT(\"'\"&$S90&\"'!R\"&$T90&\"C\"&COLUMN(),FALSE)","v":27960.074034902173},{"$f":"INDIRECT(\"'\"&$S90&\"'!R\"&$T90&\"C\"&COLUMN(),FALSE)","v":"Used PW 2024"},{"$f":"INDIRECT(\"'\"&$S90&\"'!R\"&$T90&\"C\"&COLUMN(),FALSE)","v":27960.074034902173},{"$f":"INDIRECT(\"'\"&$S90&\"'!R\"&$T90&\"C\"&COLUMN(),FALSE)","v":{"$error":"#VALUE!"}},{"$f":"INDIRECT(\"'\"&$S90&\"'!R\"&$T90&\"C\"&COLUMN(),FALSE)","v":{"$error":"#N/A"}},{"$f":"INDIRECT(\"'\"&$S90&\"'!R\"&$T90&\"C\"&COLUMN(),FALSE)","v":1},{"$f":"INDIRECT(\"'\"&$S90&\"'!R\"&$T90&\"C\"&COLUMN(),FALSE)","v":{"$error":"#N/A"}},{"$f":"INDIRECT(\"'\"&$S90&\"'!R\"&$T90&\"C\"&COLUMN(),FALSE)","v":0},{"$f":"INDIRECT(\"'\"&$S90&\"'!R\"&$T90&\"C\"&COLUMN(),FALSE)","v":"Multi function Advanced Data link AIA Antenna"},{"$f":"INDIRECT(\"'\"&$S90&\"'!R\"&$T90&\"C\"&COLUMN(),FALSE)","v":""},null,"",86,{"$error":"#N/A"},"mil fighter",31]
[{"$f":"INDIRECT(\"'\"&$S91&\"'!R\"&$T91&\"C\"&COLUMN(),FALSE)","v":"518#709"},{"$f":"INDIRECT(\"'\"&$S91&\"'!R\"&$T91&\"C\"&COLUMN(),FALSE)","v":97461},{"$f":"INDIRECT(\"'\"&$S91&\"'!R\"&$T91&\"C\"&COLUMN(),FALSE)","v":60000},{"$f":"INDIRECT(\"'\"&$S91&\"'!R\"&$T91&\"C\"&COLUMN(),FALSE)","v":109000.67102062402},{"$f":"INDIRECT(\"'\"&$S91&\"'!R\"&$T91&\"C\"&COLUMN(),FALSE)","v":67104.177683765214},{"$f":"INDIRECT(\"'\"&$S91&\"'!R\"&$T91&\"C\"&COLUMN(),FALSE)","v":"PW 2020 Low"},{"$f":"INDIRECT(\"'\"&$S91&\"'!R\"&$T91&\"C\"&COLUMN(),FALSE)","v":110000},{"$f":"INDIRECT(\"'\"&$S91&\"'!R\"&$T91&\"C\"&COLUMN(),FALSE)","v":0.62434999999999996},{"$f":"INDIRECT(\"'\"&$S91&\"'!R\"&$T91&\"C\"&COLUMN(),FALSE)","v":"Honeywell or Thales"},{"$f":"INDIRECT(\"'\"&$S91&\"'!R\"&$T91&\"C\"&COLUMN(),FALSE)","v":2},{"$f":"INDIRECT(\"'\"&$S91&\"'!R\"&$T91&\"C\"&COLUMN(),FALSE)","v":"L"},{"$f":"INDIRECT(\"'\"&$S91&\"'!R\"&$T91&\"C\"&COLUMN(),FALSE)","v":"FMGC"},{"$f":"INDIRECT(\"'\"&$S91&\"'!R\"&$T91&\"C\"&COLUMN(),FALSE)","v":0},{"$f":"INDIRECT(\"'\"&$S91&\"'!R\"&$T91&\"C\"&COLUMN(),FALSE)","v":97461},null,"518",87,"97461#L","wide body (non IMA)",5]
[{"$f":"INDIRECT(\"'\"&$S92&\"'!R\"&$T92&\"C\"&COLUMN(),FALSE)","v":"518#710"},{"$f":"INDIRECT(\"'\"&$S92&\"'!R\"&$T92&\"C\"&COLUMN(),FALSE)","v":41750},{"$f":"INDIRECT(\"'\"&$S92&\"'!R\"&$T92&\"C\"&COLUMN(),FALSE)","v":30000},{"$f":"INDIRECT(\"'\"&$S92&\"'!R\"&$T92&\"C\"&COLUMN(),FALSE)","v":46693.323638286623},{"$f":"INDIRECT(\"'\"&$S92&\"'!R\"&$T92&\"C\"&COLUMN(),FALSE)","v":33552.088841882607},{"$f":"INDIRECT(\"'\"&$S92&\"'!R\"&$T92&\"C\"&COLUMN(),FALSE)","v":"PW 2020 Low"},{"$f":"INDIRECT(\"'\"&$S92&\"'!R\"&$T92&\"C\"&COLUMN(),FALSE)","v":50000},{"$f":"INDIRECT(\"'\"&$S92&\"'!R\"&$T92&\"C\"&COLUMN(),FALSE)","v":0.39166666666666666},{"$f":"INDIRECT(\"'\"&$S92&\"'!R\"&$T92&\"C\"&COLUMN(),FALSE)","v":"Honeywell or Thales"},{"$f":"INDIRECT(\"'\"&$S92&\"'!R\"&$T92&\"C\"&COLUMN(),FALSE)","v":3},{"$f":"INDIRECT(\"'\"&$S92&\"'!R\"&$T92&\"C\"&COLUMN(),FALSE)","v":"J1"},{"$f":"INDIRECT(\"'\"&$S92&\"'!R\"&$T92&\"C\"&COLUMN(),FALSE)","v":"MCDU"},{"$f":"INDIRECT(\"'\"&$S92&\"'!R\"&$T92&\"C\"&COLUMN(),FALSE)","v":0},{"$f":"INDIRECT(\"'\"&$S92&\"'!R\"&$T92&\"C\"&COLUMN(),FALSE)","v":41750},null,"518",88,"41750#J1","wide body (non IMA)",6]
[{"$f":"INDIRECT(\"'\"&$S93&\"'!R\"&$T93&\"C\"&COLUMN(),FALSE)","v":"518#713"},{"$f":"INDIRECT(\"'\"&$S93&\"'!R\"&$T93&\"C\"&COLUMN(),FALSE)","v":11206},{"$f":"INDIRECT(\"'\"&$S93&\"'!R\"&$T93&\"C\"&COLUMN(),FALSE)","v":30000},{"$f":"INDIRECT(\"'\"&$S93&\"'!R\"&$T93&\"C\"&COLUMN(),FALSE)","v":12532.823585404549},{"$f":"INDIRECT(\"'\"&$S93&\"'!R\"&$T93&\"C\"&COLUMN(),FALSE)","v":33552.088841882607},{"$f":"INDIRECT(\"'\"&$S93&\"'!R\"&$T93&\"C\"&COLUMN(),FALSE)","v":"PW 2020 High"},{"$f":"INDIRECT(\"'\"&$S93&\"'!R\"&$T93&\"C\"&COLUMN(),FALSE)","v":13500},{"$f":"INDIRECT(\"'\"&$S93&\"'!R\"&$T93&\"C\"&COLUMN(),FALSE)","v":-0.62646666666666662},{"$f":"INDIRECT(\"'\"&$S93&\"'!R\"&$T93&\"C\"&COLUMN(),FALSE)","v":0},{"$f":"INDIRECT(\"'\"&$S93&\"'!R\"&$T93&\"C\"&COLUMN(),FALSE)","v":2},{"$f":"INDIRECT(\"'\"&$S93&\"'!R\"&$T93&\"C\"&COLUMN(),FALSE)","v":"C"},{"$f":"INDIRECT(\"'\"&$S93&\"'!R\"&$T93&\"C\"&COLUMN(),FALSE)","v":"A/T Engine Control Unit"},{"$f":"INDIRECT(\"'\"&$S93&\"'!R\"&$T93&\"C\"&COLUMN(),FALSE)","v":0},{"$f":"INDIRECT(\"'\"&$S93&\"'!R\"&$T93&\"C\"&COLUMN(),FALSE)","v":11206},null,"518",89,"11206#C","wide body (non IMA)",7]
[{"$f":"INDIRECT(\"'\"&$S94&\"'!R\"&$T94&\"C\"&COLUMN(),FALSE)","v":"518#714"},{"$f":"INDIRECT(\"'\"&$S94&\"'!R\"&$T94&\"C\"&COLUMN(),FALSE)","v":34520},{"$f":"INDIRECT(\"'\"&$S94&\"'!R\"&$T94&\"C\"&COLUMN(),FALSE)","v":15000},{"$f":"INDIRECT(\"'\"&$S94&\"'!R\"&$T94&\"C\"&COLUMN(),FALSE)","v":38607.270227392917},{"$f":"INDIRECT(\"'\"&$S94&\"'!R\"&$T94&\"C\"&COLUMN(),FALSE)","v":16776.044420941304},{"$f":"INDIRECT(\"'\"&$S94&\"'!R\"&$T94&\"C\"&COLUMN(),FALSE)","v":"PW 2020 Low"},{"$f":"INDIRECT(\"'\"&$S94&\"'!R\"&$T94&\"C\"&COLUMN(),FALSE)","v":40000},{"$f":"INDIRECT(\"'\"&$S94&\"'!R\"&$T94&\"C\"&COLUMN(),FALSE)","v":1.3013333333333332},{"$f":"INDIRECT(\"'\"&$S94&\"'!R\"&$T94&\"C\"&COLUMN(),FALSE)","v":0},{"$f":"INDIRECT(\"'\"&$S94&\"'!R\"&$T94&\"C\"&COLUMN(),FALSE)","v":2},{"$f":"INDIRECT(\"'\"&$S94&\"'!R\"&$T94&\"C\"&COLUMN(),FALSE)","v":"E"},{"$f":"INDIRECT(\"'\"&$S94&\"'!R\"&$T94&\"C\"&COLUMN(),FALSE)","v":"Data Base loader"},{"$f":"INDIRECT(\"'\"&$S94&\"'!R\"&$T94&\"C\"&COLUMN(),FALSE)","v":0},{"$f":"INDIRECT(\"'\"&$S94&\"'!R\"&$T94&\"C\"&COLUMN(),FALSE)","v":34520},null,"518",90,"34520#E","wide body (non IMA)",8]
[{"$f":"INDIRECT(\"'\"&$S95&\"'!R\"&$T95&\"C\"&COLUMN(),FALSE)","v":"518#716"},{"$f":"INDIRECT(\"'\"&$S95&\"'!R\"&$T95&\"C\"&COLUMN(),FALSE)","v":52188},{"$f":"INDIRECT(\"'\"&$S95&\"'!R\"&$T95&\"C\"&COLUMN(),FALSE)","v":30000},{"$f":"INDIRECT(\"'\"&$S95&\"'!R\"&$T95&\"C\"&COLUMN(),FALSE)","v":58367.213749338982},{"$f":"INDIRECT(\"'\"&$S95&\"'!R\"&$T95&\"C\"&COLUMN(),FALSE)","v":33552.088841882607},{"$f":"INDIRECT(\"'\"&$S95&\"'!R\"&$T95&\"C\"&COLUMN(),FALSE)","v":"PW 2020 Low"},{"$f":"INDIRECT(\"'\"&$S95&\"'!R\"&$T95&\"C\"&COLUMN(),FALSE)","v":60000},{"$f":"INDIRECT(\"'\"&$S95&\"'!R\"&$T95&\"C\"&COLUMN(),FALSE)","v":0.73960000000000004},{"$f":"INDIRECT(\"'\"&$S95&\"'!R\"&$T95&\"C\"&COLUMN(),FALSE)","v":"Airbus"},{"$f":"INDIRECT(\"'\"&$S95&\"'!R\"&$T95&\"C\"&COLUMN(),FALSE)","v":2},{"$f":"INDIRECT(\"'\"&$S95&\"'!R\"&$T95&\"C\"&COLUMN(),FALSE)","v":"E"},{"$f":"INDIRECT(\"'\"&$S95&\"'!R\"&$T95&\"C\"&COLUMN(),FALSE)","v":"Flight Warning Computer (FWC)"},{"$f":"INDIRECT(\"'\"&$S95&\"'!R\"&$T95&\"C\"&COLUMN(),FALSE)","v":"Flight Warning Computers (FWC)"},{"$f":"INDIRECT(\"'\"&$S95&\"'!R\"&$T95&\"C\"&COLUMN(),FALSE)","v":52188},null,"518",91,"52188#E","wide body (non IMA)",9]
[{"$f":"INDIRECT(\"'\"&$S96&\"'!R\"&$T96&\"C\"&COLUMN(),FALSE)","v":"518#717"},{"$f":"INDIRECT(\"'\"&$S96&\"'!R\"&$T96&\"C\"&COLUMN(),FALSE)","v":44327},{"$f":"INDIRECT(\"'\"&$S96&\"'!R\"&$T96&\"C\"&COLUMN(),FALSE)","v":60000},{"$f":"INDIRECT(\"'\"&$S96&\"'!R\"&$T96&\"C\"&COLUMN(),FALSE)","v":49575.448069804341},{"$f":"INDIRECT(\"'\"&$S96&\"'!R\"&$T96&\"C\"&COLUMN(),FALSE)","v":67104.177683765214},{"$f":"INDIRECT(\"'\"&$S96&\"'!R\"&$T96&\"C\"&COLUMN(),FALSE)","v":"Validated PW 2020"},{"$f":"INDIRECT(\"'\"&$S96&\"'!R\"&$T96&\"C\"&COLUMN(),FALSE)","v":70000},{"$f":"INDIRECT(\"'\"&$S96&\"'!R\"&$T96&\"C\"&COLUMN(),FALSE)","v":-0.26121666666666665},{"$f":"INDIRECT(\"'\"&$S96&\"'!R\"&$T96&\"C\"&COLUMN(),FALSE)","v":"NG/Litton Ind"},{"$f":"INDIRECT(\"'\"&$S96&\"'!R\"&$T96&\"C\"&COLUMN(),FALSE)","v":3},{"$f":"INDIRECT(\"'\"&$S96&\"'!R\"&$T96&\"C\"&COLUMN(),FALSE)","v":"F"},{"$f":"INDIRECT(\"'\"&$S96&\"'!R\"&$T96&\"C\"&COLUMN(),FALSE)","v":"ADIRU"},{"$f":"INDIRECT(\"'\"&$S96&\"'!R\"&$T96&\"C\"&COLUMN(),FALSE)","v":0},{"$f":"INDIRECT(\"'\"&$S96&\"'!R\"&$T96&\"C\"&COLUMN(),FALSE)","v":44327},null,"518",92,"44327#F","wide body (non IMA)",10]
[{"$f":"INDIRECT(\"'\"&$S97&\"'!R\"&$T97&\"C\"&COLUMN(),FALSE)","v":"518#721"},{"$f":"INDIRECT(\"'\"&$S97&\"'!R\"&$T97&\"C\"&COLUMN(),FALSE)","v":10638},{"$f":"INDIRECT(\"'\"&$S97&\"'!R\"&$T97&\"C\"&COLUMN(),FALSE)","v":15000},{"$f":"INDIRECT(\"'\"&$S97&\"'!R\"&$T97&\"C\"&COLUMN(),FALSE)","v":11897.570703331572},{"$f":"INDIRECT(\"'\"&$S97&\"'!R\"&$T97&\"C\"&COLUMN(),FALSE)","v":16776.044420941304},{"$f":"INDIRECT(\"'\"&$S97&\"'!R\"&$T97&\"C\"&COLUMN(),FALSE)","v":"Validated PW 2020"},{"$f":"INDIRECT(\"'\"&$S97&\"'!R\"&$T97&\"C\"&COLUMN(),FALSE)","v":17000},{"$f":"INDIRECT(\"'\"&$S97&\"'!R\"&$T97&\"C\"&COLUMN(),FALSE)","v":-0.2908},{"$f":"INDIRECT(\"'\"&$S97&\"'!R\"&$T97&\"C\"&COLUMN(),FALSE)","v":"NG/Litton Ind"},{"$f":"INDIRECT(\"'\"&$S97&\"'!R\"&$T97&\"C\"&COLUMN(),FALSE)","v":8},{"$f":"INDIRECT(\"'\"&$S97&\"'!R\"&$T97&\"C\"&COLUMN(),FALSE)","v":"E1"},{"$f":"INDIRECT(\"'\"&$S97&\"'!R\"&$T97&\"C\"&COLUMN(),FALSE)","v":"Air Data Modules (ADM)"},{"$f":"INDIRECT(\"'\"&$S97&\"'!R\"&$T97&\"C\"&COLUMN(),FALSE)","v":"Air Data Module"},{"$f":"INDIRECT(\"'\"&$S97&\"'!R\"&$T97&\"C\"&COLUMN(),FALSE)","v":10638},null,"518",93,"10638#E1","wide body (non IMA)",11]
[{"$f":"INDIRECT(\"'\"&$S98&\"'!R\"&$T98&\"C\"&COLUMN(),FALSE)","v":"518#722"},{"$f":"INDIRECT(\"'\"&$S98&\"'!R\"&$T98&\"C\"&COLUMN(),FALSE)","v":10999},{"$f":"INDIRECT(\"'\"&$S98&\"'!R\"&$T98&\"C\"&COLUMN(),FALSE)","v":8000},{"$f":"INDIRECT(\"'\"&$S98&\"'!R\"&$T98&\"C\"&COLUMN(),FALSE)","v":12301.31417239556},{"$f":"INDIRECT(\"'\"&$S98&\"'!R\"&$T98&\"C\"&COLUMN(),FALSE)","v":8947.2236911686941},{"$f":"INDIRECT(\"'\"&$S98&\"'!R\"&$T98&\"C\"&COLUMN(),FALSE)","v":"Validated PW 2020"},{"$f":"INDIRECT(\"'\"&$S98&\"'!R\"&$T98&\"C\"&COLUMN(),FALSE)","v":9000},{"$f":"INDIRECT(\"'\"&$S98&\"'!R\"&$T98&\"C\"&COLUMN(),FALSE)","v":0.37487500000000001},{"$f":"INDIRECT(\"'\"&$S98&\"'!R\"&$T98&\"C\"&COLUMN(),FALSE)","v":"Collins replaced Thales in 2012"},{"$f":"INDIRECT(\"'\"&$S98&\"'!R\"&$T98&\"C\"&COLUMN(),FALSE)","v":8},{"$f":"INDIRECT(\"'\"&$S98&\"'!R\"&$T98&\"C\"&COLUMN(),FALSE)","v":"G"},{"$f":"INDIRECT(\"'\"&$S98&\"'!R\"&$T98&\"C\"&COLUMN(),FALSE)","v":"Air data probes (pitot/static)"},{"$f":"INDIRECT(\"'\"&$S98&\"'!R\"&$T98&\"C\"&COLUMN(),FALSE)","v":"AOA/Pitot static sensors"},{"$f":"INDIRECT(\"'\"&$S98&\"'!R\"&$T98&\"C\"&COLUMN(),FALSE)","v":10999},null,"518",94,"10999#G","wide body (non IMA)",12]
[{"$f":"INDIRECT(\"'\"&$S99&\"'!R\"&$T99&\"C\"&COLUMN(),FALSE)","v":"518#723"},{"$f":"INDIRECT(\"'\"&$S99&\"'!R\"&$T99&\"C\"&COLUMN(),FALSE)","v":44327},{"$f":"INDIRECT(\"'\"&$S99&\"'!R\"&$T99&\"C\"&COLUMN(),FALSE)","v":40000},{"$f":"INDIRECT(\"'\"&$S99&\"'!R\"&$T99&\"C\"&COLUMN(),FALSE)","v":49575.448069804341},{"$f":"INDIRECT(\"'\"&$S99&\"'!R\"&$T99&\"C\"&COLUMN(),FALSE)","v":44736.118455843476},{"$f":"INDIRECT(\"'\"&$S99&\"'!R\"&$T99&\"C\"&COLUMN(),FALSE)","v":"Validated PW 2020"},{"$f":"INDIRECT(\"'\"&$S99&\"'!R\"&$T99&\"C\"&COLUMN(),FALSE)","v":45000},{"$f":"INDIRECT(\"'\"&$S99&\"'!R\"&$T99&\"C\"&COLUMN(),FALSE)","v":0.10817499999999999},{"$f":"INDIRECT(\"'\"&$S99&\"'!R\"&$T99&\"C\"&COLUMN(),FALSE)","v":"Collins, HWL or Thales"},{"$f":"INDIRECT(\"'\"&$S99&\"'!R\"&$T99&\"C\"&COLUMN(),FALSE)","v":2},{"$f":"INDIRECT(\"'\"&$S99&\"'!R\"&$T99&\"C\"&COLUMN(),FALSE)","v":"D"},{"$f":"INDIRECT(\"'\"&$S99&\"'!R\"&$T99&\"C\"&COLUMN(),FALSE)","v":"Multi Mode Receiver (MMR)"},{"$f":"INDIRECT(\"'\"&$S99&\"'!R\"&$T99&\"C\"&COLUMN(),FALSE)","v":0},{"$f":"INDIRECT(\"'\"&$S99&\"'!R\"&$T99&\"C\"&COLUMN(),FALSE)","v":44327},null,"518",95,"44327#D","wide body (non IMA)",13]
[{"$f":"INDIRECT(\"'\"&$S100&\"'!R\"&$T100&\"C\"&COLUMN(),FALSE)","v":"518#728"},{"$f":"INDIRECT(\"'\"&$S100&\"'!R\"&$T100&\"C\"&COLUMN(),FALSE)","v":15182},{"$f":"INDIRECT(\"'\"&$S100&\"'!R\"&$T100&\"C\"&COLUMN(),FALSE)","v":15000},{"$f":"INDIRECT(\"'\"&$S100&\"'!R\"&$T100&\"C\"&COLUMN(),FALSE)","v":16979.593759915391},{"$f":"INDIRECT(\"'\"&$S100&\"'!R\"&$T100&\"C\"&COLUMN(),FALSE)","v":16776.044420941304},{"$f":"INDIRECT(\"'\"&$S100&\"'!R\"&$T100&\"C\"&COLUMN(),FALSE)","v":"Validated PW 2020"},{"$f":"INDIRECT(\"'\"&$S100&\"'!R\"&$T100&\"C\"&COLUMN(),FALSE)","v":17500},{"$f":"INDIRECT(\"'\"&$S100&\"'!R\"&$T100&\"C\"&COLUMN(),FALSE)","v":1.2133333333333333E-2},{"$f":"INDIRECT(\"'\"&$S100&\"'!R\"&$T100&\"C\"&COLUMN(),FALSE)","v":0},{"$f":"INDIRECT(\"'\"&$S100&\"'!R\"&$T100&\"C\"&COLUMN(),FALSE)","v":1},{"$f":"INDIRECT(\"'\"&$S100&\"'!R\"&$T100&\"C\"&COLUMN(),FALSE)","v":"E"},{"$f":"INDIRECT(\"'\"&$S100&\"'!R\"&$T100&\"C\"&COLUMN(),FALSE)","v":"EFIS Control panel"},{"$f":"INDIRECT(\"'\"&$S100&\"'!R\"&$T100&\"C\"&COLUMN(),FALSE)","v":0},{"$f":"INDIRECT(\"'\"&$S100&\"'!R\"&$T100&\"C\"&COLUMN(),FALSE)","v":15182},null,"518",96,"15182#E","wide body (non IMA)",14]
[{"$f":"INDIRECT(\"'\"&$S101&\"'!R\"&$T101&\"C\"&COLUMN(),FALSE)","v":"518#732"},{"$f":"INDIRECT(\"'\"&$S101&\"'!R\"&$T101&\"C\"&COLUMN(),FALSE)","v":30364},{"$f":"INDIRECT(\"'\"&$S101&\"'!R\"&$T101&\"C\"&COLUMN(),FALSE)","v":35000},{"$f":"INDIRECT(\"'\"&$S101&\"'!R\"&$T101&\"C\"&COLUMN(),FALSE)","v":33959.187519830783},{"$f":"INDIRECT(\"'\"&$S101&\"'!R\"&$T101&\"C\"&COLUMN(),FALSE)","v":39144.103648863042},{"$f":"INDIRECT(\"'\"&$S101&\"'!R\"&$T101&\"C\"&COLUMN(),FALSE)","v":"Validated PW 2020"},{"$f":"INDIRECT(\"'\"&$S101&\"'!R\"&$T101&\"C\"&COLUMN(),FALSE)","v":40000},{"$f":"INDIRECT(\"'\"&$S101&\"'!R\"&$T101&\"C\"&COLUMN(),FALSE)","v":-0.13245714285714286},{"$f":"INDIRECT(\"'\"&$S101&\"'!R\"&$T101&\"C\"&COLUMN(),FALSE)","v":0},{"$f":"INDIRECT(\"'\"&$S101&\"'!R\"&$T101&\"C\"&COLUMN(),FALSE)","v":2},{"$f":"INDIRECT(\"'\"&$S101&\"'!R\"&$T101&\"C\"&COLUMN(),FALSE)","v":"E"},{"$f":"INDIRECT(\"'\"&$S101&\"'!R\"&$T101&\"C\"&COLUMN(),FALSE)","v":"System Data Acquisition Concentrator (SDAC)"},{"$f":"INDIRECT(\"'\"&$S101&\"'!R\"&$T101&\"C\"&COLUMN(),FALSE)","v":0},{"$f":"INDIRECT(\"'\"&$S101&\"'!R\"&$T101&\"C\"&COLUMN(),FALSE)","v":30364},null,"518",97,"30364#E","wide body (non IMA)",15]
[{"$f":"INDIRECT(\"'\"&$S102&\"'!R\"&$T102&\"C\"&COLUMN(),FALSE)","v":"518#733"},{"$f":"INDIRECT(\"'\"&$S102&\"'!R\"&$T102&\"C\"&COLUMN(),FALSE)","v":70849},{"$f":"INDIRECT(\"'\"&$S102&\"'!R\"&$T102&\"C\"&COLUMN(),FALSE)","v":50000},{"$f":"INDIRECT(\"'\"&$S102&\"'!R\"&$T102&\"C\"&COLUMN(),FALSE)","v":79237.731411951361},{"$f":"INDIRECT(\"'\"&$S102&\"'!R\"&$T102&\"C\"&COLUMN(),FALSE)","v":55920.148069804345},{"$f":"INDIRECT(\"'\"&$S102&\"'!R\"&$T102&\"C\"&COLUMN(),FALSE)","v":"PW 2020 Low"},{"$f":"INDIRECT(\"'\"&$S102&\"'!R\"&$T102&\"C\"&COLUMN(),FALSE)","v":80000},{"$f":"INDIRECT(\"'\"&$S102&\"'!R\"&$T102&\"C\"&COLUMN(),FALSE)","v":0.41698000000000002},{"$f":"INDIRECT(\"'\"&$S102&\"'!R\"&$T102&\"C\"&COLUMN(),FALSE)","v":"Thales"},{"$f":"INDIRECT(\"'\"&$S102&\"'!R\"&$T102&\"C\"&COLUMN(),FALSE)","v":3},{"$f":"INDIRECT(\"'\"&$S102&\"'!R\"&$T102&\"C\"&COLUMN(),FALSE)","v":"J"},{"$f":"INDIRECT(\"'\"&$S102&\"'!R\"&$T102&\"C\"&COLUMN(),FALSE)","v":"Display Management Computer (DMC/EFIS)"},{"$f":"INDIRECT(\"'\"&$S102&\"'!R\"&$T102&\"C\"&COLUMN(),FALSE)","v":"Display Management Computers (DMC)"},{"$f":"INDIRECT(\"'\"&$S102&\"'!R\"&$T102&\"C\"&COLUMN(),FALSE)","v":70849},null,"518",98,"70849#J","wide body (non IMA)",16]
[{"$f":"INDIRECT(\"'\"&$S103&\"'!R\"&$T103&\"C\"&COLUMN(),FALSE)","v":"518#734"},{"$f":"INDIRECT(\"'\"&$S103&\"'!R\"&$T103&\"C\"&COLUMN(),FALSE)","v":10121},{"$f":"INDIRECT(\"'\"&$S103&\"'!R\"&$T103&\"C\"&COLUMN(),FALSE)","v":8000},{"$f":"INDIRECT(\"'\"&$S103&\"'!R\"&$T103&\"C\"&COLUMN(),FALSE)","v":11319.356372289794},{"$f":"INDIRECT(\"'\"&$S103&\"'!R\"&$T103&\"C\"&COLUMN(),FALSE)","v":8947.2236911686941},{"$f":"INDIRECT(\"'\"&$S103&\"'!R\"&$T103&\"C\"&COLUMN(),FALSE)","v":"PW 2020 Low"},{"$f":"INDIRECT(\"'\"&$S103&\"'!R\"&$T103&\"C\"&COLUMN(),FALSE)","v":12000},{"$f":"INDIRECT(\"'\"&$S103&\"'!R\"&$T103&\"C\"&COLUMN(),FALSE)","v":0.265125},{"$f":"INDIRECT(\"'\"&$S103&\"'!R\"&$T103&\"C\"&COLUMN(),FALSE)","v":0},{"$f":"INDIRECT(\"'\"&$S103&\"'!R\"&$T103&\"C\"&COLUMN(),FALSE)","v":1},{"$f":"INDIRECT(\"'\"&$S103&\"'!R\"&$T103&\"C\"&COLUMN(),FALSE)","v":"E"},{"$f":"INDIRECT(\"'\"&$S103&\"'!R\"&$T103&\"C\"&COLUMN(),FALSE)","v":"Compass"},{"$f":"INDIRECT(\"'\"&$S103&\"'!R\"&$T103&\"C\"&COLUMN(),FALSE)","v":0},{"$f":"INDIRECT(\"'\"&$S103&\"'!R\"&$T103&\"C\"&COLUMN(),FALSE)","v":10121},null,"518",99,"10121#E","wide body (non IMA)",17]
[{"$f":"INDIRECT(\"'\"&$S104&\"'!R\"&$T104&\"C\"&COLUMN(),FALSE)","v":"518#735"},{"$f":"INDIRECT(\"'\"&$S104&\"'!R\"&$T104&\"C\"&COLUMN(),FALSE)","v":30364},{"$f":"INDIRECT(\"'\"&$S104&\"'!R\"&$T104&\"C\"&COLUMN(),FALSE)","v":30000},{"$f":"INDIRECT(\"'\"&$S104&\"'!R\"&$T104&\"C\"&COLUMN(),FALSE)","v":33959.187519830783},{"$f":"INDIRECT(\"'\"&$S104&\"'!R\"&$T104&\"C\"&COLUMN(),FALSE)","v":33552.088841882607},{"$f":"INDIRECT(\"'\"&$S104&\"'!R\"&$T104&\"C\"&COLUMN(),FALSE)","v":"Validated PW 2020"},{"$f":"INDIRECT(\"'\"&$S104&\"'!R\"&$T104&\"C\"&COLUMN(),FALSE)","v":34000},{"$f":"INDIRECT(\"'\"&$S104&\"'!R\"&$T104&\"C\"&COLUMN(),FALSE)","v":1.2133333333333333E-2},{"$f":"INDIRECT(\"'\"&$S104&\"'!R\"&$T104&\"C\"&COLUMN(),FALSE)","v":"Thales"},{"$f":"INDIRECT(\"'\"&$S104&\"'!R\"&$T104&\"C\"&COLUMN(),FALSE)","v":1},{"$f":"INDIRECT(\"'\"&$S104&\"'!R\"&$T104&\"C\"&COLUMN(),FALSE)","v":"F"},{"$f":"INDIRECT(\"'\"&$S104&\"'!R\"&$T104&\"C\"&COLUMN(),FALSE)","v":"Integrated Standby Instrument System"},{"$f":"INDIRECT(\"'\"&$S104&\"'!R\"&$T104&\"C\"&COLUMN(),FALSE)","v":0},{"$f":"INDIRECT(\"'\"&$S104&\"'!R\"&$T104&\"C\"&COLUMN(),FALSE)","v":30364},null,"518",100,"30364#F","wide body (non IMA)",18]
[{"$f":"INDIRECT(\"'\"&$S105&\"'!R\"&$T105&\"C\"&COLUMN(),FALSE)","v":"518#737"},{"$f":"INDIRECT(\"'\"&$S105&\"'!R\"&$T105&\"C\"&COLUMN(),FALSE)","v":10121},{"$f":"INDIRECT(\"'\"&$S105&\"'!R\"&$T105&\"C\"&COLUMN(),FALSE)","v":10000},{"$f":"INDIRECT(\"'\"&$S105&\"'!R\"&$T105&\"C\"&COLUMN(),FALSE)","v":11319.356372289794},{"$f":"INDIRECT(\"'\"&$S105&\"'!R\"&$T105&\"C\"&COLUMN(),FALSE)","v":11184.029613960869},{"$f":"INDIRECT(\"'\"&$S105&\"'!R\"&$T105&\"C\"&COLUMN(),FALSE)","v":"Validated PW 2020"},{"$f":"INDIRECT(\"'\"&$S105&\"'!R\"&$T105&\"C\"&COLUMN(),FALSE)","v":11500},{"$f":"INDIRECT(\"'\"&$S105&\"'!R\"&$T105&\"C\"&COLUMN(),FALSE)","v":1.21E-2},{"$f":"INDIRECT(\"'\"&$S105&\"'!R\"&$T105&\"C\"&COLUMN(),FALSE)","v":0},{"$f":"INDIRECT(\"'\"&$S105&\"'!R\"&$T105&\"C\"&COLUMN(),FALSE)","v":1},{"$f":"INDIRECT(\"'\"&$S105&\"'!R\"&$T105&\"C\"&COLUMN(),FALSE)","v":"E"},{"$f":"INDIRECT(\"'\"&$S105&\"'!R\"&$T105&\"C\"&COLUMN(),FALSE)","v":"Clock"},{"$f":"INDIRECT(\"'\"&$S105&\"'!R\"&$T105&\"C\"&COLUMN(),FALSE)","v":0},{"$f":"INDIRECT(\"'\"&$S105&\"'!R\"&$T105&\"C\"&COLUMN(),FALSE)","v":10121},null,"518",101,"10121#E","wide body (non IMA)",19]
[{"$f":"INDIRECT(\"'\"&$S106&\"'!R\"&$T106&\"C\"&COLUMN(),FALSE)","v":"518#738"},{"$f":"INDIRECT(\"'\"&$S106&\"'!R\"&$T106&\"C\"&COLUMN(),FALSE)","v":17612},{"$f":"INDIRECT(\"'\"&$S106&\"'!R\"&$T106&\"C\"&COLUMN(),FALSE)","v":12000},{"$f":"INDIRECT(\"'\"&$S106&\"'!R\"&$T106&\"C\"&COLUMN(),FALSE)","v":19697.312956107882},{"$f":"INDIRECT(\"'\"&$S106&\"'!R\"&$T106&\"C\"&COLUMN(),FALSE)","v":13420.835536753042},{"$f":"INDIRECT(\"'\"&$S106&\"'!R\"&$T106&\"C\"&COLUMN(),FALSE)","v":"PW 2020 Low"},{"$f":"INDIRECT(\"'\"&$S106&\"'!R\"&$T106&\"C\"&COLUMN(),FALSE)","v":20000},{"$f":"INDIRECT(\"'\"&$S106&\"'!R\"&$T106&\"C\"&COLUMN(),FALSE)","v":0.46766666666666667},{"$f":"INDIRECT(\"'\"&$S106&\"'!R\"&$T106&\"C\"&COLUMN(),FALSE)","v":"Collins"},{"$f":"INDIRECT(\"'\"&$S106&\"'!R\"&$T106&\"C\"&COLUMN(),FALSE)","v":3},{"$f":"INDIRECT(\"'\"&$S106&\"'!R\"&$T106&\"C\"&COLUMN(),FALSE)","v":"F"},{"$f":"INDIRECT(\"'\"&$S106&\"'!R\"&$T106&\"C\"&COLUMN(),FALSE)","v":"Comms Receivers VH (transceiver/antenna)"},{"$f":"INDIRECT(\"'\"&$S106&\"'!R\"&$T106&\"C\"&COLUMN(),FALSE)","v":0},{"$f":"INDIRECT(\"'\"&$S106&\"'!R\"&$T106&\"C\"&COLUMN(),FALSE)","v":17612},null,"518",102,"17612#F","wide body (non IMA)",20]
[{"$f":"INDIRECT(\"'\"&$S107&\"'!R\"&$T107&\"C\"&COLUMN(),FALSE)","v":"518#739"},{"$f":"INDIRECT(\"'\"&$S107&\"'!R\"&$T107&\"C\"&COLUMN(),FALSE)","v":17612},{"$f":"INDIRECT(\"'\"&$S107&\"'!R\"&$T107&\"C\"&COLUMN(),FALSE)","v":12000},{"$f":"INDIRECT(\"'\"&$S107&\"'!R\"&$T107&\"C\"&COLUMN(),FALSE)","v":19697.312956107882},{"$f":"INDIRECT(\"'\"&$S107&\"'!R\"&$T107&\"C\"&COLUMN(),FALSE)","v":13420.835536753042},{"$f":"INDIRECT(\"'\"&$S107&\"'!R\"&$T107&\"C\"&COLUMN(),FALSE)","v":"PW 2020 Low"},{"$f":"INDIRECT(\"'\"&$S107&\"'!R\"&$T107&\"C\"&COLUMN(),FALSE)","v":20000},{"$f":"INDIRECT(\"'\"&$S107&\"'!R\"&$T107&\"C\"&COLUMN(),FALSE)","v":0.46766666666666667},{"$f":"INDIRECT(\"'\"&$S107&\"'!R\"&$T107&\"C\"&COLUMN(),FALSE)","v":"Collins"},{"$f":"INDIRECT(\"'\"&$S107&\"'!R\"&$T107&\"C\"&COLUMN(),FALSE)","v":2},{"$f":"INDIRECT(\"'\"&$S107&\"'!R\"&$T107&\"C\"&COLUMN(),FALSE)","v":"F"},{"$f":"INDIRECT(\"'\"&$S107&\"'!R\"&$T107&\"C\"&COLUMN(),FALSE)","v":"Comms Receivers UF (transceiver/antenna)"},{"$f":"INDIRECT(\"'\"&$S107&\"'!R\"&$T107&\"C\"&COLUMN(),FALSE)","v":0},{"$f":"INDIRECT(\"'\"&$S107&\"'!R\"&$T107&\"C\"&COLUMN(),FALSE)","v":17612},null,"518",103,"17612#F","wide body (non IMA)",21]
[{"$f":"INDIRECT(\"'\"&$S108&\"'!R\"&$T108&\"C\"&COLUMN(),FALSE)","v":"518#741"},{"$f":"INDIRECT(\"'\"&$S108&\"'!R\"&$T108&\"C\"&COLUMN(),FALSE)","v":34245},{"$f":"INDIRECT(\"'\"&$S108&\"'!R\"&$T108&\"C\"&COLUMN(),FALSE)","v":20000},{"$f":"INDIRECT(\"'\"&$S108&\"'!R\"&$T108&\"C\"&COLUMN(),FALSE)","v":38299.709413008997},{"$f":"INDIRECT(\"'\"&$S108&\"'!R\"&$T108&\"C\"&COLUMN(),FALSE)","v":22368.059227921738},{"$f":"INDIRECT(\"'\"&$S108&\"'!R\"&$T108&\"C\"&COLUMN(),FALSE)","v":"PW 2020 Low"},{"$f":"INDIRECT(\"'\"&$S108&\"'!R\"&$T108&\"C\"&COLUMN(),FALSE)","v":40000},{"$f":"INDIRECT(\"'\"&$S108&\"'!R\"&$T108&\"C\"&COLUMN(),FALSE)","v":0.71225000000000005},{"$f":"INDIRECT(\"'\"&$S108&\"'!R\"&$T108&\"C\"&COLUMN(),FALSE)","v":"Thales"},{"$f":"INDIRECT(\"'\"&$S108&\"'!R\"&$T108&\"C\"&COLUMN(),FALSE)","v":3},{"$f":"INDIRECT(\"'\"&$S108&\"'!R\"&$T108&\"C\"&COLUMN(),FALSE)","v":"G"},{"$f":"INDIRECT(\"'\"&$S108&\"'!R\"&$T108&\"C\"&COLUMN(),FALSE)","v":"Radio management system"},{"$f":"INDIRECT(\"'\"&$S108&\"'!R\"&$T108&\"C\"&COLUMN(),FALSE)","v":0},{"$f":"INDIRECT(\"'\"&$S108&\"'!R\"&$T108&\"C\"&COLUMN(),FALSE)","v":34245},null,"518",104,"34245#G","wide body (non IMA)",22]
[{"$f":"INDIRECT(\"'\"&$S109&\"'!R\"&$T109&\"C\"&COLUMN(),FALSE)","v":"518#743"},{"$f":"INDIRECT(\"'\"&$S109&\"'!R\"&$T109&\"C\"&COLUMN(),FALSE)","v":7828},{"$f":"INDIRECT(\"'\"&$S109&\"'!R\"&$T109&\"C\"&COLUMN(),FALSE)","v":8000},{"$f":"INDIRECT(\"'\"&$S109&\"'!R\"&$T109&\"C\"&COLUMN(),FALSE)","v":8754.8583818085681},{"$f":"INDIRECT(\"'\"&$S109&\"'!R\"&$T109&\"C\"&COLUMN(),FALSE)","v":8947.2236911686941},{"$f":"INDIRECT(\"'\"&$S109&\"'!R\"&$T109&\"C\"&COLUMN(),FALSE)","v":"Validated PW 2020"},{"$f":"INDIRECT(\"'\"&$S109&\"'!R\"&$T109&\"C\"&COLUMN(),FALSE)","v":9000},{"$f":"INDIRECT(\"'\"&$S109&\"'!R\"&$T109&\"C\"&COLUMN(),FALSE)","v":-2.1499999999999998E-2},{"$f":"INDIRECT(\"'\"&$S109&\"'!R\"&$T109&\"C\"&COLUMN(),FALSE)","v":"Thales"},{"$f":"INDIRECT(\"'\"&$S109&\"'!R\"&$T109&\"C\"&COLUMN(),FALSE)","v":3},{"$f":"INDIRECT(\"'\"&$S109&\"'!R\"&$T109&\"C\"&COLUMN(),FALSE)","v":"F"},{"$f":"INDIRECT(\"'\"&$S109&\"'!R\"&$T109&\"C\"&COLUMN(),FALSE)","v":"Radio Management Panel"},{"$f":"INDIRECT(\"'\"&$S109&\"'!R\"&$T109&\"C\"&COLUMN(),FALSE)","v":0},{"$f":"INDIRECT(\"'\"&$S109&\"'!R\"&$T109&\"C\"&COLUMN(),FALSE)","v":7828},null,"518",105,"7828#F","wide body (non IMA)",23]
[{"$f":"INDIRECT(\"'\"&$S110&\"'!R\"&$T110&\"C\"&COLUMN(),FALSE)","v":"518#744"},{"$f":"INDIRECT(\"'\"&$S110&\"'!R\"&$T110&\"C\"&COLUMN(),FALSE)","v":35452},{"$f":"INDIRECT(\"'\"&$S110&\"'!R\"&$T110&\"C\"&COLUMN(),FALSE)","v":18000},{"$f":"INDIRECT(\"'\"&$S110&\"'!R\"&$T110&\"C\"&COLUMN(),FALSE)","v":39649.621787414071},{"$f":"INDIRECT(\"'\"&$S110&\"'!R\"&$T110&\"C\"&COLUMN(),FALSE)","v":20131.253305129565},{"$f":"INDIRECT(\"'\"&$S110&\"'!R\"&$T110&\"C\"&COLUMN(),FALSE)","v":"PW 2020 Low"},{"$f":"INDIRECT(\"'\"&$S110&\"'!R\"&$T110&\"C\"&COLUMN(),FALSE)","v":40000},{"$f":"INDIRECT(\"'\"&$S110&\"'!R\"&$T110&\"C\"&COLUMN(),FALSE)","v":0.9695555555555555},{"$f":"INDIRECT(\"'\"&$S110&\"'!R\"&$T110&\"C\"&COLUMN(),FALSE)","v":"L3"},{"$f":"INDIRECT(\"'\"&$S110&\"'!R\"&$T110&\"C\"&COLUMN(),FALSE)","v":2},{"$f":"INDIRECT(\"'\"&$S110&\"'!R\"&$T110&\"C\"&COLUMN(),FALSE)","v":"E"},{"$f":"INDIRECT(\"'\"&$S110&\"'!R\"&$T110&\"C\"&COLUMN(),FALSE)","v":"ATC Mode S Transponders (TCAS)"},{"$f":"INDIRECT(\"'\"&$S110&\"'!R\"&$T110&\"C\"&COLUMN(),FALSE)","v":0},{"$f":"INDIRECT(\"'\"&$S110&\"'!R\"&$T110&\"C\"&COLUMN(),FALSE)","v":35452},null,"518",106,"35452#E","wide body (non IMA)",24]
[{"$f":"INDIRECT(\"'\"&$S111&\"'!R\"&$T111&\"C\"&COLUMN(),FALSE)","v":"518#746"},{"$f":"INDIRECT(\"'\"&$S111&\"'!R\"&$T111&\"C\"&COLUMN(),FALSE)","v":49498},{"$f":"INDIRECT(\"'\"&$S111&\"'!R\"&$T111&\"C\"&COLUMN(),FALSE)","v":6000},{"$f":"INDIRECT(\"'\"&$S111&\"'!R\"&$T111&\"C\"&COLUMN(),FALSE)","v":55358.709783183505},{"$f":"INDIRECT(\"'\"&$S111&\"'!R\"&$T111&\"C\"&COLUMN(),FALSE)","v":6710.4177683765211},{"$f":"INDIRECT(\"'\"&$S111&\"'!R\"&$T111&\"C\"&COLUMN(),FALSE)","v":"PW 2020 Low"},{"$f":"INDIRECT(\"'\"&$S111&\"'!R\"&$T111&\"C\"&COLUMN(),FALSE)","v":56000},{"$f":"INDIRECT(\"'\"&$S111&\"'!R\"&$T111&\"C\"&COLUMN(),FALSE)","v":7.2496666666666663},{"$f":"INDIRECT(\"'\"&$S111&\"'!R\"&$T111&\"C\"&COLUMN(),FALSE)","v":0},{"$f":"INDIRECT(\"'\"&$S111&\"'!R\"&$T111&\"C\"&COLUMN(),FALSE)","v":1},{"$f":"INDIRECT(\"'\"&$S111&\"'!R\"&$T111&\"C\"&COLUMN(),FALSE)","v":"J"},{"$f":"INDIRECT(\"'\"&$S111&\"'!R\"&$T111&\"C\"&COLUMN(),FALSE)","v":"Weather WX radar system"},{"$f":"INDIRECT(\"'\"&$S111&\"'!R\"&$T111&\"C\"&COLUMN(),FALSE)","v":"WX control panel"},{"$f":"INDIRECT(\"'\"&$S111&\"'!R\"&$T111&\"C\"&COLUMN(),FALSE)","v":49498},null,"518",107,"49498#J","wide body (non IMA)",25]
[{"$f":"INDIRECT(\"'\"&$S112&\"'!R\"&$T112&\"C\"&COLUMN(),FALSE)","v":"518#748"},{"$f":"INDIRECT(\"'\"&$S112&\"'!R\"&$T112&\"C\"&COLUMN(),FALSE)","v":45581},{"$f":"INDIRECT(\"'\"&$S112&\"'!R\"&$T112&\"C\"&COLUMN(),FALSE)","v":25000},{"$f":"INDIRECT(\"'\"&$S112&\"'!R\"&$T112&\"C\"&COLUMN(),FALSE)","v":50977.925383395035},{"$f":"INDIRECT(\"'\"&$S112&\"'!R\"&$T112&\"C\"&COLUMN(),FALSE)","v":27960.074034902173},{"$f":"INDIRECT(\"'\"&$S112&\"'!R\"&$T112&\"C\"&COLUMN(),FALSE)","v":"PW 2020 Low"},{"$f":"INDIRECT(\"'\"&$S112&\"'!R\"&$T112&\"C\"&COLUMN(),FALSE)","v":28000},{"$f":"INDIRECT(\"'\"&$S112&\"'!R\"&$T112&\"C\"&COLUMN(),FALSE)","v":0.82323999999999997},{"$f":"INDIRECT(\"'\"&$S112&\"'!R\"&$T112&\"C\"&COLUMN(),FALSE)","v":0},{"$f":"INDIRECT(\"'\"&$S112&\"'!R\"&$T112&\"C\"&COLUMN(),FALSE)","v":1},{"$f":"INDIRECT(\"'\"&$S112&\"'!R\"&$T112&\"C\"&COLUMN(),FALSE)","v":"M"},{"$f":"INDIRECT(\"'\"&$S112&\"'!R\"&$T112&\"C\"&COLUMN(),FALSE)","v":"Ground Proximity Warning System (GPWS/EGPWS)"},{"$f":"INDIRECT(\"'\"&$S112&\"'!R\"&$T112&\"C\"&COLUMN(),FALSE)","v":"Ground Proximity Warning System (GPWS)"},{"$f":"INDIRECT(\"'\"&$S112&\"'!R\"&$T112&\"C\"&COLUMN(),FALSE)","v":45581},null,"518",108,"45581#M","wide body (non IMA)",26]
[{"$f":"INDIRECT(\"'\"&$S113&\"'!R\"&$T113&\"C\"&COLUMN(),FALSE)","v":"518#752"},{"$f":"INDIRECT(\"'\"&$S113&\"'!R\"&$T113&\"C\"&COLUMN(),FALSE)","v":17612},{"$f":"INDIRECT(\"'\"&$S113&\"'!R\"&$T113&\"C\"&COLUMN(),FALSE)","v":15000},{"$f":"INDIRECT(\"'\"&$S113&\"'!R\"&$T113&\"C\"&COLUMN(),FALSE)","v":19697.312956107882},{"$f":"INDIRECT(\"'\"&$S113&\"'!R\"&$T113&\"C\"&COLUMN(),FALSE)","v":16776.044420941304},{"$f":"INDIRECT(\"'\"&$S113&\"'!R\"&$T113&\"C\"&COLUMN(),FALSE)","v":"PW 2020 Low"},{"$f":"INDIRECT(\"'\"&$S113&\"'!R\"&$T113&\"C\"&COLUMN(),FALSE)","v":20000},{"$f":"INDIRECT(\"'\"&$S113&\"'!R\"&$T113&\"C\"&COLUMN(),FALSE)","v":0.17413333333333333},{"$f":"INDIRECT(\"'\"&$S113&\"'!R\"&$T113&\"C\"&COLUMN(),FALSE)","v":"L3"},{"$f":"INDIRECT(\"'\"&$S113&\"'!R\"&$T113&\"C\"&COLUMN(),FALSE)","v":1},{"$f":"INDIRECT(\"'\"&$S113&\"'!R\"&$T113&\"C\"&COLUMN(),FALSE)","v":"H"},{"$f":"INDIRECT(\"'\"&$S113&\"'!R\"&$T113&\"C\"&COLUMN(),FALSE)","v":"Cockpit Voice Recorder"},{"$f":"INDIRECT(\"'\"&$S113&\"'!R\"&$T113&\"C\"&COLUMN(),FALSE)","v":0},{"$f":"INDIRECT(\"'\"&$S113&\"'!R\"&$T113&\"C\"&COLUMN(),FALSE)","v":17612},null,"518",109,"17612#H","wide body (non IMA)",27]
[{"$f":"INDIRECT(\"'\"&$S114&\"'!R\"&$T114&\"C\"&COLUMN(),FALSE)","v":"518#753"},{"$f":"INDIRECT(\"'\"&$S114&\"'!R\"&$T114&\"C\"&COLUMN(),FALSE)","v":4893},{"$f":"INDIRECT(\"'\"&$S114&\"'!R\"&$T114&\"C\"&COLUMN(),FALSE)","v":5000},{"$f":"INDIRECT(\"'\"&$S114&\"'!R\"&$T114&\"C\"&COLUMN(),FALSE)","v":5472.345690111053},{"$f":"INDIRECT(\"'\"&$S114&\"'!R\"&$T114&\"C\"&COLUMN(),FALSE)","v":5592.0148069804345},{"$f":"INDIRECT(\"'\"&$S114&\"'!R\"&$T114&\"C\"&COLUMN(),FALSE)","v":"Validated PW 2020"},{"$f":"INDIRECT(\"'\"&$S114&\"'!R\"&$T114&\"C\"&COLUMN(),FALSE)","v":6000},{"$f":"INDIRECT(\"'\"&$S114&\"'!R\"&$T114&\"C\"&COLUMN(),FALSE)","v":-2.1399999999999999E-2},{"$f":"INDIRECT(\"'\"&$S114&\"'!R\"&$T114&\"C\"&COLUMN(),FALSE)","v":0},{"$f":"INDIRECT(\"'\"&$S114&\"'!R\"&$T114&\"C\"&COLUMN(),FALSE)","v":1},{"$f":"INDIRECT(\"'\"&$S114&\"'!R\"&$T114&\"C\"&COLUMN(),FALSE)","v":"C"},{"$f":"INDIRECT(\"'\"&$S114&\"'!R\"&$T114&\"C\"&COLUMN(),FALSE)","v":"CVR control panel"},{"$f":"INDIRECT(\"'\"&$S114&\"'!R\"&$T114&\"C\"&COLUMN(),FALSE)","v":0},{"$f":"INDIRECT(\"'\"&$S114&\"'!R\"&$T114&\"C\"&COLUMN(),FALSE)","v":4893},null,"518",110,"4893#C","wide body (non IMA)",28]
[{"$f":"INDIRECT(\"'\"&$S115&\"'!R\"&$T115&\"C\"&COLUMN(),FALSE)","v":"518#754"},{"$f":"INDIRECT(\"'\"&$S115&\"'!R\"&$T115&\"C\"&COLUMN(),FALSE)","v":23014},{"$f":"INDIRECT(\"'\"&$S115&\"'!R\"&$T115&\"C\"&COLUMN(),FALSE)","v":20000},{"$f":"INDIRECT(\"'\"&$S115&\"'!R\"&$T115&\"C\"&COLUMN(),FALSE)","v":25738.925753569543},{"$f":"INDIRECT(\"'\"&$S115&\"'!R\"&$T115&\"C\"&COLUMN(),FALSE)","v":22368.059227921738},{"$f":"INDIRECT(\"'\"&$S115&\"'!R\"&$T115&\"C\"&COLUMN(),FALSE)","v":"PW 2020 Low"},{"$f":"INDIRECT(\"'\"&$S115&\"'!R\"&$T115&\"C\"&COLUMN(),FALSE)","v":26000},{"$f":"INDIRECT(\"'\"&$S115&\"'!R\"&$T115&\"C\"&COLUMN(),FALSE)","v":0.1507},{"$f":"INDIRECT(\"'\"&$S115&\"'!R\"&$T115&\"C\"&COLUMN(),FALSE)","v":"L3"},{"$f":"INDIRECT(\"'\"&$S115&\"'!R\"&$T115&\"C\"&COLUMN(),FALSE)","v":1},{"$f":"INDIRECT(\"'\"&$S115&\"'!R\"&$T115&\"C\"&COLUMN(),FALSE)","v":"I"},{"$f":"INDIRECT(\"'\"&$S115&\"'!R\"&$T115&\"C\"&COLUMN(),FALSE)","v":"Flight Data Recorder"},{"$f":"INDIRECT(\"'\"&$S115&\"'!R\"&$T115&\"C\"&COLUMN(),FALSE)","v":0},{"$f":"INDIRECT(\"'\"&$S115&\"'!R\"&$T115&\"C\"&COLUMN(),FALSE)","v":23014},null,"518",111,"23014#I","wide body (non IMA)",29]
[{"$f":"INDIRECT(\"'\"&$S116&\"'!R\"&$T116&\"C\"&COLUMN(),FALSE)","v":"518#756"},{"$f":"INDIRECT(\"'\"&$S116&\"'!R\"&$T116&\"C\"&COLUMN(),FALSE)","v":20712},{"$f":"INDIRECT(\"'\"&$S116&\"'!R\"&$T116&\"C\"&COLUMN(),FALSE)","v":15000},{"$f":"INDIRECT(\"'\"&$S116&\"'!R\"&$T116&\"C\"&COLUMN(),FALSE)","v":23164.36213643575},{"$f":"INDIRECT(\"'\"&$S116&\"'!R\"&$T116&\"C\"&COLUMN(),FALSE)","v":16776.044420941304},{"$f":"INDIRECT(\"'\"&$S116&\"'!R\"&$T116&\"C\"&COLUMN(),FALSE)","v":"PW 2020 Low"},{"$f":"INDIRECT(\"'\"&$S116&\"'!R\"&$T116&\"C\"&COLUMN(),FALSE)","v":24000},{"$f":"INDIRECT(\"'\"&$S116&\"'!R\"&$T116&\"C\"&COLUMN(),FALSE)","v":0.38080000000000003},{"$f":"INDIRECT(\"'\"&$S116&\"'!R\"&$T116&\"C\"&COLUMN(),FALSE)","v":0},{"$f":"INDIRECT(\"'\"&$S116&\"'!R\"&$T116&\"C\"&COLUMN(),FALSE)","v":1},{"$f":"INDIRECT(\"'\"&$S116&\"'!R\"&$T116&\"C\"&COLUMN(),FALSE)","v":"B"},{"$f":"INDIRECT(\"'\"&$S116&\"'!R\"&$T116&\"C\"&COLUMN(),FALSE)","v":"Quick Access Recorder (QAR)"},{"$f":"INDIRECT(\"'\"&$S116&\"'!R\"&$T116&\"C\"&COLUMN(),FALSE)","v":0},{"$f":"INDIRECT(\"'\"&$S116&\"'!R\"&$T116&\"C\"&COLUMN(),FALSE)","v":20712},null,"518",112,"20712#B","wide body (non IMA)",30]
[{"$f":"INDIRECT(\"'\"&$S117&\"'!R\"&$T117&\"C\"&COLUMN(),FALSE)","v":"518#759"},{"$f":"INDIRECT(\"'\"&$S117&\"'!R\"&$T117&\"C\"&COLUMN(),FALSE)","v":34520},{"$f":"INDIRECT(\"'\"&$S117&\"'!R\"&$T117&\"C\"&COLUMN(),FALSE)","v":30000},{"$f":"INDIRECT(\"'\"&$S117&\"'!R\"&$T117&\"C\"&COLUMN(),FALSE)","v":38607.270227392917},{"$f":"INDIRECT(\"'\"&$S117&\"'!R\"&$T117&\"C\"&COLUMN(),FALSE)","v":33552.088841882607},{"$f":"INDIRECT(\"'\"&$S117&\"'!R\"&$T117&\"C\"&COLUMN(),FALSE)","v":"PW 2020 Low"},{"$f":"INDIRECT(\"'\"&$S117&\"'!R\"&$T117&\"C\"&COLUMN(),FALSE)","v":40000},{"$f":"INDIRECT(\"'\"&$S117&\"'!R\"&$T117&\"C\"&COLUMN(),FALSE)","v":0.15066666666666667},{"$f":"INDIRECT(\"'\"&$S117&\"'!R\"&$T117&\"C\"&COLUMN(),FALSE)","v":0},{"$f":"INDIRECT(\"'\"&$S117&\"'!R\"&$T117&\"C\"&COLUMN(),FALSE)","v":2},{"$f":"INDIRECT(\"'\"&$S117&\"'!R\"&$T117&\"C\"&COLUMN(),FALSE)","v":"E"},{"$f":"INDIRECT(\"'\"&$S117&\"'!R\"&$T117&\"C\"&COLUMN(),FALSE)","v":"Electronic Flight Bags (EFBs)"},{"$f":"INDIRECT(\"'\"&$S117&\"'!R\"&$T117&\"C\"&COLUMN(),FALSE)","v":0},{"$f":"INDIRECT(\"'\"&$S117&\"'!R\"&$T117&\"C\"&COLUMN(),FALSE)","v":34520},null,"518",113,"34520#E","wide body (non IMA)",31]
[{"$f":"INDIRECT(\"'\"&$S118&\"'!R\"&$T118&\"C\"&COLUMN(),FALSE)","v":"518#760"},{"$f":"INDIRECT(\"'\"&$S118&\"'!R\"&$T118&\"C\"&COLUMN(),FALSE)","v":31313},{"$f":"INDIRECT(\"'\"&$S118&\"'!R\"&$T118&\"C\"&COLUMN(),FALSE)","v":20000},{"$f":"INDIRECT(\"'\"&$S118&\"'!R\"&$T118&\"C\"&COLUMN(),FALSE)","v":35020.551930195667},{"$f":"INDIRECT(\"'\"&$S118&\"'!R\"&$T118&\"C\"&COLUMN(),FALSE)","v":22368.059227921738},{"$f":"INDIRECT(\"'\"&$S118&\"'!R\"&$T118&\"C\"&COLUMN(),FALSE)","v":"PW 2020 Low"},{"$f":"INDIRECT(\"'\"&$S118&\"'!R\"&$T118&\"C\"&COLUMN(),FALSE)","v":35000},{"$f":"INDIRECT(\"'\"&$S118&\"'!R\"&$T118&\"C\"&COLUMN(),FALSE)","v":0.56564999999999999},{"$f":"INDIRECT(\"'\"&$S118&\"'!R\"&$T118&\"C\"&COLUMN(),FALSE)","v":0},{"$f":"INDIRECT(\"'\"&$S118&\"'!R\"&$T118&\"C\"&COLUMN(),FALSE)","v":1},{"$f":"INDIRECT(\"'\"&$S118&\"'!R\"&$T118&\"C\"&COLUMN(),FALSE)","v":"B"},{"$f":"INDIRECT(\"'\"&$S118&\"'!R\"&$T118&\"C\"&COLUMN(),FALSE)","v":"Mode control Panel (Auto/Pilot control)"},{"$f":"INDIRECT(\"'\"&$S118&\"'!R\"&$T118&\"C\"&COLUMN(),FALSE)","v":0},{"$f":"INDIRECT(\"'\"&$S118&\"'!R\"&$T118&\"C\"&COLUMN(),FALSE)","v":31313},null,"518",114,"31313#B","wide body (non IMA)",32]
[{"$f":"INDIRECT(\"'\"&$S119&\"'!R\"&$T119&\"C\"&COLUMN(),FALSE)","v":"518#761"},{"$f":"INDIRECT(\"'\"&$S119&\"'!R\"&$T119&\"C\"&COLUMN(),FALSE)","v":8800},{"$f":"INDIRECT(\"'\"&$S119&\"'!R\"&$T119&\"C\"&COLUMN(),FALSE)","v":8000},{"$f":"INDIRECT(\"'\"&$S119&\"'!R\"&$T119&\"C\"&COLUMN(),FALSE)","v":9841.9460602855652},{"$f":"INDIRECT(\"'\"&$S119&\"'!R\"&$T119&\"C\"&COLUMN(),FALSE)","v":8947.2236911686941},{"$f":"INDIRECT(\"'\"&$S119&\"'!R\"&$T119&\"C\"&COLUMN(),FALSE)","v":"PW 2020 Low"},{"$f":"INDIRECT(\"'\"&$S119&\"'!R\"&$T119&\"C\"&COLUMN(),FALSE)","v":10000},{"$f":"INDIRECT(\"'\"&$S119&\"'!R\"&$T119&\"C\"&COLUMN(),FALSE)","v":0.1},{"$f":"INDIRECT(\"'\"&$S119&\"'!R\"&$T119&\"C\"&COLUMN(),FALSE)","v":"Collins replaced Thales in 2013"},{"$f":"INDIRECT(\"'\"&$S119&\"'!R\"&$T119&\"C\"&COLUMN(),FALSE)","v":6},{"$f":"INDIRECT(\"'\"&$S119&\"'!R\"&$T119&\"C\"&COLUMN(),FALSE)","v":"A"},{"$f":"INDIRECT(\"'\"&$S119&\"'!R\"&$T119&\"C\"&COLUMN(),FALSE)","v":"Static/standby sensors"},{"$f":"INDIRECT(\"'\"&$S119&\"'!R\"&$T119&\"C\"&COLUMN(),FALSE)","v":0},{"$f":"INDIRECT(\"'\"&$S119&\"'!R\"&$T119&\"C\"&COLUMN(),FALSE)","v":8800},null,"518",115,"8800#A","wide body (non IMA)",33]
[{"$f":"INDIRECT(\"'\"&$S120&\"'!R\"&$T120&\"C\"&COLUMN(),FALSE)","v":"518#762"},{"$f":"INDIRECT(\"'\"&$S120&\"'!R\"&$T120&\"C\"&COLUMN(),FALSE)","v":13298},{"$f":"INDIRECT(\"'\"&$S120&\"'!R\"&$T120&\"C\"&COLUMN(),FALSE)","v":8000},{"$f":"INDIRECT(\"'\"&$S120&\"'!R\"&$T120&\"C\"&COLUMN(),FALSE)","v":14872.522580645164},{"$f":"INDIRECT(\"'\"&$S120&\"'!R\"&$T120&\"C\"&COLUMN(),FALSE)","v":8947.2236911686941},{"$f":"INDIRECT(\"'\"&$S120&\"'!R\"&$T120&\"C\"&COLUMN(),FALSE)","v":"PW 2020 Low"},{"$f":"INDIRECT(\"'\"&$S120&\"'!R\"&$T120&\"C\"&COLUMN(),FALSE)","v":15000},{"$f":"INDIRECT(\"'\"&$S120&\"'!R\"&$T120&\"C\"&COLUMN(),FALSE)","v":0.66225000000000001},{"$f":"INDIRECT(\"'\"&$S120&\"'!R\"&$T120&\"C\"&COLUMN(),FALSE)","v":"Collins"},{"$f":"INDIRECT(\"'\"&$S120&\"'!R\"&$T120&\"C\"&COLUMN(),FALSE)","v":2},{"$f":"INDIRECT(\"'\"&$S120&\"'!R\"&$T120&\"C\"&COLUMN(),FALSE)","v":"A"},{"$f":"INDIRECT(\"'\"&$S120&\"'!R\"&$T120&\"C\"&COLUMN(),FALSE)","v":"VOR receivers"},{"$f":"INDIRECT(\"'\"&$S120&\"'!R\"&$T120&\"C\"&COLUMN(),FALSE)","v":0},{"$f":"INDIRECT(\"'\"&$S120&\"'!R\"&$T120&\"C\"&COLUMN(),FALSE)","v":13298},null,"518",116,"13298#A","wide body (non IMA)",34]
[{"$f":"INDIRECT(\"'\"&$S121&\"'!R\"&$T121&\"C\"&COLUMN(),FALSE)","v":"518#763"},{"$f":"INDIRECT(\"'\"&$S121&\"'!R\"&$T121&\"C\"&COLUMN(),FALSE)","v":17612},{"$f":"INDIRECT(\"'\"&$S121&\"'!R\"&$T121&\"C\"&COLUMN(),FALSE)","v":12000},{"$f":"INDIRECT(\"'\"&$S121&\"'!R\"&$T121&\"C\"&COLUMN(),FALSE)","v":19697.312956107882},{"$f":"INDIRECT(\"'\"&$S121&\"'!R\"&$T121&\"C\"&COLUMN(),FALSE)","v":13420.835536753042},{"$f":"INDIRECT(\"'\"&$S121&\"'!R\"&$T121&\"C\"&COLUMN(),FALSE)","v":"PW 2020 Low"},{"$f":"INDIRECT(\"'\"&$S121&\"'!R\"&$T121&\"C\"&COLUMN(),FALSE)","v":20000},{"$f":"INDIRECT(\"'\"&$S121&\"'!R\"&$T121&\"C\"&COLUMN(),FALSE)","v":0.46766666666666667},{"$f":"INDIRECT(\"'\"&$S121&\"'!R\"&$T121&\"C\"&COLUMN(),FALSE)","v":0},{"$f":"INDIRECT(\"'\"&$S121&\"'!R\"&$T121&\"C\"&COLUMN(),FALSE)","v":2},{"$f":"INDIRECT(\"'\"&$S121&\"'!R\"&$T121&\"C\"&COLUMN(),FALSE)","v":"B"},{"$f":"INDIRECT(\"'\"&$S121&\"'!R\"&$T121&\"C\"&COLUMN(),FALSE)","v":"ADF radios"},{"$f":"INDIRECT(\"'\"&$S121&\"'!R\"&$T121&\"C\"&COLUMN(),FALSE)","v":0},{"$f":"INDIRECT(\"'\"&$S121&\"'!R\"&$T121&\"C\"&COLUMN(),FALSE)","v":17612},null,"518",117,"17612#B","wide body (non IMA)",35]
[{"$f":"INDIRECT(\"'\"&$S122&\"'!R\"&$T122&\"C\"&COLUMN(),FALSE)","v":"518#764"},{"$f":"INDIRECT(\"'\"&$S122&\"'!R\"&$T122&\"C\"&COLUMN(),FALSE)","v":15958},{"$f":"INDIRECT(\"'\"&$S122&\"'!R\"&$T122&\"C\"&COLUMN(),FALSE)","v":15000},{"$f":"INDIRECT(\"'\"&$S122&\"'!R\"&$T122&\"C\"&COLUMN(),FALSE)","v":17847.474457958753},{"$f":"INDIRECT(\"'\"&$S122&\"'!R\"&$T122&\"C\"&COLUMN(),FALSE)","v":16776.044420941304},{"$f":"INDIRECT(\"'\"&$S122&\"'!R\"&$T122&\"C\"&COLUMN(),FALSE)","v":"Validated PW 2020"},{"$f":"INDIRECT(\"'\"&$S122&\"'!R\"&$T122&\"C\"&COLUMN(),FALSE)","v":17000},{"$f":"INDIRECT(\"'\"&$S122&\"'!R\"&$T122&\"C\"&COLUMN(),FALSE)","v":6.3866666666666669E-2},{"$f":"INDIRECT(\"'\"&$S122&\"'!R\"&$T122&\"C\"&COLUMN(),FALSE)","v":"Thales"},{"$f":"INDIRECT(\"'\"&$S122&\"'!R\"&$T122&\"C\"&COLUMN(),FALSE)","v":2},{"$f":"INDIRECT(\"'\"&$S122&\"'!R\"&$T122&\"C\"&COLUMN(),FALSE)","v":"F"},{"$f":"INDIRECT(\"'\"&$S122&\"'!R\"&$T122&\"C\"&COLUMN(),FALSE)","v":"Radar altimeters"},{"$f":"INDIRECT(\"'\"&$S122&\"'!R\"&$T122&\"C\"&COLUMN(),FALSE)","v":0},{"$f":"INDIRECT(\"'\"&$S122&\"'!R\"&$T122&\"C\"&COLUMN(),FALSE)","v":15958},null,"518",118,"15958#F","wide body (non IMA)",36]
[{"$f":"INDIRECT(\"'\"&$S123&\"'!R\"&$T123&\"C\"&COLUMN(),FALSE)","v":"518#765"},{"$f":"INDIRECT(\"'\"&$S123&\"'!R\"&$T123&\"C\"&COLUMN(),FALSE)","v":70849},{"$f":"INDIRECT(\"'\"&$S123&\"'!R\"&$T123&\"C\"&COLUMN(),FALSE)","v":50000},{"$f":"INDIRECT(\"'\"&$S123&\"'!R\"&$T123&\"C\"&COLUMN(),FALSE)","v":79237.731411951361},{"$f":"INDIRECT(\"'\"&$S123&\"'!R\"&$T123&\"C\"&COLUMN(),FALSE)","v":55920.148069804345},{"$f":"INDIRECT(\"'\"&$S123&\"'!R\"&$T123&\"C\"&COLUMN(),FALSE)","v":"PW 2020 Low"},{"$f":"INDIRECT(\"'\"&$S123&\"'!R\"&$T123&\"C\"&COLUMN(),FALSE)","v":80000},{"$f":"INDIRECT(\"'\"&$S123&\"'!R\"&$T123&\"C\"&COLUMN(),FALSE)","v":0.41698000000000002},{"$f":"INDIRECT(\"'\"&$S123&\"'!R\"&$T123&\"C\"&COLUMN(),FALSE)","v":"Thales"},{"$f":"INDIRECT(\"'\"&$S123&\"'!R\"&$T123&\"C\"&COLUMN(),FALSE)","v":6},{"$f":"INDIRECT(\"'\"&$S123&\"'!R\"&$T123&\"C\"&COLUMN(),FALSE)","v":"N"},{"$f":"INDIRECT(\"'\"&$S123&\"'!R\"&$T123&\"C\"&COLUMN(),FALSE)","v":"Multi Function Display"},{"$f":"INDIRECT(\"'\"&$S123&\"'!R\"&$T123&\"C\"&COLUMN(),FALSE)","v":0},{"$f":"INDIRECT(\"'\"&$S123&\"'!R\"&$T123&\"C\"&COLUMN(),FALSE)","v":70849},null,"518",119,"70849#N","wide body (non IMA)",37]
[{"$f":"INDIRECT(\"'\"&$S124&\"'!R\"&$T124&\"C\"&COLUMN(),FALSE)","v":"199#709"},{"$f":"INDIRECT(\"'\"&$S124&\"'!R\"&$T124&\"C\"&COLUMN(),FALSE)","v":117423},{"$f":"INDIRECT(\"'\"&$S124&\"'!R\"&$T124&\"C\"&COLUMN(),FALSE)","v":60000},{"$f":"INDIRECT(\"'\"&$S124&\"'!R\"&$T124&\"C\"&COLUMN(),FALSE)","v":131326.2309360127},{"$f":"INDIRECT(\"'\"&$S124&\"'!R\"&$T124&\"C\"&COLUMN(),FALSE)","v":67104.177683765214},{"$f":"INDIRECT(\"'\"&$S124&\"'!R\"&$T124&\"C\"&COLUMN(),FALSE)","v":"PW Low"},{"$f":"INDIRECT(\"'\"&$S124&\"'!R\"&$T124&\"C\"&COLUMN(),FALSE)","v":132000},{"$f":"INDIRECT(\"'\"&$S124&\"'!R\"&$T124&\"C\"&COLUMN(),FALSE)","v":0.95704999999999996},{"$f":"INDIRECT(\"'\"&$S124&\"'!R\"&$T124&\"C\"&COLUMN(),FALSE)","v":"Honeywell"},{"$f":"INDIRECT(\"'\"&$S124&\"'!R\"&$T124&\"C\"&COLUMN(),FALSE)","v":2},{"$f":"INDIRECT(\"'\"&$S124&\"'!R\"&$T124&\"C\"&COLUMN(),FALSE)","v":"M"},{"$f":"INDIRECT(\"'\"&$S124&\"'!R\"&$T124&\"C\"&COLUMN(),FALSE)","v":"FMGC"},{"$f":"INDIRECT(\"'\"&$S124&\"'!R\"&$T124&\"C\"&COLUMN(),FALSE)","v":0},{"$f":"INDIRECT(\"'\"&$S124&\"'!R\"&$T124&\"C\"&COLUMN(),FALSE)","v":117423},null,"199",120,"117423#M","wide body (IMA)",5]
[{"$f":"INDIRECT(\"'\"&$S125&\"'!R\"&$T125&\"C\"&COLUMN(),FALSE)","v":"199#710"},{"$f":"INDIRECT(\"'\"&$S125&\"'!R\"&$T125&\"C\"&COLUMN(),FALSE)","v":41750},{"$f":"INDIRECT(\"'\"&$S125&\"'!R\"&$T125&\"C\"&COLUMN(),FALSE)","v":30000},{"$f":"INDIRECT(\"'\"&$S125&\"'!R\"&$T125&\"C\"&COLUMN(),FALSE)","v":46693.323638286623},{"$f":"INDIRECT(\"'\"&$S125&\"'!R\"&$T125&\"C\"&COLUMN(),FALSE)","v":33552.088841882607},{"$f":"INDIRECT(\"'\"&$S125&\"'!R\"&$T125&\"C\"&COLUMN(),FALSE)","v":"PW Low"},{"$f":"INDIRECT(\"'\"&$S125&\"'!R\"&$T125&\"C\"&COLUMN(),FALSE)","v":47000},{"$f":"INDIRECT(\"'\"&$S125&\"'!R\"&$T125&\"C\"&COLUMN(),FALSE)","v":0.39166666666666666},{"$f":"INDIRECT(\"'\"&$S125&\"'!R\"&$T125&\"C\"&COLUMN(),FALSE)","v":"Honeywell"},{"$f":"INDIRECT(\"'\"&$S125&\"'!R\"&$T125&\"C\"&COLUMN(),FALSE)","v":2},{"$f":"INDIRECT(\"'\"&$S125&\"'!R\"&$T125&\"C\"&COLUMN(),FALSE)","v":"J"},{"$f":"INDIRECT(\"'\"&$S125&\"'!R\"&$T125&\"C\"&COLUMN(),FALSE)","v":"MCDU"},{"$f":"INDIRECT(\"'\"&$S125&\"'!R\"&$T125&\"C\"&COLUMN(),FALSE)","v":0},{"$f":"INDIRECT(\"'\"&$S125&\"'!R\"&$T125&\"C\"&COLUMN(),FALSE)","v":41750},null,"199",121,"41750#J","wide body (IMA)",6]
[{"$f":"INDIRECT(\"'\"&$S126&\"'!R\"&$T126&\"C\"&COLUMN(),FALSE)","v":"199#713"},{"$f":"INDIRECT(\"'\"&$S126&\"'!R\"&$T126&\"C\"&COLUMN(),FALSE)","v":11206},{"$f":"INDIRECT(\"'\"&$S126&\"'!R\"&$T126&\"C\"&COLUMN(),FALSE)","v":30000},{"$f":"INDIRECT(\"'\"&$S126&\"'!R\"&$T126&\"C\"&COLUMN(),FALSE)","v":12532.823585404549},{"$f":"INDIRECT(\"'\"&$S126&\"'!R\"&$T126&\"C\"&COLUMN(),FALSE)","v":33552.088841882607},{"$f":"INDIRECT(\"'\"&$S126&\"'!R\"&$T126&\"C\"&COLUMN(),FALSE)","v":"Validated PW 2020"},{"$f":"INDIRECT(\"'\"&$S126&\"'!R\"&$T126&\"C\"&COLUMN(),FALSE)","v":34000},{"$f":"INDIRECT(\"'\"&$S126&\"'!R\"&$T126&\"C\"&COLUMN(),FALSE)","v":-0.62646666666666662},{"$f":"INDIRECT(\"'\"&$S126&\"'!R\"&$T126&\"C\"&COLUMN(),FALSE)","v":0},{"$f":"INDIRECT(\"'\"&$S126&\"'!R\"&$T126&\"C\"&COLUMN(),FALSE)","v":2},{"$f":"INDIRECT(\"'\"&$S126&\"'!R\"&$T126&\"C\"&COLUMN(),FALSE)","v":"C1"},{"$f":"INDIRECT(\"'\"&$S126&\"'!R\"&$T126&\"C\"&COLUMN(),FALSE)","v":"A/T Engine Control Unit"},{"$f":"INDIRECT(\"'\"&$S126&\"'!R\"&$T126&\"C\"&COLUMN(),FALSE)","v":0},{"$f":"INDIRECT(\"'\"&$S126&\"'!R\"&$T126&\"C\"&COLUMN(),FALSE)","v":11206},null,"199",122,"11206#C1","wide body (IMA)",7]
[{"$f":"INDIRECT(\"'\"&$S127&\"'!R\"&$T127&\"C\"&COLUMN(),FALSE)","v":"199#714"},{"$f":"INDIRECT(\"'\"&$S127&\"'!R\"&$T127&\"C\"&COLUMN(),FALSE)","v":34520},{"$f":"INDIRECT(\"'\"&$S127&\"'!R\"&$T127&\"C\"&COLUMN(),FALSE)","v":15000},{"$f":"INDIRECT(\"'\"&$S127&\"'!R\"&$T127&\"C\"&COLUMN(),FALSE)","v":38607.270227392917},{"$f":"INDIRECT(\"'\"&$S127&\"'!R\"&$T127&\"C\"&COLUMN(),FALSE)","v":16776.044420941304},{"$f":"INDIRECT(\"'\"&$S127&\"'!R\"&$T127&\"C\"&COLUMN(),FALSE)","v":"PW Low"},{"$f":"INDIRECT(\"'\"&$S127&\"'!R\"&$T127&\"C\"&COLUMN(),FALSE)","v":40000},{"$f":"INDIRECT(\"'\"&$S127&\"'!R\"&$T127&\"C\"&COLUMN(),FALSE)","v":1.3013333333333332},{"$f":"INDIRECT(\"'\"&$S127&\"'!R\"&$T127&\"C\"&COLUMN(),FALSE)","v":0},{"$f":"INDIRECT(\"'\"&$S127&\"'!R\"&$T127&\"C\"&COLUMN(),FALSE)","v":2},{"$f":"INDIRECT(\"'\"&$S127&\"'!R\"&$T127&\"C\"&COLUMN(),FALSE)","v":"E"},{"$f":"INDIRECT(\"'\"&$S127&\"'!R\"&$T127&\"C\"&COLUMN(),FALSE)","v":"Data Base loader"},{"$f":"INDIRECT(\"'\"&$S127&\"'!R\"&$T127&\"C\"&COLUMN(),FALSE)","v":0},{"$f":"INDIRECT(\"'\"&$S127&\"'!R\"&$T127&\"C\"&COLUMN(),FALSE)","v":34520},null,"199",123,"34520#E","wide body (IMA)",8]
[{"$f":"INDIRECT(\"'\"&$S128&\"'!R\"&$T128&\"C\"&COLUMN(),FALSE)","v":"199#719"},{"$f":"INDIRECT(\"'\"&$S128&\"'!R\"&$T128&\"C\"&COLUMN(),FALSE)","v":20243},{"$f":"INDIRECT(\"'\"&$S128&\"'!R\"&$T128&\"C\"&COLUMN(),FALSE)","v":15000},{"$f":"INDIRECT(\"'\"&$S128&\"'!R\"&$T128&\"C\"&COLUMN(),FALSE)","v":22639.831147540986},{"$f":"INDIRECT(\"'\"&$S128&\"'!R\"&$T128&\"C\"&COLUMN(),FALSE)","v":16776.044420941304},{"$f":"INDIRECT(\"'\"&$S128&\"'!R\"&$T128&\"C\"&COLUMN(),FALSE)","v":"PW Low"},{"$f":"INDIRECT(\"'\"&$S128&\"'!R\"&$T128&\"C\"&COLUMN(),FALSE)","v":23000},{"$f":"INDIRECT(\"'\"&$S128&\"'!R\"&$T128&\"C\"&COLUMN(),FALSE)","v":0.34953333333333331},{"$f":"INDIRECT(\"'\"&$S128&\"'!R\"&$T128&\"C\"&COLUMN(),FALSE)","v":"??"},{"$f":"INDIRECT(\"'\"&$S128&\"'!R\"&$T128&\"C\"&COLUMN(),FALSE)","v":1},{"$f":"INDIRECT(\"'\"&$S128&\"'!R\"&$T128&\"C\"&COLUMN(),FALSE)","v":"E"},{"$f":"INDIRECT(\"'\"&$S128&\"'!R\"&$T128&\"C\"&COLUMN(),FALSE)","v":"ADIRS CDU"},{"$f":"INDIRECT(\"'\"&$S128&\"'!R\"&$T128&\"C\"&COLUMN(),FALSE)","v":0},{"$f":"INDIRECT(\"'\"&$S128&\"'!R\"&$T128&\"C\"&COLUMN(),FALSE)","v":20243},null,"199",124,"20243#E","wide body (IMA)",9]
[{"$f":"INDIRECT(\"'\"&$S129&\"'!R\"&$T129&\"C\"&COLUMN(),FALSE)","v":"199#721"},{"$f":"INDIRECT(\"'\"&$S129&\"'!R\"&$T129&\"C\"&COLUMN(),FALSE)","v":10638},{"$f":"INDIRECT(\"'\"&$S129&\"'!R\"&$T129&\"C\"&COLUMN(),FALSE)","v":20000},{"$f":"INDIRECT(\"'\"&$S129&\"'!R\"&$T129&\"C\"&COLUMN(),FALSE)","v":11897.570703331572},{"$f":"INDIRECT(\"'\"&$S129&\"'!R\"&$T129&\"C\"&COLUMN(),FALSE)","v":22368.059227921738},{"$f":"INDIRECT(\"'\"&$S129&\"'!R\"&$T129&\"C\"&COLUMN(),FALSE)","v":"Validated PW 2020"},{"$f":"INDIRECT(\"'\"&$S129&\"'!R\"&$T129&\"C\"&COLUMN(),FALSE)","v":23000},{"$f":"INDIRECT(\"'\"&$S129&\"'!R\"&$T129&\"C\"&COLUMN(),FALSE)","v":-0.46810000000000002},{"$f":"INDIRECT(\"'\"&$S129&\"'!R\"&$T129&\"C\"&COLUMN(),FALSE)","v":"Honeywell"},{"$f":"INDIRECT(\"'\"&$S129&\"'!R\"&$T129&\"C\"&COLUMN(),FALSE)","v":8},{"$f":"INDIRECT(\"'\"&$S129&\"'!R\"&$T129&\"C\"&COLUMN(),FALSE)","v":"E2"},{"$f":"INDIRECT(\"'\"&$S129&\"'!R\"&$T129&\"C\"&COLUMN(),FALSE)","v":"Air Data Modules (ADM)"},{"$f":"INDIRECT(\"'\"&$S129&\"'!R\"&$T129&\"C\"&COLUMN(),FALSE)","v":0},{"$f":"INDIRECT(\"'\"&$S129&\"'!R\"&$T129&\"C\"&COLUMN(),FALSE)","v":10638},null,"199",125,"10638#E2","wide body (IMA)",10]
[{"$f":"INDIRECT(\"'\"&$S130&\"'!R\"&$T130&\"C\"&COLUMN(),FALSE)","v":"199#722"},{"$f":"INDIRECT(\"'\"&$S130&\"'!R\"&$T130&\"C\"&COLUMN(),FALSE)","v":13200},{"$f":"INDIRECT(\"'\"&$S130&\"'!R\"&$T130&\"C\"&COLUMN(),FALSE)","v":12000},{"$f":"INDIRECT(\"'\"&$S130&\"'!R\"&$T130&\"C\"&COLUMN(),FALSE)","v":14762.919090428346},{"$f":"INDIRECT(\"'\"&$S130&\"'!R\"&$T130&\"C\"&COLUMN(),FALSE)","v":13420.835536753042},{"$f":"INDIRECT(\"'\"&$S130&\"'!R\"&$T130&\"C\"&COLUMN(),FALSE)","v":"Validated PW 2020"},{"$f":"INDIRECT(\"'\"&$S130&\"'!R\"&$T130&\"C\"&COLUMN(),FALSE)","v":14000},{"$f":"INDIRECT(\"'\"&$S130&\"'!R\"&$T130&\"C\"&COLUMN(),FALSE)","v":0.1},{"$f":"INDIRECT(\"'\"&$S130&\"'!R\"&$T130&\"C\"&COLUMN(),FALSE)","v":"??"},{"$f":"INDIRECT(\"'\"&$S130&\"'!R\"&$T130&\"C\"&COLUMN(),FALSE)","v":14},{"$f":"INDIRECT(\"'\"&$S130&\"'!R\"&$T130&\"C\"&COLUMN(),FALSE)","v":"I"},{"$f":"INDIRECT(\"'\"&$S130&\"'!R\"&$T130&\"C\"&COLUMN(),FALSE)","v":"Air data probes (pitot/static)"},{"$f":"INDIRECT(\"'\"&$S130&\"'!R\"&$T130&\"C\"&COLUMN(),FALSE)","v":0},{"$f":"INDIRECT(\"'\"&$S130&\"'!R\"&$T130&\"C\"&COLUMN(),FALSE)","v":13200},null,"199",126,"13200#I","wide body (IMA)",11]
[{"$f":"INDIRECT(\"'\"&$S131&\"'!R\"&$T131&\"C\"&COLUMN(),FALSE)","v":"199#723"},{"$f":"INDIRECT(\"'\"&$S131&\"'!R\"&$T131&\"C\"&COLUMN(),FALSE)","v":44327},{"$f":"INDIRECT(\"'\"&$S131&\"'!R\"&$T131&\"C\"&COLUMN(),FALSE)","v":40000},{"$f":"INDIRECT(\"'\"&$S131&\"'!R\"&$T131&\"C\"&COLUMN(),FALSE)","v":49575.448069804341},{"$f":"INDIRECT(\"'\"&$S131&\"'!R\"&$T131&\"C\"&COLUMN(),FALSE)","v":44736.118455843476},{"$f":"INDIRECT(\"'\"&$S131&\"'!R\"&$T131&\"C\"&COLUMN(),FALSE)","v":"Validated PW 2020"},{"$f":"INDIRECT(\"'\"&$S131&\"'!R\"&$T131&\"C\"&COLUMN(),FALSE)","v":45000},{"$f":"INDIRECT(\"'\"&$S131&\"'!R\"&$T131&\"C\"&COLUMN(),FALSE)","v":0.10817499999999999},{"$f":"INDIRECT(\"'\"&$S131&\"'!R\"&$T131&\"C\"&COLUMN(),FALSE)","v":"Honeywell"},{"$f":"INDIRECT(\"'\"&$S131&\"'!R\"&$T131&\"C\"&COLUMN(),FALSE)","v":2},{"$f":"INDIRECT(\"'\"&$S131&\"'!R\"&$T131&\"C\"&COLUMN(),FALSE)","v":"D"},{"$f":"INDIRECT(\"'\"&$S131&\"'!R\"&$T131&\"C\"&COLUMN(),FALSE)","v":"Multi Mode Receiver (MMR)"},{"$f":"INDIRECT(\"'\"&$S131&\"'!R\"&$T131&\"C\"&COLUMN(),FALSE)","v":0},{"$f":"INDIRECT(\"'\"&$S131&\"'!R\"&$T131&\"C\"&COLUMN(),FALSE)","v":44327},null,"199",127,"44327#D","wide body (IMA)",12]
[{"$f":"INDIRECT(\"'\"&$S132&\"'!R\"&$T132&\"C\"&COLUMN(),FALSE)","v":"199#725"},{"$f":"INDIRECT(\"'\"&$S132&\"'!R\"&$T132&\"C\"&COLUMN(),FALSE)","v":10638},{"$f":"INDIRECT(\"'\"&$S132&\"'!R\"&$T132&\"C\"&COLUMN(),FALSE)","v":10000},{"$f":"INDIRECT(\"'\"&$S132&\"'!R\"&$T132&\"C\"&COLUMN(),FALSE)","v":11897.570703331572},{"$f":"INDIRECT(\"'\"&$S132&\"'!R\"&$T132&\"C\"&COLUMN(),FALSE)","v":11184.029613960869},{"$f":"INDIRECT(\"'\"&$S132&\"'!R\"&$T132&\"C\"&COLUMN(),FALSE)","v":"Validated PW 2020"},{"$f":"INDIRECT(\"'\"&$S132&\"'!R\"&$T132&\"C\"&COLUMN(),FALSE)","v":12000},{"$f":"INDIRECT(\"'\"&$S132&\"'!R\"&$T132&\"C\"&COLUMN(),FALSE)","v":6.3799999999999996E-2},{"$f":"INDIRECT(\"'\"&$S132&\"'!R\"&$T132&\"C\"&COLUMN(),FALSE)","v":"Honeywell"},{"$f":"INDIRECT(\"'\"&$S132&\"'!R\"&$T132&\"C\"&COLUMN(),FALSE)","v":2},{"$f":"INDIRECT(\"'\"&$S132&\"'!R\"&$T132&\"C\"&COLUMN(),FALSE)","v":"C"},{"$f":"INDIRECT(\"'\"&$S132&\"'!R\"&$T132&\"C\"&COLUMN(),FALSE)","v":"DME receivers"},{"$f":"INDIRECT(\"'\"&$S132&\"'!R\"&$T132&\"C\"&COLUMN(),FALSE)","v":0},{"$f":"INDIRECT(\"'\"&$S132&\"'!R\"&$T132&\"C\"&COLUMN(),FALSE)","v":10638},null,"199",128,"10638#C","wide body (IMA)",13]
[{"$f":"INDIRECT(\"'\"&$S133&\"'!R\"&$T133&\"C\"&COLUMN(),FALSE)","v":"199#728"},{"$f":"INDIRECT(\"'\"&$S133&\"'!R\"&$T133&\"C\"&COLUMN(),FALSE)","v":20243},{"$f":"INDIRECT(\"'\"&$S133&\"'!R\"&$T133&\"C\"&COLUMN(),FALSE)","v":15000},{"$f":"INDIRECT(\"'\"&$S133&\"'!R\"&$T133&\"C\"&COLUMN(),FALSE)","v":22639.831147540986},{"$f":"INDIRECT(\"'\"&$S133&\"'!R\"&$T133&\"C\"&COLUMN(),FALSE)","v":16776.044420941304},{"$f":"INDIRECT(\"'\"&$S133&\"'!R\"&$T133&\"C\"&COLUMN(),FALSE)","v":"PW Low"},{"$f":"INDIRECT(\"'\"&$S133&\"'!R\"&$T133&\"C\"&COLUMN(),FALSE)","v":23000},{"$f":"INDIRECT(\"'\"&$S133&\"'!R\"&$T133&\"C\"&COLUMN(),FALSE)","v":0.34953333333333331},{"$f":"INDIRECT(\"'\"&$S133&\"'!R\"&$T133&\"C\"&COLUMN(),FALSE)","v":0},{"$f":"INDIRECT(\"'\"&$S133&\"'!R\"&$T133&\"C\"&COLUMN(),FALSE)","v":1},{"$f":"INDIRECT(\"'\"&$S133&\"'!R\"&$T133&\"C\"&COLUMN(),FALSE)","v":"G"},{"$f":"INDIRECT(\"'\"&$S133&\"'!R\"&$T133&\"C\"&COLUMN(),FALSE)","v":"EFIS Control panel"},{"$f":"INDIRECT(\"'\"&$S133&\"'!R\"&$T133&\"C\"&COLUMN(),FALSE)","v":0},{"$f":"INDIRECT(\"'\"&$S133&\"'!R\"&$T133&\"C\"&COLUMN(),FALSE)","v":20243},null,"199",129,"20243#G","wide body (IMA)",14]
[{"$f":"INDIRECT(\"'\"&$S134&\"'!R\"&$T134&\"C\"&COLUMN(),FALSE)","v":"199#730"},{"$f":"INDIRECT(\"'\"&$S134&\"'!R\"&$T134&\"C\"&COLUMN(),FALSE)","v":111333},{"$f":"INDIRECT(\"'\"&$S134&\"'!R\"&$T134&\"C\"&COLUMN(),FALSE)","v":90000},{"$f":"INDIRECT(\"'\"&$S134&\"'!R\"&$T134&\"C\"&COLUMN(),FALSE)","v":124515.15690111053},{"$f":"INDIRECT(\"'\"&$S134&\"'!R\"&$T134&\"C\"&COLUMN(),FALSE)","v":100656.26652564782},{"$f":"INDIRECT(\"'\"&$S134&\"'!R\"&$T134&\"C\"&COLUMN(),FALSE)","v":"PW Low"},{"$f":"INDIRECT(\"'\"&$S134&\"'!R\"&$T134&\"C\"&COLUMN(),FALSE)","v":125000},{"$f":"INDIRECT(\"'\"&$S134&\"'!R\"&$T134&\"C\"&COLUMN(),FALSE)","v":0.23703333333333335},{"$f":"INDIRECT(\"'\"&$S134&\"'!R\"&$T134&\"C\"&COLUMN(),FALSE)","v":"Collins"},{"$f":"INDIRECT(\"'\"&$S134&\"'!R\"&$T134&\"C\"&COLUMN(),FALSE)","v":2},{"$f":"INDIRECT(\"'\"&$S134&\"'!R\"&$T134&\"C\"&COLUMN(),FALSE)","v":"G"},{"$f":"INDIRECT(\"'\"&$S134&\"'!R\"&$T134&\"C\"&COLUMN(),FALSE)","v":"HUD display system"},{"$f":"INDIRECT(\"'\"&$S134&\"'!R\"&$T134&\"C\"&COLUMN(),FALSE)","v":0},{"$f":"INDIRECT(\"'\"&$S134&\"'!R\"&$T134&\"C\"&COLUMN(),FALSE)","v":111333},null,{"$f":"IFERROR(LEFT(A134,SEARCH(\"#\",A134)-1),\"\")","v":"199"},130,{"$f":"N134&\"#\"&IFERROR(LEFT(K134,SEARCH(\" \",K134)-1),K134)","v":"111333#G"},"wide body (IMA)",15]
[{"$f":"INDIRECT(\"'\"&$S135&\"'!R\"&$T135&\"C\"&COLUMN(),FALSE)","v":"199#733"},{"$f":"INDIRECT(\"'\"&$S135&\"'!R\"&$T135&\"C\"&COLUMN(),FALSE)","v":50606},{"$f":"INDIRECT(\"'\"&$S135&\"'!R\"&$T135&\"C\"&COLUMN(),FALSE)","v":25000},{"$f":"INDIRECT(\"'\"&$S135&\"'!R\"&$T135&\"C\"&COLUMN(),FALSE)","v":56597.900264410375},{"$f":"INDIRECT(\"'\"&$S135&\"'!R\"&$T135&\"C\"&COLUMN(),FALSE)","v":27960.074034902173},{"$f":"INDIRECT(\"'\"&$S135&\"'!R\"&$T135&\"C\"&COLUMN(),FALSE)","v":"PW Low"},{"$f":"INDIRECT(\"'\"&$S135&\"'!R\"&$T135&\"C\"&COLUMN(),FALSE)","v":58000},{"$f":"INDIRECT(\"'\"&$S135&\"'!R\"&$T135&\"C\"&COLUMN(),FALSE)","v":1.02424},{"$f":"INDIRECT(\"'\"&$S135&\"'!R\"&$T135&\"C\"&COLUMN(),FALSE)","v":"IMA software function"},{"$f":"INDIRECT(\"'\"&$S135&\"'!R\"&$T135&\"C\"&COLUMN(),FALSE)","v":2},{"$f":"INDIRECT(\"'\"&$S135&\"'!R\"&$T135&\"C\"&COLUMN(),FALSE)","v":"I"},{"$f":"INDIRECT(\"'\"&$S135&\"'!R\"&$T135&\"C\"&COLUMN(),FALSE)","v":"Display Management Computer (DMC/EFIS)"},{"$f":"INDIRECT(\"'\"&$S135&\"'!R\"&$T135&\"C\"&COLUMN(),FALSE)","v":"Display Management Computer (EFIS)"},{"$f":"INDIRECT(\"'\"&$S135&\"'!R\"&$T135&\"C\"&COLUMN(),FALSE)","v":50606},null,"199",131,"50606#I","wide body (IMA)",16]
[{"$f":"INDIRECT(\"'\"&$S136&\"'!R\"&$T136&\"C\"&COLUMN(),FALSE)","v":"199#734"},{"$f":"INDIRECT(\"'\"&$S136&\"'!R\"&$T136&\"C\"&COLUMN(),FALSE)","v":10121},{"$f":"INDIRECT(\"'\"&$S136&\"'!R\"&$T136&\"C\"&COLUMN(),FALSE)","v":8000},{"$f":"INDIRECT(\"'\"&$S136&\"'!R\"&$T136&\"C\"&COLUMN(),FALSE)","v":11319.356372289794},{"$f":"INDIRECT(\"'\"&$S136&\"'!R\"&$T136&\"C\"&COLUMN(),FALSE)","v":8947.2236911686941},{"$f":"INDIRECT(\"'\"&$S136&\"'!R\"&$T136&\"C\"&COLUMN(),FALSE)","v":"PW Low"},{"$f":"INDIRECT(\"'\"&$S136&\"'!R\"&$T136&\"C\"&COLUMN(),FALSE)","v":12000},{"$f":"INDIRECT(\"'\"&$S136&\"'!R\"&$T136&\"C\"&COLUMN(),FALSE)","v":0.265125},{"$f":"INDIRECT(\"'\"&$S136&\"'!R\"&$T136&\"C\"&COLUMN(),FALSE)","v":0},{"$f":"INDIRECT(\"'\"&$S136&\"'!R\"&$T136&\"C\"&COLUMN(),FALSE)","v":1},{"$f":"INDIRECT(\"'\"&$S136&\"'!R\"&$T136&\"C\"&COLUMN(),FALSE)","v":"E"},{"$f":"INDIRECT(\"'\"&$S136&\"'!R\"&$T136&\"C\"&COLUMN(),FALSE)","v":"Compass"},{"$f":"INDIRECT(\"'\"&$S136&\"'!R\"&$T136&\"C\"&COLUMN(),FALSE)","v":0},{"$f":"INDIRECT(\"'\"&$S136&\"'!R\"&$T136&\"C\"&COLUMN(),FALSE)","v":10121},null,"199",132,"10121#E","wide body (IMA)",17]
[{"$f":"INDIRECT(\"'\"&$S137&\"'!R\"&$T137&\"C\"&COLUMN(),FALSE)","v":"199#735"},{"$f":"INDIRECT(\"'\"&$S137&\"'!R\"&$T137&\"C\"&COLUMN(),FALSE)","v":35424},{"$f":"INDIRECT(\"'\"&$S137&\"'!R\"&$T137&\"C\"&COLUMN(),FALSE)","v":30000},{"$f":"INDIRECT(\"'\"&$S137&\"'!R\"&$T137&\"C\"&COLUMN(),FALSE)","v":39618.306504494984},{"$f":"INDIRECT(\"'\"&$S137&\"'!R\"&$T137&\"C\"&COLUMN(),FALSE)","v":33552.088841882607},{"$f":"INDIRECT(\"'\"&$S137&\"'!R\"&$T137&\"C\"&COLUMN(),FALSE)","v":"PW Low"},{"$f":"INDIRECT(\"'\"&$S137&\"'!R\"&$T137&\"C\"&COLUMN(),FALSE)","v":40000},{"$f":"INDIRECT(\"'\"&$S137&\"'!R\"&$T137&\"C\"&COLUMN(),FALSE)","v":0.18079999999999999},{"$f":"INDIRECT(\"'\"&$S137&\"'!R\"&$T137&\"C\"&COLUMN(),FALSE)","v":"Thales"},{"$f":"INDIRECT(\"'\"&$S137&\"'!R\"&$T137&\"C\"&COLUMN(),FALSE)","v":1},{"$f":"INDIRECT(\"'\"&$S137&\"'!R\"&$T137&\"C\"&COLUMN(),FALSE)","v":"G"},{"$f":"INDIRECT(\"'\"&$S137&\"'!R\"&$T137&\"C\"&COLUMN(),FALSE)","v":"Integrated Standby Instrument System"},{"$f":"INDIRECT(\"'\"&$S137&\"'!R\"&$T137&\"C\"&COLUMN(),FALSE)","v":0},{"$f":"INDIRECT(\"'\"&$S137&\"'!R\"&$T137&\"C\"&COLUMN(),FALSE)","v":35424},null,"199",133,"35424#G","wide body (IMA)",18]
[{"$f":"INDIRECT(\"'\"&$S138&\"'!R\"&$T138&\"C\"&COLUMN(),FALSE)","v":"199#738"},{"$f":"INDIRECT(\"'\"&$S138&\"'!R\"&$T138&\"C\"&COLUMN(),FALSE)","v":17612},{"$f":"INDIRECT(\"'\"&$S138&\"'!R\"&$T138&\"C\"&COLUMN(),FALSE)","v":12000},{"$f":"INDIRECT(\"'\"&$S138&\"'!R\"&$T138&\"C\"&COLUMN(),FALSE)","v":19697.312956107882},{"$f":"INDIRECT(\"'\"&$S138&\"'!R\"&$T138&\"C\"&COLUMN(),FALSE)","v":13420.835536753042},{"$f":"INDIRECT(\"'\"&$S138&\"'!R\"&$T138&\"C\"&COLUMN(),FALSE)","v":"PW Low"},{"$f":"INDIRECT(\"'\"&$S138&\"'!R\"&$T138&\"C\"&COLUMN(),FALSE)","v":20000},{"$f":"INDIRECT(\"'\"&$S138&\"'!R\"&$T138&\"C\"&COLUMN(),FALSE)","v":0.46766666666666667},{"$f":"INDIRECT(\"'\"&$S138&\"'!R\"&$T138&\"C\"&COLUMN(),FALSE)","v":"Collins"},{"$f":"INDIRECT(\"'\"&$S138&\"'!R\"&$T138&\"C\"&COLUMN(),FALSE)","v":2},{"$f":"INDIRECT(\"'\"&$S138&\"'!R\"&$T138&\"C\"&COLUMN(),FALSE)","v":"F"},{"$f":"INDIRECT(\"'\"&$S138&\"'!R\"&$T138&\"C\"&COLUMN(),FALSE)","v":"Comms Receivers VH (transceiver/antenna)"},{"$f":"INDIRECT(\"'\"&$S138&\"'!R\"&$T138&\"C\"&COLUMN(),FALSE)","v":0},{"$f":"INDIRECT(\"'\"&$S138&\"'!R\"&$T138&\"C\"&COLUMN(),FALSE)","v":17612},null,"199",134,"17612#F","wide body (IMA)",19]
[{"$f":"INDIRECT(\"'\"&$S139&\"'!R\"&$T139&\"C\"&COLUMN(),FALSE)","v":"199#739"},{"$f":"INDIRECT(\"'\"&$S139&\"'!R\"&$T139&\"C\"&COLUMN(),FALSE)","v":17612},{"$f":"INDIRECT(\"'\"&$S139&\"'!R\"&$T139&\"C\"&COLUMN(),FALSE)","v":12000},{"$f":"INDIRECT(\"'\"&$S139&\"'!R\"&$T139&\"C\"&COLUMN(),FALSE)","v":19697.312956107882},{"$f":"INDIRECT(\"'\"&$S139&\"'!R\"&$T139&\"C\"&COLUMN(),FALSE)","v":13420.835536753042},{"$f":"INDIRECT(\"'\"&$S139&\"'!R\"&$T139&\"C\"&COLUMN(),FALSE)","v":"PW Low"},{"$f":"INDIRECT(\"'\"&$S139&\"'!R\"&$T139&\"C\"&COLUMN(),FALSE)","v":20000},{"$f":"INDIRECT(\"'\"&$S139&\"'!R\"&$T139&\"C\"&COLUMN(),FALSE)","v":0.46766666666666667},{"$f":"INDIRECT(\"'\"&$S139&\"'!R\"&$T139&\"C\"&COLUMN(),FALSE)","v":"Collins"},{"$f":"INDIRECT(\"'\"&$S139&\"'!R\"&$T139&\"C\"&COLUMN(),FALSE)","v":2},{"$f":"INDIRECT(\"'\"&$S139&\"'!R\"&$T139&\"C\"&COLUMN(),FALSE)","v":"F"},{"$f":"INDIRECT(\"'\"&$S139&\"'!R\"&$T139&\"C\"&COLUMN(),FALSE)","v":"Comms Receivers UF (transceiver/antenna)"},{"$f":"INDIRECT(\"'\"&$S139&\"'!R\"&$T139&\"C\"&COLUMN(),FALSE)","v":0},{"$f":"INDIRECT(\"'\"&$S139&\"'!R\"&$T139&\"C\"&COLUMN(),FALSE)","v":17612},null,"199",135,"17612#F","wide body (IMA)",20]
[{"$f":"INDIRECT(\"'\"&$S140&\"'!R\"&$T140&\"C\"&COLUMN(),FALSE)","v":"199#743"},{"$f":"INDIRECT(\"'\"&$S140&\"'!R\"&$T140&\"C\"&COLUMN(),FALSE)","v":7828},{"$f":"INDIRECT(\"'\"&$S140&\"'!R\"&$T140&\"C\"&COLUMN(),FALSE)","v":8000},{"$f":"INDIRECT(\"'\"&$S140&\"'!R\"&$T140&\"C\"&COLUMN(),FALSE)","v":8754.8583818085681},{"$f":"INDIRECT(\"'\"&$S140&\"'!R\"&$T140&\"C\"&COLUMN(),FALSE)","v":8947.2236911686941},{"$f":"INDIRECT(\"'\"&$S140&\"'!R\"&$T140&\"C\"&COLUMN(),FALSE)","v":"Validated PW 2020"},{"$f":"INDIRECT(\"'\"&$S140&\"'!R\"&$T140&\"C\"&COLUMN(),FALSE)","v":9000},{"$f":"INDIRECT(\"'\"&$S140&\"'!R\"&$T140&\"C\"&COLUMN(),FALSE)","v":-2.1499999999999998E-2},{"$f":"INDIRECT(\"'\"&$S140&\"'!R\"&$T140&\"C\"&COLUMN(),FALSE)","v":"?/"},{"$f":"INDIRECT(\"'\"&$S140&\"'!R\"&$T140&\"C\"&COLUMN(),FALSE)","v":1},{"$f":"INDIRECT(\"'\"&$S140&\"'!R\"&$T140&\"C\"&COLUMN(),FALSE)","v":"F"},{"$f":"INDIRECT(\"'\"&$S140&\"'!R\"&$T140&\"C\"&COLUMN(),FALSE)","v":"Radio Management Panel"},{"$f":"INDIRECT(\"'\"&$S140&\"'!R\"&$T140&\"C\"&COLUMN(),FALSE)","v":0},{"$f":"INDIRECT(\"'\"&$S140&\"'!R\"&$T140&\"C\"&COLUMN(),FALSE)","v":7828},null,"199",136,"7828#F","wide body (IMA)",21]
[{"$f":"INDIRECT(\"'\"&$S141&\"'!R\"&$T141&\"C\"&COLUMN(),FALSE)","v":"199#744"},{"$f":"INDIRECT(\"'\"&$S141&\"'!R\"&$T141&\"C\"&COLUMN(),FALSE)","v":42542},{"$f":"INDIRECT(\"'\"&$S141&\"'!R\"&$T141&\"C\"&COLUMN(),FALSE)","v":18000},{"$f":"INDIRECT(\"'\"&$S141&\"'!R\"&$T141&\"C\"&COLUMN(),FALSE)","v":47579.098783712325},{"$f":"INDIRECT(\"'\"&$S141&\"'!R\"&$T141&\"C\"&COLUMN(),FALSE)","v":20131.253305129565},{"$f":"INDIRECT(\"'\"&$S141&\"'!R\"&$T141&\"C\"&COLUMN(),FALSE)","v":"PW Low"},{"$f":"INDIRECT(\"'\"&$S141&\"'!R\"&$T141&\"C\"&COLUMN(),FALSE)","v":48000},{"$f":"INDIRECT(\"'\"&$S141&\"'!R\"&$T141&\"C\"&COLUMN(),FALSE)","v":1.3634444444444445},{"$f":"INDIRECT(\"'\"&$S141&\"'!R\"&$T141&\"C\"&COLUMN(),FALSE)","v":"Collins"},{"$f":"INDIRECT(\"'\"&$S141&\"'!R\"&$T141&\"C\"&COLUMN(),FALSE)","v":2},{"$f":"INDIRECT(\"'\"&$S141&\"'!R\"&$T141&\"C\"&COLUMN(),FALSE)","v":"F"},{"$f":"INDIRECT(\"'\"&$S141&\"'!R\"&$T141&\"C\"&COLUMN(),FALSE)","v":"ATC Mode S Transponders (TCAS)"},{"$f":"INDIRECT(\"'\"&$S141&\"'!R\"&$T141&\"C\"&COLUMN(),FALSE)","v":0},{"$f":"INDIRECT(\"'\"&$S141&\"'!R\"&$T141&\"C\"&COLUMN(),FALSE)","v":42542},null,"199",137,"42542#F","wide body (IMA)",22]
[{"$f":"INDIRECT(\"'\"&$S142&\"'!R\"&$T142&\"C\"&COLUMN(),FALSE)","v":"199#746"},{"$f":"INDIRECT(\"'\"&$S142&\"'!R\"&$T142&\"C\"&COLUMN(),FALSE)","v":49498},{"$f":"INDIRECT(\"'\"&$S142&\"'!R\"&$T142&\"C\"&COLUMN(),FALSE)","v":25000},{"$f":"INDIRECT(\"'\"&$S142&\"'!R\"&$T142&\"C\"&COLUMN(),FALSE)","v":55358.709783183505},{"$f":"INDIRECT(\"'\"&$S142&\"'!R\"&$T142&\"C\"&COLUMN(),FALSE)","v":27960.074034902173},{"$f":"INDIRECT(\"'\"&$S142&\"'!R\"&$T142&\"C\"&COLUMN(),FALSE)","v":"PW Low"},{"$f":"INDIRECT(\"'\"&$S142&\"'!R\"&$T142&\"C\"&COLUMN(),FALSE)","v":56000},{"$f":"INDIRECT(\"'\"&$S142&\"'!R\"&$T142&\"C\"&COLUMN(),FALSE)","v":0.97992000000000001},{"$f":"INDIRECT(\"'\"&$S142&\"'!R\"&$T142&\"C\"&COLUMN(),FALSE)","v":"Collins"},{"$f":"INDIRECT(\"'\"&$S142&\"'!R\"&$T142&\"C\"&COLUMN(),FALSE)","v":1},{"$f":"INDIRECT(\"'\"&$S142&\"'!R\"&$T142&\"C\"&COLUMN(),FALSE)","v":"J"},{"$f":"INDIRECT(\"'\"&$S142&\"'!R\"&$T142&\"C\"&COLUMN(),FALSE)","v":"Weather WX radar system"},{"$f":"INDIRECT(\"'\"&$S142&\"'!R\"&$T142&\"C\"&COLUMN(),FALSE)","v":"Weather WX radar system (transceivers)"},{"$f":"INDIRECT(\"'\"&$S142&\"'!R\"&$T142&\"C\"&COLUMN(),FALSE)","v":49498},null,"199",138,"49498#J","wide body (IMA)",23]
[{"$f":"INDIRECT(\"'\"&$S143&\"'!R\"&$T143&\"C\"&COLUMN(),FALSE)","v":"199#748"},{"$f":"INDIRECT(\"'\"&$S143&\"'!R\"&$T143&\"C\"&COLUMN(),FALSE)","v":48620},{"$f":"INDIRECT(\"'\"&$S143&\"'!R\"&$T143&\"C\"&COLUMN(),FALSE)","v":25000},{"$f":"INDIRECT(\"'\"&$S143&\"'!R\"&$T143&\"C\"&COLUMN(),FALSE)","v":54376.751983077746},{"$f":"INDIRECT(\"'\"&$S143&\"'!R\"&$T143&\"C\"&COLUMN(),FALSE)","v":27960.074034902173},{"$f":"INDIRECT(\"'\"&$S143&\"'!R\"&$T143&\"C\"&COLUMN(),FALSE)","v":"PW Low"},{"$f":"INDIRECT(\"'\"&$S143&\"'!R\"&$T143&\"C\"&COLUMN(),FALSE)","v":55000},{"$f":"INDIRECT(\"'\"&$S143&\"'!R\"&$T143&\"C\"&COLUMN(),FALSE)","v":0.94479999999999997},{"$f":"INDIRECT(\"'\"&$S143&\"'!R\"&$T143&\"C\"&COLUMN(),FALSE)","v":"Collins"},{"$f":"INDIRECT(\"'\"&$S143&\"'!R\"&$T143&\"C\"&COLUMN(),FALSE)","v":1},{"$f":"INDIRECT(\"'\"&$S143&\"'!R\"&$T143&\"C\"&COLUMN(),FALSE)","v":"N"},{"$f":"INDIRECT(\"'\"&$S143&\"'!R\"&$T143&\"C\"&COLUMN(),FALSE)","v":"Ground Proximity Warning System (GPWS/EGPWS)"},{"$f":"INDIRECT(\"'\"&$S143&\"'!R\"&$T143&\"C\"&COLUMN(),FALSE)","v":"Ground Proximity Warning System (GPWS)"},{"$f":"INDIRECT(\"'\"&$S143&\"'!R\"&$T143&\"C\"&COLUMN(),FALSE)","v":48620},null,"199",139,"48620#N","wide body (IMA)",24]
[{"$f":"INDIRECT(\"'\"&$S144&\"'!R\"&$T144&\"C\"&COLUMN(),FALSE)","v":"199#752"},{"$f":"INDIRECT(\"'\"&$S144&\"'!R\"&$T144&\"C\"&COLUMN(),FALSE)","v":19569},{"$f":"INDIRECT(\"'\"&$S144&\"'!R\"&$T144&\"C\"&COLUMN(),FALSE)","v":15000},{"$f":"INDIRECT(\"'\"&$S144&\"'!R\"&$T144&\"C\"&COLUMN(),FALSE)","v":21886.027551560022},{"$f":"INDIRECT(\"'\"&$S144&\"'!R\"&$T144&\"C\"&COLUMN(),FALSE)","v":16776.044420941304},{"$f":"INDIRECT(\"'\"&$S144&\"'!R\"&$T144&\"C\"&COLUMN(),FALSE)","v":"PW Low"},{"$f":"INDIRECT(\"'\"&$S144&\"'!R\"&$T144&\"C\"&COLUMN(),FALSE)","v":22000},{"$f":"INDIRECT(\"'\"&$S144&\"'!R\"&$T144&\"C\"&COLUMN(),FALSE)","v":0.30459999999999998},{"$f":"INDIRECT(\"'\"&$S144&\"'!R\"&$T144&\"C\"&COLUMN(),FALSE)","v":"Collins"},{"$f":"INDIRECT(\"'\"&$S144&\"'!R\"&$T144&\"C\"&COLUMN(),FALSE)","v":1},{"$f":"INDIRECT(\"'\"&$S144&\"'!R\"&$T144&\"C\"&COLUMN(),FALSE)","v":"J1"},{"$f":"INDIRECT(\"'\"&$S144&\"'!R\"&$T144&\"C\"&COLUMN(),FALSE)","v":"Cockpit Voice Recorder"},{"$f":"INDIRECT(\"'\"&$S144&\"'!R\"&$T144&\"C\"&COLUMN(),FALSE)","v":0},{"$f":"INDIRECT(\"'\"&$S144&\"'!R\"&$T144&\"C\"&COLUMN(),FALSE)","v":19569},null,"199",140,"19569#J1","wide body (IMA)",25]
[{"$f":"INDIRECT(\"'\"&$S145&\"'!R\"&$T145&\"C\"&COLUMN(),FALSE)","v":"199#753"},{"$f":"INDIRECT(\"'\"&$S145&\"'!R\"&$T145&\"C\"&COLUMN(),FALSE)","v":4893},{"$f":"INDIRECT(\"'\"&$S145&\"'!R\"&$T145&\"C\"&COLUMN(),FALSE)","v":5000},{"$f":"INDIRECT(\"'\"&$S145&\"'!R\"&$T145&\"C\"&COLUMN(),FALSE)","v":5472.345690111053},{"$f":"INDIRECT(\"'\"&$S145&\"'!R\"&$T145&\"C\"&COLUMN(),FALSE)","v":5592.0148069804345},{"$f":"INDIRECT(\"'\"&$S145&\"'!R\"&$T145&\"C\"&COLUMN(),FALSE)","v":"Validated PW 2020"},{"$f":"INDIRECT(\"'\"&$S145&\"'!R\"&$T145&\"C\"&COLUMN(),FALSE)","v":6000},{"$f":"INDIRECT(\"'\"&$S145&\"'!R\"&$T145&\"C\"&COLUMN(),FALSE)","v":-2.1399999999999999E-2},{"$f":"INDIRECT(\"'\"&$S145&\"'!R\"&$T145&\"C\"&COLUMN(),FALSE)","v":"Collins"},{"$f":"INDIRECT(\"'\"&$S145&\"'!R\"&$T145&\"C\"&COLUMN(),FALSE)","v":1},{"$f":"INDIRECT(\"'\"&$S145&\"'!R\"&$T145&\"C\"&COLUMN(),FALSE)","v":"C"},{"$f":"INDIRECT(\"'\"&$S145&\"'!R\"&$T145&\"C\"&COLUMN(),FALSE)","v":"CVR control panel"},{"$f":"INDIRECT(\"'\"&$S145&\"'!R\"&$T145&\"C\"&COLUMN(),FALSE)","v":0},{"$f":"INDIRECT(\"'\"&$S145&\"'!R\"&$T145&\"C\"&COLUMN(),FALSE)","v":4893},null,"199",141,"4893#C","wide body (IMA)",26]
[{"$f":"INDIRECT(\"'\"&$S146&\"'!R\"&$T146&\"C\"&COLUMN(),FALSE)","v":"199#754"},{"$f":"INDIRECT(\"'\"&$S146&\"'!R\"&$T146&\"C\"&COLUMN(),FALSE)","v":23014},{"$f":"INDIRECT(\"'\"&$S146&\"'!R\"&$T146&\"C\"&COLUMN(),FALSE)","v":20000},{"$f":"INDIRECT(\"'\"&$S146&\"'!R\"&$T146&\"C\"&COLUMN(),FALSE)","v":25738.925753569543},{"$f":"INDIRECT(\"'\"&$S146&\"'!R\"&$T146&\"C\"&COLUMN(),FALSE)","v":22368.059227921738},{"$f":"INDIRECT(\"'\"&$S146&\"'!R\"&$T146&\"C\"&COLUMN(),FALSE)","v":"PW Low"},{"$f":"INDIRECT(\"'\"&$S146&\"'!R\"&$T146&\"C\"&COLUMN(),FALSE)","v":26000},{"$f":"INDIRECT(\"'\"&$S146&\"'!R\"&$T146&\"C\"&COLUMN(),FALSE)","v":0.1507},{"$f":"INDIRECT(\"'\"&$S146&\"'!R\"&$T146&\"C\"&COLUMN(),FALSE)","v":"Collins"},{"$f":"INDIRECT(\"'\"&$S146&\"'!R\"&$T146&\"C\"&COLUMN(),FALSE)","v":1},{"$f":"INDIRECT(\"'\"&$S146&\"'!R\"&$T146&\"C\"&COLUMN(),FALSE)","v":"I"},{"$f":"INDIRECT(\"'\"&$S146&\"'!R\"&$T146&\"C\"&COLUMN(),FALSE)","v":"Flight Data Recorder"},{"$f":"INDIRECT(\"'\"&$S146&\"'!R\"&$T146&\"C\"&COLUMN(),FALSE)","v":0},{"$f":"INDIRECT(\"'\"&$S146&\"'!R\"&$T146&\"C\"&COLUMN(),FALSE)","v":23014},null,"199",142,"23014#I","wide body (IMA)",27]
[{"$f":"INDIRECT(\"'\"&$S147&\"'!R\"&$T147&\"C\"&COLUMN(),FALSE)","v":"199#755"},{"$f":"INDIRECT(\"'\"&$S147&\"'!R\"&$T147&\"C\"&COLUMN(),FALSE)","v":9205},{"$f":"INDIRECT(\"'\"&$S147&\"'!R\"&$T147&\"C\"&COLUMN(),FALSE)","v":8000},{"$f":"INDIRECT(\"'\"&$S147&\"'!R\"&$T147&\"C\"&COLUMN(),FALSE)","v":10294.89925965098},{"$f":"INDIRECT(\"'\"&$S147&\"'!R\"&$T147&\"C\"&COLUMN(),FALSE)","v":8947.2236911686941},{"$f":"INDIRECT(\"'\"&$S147&\"'!R\"&$T147&\"C\"&COLUMN(),FALSE)","v":"PW Low"},{"$f":"INDIRECT(\"'\"&$S147&\"'!R\"&$T147&\"C\"&COLUMN(),FALSE)","v":11000},{"$f":"INDIRECT(\"'\"&$S147&\"'!R\"&$T147&\"C\"&COLUMN(),FALSE)","v":0.15062500000000001},{"$f":"INDIRECT(\"'\"&$S147&\"'!R\"&$T147&\"C\"&COLUMN(),FALSE)","v":"Collins"},{"$f":"INDIRECT(\"'\"&$S147&\"'!R\"&$T147&\"C\"&COLUMN(),FALSE)","v":1},{"$f":"INDIRECT(\"'\"&$S147&\"'!R\"&$T147&\"C\"&COLUMN(),FALSE)","v":"C1"},{"$f":"INDIRECT(\"'\"&$S147&\"'!R\"&$T147&\"C\"&COLUMN(),FALSE)","v":"FD Interface Unit"},{"$f":"INDIRECT(\"'\"&$S147&\"'!R\"&$T147&\"C\"&COLUMN(),FALSE)","v":0},{"$f":"INDIRECT(\"'\"&$S147&\"'!R\"&$T147&\"C\"&COLUMN(),FALSE)","v":9205},null,"199",143,"9205#C1","wide body (IMA)",28]
[{"$f":"INDIRECT(\"'\"&$S148&\"'!R\"&$T148&\"C\"&COLUMN(),FALSE)","v":"199#756"},{"$f":"INDIRECT(\"'\"&$S148&\"'!R\"&$T148&\"C\"&COLUMN(),FALSE)","v":27616},{"$f":"INDIRECT(\"'\"&$S148&\"'!R\"&$T148&\"C\"&COLUMN(),FALSE)","v":15000},{"$f":"INDIRECT(\"'\"&$S148&\"'!R\"&$T148&\"C\"&COLUMN(),FALSE)","v":30885.816181914335},{"$f":"INDIRECT(\"'\"&$S148&\"'!R\"&$T148&\"C\"&COLUMN(),FALSE)","v":16776.044420941304},{"$f":"INDIRECT(\"'\"&$S148&\"'!R\"&$T148&\"C\"&COLUMN(),FALSE)","v":"PW Low"},{"$f":"INDIRECT(\"'\"&$S148&\"'!R\"&$T148&\"C\"&COLUMN(),FALSE)","v":31000},{"$f":"INDIRECT(\"'\"&$S148&\"'!R\"&$T148&\"C\"&COLUMN(),FALSE)","v":0.84106666666666663},{"$f":"INDIRECT(\"'\"&$S148&\"'!R\"&$T148&\"C\"&COLUMN(),FALSE)","v":0},{"$f":"INDIRECT(\"'\"&$S148&\"'!R\"&$T148&\"C\"&COLUMN(),FALSE)","v":1},{"$f":"INDIRECT(\"'\"&$S148&\"'!R\"&$T148&\"C\"&COLUMN(),FALSE)","v":"E"},{"$f":"INDIRECT(\"'\"&$S148&\"'!R\"&$T148&\"C\"&COLUMN(),FALSE)","v":"Quick Access Recorder (QAR)"},{"$f":"INDIRECT(\"'\"&$S148&\"'!R\"&$T148&\"C\"&COLUMN(),FALSE)","v":0},{"$f":"INDIRECT(\"'\"&$S148&\"'!R\"&$T148&\"C\"&COLUMN(),FALSE)","v":27616},null,"199",144,"27616#E","wide body (IMA)",29]
[{"$f":"INDIRECT(\"'\"&$S149&\"'!R\"&$T149&\"C\"&COLUMN(),FALSE)","v":"199#759"},{"$f":"INDIRECT(\"'\"&$S149&\"'!R\"&$T149&\"C\"&COLUMN(),FALSE)","v":34520},{"$f":"INDIRECT(\"'\"&$S149&\"'!R\"&$T149&\"C\"&COLUMN(),FALSE)","v":30000},{"$f":"INDIRECT(\"'\"&$S149&\"'!R\"&$T149&\"C\"&COLUMN(),FALSE)","v":38607.270227392917},{"$f":"INDIRECT(\"'\"&$S149&\"'!R\"&$T149&\"C\"&COLUMN(),FALSE)","v":33552.088841882607},{"$f":"INDIRECT(\"'\"&$S149&\"'!R\"&$T149&\"C\"&COLUMN(),FALSE)","v":"PW Low"},{"$f":"INDIRECT(\"'\"&$S149&\"'!R\"&$T149&\"C\"&COLUMN(),FALSE)","v":40000},{"$f":"INDIRECT(\"'\"&$S149&\"'!R\"&$T149&\"C\"&COLUMN(),FALSE)","v":0.15066666666666667},{"$f":"INDIRECT(\"'\"&$S149&\"'!R\"&$T149&\"C\"&COLUMN(),FALSE)","v":"Astronautics"},{"$f":"INDIRECT(\"'\"&$S149&\"'!R\"&$T149&\"C\"&COLUMN(),FALSE)","v":2},{"$f":"INDIRECT(\"'\"&$S149&\"'!R\"&$T149&\"C\"&COLUMN(),FALSE)","v":"E"},{"$f":"INDIRECT(\"'\"&$S149&\"'!R\"&$T149&\"C\"&COLUMN(),FALSE)","v":"Electronic Flight Bags (EFBs)"},{"$f":"INDIRECT(\"'\"&$S149&\"'!R\"&$T149&\"C\"&COLUMN(),FALSE)","v":0},{"$f":"INDIRECT(\"'\"&$S149&\"'!R\"&$T149&\"C\"&COLUMN(),FALSE)","v":34520},null,"199",145,"34520#E","wide body (IMA)",30]
[{"$f":"INDIRECT(\"'\"&$S150&\"'!R\"&$T150&\"C\"&COLUMN(),FALSE)","v":"199#760"},{"$f":"INDIRECT(\"'\"&$S150&\"'!R\"&$T150&\"C\"&COLUMN(),FALSE)","v":15657},{"$f":"INDIRECT(\"'\"&$S150&\"'!R\"&$T150&\"C\"&COLUMN(),FALSE)","v":15000},{"$f":"INDIRECT(\"'\"&$S150&\"'!R\"&$T150&\"C\"&COLUMN(),FALSE)","v":17510.83516657853},{"$f":"INDIRECT(\"'\"&$S150&\"'!R\"&$T150&\"C\"&COLUMN(),FALSE)","v":16776.044420941304},{"$f":"INDIRECT(\"'\"&$S150&\"'!R\"&$T150&\"C\"&COLUMN(),FALSE)","v":"Validated PW 2020"},{"$f":"INDIRECT(\"'\"&$S150&\"'!R\"&$T150&\"C\"&COLUMN(),FALSE)","v":17000},{"$f":"INDIRECT(\"'\"&$S150&\"'!R\"&$T150&\"C\"&COLUMN(),FALSE)","v":4.3799999999999999E-2},{"$f":"INDIRECT(\"'\"&$S150&\"'!R\"&$T150&\"C\"&COLUMN(),FALSE)","v":0},{"$f":"INDIRECT(\"'\"&$S150&\"'!R\"&$T150&\"C\"&COLUMN(),FALSE)","v":1},{"$f":"INDIRECT(\"'\"&$S150&\"'!R\"&$T150&\"C\"&COLUMN(),FALSE)","v":"A"},{"$f":"INDIRECT(\"'\"&$S150&\"'!R\"&$T150&\"C\"&COLUMN(),FALSE)","v":"Mode control Panel (Auto/Pilot control)"},{"$f":"INDIRECT(\"'\"&$S150&\"'!R\"&$T150&\"C\"&COLUMN(),FALSE)","v":0},{"$f":"INDIRECT(\"'\"&$S150&\"'!R\"&$T150&\"C\"&COLUMN(),FALSE)","v":15657},null,"199",146,"15657#A","wide body (IMA)",31]
[{"$f":"INDIRECT(\"'\"&$S151&\"'!R\"&$T151&\"C\"&COLUMN(),FALSE)","v":"199#763"},{"$f":"INDIRECT(\"'\"&$S151&\"'!R\"&$T151&\"C\"&COLUMN(),FALSE)","v":11741},{"$f":"INDIRECT(\"'\"&$S151&\"'!R\"&$T151&\"C\"&COLUMN(),FALSE)","v":12000},{"$f":"INDIRECT(\"'\"&$S151&\"'!R\"&$T151&\"C\"&COLUMN(),FALSE)","v":13131.169169751456},{"$f":"INDIRECT(\"'\"&$S151&\"'!R\"&$T151&\"C\"&COLUMN(),FALSE)","v":13420.835536753042},{"$f":"INDIRECT(\"'\"&$S151&\"'!R\"&$T151&\"C\"&COLUMN(),FALSE)","v":"Validated PW 2020"},{"$f":"INDIRECT(\"'\"&$S151&\"'!R\"&$T151&\"C\"&COLUMN(),FALSE)","v":14000},{"$f":"INDIRECT(\"'\"&$S151&\"'!R\"&$T151&\"C\"&COLUMN(),FALSE)","v":-2.1583333333333333E-2},{"$f":"INDIRECT(\"'\"&$S151&\"'!R\"&$T151&\"C\"&COLUMN(),FALSE)","v":"Honeywell"},{"$f":"INDIRECT(\"'\"&$S151&\"'!R\"&$T151&\"C\"&COLUMN(),FALSE)","v":2},{"$f":"INDIRECT(\"'\"&$S151&\"'!R\"&$T151&\"C\"&COLUMN(),FALSE)","v":"A"},{"$f":"INDIRECT(\"'\"&$S151&\"'!R\"&$T151&\"C\"&COLUMN(),FALSE)","v":"ADF radios"},{"$f":"INDIRECT(\"'\"&$S151&\"'!R\"&$T151&\"C\"&COLUMN(),FALSE)","v":0},{"$f":"INDIRECT(\"'\"&$S151&\"'!R\"&$T151&\"C\"&COLUMN(),FALSE)","v":11741},null,"199",147,"11741#A","wide body (IMA)",32]
[{"$f":"INDIRECT(\"'\"&$S152&\"'!R\"&$T152&\"C\"&COLUMN(),FALSE)","v":"199#764"},{"$f":"INDIRECT(\"'\"&$S152&\"'!R\"&$T152&\"C\"&COLUMN(),FALSE)","v":13298},{"$f":"INDIRECT(\"'\"&$S152&\"'!R\"&$T152&\"C\"&COLUMN(),FALSE)","v":15000},{"$f":"INDIRECT(\"'\"&$S152&\"'!R\"&$T152&\"C\"&COLUMN(),FALSE)","v":14872.522580645164},{"$f":"INDIRECT(\"'\"&$S152&\"'!R\"&$T152&\"C\"&COLUMN(),FALSE)","v":16776.044420941304},{"$f":"INDIRECT(\"'\"&$S152&\"'!R\"&$T152&\"C\"&COLUMN(),FALSE)","v":"Validated PW 2020"},{"$f":"INDIRECT(\"'\"&$S152&\"'!R\"&$T152&\"C\"&COLUMN(),FALSE)","v":17000},{"$f":"INDIRECT(\"'\"&$S152&\"'!R\"&$T152&\"C\"&COLUMN(),FALSE)","v":-0.11346666666666666},{"$f":"INDIRECT(\"'\"&$S152&\"'!R\"&$T152&\"C\"&COLUMN(),FALSE)","v":"Honeywell"},{"$f":"INDIRECT(\"'\"&$S152&\"'!R\"&$T152&\"C\"&COLUMN(),FALSE)","v":2},{"$f":"INDIRECT(\"'\"&$S152&\"'!R\"&$T152&\"C\"&COLUMN(),FALSE)","v":"C"},{"$f":"INDIRECT(\"'\"&$S152&\"'!R\"&$T152&\"C\"&COLUMN(),FALSE)","v":"Radar altimeters"},{"$f":"INDIRECT(\"'\"&$S152&\"'!R\"&$T152&\"C\"&COLUMN(),FALSE)","v":0},{"$f":"INDIRECT(\"'\"&$S152&\"'!R\"&$T152&\"C\"&COLUMN(),FALSE)","v":13298},null,"199",148,"13298#C","wide body (IMA)",33]
[{"$f":"INDIRECT(\"'\"&$S153&\"'!R\"&$T153&\"C\"&COLUMN(),FALSE)","v":"199#765"},{"$f":"INDIRECT(\"'\"&$S153&\"'!R\"&$T153&\"C\"&COLUMN(),FALSE)","v":85018},{"$f":"INDIRECT(\"'\"&$S153&\"'!R\"&$T153&\"C\"&COLUMN(),FALSE)","v":60000},{"$f":"INDIRECT(\"'\"&$S153&\"'!R\"&$T153&\"C\"&COLUMN(),FALSE)","v":95084.382971972518},{"$f":"INDIRECT(\"'\"&$S153&\"'!R\"&$T153&\"C\"&COLUMN(),FALSE)","v":67104.177683765214},{"$f":"INDIRECT(\"'\"&$S153&\"'!R\"&$T153&\"C\"&COLUMN(),FALSE)","v":"PW Low"},{"$f":"INDIRECT(\"'\"&$S153&\"'!R\"&$T153&\"C\"&COLUMN(),FALSE)","v":96000},{"$f":"INDIRECT(\"'\"&$S153&\"'!R\"&$T153&\"C\"&COLUMN(),FALSE)","v":0.41696666666666665},{"$f":"INDIRECT(\"'\"&$S153&\"'!R\"&$T153&\"C\"&COLUMN(),FALSE)","v":"Collins"},{"$f":"INDIRECT(\"'\"&$S153&\"'!R\"&$T153&\"C\"&COLUMN(),FALSE)","v":5},{"$f":"INDIRECT(\"'\"&$S153&\"'!R\"&$T153&\"C\"&COLUMN(),FALSE)","v":"O"},{"$f":"INDIRECT(\"'\"&$S153&\"'!R\"&$T153&\"C\"&COLUMN(),FALSE)","v":"Multi Function Display"},{"$f":"INDIRECT(\"'\"&$S153&\"'!R\"&$T153&\"C\"&COLUMN(),FALSE)","v":0},{"$f":"INDIRECT(\"'\"&$S153&\"'!R\"&$T153&\"C\"&COLUMN(),FALSE)","v":85018},null,"199",149,"85018#O","wide body (IMA)",34]
[{"$f":"INDIRECT(\"'\"&$S154&\"'!R\"&$T154&\"C\"&COLUMN(),FALSE)","v":"199#766"},{"$f":"INDIRECT(\"'\"&$S154&\"'!R\"&$T154&\"C\"&COLUMN(),FALSE)","v":30364},{"$f":"INDIRECT(\"'\"&$S154&\"'!R\"&$T154&\"C\"&COLUMN(),FALSE)","v":25000},{"$f":"INDIRECT(\"'\"&$S154&\"'!R\"&$T154&\"C\"&COLUMN(),FALSE)","v":33959.187519830783},{"$f":"INDIRECT(\"'\"&$S154&\"'!R\"&$T154&\"C\"&COLUMN(),FALSE)","v":27960.074034902173},{"$f":"INDIRECT(\"'\"&$S154&\"'!R\"&$T154&\"C\"&COLUMN(),FALSE)","v":"PW Low"},{"$f":"INDIRECT(\"'\"&$S154&\"'!R\"&$T154&\"C\"&COLUMN(),FALSE)","v":34000},{"$f":"INDIRECT(\"'\"&$S154&\"'!R\"&$T154&\"C\"&COLUMN(),FALSE)","v":0.21456},{"$f":"INDIRECT(\"'\"&$S154&\"'!R\"&$T154&\"C\"&COLUMN(),FALSE)","v":"Collins"},{"$f":"INDIRECT(\"'\"&$S154&\"'!R\"&$T154&\"C\"&COLUMN(),FALSE)","v":1},{"$f":"INDIRECT(\"'\"&$S154&\"'!R\"&$T154&\"C\"&COLUMN(),FALSE)","v":"B"},{"$f":"INDIRECT(\"'\"&$S154&\"'!R\"&$T154&\"C\"&COLUMN(),FALSE)","v":"EICAS Crew alerting System"},{"$f":"INDIRECT(\"'\"&$S154&\"'!R\"&$T154&\"C\"&COLUMN(),FALSE)","v":0},{"$f":"INDIRECT(\"'\"&$S154&\"'!R\"&$T154&\"C\"&COLUMN(),FALSE)","v":30364},null,"199",150,"30364#B","wide body (IMA)",35]
[{"$f":"INDIRECT(\"'\"&$S155&\"'!R\"&$T155&\"C\"&COLUMN(),FALSE)","v":"199#768"},{"$f":"INDIRECT(\"'\"&$S155&\"'!R\"&$T155&\"C\"&COLUMN(),FALSE)","v":19569},{"$f":"INDIRECT(\"'\"&$S155&\"'!R\"&$T155&\"C\"&COLUMN(),FALSE)","v":12000},{"$f":"INDIRECT(\"'\"&$S155&\"'!R\"&$T155&\"C\"&COLUMN(),FALSE)","v":21886.027551560022},{"$f":"INDIRECT(\"'\"&$S155&\"'!R\"&$T155&\"C\"&COLUMN(),FALSE)","v":13420.835536753042},{"$f":"INDIRECT(\"'\"&$S155&\"'!R\"&$T155&\"C\"&COLUMN(),FALSE)","v":"PW Low"},{"$f":"INDIRECT(\"'\"&$S155&\"'!R\"&$T155&\"C\"&COLUMN(),FALSE)","v":22000},{"$f":"INDIRECT(\"'\"&$S155&\"'!R\"&$T155&\"C\"&COLUMN(),FALSE)","v":0.63075000000000003},{"$f":"INDIRECT(\"'\"&$S155&\"'!R\"&$T155&\"C\"&COLUMN(),FALSE)","v":"Collins"},{"$f":"INDIRECT(\"'\"&$S155&\"'!R\"&$T155&\"C\"&COLUMN(),FALSE)","v":1},{"$f":"INDIRECT(\"'\"&$S155&\"'!R\"&$T155&\"C\"&COLUMN(),FALSE)","v":"A"},{"$f":"INDIRECT(\"'\"&$S155&\"'!R\"&$T155&\"C\"&COLUMN(),FALSE)","v":"HF Radio"},{"$f":"INDIRECT(\"'\"&$S155&\"'!R\"&$T155&\"C\"&COLUMN(),FALSE)","v":0},{"$f":"INDIRECT(\"'\"&$S155&\"'!R\"&$T155&\"C\"&COLUMN(),FALSE)","v":19569},null,"199",151,"19569#A","wide body (IMA)",36]
[{"$f":"INDIRECT(\"'\"&$S156&\"'!R\"&$T156&\"C\"&COLUMN(),FALSE)","v":"199#769"},{"$f":"INDIRECT(\"'\"&$S156&\"'!R\"&$T156&\"C\"&COLUMN(),FALSE)","v":48922},{"$f":"INDIRECT(\"'\"&$S156&\"'!R\"&$T156&\"C\"&COLUMN(),FALSE)","v":50000},{"$f":"INDIRECT(\"'\"&$S156&\"'!R\"&$T156&\"C\"&COLUMN(),FALSE)","v":54714.509677419359},{"$f":"INDIRECT(\"'\"&$S156&\"'!R\"&$T156&\"C\"&COLUMN(),FALSE)","v":55920.148069804345},{"$f":"INDIRECT(\"'\"&$S156&\"'!R\"&$T156&\"C\"&COLUMN(),FALSE)","v":"Validated PW 2020"},{"$f":"INDIRECT(\"'\"&$S156&\"'!R\"&$T156&\"C\"&COLUMN(),FALSE)","v":56000},{"$f":"INDIRECT(\"'\"&$S156&\"'!R\"&$T156&\"C\"&COLUMN(),FALSE)","v":-2.1559999999999999E-2},{"$f":"INDIRECT(\"'\"&$S156&\"'!R\"&$T156&\"C\"&COLUMN(),FALSE)","v":"Collins"},{"$f":"INDIRECT(\"'\"&$S156&\"'!R\"&$T156&\"C\"&COLUMN(),FALSE)","v":1},{"$f":"INDIRECT(\"'\"&$S156&\"'!R\"&$T156&\"C\"&COLUMN(),FALSE)","v":"C"},{"$f":"INDIRECT(\"'\"&$S156&\"'!R\"&$T156&\"C\"&COLUMN(),FALSE)","v":"SATCOM"},{"$f":"INDIRECT(\"'\"&$S156&\"'!R\"&$T156&\"C\"&COLUMN(),FALSE)","v":"SATCOM 2100"},{"$f":"INDIRECT(\"'\"&$S156&\"'!R\"&$T156&\"C\"&COLUMN(),FALSE)","v":48922},null,"199",152,"48922#C","wide body (IMA)",37]
[{"$f":"INDIRECT(\"'\"&$S157&\"'!R\"&$T157&\"C\"&COLUMN(),FALSE)","v":"199#772"},{"$f":"INDIRECT(\"'\"&$S157&\"'!R\"&$T157&\"C\"&COLUMN(),FALSE)","v":28767},{"$f":"INDIRECT(\"'\"&$S157&\"'!R\"&$T157&\"C\"&COLUMN(),FALSE)","v":25000},{"$f":"INDIRECT(\"'\"&$S157&\"'!R\"&$T157&\"C\"&COLUMN(),FALSE)","v":32173.09799048123},{"$f":"INDIRECT(\"'\"&$S157&\"'!R\"&$T157&\"C\"&COLUMN(),FALSE)","v":27960.074034902173},{"$f":"INDIRECT(\"'\"&$S157&\"'!R\"&$T157&\"C\"&COLUMN(),FALSE)","v":"PW Low"},{"$f":"INDIRECT(\"'\"&$S157&\"'!R\"&$T157&\"C\"&COLUMN(),FALSE)","v":33000},{"$f":"INDIRECT(\"'\"&$S157&\"'!R\"&$T157&\"C\"&COLUMN(),FALSE)","v":0.15068000000000001},{"$f":"INDIRECT(\"'\"&$S157&\"'!R\"&$T157&\"C\"&COLUMN(),FALSE)","v":"Honeywell"},{"$f":"INDIRECT(\"'\"&$S157&\"'!R\"&$T157&\"C\"&COLUMN(),FALSE)","v":1},{"$f":"INDIRECT(\"'\"&$S157&\"'!R\"&$T157&\"C\"&COLUMN(),FALSE)","v":"A"},{"$f":"INDIRECT(\"'\"&$S157&\"'!R\"&$T157&\"C\"&COLUMN(),FALSE)","v":"Wireless LAN data loader"},{"$f":"INDIRECT(\"'\"&$S157&\"'!R\"&$T157&\"C\"&COLUMN(),FALSE)","v":0},{"$f":"INDIRECT(\"'\"&$S157&\"'!R\"&$T157&\"C\"&COLUMN(),FALSE)","v":28767},null,"199",153,"28767#A","wide body (IMA)",38]
[{"$f":"INDIRECT(\"'\"&$S158&\"'!R\"&$T158&\"C\"&COLUMN(),FALSE)","v":"199#773"},{"$f":"INDIRECT(\"'\"&$S158&\"'!R\"&$T158&\"C\"&COLUMN(),FALSE)","v":182270},{"$f":"INDIRECT(\"'\"&$S158&\"'!R\"&$T158&\"C\"&COLUMN(),FALSE)","v":150000},{"$f":"INDIRECT(\"'\"&$S158&\"'!R\"&$T158&\"C\"&COLUMN(),FALSE)","v":203851.30777366474},{"$f":"INDIRECT(\"'\"&$S158&\"'!R\"&$T158&\"C\"&COLUMN(),FALSE)","v":167760.44420941302},{"$f":"INDIRECT(\"'\"&$S158&\"'!R\"&$T158&\"C\"&COLUMN(),FALSE)","v":"PW Low"},{"$f":"INDIRECT(\"'\"&$S158&\"'!R\"&$T158&\"C\"&COLUMN(),FALSE)","v":205000},{"$f":"INDIRECT(\"'\"&$S158&\"'!R\"&$T158&\"C\"&COLUMN(),FALSE)","v":0.21513333333333334},{"$f":"INDIRECT(\"'\"&$S158&\"'!R\"&$T158&\"C\"&COLUMN(),FALSE)","v":"GE Aviation"},{"$f":"INDIRECT(\"'\"&$S158&\"'!R\"&$T158&\"C\"&COLUMN(),FALSE)","v":2},{"$f":"INDIRECT(\"'\"&$S158&\"'!R\"&$T158&\"C\"&COLUMN(),FALSE)","v":"G"},{"$f":"INDIRECT(\"'\"&$S158&\"'!R\"&$T158&\"C\"&COLUMN(),FALSE)","v":"Common Core processing"},{"$f":"INDIRECT(\"'\"&$S158&\"'!R\"&$T158&\"C\"&COLUMN(),FALSE)","v":0},{"$f":"INDIRECT(\"'\"&$S158&\"'!R\"&$T158&\"C\"&COLUMN(),FALSE)","v":182270},null,"199",154,"182270#G","wide body (IMA)",39]
[{"$f":"INDIRECT(\"'\"&$S159&\"'!R\"&$T159&\"C\"&COLUMN(),FALSE)","v":"23#709"},{"$f":"INDIRECT(\"'\"&$S159&\"'!R\"&$T159&\"C\"&COLUMN(),FALSE)","v":78282},{"$f":"INDIRECT(\"'\"&$S159&\"'!R\"&$T159&\"C\"&COLUMN(),FALSE)","v":35000},{"$f":"INDIRECT(\"'\"&$S159&\"'!R\"&$T159&\"C\"&COLUMN(),FALSE)","v":87550.820624008469},{"$f":"INDIRECT(\"'\"&$S159&\"'!R\"&$T159&\"C\"&COLUMN(),FALSE)","v":39144.103648863042},{"$f":"INDIRECT(\"'\"&$S159&\"'!R\"&$T159&\"C\"&COLUMN(),FALSE)","v":"PW Low"},{"$f":"INDIRECT(\"'\"&$S159&\"'!R\"&$T159&\"C\"&COLUMN(),FALSE)","v":90000},{"$f":"INDIRECT(\"'\"&$S159&\"'!R\"&$T159&\"C\"&COLUMN(),FALSE)","v":1.2366285714285714},{"$f":"INDIRECT(\"'\"&$S159&\"'!R\"&$T159&\"C\"&COLUMN(),FALSE)","v":"HWL"},{"$f":"INDIRECT(\"'\"&$S159&\"'!R\"&$T159&\"C\"&COLUMN(),FALSE)","v":2},{"$f":"INDIRECT(\"'\"&$S159&\"'!R\"&$T159&\"C\"&COLUMN(),FALSE)","v":"K"},{"$f":"INDIRECT(\"'\"&$S159&\"'!R\"&$T159&\"C\"&COLUMN(),FALSE)","v":"FMGC"},{"$f":"INDIRECT(\"'\"&$S159&\"'!R\"&$T159&\"C\"&COLUMN(),FALSE)","v":"FMZ - 2000 FMS"},{"$f":"INDIRECT(\"'\"&$S159&\"'!R\"&$T159&\"C\"&COLUMN(),FALSE)","v":31312},null,"23",155,"31312#K","regional",5]
[{"$f":"INDIRECT(\"'\"&$S160&\"'!R\"&$T160&\"C\"&COLUMN(),FALSE)","v":"23#710"},{"$f":"INDIRECT(\"'\"&$S160&\"'!R\"&$T160&\"C\"&COLUMN(),FALSE)","v":31313},{"$f":"INDIRECT(\"'\"&$S160&\"'!R\"&$T160&\"C\"&COLUMN(),FALSE)","v":25000},{"$f":"INDIRECT(\"'\"&$S160&\"'!R\"&$T160&\"C\"&COLUMN(),FALSE)","v":35020.551930195667},{"$f":"INDIRECT(\"'\"&$S160&\"'!R\"&$T160&\"C\"&COLUMN(),FALSE)","v":27960.074034902173},{"$f":"INDIRECT(\"'\"&$S160&\"'!R\"&$T160&\"C\"&COLUMN(),FALSE)","v":"PW Low"},{"$f":"INDIRECT(\"'\"&$S160&\"'!R\"&$T160&\"C\"&COLUMN(),FALSE)","v":35000},{"$f":"INDIRECT(\"'\"&$S160&\"'!R\"&$T160&\"C\"&COLUMN(),FALSE)","v":0.25252000000000002},{"$f":"INDIRECT(\"'\"&$S160&\"'!R\"&$T160&\"C\"&COLUMN(),FALSE)","v":"HWL"},{"$f":"INDIRECT(\"'\"&$S160&\"'!R\"&$T160&\"C\"&COLUMN(),FALSE)","v":2},{"$f":"INDIRECT(\"'\"&$S160&\"'!R\"&$T160&\"C\"&COLUMN(),FALSE)","v":"I"},{"$f":"INDIRECT(\"'\"&$S160&\"'!R\"&$T160&\"C\"&COLUMN(),FALSE)","v":"MCDU"},{"$f":"INDIRECT(\"'\"&$S160&\"'!R\"&$T160&\"C\"&COLUMN(),FALSE)","v":"Primus Epic MCDUs"},{"$f":"INDIRECT(\"'\"&$S160&\"'!R\"&$T160&\"C\"&COLUMN(),FALSE)","v":31313},null,"23",156,"31313#I","regional",6]
[{"$f":"INDIRECT(\"'\"&$S161&\"'!R\"&$T161&\"C\"&COLUMN(),FALSE)","v":"23#717"},{"$f":"INDIRECT(\"'\"&$S161&\"'!R\"&$T161&\"C\"&COLUMN(),FALSE)","v":39894},{"$f":"INDIRECT(\"'\"&$S161&\"'!R\"&$T161&\"C\"&COLUMN(),FALSE)","v":20000},{"$f":"INDIRECT(\"'\"&$S161&\"'!R\"&$T161&\"C\"&COLUMN(),FALSE)","v":44617.567741935491},{"$f":"INDIRECT(\"'\"&$S161&\"'!R\"&$T161&\"C\"&COLUMN(),FALSE)","v":22368.059227921738},{"$f":"INDIRECT(\"'\"&$S161&\"'!R\"&$T161&\"C\"&COLUMN(),FALSE)","v":"PW Low"},{"$f":"INDIRECT(\"'\"&$S161&\"'!R\"&$T161&\"C\"&COLUMN(),FALSE)","v":45000},{"$f":"INDIRECT(\"'\"&$S161&\"'!R\"&$T161&\"C\"&COLUMN(),FALSE)","v":0.99470000000000003},{"$f":"INDIRECT(\"'\"&$S161&\"'!R\"&$T161&\"C\"&COLUMN(),FALSE)","v":"HWL"},{"$f":"INDIRECT(\"'\"&$S161&\"'!R\"&$T161&\"C\"&COLUMN(),FALSE)","v":3},{"$f":"INDIRECT(\"'\"&$S161&\"'!R\"&$T161&\"C\"&COLUMN(),FALSE)","v":"E"},{"$f":"INDIRECT(\"'\"&$S161&\"'!R\"&$T161&\"C\"&COLUMN(),FALSE)","v":"ADIRU"},{"$f":"INDIRECT(\"'\"&$S161&\"'!R\"&$T161&\"C\"&COLUMN(),FALSE)","v":"Air Data System"},{"$f":"INDIRECT(\"'\"&$S161&\"'!R\"&$T161&\"C\"&COLUMN(),FALSE)","v":39894},null,"23",157,"39894#E","regional",7]
[{"$f":"INDIRECT(\"'\"&$S162&\"'!R\"&$T162&\"C\"&COLUMN(),FALSE)","v":"23#726"},{"$f":"INDIRECT(\"'\"&$S162&\"'!R\"&$T162&\"C\"&COLUMN(),FALSE)","v":50606},{"$f":"INDIRECT(\"'\"&$S162&\"'!R\"&$T162&\"C\"&COLUMN(),FALSE)","v":45000},{"$f":"INDIRECT(\"'\"&$S162&\"'!R\"&$T162&\"C\"&COLUMN(),FALSE)","v":56597.900264410375},{"$f":"INDIRECT(\"'\"&$S162&\"'!R\"&$T162&\"C\"&COLUMN(),FALSE)","v":50328.133262823911},{"$f":"INDIRECT(\"'\"&$S162&\"'!R\"&$T162&\"C\"&COLUMN(),FALSE)","v":"PW Low"},{"$f":"INDIRECT(\"'\"&$S162&\"'!R\"&$T162&\"C\"&COLUMN(),FALSE)","v":57000},{"$f":"INDIRECT(\"'\"&$S162&\"'!R\"&$T162&\"C\"&COLUMN(),FALSE)","v":0.12457777777777777},{"$f":"INDIRECT(\"'\"&$S162&\"'!R\"&$T162&\"C\"&COLUMN(),FALSE)","v":"HWL"},{"$f":"INDIRECT(\"'\"&$S162&\"'!R\"&$T162&\"C\"&COLUMN(),FALSE)","v":5},{"$f":"INDIRECT(\"'\"&$S162&\"'!R\"&$T162&\"C\"&COLUMN(),FALSE)","v":"E"},{"$f":"INDIRECT(\"'\"&$S162&\"'!R\"&$T162&\"C\"&COLUMN(),FALSE)","v":"Primary Flight Display (EFIS)"},{"$f":"INDIRECT(\"'\"&$S162&\"'!R\"&$T162&\"C\"&COLUMN(),FALSE)","v":"Primus Epic displays"},{"$f":"INDIRECT(\"'\"&$S162&\"'!R\"&$T162&\"C\"&COLUMN(),FALSE)","v":50606},null,"23",158,"50606#E","regional",8]
[{"$f":"INDIRECT(\"'\"&$S163&\"'!R\"&$T163&\"C\"&COLUMN(),FALSE)","v":"23#730"},{"$f":"INDIRECT(\"'\"&$S163&\"'!R\"&$T163&\"C\"&COLUMN(),FALSE)","v":65788},{"$f":"INDIRECT(\"'\"&$S163&\"'!R\"&$T163&\"C\"&COLUMN(),FALSE)","v":65000},{"$f":"INDIRECT(\"'\"&$S163&\"'!R\"&$T163&\"C\"&COLUMN(),FALSE)","v":73577.494024325759},{"$f":"INDIRECT(\"'\"&$S163&\"'!R\"&$T163&\"C\"&COLUMN(),FALSE)","v":72696.192490745641},{"$f":"INDIRECT(\"'\"&$S163&\"'!R\"&$T163&\"C\"&COLUMN(),FALSE)","v":"Validated PW 2020"},{"$f":"INDIRECT(\"'\"&$S163&\"'!R\"&$T163&\"C\"&COLUMN(),FALSE)","v":73000},{"$f":"INDIRECT(\"'\"&$S163&\"'!R\"&$T163&\"C\"&COLUMN(),FALSE)","v":1.2123076923076924E-2},{"$f":"INDIRECT(\"'\"&$S163&\"'!R\"&$T163&\"C\"&COLUMN(),FALSE)","v":"Collins"},{"$f":"INDIRECT(\"'\"&$S163&\"'!R\"&$T163&\"C\"&COLUMN(),FALSE)","v":2},{"$f":"INDIRECT(\"'\"&$S163&\"'!R\"&$T163&\"C\"&COLUMN(),FALSE)","v":"C"},{"$f":"INDIRECT(\"'\"&$S163&\"'!R\"&$T163&\"C\"&COLUMN(),FALSE)","v":"HUD display system"},{"$f":"INDIRECT(\"'\"&$S163&\"'!R\"&$T163&\"C\"&COLUMN(),FALSE)","v":"Head Up Guidance System"},{"$f":"INDIRECT(\"'\"&$S163&\"'!R\"&$T163&\"C\"&COLUMN(),FALSE)","v":65788},null,"23",159,"65788#C","regional",9]
[{"$f":"INDIRECT(\"'\"&$S164&\"'!R\"&$T164&\"C\"&COLUMN(),FALSE)","v":"23#741"},{"$f":"INDIRECT(\"'\"&$S164&\"'!R\"&$T164&\"C\"&COLUMN(),FALSE)","v":29353},{"$f":"INDIRECT(\"'\"&$S164&\"'!R\"&$T164&\"C\"&COLUMN(),FALSE)","v":20000},{"$f":"INDIRECT(\"'\"&$S164&\"'!R\"&$T164&\"C\"&COLUMN(),FALSE)","v":32828.482125859337},{"$f":"INDIRECT(\"'\"&$S164&\"'!R\"&$T164&\"C\"&COLUMN(),FALSE)","v":22368.059227921738},{"$f":"INDIRECT(\"'\"&$S164&\"'!R\"&$T164&\"C\"&COLUMN(),FALSE)","v":"PW Low"},{"$f":"INDIRECT(\"'\"&$S164&\"'!R\"&$T164&\"C\"&COLUMN(),FALSE)","v":33000},{"$f":"INDIRECT(\"'\"&$S164&\"'!R\"&$T164&\"C\"&COLUMN(),FALSE)","v":0.46765000000000001},{"$f":"INDIRECT(\"'\"&$S164&\"'!R\"&$T164&\"C\"&COLUMN(),FALSE)","v":"HWL"},{"$f":"INDIRECT(\"'\"&$S164&\"'!R\"&$T164&\"C\"&COLUMN(),FALSE)","v":2},{"$f":"INDIRECT(\"'\"&$S164&\"'!R\"&$T164&\"C\"&COLUMN(),FALSE)","v":"F"},{"$f":"INDIRECT(\"'\"&$S164&\"'!R\"&$T164&\"C\"&COLUMN(),FALSE)","v":"Radio management system"},{"$f":"INDIRECT(\"'\"&$S164&\"'!R\"&$T164&\"C\"&COLUMN(),FALSE)","v":"Intergated Radio System"},{"$f":"INDIRECT(\"'\"&$S164&\"'!R\"&$T164&\"C\"&COLUMN(),FALSE)","v":29353},null,"23",160,"29353#F","regional",10]
[{"$f":"INDIRECT(\"'\"&$S165&\"'!R\"&$T165&\"C\"&COLUMN(),FALSE)","v":"23#742"},{"$f":"INDIRECT(\"'\"&$S165&\"'!R\"&$T165&\"C\"&COLUMN(),FALSE)","v":6849},{"$f":"INDIRECT(\"'\"&$S165&\"'!R\"&$T165&\"C\"&COLUMN(),FALSE)","v":7000},{"$f":"INDIRECT(\"'\"&$S165&\"'!R\"&$T165&\"C\"&COLUMN(),FALSE)","v":7659.9418826017991},{"$f":"INDIRECT(\"'\"&$S165&\"'!R\"&$T165&\"C\"&COLUMN(),FALSE)","v":7828.8207297726076},{"$f":"INDIRECT(\"'\"&$S165&\"'!R\"&$T165&\"C\"&COLUMN(),FALSE)","v":"Validated PW 2020"},{"$f":"INDIRECT(\"'\"&$S165&\"'!R\"&$T165&\"C\"&COLUMN(),FALSE)","v":8000},{"$f":"INDIRECT(\"'\"&$S165&\"'!R\"&$T165&\"C\"&COLUMN(),FALSE)","v":-2.1571428571428571E-2},{"$f":"INDIRECT(\"'\"&$S165&\"'!R\"&$T165&\"C\"&COLUMN(),FALSE)","v":0},{"$f":"INDIRECT(\"'\"&$S165&\"'!R\"&$T165&\"C\"&COLUMN(),FALSE)","v":3},{"$f":"INDIRECT(\"'\"&$S165&\"'!R\"&$T165&\"C\"&COLUMN(),FALSE)","v":"E"},{"$f":"INDIRECT(\"'\"&$S165&\"'!R\"&$T165&\"C\"&COLUMN(),FALSE)","v":"Audio Control Panel"},{"$f":"INDIRECT(\"'\"&$S165&\"'!R\"&$T165&\"C\"&COLUMN(),FALSE)","v":0},{"$f":"INDIRECT(\"'\"&$S165&\"'!R\"&$T165&\"C\"&COLUMN(),FALSE)","v":6849},null,"23",161,"6849#E","regional",11]
[{"$f":"INDIRECT(\"'\"&$S166&\"'!R\"&$T166&\"C\"&COLUMN(),FALSE)","v":"23#746"},{"$f":"INDIRECT(\"'\"&$S166&\"'!R\"&$T166&\"C\"&COLUMN(),FALSE)","v":32999},{"$f":"INDIRECT(\"'\"&$S166&\"'!R\"&$T166&\"C\"&COLUMN(),FALSE)","v":18000},{"$f":"INDIRECT(\"'\"&$S166&\"'!R\"&$T166&\"C\"&COLUMN(),FALSE)","v":36906.179323109471},{"$f":"INDIRECT(\"'\"&$S166&\"'!R\"&$T166&\"C\"&COLUMN(),FALSE)","v":20131.253305129565},{"$f":"INDIRECT(\"'\"&$S166&\"'!R\"&$T166&\"C\"&COLUMN(),FALSE)","v":"PW Low"},{"$f":"INDIRECT(\"'\"&$S166&\"'!R\"&$T166&\"C\"&COLUMN(),FALSE)","v":37000},{"$f":"INDIRECT(\"'\"&$S166&\"'!R\"&$T166&\"C\"&COLUMN(),FALSE)","v":0.83327777777777778},{"$f":"INDIRECT(\"'\"&$S166&\"'!R\"&$T166&\"C\"&COLUMN(),FALSE)","v":"HWL"},{"$f":"INDIRECT(\"'\"&$S166&\"'!R\"&$T166&\"C\"&COLUMN(),FALSE)","v":1},{"$f":"INDIRECT(\"'\"&$S166&\"'!R\"&$T166&\"C\"&COLUMN(),FALSE)","v":"E"},{"$f":"INDIRECT(\"'\"&$S166&\"'!R\"&$T166&\"C\"&COLUMN(),FALSE)","v":"Weather WX radar system"},{"$f":"INDIRECT(\"'\"&$S166&\"'!R\"&$T166&\"C\"&COLUMN(),FALSE)","v":"Weather Radar System"},{"$f":"INDIRECT(\"'\"&$S166&\"'!R\"&$T166&\"C\"&COLUMN(),FALSE)","v":32999},null,"23",162,"32999#E","regional",12]
[{"$f":"INDIRECT(\"'\"&$S167&\"'!R\"&$T167&\"C\"&COLUMN(),FALSE)","v":"23#748"},{"$f":"INDIRECT(\"'\"&$S167&\"'!R\"&$T167&\"C\"&COLUMN(),FALSE)","v":50646},{"$f":"INDIRECT(\"'\"&$S167&\"'!R\"&$T167&\"C\"&COLUMN(),FALSE)","v":18000},{"$f":"INDIRECT(\"'\"&$S167&\"'!R\"&$T167&\"C\"&COLUMN(),FALSE)","v":56642.636382866214},{"$f":"INDIRECT(\"'\"&$S167&\"'!R\"&$T167&\"C\"&COLUMN(),FALSE)","v":20131.253305129565},{"$f":"INDIRECT(\"'\"&$S167&\"'!R\"&$T167&\"C\"&COLUMN(),FALSE)","v":"PW Low"},{"$f":"INDIRECT(\"'\"&$S167&\"'!R\"&$T167&\"C\"&COLUMN(),FALSE)","v":57000},{"$f":"INDIRECT(\"'\"&$S167&\"'!R\"&$T167&\"C\"&COLUMN(),FALSE)","v":1.8136666666666668},{"$f":"INDIRECT(\"'\"&$S167&\"'!R\"&$T167&\"C\"&COLUMN(),FALSE)","v":"HWL"},{"$f":"INDIRECT(\"'\"&$S167&\"'!R\"&$T167&\"C\"&COLUMN(),FALSE)","v":1},{"$f":"INDIRECT(\"'\"&$S167&\"'!R\"&$T167&\"C\"&COLUMN(),FALSE)","v":"O"},{"$f":"INDIRECT(\"'\"&$S167&\"'!R\"&$T167&\"C\"&COLUMN(),FALSE)","v":"Ground Proximity Warning System (GPWS/EGPWS)"},{"$f":"INDIRECT(\"'\"&$S167&\"'!R\"&$T167&\"C\"&COLUMN(),FALSE)","v":"EGPWS"},{"$f":"INDIRECT(\"'\"&$S167&\"'!R\"&$T167&\"C\"&COLUMN(),FALSE)","v":50646},null,"23",163,"50646#O","regional",13]
[{"$f":"INDIRECT(\"'\"&$S168&\"'!R\"&$T168&\"C\"&COLUMN(),FALSE)","v":"23#749"},{"$f":"INDIRECT(\"'\"&$S168&\"'!R\"&$T168&\"C\"&COLUMN(),FALSE)","v":0},{"$f":"INDIRECT(\"'\"&$S168&\"'!R\"&$T168&\"C\"&COLUMN(),FALSE)","v":18000},{"$f":"INDIRECT(\"'\"&$S168&\"'!R\"&$T168&\"C\"&COLUMN(),FALSE)","v":0},{"$f":"INDIRECT(\"'\"&$S168&\"'!R\"&$T168&\"C\"&COLUMN(),FALSE)","v":20131.253305129565},{"$f":"INDIRECT(\"'\"&$S168&\"'!R\"&$T168&\"C\"&COLUMN(),FALSE)","v":"Validated PW 2020"},{"$f":"INDIRECT(\"'\"&$S168&\"'!R\"&$T168&\"C\"&COLUMN(),FALSE)","v":21000},{"$f":"INDIRECT(\"'\"&$S168&\"'!R\"&$T168&\"C\"&COLUMN(),FALSE)","v":-1},{"$f":"INDIRECT(\"'\"&$S168&\"'!R\"&$T168&\"C\"&COLUMN(),FALSE)","v":"HWL"},{"$f":"INDIRECT(\"'\"&$S168&\"'!R\"&$T168&\"C\"&COLUMN(),FALSE)","v":1},{"$f":"INDIRECT(\"'\"&$S168&\"'!R\"&$T168&\"C\"&COLUMN(),FALSE)","v":"A2"},{"$f":"INDIRECT(\"'\"&$S168&\"'!R\"&$T168&\"C\"&COLUMN(),FALSE)","v":"TCAS computer"},{"$f":"INDIRECT(\"'\"&$S168&\"'!R\"&$T168&\"C\"&COLUMN(),FALSE)","v":"TCAS"},{"$f":"INDIRECT(\"'\"&$S168&\"'!R\"&$T168&\"C\"&COLUMN(),FALSE)","v":0},null,"23",164,"0#A2","regional",14]
[{"$f":"INDIRECT(\"'\"&$S169&\"'!R\"&$T169&\"C\"&COLUMN(),FALSE)","v":"23#759"},{"$f":"INDIRECT(\"'\"&$S169&\"'!R\"&$T169&\"C\"&COLUMN(),FALSE)","v":13808},{"$f":"INDIRECT(\"'\"&$S169&\"'!R\"&$T169&\"C\"&COLUMN(),FALSE)","v":12000},{"$f":"INDIRECT(\"'\"&$S169&\"'!R\"&$T169&\"C\"&COLUMN(),FALSE)","v":15442.908090957168},{"$f":"INDIRECT(\"'\"&$S169&\"'!R\"&$T169&\"C\"&COLUMN(),FALSE)","v":13420.835536753042},{"$f":"INDIRECT(\"'\"&$S169&\"'!R\"&$T169&\"C\"&COLUMN(),FALSE)","v":"Validated PW 2020"},{"$f":"INDIRECT(\"'\"&$S169&\"'!R\"&$T169&\"C\"&COLUMN(),FALSE)","v":14000},{"$f":"INDIRECT(\"'\"&$S169&\"'!R\"&$T169&\"C\"&COLUMN(),FALSE)","v":0.15066666666666667},{"$f":"INDIRECT(\"'\"&$S169&\"'!R\"&$T169&\"C\"&COLUMN(),FALSE)","v":0},{"$f":"INDIRECT(\"'\"&$S169&\"'!R\"&$T169&\"C\"&COLUMN(),FALSE)","v":2},{"$f":"INDIRECT(\"'\"&$S169&\"'!R\"&$T169&\"C\"&COLUMN(),FALSE)","v":"A"},{"$f":"INDIRECT(\"'\"&$S169&\"'!R\"&$T169&\"C\"&COLUMN(),FALSE)","v":"Electronic Flight Bags (EFBs)"},{"$f":"INDIRECT(\"'\"&$S169&\"'!R\"&$T169&\"C\"&COLUMN(),FALSE)","v":"Electronic Flight Bag"},{"$f":"INDIRECT(\"'\"&$S169&\"'!R\"&$T169&\"C\"&COLUMN(),FALSE)","v":13808},null,"23",165,"13808#A","regional",15]
[{"$f":"INDIRECT(\"'\"&$S170&\"'!R\"&$T170&\"C\"&COLUMN(),FALSE)","v":"23#764"},{"$f":"INDIRECT(\"'\"&$S170&\"'!R\"&$T170&\"C\"&COLUMN(),FALSE)","v":15958},{"$f":"INDIRECT(\"'\"&$S170&\"'!R\"&$T170&\"C\"&COLUMN(),FALSE)","v":18000},{"$f":"INDIRECT(\"'\"&$S170&\"'!R\"&$T170&\"C\"&COLUMN(),FALSE)","v":17847.474457958753},{"$f":"INDIRECT(\"'\"&$S170&\"'!R\"&$T170&\"C\"&COLUMN(),FALSE)","v":20131.253305129565},{"$f":"INDIRECT(\"'\"&$S170&\"'!R\"&$T170&\"C\"&COLUMN(),FALSE)","v":"Validated PW 2020"},{"$f":"INDIRECT(\"'\"&$S170&\"'!R\"&$T170&\"C\"&COLUMN(),FALSE)","v":21000},{"$f":"INDIRECT(\"'\"&$S170&\"'!R\"&$T170&\"C\"&COLUMN(),FALSE)","v":-0.11344444444444444},{"$f":"INDIRECT(\"'\"&$S170&\"'!R\"&$T170&\"C\"&COLUMN(),FALSE)","v":"HWL"},{"$f":"INDIRECT(\"'\"&$S170&\"'!R\"&$T170&\"C\"&COLUMN(),FALSE)","v":1},{"$f":"INDIRECT(\"'\"&$S170&\"'!R\"&$T170&\"C\"&COLUMN(),FALSE)","v":"F2"},{"$f":"INDIRECT(\"'\"&$S170&\"'!R\"&$T170&\"C\"&COLUMN(),FALSE)","v":"Radar altimeters"},{"$f":"INDIRECT(\"'\"&$S170&\"'!R\"&$T170&\"C\"&COLUMN(),FALSE)","v":"Radio Altimeter"},{"$f":"INDIRECT(\"'\"&$S170&\"'!R\"&$T170&\"C\"&COLUMN(),FALSE)","v":15958},null,"23",166,"15958#F2","regional",16]
[{"$f":"INDIRECT(\"'\"&$S171&\"'!R\"&$T171&\"C\"&COLUMN(),FALSE)","v":"23#802"},{"$f":"INDIRECT(\"'\"&$S171&\"'!R\"&$T171&\"C\"&COLUMN(),FALSE)","v":60728},{"$f":"INDIRECT(\"'\"&$S171&\"'!R\"&$T171&\"C\"&COLUMN(),FALSE)","v":30000},{"$f":"INDIRECT(\"'\"&$S171&\"'!R\"&$T171&\"C\"&COLUMN(),FALSE)","v":67918.375039661565},{"$f":"INDIRECT(\"'\"&$S171&\"'!R\"&$T171&\"C\"&COLUMN(),FALSE)","v":33552.088841882607},{"$f":"INDIRECT(\"'\"&$S171&\"'!R\"&$T171&\"C\"&COLUMN(),FALSE)","v":"PW Low"},{"$f":"INDIRECT(\"'\"&$S171&\"'!R\"&$T171&\"C\"&COLUMN(),FALSE)","v":70000},{"$f":"INDIRECT(\"'\"&$S171&\"'!R\"&$T171&\"C\"&COLUMN(),FALSE)","v":1.0242666666666667},{"$f":"INDIRECT(\"'\"&$S171&\"'!R\"&$T171&\"C\"&COLUMN(),FALSE)","v":"HWL"},{"$f":"INDIRECT(\"'\"&$S171&\"'!R\"&$T171&\"C\"&COLUMN(),FALSE)","v":3},{"$f":"INDIRECT(\"'\"&$S171&\"'!R\"&$T171&\"C\"&COLUMN(),FALSE)","v":"A"},{"$f":"INDIRECT(\"'\"&$S171&\"'!R\"&$T171&\"C\"&COLUMN(),FALSE)","v":"Display Controllers"},{"$f":"INDIRECT(\"'\"&$S171&\"'!R\"&$T171&\"C\"&COLUMN(),FALSE)","v":0},{"$f":"INDIRECT(\"'\"&$S171&\"'!R\"&$T171&\"C\"&COLUMN(),FALSE)","v":60728},null,"23",167,"60728#A","regional",17]
[{"$f":"INDIRECT(\"'\"&$S172&\"'!R\"&$T172&\"C\"&COLUMN(),FALSE)","v":"23#803"},{"$f":"INDIRECT(\"'\"&$S172&\"'!R\"&$T172&\"C\"&COLUMN(),FALSE)","v":28369},{"$f":"INDIRECT(\"'\"&$S172&\"'!R\"&$T172&\"C\"&COLUMN(),FALSE)","v":25000},{"$f":"INDIRECT(\"'\"&$S172&\"'!R\"&$T172&\"C\"&COLUMN(),FALSE)","v":31727.973611845588},{"$f":"INDIRECT(\"'\"&$S172&\"'!R\"&$T172&\"C\"&COLUMN(),FALSE)","v":27960.074034902173},{"$f":"INDIRECT(\"'\"&$S172&\"'!R\"&$T172&\"C\"&COLUMN(),FALSE)","v":"PW Low"},{"$f":"INDIRECT(\"'\"&$S172&\"'!R\"&$T172&\"C\"&COLUMN(),FALSE)","v":32000},{"$f":"INDIRECT(\"'\"&$S172&\"'!R\"&$T172&\"C\"&COLUMN(),FALSE)","v":0.13475999999999999},{"$f":"INDIRECT(\"'\"&$S172&\"'!R\"&$T172&\"C\"&COLUMN(),FALSE)","v":"HWL"},{"$f":"INDIRECT(\"'\"&$S172&\"'!R\"&$T172&\"C\"&COLUMN(),FALSE)","v":4},{"$f":"INDIRECT(\"'\"&$S172&\"'!R\"&$T172&\"C\"&COLUMN(),FALSE)","v":"A"},{"$f":"INDIRECT(\"'\"&$S172&\"'!R\"&$T172&\"C\"&COLUMN(),FALSE)","v":"IRS Gyroscope System"},{"$f":"INDIRECT(\"'\"&$S172&\"'!R\"&$T172&\"C\"&COLUMN(),FALSE)","v":0},{"$f":"INDIRECT(\"'\"&$S172&\"'!R\"&$T172&\"C\"&COLUMN(),FALSE)","v":28369},null,"23",168,"28369#A","regional",18]
[{"$f":"INDIRECT(\"'\"&$S173&\"'!R\"&$T173&\"C\"&COLUMN(),FALSE)","v":"23#804"},{"$f":"INDIRECT(\"'\"&$S173&\"'!R\"&$T173&\"C\"&COLUMN(),FALSE)","v":56029},{"$f":"INDIRECT(\"'\"&$S173&\"'!R\"&$T173&\"C\"&COLUMN(),FALSE)","v":35000},{"$f":"INDIRECT(\"'\"&$S173&\"'!R\"&$T173&\"C\"&COLUMN(),FALSE)","v":62662.99952406135},{"$f":"INDIRECT(\"'\"&$S173&\"'!R\"&$T173&\"C\"&COLUMN(),FALSE)","v":39144.103648863042},{"$f":"INDIRECT(\"'\"&$S173&\"'!R\"&$T173&\"C\"&COLUMN(),FALSE)","v":"PW Low"},{"$f":"INDIRECT(\"'\"&$S173&\"'!R\"&$T173&\"C\"&COLUMN(),FALSE)","v":64000},{"$f":"INDIRECT(\"'\"&$S173&\"'!R\"&$T173&\"C\"&COLUMN(),FALSE)","v":0.60082857142857138},{"$f":"INDIRECT(\"'\"&$S173&\"'!R\"&$T173&\"C\"&COLUMN(),FALSE)","v":"HWL"},{"$f":"INDIRECT(\"'\"&$S173&\"'!R\"&$T173&\"C\"&COLUMN(),FALSE)","v":1},{"$f":"INDIRECT(\"'\"&$S173&\"'!R\"&$T173&\"C\"&COLUMN(),FALSE)","v":"H"},{"$f":"INDIRECT(\"'\"&$S173&\"'!R\"&$T173&\"C\"&COLUMN(),FALSE)","v":"Flight Guidance System (A/Pilot)"},{"$f":"INDIRECT(\"'\"&$S173&\"'!R\"&$T173&\"C\"&COLUMN(),FALSE)","v":0},{"$f":"INDIRECT(\"'\"&$S173&\"'!R\"&$T173&\"C\"&COLUMN(),FALSE)","v":56029},null,"23",169,"56029#H","regional",19]
[{"$f":"INDIRECT(\"'\"&$S174&\"'!R\"&$T174&\"C\"&COLUMN(),FALSE)","v":"23#805"},{"$f":"INDIRECT(\"'\"&$S174&\"'!R\"&$T174&\"C\"&COLUMN(),FALSE)","v":156228},{"$f":"INDIRECT(\"'\"&$S174&\"'!R\"&$T174&\"C\"&COLUMN(),FALSE)","v":50000},{"$f":"INDIRECT(\"'\"&$S174&\"'!R\"&$T174&\"C\"&COLUMN(),FALSE)","v":174725.85785298786},{"$f":"INDIRECT(\"'\"&$S174&\"'!R\"&$T174&\"C\"&COLUMN(),FALSE)","v":55920.148069804345},{"$f":"INDIRECT(\"'\"&$S174&\"'!R\"&$T174&\"C\"&COLUMN(),FALSE)","v":"PW Low"},{"$f":"INDIRECT(\"'\"&$S174&\"'!R\"&$T174&\"C\"&COLUMN(),FALSE)","v":175000},{"$f":"INDIRECT(\"'\"&$S174&\"'!R\"&$T174&\"C\"&COLUMN(),FALSE)","v":2.1245599999999998},{"$f":"INDIRECT(\"'\"&$S174&\"'!R\"&$T174&\"C\"&COLUMN(),FALSE)","v":"HWl"},{"$f":"INDIRECT(\"'\"&$S174&\"'!R\"&$T174&\"C\"&COLUMN(),FALSE)","v":3},{"$f":"INDIRECT(\"'\"&$S174&\"'!R\"&$T174&\"C\"&COLUMN(),FALSE)","v":"B"},{"$f":"INDIRECT(\"'\"&$S174&\"'!R\"&$T174&\"C\"&COLUMN(),FALSE)","v":"Modular Avionic Unit, 1,2 and 3"},{"$f":"INDIRECT(\"'\"&$S174&\"'!R\"&$T174&\"C\"&COLUMN(),FALSE)","v":0},{"$f":"INDIRECT(\"'\"&$S174&\"'!R\"&$T174&\"C\"&COLUMN(),FALSE)","v":156228},null,"23",170,"156228#B","regional",20]
[{"$f":"INDIRECT(\"'\"&$S175&\"'!R\"&$T175&\"C\"&COLUMN(),FALSE)","v":"23#806"},{"$f":"INDIRECT(\"'\"&$S175&\"'!R\"&$T175&\"C\"&COLUMN(),FALSE)","v":11741},{"$f":"INDIRECT(\"'\"&$S175&\"'!R\"&$T175&\"C\"&COLUMN(),FALSE)","v":8000},{"$f":"INDIRECT(\"'\"&$S175&\"'!R\"&$T175&\"C\"&COLUMN(),FALSE)","v":13131.169169751456},{"$f":"INDIRECT(\"'\"&$S175&\"'!R\"&$T175&\"C\"&COLUMN(),FALSE)","v":8947.2236911686941},{"$f":"INDIRECT(\"'\"&$S175&\"'!R\"&$T175&\"C\"&COLUMN(),FALSE)","v":"PW Low"},{"$f":"INDIRECT(\"'\"&$S175&\"'!R\"&$T175&\"C\"&COLUMN(),FALSE)","v":14000},{"$f":"INDIRECT(\"'\"&$S175&\"'!R\"&$T175&\"C\"&COLUMN(),FALSE)","v":0.46762500000000001},{"$f":"INDIRECT(\"'\"&$S175&\"'!R\"&$T175&\"C\"&COLUMN(),FALSE)","v":"???"},{"$f":"INDIRECT(\"'\"&$S175&\"'!R\"&$T175&\"C\"&COLUMN(),FALSE)","v":4},{"$f":"INDIRECT(\"'\"&$S175&\"'!R\"&$T175&\"C\"&COLUMN(),FALSE)","v":"B"},{"$f":"INDIRECT(\"'\"&$S175&\"'!R\"&$T175&\"C\"&COLUMN(),FALSE)","v":"Radio Antennas"},{"$f":"INDIRECT(\"'\"&$S175&\"'!R\"&$T175&\"C\"&COLUMN(),FALSE)","v":0},{"$f":"INDIRECT(\"'\"&$S175&\"'!R\"&$T175&\"C\"&COLUMN(),FALSE)","v":11741},null,"23",171,"11741#B","regional",21]
[{"$f":"INDIRECT(\"'\"&$S176&\"'!R\"&$T176&\"C\"&COLUMN(),FALSE)","v":"23#807"},{"$f":"INDIRECT(\"'\"&$S176&\"'!R\"&$T176&\"C\"&COLUMN(),FALSE)","v":7700},{"$f":"INDIRECT(\"'\"&$S176&\"'!R\"&$T176&\"C\"&COLUMN(),FALSE)","v":7000},{"$f":"INDIRECT(\"'\"&$S176&\"'!R\"&$T176&\"C\"&COLUMN(),FALSE)","v":8611.7028027498691},{"$f":"INDIRECT(\"'\"&$S176&\"'!R\"&$T176&\"C\"&COLUMN(),FALSE)","v":7828.8207297726076},{"$f":"INDIRECT(\"'\"&$S176&\"'!R\"&$T176&\"C\"&COLUMN(),FALSE)","v":"PW Low"},{"$f":"INDIRECT(\"'\"&$S176&\"'!R\"&$T176&\"C\"&COLUMN(),FALSE)","v":9000},{"$f":"INDIRECT(\"'\"&$S176&\"'!R\"&$T176&\"C\"&COLUMN(),FALSE)","v":0.1},{"$f":"INDIRECT(\"'\"&$S176&\"'!R\"&$T176&\"C\"&COLUMN(),FALSE)","v":"???"},{"$f":"INDIRECT(\"'\"&$S176&\"'!R\"&$T176&\"C\"&COLUMN(),FALSE)","v":8},{"$f":"INDIRECT(\"'\"&$S176&\"'!R\"&$T176&\"C\"&COLUMN(),FALSE)","v":"A"},{"$f":"INDIRECT(\"'\"&$S176&\"'!R\"&$T176&\"C\"&COLUMN(),FALSE)","v":"Pitot Static sensors"},{"$f":"INDIRECT(\"'\"&$S176&\"'!R\"&$T176&\"C\"&COLUMN(),FALSE)","v":0},{"$f":"INDIRECT(\"'\"&$S176&\"'!R\"&$T176&\"C\"&COLUMN(),FALSE)","v":7700},null,"23",172,"7700#A","regional",22]
[{"$f":"INDIRECT(\"'\"&$S177&\"'!R\"&$T177&\"C\"&COLUMN(),FALSE)","v":"23#808"},{"$f":"INDIRECT(\"'\"&$S177&\"'!R\"&$T177&\"C\"&COLUMN(),FALSE)","v":3037},{"$f":"INDIRECT(\"'\"&$S177&\"'!R\"&$T177&\"C\"&COLUMN(),FALSE)","v":3000},{"$f":"INDIRECT(\"'\"&$S177&\"'!R\"&$T177&\"C\"&COLUMN(),FALSE)","v":3396.5897937599157},{"$f":"INDIRECT(\"'\"&$S177&\"'!R\"&$T177&\"C\"&COLUMN(),FALSE)","v":3355.2088841882605},{"$f":"INDIRECT(\"'\"&$S177&\"'!R\"&$T177&\"C\"&COLUMN(),FALSE)","v":"Validated PW 2020"},{"$f":"INDIRECT(\"'\"&$S177&\"'!R\"&$T177&\"C\"&COLUMN(),FALSE)","v":3500},{"$f":"INDIRECT(\"'\"&$S177&\"'!R\"&$T177&\"C\"&COLUMN(),FALSE)","v":1.2333333333333333E-2},{"$f":"INDIRECT(\"'\"&$S177&\"'!R\"&$T177&\"C\"&COLUMN(),FALSE)","v":"HWL"},{"$f":"INDIRECT(\"'\"&$S177&\"'!R\"&$T177&\"C\"&COLUMN(),FALSE)","v":2},{"$f":"INDIRECT(\"'\"&$S177&\"'!R\"&$T177&\"C\"&COLUMN(),FALSE)","v":"A"},{"$f":"INDIRECT(\"'\"&$S177&\"'!R\"&$T177&\"C\"&COLUMN(),FALSE)","v":"Cursor Control Device"},{"$f":"INDIRECT(\"'\"&$S177&\"'!R\"&$T177&\"C\"&COLUMN(),FALSE)","v":0},{"$f":"INDIRECT(\"'\"&$S177&\"'!R\"&$T177&\"C\"&COLUMN(),FALSE)","v":3037},null,"23",173,"3037#A","regional",23]
[{"$f":"INDIRECT(\"'\"&$S178&\"'!R\"&$T178&\"C\"&COLUMN(),FALSE)","v":"23#809"},{"$f":"INDIRECT(\"'\"&$S178&\"'!R\"&$T178&\"C\"&COLUMN(),FALSE)","v":34520},{"$f":"INDIRECT(\"'\"&$S178&\"'!R\"&$T178&\"C\"&COLUMN(),FALSE)","v":30000},{"$f":"INDIRECT(\"'\"&$S178&\"'!R\"&$T178&\"C\"&COLUMN(),FALSE)","v":38607.270227392917},{"$f":"INDIRECT(\"'\"&$S178&\"'!R\"&$T178&\"C\"&COLUMN(),FALSE)","v":33552.088841882607},{"$f":"INDIRECT(\"'\"&$S178&\"'!R\"&$T178&\"C\"&COLUMN(),FALSE)","v":"PW Low"},{"$f":"INDIRECT(\"'\"&$S178&\"'!R\"&$T178&\"C\"&COLUMN(),FALSE)","v":39000},{"$f":"INDIRECT(\"'\"&$S178&\"'!R\"&$T178&\"C\"&COLUMN(),FALSE)","v":0.15066666666666667},{"$f":"INDIRECT(\"'\"&$S178&\"'!R\"&$T178&\"C\"&COLUMN(),FALSE)","v":0},{"$f":"INDIRECT(\"'\"&$S178&\"'!R\"&$T178&\"C\"&COLUMN(),FALSE)","v":1},{"$f":"INDIRECT(\"'\"&$S178&\"'!R\"&$T178&\"C\"&COLUMN(),FALSE)","v":"A"},{"$f":"INDIRECT(\"'\"&$S178&\"'!R\"&$T178&\"C\"&COLUMN(),FALSE)","v":"Digital Voice & Data Recorder"},{"$f":"INDIRECT(\"'\"&$S178&\"'!R\"&$T178&\"C\"&COLUMN(),FALSE)","v":0},{"$f":"INDIRECT(\"'\"&$S178&\"'!R\"&$T178&\"C\"&COLUMN(),FALSE)","v":34520},null,"23",174,"34520#A","regional",24]
[{"$f":"INDIRECT(\"'\"&$S179&\"'!R\"&$T179&\"C\"&COLUMN(),FALSE)","v":"23#810"},{"$f":"INDIRECT(\"'\"&$S179&\"'!R\"&$T179&\"C\"&COLUMN(),FALSE)","v":25303},{"$f":"INDIRECT(\"'\"&$S179&\"'!R\"&$T179&\"C\"&COLUMN(),FALSE)","v":25000},{"$f":"INDIRECT(\"'\"&$S179&\"'!R\"&$T179&\"C\"&COLUMN(),FALSE)","v":28298.950132205187},{"$f":"INDIRECT(\"'\"&$S179&\"'!R\"&$T179&\"C\"&COLUMN(),FALSE)","v":27960.074034902173},{"$f":"INDIRECT(\"'\"&$S179&\"'!R\"&$T179&\"C\"&COLUMN(),FALSE)","v":"Validated PW 2020"},{"$f":"INDIRECT(\"'\"&$S179&\"'!R\"&$T179&\"C\"&COLUMN(),FALSE)","v":28000},{"$f":"INDIRECT(\"'\"&$S179&\"'!R\"&$T179&\"C\"&COLUMN(),FALSE)","v":1.2120000000000001E-2},{"$f":"INDIRECT(\"'\"&$S179&\"'!R\"&$T179&\"C\"&COLUMN(),FALSE)","v":0},{"$f":"INDIRECT(\"'\"&$S179&\"'!R\"&$T179&\"C\"&COLUMN(),FALSE)","v":1},{"$f":"INDIRECT(\"'\"&$S179&\"'!R\"&$T179&\"C\"&COLUMN(),FALSE)","v":"A"},{"$f":"INDIRECT(\"'\"&$S179&\"'!R\"&$T179&\"C\"&COLUMN(),FALSE)","v":"Integrated Electronic Standby System"},{"$f":"INDIRECT(\"'\"&$S179&\"'!R\"&$T179&\"C\"&COLUMN(),FALSE)","v":0},{"$f":"INDIRECT(\"'\"&$S179&\"'!R\"&$T179&\"C\"&COLUMN(),FALSE)","v":25303},null,"23",175,"25303#A","regional",25]
[{"$f":"INDIRECT(\"'\"&$S180&\"'!R\"&$T180&\"C\"&COLUMN(),FALSE)","v":"23#879"},{"$f":"INDIRECT(\"'\"&$S180&\"'!R\"&$T180&\"C\"&COLUMN(),FALSE)","v":101976},{"$f":"INDIRECT(\"'\"&$S180&\"'!R\"&$T180&\"C\"&COLUMN(),FALSE)","v":{"$error":"#N/A"}},{"$f":"INDIRECT(\"'\"&$S180&\"'!R\"&$T180&\"C\"&COLUMN(),FALSE)","v":114050.26039132735},{"$f":"INDIRECT(\"'\"&$S180&\"'!R\"&$T180&\"C\"&COLUMN(),FALSE)","v":{"$error":"#N/A"}},{"$f":"INDIRECT(\"'\"&$S180&\"'!R\"&$T180&\"C\"&COLUMN(),FALSE)","v":"Validated Model 2020"},{"$f":"INDIRECT(\"'\"&$S180&\"'!R\"&$T180&\"C\"&COLUMN(),FALSE)","v":115000},{"$f":"INDIRECT(\"'\"&$S180&\"'!R\"&$T180&\"C\"&COLUMN(),FALSE)","v":{"$error":"#N/A"}},{"$f":"INDIRECT(\"'\"&$S180&\"'!R\"&$T180&\"C\"&COLUMN(),FALSE)","v":{"$error":"#N/A"}},{"$f":"INDIRECT(\"'\"&$S180&\"'!R\"&$T180&\"C\"&COLUMN(),FALSE)","v":1},{"$f":"INDIRECT(\"'\"&$S180&\"'!R\"&$T180&\"C\"&COLUMN(),FALSE)","v":"P"},{"$f":"INDIRECT(\"'\"&$S180&\"'!R\"&$T180&\"C\"&COLUMN(),FALSE)","v":"Software"},{"$f":"INDIRECT(\"'\"&$S180&\"'!R\"&$T180&\"C\"&COLUMN(),FALSE)","v":0},{"$f":"INDIRECT(\"'\"&$S180&\"'!R\"&$T180&\"C\"&COLUMN(),FALSE)","v":101976},null,"23",176,"101976#P","regional",26]
[{"$f":"INDIRECT(\"'\"&$S181&\"'!R\"&$T181&\"C\"&COLUMN(),FALSE)","v":"23#880"},{"$f":"INDIRECT(\"'\"&$S181&\"'!R\"&$T181&\"C\"&COLUMN(),FALSE)","v":32999},{"$f":"INDIRECT(\"'\"&$S181&\"'!R\"&$T181&\"C\"&COLUMN(),FALSE)","v":{"$error":"#N/A"}},{"$f":"INDIRECT(\"'\"&$S181&\"'!R\"&$T181&\"C\"&COLUMN(),FALSE)","v":36906.179323109471},{"$f":"INDIRECT(\"'\"&$S181&\"'!R\"&$T181&\"C\"&COLUMN(),FALSE)","v":{"$error":"#N/A"}},{"$f":"INDIRECT(\"'\"&$S181&\"'!R\"&$T181&\"C\"&COLUMN(),FALSE)","v":"Validated Model 2020"},{"$f":"INDIRECT(\"'\"&$S181&\"'!R\"&$T181&\"C\"&COLUMN(),FALSE)","v":37000},{"$f":"INDIRECT(\"'\"&$S181&\"'!R\"&$T181&\"C\"&COLUMN(),FALSE)","v":{"$error":"#N/A"}},{"$f":"INDIRECT(\"'\"&$S181&\"'!R\"&$T181&\"C\"&COLUMN(),FALSE)","v":{"$error":"#N/A"}},{"$f":"INDIRECT(\"'\"&$S181&\"'!R\"&$T181&\"C\"&COLUMN(),FALSE)","v":2},{"$f":"INDIRECT(\"'\"&$S181&\"'!R\"&$T181&\"C\"&COLUMN(),FALSE)","v":"J"},{"$f":"INDIRECT(\"'\"&$S181&\"'!R\"&$T181&\"C\"&COLUMN(),FALSE)","v":"Air data sensors"},{"$f":"INDIRECT(\"'\"&$S181&\"'!R\"&$T181&\"C\"&COLUMN(),FALSE)","v":0},{"$f":"INDIRECT(\"'\"&$S181&\"'!R\"&$T181&\"C\"&COLUMN(),FALSE)","v":32999},null,"23",177,"32999#J","regional",27]
[{"$f":"INDIRECT(\"'\"&$S182&\"'!R\"&$T182&\"C\"&COLUMN(),FALSE)","v":"23#1056"},{"$f":"INDIRECT(\"'\"&$S182&\"'!R\"&$T182&\"C\"&COLUMN(),FALSE)","v":2322},{"$f":"INDIRECT(\"'\"&$S182&\"'!R\"&$T182&\"C\"&COLUMN(),FALSE)","v":{"$error":"#N/A"}},{"$f":"INDIRECT(\"'\"&$S182&\"'!R\"&$T182&\"C\"&COLUMN(),FALSE)","v":2596.9316763617135},{"$f":"INDIRECT(\"'\"&$S182&\"'!R\"&$T182&\"C\"&COLUMN(),FALSE)","v":{"$error":"#N/A"}},{"$f":"INDIRECT(\"'\"&$S182&\"'!R\"&$T182&\"C\"&COLUMN(),FALSE)","v":"Validated Model 2020"},{"$f":"INDIRECT(\"'\"&$S182&\"'!R\"&$T182&\"C\"&COLUMN(),FALSE)","v":2600},{"$f":"INDIRECT(\"'\"&$S182&\"'!R\"&$T182&\"C\"&COLUMN(),FALSE)","v":{"$error":"#N/A"}},{"$f":"INDIRECT(\"'\"&$S182&\"'!R\"&$T182&\"C\"&COLUMN(),FALSE)","v":{"$error":"#N/A"}},{"$f":"INDIRECT(\"'\"&$S182&\"'!R\"&$T182&\"C\"&COLUMN(),FALSE)","v":1},{"$f":"INDIRECT(\"'\"&$S182&\"'!R\"&$T182&\"C\"&COLUMN(),FALSE)","v":"BO"},{"$f":"INDIRECT(\"'\"&$S182&\"'!R\"&$T182&\"C\"&COLUMN(),FALSE)","v":"Avionics Harnesses"},{"$f":"INDIRECT(\"'\"&$S182&\"'!R\"&$T182&\"C\"&COLUMN(),FALSE)","v":0},{"$f":"INDIRECT(\"'\"&$S182&\"'!R\"&$T182&\"C\"&COLUMN(),FALSE)","v":2322},null,"23",178,"2322#BO","regional",28]
[{"$f":"INDIRECT(\"'\"&$S183&\"'!R\"&$T183&\"C\"&COLUMN(),FALSE)","v":"23#1057"},{"$f":"INDIRECT(\"'\"&$S183&\"'!R\"&$T183&\"C\"&COLUMN(),FALSE)","v":16538},{"$f":"INDIRECT(\"'\"&$S183&\"'!R\"&$T183&\"C\"&COLUMN(),FALSE)","v":{"$error":"#N/A"}},{"$f":"INDIRECT(\"'\"&$S183&\"'!R\"&$T183&\"C\"&COLUMN(),FALSE)","v":18496.148175568484},{"$f":"INDIRECT(\"'\"&$S183&\"'!R\"&$T183&\"C\"&COLUMN(),FALSE)","v":{"$error":"#N/A"}},{"$f":"INDIRECT(\"'\"&$S183&\"'!R\"&$T183&\"C\"&COLUMN(),FALSE)","v":"Validated Model 2020"},{"$f":"INDIRECT(\"'\"&$S183&\"'!R\"&$T183&\"C\"&COLUMN(),FALSE)","v":19000},{"$f":"INDIRECT(\"'\"&$S183&\"'!R\"&$T183&\"C\"&COLUMN(),FALSE)","v":{"$error":"#N/A"}},{"$f":"INDIRECT(\"'\"&$S183&\"'!R\"&$T183&\"C\"&COLUMN(),FALSE)","v":{"$error":"#N/A"}},{"$f":"INDIRECT(\"'\"&$S183&\"'!R\"&$T183&\"C\"&COLUMN(),FALSE)","v":1},{"$f":"INDIRECT(\"'\"&$S183&\"'!R\"&$T183&\"C\"&COLUMN(),FALSE)","v":"BO"},{"$f":"INDIRECT(\"'\"&$S183&\"'!R\"&$T183&\"C\"&COLUMN(),FALSE)","v":"Avionics Harnesses"},{"$f":"INDIRECT(\"'\"&$S183&\"'!R\"&$T183&\"C\"&COLUMN(),FALSE)","v":0},{"$f":"INDIRECT(\"'\"&$S183&\"'!R\"&$T183&\"C\"&COLUMN(),FALSE)","v":16538},null,"23",179,"16538#BO","regional",29]
[{"$f":"INDIRECT(\"'\"&$S184&\"'!R\"&$T184&\"C\"&COLUMN(),FALSE)","v":"23#1058"},{"$f":"INDIRECT(\"'\"&$S184&\"'!R\"&$T184&\"C\"&COLUMN(),FALSE)","v":20000},{"$f":"INDIRECT(\"'\"&$S184&\"'!R\"&$T184&\"C\"&COLUMN(),FALSE)","v":{"$error":"#N/A"}},{"$f":"INDIRECT(\"'\"&$S184&\"'!R\"&$T184&\"C\"&COLUMN(),FALSE)","v":22368.059227921738},{"$f":"INDIRECT(\"'\"&$S184&\"'!R\"&$T184&\"C\"&COLUMN(),FALSE)","v":{"$error":"#N/A"}},{"$f":"INDIRECT(\"'\"&$S184&\"'!R\"&$T184&\"C\"&COLUMN(),FALSE)","v":"Validated Model 2020"},{"$f":"INDIRECT(\"'\"&$S184&\"'!R\"&$T184&\"C\"&COLUMN(),FALSE)","v":23000},{"$f":"INDIRECT(\"'\"&$S184&\"'!R\"&$T184&\"C\"&COLUMN(),FALSE)","v":{"$error":"#N/A"}},{"$f":"INDIRECT(\"'\"&$S184&\"'!R\"&$T184&\"C\"&COLUMN(),FALSE)","v":{"$error":"#N/A"}},{"$f":"INDIRECT(\"'\"&$S184&\"'!R\"&$T184&\"C\"&COLUMN(),FALSE)","v":1},{"$f":"INDIRECT(\"'\"&$S184&\"'!R\"&$T184&\"C\"&COLUMN(),FALSE)","v":"BO"},{"$f":"INDIRECT(\"'\"&$S184&\"'!R\"&$T184&\"C\"&COLUMN(),FALSE)","v":"Avionics Harnesses"},{"$f":"INDIRECT(\"'\"&$S184&\"'!R\"&$T184&\"C\"&COLUMN(),FALSE)","v":0},{"$f":"INDIRECT(\"'\"&$S184&\"'!R\"&$T184&\"C\"&COLUMN(),FALSE)","v":20000},null,"23",180,"20000#BO","regional",30]
[{"$f":"INDIRECT(\"'\"&$S185&\"'!R\"&$T185&\"C\"&COLUMN(),FALSE)","v":"23#1059"},{"$f":"INDIRECT(\"'\"&$S185&\"'!R\"&$T185&\"C\"&COLUMN(),FALSE)","v":4134},{"$f":"INDIRECT(\"'\"&$S185&\"'!R\"&$T185&\"C\"&COLUMN(),FALSE)","v":{"$error":"#N/A"}},{"$f":"INDIRECT(\"'\"&$S185&\"'!R\"&$T185&\"C\"&COLUMN(),FALSE)","v":4623.4778424114229},{"$f":"INDIRECT(\"'\"&$S185&\"'!R\"&$T185&\"C\"&COLUMN(),FALSE)","v":{"$error":"#N/A"}},{"$f":"INDIRECT(\"'\"&$S185&\"'!R\"&$T185&\"C\"&COLUMN(),FALSE)","v":"Validated Model 2020"},{"$f":"INDIRECT(\"'\"&$S185&\"'!R\"&$T185&\"C\"&COLUMN(),FALSE)","v":4750},{"$f":"INDIRECT(\"'\"&$S185&\"'!R\"&$T185&\"C\"&COLUMN(),FALSE)","v":{"$error":"#N/A"}},{"$f":"INDIRECT(\"'\"&$S185&\"'!R\"&$T185&\"C\"&COLUMN(),FALSE)","v":{"$error":"#N/A"}},{"$f":"INDIRECT(\"'\"&$S185&\"'!R\"&$T185&\"C\"&COLUMN(),FALSE)","v":1},{"$f":"INDIRECT(\"'\"&$S185&\"'!R\"&$T185&\"C\"&COLUMN(),FALSE)","v":"BO"},{"$f":"INDIRECT(\"'\"&$S185&\"'!R\"&$T185&\"C\"&COLUMN(),FALSE)","v":"Avionics Harnesses"},{"$f":"INDIRECT(\"'\"&$S185&\"'!R\"&$T185&\"C\"&COLUMN(),FALSE)","v":0},{"$f":"INDIRECT(\"'\"&$S185&\"'!R\"&$T185&\"C\"&COLUMN(),FALSE)","v":4134},null,"23",181,"4134#BO","regional",31]
[{"$f":"INDIRECT(\"'\"&$S186&\"'!R\"&$T186&\"C\"&COLUMN(),FALSE)","v":"167#730"},{"$f":"INDIRECT(\"'\"&$S186&\"'!R\"&$T186&\"C\"&COLUMN(),FALSE)","v":70849},{"$f":"INDIRECT(\"'\"&$S186&\"'!R\"&$T186&\"C\"&COLUMN(),FALSE)","v":70000},{"$f":"INDIRECT(\"'\"&$S186&\"'!R\"&$T186&\"C\"&COLUMN(),FALSE)","v":79237.731411951361},{"$f":"INDIRECT(\"'\"&$S186&\"'!R\"&$T186&\"C\"&COLUMN(),FALSE)","v":78288.207297726083},{"$f":"INDIRECT(\"'\"&$S186&\"'!R\"&$T186&\"C\"&COLUMN(),FALSE)","v":"Used Model 2024"},{"$f":"INDIRECT(\"'\"&$S186&\"'!R\"&$T186&\"C\"&COLUMN(),FALSE)","v":79237.731411951361},{"$f":"INDIRECT(\"'\"&$S186&\"'!R\"&$T186&\"C\"&COLUMN(),FALSE)","v":1.2128571428571428E-2},{"$f":"INDIRECT(\"'\"&$S186&\"'!R\"&$T186&\"C\"&COLUMN(),FALSE)","v":"BAE Systems"},{"$f":"INDIRECT(\"'\"&$S186&\"'!R\"&$T186&\"C\"&COLUMN(),FALSE)","v":1},{"$f":"INDIRECT(\"'\"&$S186&\"'!R\"&$T186&\"C\"&COLUMN(),FALSE)","v":"D"},{"$f":"INDIRECT(\"'\"&$S186&\"'!R\"&$T186&\"C\"&COLUMN(),FALSE)","v":"HUD display system"},{"$f":"INDIRECT(\"'\"&$S186&\"'!R\"&$T186&\"C\"&COLUMN(),FALSE)","v":"HUD"},{"$f":"INDIRECT(\"'\"&$S186&\"'!R\"&$T186&\"C\"&COLUMN(),FALSE)","v":70849},null,"167",182,"70849#D","mil trainer",5]
[{"$f":"INDIRECT(\"'\"&$S187&\"'!R\"&$T187&\"C\"&COLUMN(),FALSE)","v":"167#748"},{"$f":"INDIRECT(\"'\"&$S187&\"'!R\"&$T187&\"C\"&COLUMN(),FALSE)","v":81034},{"$f":"INDIRECT(\"'\"&$S187&\"'!R\"&$T187&\"C\"&COLUMN(),FALSE)","v":20000},{"$f":"INDIRECT(\"'\"&$S187&\"'!R\"&$T187&\"C\"&COLUMN(),FALSE)","v":90628.6655737705},{"$f":"INDIRECT(\"'\"&$S187&\"'!R\"&$T187&\"C\"&COLUMN(),FALSE)","v":22368.059227921738},{"$f":"INDIRECT(\"'\"&$S187&\"'!R\"&$T187&\"C\"&COLUMN(),FALSE)","v":"Used Model 2024"},{"$f":"INDIRECT(\"'\"&$S187&\"'!R\"&$T187&\"C\"&COLUMN(),FALSE)","v":90628.6655737705},{"$f":"INDIRECT(\"'\"&$S187&\"'!R\"&$T187&\"C\"&COLUMN(),FALSE)","v":3.0516999999999999},{"$f":"INDIRECT(\"'\"&$S187&\"'!R\"&$T187&\"C\"&COLUMN(),FALSE)","v":"BAE systems"},{"$f":"INDIRECT(\"'\"&$S187&\"'!R\"&$T187&\"C\"&COLUMN(),FALSE)","v":1},{"$f":"INDIRECT(\"'\"&$S187&\"'!R\"&$T187&\"C\"&COLUMN(),FALSE)","v":"Q"},{"$f":"INDIRECT(\"'\"&$S187&\"'!R\"&$T187&\"C\"&COLUMN(),FALSE)","v":"Ground Proximity Warning System (GPWS/EGPWS)"},{"$f":"INDIRECT(\"'\"&$S187&\"'!R\"&$T187&\"C\"&COLUMN(),FALSE)","v":"GPWS/TERPROM"},{"$f":"INDIRECT(\"'\"&$S187&\"'!R\"&$T187&\"C\"&COLUMN(),FALSE)","v":81034},null,"167",183,"81034#Q","mil trainer",6]
[{"$f":"INDIRECT(\"'\"&$S188&\"'!R\"&$T188&\"C\"&COLUMN(),FALSE)","v":"167#749"},{"$f":"INDIRECT(\"'\"&$S188&\"'!R\"&$T188&\"C\"&COLUMN(),FALSE)","v":0},{"$f":"INDIRECT(\"'\"&$S188&\"'!R\"&$T188&\"C\"&COLUMN(),FALSE)","v":18000},{"$f":"INDIRECT(\"'\"&$S188&\"'!R\"&$T188&\"C\"&COLUMN(),FALSE)","v":0},{"$f":"INDIRECT(\"'\"&$S188&\"'!R\"&$T188&\"C\"&COLUMN(),FALSE)","v":20131.253305129565},{"$f":"INDIRECT(\"'\"&$S188&\"'!R\"&$T188&\"C\"&COLUMN(),FALSE)","v":"Used PW 2024"},{"$f":"INDIRECT(\"'\"&$S188&\"'!R\"&$T188&\"C\"&COLUMN(),FALSE)","v":20131.253305129565},{"$f":"INDIRECT(\"'\"&$S188&\"'!R\"&$T188&\"C\"&COLUMN(),FALSE)","v":-1},{"$f":"INDIRECT(\"'\"&$S188&\"'!R\"&$T188&\"C\"&COLUMN(),FALSE)","v":"???"},{"$f":"INDIRECT(\"'\"&$S188&\"'!R\"&$T188&\"C\"&COLUMN(),FALSE)","v":1},{"$f":"INDIRECT(\"'\"&$S188&\"'!R\"&$T188&\"C\"&COLUMN(),FALSE)","v":"A1"},{"$f":"INDIRECT(\"'\"&$S188&\"'!R\"&$T188&\"C\"&COLUMN(),FALSE)","v":"TCAS computer"},{"$f":"INDIRECT(\"'\"&$S188&\"'!R\"&$T188&\"C\"&COLUMN(),FALSE)","v":"TCAS"},{"$f":"INDIRECT(\"'\"&$S188&\"'!R\"&$T188&\"C\"&COLUMN(),FALSE)","v":0},null,"167",184,"0#A1","mil trainer",7]
[{"$f":"INDIRECT(\"'\"&$S189&\"'!R\"&$T189&\"C\"&COLUMN(),FALSE)","v":"167#764"},{"$f":"INDIRECT(\"'\"&$S189&\"'!R\"&$T189&\"C\"&COLUMN(),FALSE)","v":17731},{"$f":"INDIRECT(\"'\"&$S189&\"'!R\"&$T189&\"C\"&COLUMN(),FALSE)","v":20000},{"$f":"INDIRECT(\"'\"&$S189&\"'!R\"&$T189&\"C\"&COLUMN(),FALSE)","v":19830.402908514017},{"$f":"INDIRECT(\"'\"&$S189&\"'!R\"&$T189&\"C\"&COLUMN(),FALSE)","v":22368.059227921738},{"$f":"INDIRECT(\"'\"&$S189&\"'!R\"&$T189&\"C\"&COLUMN(),FALSE)","v":"Used Model 2024"},{"$f":"INDIRECT(\"'\"&$S189&\"'!R\"&$T189&\"C\"&COLUMN(),FALSE)","v":19830.402908514017},{"$f":"INDIRECT(\"'\"&$S189&\"'!R\"&$T189&\"C\"&COLUMN(),FALSE)","v":-0.11345},{"$f":"INDIRECT(\"'\"&$S189&\"'!R\"&$T189&\"C\"&COLUMN(),FALSE)","v":"Meggitt"},{"$f":"INDIRECT(\"'\"&$S189&\"'!R\"&$T189&\"C\"&COLUMN(),FALSE)","v":1},{"$f":"INDIRECT(\"'\"&$S189&\"'!R\"&$T189&\"C\"&COLUMN(),FALSE)","v":"H"},{"$f":"INDIRECT(\"'\"&$S189&\"'!R\"&$T189&\"C\"&COLUMN(),FALSE)","v":"Radar altimeters"},{"$f":"INDIRECT(\"'\"&$S189&\"'!R\"&$T189&\"C\"&COLUMN(),FALSE)","v":0},{"$f":"INDIRECT(\"'\"&$S189&\"'!R\"&$T189&\"C\"&COLUMN(),FALSE)","v":17731},null,"167",185,"17731#H","mil trainer",8]
[{"$f":"INDIRECT(\"'\"&$S190&\"'!R\"&$T190&\"C\"&COLUMN(),FALSE)","v":"167#795"},{"$f":"INDIRECT(\"'\"&$S190&\"'!R\"&$T190&\"C\"&COLUMN(),FALSE)","v":111607},{"$f":"INDIRECT(\"'\"&$S190&\"'!R\"&$T190&\"C\"&COLUMN(),FALSE)","v":50000},{"$f":"INDIRECT(\"'\"&$S190&\"'!R\"&$T190&\"C\"&COLUMN(),FALSE)","v":124821.59931253307},{"$f":"INDIRECT(\"'\"&$S190&\"'!R\"&$T190&\"C\"&COLUMN(),FALSE)","v":55920.148069804345},{"$f":"INDIRECT(\"'\"&$S190&\"'!R\"&$T190&\"C\"&COLUMN(),FALSE)","v":"Used Model 2024"},{"$f":"INDIRECT(\"'\"&$S190&\"'!R\"&$T190&\"C\"&COLUMN(),FALSE)","v":124821.59931253307},{"$f":"INDIRECT(\"'\"&$S190&\"'!R\"&$T190&\"C\"&COLUMN(),FALSE)","v":1.23214},{"$f":"INDIRECT(\"'\"&$S190&\"'!R\"&$T190&\"C\"&COLUMN(),FALSE)","v":"BAE Systems"},{"$f":"INDIRECT(\"'\"&$S190&\"'!R\"&$T190&\"C\"&COLUMN(),FALSE)","v":2},{"$f":"INDIRECT(\"'\"&$S190&\"'!R\"&$T190&\"C\"&COLUMN(),FALSE)","v":"A"},{"$f":"INDIRECT(\"'\"&$S190&\"'!R\"&$T190&\"C\"&COLUMN(),FALSE)","v":"Mission computers"},{"$f":"INDIRECT(\"'\"&$S190&\"'!R\"&$T190&\"C\"&COLUMN(),FALSE)","v":0},{"$f":"INDIRECT(\"'\"&$S190&\"'!R\"&$T190&\"C\"&COLUMN(),FALSE)","v":111607},null,"167",186,"111607#A","mil trainer",9]
[{"$f":"INDIRECT(\"'\"&$S191&\"'!R\"&$T191&\"C\"&COLUMN(),FALSE)","v":"167#811"},{"$f":"INDIRECT(\"'\"&$S191&\"'!R\"&$T191&\"C\"&COLUMN(),FALSE)","v":60728},{"$f":"INDIRECT(\"'\"&$S191&\"'!R\"&$T191&\"C\"&COLUMN(),FALSE)","v":60000},{"$f":"INDIRECT(\"'\"&$S191&\"'!R\"&$T191&\"C\"&COLUMN(),FALSE)","v":67918.375039661565},{"$f":"INDIRECT(\"'\"&$S191&\"'!R\"&$T191&\"C\"&COLUMN(),FALSE)","v":67104.177683765214},{"$f":"INDIRECT(\"'\"&$S191&\"'!R\"&$T191&\"C\"&COLUMN(),FALSE)","v":"Used Model 2024"},{"$f":"INDIRECT(\"'\"&$S191&\"'!R\"&$T191&\"C\"&COLUMN(),FALSE)","v":67918.375039661565},{"$f":"INDIRECT(\"'\"&$S191&\"'!R\"&$T191&\"C\"&COLUMN(),FALSE)","v":1.2133333333333333E-2},{"$f":"INDIRECT(\"'\"&$S191&\"'!R\"&$T191&\"C\"&COLUMN(),FALSE)","v":"?????"},{"$f":"INDIRECT(\"'\"&$S191&\"'!R\"&$T191&\"C\"&COLUMN(),FALSE)","v":3},{"$f":"INDIRECT(\"'\"&$S191&\"'!R\"&$T191&\"C\"&COLUMN(),FALSE)","v":"G"},{"$f":"INDIRECT(\"'\"&$S191&\"'!R\"&$T191&\"C\"&COLUMN(),FALSE)","v":"Main displays"},{"$f":"INDIRECT(\"'\"&$S191&\"'!R\"&$T191&\"C\"&COLUMN(),FALSE)","v":0},{"$f":"INDIRECT(\"'\"&$S191&\"'!R\"&$T191&\"C\"&COLUMN(),FALSE)","v":60728},null,"167",187,"60728#G","mil trainer",10]
[{"$f":"INDIRECT(\"'\"&$S192&\"'!R\"&$T192&\"C\"&COLUMN(),FALSE)","v":"167#812"},{"$f":"INDIRECT(\"'\"&$S192&\"'!R\"&$T192&\"C\"&COLUMN(),FALSE)","v":50606},{"$f":"INDIRECT(\"'\"&$S192&\"'!R\"&$T192&\"C\"&COLUMN(),FALSE)","v":50000},{"$f":"INDIRECT(\"'\"&$S192&\"'!R\"&$T192&\"C\"&COLUMN(),FALSE)","v":56597.900264410375},{"$f":"INDIRECT(\"'\"&$S192&\"'!R\"&$T192&\"C\"&COLUMN(),FALSE)","v":55920.148069804345},{"$f":"INDIRECT(\"'\"&$S192&\"'!R\"&$T192&\"C\"&COLUMN(),FALSE)","v":"Used Model 2024"},{"$f":"INDIRECT(\"'\"&$S192&\"'!R\"&$T192&\"C\"&COLUMN(),FALSE)","v":56597.900264410375},{"$f":"INDIRECT(\"'\"&$S192&\"'!R\"&$T192&\"C\"&COLUMN(),FALSE)","v":1.2120000000000001E-2},{"$f":"INDIRECT(\"'\"&$S192&\"'!R\"&$T192&\"C\"&COLUMN(),FALSE)","v":"?????"},{"$f":"INDIRECT(\"'\"&$S192&\"'!R\"&$T192&\"C\"&COLUMN(),FALSE)","v":1},{"$f":"INDIRECT(\"'\"&$S192&\"'!R\"&$T192&\"C\"&COLUMN(),FALSE)","v":"A"},{"$f":"INDIRECT(\"'\"&$S192&\"'!R\"&$T192&\"C\"&COLUMN(),FALSE)","v":"Display processor"},{"$f":"INDIRECT(\"'\"&$S192&\"'!R\"&$T192&\"C\"&COLUMN(),FALSE)","v":0},{"$f":"INDIRECT(\"'\"&$S192&\"'!R\"&$T192&\"C\"&COLUMN(),FALSE)","v":50606},null,"167",188,"50606#A","mil trainer",11]
[{"$f":"INDIRECT(\"'\"&$S193&\"'!R\"&$T193&\"C\"&COLUMN(),FALSE)","v":"167#813"},{"$f":"INDIRECT(\"'\"&$S193&\"'!R\"&$T193&\"C\"&COLUMN(),FALSE)","v":48760},{"$f":"INDIRECT(\"'\"&$S193&\"'!R\"&$T193&\"C\"&COLUMN(),FALSE)","v":40000},{"$f":"INDIRECT(\"'\"&$S193&\"'!R\"&$T193&\"C\"&COLUMN(),FALSE)","v":54533.328397673198},{"$f":"INDIRECT(\"'\"&$S193&\"'!R\"&$T193&\"C\"&COLUMN(),FALSE)","v":44736.118455843476},{"$f":"INDIRECT(\"'\"&$S193&\"'!R\"&$T193&\"C\"&COLUMN(),FALSE)","v":"Used Model 2024"},{"$f":"INDIRECT(\"'\"&$S193&\"'!R\"&$T193&\"C\"&COLUMN(),FALSE)","v":54533.328397673198},{"$f":"INDIRECT(\"'\"&$S193&\"'!R\"&$T193&\"C\"&COLUMN(),FALSE)","v":0.219},{"$f":"INDIRECT(\"'\"&$S193&\"'!R\"&$T193&\"C\"&COLUMN(),FALSE)","v":"Northrop Grumman  LINS 300"},{"$f":"INDIRECT(\"'\"&$S193&\"'!R\"&$T193&\"C\"&COLUMN(),FALSE)","v":2},{"$f":"INDIRECT(\"'\"&$S193&\"'!R\"&$T193&\"C\"&COLUMN(),FALSE)","v":"A"},{"$f":"INDIRECT(\"'\"&$S193&\"'!R\"&$T193&\"C\"&COLUMN(),FALSE)","v":"IN/GPS system "},{"$f":"INDIRECT(\"'\"&$S193&\"'!R\"&$T193&\"C\"&COLUMN(),FALSE)","v":0},{"$f":"INDIRECT(\"'\"&$S193&\"'!R\"&$T193&\"C\"&COLUMN(),FALSE)","v":48760},null,"167",189,"48760#A","mil trainer",12]
[{"$f":"INDIRECT(\"'\"&$S194&\"'!R\"&$T194&\"C\"&COLUMN(),FALSE)","v":"167#814"},{"$f":"INDIRECT(\"'\"&$S194&\"'!R\"&$T194&\"C\"&COLUMN(),FALSE)","v":81034},{"$f":"INDIRECT(\"'\"&$S194&\"'!R\"&$T194&\"C\"&COLUMN(),FALSE)","v":40000},{"$f":"INDIRECT(\"'\"&$S194&\"'!R\"&$T194&\"C\"&COLUMN(),FALSE)","v":90628.6655737705},{"$f":"INDIRECT(\"'\"&$S194&\"'!R\"&$T194&\"C\"&COLUMN(),FALSE)","v":44736.118455843476},{"$f":"INDIRECT(\"'\"&$S194&\"'!R\"&$T194&\"C\"&COLUMN(),FALSE)","v":"Used Model 2024"},{"$f":"INDIRECT(\"'\"&$S194&\"'!R\"&$T194&\"C\"&COLUMN(),FALSE)","v":90628.6655737705},{"$f":"INDIRECT(\"'\"&$S194&\"'!R\"&$T194&\"C\"&COLUMN(),FALSE)","v":1.0258499999999999},{"$f":"INDIRECT(\"'\"&$S194&\"'!R\"&$T194&\"C\"&COLUMN(),FALSE)","v":"Northrop Grumman NG AG-66H"},{"$f":"INDIRECT(\"'\"&$S194&\"'!R\"&$T194&\"C\"&COLUMN(),FALSE)","v":1},{"$f":"INDIRECT(\"'\"&$S194&\"'!R\"&$T194&\"C\"&COLUMN(),FALSE)","v":"A"},{"$f":"INDIRECT(\"'\"&$S194&\"'!R\"&$T194&\"C\"&COLUMN(),FALSE)","v":"Multi mode radar"},{"$f":"INDIRECT(\"'\"&$S194&\"'!R\"&$T194&\"C\"&COLUMN(),FALSE)","v":0},{"$f":"INDIRECT(\"'\"&$S194&\"'!R\"&$T194&\"C\"&COLUMN(),FALSE)","v":81034},null,"167",190,"81034#A","mil trainer",13]
[{"$f":"INDIRECT(\"'\"&$S195&\"'!R\"&$T195&\"C\"&COLUMN(),FALSE)","v":"167#815"},{"$f":"INDIRECT(\"'\"&$S195&\"'!R\"&$T195&\"C\"&COLUMN(),FALSE)","v":49498},{"$f":"INDIRECT(\"'\"&$S195&\"'!R\"&$T195&\"C\"&COLUMN(),FALSE)","v":45000},{"$f":"INDIRECT(\"'\"&$S195&\"'!R\"&$T195&\"C\"&COLUMN(),FALSE)","v":55358.709783183505},{"$f":"INDIRECT(\"'\"&$S195&\"'!R\"&$T195&\"C\"&COLUMN(),FALSE)","v":50328.133262823911},{"$f":"INDIRECT(\"'\"&$S195&\"'!R\"&$T195&\"C\"&COLUMN(),FALSE)","v":"Used Model 2024"},{"$f":"INDIRECT(\"'\"&$S195&\"'!R\"&$T195&\"C\"&COLUMN(),FALSE)","v":55358.709783183505},{"$f":"INDIRECT(\"'\"&$S195&\"'!R\"&$T195&\"C\"&COLUMN(),FALSE)","v":9.9955555555555561E-2},{"$f":"INDIRECT(\"'\"&$S195&\"'!R\"&$T195&\"C\"&COLUMN(),FALSE)","v":"Collins"},{"$f":"INDIRECT(\"'\"&$S195&\"'!R\"&$T195&\"C\"&COLUMN(),FALSE)","v":3},{"$f":"INDIRECT(\"'\"&$S195&\"'!R\"&$T195&\"C\"&COLUMN(),FALSE)","v":"A"},{"$f":"INDIRECT(\"'\"&$S195&\"'!R\"&$T195&\"C\"&COLUMN(),FALSE)","v":"Air Data smart sensor"},{"$f":"INDIRECT(\"'\"&$S195&\"'!R\"&$T195&\"C\"&COLUMN(),FALSE)","v":0},{"$f":"INDIRECT(\"'\"&$S195&\"'!R\"&$T195&\"C\"&COLUMN(),FALSE)","v":49498},null,"167",191,"49498#A","mil trainer",14]
[{"$f":"INDIRECT(\"'\"&$S196&\"'!R\"&$T196&\"C\"&COLUMN(),FALSE)","v":"167#816"},{"$f":"INDIRECT(\"'\"&$S196&\"'!R\"&$T196&\"C\"&COLUMN(),FALSE)","v":54998},{"$f":"INDIRECT(\"'\"&$S196&\"'!R\"&$T196&\"C\"&COLUMN(),FALSE)","v":30000},{"$f":"INDIRECT(\"'\"&$S196&\"'!R\"&$T196&\"C\"&COLUMN(),FALSE)","v":61509.926070861984},{"$f":"INDIRECT(\"'\"&$S196&\"'!R\"&$T196&\"C\"&COLUMN(),FALSE)","v":33552.088841882607},{"$f":"INDIRECT(\"'\"&$S196&\"'!R\"&$T196&\"C\"&COLUMN(),FALSE)","v":"Used Model 2024"},{"$f":"INDIRECT(\"'\"&$S196&\"'!R\"&$T196&\"C\"&COLUMN(),FALSE)","v":61509.926070861984},{"$f":"INDIRECT(\"'\"&$S196&\"'!R\"&$T196&\"C\"&COLUMN(),FALSE)","v":0.83326666666666671},{"$f":"INDIRECT(\"'\"&$S196&\"'!R\"&$T196&\"C\"&COLUMN(),FALSE)","v":0},{"$f":"INDIRECT(\"'\"&$S196&\"'!R\"&$T196&\"C\"&COLUMN(),FALSE)","v":2},{"$f":"INDIRECT(\"'\"&$S196&\"'!R\"&$T196&\"C\"&COLUMN(),FALSE)","v":"A"},{"$f":"INDIRECT(\"'\"&$S196&\"'!R\"&$T196&\"C\"&COLUMN(),FALSE)","v":"FLIR sensors"},{"$f":"INDIRECT(\"'\"&$S196&\"'!R\"&$T196&\"C\"&COLUMN(),FALSE)","v":0},{"$f":"INDIRECT(\"'\"&$S196&\"'!R\"&$T196&\"C\"&COLUMN(),FALSE)","v":54998},null,"167",192,"54998#A","mil trainer",15]
[{"$f":"INDIRECT(\"'\"&$S197&\"'!R\"&$T197&\"C\"&COLUMN(),FALSE)","v":"167#817"},{"$f":"INDIRECT(\"'\"&$S197&\"'!R\"&$T197&\"C\"&COLUMN(),FALSE)","v":26597},{"$f":"INDIRECT(\"'\"&$S197&\"'!R\"&$T197&\"C\"&COLUMN(),FALSE)","v":30000},{"$f":"INDIRECT(\"'\"&$S197&\"'!R\"&$T197&\"C\"&COLUMN(),FALSE)","v":29746.163564251721},{"$f":"INDIRECT(\"'\"&$S197&\"'!R\"&$T197&\"C\"&COLUMN(),FALSE)","v":33552.088841882607},{"$f":"INDIRECT(\"'\"&$S197&\"'!R\"&$T197&\"C\"&COLUMN(),FALSE)","v":"Used Model 2024"},{"$f":"INDIRECT(\"'\"&$S197&\"'!R\"&$T197&\"C\"&COLUMN(),FALSE)","v":29746.163564251721},{"$f":"INDIRECT(\"'\"&$S197&\"'!R\"&$T197&\"C\"&COLUMN(),FALSE)","v":-0.11343333333333333},{"$f":"INDIRECT(\"'\"&$S197&\"'!R\"&$T197&\"C\"&COLUMN(),FALSE)","v":0},{"$f":"INDIRECT(\"'\"&$S197&\"'!R\"&$T197&\"C\"&COLUMN(),FALSE)","v":1},{"$f":"INDIRECT(\"'\"&$S197&\"'!R\"&$T197&\"C\"&COLUMN(),FALSE)","v":"A"},{"$f":"INDIRECT(\"'\"&$S197&\"'!R\"&$T197&\"C\"&COLUMN(),FALSE)","v":"Navigation receiver"},{"$f":"INDIRECT(\"'\"&$S197&\"'!R\"&$T197&\"C\"&COLUMN(),FALSE)","v":0},{"$f":"INDIRECT(\"'\"&$S197&\"'!R\"&$T197&\"C\"&COLUMN(),FALSE)","v":26597},null,"167",193,"26597#A","mil trainer",16]
[{"$f":"INDIRECT(\"'\"&$S198&\"'!R\"&$T198&\"C\"&COLUMN(),FALSE)","v":"167#818"},{"$f":"INDIRECT(\"'\"&$S198&\"'!R\"&$T198&\"C\"&COLUMN(),FALSE)","v":68491},{"$f":"INDIRECT(\"'\"&$S198&\"'!R\"&$T198&\"C\"&COLUMN(),FALSE)","v":30000},{"$f":"INDIRECT(\"'\"&$S198&\"'!R\"&$T198&\"C\"&COLUMN(),FALSE)","v":76600.537228979389},{"$f":"INDIRECT(\"'\"&$S198&\"'!R\"&$T198&\"C\"&COLUMN(),FALSE)","v":33552.088841882607},{"$f":"INDIRECT(\"'\"&$S198&\"'!R\"&$T198&\"C\"&COLUMN(),FALSE)","v":"Used Model 2024"},{"$f":"INDIRECT(\"'\"&$S198&\"'!R\"&$T198&\"C\"&COLUMN(),FALSE)","v":76600.537228979389},{"$f":"INDIRECT(\"'\"&$S198&\"'!R\"&$T198&\"C\"&COLUMN(),FALSE)","v":1.2830333333333332},{"$f":"INDIRECT(\"'\"&$S198&\"'!R\"&$T198&\"C\"&COLUMN(),FALSE)","v":"???"},{"$f":"INDIRECT(\"'\"&$S198&\"'!R\"&$T198&\"C\"&COLUMN(),FALSE)","v":1},{"$f":"INDIRECT(\"'\"&$S198&\"'!R\"&$T198&\"C\"&COLUMN(),FALSE)","v":"B"},{"$f":"INDIRECT(\"'\"&$S198&\"'!R\"&$T198&\"C\"&COLUMN(),FALSE)","v":"Radio receivers"},{"$f":"INDIRECT(\"'\"&$S198&\"'!R\"&$T198&\"C\"&COLUMN(),FALSE)","v":0},{"$f":"INDIRECT(\"'\"&$S198&\"'!R\"&$T198&\"C\"&COLUMN(),FALSE)","v":68491},null,{"$f":"IFERROR(LEFT(A198,SEARCH(\"#\",A198)-1),\"\")","v":"167"},194,{"$f":"N198&\"#\"&IFERROR(LEFT(K198,SEARCH(\" \",K198)-1),K198)","v":"68491#B"},"mil trainer",17]
[{"$f":"INDIRECT(\"'\"&$S199&\"'!R\"&$T199&\"C\"&COLUMN(),FALSE)","v":"167#819"},{"$f":"INDIRECT(\"'\"&$S199&\"'!R\"&$T199&\"C\"&COLUMN(),FALSE)","v":78124},{"$f":"INDIRECT(\"'\"&$S199&\"'!R\"&$T199&\"C\"&COLUMN(),FALSE)","v":50000},{"$f":"INDIRECT(\"'\"&$S199&\"'!R\"&$T199&\"C\"&COLUMN(),FALSE)","v":87374.112956107885},{"$f":"INDIRECT(\"'\"&$S199&\"'!R\"&$T199&\"C\"&COLUMN(),FALSE)","v":55920.148069804345},{"$f":"INDIRECT(\"'\"&$S199&\"'!R\"&$T199&\"C\"&COLUMN(),FALSE)","v":"Used Model 2024"},{"$f":"INDIRECT(\"'\"&$S199&\"'!R\"&$T199&\"C\"&COLUMN(),FALSE)","v":87374.112956107885},{"$f":"INDIRECT(\"'\"&$S199&\"'!R\"&$T199&\"C\"&COLUMN(),FALSE)","v":0.56247999999999998},{"$f":"INDIRECT(\"'\"&$S199&\"'!R\"&$T199&\"C\"&COLUMN(),FALSE)","v":"???"},{"$f":"INDIRECT(\"'\"&$S199&\"'!R\"&$T199&\"C\"&COLUMN(),FALSE)","v":2},{"$f":"INDIRECT(\"'\"&$S199&\"'!R\"&$T199&\"C\"&COLUMN(),FALSE)","v":"A"},{"$f":"INDIRECT(\"'\"&$S199&\"'!R\"&$T199&\"C\"&COLUMN(),FALSE)","v":"Stores Management System"},{"$f":"INDIRECT(\"'\"&$S199&\"'!R\"&$T199&\"C\"&COLUMN(),FALSE)","v":0},{"$f":"INDIRECT(\"'\"&$S199&\"'!R\"&$T199&\"C\"&COLUMN(),FALSE)","v":78124},null,"167",195,"78124#A","mil trainer",18]
[{"$f":"INDIRECT(\"'\"&$S200&\"'!R\"&$T200&\"C\"&COLUMN(),FALSE)","v":"167#820"},{"$f":"INDIRECT(\"'\"&$S200&\"'!R\"&$T200&\"C\"&COLUMN(),FALSE)","v":75910},{"$f":"INDIRECT(\"'\"&$S200&\"'!R\"&$T200&\"C\"&COLUMN(),FALSE)","v":75000},{"$f":"INDIRECT(\"'\"&$S200&\"'!R\"&$T200&\"C\"&COLUMN(),FALSE)","v":84897.968799576949},{"$f":"INDIRECT(\"'\"&$S200&\"'!R\"&$T200&\"C\"&COLUMN(),FALSE)","v":83880.22210470651},{"$f":"INDIRECT(\"'\"&$S200&\"'!R\"&$T200&\"C\"&COLUMN(),FALSE)","v":"Used Model 2024"},{"$f":"INDIRECT(\"'\"&$S200&\"'!R\"&$T200&\"C\"&COLUMN(),FALSE)","v":84897.968799576949},{"$f":"INDIRECT(\"'\"&$S200&\"'!R\"&$T200&\"C\"&COLUMN(),FALSE)","v":1.2133333333333333E-2},{"$f":"INDIRECT(\"'\"&$S200&\"'!R\"&$T200&\"C\"&COLUMN(),FALSE)","v":0},{"$f":"INDIRECT(\"'\"&$S200&\"'!R\"&$T200&\"C\"&COLUMN(),FALSE)","v":1},{"$f":"INDIRECT(\"'\"&$S200&\"'!R\"&$T200&\"C\"&COLUMN(),FALSE)","v":"A"},{"$f":"INDIRECT(\"'\"&$S200&\"'!R\"&$T200&\"C\"&COLUMN(),FALSE)","v":"Dual redundant digital bus"},{"$f":"INDIRECT(\"'\"&$S200&\"'!R\"&$T200&\"C\"&COLUMN(),FALSE)","v":0},{"$f":"INDIRECT(\"'\"&$S200&\"'!R\"&$T200&\"C\"&COLUMN(),FALSE)","v":75910},null,"167",196,"75910#A","mil trainer",19]
[{"$f":"INDIRECT(\"'\"&$S201&\"'!R\"&$T201&\"C\"&COLUMN(),FALSE)","v":"167#821"},{"$f":"INDIRECT(\"'\"&$S201&\"'!R\"&$T201&\"C\"&COLUMN(),FALSE)","v":74794},{"$f":"INDIRECT(\"'\"&$S201&\"'!R\"&$T201&\"C\"&COLUMN(),FALSE)","v":35000},{"$f":"INDIRECT(\"'\"&$S201&\"'!R\"&$T201&\"C\"&COLUMN(),FALSE)","v":83649.831094658919},{"$f":"INDIRECT(\"'\"&$S201&\"'!R\"&$T201&\"C\"&COLUMN(),FALSE)","v":39144.103648863042},{"$f":"INDIRECT(\"'\"&$S201&\"'!R\"&$T201&\"C\"&COLUMN(),FALSE)","v":"Used Model 2024"},{"$f":"INDIRECT(\"'\"&$S201&\"'!R\"&$T201&\"C\"&COLUMN(),FALSE)","v":83649.831094658919},{"$f":"INDIRECT(\"'\"&$S201&\"'!R\"&$T201&\"C\"&COLUMN(),FALSE)","v":1.1369714285714285},{"$f":"INDIRECT(\"'\"&$S201&\"'!R\"&$T201&\"C\"&COLUMN(),FALSE)","v":0},{"$f":"INDIRECT(\"'\"&$S201&\"'!R\"&$T201&\"C\"&COLUMN(),FALSE)","v":1},{"$f":"INDIRECT(\"'\"&$S201&\"'!R\"&$T201&\"C\"&COLUMN(),FALSE)","v":"B"},{"$f":"INDIRECT(\"'\"&$S201&\"'!R\"&$T201&\"C\"&COLUMN(),FALSE)","v":"Digital Data link/transfer"},{"$f":"INDIRECT(\"'\"&$S201&\"'!R\"&$T201&\"C\"&COLUMN(),FALSE)","v":0},{"$f":"INDIRECT(\"'\"&$S201&\"'!R\"&$T201&\"C\"&COLUMN(),FALSE)","v":74794},null,"167",197,"74794#B","mil trainer",20]
[{"$f":"INDIRECT(\"'\"&$S202&\"'!R\"&$T202&\"C\"&COLUMN(),FALSE)","v":"167#878"},{"$f":"INDIRECT(\"'\"&$S202&\"'!R\"&$T202&\"C\"&COLUMN(),FALSE)","v":82497},{"$f":"INDIRECT(\"'\"&$S202&\"'!R\"&$T202&\"C\"&COLUMN(),FALSE)","v":{"$error":"#N/A"}},{"$f":"INDIRECT(\"'\"&$S202&\"'!R\"&$T202&\"C\"&COLUMN(),FALSE)","v":92264.889106292976},{"$f":"INDIRECT(\"'\"&$S202&\"'!R\"&$T202&\"C\"&COLUMN(),FALSE)","v":{"$error":"#N/A"}},{"$f":"INDIRECT(\"'\"&$S202&\"'!R\"&$T202&\"C\"&COLUMN(),FALSE)","v":"Used Model 2024"},{"$f":"INDIRECT(\"'\"&$S202&\"'!R\"&$T202&\"C\"&COLUMN(),FALSE)","v":92264.889106292976},{"$f":"INDIRECT(\"'\"&$S202&\"'!R\"&$T202&\"C\"&COLUMN(),FALSE)","v":{"$error":"#N/A"}},{"$f":"INDIRECT(\"'\"&$S202&\"'!R\"&$T202&\"C\"&COLUMN(),FALSE)","v":{"$error":"#N/A"}},{"$f":"INDIRECT(\"'\"&$S202&\"'!R\"&$T202&\"C\"&COLUMN(),FALSE)","v":1},{"$f":"INDIRECT(\"'\"&$S202&\"'!R\"&$T202&\"C\"&COLUMN(),FALSE)","v":"G"},{"$f":"INDIRECT(\"'\"&$S202&\"'!R\"&$T202&\"C\"&COLUMN(),FALSE)","v":"Sensors IFF, other"},{"$f":"INDIRECT(\"'\"&$S202&\"'!R\"&$T202&\"C\"&COLUMN(),FALSE)","v":0},{"$f":"INDIRECT(\"'\"&$S202&\"'!R\"&$T202&\"C\"&COLUMN(),FALSE)","v":82497},null,"167",198,"82497#G","mil trainer",21]
[{"$f":"INDIRECT(\"'\"&$S203&\"'!R\"&$T203&\"C\"&COLUMN(),FALSE)","v":"167#879"},{"$f":"INDIRECT(\"'\"&$S203&\"'!R\"&$T203&\"C\"&COLUMN(),FALSE)","v":114566},{"$f":"INDIRECT(\"'\"&$S203&\"'!R\"&$T203&\"C\"&COLUMN(),FALSE)","v":{"$error":"#N/A"}},{"$f":"INDIRECT(\"'\"&$S203&\"'!R\"&$T203&\"C\"&COLUMN(),FALSE)","v":128130.95367530409},{"$f":"INDIRECT(\"'\"&$S203&\"'!R\"&$T203&\"C\"&COLUMN(),FALSE)","v":{"$error":"#N/A"}},{"$f":"INDIRECT(\"'\"&$S203&\"'!R\"&$T203&\"C\"&COLUMN(),FALSE)","v":"Used Model 2024"},{"$f":"INDIRECT(\"'\"&$S203&\"'!R\"&$T203&\"C\"&COLUMN(),FALSE)","v":128130.95367530409},{"$f":"INDIRECT(\"'\"&$S203&\"'!R\"&$T203&\"C\"&COLUMN(),FALSE)","v":{"$error":"#N/A"}},{"$f":"INDIRECT(\"'\"&$S203&\"'!R\"&$T203&\"C\"&COLUMN(),FALSE)","v":{"$error":"#N/A"}},{"$f":"INDIRECT(\"'\"&$S203&\"'!R\"&$T203&\"C\"&COLUMN(),FALSE)","v":1},{"$f":"INDIRECT(\"'\"&$S203&\"'!R\"&$T203&\"C\"&COLUMN(),FALSE)","v":"S"},{"$f":"INDIRECT(\"'\"&$S203&\"'!R\"&$T203&\"C\"&COLUMN(),FALSE)","v":"Software"},{"$f":"INDIRECT(\"'\"&$S203&\"'!R\"&$T203&\"C\"&COLUMN(),FALSE)","v":0},{"$f":"INDIRECT(\"'\"&$S203&\"'!R\"&$T203&\"C\"&COLUMN(),FALSE)","v":114566},null,"167",199,"114566#S","mil trainer",22]
[{"$f":"INDIRECT(\"'\"&$S204&\"'!R\"&$T204&\"C\"&COLUMN(),FALSE)","v":"167#1056"},{"$f":"INDIRECT(\"'\"&$S204&\"'!R\"&$T204&\"C\"&COLUMN(),FALSE)","v":575},{"$f":"INDIRECT(\"'\"&$S204&\"'!R\"&$T204&\"C\"&COLUMN(),FALSE)","v":{"$error":"#N/A"}},{"$f":"INDIRECT(\"'\"&$S204&\"'!R\"&$T204&\"C\"&COLUMN(),FALSE)","v":643.08170280274999},{"$f":"INDIRECT(\"'\"&$S204&\"'!R\"&$T204&\"C\"&COLUMN(),FALSE)","v":{"$error":"#N/A"}},{"$f":"INDIRECT(\"'\"&$S204&\"'!R\"&$T204&\"C\"&COLUMN(),FALSE)","v":"Used Model 2024"},{"$f":"INDIRECT(\"'\"&$S204&\"'!R\"&$T204&\"C\"&COLUMN(),FALSE)","v":643.08170280274999},{"$f":"INDIRECT(\"'\"&$S204&\"'!R\"&$T204&\"C\"&COLUMN(),FALSE)","v":{"$error":"#N/A"}},{"$f":"INDIRECT(\"'\"&$S204&\"'!R\"&$T204&\"C\"&COLUMN(),FALSE)","v":{"$error":"#N/A"}},{"$f":"INDIRECT(\"'\"&$S204&\"'!R\"&$T204&\"C\"&COLUMN(),FALSE)","v":1},{"$f":"INDIRECT(\"'\"&$S204&\"'!R\"&$T204&\"C\"&COLUMN(),FALSE)","v":"AF"},{"$f":"INDIRECT(\"'\"&$S204&\"'!R\"&$T204&\"C\"&COLUMN(),FALSE)","v":"Avionics Harnesses"},{"$f":"INDIRECT(\"'\"&$S204&\"'!R\"&$T204&\"C\"&COLUMN(),FALSE)","v":0},{"$f":"INDIRECT(\"'\"&$S204&\"'!R\"&$T204&\"C\"&COLUMN(),FALSE)","v":575},null,"167",200,"575#AF","mil trainer",23]
[{"$f":"INDIRECT(\"'\"&$S205&\"'!R\"&$T205&\"C\"&COLUMN(),FALSE)","v":"167#1057"},{"$f":"INDIRECT(\"'\"&$S205&\"'!R\"&$T205&\"C\"&COLUMN(),FALSE)","v":4094},{"$f":"INDIRECT(\"'\"&$S205&\"'!R\"&$T205&\"C\"&COLUMN(),FALSE)","v":{"$error":"#N/A"}},{"$f":"INDIRECT(\"'\"&$S205&\"'!R\"&$T205&\"C\"&COLUMN(),FALSE)","v":4578.7417239555798},{"$f":"INDIRECT(\"'\"&$S205&\"'!R\"&$T205&\"C\"&COLUMN(),FALSE)","v":{"$error":"#N/A"}},{"$f":"INDIRECT(\"'\"&$S205&\"'!R\"&$T205&\"C\"&COLUMN(),FALSE)","v":"Used Model 2024"},{"$f":"INDIRECT(\"'\"&$S205&\"'!R\"&$T205&\"C\"&COLUMN(),FALSE)","v":4578.7417239555798},{"$f":"INDIRECT(\"'\"&$S205&\"'!R\"&$T205&\"C\"&COLUMN(),FALSE)","v":{"$error":"#N/A"}},{"$f":"INDIRECT(\"'\"&$S205&\"'!R\"&$T205&\"C\"&COLUMN(),FALSE)","v":{"$error":"#N/A"}},{"$f":"INDIRECT(\"'\"&$S205&\"'!R\"&$T205&\"C\"&COLUMN(),FALSE)","v":1},{"$f":"INDIRECT(\"'\"&$S205&\"'!R\"&$T205&\"C\"&COLUMN(),FALSE)","v":"AF"},{"$f":"INDIRECT(\"'\"&$S205&\"'!R\"&$T205&\"C\"&COLUMN(),FALSE)","v":"Avionics Harnesses"},{"$f":"INDIRECT(\"'\"&$S205&\"'!R\"&$T205&\"C\"&COLUMN(),FALSE)","v":0},{"$f":"INDIRECT(\"'\"&$S205&\"'!R\"&$T205&\"C\"&COLUMN(),FALSE)","v":4094},null,"167",201,"4094#AF","mil trainer",24]
[{"$f":"INDIRECT(\"'\"&$S206&\"'!R\"&$T206&\"C\"&COLUMN(),FALSE)","v":"167#1058"},{"$f":"INDIRECT(\"'\"&$S206&\"'!R\"&$T206&\"C\"&COLUMN(),FALSE)","v":4950},{"$f":"INDIRECT(\"'\"&$S206&\"'!R\"&$T206&\"C\"&COLUMN(),FALSE)","v":{"$error":"#N/A"}},{"$f":"INDIRECT(\"'\"&$S206&\"'!R\"&$T206&\"C\"&COLUMN(),FALSE)","v":5536.0946589106297},{"$f":"INDIRECT(\"'\"&$S206&\"'!R\"&$T206&\"C\"&COLUMN(),FALSE)","v":{"$error":"#N/A"}},{"$f":"INDIRECT(\"'\"&$S206&\"'!R\"&$T206&\"C\"&COLUMN(),FALSE)","v":"Used Model 2024"},{"$f":"INDIRECT(\"'\"&$S206&\"'!R\"&$T206&\"C\"&COLUMN(),FALSE)","v":5536.0946589106297},{"$f":"INDIRECT(\"'\"&$S206&\"'!R\"&$T206&\"C\"&COLUMN(),FALSE)","v":{"$error":"#N/A"}},{"$f":"INDIRECT(\"'\"&$S206&\"'!R\"&$T206&\"C\"&COLUMN(),FALSE)","v":{"$error":"#N/A"}},{"$f":"INDIRECT(\"'\"&$S206&\"'!R\"&$T206&\"C\"&COLUMN(),FALSE)","v":1},{"$f":"INDIRECT(\"'\"&$S206&\"'!R\"&$T206&\"C\"&COLUMN(),FALSE)","v":"AF"},{"$f":"INDIRECT(\"'\"&$S206&\"'!R\"&$T206&\"C\"&COLUMN(),FALSE)","v":"Avionics Harnesses"},{"$f":"INDIRECT(\"'\"&$S206&\"'!R\"&$T206&\"C\"&COLUMN(),FALSE)","v":0},{"$f":"INDIRECT(\"'\"&$S206&\"'!R\"&$T206&\"C\"&COLUMN(),FALSE)","v":4950},null,"167",202,"4950#AF","mil trainer",25]
[{"$f":"INDIRECT(\"'\"&$S207&\"'!R\"&$T207&\"C\"&COLUMN(),FALSE)","v":"167#1059"},{"$f":"INDIRECT(\"'\"&$S207&\"'!R\"&$T207&\"C\"&COLUMN(),FALSE)","v":1024},{"$f":"INDIRECT(\"'\"&$S207&\"'!R\"&$T207&\"C\"&COLUMN(),FALSE)","v":{"$error":"#N/A"}},{"$f":"INDIRECT(\"'\"&$S207&\"'!R\"&$T207&\"C\"&COLUMN(),FALSE)","v":1145.2446324695929},{"$f":"INDIRECT(\"'\"&$S207&\"'!R\"&$T207&\"C\"&COLUMN(),FALSE)","v":{"$error":"#N/A"}},{"$f":"INDIRECT(\"'\"&$S207&\"'!R\"&$T207&\"C\"&COLUMN(),FALSE)","v":"Used Model 2024"},{"$f":"INDIRECT(\"'\"&$S207&\"'!R\"&$T207&\"C\"&COLUMN(),FALSE)","v":1145.2446324695929},{"$f":"INDIRECT(\"'\"&$S207&\"'!R\"&$T207&\"C\"&COLUMN(),FALSE)","v":{"$error":"#N/A"}},{"$f":"INDIRECT(\"'\"&$S207&\"'!R\"&$T207&\"C\"&COLUMN(),FALSE)","v":{"$error":"#N/A"}},{"$f":"INDIRECT(\"'\"&$S207&\"'!R\"&$T207&\"C\"&COLUMN(),FALSE)","v":1},{"$f":"INDIRECT(\"'\"&$S207&\"'!R\"&$T207&\"C\"&COLUMN(),FALSE)","v":"AF"},{"$f":"INDIRECT(\"'\"&$S207&\"'!R\"&$T207&\"C\"&COLUMN(),FALSE)","v":"Avionics Harnesses"},{"$f":"INDIRECT(\"'\"&$S207&\"'!R\"&$T207&\"C\"&COLUMN(),FALSE)","v":0},{"$f":"INDIRECT(\"'\"&$S207&\"'!R\"&$T207&\"C\"&COLUMN(),FALSE)","v":1024},null,"167",203,"1024#AF","mil trainer",26]
[{"$f":"INDIRECT(\"'\"&$S208&\"'!R\"&$T208&\"C\"&COLUMN(),FALSE)","v":"36#709"},{"$f":"INDIRECT(\"'\"&$S208&\"'!R\"&$T208&\"C\"&COLUMN(),FALSE)","v":54797},{"$f":"INDIRECT(\"'\"&$S208&\"'!R\"&$T208&\"C\"&COLUMN(),FALSE)","v":30000},{"$f":"INDIRECT(\"'\"&$S208&\"'!R\"&$T208&\"C\"&COLUMN(),FALSE)","v":61285.127075621371},{"$f":"INDIRECT(\"'\"&$S208&\"'!R\"&$T208&\"C\"&COLUMN(),FALSE)","v":33552.088841882607},{"$f":"INDIRECT(\"'\"&$S208&\"'!R\"&$T208&\"C\"&COLUMN(),FALSE)","v":"PW Low"},{"$f":"INDIRECT(\"'\"&$S208&\"'!R\"&$T208&\"C\"&COLUMN(),FALSE)","v":63000},{"$f":"INDIRECT(\"'\"&$S208&\"'!R\"&$T208&\"C\"&COLUMN(),FALSE)","v":0.82656666666666667},{"$f":"INDIRECT(\"'\"&$S208&\"'!R\"&$T208&\"C\"&COLUMN(),FALSE)","v":"HWL"},{"$f":"INDIRECT(\"'\"&$S208&\"'!R\"&$T208&\"C\"&COLUMN(),FALSE)","v":2},{"$f":"INDIRECT(\"'\"&$S208&\"'!R\"&$T208&\"C\"&COLUMN(),FALSE)","v":"I"},{"$f":"INDIRECT(\"'\"&$S208&\"'!R\"&$T208&\"C\"&COLUMN(),FALSE)","v":"FMGC"},{"$f":"INDIRECT(\"'\"&$S208&\"'!R\"&$T208&\"C\"&COLUMN(),FALSE)","v":"Flight Management FMS 1 & 2 (FMS 3 optional"},{"$f":"INDIRECT(\"'\"&$S208&\"'!R\"&$T208&\"C\"&COLUMN(),FALSE)","v":54797},null,"36",204,"54797#I","bizjet",5]
[{"$f":"INDIRECT(\"'\"&$S209&\"'!R\"&$T209&\"C\"&COLUMN(),FALSE)","v":"36#710"},{"$f":"INDIRECT(\"'\"&$S209&\"'!R\"&$T209&\"C\"&COLUMN(),FALSE)","v":26094},{"$f":"INDIRECT(\"'\"&$S209&\"'!R\"&$T209&\"C\"&COLUMN(),FALSE)","v":25000},{"$f":"INDIRECT(\"'\"&$S209&\"'!R\"&$T209&\"C\"&COLUMN(),FALSE)","v":29183.606874669491},{"$f":"INDIRECT(\"'\"&$S209&\"'!R\"&$T209&\"C\"&COLUMN(),FALSE)","v":27960.074034902173},{"$f":"INDIRECT(\"'\"&$S209&\"'!R\"&$T209&\"C\"&COLUMN(),FALSE)","v":"Validated PW 2020"},{"$f":"INDIRECT(\"'\"&$S209&\"'!R\"&$T209&\"C\"&COLUMN(),FALSE)","v":30000},{"$f":"INDIRECT(\"'\"&$S209&\"'!R\"&$T209&\"C\"&COLUMN(),FALSE)","v":4.376E-2},{"$f":"INDIRECT(\"'\"&$S209&\"'!R\"&$T209&\"C\"&COLUMN(),FALSE)","v":"HWL"},{"$f":"INDIRECT(\"'\"&$S209&\"'!R\"&$T209&\"C\"&COLUMN(),FALSE)","v":2},{"$f":"INDIRECT(\"'\"&$S209&\"'!R\"&$T209&\"C\"&COLUMN(),FALSE)","v":"G"},{"$f":"INDIRECT(\"'\"&$S209&\"'!R\"&$T209&\"C\"&COLUMN(),FALSE)","v":"MCDU"},{"$f":"INDIRECT(\"'\"&$S209&\"'!R\"&$T209&\"C\"&COLUMN(),FALSE)","v":"MCDU inputs"},{"$f":"INDIRECT(\"'\"&$S209&\"'!R\"&$T209&\"C\"&COLUMN(),FALSE)","v":26094},null,"36",205,"26094#G","bizjet",6]
[{"$f":"INDIRECT(\"'\"&$S210&\"'!R\"&$T210&\"C\"&COLUMN(),FALSE)","v":"36#721"},{"$f":"INDIRECT(\"'\"&$S210&\"'!R\"&$T210&\"C\"&COLUMN(),FALSE)","v":26597},{"$f":"INDIRECT(\"'\"&$S210&\"'!R\"&$T210&\"C\"&COLUMN(),FALSE)","v":30000},{"$f":"INDIRECT(\"'\"&$S210&\"'!R\"&$T210&\"C\"&COLUMN(),FALSE)","v":29746.163564251721},{"$f":"INDIRECT(\"'\"&$S210&\"'!R\"&$T210&\"C\"&COLUMN(),FALSE)","v":33552.088841882607},{"$f":"INDIRECT(\"'\"&$S210&\"'!R\"&$T210&\"C\"&COLUMN(),FALSE)","v":"Validated PW 2020"},{"$f":"INDIRECT(\"'\"&$S210&\"'!R\"&$T210&\"C\"&COLUMN(),FALSE)","v":34000},{"$f":"INDIRECT(\"'\"&$S210&\"'!R\"&$T210&\"C\"&COLUMN(),FALSE)","v":-0.11343333333333333},{"$f":"INDIRECT(\"'\"&$S210&\"'!R\"&$T210&\"C\"&COLUMN(),FALSE)","v":"HWL"},{"$f":"INDIRECT(\"'\"&$S210&\"'!R\"&$T210&\"C\"&COLUMN(),FALSE)","v":3},{"$f":"INDIRECT(\"'\"&$S210&\"'!R\"&$T210&\"C\"&COLUMN(),FALSE)","v":"P1"},{"$f":"INDIRECT(\"'\"&$S210&\"'!R\"&$T210&\"C\"&COLUMN(),FALSE)","v":"Air Data Modules (ADM)"},{"$f":"INDIRECT(\"'\"&$S210&\"'!R\"&$T210&\"C\"&COLUMN(),FALSE)","v":"Air Data Computers"},{"$f":"INDIRECT(\"'\"&$S210&\"'!R\"&$T210&\"C\"&COLUMN(),FALSE)","v":26597},null,"36",206,"26597#P1","bizjet",7]
[{"$f":"INDIRECT(\"'\"&$S211&\"'!R\"&$T211&\"C\"&COLUMN(),FALSE)","v":"36#722"},{"$f":"INDIRECT(\"'\"&$S211&\"'!R\"&$T211&\"C\"&COLUMN(),FALSE)","v":10999},{"$f":"INDIRECT(\"'\"&$S211&\"'!R\"&$T211&\"C\"&COLUMN(),FALSE)","v":10000},{"$f":"INDIRECT(\"'\"&$S211&\"'!R\"&$T211&\"C\"&COLUMN(),FALSE)","v":12301.31417239556},{"$f":"INDIRECT(\"'\"&$S211&\"'!R\"&$T211&\"C\"&COLUMN(),FALSE)","v":11184.029613960869},{"$f":"INDIRECT(\"'\"&$S211&\"'!R\"&$T211&\"C\"&COLUMN(),FALSE)","v":"Validated PW 2020"},{"$f":"INDIRECT(\"'\"&$S211&\"'!R\"&$T211&\"C\"&COLUMN(),FALSE)","v":12000},{"$f":"INDIRECT(\"'\"&$S211&\"'!R\"&$T211&\"C\"&COLUMN(),FALSE)","v":9.9900000000000003E-2},{"$f":"INDIRECT(\"'\"&$S211&\"'!R\"&$T211&\"C\"&COLUMN(),FALSE)","v":"Collins ??"},{"$f":"INDIRECT(\"'\"&$S211&\"'!R\"&$T211&\"C\"&COLUMN(),FALSE)","v":4},{"$f":"INDIRECT(\"'\"&$S211&\"'!R\"&$T211&\"C\"&COLUMN(),FALSE)","v":"G1"},{"$f":"INDIRECT(\"'\"&$S211&\"'!R\"&$T211&\"C\"&COLUMN(),FALSE)","v":"Air data probes (pitot/static)"},{"$f":"INDIRECT(\"'\"&$S211&\"'!R\"&$T211&\"C\"&COLUMN(),FALSE)","v":"Pitot Static sensors"},{"$f":"INDIRECT(\"'\"&$S211&\"'!R\"&$T211&\"C\"&COLUMN(),FALSE)","v":10999},null,"36",207,"10999#G1","bizjet",8]
[{"$f":"INDIRECT(\"'\"&$S212&\"'!R\"&$T212&\"C\"&COLUMN(),FALSE)","v":"36#727"},{"$f":"INDIRECT(\"'\"&$S212&\"'!R\"&$T212&\"C\"&COLUMN(),FALSE)","v":35424},{"$f":"INDIRECT(\"'\"&$S212&\"'!R\"&$T212&\"C\"&COLUMN(),FALSE)","v":40000},{"$f":"INDIRECT(\"'\"&$S212&\"'!R\"&$T212&\"C\"&COLUMN(),FALSE)","v":39618.306504494984},{"$f":"INDIRECT(\"'\"&$S212&\"'!R\"&$T212&\"C\"&COLUMN(),FALSE)","v":44736.118455843476},{"$f":"INDIRECT(\"'\"&$S212&\"'!R\"&$T212&\"C\"&COLUMN(),FALSE)","v":"Validated PW 2020"},{"$f":"INDIRECT(\"'\"&$S212&\"'!R\"&$T212&\"C\"&COLUMN(),FALSE)","v":45000},{"$f":"INDIRECT(\"'\"&$S212&\"'!R\"&$T212&\"C\"&COLUMN(),FALSE)","v":-0.1144},{"$f":"INDIRECT(\"'\"&$S212&\"'!R\"&$T212&\"C\"&COLUMN(),FALSE)","v":"HWL"},{"$f":"INDIRECT(\"'\"&$S212&\"'!R\"&$T212&\"C\"&COLUMN(),FALSE)","v":1},{"$f":"INDIRECT(\"'\"&$S212&\"'!R\"&$T212&\"C\"&COLUMN(),FALSE)","v":"F"},{"$f":"INDIRECT(\"'\"&$S212&\"'!R\"&$T212&\"C\"&COLUMN(),FALSE)","v":"Navigation display (EFIS)"},{"$f":"INDIRECT(\"'\"&$S212&\"'!R\"&$T212&\"C\"&COLUMN(),FALSE)","v":"Display units"},{"$f":"INDIRECT(\"'\"&$S212&\"'!R\"&$T212&\"C\"&COLUMN(),FALSE)","v":35424},null,"36",208,"35424#F","bizjet",9]
[{"$f":"INDIRECT(\"'\"&$S213&\"'!R\"&$T213&\"C\"&COLUMN(),FALSE)","v":"36#747"},{"$f":"INDIRECT(\"'\"&$S213&\"'!R\"&$T213&\"C\"&COLUMN(),FALSE)","v":0},{"$f":"INDIRECT(\"'\"&$S213&\"'!R\"&$T213&\"C\"&COLUMN(),FALSE)","v":20000},{"$f":"INDIRECT(\"'\"&$S213&\"'!R\"&$T213&\"C\"&COLUMN(),FALSE)","v":0},{"$f":"INDIRECT(\"'\"&$S213&\"'!R\"&$T213&\"C\"&COLUMN(),FALSE)","v":22368.059227921738},{"$f":"INDIRECT(\"'\"&$S213&\"'!R\"&$T213&\"C\"&COLUMN(),FALSE)","v":"Validated PW 2020"},{"$f":"INDIRECT(\"'\"&$S213&\"'!R\"&$T213&\"C\"&COLUMN(),FALSE)","v":23000},{"$f":"INDIRECT(\"'\"&$S213&\"'!R\"&$T213&\"C\"&COLUMN(),FALSE)","v":-1},{"$f":"INDIRECT(\"'\"&$S213&\"'!R\"&$T213&\"C\"&COLUMN(),FALSE)","v":"HWL"},{"$f":"INDIRECT(\"'\"&$S213&\"'!R\"&$T213&\"C\"&COLUMN(),FALSE)","v":1},{"$f":"INDIRECT(\"'\"&$S213&\"'!R\"&$T213&\"C\"&COLUMN(),FALSE)","v":"A"},{"$f":"INDIRECT(\"'\"&$S213&\"'!R\"&$T213&\"C\"&COLUMN(),FALSE)","v":"WX control panel"},{"$f":"INDIRECT(\"'\"&$S213&\"'!R\"&$T213&\"C\"&COLUMN(),FALSE)","v":"WX Radar Controller "},{"$f":"INDIRECT(\"'\"&$S213&\"'!R\"&$T213&\"C\"&COLUMN(),FALSE)","v":0},null,"36",209,"0#A","bizjet",10]
[{"$f":"INDIRECT(\"'\"&$S214&\"'!R\"&$T214&\"C\"&COLUMN(),FALSE)","v":"36#750"},{"$f":"INDIRECT(\"'\"&$S214&\"'!R\"&$T214&\"C\"&COLUMN(),FALSE)","v":0},{"$f":"INDIRECT(\"'\"&$S214&\"'!R\"&$T214&\"C\"&COLUMN(),FALSE)","v":{"$error":"#N/A"}},{"$f":"INDIRECT(\"'\"&$S214&\"'!R\"&$T214&\"C\"&COLUMN(),FALSE)","v":0},{"$f":"INDIRECT(\"'\"&$S214&\"'!R\"&$T214&\"C\"&COLUMN(),FALSE)","v":{"$error":"#N/A"}},{"$f":"INDIRECT(\"'\"&$S214&\"'!R\"&$T214&\"C\"&COLUMN(),FALSE)","v":0},{"$f":"INDIRECT(\"'\"&$S214&\"'!R\"&$T214&\"C\"&COLUMN(),FALSE)","v":0},{"$f":"INDIRECT(\"'\"&$S214&\"'!R\"&$T214&\"C\"&COLUMN(),FALSE)","v":{"$error":"#N/A"}},{"$f":"INDIRECT(\"'\"&$S214&\"'!R\"&$T214&\"C\"&COLUMN(),FALSE)","v":{"$error":"#N/A"}},{"$f":"INDIRECT(\"'\"&$S214&\"'!R\"&$T214&\"C\"&COLUMN(),FALSE)","v":1},{"$f":"INDIRECT(\"'\"&$S214&\"'!R\"&$T214&\"C\"&COLUMN(),FALSE)","v":"A"},{"$f":"INDIRECT(\"'\"&$S214&\"'!R\"&$T214&\"C\"&COLUMN(),FALSE)","v":"TCAS antennas"},{"$f":"INDIRECT(\"'\"&$S214&\"'!R\"&$T214&\"C\"&COLUMN(),FALSE)","v":0},{"$f":"INDIRECT(\"'\"&$S214&\"'!R\"&$T214&\"C\"&COLUMN(),FALSE)","v":0},null,"36",210,"0#A","bizjet",11]
[{"$f":"INDIRECT(\"'\"&$S215&\"'!R\"&$T215&\"C\"&COLUMN(),FALSE)","v":"36#752"},{"$f":"INDIRECT(\"'\"&$S215&\"'!R\"&$T215&\"C\"&COLUMN(),FALSE)","v":14677},{"$f":"INDIRECT(\"'\"&$S215&\"'!R\"&$T215&\"C\"&COLUMN(),FALSE)","v":15000},{"$f":"INDIRECT(\"'\"&$S215&\"'!R\"&$T215&\"C\"&COLUMN(),FALSE)","v":16414.800264410365},{"$f":"INDIRECT(\"'\"&$S215&\"'!R\"&$T215&\"C\"&COLUMN(),FALSE)","v":16776.044420941304},{"$f":"INDIRECT(\"'\"&$S215&\"'!R\"&$T215&\"C\"&COLUMN(),FALSE)","v":"Validated PW 2020"},{"$f":"INDIRECT(\"'\"&$S215&\"'!R\"&$T215&\"C\"&COLUMN(),FALSE)","v":17000},{"$f":"INDIRECT(\"'\"&$S215&\"'!R\"&$T215&\"C\"&COLUMN(),FALSE)","v":-2.1533333333333335E-2},{"$f":"INDIRECT(\"'\"&$S215&\"'!R\"&$T215&\"C\"&COLUMN(),FALSE)","v":"???"},{"$f":"INDIRECT(\"'\"&$S215&\"'!R\"&$T215&\"C\"&COLUMN(),FALSE)","v":1},{"$f":"INDIRECT(\"'\"&$S215&\"'!R\"&$T215&\"C\"&COLUMN(),FALSE)","v":"E"},{"$f":"INDIRECT(\"'\"&$S215&\"'!R\"&$T215&\"C\"&COLUMN(),FALSE)","v":"Cockpit Voice Recorder"},{"$f":"INDIRECT(\"'\"&$S215&\"'!R\"&$T215&\"C\"&COLUMN(),FALSE)","v":"Cockpit Data Recorder"},{"$f":"INDIRECT(\"'\"&$S215&\"'!R\"&$T215&\"C\"&COLUMN(),FALSE)","v":14677},null,"36",211,"14677#E","bizjet",12]
[{"$f":"INDIRECT(\"'\"&$S216&\"'!R\"&$T216&\"C\"&COLUMN(),FALSE)","v":"36#754"},{"$f":"INDIRECT(\"'\"&$S216&\"'!R\"&$T216&\"C\"&COLUMN(),FALSE)","v":17261},{"$f":"INDIRECT(\"'\"&$S216&\"'!R\"&$T216&\"C\"&COLUMN(),FALSE)","v":15000},{"$f":"INDIRECT(\"'\"&$S216&\"'!R\"&$T216&\"C\"&COLUMN(),FALSE)","v":19304.753516657856},{"$f":"INDIRECT(\"'\"&$S216&\"'!R\"&$T216&\"C\"&COLUMN(),FALSE)","v":16776.044420941304},{"$f":"INDIRECT(\"'\"&$S216&\"'!R\"&$T216&\"C\"&COLUMN(),FALSE)","v":"PW Low"},{"$f":"INDIRECT(\"'\"&$S216&\"'!R\"&$T216&\"C\"&COLUMN(),FALSE)","v":20000},{"$f":"INDIRECT(\"'\"&$S216&\"'!R\"&$T216&\"C\"&COLUMN(),FALSE)","v":0.15073333333333333},{"$f":"INDIRECT(\"'\"&$S216&\"'!R\"&$T216&\"C\"&COLUMN(),FALSE)","v":"???"},{"$f":"INDIRECT(\"'\"&$S216&\"'!R\"&$T216&\"C\"&COLUMN(),FALSE)","v":1},{"$f":"INDIRECT(\"'\"&$S216&\"'!R\"&$T216&\"C\"&COLUMN(),FALSE)","v":"G"},{"$f":"INDIRECT(\"'\"&$S216&\"'!R\"&$T216&\"C\"&COLUMN(),FALSE)","v":"Flight Data Recorder"},{"$f":"INDIRECT(\"'\"&$S216&\"'!R\"&$T216&\"C\"&COLUMN(),FALSE)","v":0},{"$f":"INDIRECT(\"'\"&$S216&\"'!R\"&$T216&\"C\"&COLUMN(),FALSE)","v":17261},null,"36",212,"17261#G","bizjet",13]
[{"$f":"INDIRECT(\"'\"&$S217&\"'!R\"&$T217&\"C\"&COLUMN(),FALSE)","v":"36#764"},{"$f":"INDIRECT(\"'\"&$S217&\"'!R\"&$T217&\"C\"&COLUMN(),FALSE)","v":17731},{"$f":"INDIRECT(\"'\"&$S217&\"'!R\"&$T217&\"C\"&COLUMN(),FALSE)","v":20000},{"$f":"INDIRECT(\"'\"&$S217&\"'!R\"&$T217&\"C\"&COLUMN(),FALSE)","v":19830.402908514017},{"$f":"INDIRECT(\"'\"&$S217&\"'!R\"&$T217&\"C\"&COLUMN(),FALSE)","v":22368.059227921738},{"$f":"INDIRECT(\"'\"&$S217&\"'!R\"&$T217&\"C\"&COLUMN(),FALSE)","v":"Validated PW 2020"},{"$f":"INDIRECT(\"'\"&$S217&\"'!R\"&$T217&\"C\"&COLUMN(),FALSE)","v":23000},{"$f":"INDIRECT(\"'\"&$S217&\"'!R\"&$T217&\"C\"&COLUMN(),FALSE)","v":-0.11345},{"$f":"INDIRECT(\"'\"&$S217&\"'!R\"&$T217&\"C\"&COLUMN(),FALSE)","v":"????"},{"$f":"INDIRECT(\"'\"&$S217&\"'!R\"&$T217&\"C\"&COLUMN(),FALSE)","v":1},{"$f":"INDIRECT(\"'\"&$S217&\"'!R\"&$T217&\"C\"&COLUMN(),FALSE)","v":"H1"},{"$f":"INDIRECT(\"'\"&$S217&\"'!R\"&$T217&\"C\"&COLUMN(),FALSE)","v":"Radar altimeters"},{"$f":"INDIRECT(\"'\"&$S217&\"'!R\"&$T217&\"C\"&COLUMN(),FALSE)","v":"Radio Altimeter System"},{"$f":"INDIRECT(\"'\"&$S217&\"'!R\"&$T217&\"C\"&COLUMN(),FALSE)","v":17731},null,"36",213,"17731#H1","bizjet",14]
[{"$f":"INDIRECT(\"'\"&$S218&\"'!R\"&$T218&\"C\"&COLUMN(),FALSE)","v":"36#765"},{"$f":"INDIRECT(\"'\"&$S218&\"'!R\"&$T218&\"C\"&COLUMN(),FALSE)","v":10121},{"$f":"INDIRECT(\"'\"&$S218&\"'!R\"&$T218&\"C\"&COLUMN(),FALSE)","v":40000},{"$f":"INDIRECT(\"'\"&$S218&\"'!R\"&$T218&\"C\"&COLUMN(),FALSE)","v":11319.356372289794},{"$f":"INDIRECT(\"'\"&$S218&\"'!R\"&$T218&\"C\"&COLUMN(),FALSE)","v":44736.118455843476},{"$f":"INDIRECT(\"'\"&$S218&\"'!R\"&$T218&\"C\"&COLUMN(),FALSE)","v":"Validated PW 2020"},{"$f":"INDIRECT(\"'\"&$S218&\"'!R\"&$T218&\"C\"&COLUMN(),FALSE)","v":45000},{"$f":"INDIRECT(\"'\"&$S218&\"'!R\"&$T218&\"C\"&COLUMN(),FALSE)","v":-0.74697499999999994},{"$f":"INDIRECT(\"'\"&$S218&\"'!R\"&$T218&\"C\"&COLUMN(),FALSE)","v":"HWL"},{"$f":"INDIRECT(\"'\"&$S218&\"'!R\"&$T218&\"C\"&COLUMN(),FALSE)","v":2},{"$f":"INDIRECT(\"'\"&$S218&\"'!R\"&$T218&\"C\"&COLUMN(),FALSE)","v":"F"},{"$f":"INDIRECT(\"'\"&$S218&\"'!R\"&$T218&\"C\"&COLUMN(),FALSE)","v":"Multi Function Display"},{"$f":"INDIRECT(\"'\"&$S218&\"'!R\"&$T218&\"C\"&COLUMN(),FALSE)","v":"Display units"},{"$f":"INDIRECT(\"'\"&$S218&\"'!R\"&$T218&\"C\"&COLUMN(),FALSE)","v":10121},null,"36",214,"10121#F","bizjet",15]
[{"$f":"INDIRECT(\"'\"&$S219&\"'!R\"&$T219&\"C\"&COLUMN(),FALSE)","v":"36#771"},{"$f":"INDIRECT(\"'\"&$S219&\"'!R\"&$T219&\"C\"&COLUMN(),FALSE)","v":34520},{"$f":"INDIRECT(\"'\"&$S219&\"'!R\"&$T219&\"C\"&COLUMN(),FALSE)","v":{"$error":"#N/A"}},{"$f":"INDIRECT(\"'\"&$S219&\"'!R\"&$T219&\"C\"&COLUMN(),FALSE)","v":38607.270227392917},{"$f":"INDIRECT(\"'\"&$S219&\"'!R\"&$T219&\"C\"&COLUMN(),FALSE)","v":{"$error":"#N/A"}},{"$f":"INDIRECT(\"'\"&$S219&\"'!R\"&$T219&\"C\"&COLUMN(),FALSE)","v":0},{"$f":"INDIRECT(\"'\"&$S219&\"'!R\"&$T219&\"C\"&COLUMN(),FALSE)","v":0},{"$f":"INDIRECT(\"'\"&$S219&\"'!R\"&$T219&\"C\"&COLUMN(),FALSE)","v":{"$error":"#N/A"}},{"$f":"INDIRECT(\"'\"&$S219&\"'!R\"&$T219&\"C\"&COLUMN(),FALSE)","v":{"$error":"#N/A"}},{"$f":"INDIRECT(\"'\"&$S219&\"'!R\"&$T219&\"C\"&COLUMN(),FALSE)","v":4},{"$f":"INDIRECT(\"'\"&$S219&\"'!R\"&$T219&\"C\"&COLUMN(),FALSE)","v":"E"},{"$f":"INDIRECT(\"'\"&$S219&\"'!R\"&$T219&\"C\"&COLUMN(),FALSE)","v":"Data Management Unit"},{"$f":"INDIRECT(\"'\"&$S219&\"'!R\"&$T219&\"C\"&COLUMN(),FALSE)","v":0},{"$f":"INDIRECT(\"'\"&$S219&\"'!R\"&$T219&\"C\"&COLUMN(),FALSE)","v":34520},null,"36",215,"34520#E","bizjet",16]
[{"$f":"INDIRECT(\"'\"&$S220&\"'!R\"&$T220&\"C\"&COLUMN(),FALSE)","v":"36#773"},{"$f":"INDIRECT(\"'\"&$S220&\"'!R\"&$T220&\"C\"&COLUMN(),FALSE)","v":72906},{"$f":"INDIRECT(\"'\"&$S220&\"'!R\"&$T220&\"C\"&COLUMN(),FALSE)","v":40000},{"$f":"INDIRECT(\"'\"&$S220&\"'!R\"&$T220&\"C\"&COLUMN(),FALSE)","v":81538.286303543107},{"$f":"INDIRECT(\"'\"&$S220&\"'!R\"&$T220&\"C\"&COLUMN(),FALSE)","v":44736.118455843476},{"$f":"INDIRECT(\"'\"&$S220&\"'!R\"&$T220&\"C\"&COLUMN(),FALSE)","v":"PW Low"},{"$f":"INDIRECT(\"'\"&$S220&\"'!R\"&$T220&\"C\"&COLUMN(),FALSE)","v":82000},{"$f":"INDIRECT(\"'\"&$S220&\"'!R\"&$T220&\"C\"&COLUMN(),FALSE)","v":0.82264999999999999},{"$f":"INDIRECT(\"'\"&$S220&\"'!R\"&$T220&\"C\"&COLUMN(),FALSE)","v":"HWL"},{"$f":"INDIRECT(\"'\"&$S220&\"'!R\"&$T220&\"C\"&COLUMN(),FALSE)","v":2},{"$f":"INDIRECT(\"'\"&$S220&\"'!R\"&$T220&\"C\"&COLUMN(),FALSE)","v":"C"},{"$f":"INDIRECT(\"'\"&$S220&\"'!R\"&$T220&\"C\"&COLUMN(),FALSE)","v":"Common Core processing"},{"$f":"INDIRECT(\"'\"&$S220&\"'!R\"&$T220&\"C\"&COLUMN(),FALSE)","v":"Integrated Avionics computers (IACs)"},{"$f":"INDIRECT(\"'\"&$S220&\"'!R\"&$T220&\"C\"&COLUMN(),FALSE)","v":72906},null,"36",216,"72906#C","bizjet",17]
[{"$f":"INDIRECT(\"'\"&$S221&\"'!R\"&$T221&\"C\"&COLUMN(),FALSE)","v":"36#775"},{"$f":"INDIRECT(\"'\"&$S221&\"'!R\"&$T221&\"C\"&COLUMN(),FALSE)","v":41660},{"$f":"INDIRECT(\"'\"&$S221&\"'!R\"&$T221&\"C\"&COLUMN(),FALSE)","v":{"$error":"#N/A"}},{"$f":"INDIRECT(\"'\"&$S221&\"'!R\"&$T221&\"C\"&COLUMN(),FALSE)","v":46592.667371760981},{"$f":"INDIRECT(\"'\"&$S221&\"'!R\"&$T221&\"C\"&COLUMN(),FALSE)","v":{"$error":"#N/A"}},{"$f":"INDIRECT(\"'\"&$S221&\"'!R\"&$T221&\"C\"&COLUMN(),FALSE)","v":0},{"$f":"INDIRECT(\"'\"&$S221&\"'!R\"&$T221&\"C\"&COLUMN(),FALSE)","v":0},{"$f":"INDIRECT(\"'\"&$S221&\"'!R\"&$T221&\"C\"&COLUMN(),FALSE)","v":{"$error":"#N/A"}},{"$f":"INDIRECT(\"'\"&$S221&\"'!R\"&$T221&\"C\"&COLUMN(),FALSE)","v":{"$error":"#N/A"}},{"$f":"INDIRECT(\"'\"&$S221&\"'!R\"&$T221&\"C\"&COLUMN(),FALSE)","v":1},{"$f":"INDIRECT(\"'\"&$S221&\"'!R\"&$T221&\"C\"&COLUMN(),FALSE)","v":"C"},{"$f":"INDIRECT(\"'\"&$S221&\"'!R\"&$T221&\"C\"&COLUMN(),FALSE)","v":"Common Data Network"},{"$f":"INDIRECT(\"'\"&$S221&\"'!R\"&$T221&\"C\"&COLUMN(),FALSE)","v":0},{"$f":"INDIRECT(\"'\"&$S221&\"'!R\"&$T221&\"C\"&COLUMN(),FALSE)","v":41660},null,"36",217,"41660#C","bizjet",18]
[{"$f":"INDIRECT(\"'\"&$S222&\"'!R\"&$T222&\"C\"&COLUMN(),FALSE)","v":"36#804"},{"$f":"INDIRECT(\"'\"&$S222&\"'!R\"&$T222&\"C\"&COLUMN(),FALSE)","v":8965},{"$f":"INDIRECT(\"'\"&$S222&\"'!R\"&$T222&\"C\"&COLUMN(),FALSE)","v":30000},{"$f":"INDIRECT(\"'\"&$S222&\"'!R\"&$T222&\"C\"&COLUMN(),FALSE)","v":10026.482548915919},{"$f":"INDIRECT(\"'\"&$S222&\"'!R\"&$T222&\"C\"&COLUMN(),FALSE)","v":33552.088841882607},{"$f":"INDIRECT(\"'\"&$S222&\"'!R\"&$T222&\"C\"&COLUMN(),FALSE)","v":"Validated PW 2020"},{"$f":"INDIRECT(\"'\"&$S222&\"'!R\"&$T222&\"C\"&COLUMN(),FALSE)","v":34000},{"$f":"INDIRECT(\"'\"&$S222&\"'!R\"&$T222&\"C\"&COLUMN(),FALSE)","v":-0.70116666666666672},{"$f":"INDIRECT(\"'\"&$S222&\"'!R\"&$T222&\"C\"&COLUMN(),FALSE)","v":"HWL"},{"$f":"INDIRECT(\"'\"&$S222&\"'!R\"&$T222&\"C\"&COLUMN(),FALSE)","v":1},{"$f":"INDIRECT(\"'\"&$S222&\"'!R\"&$T222&\"C\"&COLUMN(),FALSE)","v":"E"},{"$f":"INDIRECT(\"'\"&$S222&\"'!R\"&$T222&\"C\"&COLUMN(),FALSE)","v":"Flight Guidance System (A/Pilot)"},{"$f":"INDIRECT(\"'\"&$S222&\"'!R\"&$T222&\"C\"&COLUMN(),FALSE)","v":"Auto pilot system"},{"$f":"INDIRECT(\"'\"&$S222&\"'!R\"&$T222&\"C\"&COLUMN(),FALSE)","v":8965},null,"36",218,"8965#E","bizjet",19]
[{"$f":"INDIRECT(\"'\"&$S223&\"'!R\"&$T223&\"C\"&COLUMN(),FALSE)","v":"36#806"},{"$f":"INDIRECT(\"'\"&$S223&\"'!R\"&$T223&\"C\"&COLUMN(),FALSE)","v":24461},{"$f":"INDIRECT(\"'\"&$S223&\"'!R\"&$T223&\"C\"&COLUMN(),FALSE)","v":25000},{"$f":"INDIRECT(\"'\"&$S223&\"'!R\"&$T223&\"C\"&COLUMN(),FALSE)","v":27357.254838709679},{"$f":"INDIRECT(\"'\"&$S223&\"'!R\"&$T223&\"C\"&COLUMN(),FALSE)","v":27960.074034902173},{"$f":"INDIRECT(\"'\"&$S223&\"'!R\"&$T223&\"C\"&COLUMN(),FALSE)","v":"Validated PW 2020"},{"$f":"INDIRECT(\"'\"&$S223&\"'!R\"&$T223&\"C\"&COLUMN(),FALSE)","v":28000},{"$f":"INDIRECT(\"'\"&$S223&\"'!R\"&$T223&\"C\"&COLUMN(),FALSE)","v":-2.1559999999999999E-2},{"$f":"INDIRECT(\"'\"&$S223&\"'!R\"&$T223&\"C\"&COLUMN(),FALSE)","v":"???"},{"$f":"INDIRECT(\"'\"&$S223&\"'!R\"&$T223&\"C\"&COLUMN(),FALSE)","v":3},{"$f":"INDIRECT(\"'\"&$S223&\"'!R\"&$T223&\"C\"&COLUMN(),FALSE)","v":"F"},{"$f":"INDIRECT(\"'\"&$S223&\"'!R\"&$T223&\"C\"&COLUMN(),FALSE)","v":"Radio Antennas"},{"$f":"INDIRECT(\"'\"&$S223&\"'!R\"&$T223&\"C\"&COLUMN(),FALSE)","v":"Radio antenna, amplifier, sat data"},{"$f":"INDIRECT(\"'\"&$S223&\"'!R\"&$T223&\"C\"&COLUMN(),FALSE)","v":24461},null,"36",219,"24461#F","bizjet",20]
[{"$f":"INDIRECT(\"'\"&$S224&\"'!R\"&$T224&\"C\"&COLUMN(),FALSE)","v":"36#811"},{"$f":"INDIRECT(\"'\"&$S224&\"'!R\"&$T224&\"C\"&COLUMN(),FALSE)","v":40485},{"$f":"INDIRECT(\"'\"&$S224&\"'!R\"&$T224&\"C\"&COLUMN(),FALSE)","v":40000},{"$f":"INDIRECT(\"'\"&$S224&\"'!R\"&$T224&\"C\"&COLUMN(),FALSE)","v":45278.543892120579},{"$f":"INDIRECT(\"'\"&$S224&\"'!R\"&$T224&\"C\"&COLUMN(),FALSE)","v":44736.118455843476},{"$f":"INDIRECT(\"'\"&$S224&\"'!R\"&$T224&\"C\"&COLUMN(),FALSE)","v":"Validated PW 2020"},{"$f":"INDIRECT(\"'\"&$S224&\"'!R\"&$T224&\"C\"&COLUMN(),FALSE)","v":45000},{"$f":"INDIRECT(\"'\"&$S224&\"'!R\"&$T224&\"C\"&COLUMN(),FALSE)","v":1.2125E-2},{"$f":"INDIRECT(\"'\"&$S224&\"'!R\"&$T224&\"C\"&COLUMN(),FALSE)","v":"HWL"},{"$f":"INDIRECT(\"'\"&$S224&\"'!R\"&$T224&\"C\"&COLUMN(),FALSE)","v":6},{"$f":"INDIRECT(\"'\"&$S224&\"'!R\"&$T224&\"C\"&COLUMN(),FALSE)","v":"E"},{"$f":"INDIRECT(\"'\"&$S224&\"'!R\"&$T224&\"C\"&COLUMN(),FALSE)","v":"Main displays"},{"$f":"INDIRECT(\"'\"&$S224&\"'!R\"&$T224&\"C\"&COLUMN(),FALSE)","v":"Display units"},{"$f":"INDIRECT(\"'\"&$S224&\"'!R\"&$T224&\"C\"&COLUMN(),FALSE)","v":40485},null,"36",220,"40485#E","bizjet",21]
[{"$f":"INDIRECT(\"'\"&$S225&\"'!R\"&$T225&\"C\"&COLUMN(),FALSE)","v":"36#822"},{"$f":"INDIRECT(\"'\"&$S225&\"'!R\"&$T225&\"C\"&COLUMN(),FALSE)","v":93736},{"$f":"INDIRECT(\"'\"&$S225&\"'!R\"&$T225&\"C\"&COLUMN(),FALSE)","v":40000},{"$f":"INDIRECT(\"'\"&$S225&\"'!R\"&$T225&\"C\"&COLUMN(),FALSE)","v":104834.61998942359},{"$f":"INDIRECT(\"'\"&$S225&\"'!R\"&$T225&\"C\"&COLUMN(),FALSE)","v":44736.118455843476},{"$f":"INDIRECT(\"'\"&$S225&\"'!R\"&$T225&\"C\"&COLUMN(),FALSE)","v":"PW Low"},{"$f":"INDIRECT(\"'\"&$S225&\"'!R\"&$T225&\"C\"&COLUMN(),FALSE)","v":105000},{"$f":"INDIRECT(\"'\"&$S225&\"'!R\"&$T225&\"C\"&COLUMN(),FALSE)","v":1.3433999999999999},{"$f":"INDIRECT(\"'\"&$S225&\"'!R\"&$T225&\"C\"&COLUMN(),FALSE)","v":"HWL"},{"$f":"INDIRECT(\"'\"&$S225&\"'!R\"&$T225&\"C\"&COLUMN(),FALSE)","v":3},{"$f":"INDIRECT(\"'\"&$S225&\"'!R\"&$T225&\"C\"&COLUMN(),FALSE)","v":"E"},{"$f":"INDIRECT(\"'\"&$S225&\"'!R\"&$T225&\"C\"&COLUMN(),FALSE)","v":"Integrated Avionics computers (IACs)"},{"$f":"INDIRECT(\"'\"&$S225&\"'!R\"&$T225&\"C\"&COLUMN(),FALSE)","v":0},{"$f":"INDIRECT(\"'\"&$S225&\"'!R\"&$T225&\"C\"&COLUMN(),FALSE)","v":93736},null,"36",221,"93736#E","bizjet",22]
[{"$f":"INDIRECT(\"'\"&$S226&\"'!R\"&$T226&\"C\"&COLUMN(),FALSE)","v":"36#823"},{"$f":"INDIRECT(\"'\"&$S226&\"'!R\"&$T226&\"C\"&COLUMN(),FALSE)","v":25303},{"$f":"INDIRECT(\"'\"&$S226&\"'!R\"&$T226&\"C\"&COLUMN(),FALSE)","v":25000},{"$f":"INDIRECT(\"'\"&$S226&\"'!R\"&$T226&\"C\"&COLUMN(),FALSE)","v":28298.950132205187},{"$f":"INDIRECT(\"'\"&$S226&\"'!R\"&$T226&\"C\"&COLUMN(),FALSE)","v":27960.074034902173},{"$f":"INDIRECT(\"'\"&$S226&\"'!R\"&$T226&\"C\"&COLUMN(),FALSE)","v":"Validated PW 2020"},{"$f":"INDIRECT(\"'\"&$S226&\"'!R\"&$T226&\"C\"&COLUMN(),FALSE)","v":28000},{"$f":"INDIRECT(\"'\"&$S226&\"'!R\"&$T226&\"C\"&COLUMN(),FALSE)","v":1.2120000000000001E-2},{"$f":"INDIRECT(\"'\"&$S226&\"'!R\"&$T226&\"C\"&COLUMN(),FALSE)","v":"Collins"},{"$f":"INDIRECT(\"'\"&$S226&\"'!R\"&$T226&\"C\"&COLUMN(),FALSE)","v":1},{"$f":"INDIRECT(\"'\"&$S226&\"'!R\"&$T226&\"C\"&COLUMN(),FALSE)","v":"E"},{"$f":"INDIRECT(\"'\"&$S226&\"'!R\"&$T226&\"C\"&COLUMN(),FALSE)","v":"Standby display unit"},{"$f":"INDIRECT(\"'\"&$S226&\"'!R\"&$T226&\"C\"&COLUMN(),FALSE)","v":0},{"$f":"INDIRECT(\"'\"&$S226&\"'!R\"&$T226&\"C\"&COLUMN(),FALSE)","v":25303},null,"36",222,"25303#E","bizjet",23]
[{"$f":"INDIRECT(\"'\"&$S227&\"'!R\"&$T227&\"C\"&COLUMN(),FALSE)","v":"36#824"},{"$f":"INDIRECT(\"'\"&$S227&\"'!R\"&$T227&\"C\"&COLUMN(),FALSE)","v":8097},{"$f":"INDIRECT(\"'\"&$S227&\"'!R\"&$T227&\"C\"&COLUMN(),FALSE)","v":8000},{"$f":"INDIRECT(\"'\"&$S227&\"'!R\"&$T227&\"C\"&COLUMN(),FALSE)","v":9055.7087784241157},{"$f":"INDIRECT(\"'\"&$S227&\"'!R\"&$T227&\"C\"&COLUMN(),FALSE)","v":8947.2236911686941},{"$f":"INDIRECT(\"'\"&$S227&\"'!R\"&$T227&\"C\"&COLUMN(),FALSE)","v":"Validated PW 2020"},{"$f":"INDIRECT(\"'\"&$S227&\"'!R\"&$T227&\"C\"&COLUMN(),FALSE)","v":9000},{"$f":"INDIRECT(\"'\"&$S227&\"'!R\"&$T227&\"C\"&COLUMN(),FALSE)","v":1.2125E-2},{"$f":"INDIRECT(\"'\"&$S227&\"'!R\"&$T227&\"C\"&COLUMN(),FALSE)","v":"???"},{"$f":"INDIRECT(\"'\"&$S227&\"'!R\"&$T227&\"C\"&COLUMN(),FALSE)","v":2},{"$f":"INDIRECT(\"'\"&$S227&\"'!R\"&$T227&\"C\"&COLUMN(),FALSE)","v":"E"},{"$f":"INDIRECT(\"'\"&$S227&\"'!R\"&$T227&\"C\"&COLUMN(),FALSE)","v":"PFD Control panels"},{"$f":"INDIRECT(\"'\"&$S227&\"'!R\"&$T227&\"C\"&COLUMN(),FALSE)","v":0},{"$f":"INDIRECT(\"'\"&$S227&\"'!R\"&$T227&\"C\"&COLUMN(),FALSE)","v":8097},null,"36",223,"8097#E","bizjet",24]
[{"$f":"INDIRECT(\"'\"&$S228&\"'!R\"&$T228&\"C\"&COLUMN(),FALSE)","v":"36#825"},{"$f":"INDIRECT(\"'\"&$S228&\"'!R\"&$T228&\"C\"&COLUMN(),FALSE)","v":37353},{"$f":"INDIRECT(\"'\"&$S228&\"'!R\"&$T228&\"C\"&COLUMN(),FALSE)","v":30000},{"$f":"INDIRECT(\"'\"&$S228&\"'!R\"&$T228&\"C\"&COLUMN(),FALSE)","v":41775.705817028029},{"$f":"INDIRECT(\"'\"&$S228&\"'!R\"&$T228&\"C\"&COLUMN(),FALSE)","v":33552.088841882607},{"$f":"INDIRECT(\"'\"&$S228&\"'!R\"&$T228&\"C\"&COLUMN(),FALSE)","v":"PW Low"},{"$f":"INDIRECT(\"'\"&$S228&\"'!R\"&$T228&\"C\"&COLUMN(),FALSE)","v":42000},{"$f":"INDIRECT(\"'\"&$S228&\"'!R\"&$T228&\"C\"&COLUMN(),FALSE)","v":0.24510000000000001},{"$f":"INDIRECT(\"'\"&$S228&\"'!R\"&$T228&\"C\"&COLUMN(),FALSE)","v":"HWL"},{"$f":"INDIRECT(\"'\"&$S228&\"'!R\"&$T228&\"C\"&COLUMN(),FALSE)","v":1},{"$f":"INDIRECT(\"'\"&$S228&\"'!R\"&$T228&\"C\"&COLUMN(),FALSE)","v":"F"},{"$f":"INDIRECT(\"'\"&$S228&\"'!R\"&$T228&\"C\"&COLUMN(),FALSE)","v":"Auto pilot system"},{"$f":"INDIRECT(\"'\"&$S228&\"'!R\"&$T228&\"C\"&COLUMN(),FALSE)","v":0},{"$f":"INDIRECT(\"'\"&$S228&\"'!R\"&$T228&\"C\"&COLUMN(),FALSE)","v":37353},null,"36",224,"37353#F","bizjet",25]
[{"$f":"INDIRECT(\"'\"&$S229&\"'!R\"&$T229&\"C\"&COLUMN(),FALSE)","v":"36#826"},{"$f":"INDIRECT(\"'\"&$S229&\"'!R\"&$T229&\"C\"&COLUMN(),FALSE)","v":35461},{"$f":"INDIRECT(\"'\"&$S229&\"'!R\"&$T229&\"C\"&COLUMN(),FALSE)","v":45000},{"$f":"INDIRECT(\"'\"&$S229&\"'!R\"&$T229&\"C\"&COLUMN(),FALSE)","v":39659.687414066633},{"$f":"INDIRECT(\"'\"&$S229&\"'!R\"&$T229&\"C\"&COLUMN(),FALSE)","v":50328.133262823911},{"$f":"INDIRECT(\"'\"&$S229&\"'!R\"&$T229&\"C\"&COLUMN(),FALSE)","v":"Validated PW 2020"},{"$f":"INDIRECT(\"'\"&$S229&\"'!R\"&$T229&\"C\"&COLUMN(),FALSE)","v":51000},{"$f":"INDIRECT(\"'\"&$S229&\"'!R\"&$T229&\"C\"&COLUMN(),FALSE)","v":-0.21197777777777776},{"$f":"INDIRECT(\"'\"&$S229&\"'!R\"&$T229&\"C\"&COLUMN(),FALSE)","v":"HWL"},{"$f":"INDIRECT(\"'\"&$S229&\"'!R\"&$T229&\"C\"&COLUMN(),FALSE)","v":3},{"$f":"INDIRECT(\"'\"&$S229&\"'!R\"&$T229&\"C\"&COLUMN(),FALSE)","v":"E"},{"$f":"INDIRECT(\"'\"&$S229&\"'!R\"&$T229&\"C\"&COLUMN(),FALSE)","v":"Inertial Ref Unit (IRU)"},{"$f":"INDIRECT(\"'\"&$S229&\"'!R\"&$T229&\"C\"&COLUMN(),FALSE)","v":0},{"$f":"INDIRECT(\"'\"&$S229&\"'!R\"&$T229&\"C\"&COLUMN(),FALSE)","v":35461},null,"36",225,"35461#E","bizjet",26]
[{"$f":"INDIRECT(\"'\"&$S230&\"'!R\"&$T230&\"C\"&COLUMN(),FALSE)","v":"36#827"},{"$f":"INDIRECT(\"'\"&$S230&\"'!R\"&$T230&\"C\"&COLUMN(),FALSE)","v":8097},{"$f":"INDIRECT(\"'\"&$S230&\"'!R\"&$T230&\"C\"&COLUMN(),FALSE)","v":8000},{"$f":"INDIRECT(\"'\"&$S230&\"'!R\"&$T230&\"C\"&COLUMN(),FALSE)","v":9055.7087784241157},{"$f":"INDIRECT(\"'\"&$S230&\"'!R\"&$T230&\"C\"&COLUMN(),FALSE)","v":8947.2236911686941},{"$f":"INDIRECT(\"'\"&$S230&\"'!R\"&$T230&\"C\"&COLUMN(),FALSE)","v":"Validated PW 2020"},{"$f":"INDIRECT(\"'\"&$S230&\"'!R\"&$T230&\"C\"&COLUMN(),FALSE)","v":9000},{"$f":"INDIRECT(\"'\"&$S230&\"'!R\"&$T230&\"C\"&COLUMN(),FALSE)","v":1.2125E-2},{"$f":"INDIRECT(\"'\"&$S230&\"'!R\"&$T230&\"C\"&COLUMN(),FALSE)","v":"HWL"},{"$f":"INDIRECT(\"'\"&$S230&\"'!R\"&$T230&\"C\"&COLUMN(),FALSE)","v":1},{"$f":"INDIRECT(\"'\"&$S230&\"'!R\"&$T230&\"C\"&COLUMN(),FALSE)","v":"E"},{"$f":"INDIRECT(\"'\"&$S230&\"'!R\"&$T230&\"C\"&COLUMN(),FALSE)","v":"EICAS Controller panel"},{"$f":"INDIRECT(\"'\"&$S230&\"'!R\"&$T230&\"C\"&COLUMN(),FALSE)","v":0},{"$f":"INDIRECT(\"'\"&$S230&\"'!R\"&$T230&\"C\"&COLUMN(),FALSE)","v":8097},null,"36",226,"8097#E","bizjet",27]
[{"$f":"INDIRECT(\"'\"&$S231&\"'!R\"&$T231&\"C\"&COLUMN(),FALSE)","v":"36#828"},{"$f":"INDIRECT(\"'\"&$S231&\"'!R\"&$T231&\"C\"&COLUMN(),FALSE)","v":17612},{"$f":"INDIRECT(\"'\"&$S231&\"'!R\"&$T231&\"C\"&COLUMN(),FALSE)","v":18000},{"$f":"INDIRECT(\"'\"&$S231&\"'!R\"&$T231&\"C\"&COLUMN(),FALSE)","v":19697.312956107882},{"$f":"INDIRECT(\"'\"&$S231&\"'!R\"&$T231&\"C\"&COLUMN(),FALSE)","v":20131.253305129565},{"$f":"INDIRECT(\"'\"&$S231&\"'!R\"&$T231&\"C\"&COLUMN(),FALSE)","v":"Validated PW 2020"},{"$f":"INDIRECT(\"'\"&$S231&\"'!R\"&$T231&\"C\"&COLUMN(),FALSE)","v":20000},{"$f":"INDIRECT(\"'\"&$S231&\"'!R\"&$T231&\"C\"&COLUMN(),FALSE)","v":-2.1555555555555557E-2},{"$f":"INDIRECT(\"'\"&$S231&\"'!R\"&$T231&\"C\"&COLUMN(),FALSE)","v":"HWL"},{"$f":"INDIRECT(\"'\"&$S231&\"'!R\"&$T231&\"C\"&COLUMN(),FALSE)","v":2},{"$f":"INDIRECT(\"'\"&$S231&\"'!R\"&$T231&\"C\"&COLUMN(),FALSE)","v":"E"},{"$f":"INDIRECT(\"'\"&$S231&\"'!R\"&$T231&\"C\"&COLUMN(),FALSE)","v":"ATC Transponder"},{"$f":"INDIRECT(\"'\"&$S231&\"'!R\"&$T231&\"C\"&COLUMN(),FALSE)","v":0},{"$f":"INDIRECT(\"'\"&$S231&\"'!R\"&$T231&\"C\"&COLUMN(),FALSE)","v":17612},null,"36",227,"17612#E","bizjet",28]
[{"$f":"INDIRECT(\"'\"&$S232&\"'!R\"&$T232&\"C\"&COLUMN(),FALSE)","v":"36#829"},{"$f":"INDIRECT(\"'\"&$S232&\"'!R\"&$T232&\"C\"&COLUMN(),FALSE)","v":40517},{"$f":"INDIRECT(\"'\"&$S232&\"'!R\"&$T232&\"C\"&COLUMN(),FALSE)","v":50000},{"$f":"INDIRECT(\"'\"&$S232&\"'!R\"&$T232&\"C\"&COLUMN(),FALSE)","v":45314.33278688525},{"$f":"INDIRECT(\"'\"&$S232&\"'!R\"&$T232&\"C\"&COLUMN(),FALSE)","v":55920.148069804345},{"$f":"INDIRECT(\"'\"&$S232&\"'!R\"&$T232&\"C\"&COLUMN(),FALSE)","v":"Validated PW 2020"},{"$f":"INDIRECT(\"'\"&$S232&\"'!R\"&$T232&\"C\"&COLUMN(),FALSE)","v":56000},{"$f":"INDIRECT(\"'\"&$S232&\"'!R\"&$T232&\"C\"&COLUMN(),FALSE)","v":-0.18966},{"$f":"INDIRECT(\"'\"&$S232&\"'!R\"&$T232&\"C\"&COLUMN(),FALSE)","v":"????"},{"$f":"INDIRECT(\"'\"&$S232&\"'!R\"&$T232&\"C\"&COLUMN(),FALSE)","v":1},{"$f":"INDIRECT(\"'\"&$S232&\"'!R\"&$T232&\"C\"&COLUMN(),FALSE)","v":"E"},{"$f":"INDIRECT(\"'\"&$S232&\"'!R\"&$T232&\"C\"&COLUMN(),FALSE)","v":"Radar Antenna (nose nounted)"},{"$f":"INDIRECT(\"'\"&$S232&\"'!R\"&$T232&\"C\"&COLUMN(),FALSE)","v":0},{"$f":"INDIRECT(\"'\"&$S232&\"'!R\"&$T232&\"C\"&COLUMN(),FALSE)","v":40517},null,"36",228,"40517#E","bizjet",29]
[{"$f":"INDIRECT(\"'\"&$S233&\"'!R\"&$T233&\"C\"&COLUMN(),FALSE)","v":"36#830"},{"$f":"INDIRECT(\"'\"&$S233&\"'!R\"&$T233&\"C\"&COLUMN(),FALSE)","v":21526},{"$f":"INDIRECT(\"'\"&$S233&\"'!R\"&$T233&\"C\"&COLUMN(),FALSE)","v":25000},{"$f":"INDIRECT(\"'\"&$S233&\"'!R\"&$T233&\"C\"&COLUMN(),FALSE)","v":24074.742147012166},{"$f":"INDIRECT(\"'\"&$S233&\"'!R\"&$T233&\"C\"&COLUMN(),FALSE)","v":27960.074034902173},{"$f":"INDIRECT(\"'\"&$S233&\"'!R\"&$T233&\"C\"&COLUMN(),FALSE)","v":"Validated PW 2020"},{"$f":"INDIRECT(\"'\"&$S233&\"'!R\"&$T233&\"C\"&COLUMN(),FALSE)","v":28000},{"$f":"INDIRECT(\"'\"&$S233&\"'!R\"&$T233&\"C\"&COLUMN(),FALSE)","v":-0.13896},{"$f":"INDIRECT(\"'\"&$S233&\"'!R\"&$T233&\"C\"&COLUMN(),FALSE)","v":"???"},{"$f":"INDIRECT(\"'\"&$S233&\"'!R\"&$T233&\"C\"&COLUMN(),FALSE)","v":3},{"$f":"INDIRECT(\"'\"&$S233&\"'!R\"&$T233&\"C\"&COLUMN(),FALSE)","v":"E"},{"$f":"INDIRECT(\"'\"&$S233&\"'!R\"&$T233&\"C\"&COLUMN(),FALSE)","v":"Radio antenna, amplifier, sat data"},{"$f":"INDIRECT(\"'\"&$S233&\"'!R\"&$T233&\"C\"&COLUMN(),FALSE)","v":0},{"$f":"INDIRECT(\"'\"&$S233&\"'!R\"&$T233&\"C\"&COLUMN(),FALSE)","v":21526},null,"36",229,"21526#E","bizjet",30]
[{"$f":"INDIRECT(\"'\"&$S234&\"'!R\"&$T234&\"C\"&COLUMN(),FALSE)","v":"36#831"},{"$f":"INDIRECT(\"'\"&$S234&\"'!R\"&$T234&\"C\"&COLUMN(),FALSE)","v":26597},{"$f":"INDIRECT(\"'\"&$S234&\"'!R\"&$T234&\"C\"&COLUMN(),FALSE)","v":25000},{"$f":"INDIRECT(\"'\"&$S234&\"'!R\"&$T234&\"C\"&COLUMN(),FALSE)","v":29746.163564251721},{"$f":"INDIRECT(\"'\"&$S234&\"'!R\"&$T234&\"C\"&COLUMN(),FALSE)","v":27960.074034902173},{"$f":"INDIRECT(\"'\"&$S234&\"'!R\"&$T234&\"C\"&COLUMN(),FALSE)","v":"Validated PW 2020"},{"$f":"INDIRECT(\"'\"&$S234&\"'!R\"&$T234&\"C\"&COLUMN(),FALSE)","v":28000},{"$f":"INDIRECT(\"'\"&$S234&\"'!R\"&$T234&\"C\"&COLUMN(),FALSE)","v":6.3880000000000006E-2},{"$f":"INDIRECT(\"'\"&$S234&\"'!R\"&$T234&\"C\"&COLUMN(),FALSE)","v":"???"},{"$f":"INDIRECT(\"'\"&$S234&\"'!R\"&$T234&\"C\"&COLUMN(),FALSE)","v":1},{"$f":"INDIRECT(\"'\"&$S234&\"'!R\"&$T234&\"C\"&COLUMN(),FALSE)","v":"E"},{"$f":"INDIRECT(\"'\"&$S234&\"'!R\"&$T234&\"C\"&COLUMN(),FALSE)","v":"Radio antenna, amplifier, sat data"},{"$f":"INDIRECT(\"'\"&$S234&\"'!R\"&$T234&\"C\"&COLUMN(),FALSE)","v":0},{"$f":"INDIRECT(\"'\"&$S234&\"'!R\"&$T234&\"C\"&COLUMN(),FALSE)","v":26597},null,"36",230,"26597#E","bizjet",31]
[{"$f":"INDIRECT(\"'\"&$S235&\"'!R\"&$T235&\"C\"&COLUMN(),FALSE)","v":"36#832"},{"$f":"INDIRECT(\"'\"&$S235&\"'!R\"&$T235&\"C\"&COLUMN(),FALSE)","v":21526},{"$f":"INDIRECT(\"'\"&$S235&\"'!R\"&$T235&\"C\"&COLUMN(),FALSE)","v":25000},{"$f":"INDIRECT(\"'\"&$S235&\"'!R\"&$T235&\"C\"&COLUMN(),FALSE)","v":24074.742147012166},{"$f":"INDIRECT(\"'\"&$S235&\"'!R\"&$T235&\"C\"&COLUMN(),FALSE)","v":27960.074034902173},{"$f":"INDIRECT(\"'\"&$S235&\"'!R\"&$T235&\"C\"&COLUMN(),FALSE)","v":"Validated PW 2020"},{"$f":"INDIRECT(\"'\"&$S235&\"'!R\"&$T235&\"C\"&COLUMN(),FALSE)","v":28000},{"$f":"INDIRECT(\"'\"&$S235&\"'!R\"&$T235&\"C\"&COLUMN(),FALSE)","v":-0.13896},{"$f":"INDIRECT(\"'\"&$S235&\"'!R\"&$T235&\"C\"&COLUMN(),FALSE)","v":0},{"$f":"INDIRECT(\"'\"&$S235&\"'!R\"&$T235&\"C\"&COLUMN(),FALSE)","v":2},{"$f":"INDIRECT(\"'\"&$S235&\"'!R\"&$T235&\"C\"&COLUMN(),FALSE)","v":"E"},{"$f":"INDIRECT(\"'\"&$S235&\"'!R\"&$T235&\"C\"&COLUMN(),FALSE)","v":"Comms Management System"},{"$f":"INDIRECT(\"'\"&$S235&\"'!R\"&$T235&\"C\"&COLUMN(),FALSE)","v":0},{"$f":"INDIRECT(\"'\"&$S235&\"'!R\"&$T235&\"C\"&COLUMN(),FALSE)","v":21526},null,"36",231,"21526#E","bizjet",32]
[{"$f":"INDIRECT(\"'\"&$S236&\"'!R\"&$T236&\"C\"&COLUMN(),FALSE)","v":"36#878"},{"$f":"INDIRECT(\"'\"&$S236&\"'!R\"&$T236&\"C\"&COLUMN(),FALSE)","v":82497},{"$f":"INDIRECT(\"'\"&$S236&\"'!R\"&$T236&\"C\"&COLUMN(),FALSE)","v":{"$error":"#N/A"}},{"$f":"INDIRECT(\"'\"&$S236&\"'!R\"&$T236&\"C\"&COLUMN(),FALSE)","v":92264.889106292976},{"$f":"INDIRECT(\"'\"&$S236&\"'!R\"&$T236&\"C\"&COLUMN(),FALSE)","v":{"$error":"#N/A"}},{"$f":"INDIRECT(\"'\"&$S236&\"'!R\"&$T236&\"C\"&COLUMN(),FALSE)","v":"Validated Model 2020"},{"$f":"INDIRECT(\"'\"&$S236&\"'!R\"&$T236&\"C\"&COLUMN(),FALSE)","v":93000},{"$f":"INDIRECT(\"'\"&$S236&\"'!R\"&$T236&\"C\"&COLUMN(),FALSE)","v":{"$error":"#N/A"}},{"$f":"INDIRECT(\"'\"&$S236&\"'!R\"&$T236&\"C\"&COLUMN(),FALSE)","v":{"$error":"#N/A"}},{"$f":"INDIRECT(\"'\"&$S236&\"'!R\"&$T236&\"C\"&COLUMN(),FALSE)","v":1},{"$f":"INDIRECT(\"'\"&$S236&\"'!R\"&$T236&\"C\"&COLUMN(),FALSE)","v":"G1"},{"$f":"INDIRECT(\"'\"&$S236&\"'!R\"&$T236&\"C\"&COLUMN(),FALSE)","v":"Sensors IFF, other"},{"$f":"INDIRECT(\"'\"&$S236&\"'!R\"&$T236&\"C\"&COLUMN(),FALSE)","v":0},{"$f":"INDIRECT(\"'\"&$S236&\"'!R\"&$T236&\"C\"&COLUMN(),FALSE)","v":82497},null,"36",232,"82497#G1","bizjet",33]
[{"$f":"INDIRECT(\"'\"&$S237&\"'!R\"&$T237&\"C\"&COLUMN(),FALSE)","v":"36#879"},{"$f":"INDIRECT(\"'\"&$S237&\"'!R\"&$T237&\"C\"&COLUMN(),FALSE)","v":107012},{"$f":"INDIRECT(\"'\"&$S237&\"'!R\"&$T237&\"C\"&COLUMN(),FALSE)","v":{"$error":"#N/A"}},{"$f":"INDIRECT(\"'\"&$S237&\"'!R\"&$T237&\"C\"&COLUMN(),FALSE)","v":119682.53770491805},{"$f":"INDIRECT(\"'\"&$S237&\"'!R\"&$T237&\"C\"&COLUMN(),FALSE)","v":{"$error":"#N/A"}},{"$f":"INDIRECT(\"'\"&$S237&\"'!R\"&$T237&\"C\"&COLUMN(),FALSE)","v":"Validated Model 2020"},{"$f":"INDIRECT(\"'\"&$S237&\"'!R\"&$T237&\"C\"&COLUMN(),FALSE)","v":120000},{"$f":"INDIRECT(\"'\"&$S237&\"'!R\"&$T237&\"C\"&COLUMN(),FALSE)","v":{"$error":"#N/A"}},{"$f":"INDIRECT(\"'\"&$S237&\"'!R\"&$T237&\"C\"&COLUMN(),FALSE)","v":{"$error":"#N/A"}},{"$f":"INDIRECT(\"'\"&$S237&\"'!R\"&$T237&\"C\"&COLUMN(),FALSE)","v":1},{"$f":"INDIRECT(\"'\"&$S237&\"'!R\"&$T237&\"C\"&COLUMN(),FALSE)","v":"Q"},{"$f":"INDIRECT(\"'\"&$S237&\"'!R\"&$T237&\"C\"&COLUMN(),FALSE)","v":"Software"},{"$f":"INDIRECT(\"'\"&$S237&\"'!R\"&$T237&\"C\"&COLUMN(),FALSE)","v":0},{"$f":"INDIRECT(\"'\"&$S237&\"'!R\"&$T237&\"C\"&COLUMN(),FALSE)","v":107012},null,"36",233,"107012#Q","bizjet",34]
[{"$f":"INDIRECT(\"'\"&$S238&\"'!R\"&$T238&\"C\"&COLUMN(),FALSE)","v":"36#880"},{"$f":"INDIRECT(\"'\"&$S238&\"'!R\"&$T238&\"C\"&COLUMN(),FALSE)","v":8800},{"$f":"INDIRECT(\"'\"&$S238&\"'!R\"&$T238&\"C\"&COLUMN(),FALSE)","v":{"$error":"#N/A"}},{"$f":"INDIRECT(\"'\"&$S238&\"'!R\"&$T238&\"C\"&COLUMN(),FALSE)","v":9841.9460602855652},{"$f":"INDIRECT(\"'\"&$S238&\"'!R\"&$T238&\"C\"&COLUMN(),FALSE)","v":{"$error":"#N/A"}},{"$f":"INDIRECT(\"'\"&$S238&\"'!R\"&$T238&\"C\"&COLUMN(),FALSE)","v":"Validated Model 2020"},{"$f":"INDIRECT(\"'\"&$S238&\"'!R\"&$T238&\"C\"&COLUMN(),FALSE)","v":10000},{"$f":"INDIRECT(\"'\"&$S238&\"'!R\"&$T238&\"C\"&COLUMN(),FALSE)","v":{"$error":"#N/A"}},{"$f":"INDIRECT(\"'\"&$S238&\"'!R\"&$T238&\"C\"&COLUMN(),FALSE)","v":{"$error":"#N/A"}},{"$f":"INDIRECT(\"'\"&$S238&\"'!R\"&$T238&\"C\"&COLUMN(),FALSE)","v":8},{"$f":"INDIRECT(\"'\"&$S238&\"'!R\"&$T238&\"C\"&COLUMN(),FALSE)","v":"E"},{"$f":"INDIRECT(\"'\"&$S238&\"'!R\"&$T238&\"C\"&COLUMN(),FALSE)","v":"Air data sensors"},{"$f":"INDIRECT(\"'\"&$S238&\"'!R\"&$T238&\"C\"&COLUMN(),FALSE)","v":0},{"$f":"INDIRECT(\"'\"&$S238&\"'!R\"&$T238&\"C\"&COLUMN(),FALSE)","v":8800},null,"36",234,"8800#E","bizjet",35]
[{"$f":"INDIRECT(\"'\"&$S239&\"'!R\"&$T239&\"C\"&COLUMN(),FALSE)","v":"36#884"},{"$f":"INDIRECT(\"'\"&$S239&\"'!R\"&$T239&\"C\"&COLUMN(),FALSE)","v":75969},{"$f":"INDIRECT(\"'\"&$S239&\"'!R\"&$T239&\"C\"&COLUMN(),FALSE)","v":{"$error":"#N/A"}},{"$f":"INDIRECT(\"'\"&$S239&\"'!R\"&$T239&\"C\"&COLUMN(),FALSE)","v":84963.954574299321},{"$f":"INDIRECT(\"'\"&$S239&\"'!R\"&$T239&\"C\"&COLUMN(),FALSE)","v":{"$error":"#N/A"}},{"$f":"INDIRECT(\"'\"&$S239&\"'!R\"&$T239&\"C\"&COLUMN(),FALSE)","v":"Validated Model 2020"},{"$f":"INDIRECT(\"'\"&$S239&\"'!R\"&$T239&\"C\"&COLUMN(),FALSE)","v":85000},{"$f":"INDIRECT(\"'\"&$S239&\"'!R\"&$T239&\"C\"&COLUMN(),FALSE)","v":{"$error":"#N/A"}},{"$f":"INDIRECT(\"'\"&$S239&\"'!R\"&$T239&\"C\"&COLUMN(),FALSE)","v":{"$error":"#N/A"}},{"$f":"INDIRECT(\"'\"&$S239&\"'!R\"&$T239&\"C\"&COLUMN(),FALSE)","v":1},{"$f":"INDIRECT(\"'\"&$S239&\"'!R\"&$T239&\"C\"&COLUMN(),FALSE)","v":"E"},{"$f":"INDIRECT(\"'\"&$S239&\"'!R\"&$T239&\"C\"&COLUMN(),FALSE)","v":"Sensor suite WX radar etc"},{"$f":"INDIRECT(\"'\"&$S239&\"'!R\"&$T239&\"C\"&COLUMN(),FALSE)","v":0},{"$f":"INDIRECT(\"'\"&$S239&\"'!R\"&$T239&\"C\"&COLUMN(),FALSE)","v":75969},null,"36",235,"75969#E","bizjet",36]
[{"$f":"INDIRECT(\"'\"&$S240&\"'!R\"&$T240&\"C\"&COLUMN(),FALSE)","v":"36#1056"},{"$f":"INDIRECT(\"'\"&$S240&\"'!R\"&$T240&\"C\"&COLUMN(),FALSE)","v":2119},{"$f":"INDIRECT(\"'\"&$S240&\"'!R\"&$T240&\"C\"&COLUMN(),FALSE)","v":{"$error":"#N/A"}},{"$f":"INDIRECT(\"'\"&$S240&\"'!R\"&$T240&\"C\"&COLUMN(),FALSE)","v":2369.8958751983082},{"$f":"INDIRECT(\"'\"&$S240&\"'!R\"&$T240&\"C\"&COLUMN(),FALSE)","v":{"$error":"#N/A"}},{"$f":"INDIRECT(\"'\"&$S240&\"'!R\"&$T240&\"C\"&COLUMN(),FALSE)","v":"Validated Model 2020"},{"$f":"INDIRECT(\"'\"&$S240&\"'!R\"&$T240&\"C\"&COLUMN(),FALSE)","v":2400},{"$f":"INDIRECT(\"'\"&$S240&\"'!R\"&$T240&\"C\"&COLUMN(),FALSE)","v":{"$error":"#N/A"}},{"$f":"INDIRECT(\"'\"&$S240&\"'!R\"&$T240&\"C\"&COLUMN(),FALSE)","v":{"$error":"#N/A"}},{"$f":"INDIRECT(\"'\"&$S240&\"'!R\"&$T240&\"C\"&COLUMN(),FALSE)","v":1},{"$f":"INDIRECT(\"'\"&$S240&\"'!R\"&$T240&\"C\"&COLUMN(),FALSE)","v":"BL"},{"$f":"INDIRECT(\"'\"&$S240&\"'!R\"&$T240&\"C\"&COLUMN(),FALSE)","v":"Avionics Harnesses"},{"$f":"INDIRECT(\"'\"&$S240&\"'!R\"&$T240&\"C\"&COLUMN(),FALSE)","v":0},{"$f":"INDIRECT(\"'\"&$S240&\"'!R\"&$T240&\"C\"&COLUMN(),FALSE)","v":2119},null,"36",236,"2119#BL","bizjet",37]
[{"$f":"INDIRECT(\"'\"&$S241&\"'!R\"&$T241&\"C\"&COLUMN(),FALSE)","v":"36#1057"},{"$f":"INDIRECT(\"'\"&$S241&\"'!R\"&$T241&\"C\"&COLUMN(),FALSE)","v":15092},{"$f":"INDIRECT(\"'\"&$S241&\"'!R\"&$T241&\"C\"&COLUMN(),FALSE)","v":{"$error":"#N/A"}},{"$f":"INDIRECT(\"'\"&$S241&\"'!R\"&$T241&\"C\"&COLUMN(),FALSE)","v":16878.937493389742},{"$f":"INDIRECT(\"'\"&$S241&\"'!R\"&$T241&\"C\"&COLUMN(),FALSE)","v":{"$error":"#N/A"}},{"$f":"INDIRECT(\"'\"&$S241&\"'!R\"&$T241&\"C\"&COLUMN(),FALSE)","v":"Validated Model 2020"},{"$f":"INDIRECT(\"'\"&$S241&\"'!R\"&$T241&\"C\"&COLUMN(),FALSE)","v":17000},{"$f":"INDIRECT(\"'\"&$S241&\"'!R\"&$T241&\"C\"&COLUMN(),FALSE)","v":{"$error":"#N/A"}},{"$f":"INDIRECT(\"'\"&$S241&\"'!R\"&$T241&\"C\"&COLUMN(),FALSE)","v":{"$error":"#N/A"}},{"$f":"INDIRECT(\"'\"&$S241&\"'!R\"&$T241&\"C\"&COLUMN(),FALSE)","v":1},{"$f":"INDIRECT(\"'\"&$S241&\"'!R\"&$T241&\"C\"&COLUMN(),FALSE)","v":"BL"},{"$f":"INDIRECT(\"'\"&$S241&\"'!R\"&$T241&\"C\"&COLUMN(),FALSE)","v":"Avionics Harnesses"},{"$f":"INDIRECT(\"'\"&$S241&\"'!R\"&$T241&\"C\"&COLUMN(),FALSE)","v":0},{"$f":"INDIRECT(\"'\"&$S241&\"'!R\"&$T241&\"C\"&COLUMN(),FALSE)","v":15092},null,"36",237,"15092#BL","bizjet",38]
[{"$f":"INDIRECT(\"'\"&$S242&\"'!R\"&$T242&\"C\"&COLUMN(),FALSE)","v":"36#1058"},{"$f":"INDIRECT(\"'\"&$S242&\"'!R\"&$T242&\"C\"&COLUMN(),FALSE)","v":18250},{"$f":"INDIRECT(\"'\"&$S242&\"'!R\"&$T242&\"C\"&COLUMN(),FALSE)","v":{"$error":"#N/A"}},{"$f":"INDIRECT(\"'\"&$S242&\"'!R\"&$T242&\"C\"&COLUMN(),FALSE)","v":20410.854045478583},{"$f":"INDIRECT(\"'\"&$S242&\"'!R\"&$T242&\"C\"&COLUMN(),FALSE)","v":{"$error":"#N/A"}},{"$f":"INDIRECT(\"'\"&$S242&\"'!R\"&$T242&\"C\"&COLUMN(),FALSE)","v":"Validated Model 2020"},{"$f":"INDIRECT(\"'\"&$S242&\"'!R\"&$T242&\"C\"&COLUMN(),FALSE)","v":21000},{"$f":"INDIRECT(\"'\"&$S242&\"'!R\"&$T242&\"C\"&COLUMN(),FALSE)","v":{"$error":"#N/A"}},{"$f":"INDIRECT(\"'\"&$S242&\"'!R\"&$T242&\"C\"&COLUMN(),FALSE)","v":{"$error":"#N/A"}},{"$f":"INDIRECT(\"'\"&$S242&\"'!R\"&$T242&\"C\"&COLUMN(),FALSE)","v":1},{"$f":"INDIRECT(\"'\"&$S242&\"'!R\"&$T242&\"C\"&COLUMN(),FALSE)","v":"BL"},{"$f":"INDIRECT(\"'\"&$S242&\"'!R\"&$T242&\"C\"&COLUMN(),FALSE)","v":"Avionics Harnesses"},{"$f":"INDIRECT(\"'\"&$S242&\"'!R\"&$T242&\"C\"&COLUMN(),FALSE)","v":0},{"$f":"INDIRECT(\"'\"&$S242&\"'!R\"&$T242&\"C\"&COLUMN(),FALSE)","v":18250},null,"36",238,"18250#BL","bizjet",39]
[{"$f":"INDIRECT(\"'\"&$S243&\"'!R\"&$T243&\"C\"&COLUMN(),FALSE)","v":"36#1059"},{"$f":"INDIRECT(\"'\"&$S243&\"'!R\"&$T243&\"C\"&COLUMN(),FALSE)","v":3773},{"$f":"INDIRECT(\"'\"&$S243&\"'!R\"&$T243&\"C\"&COLUMN(),FALSE)","v":{"$error":"#N/A"}},{"$f":"INDIRECT(\"'\"&$S243&\"'!R\"&$T243&\"C\"&COLUMN(),FALSE)","v":4219.7343733474354},{"$f":"INDIRECT(\"'\"&$S243&\"'!R\"&$T243&\"C\"&COLUMN(),FALSE)","v":{"$error":"#N/A"}},{"$f":"INDIRECT(\"'\"&$S243&\"'!R\"&$T243&\"C\"&COLUMN(),FALSE)","v":"Validated Model 2020"},{"$f":"INDIRECT(\"'\"&$S243&\"'!R\"&$T243&\"C\"&COLUMN(),FALSE)","v":4500},{"$f":"INDIRECT(\"'\"&$S243&\"'!R\"&$T243&\"C\"&COLUMN(),FALSE)","v":{"$error":"#N/A"}},{"$f":"INDIRECT(\"'\"&$S243&\"'!R\"&$T243&\"C\"&COLUMN(),FALSE)","v":{"$error":"#N/A"}},{"$f":"INDIRECT(\"'\"&$S243&\"'!R\"&$T243&\"C\"&COLUMN(),FALSE)","v":1},{"$f":"INDIRECT(\"'\"&$S243&\"'!R\"&$T243&\"C\"&COLUMN(),FALSE)","v":"BL"},{"$f":"INDIRECT(\"'\"&$S243&\"'!R\"&$T243&\"C\"&COLUMN(),FALSE)","v":"Avionics Harnesses"},{"$f":"INDIRECT(\"'\"&$S243&\"'!R\"&$T243&\"C\"&COLUMN(),FALSE)","v":0},{"$f":"INDIRECT(\"'\"&$S243&\"'!R\"&$T243&\"C\"&COLUMN(),FALSE)","v":3773},null,"36",239,"3773#BL","bizjet",40]
[{"$f":"INDIRECT(\"'\"&$S244&\"'!R\"&$T244&\"C\"&COLUMN(),FALSE)","v":0},{"$f":"INDIRECT(\"'\"&$S244&\"'!R\"&$T244&\"C\"&COLUMN(),FALSE)","v":""},{"$f":"INDIRECT(\"'\"&$S244&\"'!R\"&$T244&\"C\"&COLUMN(),FALSE)","v":30000},{"$f":"INDIRECT(\"'\"&$S244&\"'!R\"&$T244&\"C\"&COLUMN(),FALSE)","v":{"$error":"#VALUE!"}},{"$f":"INDIRECT(\"'\"&$S244&\"'!R\"&$T244&\"C\"&COLUMN(),FALSE)","v":33552.088841882607},{"$f":"INDIRECT(\"'\"&$S244&\"'!R\"&$T244&\"C\"&COLUMN(),FALSE)","v":"Validated PW 2020"},{"$f":"INDIRECT(\"'\"&$S244&\"'!R\"&$T244&\"C\"&COLUMN(),FALSE)","v":34000},{"$f":"INDIRECT(\"'\"&$S244&\"'!R\"&$T244&\"C\"&COLUMN(),FALSE)","v":{"$error":"#VALUE!"}},{"$f":"INDIRECT(\"'\"&$S244&\"'!R\"&$T244&\"C\"&COLUMN(),FALSE)","v":"HWL"},{"$f":"INDIRECT(\"'\"&$S244&\"'!R\"&$T244&\"C\"&COLUMN(),FALSE)","v":1},{"$f":"INDIRECT(\"'\"&$S244&\"'!R\"&$T244&\"C\"&COLUMN(),FALSE)","v":{"$error":"#N/A"}},{"$f":"INDIRECT(\"'\"&$S244&\"'!R\"&$T244&\"C\"&COLUMN(),FALSE)","v":0},{"$f":"INDIRECT(\"'\"&$S244&\"'!R\"&$T244&\"C\"&COLUMN(),FALSE)","v":"Data Acquisition Units (DAUs)"},{"$f":"INDIRECT(\"'\"&$S244&\"'!R\"&$T244&\"C\"&COLUMN(),FALSE)","v":""},null,"",240,{"$error":"#N/A"},"bizjet",41]
[{"$f":"INDIRECT(\"'\"&$S245&\"'!R\"&$T245&\"C\"&COLUMN(),FALSE)","v":0},{"$f":"INDIRECT(\"'\"&$S245&\"'!R\"&$T245&\"C\"&COLUMN(),FALSE)","v":""},{"$f":"INDIRECT(\"'\"&$S245&\"'!R\"&$T245&\"C\"&COLUMN(),FALSE)","v":10000},{"$f":"INDIRECT(\"'\"&$S245&\"'!R\"&$T245&\"C\"&COLUMN(),FALSE)","v":{"$error":"#VALUE!"}},{"$f":"INDIRECT(\"'\"&$S245&\"'!R\"&$T245&\"C\"&COLUMN(),FALSE)","v":11184.029613960869},{"$f":"INDIRECT(\"'\"&$S245&\"'!R\"&$T245&\"C\"&COLUMN(),FALSE)","v":"Validated PW 2020"},{"$f":"INDIRECT(\"'\"&$S245&\"'!R\"&$T245&\"C\"&COLUMN(),FALSE)","v":12000},{"$f":"INDIRECT(\"'\"&$S245&\"'!R\"&$T245&\"C\"&COLUMN(),FALSE)","v":{"$error":"#VALUE!"}},{"$f":"INDIRECT(\"'\"&$S245&\"'!R\"&$T245&\"C\"&COLUMN(),FALSE)","v":"??/"},{"$f":"INDIRECT(\"'\"&$S245&\"'!R\"&$T245&\"C\"&COLUMN(),FALSE)","v":2},{"$f":"INDIRECT(\"'\"&$S245&\"'!R\"&$T245&\"C\"&COLUMN(),FALSE)","v":{"$error":"#N/A"}},{"$f":"INDIRECT(\"'\"&$S245&\"'!R\"&$T245&\"C\"&COLUMN(),FALSE)","v":0},{"$f":"INDIRECT(\"'\"&$S245&\"'!R\"&$T245&\"C\"&COLUMN(),FALSE)","v":"MFD control panels"},{"$f":"INDIRECT(\"'\"&$S245&\"'!R\"&$T245&\"C\"&COLUMN(),FALSE)","v":""},null,"",241,{"$error":"#N/A"},"bizjet",42]
[{"$f":"INDIRECT(\"'\"&$S246&\"'!R\"&$T246&\"C\"&COLUMN(),FALSE)","v":0},{"$f":"INDIRECT(\"'\"&$S246&\"'!R\"&$T246&\"C\"&COLUMN(),FALSE)","v":""},{"$f":"INDIRECT(\"'\"&$S246&\"'!R\"&$T246&\"C\"&COLUMN(),FALSE)","v":35000},{"$f":"INDIRECT(\"'\"&$S246&\"'!R\"&$T246&\"C\"&COLUMN(),FALSE)","v":{"$error":"#VALUE!"}},{"$f":"INDIRECT(\"'\"&$S246&\"'!R\"&$T246&\"C\"&COLUMN(),FALSE)","v":39144.103648863042},{"$f":"INDIRECT(\"'\"&$S246&\"'!R\"&$T246&\"C\"&COLUMN(),FALSE)","v":"Validated PW 2020"},{"$f":"INDIRECT(\"'\"&$S246&\"'!R\"&$T246&\"C\"&COLUMN(),FALSE)","v":40000},{"$f":"INDIRECT(\"'\"&$S246&\"'!R\"&$T246&\"C\"&COLUMN(),FALSE)","v":{"$error":"#VALUE!"}},{"$f":"INDIRECT(\"'\"&$S246&\"'!R\"&$T246&\"C\"&COLUMN(),FALSE)","v":"HWL"},{"$f":"INDIRECT(\"'\"&$S246&\"'!R\"&$T246&\"C\"&COLUMN(),FALSE)","v":2},{"$f":"INDIRECT(\"'\"&$S246&\"'!R\"&$T246&\"C\"&COLUMN(),FALSE)","v":{"$error":"#N/A"}},{"$f":"INDIRECT(\"'\"&$S246&\"'!R\"&$T246&\"C\"&COLUMN(),FALSE)","v":0},{"$f":"INDIRECT(\"'\"&$S246&\"'!R\"&$T246&\"C\"&COLUMN(),FALSE)","v":"Navigation Control Display unit"},{"$f":"INDIRECT(\"'\"&$S246&\"'!R\"&$T246&\"C\"&COLUMN(),FALSE)","v":""},null,"",242,{"$error":"#N/A"},"bizjet",43]
[{"$f":"INDIRECT(\"'\"&$S247&\"'!R\"&$T247&\"C\"&COLUMN(),FALSE)","v":0},{"$f":"INDIRECT(\"'\"&$S247&\"'!R\"&$T247&\"C\"&COLUMN(),FALSE)","v":""},{"$f":"INDIRECT(\"'\"&$S247&\"'!R\"&$T247&\"C\"&COLUMN(),FALSE)","v":12000},{"$f":"INDIRECT(\"'\"&$S247&\"'!R\"&$T247&\"C\"&COLUMN(),FALSE)","v":{"$error":"#VALUE!"}},{"$f":"INDIRECT(\"'\"&$S247&\"'!R\"&$T247&\"C\"&COLUMN(),FALSE)","v":13420.835536753042},{"$f":"INDIRECT(\"'\"&$S247&\"'!R\"&$T247&\"C\"&COLUMN(),FALSE)","v":"Validated PW 2020"},{"$f":"INDIRECT(\"'\"&$S247&\"'!R\"&$T247&\"C\"&COLUMN(),FALSE)","v":14000},{"$f":"INDIRECT(\"'\"&$S247&\"'!R\"&$T247&\"C\"&COLUMN(),FALSE)","v":{"$error":"#VALUE!"}},{"$f":"INDIRECT(\"'\"&$S247&\"'!R\"&$T247&\"C\"&COLUMN(),FALSE)","v":"HWL"},{"$f":"INDIRECT(\"'\"&$S247&\"'!R\"&$T247&\"C\"&COLUMN(),FALSE)","v":2},{"$f":"INDIRECT(\"'\"&$S247&\"'!R\"&$T247&\"C\"&COLUMN(),FALSE)","v":{"$error":"#N/A"}},{"$f":"INDIRECT(\"'\"&$S247&\"'!R\"&$T247&\"C\"&COLUMN(),FALSE)","v":0},{"$f":"INDIRECT(\"'\"&$S247&\"'!R\"&$T247&\"C\"&COLUMN(),FALSE)","v":"Flight Gudance Control panel (A/Pilot etc)"},{"$f":"INDIRECT(\"'\"&$S247&\"'!R\"&$T247&\"C\"&COLUMN(),FALSE)","v":""},null,"",243,{"$error":"#N/A"},"bizjet",44]
[{"$f":"INDIRECT(\"'\"&$S248&\"'!R\"&$T248&\"C\"&COLUMN(),FALSE)","v":0},{"$f":"INDIRECT(\"'\"&$S248&\"'!R\"&$T248&\"C\"&COLUMN(),FALSE)","v":""},{"$f":"INDIRECT(\"'\"&$S248&\"'!R\"&$T248&\"C\"&COLUMN(),FALSE)","v":15000},{"$f":"INDIRECT(\"'\"&$S248&\"'!R\"&$T248&\"C\"&COLUMN(),FALSE)","v":{"$error":"#VALUE!"}},{"$f":"INDIRECT(\"'\"&$S248&\"'!R\"&$T248&\"C\"&COLUMN(),FALSE)","v":16776.044420941304},{"$f":"INDIRECT(\"'\"&$S248&\"'!R\"&$T248&\"C\"&COLUMN(),FALSE)","v":"Validated PW 2020"},{"$f":"INDIRECT(\"'\"&$S248&\"'!R\"&$T248&\"C\"&COLUMN(),FALSE)","v":17000},{"$f":"INDIRECT(\"'\"&$S248&\"'!R\"&$T248&\"C\"&COLUMN(),FALSE)","v":{"$error":"#VALUE!"}},{"$f":"INDIRECT(\"'\"&$S248&\"'!R\"&$T248&\"C\"&COLUMN(),FALSE)","v":"HWL"},{"$f":"INDIRECT(\"'\"&$S248&\"'!R\"&$T248&\"C\"&COLUMN(),FALSE)","v":2},{"$f":"INDIRECT(\"'\"&$S248&\"'!R\"&$T248&\"C\"&COLUMN(),FALSE)","v":{"$error":"#N/A"}},{"$f":"INDIRECT(\"'\"&$S248&\"'!R\"&$T248&\"C\"&COLUMN(),FALSE)","v":0},{"$f":"INDIRECT(\"'\"&$S248&\"'!R\"&$T248&\"C\"&COLUMN(),FALSE)","v":"TCAS transceiver"},{"$f":"INDIRECT(\"'\"&$S248&\"'!R\"&$T248&\"C\"&COLUMN(),FALSE)","v":""},null,"",244,{"$error":"#N/A"},"bizjet",45]
[{"$f":"INDIRECT(\"'\"&$S249&\"'!R\"&$T249&\"C\"&COLUMN(),FALSE)","v":0},{"$f":"INDIRECT(\"'\"&$S249&\"'!R\"&$T249&\"C\"&COLUMN(),FALSE)","v":""},{"$f":"INDIRECT(\"'\"&$S249&\"'!R\"&$T249&\"C\"&COLUMN(),FALSE)","v":0},{"$f":"INDIRECT(\"'\"&$S249&\"'!R\"&$T249&\"C\"&COLUMN(),FALSE)","v":{"$error":"#VALUE!"}},{"$f":"INDIRECT(\"'\"&$S249&\"'!R\"&$T249&\"C\"&COLUMN(),FALSE)","v":0},{"$f":"INDIRECT(\"'\"&$S249&\"'!R\"&$T249&\"C\"&COLUMN(),FALSE)","v":"Validated PW 2020"},{"$f":"INDIRECT(\"'\"&$S249&\"'!R\"&$T249&\"C\"&COLUMN(),FALSE)","v":0},{"$f":"INDIRECT(\"'\"&$S249&\"'!R\"&$T249&\"C\"&COLUMN(),FALSE)","v":{"$error":"#VALUE!"}},{"$f":"INDIRECT(\"'\"&$S249&\"'!R\"&$T249&\"C\"&COLUMN(),FALSE)","v":"HWL"},{"$f":"INDIRECT(\"'\"&$S249&\"'!R\"&$T249&\"C\"&COLUMN(),FALSE)","v":2},{"$f":"INDIRECT(\"'\"&$S249&\"'!R\"&$T249&\"C\"&COLUMN(),FALSE)","v":{"$error":"#N/A"}},{"$f":"INDIRECT(\"'\"&$S249&\"'!R\"&$T249&\"C\"&COLUMN(),FALSE)","v":0},{"$f":"INDIRECT(\"'\"&$S249&\"'!R\"&$T249&\"C\"&COLUMN(),FALSE)","v":"Radio Management Unit (integrated Nav and Comms unit)"},{"$f":"INDIRECT(\"'\"&$S249&\"'!R\"&$T249&\"C\"&COLUMN(),FALSE)","v":""},null,"",245,{"$error":"#N/A"},"bizjet",46]
[{"$f":"INDIRECT(\"'\"&$S250&\"'!R\"&$T250&\"C\"&COLUMN(),FALSE)","v":0},{"$f":"INDIRECT(\"'\"&$S250&\"'!R\"&$T250&\"C\"&COLUMN(),FALSE)","v":""},{"$f":"INDIRECT(\"'\"&$S250&\"'!R\"&$T250&\"C\"&COLUMN(),FALSE)","v":50000},{"$f":"INDIRECT(\"'\"&$S250&\"'!R\"&$T250&\"C\"&COLUMN(),FALSE)","v":{"$error":"#VALUE!"}},{"$f":"INDIRECT(\"'\"&$S250&\"'!R\"&$T250&\"C\"&COLUMN(),FALSE)","v":55920.148069804345},{"$f":"INDIRECT(\"'\"&$S250&\"'!R\"&$T250&\"C\"&COLUMN(),FALSE)","v":"Validated PW 2020"},{"$f":"INDIRECT(\"'\"&$S250&\"'!R\"&$T250&\"C\"&COLUMN(),FALSE)","v":56000},{"$f":"INDIRECT(\"'\"&$S250&\"'!R\"&$T250&\"C\"&COLUMN(),FALSE)","v":{"$error":"#VALUE!"}},{"$f":"INDIRECT(\"'\"&$S250&\"'!R\"&$T250&\"C\"&COLUMN(),FALSE)","v":0},{"$f":"INDIRECT(\"'\"&$S250&\"'!R\"&$T250&\"C\"&COLUMN(),FALSE)","v":2},{"$f":"INDIRECT(\"'\"&$S250&\"'!R\"&$T250&\"C\"&COLUMN(),FALSE)","v":{"$error":"#N/A"}},{"$f":"INDIRECT(\"'\"&$S250&\"'!R\"&$T250&\"C\"&COLUMN(),FALSE)","v":0},{"$f":"INDIRECT(\"'\"&$S250&\"'!R\"&$T250&\"C\"&COLUMN(),FALSE)","v":"Comms part"},{"$f":"INDIRECT(\"'\"&$S250&\"'!R\"&$T250&\"C\"&COLUMN(),FALSE)","v":""},null,"",246,{"$error":"#N/A"},"bizjet",47]
[{"$f":"INDIRECT(\"'\"&$S251&\"'!R\"&$T251&\"C\"&COLUMN(),FALSE)","v":0},{"$f":"INDIRECT(\"'\"&$S251&\"'!R\"&$T251&\"C\"&COLUMN(),FALSE)","v":""},{"$f":"INDIRECT(\"'\"&$S251&\"'!R\"&$T251&\"C\"&COLUMN(),FALSE)","v":50000},{"$f":"INDIRECT(\"'\"&$S251&\"'!R\"&$T251&\"C\"&COLUMN(),FALSE)","v":{"$error":"#VALUE!"}},{"$f":"INDIRECT(\"'\"&$S251&\"'!R\"&$T251&\"C\"&COLUMN(),FALSE)","v":55920.148069804345},{"$f":"INDIRECT(\"'\"&$S251&\"'!R\"&$T251&\"C\"&COLUMN(),FALSE)","v":"Validated PW 2020"},{"$f":"INDIRECT(\"'\"&$S251&\"'!R\"&$T251&\"C\"&COLUMN(),FALSE)","v":56000},{"$f":"INDIRECT(\"'\"&$S251&\"'!R\"&$T251&\"C\"&COLUMN(),FALSE)","v":{"$error":"#VALUE!"}},{"$f":"INDIRECT(\"'\"&$S251&\"'!R\"&$T251&\"C\"&COLUMN(),FALSE)","v":0},{"$f":"INDIRECT(\"'\"&$S251&\"'!R\"&$T251&\"C\"&COLUMN(),FALSE)","v":2},{"$f":"INDIRECT(\"'\"&$S251&\"'!R\"&$T251&\"C\"&COLUMN(),FALSE)","v":{"$error":"#N/A"}},{"$f":"INDIRECT(\"'\"&$S251&\"'!R\"&$T251&\"C\"&COLUMN(),FALSE)","v":0},{"$f":"INDIRECT(\"'\"&$S251&\"'!R\"&$T251&\"C\"&COLUMN(),FALSE)","v":"Nav part"},{"$f":"INDIRECT(\"'\"&$S251&\"'!R\"&$T251&\"C\"&COLUMN(),FALSE)","v":""},null,"",247,{"$error":"#N/A"},"bizjet",48]
[{"$f":"INDIRECT(\"'\"&$S252&\"'!R\"&$T252&\"C\"&COLUMN(),FALSE)","v":"150#710"},{"$f":"INDIRECT(\"'\"&$S252&\"'!R\"&$T252&\"C\"&COLUMN(),FALSE)","v":46970},{"$f":"INDIRECT(\"'\"&$S252&\"'!R\"&$T252&\"C\"&COLUMN(),FALSE)","v":40000},{"$f":"INDIRECT(\"'\"&$S252&\"'!R\"&$T252&\"C\"&COLUMN(),FALSE)","v":52531.387096774197},{"$f":"INDIRECT(\"'\"&$S252&\"'!R\"&$T252&\"C\"&COLUMN(),FALSE)","v":44736.118455843476},{"$f":"INDIRECT(\"'\"&$S252&\"'!R\"&$T252&\"C\"&COLUMN(),FALSE)","v":"Used Model 2024"},{"$f":"INDIRECT(\"'\"&$S252&\"'!R\"&$T252&\"C\"&COLUMN(),FALSE)","v":52531.387096774197},{"$f":"INDIRECT(\"'\"&$S252&\"'!R\"&$T252&\"C\"&COLUMN(),FALSE)","v":0.17424999999999999},{"$f":"INDIRECT(\"'\"&$S252&\"'!R\"&$T252&\"C\"&COLUMN(),FALSE)","v":"Thales"},{"$f":"INDIRECT(\"'\"&$S252&\"'!R\"&$T252&\"C\"&COLUMN(),FALSE)","v":2},{"$f":"INDIRECT(\"'\"&$S252&\"'!R\"&$T252&\"C\"&COLUMN(),FALSE)","v":"K"},{"$f":"INDIRECT(\"'\"&$S252&\"'!R\"&$T252&\"C\"&COLUMN(),FALSE)","v":"MCDU"},{"$f":"INDIRECT(\"'\"&$S252&\"'!R\"&$T252&\"C\"&COLUMN(),FALSE)","v":"FMS MCDUs"},{"$f":"INDIRECT(\"'\"&$S252&\"'!R\"&$T252&\"C\"&COLUMN(),FALSE)","v":46970},null,"150",248,"46970#K","Mil trans",5]
[{"$f":"INDIRECT(\"'\"&$S253&\"'!R\"&$T253&\"C\"&COLUMN(),FALSE)","v":"150#721"},{"$f":"INDIRECT(\"'\"&$S253&\"'!R\"&$T253&\"C\"&COLUMN(),FALSE)","v":26597},{"$f":"INDIRECT(\"'\"&$S253&\"'!R\"&$T253&\"C\"&COLUMN(),FALSE)","v":25000},{"$f":"INDIRECT(\"'\"&$S253&\"'!R\"&$T253&\"C\"&COLUMN(),FALSE)","v":29746.163564251721},{"$f":"INDIRECT(\"'\"&$S253&\"'!R\"&$T253&\"C\"&COLUMN(),FALSE)","v":27960.074034902173},{"$f":"INDIRECT(\"'\"&$S253&\"'!R\"&$T253&\"C\"&COLUMN(),FALSE)","v":"Used Model 2024"},{"$f":"INDIRECT(\"'\"&$S253&\"'!R\"&$T253&\"C\"&COLUMN(),FALSE)","v":29746.163564251721},{"$f":"INDIRECT(\"'\"&$S253&\"'!R\"&$T253&\"C\"&COLUMN(),FALSE)","v":6.3880000000000006E-2},{"$f":"INDIRECT(\"'\"&$S253&\"'!R\"&$T253&\"C\"&COLUMN(),FALSE)","v":0},{"$f":"INDIRECT(\"'\"&$S253&\"'!R\"&$T253&\"C\"&COLUMN(),FALSE)","v":2},{"$f":"INDIRECT(\"'\"&$S253&\"'!R\"&$T253&\"C\"&COLUMN(),FALSE)","v":"P"},{"$f":"INDIRECT(\"'\"&$S253&\"'!R\"&$T253&\"C\"&COLUMN(),FALSE)","v":"Air Data Modules (ADM)"},{"$f":"INDIRECT(\"'\"&$S253&\"'!R\"&$T253&\"C\"&COLUMN(),FALSE)","v":"Air Data Computers"},{"$f":"INDIRECT(\"'\"&$S253&\"'!R\"&$T253&\"C\"&COLUMN(),FALSE)","v":26597},null,"150",249,"26597#P","Mil trans",6]
[{"$f":"INDIRECT(\"'\"&$S254&\"'!R\"&$T254&\"C\"&COLUMN(),FALSE)","v":"150#722"},{"$f":"INDIRECT(\"'\"&$S254&\"'!R\"&$T254&\"C\"&COLUMN(),FALSE)","v":13200},{"$f":"INDIRECT(\"'\"&$S254&\"'!R\"&$T254&\"C\"&COLUMN(),FALSE)","v":10000},{"$f":"INDIRECT(\"'\"&$S254&\"'!R\"&$T254&\"C\"&COLUMN(),FALSE)","v":14762.919090428346},{"$f":"INDIRECT(\"'\"&$S254&\"'!R\"&$T254&\"C\"&COLUMN(),FALSE)","v":11184.029613960869},{"$f":"INDIRECT(\"'\"&$S254&\"'!R\"&$T254&\"C\"&COLUMN(),FALSE)","v":"Used Model 2024"},{"$f":"INDIRECT(\"'\"&$S254&\"'!R\"&$T254&\"C\"&COLUMN(),FALSE)","v":14762.919090428346},{"$f":"INDIRECT(\"'\"&$S254&\"'!R\"&$T254&\"C\"&COLUMN(),FALSE)","v":0.32},{"$f":"INDIRECT(\"'\"&$S254&\"'!R\"&$T254&\"C\"&COLUMN(),FALSE)","v":0},{"$f":"INDIRECT(\"'\"&$S254&\"'!R\"&$T254&\"C\"&COLUMN(),FALSE)","v":8},{"$f":"INDIRECT(\"'\"&$S254&\"'!R\"&$T254&\"C\"&COLUMN(),FALSE)","v":"I1"},{"$f":"INDIRECT(\"'\"&$S254&\"'!R\"&$T254&\"C\"&COLUMN(),FALSE)","v":"Air data probes (pitot/static)"},{"$f":"INDIRECT(\"'\"&$S254&\"'!R\"&$T254&\"C\"&COLUMN(),FALSE)","v":"Air data pitot static sensors"},{"$f":"INDIRECT(\"'\"&$S254&\"'!R\"&$T254&\"C\"&COLUMN(),FALSE)","v":13200},null,"150",250,"13200#I1","Mil trans",7]
[{"$f":"INDIRECT(\"'\"&$S255&\"'!R\"&$T255&\"C\"&COLUMN(),FALSE)","v":"150#723"},{"$f":"INDIRECT(\"'\"&$S255&\"'!R\"&$T255&\"C\"&COLUMN(),FALSE)","v":44327},{"$f":"INDIRECT(\"'\"&$S255&\"'!R\"&$T255&\"C\"&COLUMN(),FALSE)","v":80000},{"$f":"INDIRECT(\"'\"&$S255&\"'!R\"&$T255&\"C\"&COLUMN(),FALSE)","v":49575.448069804341},{"$f":"INDIRECT(\"'\"&$S255&\"'!R\"&$T255&\"C\"&COLUMN(),FALSE)","v":89472.236911686952},{"$f":"INDIRECT(\"'\"&$S255&\"'!R\"&$T255&\"C\"&COLUMN(),FALSE)","v":"Used Model 2024"},{"$f":"INDIRECT(\"'\"&$S255&\"'!R\"&$T255&\"C\"&COLUMN(),FALSE)","v":49575.448069804341},{"$f":"INDIRECT(\"'\"&$S255&\"'!R\"&$T255&\"C\"&COLUMN(),FALSE)","v":-0.44591249999999999},{"$f":"INDIRECT(\"'\"&$S255&\"'!R\"&$T255&\"C\"&COLUMN(),FALSE)","v":"Thales"},{"$f":"INDIRECT(\"'\"&$S255&\"'!R\"&$T255&\"C\"&COLUMN(),FALSE)","v":2},{"$f":"INDIRECT(\"'\"&$S255&\"'!R\"&$T255&\"C\"&COLUMN(),FALSE)","v":"D1"},{"$f":"INDIRECT(\"'\"&$S255&\"'!R\"&$T255&\"C\"&COLUMN(),FALSE)","v":"Multi Mode Receiver (MMR)"},{"$f":"INDIRECT(\"'\"&$S255&\"'!R\"&$T255&\"C\"&COLUMN(),FALSE)","v":"Multi Mode Receiver incl"},{"$f":"INDIRECT(\"'\"&$S255&\"'!R\"&$T255&\"C\"&COLUMN(),FALSE)","v":44327},null,"150",251,"44327#D1","Mil trans",8]
[{"$f":"INDIRECT(\"'\"&$S256&\"'!R\"&$T256&\"C\"&COLUMN(),FALSE)","v":"150#726"},{"$f":"INDIRECT(\"'\"&$S256&\"'!R\"&$T256&\"C\"&COLUMN(),FALSE)","v":65788},{"$f":"INDIRECT(\"'\"&$S256&\"'!R\"&$T256&\"C\"&COLUMN(),FALSE)","v":65000},{"$f":"INDIRECT(\"'\"&$S256&\"'!R\"&$T256&\"C\"&COLUMN(),FALSE)","v":73577.494024325759},{"$f":"INDIRECT(\"'\"&$S256&\"'!R\"&$T256&\"C\"&COLUMN(),FALSE)","v":72696.192490745641},{"$f":"INDIRECT(\"'\"&$S256&\"'!R\"&$T256&\"C\"&COLUMN(),FALSE)","v":"Used Model 2024"},{"$f":"INDIRECT(\"'\"&$S256&\"'!R\"&$T256&\"C\"&COLUMN(),FALSE)","v":73577.494024325759},{"$f":"INDIRECT(\"'\"&$S256&\"'!R\"&$T256&\"C\"&COLUMN(),FALSE)","v":1.2123076923076924E-2},{"$f":"INDIRECT(\"'\"&$S256&\"'!R\"&$T256&\"C\"&COLUMN(),FALSE)","v":"Thales"},{"$f":"INDIRECT(\"'\"&$S256&\"'!R\"&$T256&\"C\"&COLUMN(),FALSE)","v":6},{"$f":"INDIRECT(\"'\"&$S256&\"'!R\"&$T256&\"C\"&COLUMN(),FALSE)","v":"F"},{"$f":"INDIRECT(\"'\"&$S256&\"'!R\"&$T256&\"C\"&COLUMN(),FALSE)","v":"Primary Flight Display (EFIS)"},{"$f":"INDIRECT(\"'\"&$S256&\"'!R\"&$T256&\"C\"&COLUMN(),FALSE)","v":"Cockpit displays"},{"$f":"INDIRECT(\"'\"&$S256&\"'!R\"&$T256&\"C\"&COLUMN(),FALSE)","v":65788},null,"150",252,"65788#F","Mil trans",9]
[{"$f":"INDIRECT(\"'\"&$S257&\"'!R\"&$T257&\"C\"&COLUMN(),FALSE)","v":"150#730"},{"$f":"INDIRECT(\"'\"&$S257&\"'!R\"&$T257&\"C\"&COLUMN(),FALSE)","v":151818},{"$f":"INDIRECT(\"'\"&$S257&\"'!R\"&$T257&\"C\"&COLUMN(),FALSE)","v":125000},{"$f":"INDIRECT(\"'\"&$S257&\"'!R\"&$T257&\"C\"&COLUMN(),FALSE)","v":169793.70079323111},{"$f":"INDIRECT(\"'\"&$S257&\"'!R\"&$T257&\"C\"&COLUMN(),FALSE)","v":139800.37017451087},{"$f":"INDIRECT(\"'\"&$S257&\"'!R\"&$T257&\"C\"&COLUMN(),FALSE)","v":"Used Model 2024"},{"$f":"INDIRECT(\"'\"&$S257&\"'!R\"&$T257&\"C\"&COLUMN(),FALSE)","v":169793.70079323111},{"$f":"INDIRECT(\"'\"&$S257&\"'!R\"&$T257&\"C\"&COLUMN(),FALSE)","v":0.21454400000000001},{"$f":"INDIRECT(\"'\"&$S257&\"'!R\"&$T257&\"C\"&COLUMN(),FALSE)","v":"Thales"},{"$f":"INDIRECT(\"'\"&$S257&\"'!R\"&$T257&\"C\"&COLUMN(),FALSE)","v":2},{"$f":"INDIRECT(\"'\"&$S257&\"'!R\"&$T257&\"C\"&COLUMN(),FALSE)","v":"H"},{"$f":"INDIRECT(\"'\"&$S257&\"'!R\"&$T257&\"C\"&COLUMN(),FALSE)","v":"HUD display system"},{"$f":"INDIRECT(\"'\"&$S257&\"'!R\"&$T257&\"C\"&COLUMN(),FALSE)","v":"Head Up Displays (incl Enhanced Synthetic Vision("},{"$f":"INDIRECT(\"'\"&$S257&\"'!R\"&$T257&\"C\"&COLUMN(),FALSE)","v":151818},null,"150",253,"151818#H","Mil trans",10]
[{"$f":"INDIRECT(\"'\"&$S258&\"'!R\"&$T258&\"C\"&COLUMN(),FALSE)","v":"150#764"},{"$f":"INDIRECT(\"'\"&$S258&\"'!R\"&$T258&\"C\"&COLUMN(),FALSE)","v":15958},{"$f":"INDIRECT(\"'\"&$S258&\"'!R\"&$T258&\"C\"&COLUMN(),FALSE)","v":15000},{"$f":"INDIRECT(\"'\"&$S258&\"'!R\"&$T258&\"C\"&COLUMN(),FALSE)","v":17847.474457958753},{"$f":"INDIRECT(\"'\"&$S258&\"'!R\"&$T258&\"C\"&COLUMN(),FALSE)","v":16776.044420941304},{"$f":"INDIRECT(\"'\"&$S258&\"'!R\"&$T258&\"C\"&COLUMN(),FALSE)","v":"Used Model 2024"},{"$f":"INDIRECT(\"'\"&$S258&\"'!R\"&$T258&\"C\"&COLUMN(),FALSE)","v":17847.474457958753},{"$f":"INDIRECT(\"'\"&$S258&\"'!R\"&$T258&\"C\"&COLUMN(),FALSE)","v":6.3866666666666669E-2},{"$f":"INDIRECT(\"'\"&$S258&\"'!R\"&$T258&\"C\"&COLUMN(),FALSE)","v":"HWL ?"},{"$f":"INDIRECT(\"'\"&$S258&\"'!R\"&$T258&\"C\"&COLUMN(),FALSE)","v":2},{"$f":"INDIRECT(\"'\"&$S258&\"'!R\"&$T258&\"C\"&COLUMN(),FALSE)","v":"F1"},{"$f":"INDIRECT(\"'\"&$S258&\"'!R\"&$T258&\"C\"&COLUMN(),FALSE)","v":"Radar altimeters"},{"$f":"INDIRECT(\"'\"&$S258&\"'!R\"&$T258&\"C\"&COLUMN(),FALSE)","v":0},{"$f":"INDIRECT(\"'\"&$S258&\"'!R\"&$T258&\"C\"&COLUMN(),FALSE)","v":15958},null,"150",254,"15958#F1","Mil trans",11]
[{"$f":"INDIRECT(\"'\"&$S259&\"'!R\"&$T259&\"C\"&COLUMN(),FALSE)","v":"150#814"},{"$f":"INDIRECT(\"'\"&$S259&\"'!R\"&$T259&\"C\"&COLUMN(),FALSE)","v":81034},{"$f":"INDIRECT(\"'\"&$S259&\"'!R\"&$T259&\"C\"&COLUMN(),FALSE)","v":{"$error":"#N/A"}},{"$f":"INDIRECT(\"'\"&$S259&\"'!R\"&$T259&\"C\"&COLUMN(),FALSE)","v":90628.6655737705},{"$f":"INDIRECT(\"'\"&$S259&\"'!R\"&$T259&\"C\"&COLUMN(),FALSE)","v":{"$error":"#N/A"}},{"$f":"INDIRECT(\"'\"&$S259&\"'!R\"&$T259&\"C\"&COLUMN(),FALSE)","v":"Used Model 2024"},{"$f":"INDIRECT(\"'\"&$S259&\"'!R\"&$T259&\"C\"&COLUMN(),FALSE)","v":90628.6655737705},{"$f":"INDIRECT(\"'\"&$S259&\"'!R\"&$T259&\"C\"&COLUMN(),FALSE)","v":{"$error":"#N/A"}},{"$f":"INDIRECT(\"'\"&$S259&\"'!R\"&$T259&\"C\"&COLUMN(),FALSE)","v":{"$error":"#N/A"}},{"$f":"INDIRECT(\"'\"&$S259&\"'!R\"&$T259&\"C\"&COLUMN(),FALSE)","v":3},{"$f":"INDIRECT(\"'\"&$S259&\"'!R\"&$T259&\"C\"&COLUMN(),FALSE)","v":"A"},{"$f":"INDIRECT(\"'\"&$S259&\"'!R\"&$T259&\"C\"&COLUMN(),FALSE)","v":"Multi mode radar"},{"$f":"INDIRECT(\"'\"&$S259&\"'!R\"&$T259&\"C\"&COLUMN(),FALSE)","v":0},{"$f":"INDIRECT(\"'\"&$S259&\"'!R\"&$T259&\"C\"&COLUMN(),FALSE)","v":81034},null,"150",255,"81034#A","Mil trans",12]
[{"$f":"INDIRECT(\"'\"&$S260&\"'!R\"&$T260&\"C\"&COLUMN(),FALSE)","v":"150#825"},{"$f":"INDIRECT(\"'\"&$S260&\"'!R\"&$T260&\"C\"&COLUMN(),FALSE)","v":97116},{"$f":"INDIRECT(\"'\"&$S260&\"'!R\"&$T260&\"C\"&COLUMN(),FALSE)","v":{"$error":"#N/A"}},{"$f":"INDIRECT(\"'\"&$S260&\"'!R\"&$T260&\"C\"&COLUMN(),FALSE)","v":108614.82199894237},{"$f":"INDIRECT(\"'\"&$S260&\"'!R\"&$T260&\"C\"&COLUMN(),FALSE)","v":{"$error":"#N/A"}},{"$f":"INDIRECT(\"'\"&$S260&\"'!R\"&$T260&\"C\"&COLUMN(),FALSE)","v":"Used Model 2024"},{"$f":"INDIRECT(\"'\"&$S260&\"'!R\"&$T260&\"C\"&COLUMN(),FALSE)","v":108614.82199894237},{"$f":"INDIRECT(\"'\"&$S260&\"'!R\"&$T260&\"C\"&COLUMN(),FALSE)","v":{"$error":"#N/A"}},{"$f":"INDIRECT(\"'\"&$S260&\"'!R\"&$T260&\"C\"&COLUMN(),FALSE)","v":{"$error":"#N/A"}},{"$f":"INDIRECT(\"'\"&$S260&\"'!R\"&$T260&\"C\"&COLUMN(),FALSE)","v":1},{"$f":"INDIRECT(\"'\"&$S260&\"'!R\"&$T260&\"C\"&COLUMN(),FALSE)","v":"N"},{"$f":"INDIRECT(\"'\"&$S260&\"'!R\"&$T260&\"C\"&COLUMN(),FALSE)","v":"Auto pilot system"},{"$f":"INDIRECT(\"'\"&$S260&\"'!R\"&$T260&\"C\"&COLUMN(),FALSE)","v":0},{"$f":"INDIRECT(\"'\"&$S260&\"'!R\"&$T260&\"C\"&COLUMN(),FALSE)","v":97116},null,"150",256,"97116#N","Mil trans",13]
[{"$f":"INDIRECT(\"'\"&$S261&\"'!R\"&$T261&\"C\"&COLUMN(),FALSE)","v":"150#833"},{"$f":"INDIRECT(\"'\"&$S261&\"'!R\"&$T261&\"C\"&COLUMN(),FALSE)","v":676984},{"$f":"INDIRECT(\"'\"&$S261&\"'!R\"&$T261&\"C\"&COLUMN(),FALSE)","v":500000},{"$f":"INDIRECT(\"'\"&$S261&\"'!R\"&$T261&\"C\"&COLUMN(),FALSE)","v":757140.91041776852},{"$f":"INDIRECT(\"'\"&$S261&\"'!R\"&$T261&\"C\"&COLUMN(),FALSE)","v":559201.48069804348},{"$f":"INDIRECT(\"'\"&$S261&\"'!R\"&$T261&\"C\"&COLUMN(),FALSE)","v":"Used Model 2024"},{"$f":"INDIRECT(\"'\"&$S261&\"'!R\"&$T261&\"C\"&COLUMN(),FALSE)","v":757140.91041776852},{"$f":"INDIRECT(\"'\"&$S261&\"'!R\"&$T261&\"C\"&COLUMN(),FALSE)","v":0.353968},{"$f":"INDIRECT(\"'\"&$S261&\"'!R\"&$T261&\"C\"&COLUMN(),FALSE)","v":"Thales"},{"$f":"INDIRECT(\"'\"&$S261&\"'!R\"&$T261&\"C\"&COLUMN(),FALSE)","v":1},{"$f":"INDIRECT(\"'\"&$S261&\"'!R\"&$T261&\"C\"&COLUMN(),FALSE)","v":"C"},{"$f":"INDIRECT(\"'\"&$S261&\"'!R\"&$T261&\"C\"&COLUMN(),FALSE)","v":"IMA"},{"$f":"INDIRECT(\"'\"&$S261&\"'!R\"&$T261&\"C\"&COLUMN(),FALSE)","v":0},{"$f":"INDIRECT(\"'\"&$S261&\"'!R\"&$T261&\"C\"&COLUMN(),FALSE)","v":676984},null,"150",257,"676984#C","Mil trans",14]
[{"$f":"INDIRECT(\"'\"&$S262&\"'!R\"&$T262&\"C\"&COLUMN(),FALSE)","v":"150#834"},{"$f":"INDIRECT(\"'\"&$S262&\"'!R\"&$T262&\"C\"&COLUMN(),FALSE)","v":44327},{"$f":"INDIRECT(\"'\"&$S262&\"'!R\"&$T262&\"C\"&COLUMN(),FALSE)","v":40000},{"$f":"INDIRECT(\"'\"&$S262&\"'!R\"&$T262&\"C\"&COLUMN(),FALSE)","v":49575.448069804341},{"$f":"INDIRECT(\"'\"&$S262&\"'!R\"&$T262&\"C\"&COLUMN(),FALSE)","v":44736.118455843476},{"$f":"INDIRECT(\"'\"&$S262&\"'!R\"&$T262&\"C\"&COLUMN(),FALSE)","v":"Used Model 2024"},{"$f":"INDIRECT(\"'\"&$S262&\"'!R\"&$T262&\"C\"&COLUMN(),FALSE)","v":49575.448069804341},{"$f":"INDIRECT(\"'\"&$S262&\"'!R\"&$T262&\"C\"&COLUMN(),FALSE)","v":0.10817499999999999},{"$f":"INDIRECT(\"'\"&$S262&\"'!R\"&$T262&\"C\"&COLUMN(),FALSE)","v":0},{"$f":"INDIRECT(\"'\"&$S262&\"'!R\"&$T262&\"C\"&COLUMN(),FALSE)","v":3},{"$f":"INDIRECT(\"'\"&$S262&\"'!R\"&$T262&\"C\"&COLUMN(),FALSE)","v":"A"},{"$f":"INDIRECT(\"'\"&$S262&\"'!R\"&$T262&\"C\"&COLUMN(),FALSE)","v":"Inertial Reference System"},{"$f":"INDIRECT(\"'\"&$S262&\"'!R\"&$T262&\"C\"&COLUMN(),FALSE)","v":0},{"$f":"INDIRECT(\"'\"&$S262&\"'!R\"&$T262&\"C\"&COLUMN(),FALSE)","v":44327},null,{"$f":"IFERROR(LEFT(A262,SEARCH(\"#\",A262)-1),\"\")","v":"150"},258,{"$f":"N262&\"#\"&IFERROR(LEFT(K262,SEARCH(\" \",K262)-1),K262)","v":"44327#A"},"Mil trans",15]
[{"$f":"INDIRECT(\"'\"&$S263&\"'!R\"&$T263&\"C\"&COLUMN(),FALSE)","v":"150#835"},{"$f":"INDIRECT(\"'\"&$S263&\"'!R\"&$T263&\"C\"&COLUMN(),FALSE)","v":78282},{"$f":"INDIRECT(\"'\"&$S263&\"'!R\"&$T263&\"C\"&COLUMN(),FALSE)","v":75000},{"$f":"INDIRECT(\"'\"&$S263&\"'!R\"&$T263&\"C\"&COLUMN(),FALSE)","v":87550.820624008469},{"$f":"INDIRECT(\"'\"&$S263&\"'!R\"&$T263&\"C\"&COLUMN(),FALSE)","v":83880.22210470651},{"$f":"INDIRECT(\"'\"&$S263&\"'!R\"&$T263&\"C\"&COLUMN(),FALSE)","v":"Used Model 2024"},{"$f":"INDIRECT(\"'\"&$S263&\"'!R\"&$T263&\"C\"&COLUMN(),FALSE)","v":87550.820624008469},{"$f":"INDIRECT(\"'\"&$S263&\"'!R\"&$T263&\"C\"&COLUMN(),FALSE)","v":4.376E-2},{"$f":"INDIRECT(\"'\"&$S263&\"'!R\"&$T263&\"C\"&COLUMN(),FALSE)","v":"Thales"},{"$f":"INDIRECT(\"'\"&$S263&\"'!R\"&$T263&\"C\"&COLUMN(),FALSE)","v":2},{"$f":"INDIRECT(\"'\"&$S263&\"'!R\"&$T263&\"C\"&COLUMN(),FALSE)","v":"A"},{"$f":"INDIRECT(\"'\"&$S263&\"'!R\"&$T263&\"C\"&COLUMN(),FALSE)","v":"Flight Management System"},{"$f":"INDIRECT(\"'\"&$S263&\"'!R\"&$T263&\"C\"&COLUMN(),FALSE)","v":0},{"$f":"INDIRECT(\"'\"&$S263&\"'!R\"&$T263&\"C\"&COLUMN(),FALSE)","v":78282},null,"150",259,"78282#A","Mil trans",16]
[{"$f":"INDIRECT(\"'\"&$S264&\"'!R\"&$T264&\"C\"&COLUMN(),FALSE)","v":"150#836"},{"$f":"INDIRECT(\"'\"&$S264&\"'!R\"&$T264&\"C\"&COLUMN(),FALSE)","v":20243},{"$f":"INDIRECT(\"'\"&$S264&\"'!R\"&$T264&\"C\"&COLUMN(),FALSE)","v":20000},{"$f":"INDIRECT(\"'\"&$S264&\"'!R\"&$T264&\"C\"&COLUMN(),FALSE)","v":22639.831147540986},{"$f":"INDIRECT(\"'\"&$S264&\"'!R\"&$T264&\"C\"&COLUMN(),FALSE)","v":22368.059227921738},{"$f":"INDIRECT(\"'\"&$S264&\"'!R\"&$T264&\"C\"&COLUMN(),FALSE)","v":"Used Model 2024"},{"$f":"INDIRECT(\"'\"&$S264&\"'!R\"&$T264&\"C\"&COLUMN(),FALSE)","v":22639.831147540986},{"$f":"INDIRECT(\"'\"&$S264&\"'!R\"&$T264&\"C\"&COLUMN(),FALSE)","v":1.2149999999999999E-2},{"$f":"INDIRECT(\"'\"&$S264&\"'!R\"&$T264&\"C\"&COLUMN(),FALSE)","v":"Thales"},{"$f":"INDIRECT(\"'\"&$S264&\"'!R\"&$T264&\"C\"&COLUMN(),FALSE)","v":2},{"$f":"INDIRECT(\"'\"&$S264&\"'!R\"&$T264&\"C\"&COLUMN(),FALSE)","v":"A"},{"$f":"INDIRECT(\"'\"&$S264&\"'!R\"&$T264&\"C\"&COLUMN(),FALSE)","v":"Keyboard cursor Control Units (KCCU)"},{"$f":"INDIRECT(\"'\"&$S264&\"'!R\"&$T264&\"C\"&COLUMN(),FALSE)","v":0},{"$f":"INDIRECT(\"'\"&$S264&\"'!R\"&$T264&\"C\"&COLUMN(),FALSE)","v":20243},null,"150",260,"20243#A","Mil trans",17]
[{"$f":"INDIRECT(\"'\"&$S265&\"'!R\"&$T265&\"C\"&COLUMN(),FALSE)","v":"150#837"},{"$f":"INDIRECT(\"'\"&$S265&\"'!R\"&$T265&\"C\"&COLUMN(),FALSE)","v":167409},{"$f":"INDIRECT(\"'\"&$S265&\"'!R\"&$T265&\"C\"&COLUMN(),FALSE)","v":75000},{"$f":"INDIRECT(\"'\"&$S265&\"'!R\"&$T265&\"C\"&COLUMN(),FALSE)","v":187230.72136435751},{"$f":"INDIRECT(\"'\"&$S265&\"'!R\"&$T265&\"C\"&COLUMN(),FALSE)","v":83880.22210470651},{"$f":"INDIRECT(\"'\"&$S265&\"'!R\"&$T265&\"C\"&COLUMN(),FALSE)","v":"Used Model 2024"},{"$f":"INDIRECT(\"'\"&$S265&\"'!R\"&$T265&\"C\"&COLUMN(),FALSE)","v":187230.72136435751},{"$f":"INDIRECT(\"'\"&$S265&\"'!R\"&$T265&\"C\"&COLUMN(),FALSE)","v":1.2321200000000001},{"$f":"INDIRECT(\"'\"&$S265&\"'!R\"&$T265&\"C\"&COLUMN(),FALSE)","v":"Thales??"},{"$f":"INDIRECT(\"'\"&$S265&\"'!R\"&$T265&\"C\"&COLUMN(),FALSE)","v":2},{"$f":"INDIRECT(\"'\"&$S265&\"'!R\"&$T265&\"C\"&COLUMN(),FALSE)","v":"A"},{"$f":"INDIRECT(\"'\"&$S265&\"'!R\"&$T265&\"C\"&COLUMN(),FALSE)","v":"Military Mission Management System"},{"$f":"INDIRECT(\"'\"&$S265&\"'!R\"&$T265&\"C\"&COLUMN(),FALSE)","v":0},{"$f":"INDIRECT(\"'\"&$S265&\"'!R\"&$T265&\"C\"&COLUMN(),FALSE)","v":167409},null,"150",261,"167409#A","Mil trans",18]
[{"$f":"INDIRECT(\"'\"&$S266&\"'!R\"&$T266&\"C\"&COLUMN(),FALSE)","v":"150#838"},{"$f":"INDIRECT(\"'\"&$S266&\"'!R\"&$T266&\"C\"&COLUMN(),FALSE)","v":22164},{"$f":"INDIRECT(\"'\"&$S266&\"'!R\"&$T266&\"C\"&COLUMN(),FALSE)","v":15000},{"$f":"INDIRECT(\"'\"&$S266&\"'!R\"&$T266&\"C\"&COLUMN(),FALSE)","v":24788.283236382867},{"$f":"INDIRECT(\"'\"&$S266&\"'!R\"&$T266&\"C\"&COLUMN(),FALSE)","v":16776.044420941304},{"$f":"INDIRECT(\"'\"&$S266&\"'!R\"&$T266&\"C\"&COLUMN(),FALSE)","v":"Used Model 2024"},{"$f":"INDIRECT(\"'\"&$S266&\"'!R\"&$T266&\"C\"&COLUMN(),FALSE)","v":24788.283236382867},{"$f":"INDIRECT(\"'\"&$S266&\"'!R\"&$T266&\"C\"&COLUMN(),FALSE)","v":0.47760000000000002},{"$f":"INDIRECT(\"'\"&$S266&\"'!R\"&$T266&\"C\"&COLUMN(),FALSE)","v":0},{"$f":"INDIRECT(\"'\"&$S266&\"'!R\"&$T266&\"C\"&COLUMN(),FALSE)","v":2},{"$f":"INDIRECT(\"'\"&$S266&\"'!R\"&$T266&\"C\"&COLUMN(),FALSE)","v":"A"},{"$f":"INDIRECT(\"'\"&$S266&\"'!R\"&$T266&\"C\"&COLUMN(),FALSE)","v":"TACAN"},{"$f":"INDIRECT(\"'\"&$S266&\"'!R\"&$T266&\"C\"&COLUMN(),FALSE)","v":0},{"$f":"INDIRECT(\"'\"&$S266&\"'!R\"&$T266&\"C\"&COLUMN(),FALSE)","v":22164},null,"150",262,"22164#A","Mil trans",19]
[{"$f":"INDIRECT(\"'\"&$S267&\"'!R\"&$T267&\"C\"&COLUMN(),FALSE)","v":"150#839"},{"$f":"INDIRECT(\"'\"&$S267&\"'!R\"&$T267&\"C\"&COLUMN(),FALSE)","v":136744},{"$f":"INDIRECT(\"'\"&$S267&\"'!R\"&$T267&\"C\"&COLUMN(),FALSE)","v":75000},{"$f":"INDIRECT(\"'\"&$S267&\"'!R\"&$T267&\"C\"&COLUMN(),FALSE)","v":152934.8945531465},{"$f":"INDIRECT(\"'\"&$S267&\"'!R\"&$T267&\"C\"&COLUMN(),FALSE)","v":83880.22210470651},{"$f":"INDIRECT(\"'\"&$S267&\"'!R\"&$T267&\"C\"&COLUMN(),FALSE)","v":"Used Model 2024"},{"$f":"INDIRECT(\"'\"&$S267&\"'!R\"&$T267&\"C\"&COLUMN(),FALSE)","v":152934.8945531465},{"$f":"INDIRECT(\"'\"&$S267&\"'!R\"&$T267&\"C\"&COLUMN(),FALSE)","v":0.82325333333333328},{"$f":"INDIRECT(\"'\"&$S267&\"'!R\"&$T267&\"C\"&COLUMN(),FALSE)","v":"HWL"},{"$f":"INDIRECT(\"'\"&$S267&\"'!R\"&$T267&\"C\"&COLUMN(),FALSE)","v":1},{"$f":"INDIRECT(\"'\"&$S267&\"'!R\"&$T267&\"C\"&COLUMN(),FALSE)","v":"A"},{"$f":"INDIRECT(\"'\"&$S267&\"'!R\"&$T267&\"C\"&COLUMN(),FALSE)","v":"Aircraft Environment Surveillance System (AESS)"},{"$f":"INDIRECT(\"'\"&$S267&\"'!R\"&$T267&\"C\"&COLUMN(),FALSE)","v":0},{"$f":"INDIRECT(\"'\"&$S267&\"'!R\"&$T267&\"C\"&COLUMN(),FALSE)","v":136744},null,"150",263,"136744#A","Mil trans",20]
[{"$f":"INDIRECT(\"'\"&$S268&\"'!R\"&$T268&\"C\"&COLUMN(),FALSE)","v":"150#840"},{"$f":"INDIRECT(\"'\"&$S268&\"'!R\"&$T268&\"C\"&COLUMN(),FALSE)","v":73384},{"$f":"INDIRECT(\"'\"&$S268&\"'!R\"&$T268&\"C\"&COLUMN(),FALSE)","v":75000},{"$f":"INDIRECT(\"'\"&$S268&\"'!R\"&$T268&\"C\"&COLUMN(),FALSE)","v":82072.882919090436},{"$f":"INDIRECT(\"'\"&$S268&\"'!R\"&$T268&\"C\"&COLUMN(),FALSE)","v":83880.22210470651},{"$f":"INDIRECT(\"'\"&$S268&\"'!R\"&$T268&\"C\"&COLUMN(),FALSE)","v":"Used Model 2024"},{"$f":"INDIRECT(\"'\"&$S268&\"'!R\"&$T268&\"C\"&COLUMN(),FALSE)","v":82072.882919090436},{"$f":"INDIRECT(\"'\"&$S268&\"'!R\"&$T268&\"C\"&COLUMN(),FALSE)","v":-2.1546666666666665E-2},{"$f":"INDIRECT(\"'\"&$S268&\"'!R\"&$T268&\"C\"&COLUMN(),FALSE)","v":"Collins"},{"$f":"INDIRECT(\"'\"&$S268&\"'!R\"&$T268&\"C\"&COLUMN(),FALSE)","v":1},{"$f":"INDIRECT(\"'\"&$S268&\"'!R\"&$T268&\"C\"&COLUMN(),FALSE)","v":"A"},{"$f":"INDIRECT(\"'\"&$S268&\"'!R\"&$T268&\"C\"&COLUMN(),FALSE)","v":"HF-9500 High Frequency Communications System"},{"$f":"INDIRECT(\"'\"&$S268&\"'!R\"&$T268&\"C\"&COLUMN(),FALSE)","v":0},{"$f":"INDIRECT(\"'\"&$S268&\"'!R\"&$T268&\"C\"&COLUMN(),FALSE)","v":73384},null,"150",264,"73384#A","Mil trans",21]
[{"$f":"INDIRECT(\"'\"&$S269&\"'!R\"&$T269&\"C\"&COLUMN(),FALSE)","v":"150#841"},{"$f":"INDIRECT(\"'\"&$S269&\"'!R\"&$T269&\"C\"&COLUMN(),FALSE)","v":115069},{"$f":"INDIRECT(\"'\"&$S269&\"'!R\"&$T269&\"C\"&COLUMN(),FALSE)","v":100000},{"$f":"INDIRECT(\"'\"&$S269&\"'!R\"&$T269&\"C\"&COLUMN(),FALSE)","v":128693.51036488632},{"$f":"INDIRECT(\"'\"&$S269&\"'!R\"&$T269&\"C\"&COLUMN(),FALSE)","v":111840.29613960869},{"$f":"INDIRECT(\"'\"&$S269&\"'!R\"&$T269&\"C\"&COLUMN(),FALSE)","v":"Used Model 2024"},{"$f":"INDIRECT(\"'\"&$S269&\"'!R\"&$T269&\"C\"&COLUMN(),FALSE)","v":128693.51036488632},{"$f":"INDIRECT(\"'\"&$S269&\"'!R\"&$T269&\"C\"&COLUMN(),FALSE)","v":0.15068999999999999},{"$f":"INDIRECT(\"'\"&$S269&\"'!R\"&$T269&\"C\"&COLUMN(),FALSE)","v":"Collins"},{"$f":"INDIRECT(\"'\"&$S269&\"'!R\"&$T269&\"C\"&COLUMN(),FALSE)","v":1},{"$f":"INDIRECT(\"'\"&$S269&\"'!R\"&$T269&\"C\"&COLUMN(),FALSE)","v":"A"},{"$f":"INDIRECT(\"'\"&$S269&\"'!R\"&$T269&\"C\"&COLUMN(),FALSE)","v":"AFDX databus"},{"$f":"INDIRECT(\"'\"&$S269&\"'!R\"&$T269&\"C\"&COLUMN(),FALSE)","v":0},{"$f":"INDIRECT(\"'\"&$S269&\"'!R\"&$T269&\"C\"&COLUMN(),FALSE)","v":115069},null,"150",265,"115069#A","Mil trans",22]
[{"$f":"INDIRECT(\"'\"&$S270&\"'!R\"&$T270&\"C\"&COLUMN(),FALSE)","v":"150#842"},{"$f":"INDIRECT(\"'\"&$S270&\"'!R\"&$T270&\"C\"&COLUMN(),FALSE)","v":39138},{"$f":"INDIRECT(\"'\"&$S270&\"'!R\"&$T270&\"C\"&COLUMN(),FALSE)","v":40000},{"$f":"INDIRECT(\"'\"&$S270&\"'!R\"&$T270&\"C\"&COLUMN(),FALSE)","v":43772.055103120045},{"$f":"INDIRECT(\"'\"&$S270&\"'!R\"&$T270&\"C\"&COLUMN(),FALSE)","v":44736.118455843476},{"$f":"INDIRECT(\"'\"&$S270&\"'!R\"&$T270&\"C\"&COLUMN(),FALSE)","v":"Used Model 2024"},{"$f":"INDIRECT(\"'\"&$S270&\"'!R\"&$T270&\"C\"&COLUMN(),FALSE)","v":43772.055103120045},{"$f":"INDIRECT(\"'\"&$S270&\"'!R\"&$T270&\"C\"&COLUMN(),FALSE)","v":-2.155E-2},{"$f":"INDIRECT(\"'\"&$S270&\"'!R\"&$T270&\"C\"&COLUMN(),FALSE)","v":"Collins"},{"$f":"INDIRECT(\"'\"&$S270&\"'!R\"&$T270&\"C\"&COLUMN(),FALSE)","v":2},{"$f":"INDIRECT(\"'\"&$S270&\"'!R\"&$T270&\"C\"&COLUMN(),FALSE)","v":"A"},{"$f":"INDIRECT(\"'\"&$S270&\"'!R\"&$T270&\"C\"&COLUMN(),FALSE)","v":"Avionics Comms Router (ACR)"},{"$f":"INDIRECT(\"'\"&$S270&\"'!R\"&$T270&\"C\"&COLUMN(),FALSE)","v":0},{"$f":"INDIRECT(\"'\"&$S270&\"'!R\"&$T270&\"C\"&COLUMN(),FALSE)","v":39138},null,"150",266,"39138#A","Mil trans",23]
[{"$f":"INDIRECT(\"'\"&$S271&\"'!R\"&$T271&\"C\"&COLUMN(),FALSE)","v":"150#843"},{"$f":"INDIRECT(\"'\"&$S271&\"'!R\"&$T271&\"C\"&COLUMN(),FALSE)","v":58707},{"$f":"INDIRECT(\"'\"&$S271&\"'!R\"&$T271&\"C\"&COLUMN(),FALSE)","v":60000},{"$f":"INDIRECT(\"'\"&$S271&\"'!R\"&$T271&\"C\"&COLUMN(),FALSE)","v":65658.082654680067},{"$f":"INDIRECT(\"'\"&$S271&\"'!R\"&$T271&\"C\"&COLUMN(),FALSE)","v":67104.177683765214},{"$f":"INDIRECT(\"'\"&$S271&\"'!R\"&$T271&\"C\"&COLUMN(),FALSE)","v":"Used Model 2024"},{"$f":"INDIRECT(\"'\"&$S271&\"'!R\"&$T271&\"C\"&COLUMN(),FALSE)","v":65658.082654680067},{"$f":"INDIRECT(\"'\"&$S271&\"'!R\"&$T271&\"C\"&COLUMN(),FALSE)","v":-2.155E-2},{"$f":"INDIRECT(\"'\"&$S271&\"'!R\"&$T271&\"C\"&COLUMN(),FALSE)","v":"Thales"},{"$f":"INDIRECT(\"'\"&$S271&\"'!R\"&$T271&\"C\"&COLUMN(),FALSE)","v":1},{"$f":"INDIRECT(\"'\"&$S271&\"'!R\"&$T271&\"C\"&COLUMN(),FALSE)","v":"A"},{"$f":"INDIRECT(\"'\"&$S271&\"'!R\"&$T271&\"C\"&COLUMN(),FALSE)","v":"Central Crypto System"},{"$f":"INDIRECT(\"'\"&$S271&\"'!R\"&$T271&\"C\"&COLUMN(),FALSE)","v":0},{"$f":"INDIRECT(\"'\"&$S271&\"'!R\"&$T271&\"C\"&COLUMN(),FALSE)","v":58707},null,"150",267,"58707#A","Mil trans",24]
[{"$f":"INDIRECT(\"'\"&$S272&\"'!R\"&$T272&\"C\"&COLUMN(),FALSE)","v":"150#844"},{"$f":"INDIRECT(\"'\"&$S272&\"'!R\"&$T272&\"C\"&COLUMN(),FALSE)","v":54998},{"$f":"INDIRECT(\"'\"&$S272&\"'!R\"&$T272&\"C\"&COLUMN(),FALSE)","v":35000},{"$f":"INDIRECT(\"'\"&$S272&\"'!R\"&$T272&\"C\"&COLUMN(),FALSE)","v":61509.926070861984},{"$f":"INDIRECT(\"'\"&$S272&\"'!R\"&$T272&\"C\"&COLUMN(),FALSE)","v":39144.103648863042},{"$f":"INDIRECT(\"'\"&$S272&\"'!R\"&$T272&\"C\"&COLUMN(),FALSE)","v":"Used Model 2024"},{"$f":"INDIRECT(\"'\"&$S272&\"'!R\"&$T272&\"C\"&COLUMN(),FALSE)","v":61509.926070861984},{"$f":"INDIRECT(\"'\"&$S272&\"'!R\"&$T272&\"C\"&COLUMN(),FALSE)","v":0.57137142857142853},{"$f":"INDIRECT(\"'\"&$S272&\"'!R\"&$T272&\"C\"&COLUMN(),FALSE)","v":"Thales"},{"$f":"INDIRECT(\"'\"&$S272&\"'!R\"&$T272&\"C\"&COLUMN(),FALSE)","v":3},{"$f":"INDIRECT(\"'\"&$S272&\"'!R\"&$T272&\"C\"&COLUMN(),FALSE)","v":"A"},{"$f":"INDIRECT(\"'\"&$S272&\"'!R\"&$T272&\"C\"&COLUMN(),FALSE)","v":"Mulit InfraRed alerting System (MIRAS) Sensors"},{"$f":"INDIRECT(\"'\"&$S272&\"'!R\"&$T272&\"C\"&COLUMN(),FALSE)","v":0},{"$f":"INDIRECT(\"'\"&$S272&\"'!R\"&$T272&\"C\"&COLUMN(),FALSE)","v":54998},null,"150",268,"54998#A","Mil trans",25]
[{"$f":"INDIRECT(\"'\"&$S273&\"'!R\"&$T273&\"C\"&COLUMN(),FALSE)","v":"98#735"},{"$f":"INDIRECT(\"'\"&$S273&\"'!R\"&$T273&\"C\"&COLUMN(),FALSE)","v":25303},{"$f":"INDIRECT(\"'\"&$S273&\"'!R\"&$T273&\"C\"&COLUMN(),FALSE)","v":25000},{"$f":"INDIRECT(\"'\"&$S273&\"'!R\"&$T273&\"C\"&COLUMN(),FALSE)","v":28298.950132205187},{"$f":"INDIRECT(\"'\"&$S273&\"'!R\"&$T273&\"C\"&COLUMN(),FALSE)","v":27960.074034902173},{"$f":"INDIRECT(\"'\"&$S273&\"'!R\"&$T273&\"C\"&COLUMN(),FALSE)","v":"Used Model 2024"},{"$f":"INDIRECT(\"'\"&$S273&\"'!R\"&$T273&\"C\"&COLUMN(),FALSE)","v":25303},{"$f":"INDIRECT(\"'\"&$S273&\"'!R\"&$T273&\"C\"&COLUMN(),FALSE)","v":1.2120000000000001E-2},{"$f":"INDIRECT(\"'\"&$S273&\"'!R\"&$T273&\"C\"&COLUMN(),FALSE)","v":0},{"$f":"INDIRECT(\"'\"&$S273&\"'!R\"&$T273&\"C\"&COLUMN(),FALSE)","v":1},{"$f":"INDIRECT(\"'\"&$S273&\"'!R\"&$T273&\"C\"&COLUMN(),FALSE)","v":"C"},{"$f":"INDIRECT(\"'\"&$S273&\"'!R\"&$T273&\"C\"&COLUMN(),FALSE)","v":"Integrated Standby Instrument System"},{"$f":"INDIRECT(\"'\"&$S273&\"'!R\"&$T273&\"C\"&COLUMN(),FALSE)","v":"Standy instrument"},{"$f":"INDIRECT(\"'\"&$S273&\"'!R\"&$T273&\"C\"&COLUMN(),FALSE)","v":25303},null,"98",269,"25303#C","rotorcraft mil",5]
[{"$f":"INDIRECT(\"'\"&$S274&\"'!R\"&$T274&\"C\"&COLUMN(),FALSE)","v":"98#765"},{"$f":"INDIRECT(\"'\"&$S274&\"'!R\"&$T274&\"C\"&COLUMN(),FALSE)","v":50606},{"$f":"INDIRECT(\"'\"&$S274&\"'!R\"&$T274&\"C\"&COLUMN(),FALSE)","v":{"$error":"#N/A"}},{"$f":"INDIRECT(\"'\"&$S274&\"'!R\"&$T274&\"C\"&COLUMN(),FALSE)","v":56597.900264410375},{"$f":"INDIRECT(\"'\"&$S274&\"'!R\"&$T274&\"C\"&COLUMN(),FALSE)","v":{"$error":"#N/A"}},{"$f":"INDIRECT(\"'\"&$S274&\"'!R\"&$T274&\"C\"&COLUMN(),FALSE)","v":"Used Model 2024"},{"$f":"INDIRECT(\"'\"&$S274&\"'!R\"&$T274&\"C\"&COLUMN(),FALSE)","v":50606},{"$f":"INDIRECT(\"'\"&$S274&\"'!R\"&$T274&\"C\"&COLUMN(),FALSE)","v":{"$error":"#N/A"}},{"$f":"INDIRECT(\"'\"&$S274&\"'!R\"&$T274&\"C\"&COLUMN(),FALSE)","v":{"$error":"#N/A"}},{"$f":"INDIRECT(\"'\"&$S274&\"'!R\"&$T274&\"C\"&COLUMN(),FALSE)","v":2},{"$f":"INDIRECT(\"'\"&$S274&\"'!R\"&$T274&\"C\"&COLUMN(),FALSE)","v":"L"},{"$f":"INDIRECT(\"'\"&$S274&\"'!R\"&$T274&\"C\"&COLUMN(),FALSE)","v":"Multi Function Display"},{"$f":"INDIRECT(\"'\"&$S274&\"'!R\"&$T274&\"C\"&COLUMN(),FALSE)","v":0},{"$f":"INDIRECT(\"'\"&$S274&\"'!R\"&$T274&\"C\"&COLUMN(),FALSE)","v":50606},null,"98",270,"50606#L","rotorcraft mil",6]
[{"$f":"INDIRECT(\"'\"&$S275&\"'!R\"&$T275&\"C\"&COLUMN(),FALSE)","v":"98#793"},{"$f":"INDIRECT(\"'\"&$S275&\"'!R\"&$T275&\"C\"&COLUMN(),FALSE)","v":101212},{"$f":"INDIRECT(\"'\"&$S275&\"'!R\"&$T275&\"C\"&COLUMN(),FALSE)","v":75000},{"$f":"INDIRECT(\"'\"&$S275&\"'!R\"&$T275&\"C\"&COLUMN(),FALSE)","v":113195.80052882075},{"$f":"INDIRECT(\"'\"&$S275&\"'!R\"&$T275&\"C\"&COLUMN(),FALSE)","v":83880.22210470651},{"$f":"INDIRECT(\"'\"&$S275&\"'!R\"&$T275&\"C\"&COLUMN(),FALSE)","v":"Used Model 2024"},{"$f":"INDIRECT(\"'\"&$S275&\"'!R\"&$T275&\"C\"&COLUMN(),FALSE)","v":101212},{"$f":"INDIRECT(\"'\"&$S275&\"'!R\"&$T275&\"C\"&COLUMN(),FALSE)","v":0.34949333333333332},{"$f":"INDIRECT(\"'\"&$S275&\"'!R\"&$T275&\"C\"&COLUMN(),FALSE)","v":0},{"$f":"INDIRECT(\"'\"&$S275&\"'!R\"&$T275&\"C\"&COLUMN(),FALSE)","v":1},{"$f":"INDIRECT(\"'\"&$S275&\"'!R\"&$T275&\"C\"&COLUMN(),FALSE)","v":"A"},{"$f":"INDIRECT(\"'\"&$S275&\"'!R\"&$T275&\"C\"&COLUMN(),FALSE)","v":"Pilot Helmet Mounted Display System"},{"$f":"INDIRECT(\"'\"&$S275&\"'!R\"&$T275&\"C\"&COLUMN(),FALSE)","v":"Integrated Helmet and display system"},{"$f":"INDIRECT(\"'\"&$S275&\"'!R\"&$T275&\"C\"&COLUMN(),FALSE)","v":101212},null,"98",271,"101212#A","rotorcraft mil",7]
[{"$f":"INDIRECT(\"'\"&$S276&\"'!R\"&$T276&\"C\"&COLUMN(),FALSE)","v":"98#795"},{"$f":"INDIRECT(\"'\"&$S276&\"'!R\"&$T276&\"C\"&COLUMN(),FALSE)","v":111607},{"$f":"INDIRECT(\"'\"&$S276&\"'!R\"&$T276&\"C\"&COLUMN(),FALSE)","v":{"$error":"#N/A"}},{"$f":"INDIRECT(\"'\"&$S276&\"'!R\"&$T276&\"C\"&COLUMN(),FALSE)","v":124821.59931253307},{"$f":"INDIRECT(\"'\"&$S276&\"'!R\"&$T276&\"C\"&COLUMN(),FALSE)","v":{"$error":"#N/A"}},{"$f":"INDIRECT(\"'\"&$S276&\"'!R\"&$T276&\"C\"&COLUMN(),FALSE)","v":"Used Model 2024"},{"$f":"INDIRECT(\"'\"&$S276&\"'!R\"&$T276&\"C\"&COLUMN(),FALSE)","v":111607},{"$f":"INDIRECT(\"'\"&$S276&\"'!R\"&$T276&\"C\"&COLUMN(),FALSE)","v":{"$error":"#N/A"}},{"$f":"INDIRECT(\"'\"&$S276&\"'!R\"&$T276&\"C\"&COLUMN(),FALSE)","v":{"$error":"#N/A"}},{"$f":"INDIRECT(\"'\"&$S276&\"'!R\"&$T276&\"C\"&COLUMN(),FALSE)","v":2},{"$f":"INDIRECT(\"'\"&$S276&\"'!R\"&$T276&\"C\"&COLUMN(),FALSE)","v":"A1"},{"$f":"INDIRECT(\"'\"&$S276&\"'!R\"&$T276&\"C\"&COLUMN(),FALSE)","v":"Mission computers"},{"$f":"INDIRECT(\"'\"&$S276&\"'!R\"&$T276&\"C\"&COLUMN(),FALSE)","v":0},{"$f":"INDIRECT(\"'\"&$S276&\"'!R\"&$T276&\"C\"&COLUMN(),FALSE)","v":111607},null,"98",272,"111607#A1","rotorcraft mil",8]
[{"$f":"INDIRECT(\"'\"&$S277&\"'!R\"&$T277&\"C\"&COLUMN(),FALSE)","v":"98#825"},{"$f":"INDIRECT(\"'\"&$S277&\"'!R\"&$T277&\"C\"&COLUMN(),FALSE)","v":59764},{"$f":"INDIRECT(\"'\"&$S277&\"'!R\"&$T277&\"C\"&COLUMN(),FALSE)","v":{"$error":"#N/A"}},{"$f":"INDIRECT(\"'\"&$S277&\"'!R\"&$T277&\"C\"&COLUMN(),FALSE)","v":66840.23458487574},{"$f":"INDIRECT(\"'\"&$S277&\"'!R\"&$T277&\"C\"&COLUMN(),FALSE)","v":{"$error":"#N/A"}},{"$f":"INDIRECT(\"'\"&$S277&\"'!R\"&$T277&\"C\"&COLUMN(),FALSE)","v":"Used Model 2024"},{"$f":"INDIRECT(\"'\"&$S277&\"'!R\"&$T277&\"C\"&COLUMN(),FALSE)","v":59764},{"$f":"INDIRECT(\"'\"&$S277&\"'!R\"&$T277&\"C\"&COLUMN(),FALSE)","v":{"$error":"#N/A"}},{"$f":"INDIRECT(\"'\"&$S277&\"'!R\"&$T277&\"C\"&COLUMN(),FALSE)","v":{"$error":"#N/A"}},{"$f":"INDIRECT(\"'\"&$S277&\"'!R\"&$T277&\"C\"&COLUMN(),FALSE)","v":1},{"$f":"INDIRECT(\"'\"&$S277&\"'!R\"&$T277&\"C\"&COLUMN(),FALSE)","v":"K"},{"$f":"INDIRECT(\"'\"&$S277&\"'!R\"&$T277&\"C\"&COLUMN(),FALSE)","v":"Auto pilot system"},{"$f":"INDIRECT(\"'\"&$S277&\"'!R\"&$T277&\"C\"&COLUMN(),FALSE)","v":0},{"$f":"INDIRECT(\"'\"&$S277&\"'!R\"&$T277&\"C\"&COLUMN(),FALSE)","v":59764},null,"98",273,"59764#K","rotorcraft mil",9]
[{"$f":"INDIRECT(\"'\"&$S278&\"'!R\"&$T278&\"C\"&COLUMN(),FALSE)","v":"98#829"},{"$f":"INDIRECT(\"'\"&$S278&\"'!R\"&$T278&\"C\"&COLUMN(),FALSE)","v":98253},{"$f":"INDIRECT(\"'\"&$S278&\"'!R\"&$T278&\"C\"&COLUMN(),FALSE)","v":{"$error":"#N/A"}},{"$f":"INDIRECT(\"'\"&$S278&\"'!R\"&$T278&\"C\"&COLUMN(),FALSE)","v":109886.44616604972},{"$f":"INDIRECT(\"'\"&$S278&\"'!R\"&$T278&\"C\"&COLUMN(),FALSE)","v":{"$error":"#N/A"}},{"$f":"INDIRECT(\"'\"&$S278&\"'!R\"&$T278&\"C\"&COLUMN(),FALSE)","v":"Used Model 2024"},{"$f":"INDIRECT(\"'\"&$S278&\"'!R\"&$T278&\"C\"&COLUMN(),FALSE)","v":98253},{"$f":"INDIRECT(\"'\"&$S278&\"'!R\"&$T278&\"C\"&COLUMN(),FALSE)","v":{"$error":"#N/A"}},{"$f":"INDIRECT(\"'\"&$S278&\"'!R\"&$T278&\"C\"&COLUMN(),FALSE)","v":{"$error":"#N/A"}},{"$f":"INDIRECT(\"'\"&$S278&\"'!R\"&$T278&\"C\"&COLUMN(),FALSE)","v":1},{"$f":"INDIRECT(\"'\"&$S278&\"'!R\"&$T278&\"C\"&COLUMN(),FALSE)","v":"G"},{"$f":"INDIRECT(\"'\"&$S278&\"'!R\"&$T278&\"C\"&COLUMN(),FALSE)","v":"Radar Antenna (nose nounted)"},{"$f":"INDIRECT(\"'\"&$S278&\"'!R\"&$T278&\"C\"&COLUMN(),FALSE)","v":0},{"$f":"INDIRECT(\"'\"&$S278&\"'!R\"&$T278&\"C\"&COLUMN(),FALSE)","v":98253},null,"98",274,"98253#G","rotorcraft mil",10]
[{"$f":"INDIRECT(\"'\"&$S279&\"'!R\"&$T279&\"C\"&COLUMN(),FALSE)","v":"98#833"},{"$f":"INDIRECT(\"'\"&$S279&\"'!R\"&$T279&\"C\"&COLUMN(),FALSE)","v":156228},{"$f":"INDIRECT(\"'\"&$S279&\"'!R\"&$T279&\"C\"&COLUMN(),FALSE)","v":{"$error":"#N/A"}},{"$f":"INDIRECT(\"'\"&$S279&\"'!R\"&$T279&\"C\"&COLUMN(),FALSE)","v":174725.85785298786},{"$f":"INDIRECT(\"'\"&$S279&\"'!R\"&$T279&\"C\"&COLUMN(),FALSE)","v":{"$error":"#N/A"}},{"$f":"INDIRECT(\"'\"&$S279&\"'!R\"&$T279&\"C\"&COLUMN(),FALSE)","v":"Used Model 2024"},{"$f":"INDIRECT(\"'\"&$S279&\"'!R\"&$T279&\"C\"&COLUMN(),FALSE)","v":156228},{"$f":"INDIRECT(\"'\"&$S279&\"'!R\"&$T279&\"C\"&COLUMN(),FALSE)","v":{"$error":"#N/A"}},{"$f":"INDIRECT(\"'\"&$S279&\"'!R\"&$T279&\"C\"&COLUMN(),FALSE)","v":{"$error":"#N/A"}},{"$f":"INDIRECT(\"'\"&$S279&\"'!R\"&$T279&\"C\"&COLUMN(),FALSE)","v":1},{"$f":"INDIRECT(\"'\"&$S279&\"'!R\"&$T279&\"C\"&COLUMN(),FALSE)","v":"A"},{"$f":"INDIRECT(\"'\"&$S279&\"'!R\"&$T279&\"C\"&COLUMN(),FALSE)","v":"IMA"},{"$f":"INDIRECT(\"'\"&$S279&\"'!R\"&$T279&\"C\"&COLUMN(),FALSE)","v":0},{"$f":"INDIRECT(\"'\"&$S279&\"'!R\"&$T279&\"C\"&COLUMN(),FALSE)","v":156228},null,"98",275,"156228#A","rotorcraft mil",11]
[{"$f":"INDIRECT(\"'\"&$S280&\"'!R\"&$T280&\"C\"&COLUMN(),FALSE)","v":"98#847"},{"$f":"INDIRECT(\"'\"&$S280&\"'!R\"&$T280&\"C\"&COLUMN(),FALSE)","v":25303},{"$f":"INDIRECT(\"'\"&$S280&\"'!R\"&$T280&\"C\"&COLUMN(),FALSE)","v":20000},{"$f":"INDIRECT(\"'\"&$S280&\"'!R\"&$T280&\"C\"&COLUMN(),FALSE)","v":28298.950132205187},{"$f":"INDIRECT(\"'\"&$S280&\"'!R\"&$T280&\"C\"&COLUMN(),FALSE)","v":22368.059227921738},{"$f":"INDIRECT(\"'\"&$S280&\"'!R\"&$T280&\"C\"&COLUMN(),FALSE)","v":"Used Model 2024"},{"$f":"INDIRECT(\"'\"&$S280&\"'!R\"&$T280&\"C\"&COLUMN(),FALSE)","v":25303},{"$f":"INDIRECT(\"'\"&$S280&\"'!R\"&$T280&\"C\"&COLUMN(),FALSE)","v":0.26515},{"$f":"INDIRECT(\"'\"&$S280&\"'!R\"&$T280&\"C\"&COLUMN(),FALSE)","v":0},{"$f":"INDIRECT(\"'\"&$S280&\"'!R\"&$T280&\"C\"&COLUMN(),FALSE)","v":2},{"$f":"INDIRECT(\"'\"&$S280&\"'!R\"&$T280&\"C\"&COLUMN(),FALSE)","v":"G"},{"$f":"INDIRECT(\"'\"&$S280&\"'!R\"&$T280&\"C\"&COLUMN(),FALSE)","v":"Engine/fuel/ displays"},{"$f":"INDIRECT(\"'\"&$S280&\"'!R\"&$T280&\"C\"&COLUMN(),FALSE)","v":0},{"$f":"INDIRECT(\"'\"&$S280&\"'!R\"&$T280&\"C\"&COLUMN(),FALSE)","v":25303},null,"98",276,"25303#G","rotorcraft mil",12]
[{"$f":"INDIRECT(\"'\"&$S281&\"'!R\"&$T281&\"C\"&COLUMN(),FALSE)","v":"98#848"},{"$f":"INDIRECT(\"'\"&$S281&\"'!R\"&$T281&\"C\"&COLUMN(),FALSE)","v":53193},{"$f":"INDIRECT(\"'\"&$S281&\"'!R\"&$T281&\"C\"&COLUMN(),FALSE)","v":75000},{"$f":"INDIRECT(\"'\"&$S281&\"'!R\"&$T281&\"C\"&COLUMN(),FALSE)","v":59491.208725542048},{"$f":"INDIRECT(\"'\"&$S281&\"'!R\"&$T281&\"C\"&COLUMN(),FALSE)","v":83880.22210470651},{"$f":"INDIRECT(\"'\"&$S281&\"'!R\"&$T281&\"C\"&COLUMN(),FALSE)","v":"Used Model 2024"},{"$f":"INDIRECT(\"'\"&$S281&\"'!R\"&$T281&\"C\"&COLUMN(),FALSE)","v":53193},{"$f":"INDIRECT(\"'\"&$S281&\"'!R\"&$T281&\"C\"&COLUMN(),FALSE)","v":-0.29076000000000002},{"$f":"INDIRECT(\"'\"&$S281&\"'!R\"&$T281&\"C\"&COLUMN(),FALSE)","v":"HWL"},{"$f":"INDIRECT(\"'\"&$S281&\"'!R\"&$T281&\"C\"&COLUMN(),FALSE)","v":2},{"$f":"INDIRECT(\"'\"&$S281&\"'!R\"&$T281&\"C\"&COLUMN(),FALSE)","v":"J"},{"$f":"INDIRECT(\"'\"&$S281&\"'!R\"&$T281&\"C\"&COLUMN(),FALSE)","v":"Embedded GPS/INS"},{"$f":"INDIRECT(\"'\"&$S281&\"'!R\"&$T281&\"C\"&COLUMN(),FALSE)","v":"Embedded GPS/INS (Heading and Attitude Ref System)"},{"$f":"INDIRECT(\"'\"&$S281&\"'!R\"&$T281&\"C\"&COLUMN(),FALSE)","v":53193},null,"98",277,"53193#J","rotorcraft mil",13]
[{"$f":"INDIRECT(\"'\"&$S282&\"'!R\"&$T282&\"C\"&COLUMN(),FALSE)","v":"98#849"},{"$f":"INDIRECT(\"'\"&$S282&\"'!R\"&$T282&\"C\"&COLUMN(),FALSE)","v":53814},{"$f":"INDIRECT(\"'\"&$S282&\"'!R\"&$T282&\"C\"&COLUMN(),FALSE)","v":35000},{"$f":"INDIRECT(\"'\"&$S282&\"'!R\"&$T282&\"C\"&COLUMN(),FALSE)","v":60185.73696456902},{"$f":"INDIRECT(\"'\"&$S282&\"'!R\"&$T282&\"C\"&COLUMN(),FALSE)","v":39144.103648863042},{"$f":"INDIRECT(\"'\"&$S282&\"'!R\"&$T282&\"C\"&COLUMN(),FALSE)","v":"Used Model 2024"},{"$f":"INDIRECT(\"'\"&$S282&\"'!R\"&$T282&\"C\"&COLUMN(),FALSE)","v":53814},{"$f":"INDIRECT(\"'\"&$S282&\"'!R\"&$T282&\"C\"&COLUMN(),FALSE)","v":0.5375428571428571},{"$f":"INDIRECT(\"'\"&$S282&\"'!R\"&$T282&\"C\"&COLUMN(),FALSE)","v":"LM"},{"$f":"INDIRECT(\"'\"&$S282&\"'!R\"&$T282&\"C\"&COLUMN(),FALSE)","v":1},{"$f":"INDIRECT(\"'\"&$S282&\"'!R\"&$T282&\"C\"&COLUMN(),FALSE)","v":"A"},{"$f":"INDIRECT(\"'\"&$S282&\"'!R\"&$T282&\"C\"&COLUMN(),FALSE)","v":"Joint tactical radio system (JTRS),"},{"$f":"INDIRECT(\"'\"&$S282&\"'!R\"&$T282&\"C\"&COLUMN(),FALSE)","v":" joint tactical radio system (JTRS),"},{"$f":"INDIRECT(\"'\"&$S282&\"'!R\"&$T282&\"C\"&COLUMN(),FALSE)","v":53814},null,"98",278,"53814#A","rotorcraft mil",14]
[{"$f":"INDIRECT(\"'\"&$S283&\"'!R\"&$T283&\"C\"&COLUMN(),FALSE)","v":"98#850"},{"$f":"INDIRECT(\"'\"&$S283&\"'!R\"&$T283&\"C\"&COLUMN(),FALSE)","v":20243},{"$f":"INDIRECT(\"'\"&$S283&\"'!R\"&$T283&\"C\"&COLUMN(),FALSE)","v":20000},{"$f":"INDIRECT(\"'\"&$S283&\"'!R\"&$T283&\"C\"&COLUMN(),FALSE)","v":22639.831147540986},{"$f":"INDIRECT(\"'\"&$S283&\"'!R\"&$T283&\"C\"&COLUMN(),FALSE)","v":22368.059227921738},{"$f":"INDIRECT(\"'\"&$S283&\"'!R\"&$T283&\"C\"&COLUMN(),FALSE)","v":"Used Model 2024"},{"$f":"INDIRECT(\"'\"&$S283&\"'!R\"&$T283&\"C\"&COLUMN(),FALSE)","v":20243},{"$f":"INDIRECT(\"'\"&$S283&\"'!R\"&$T283&\"C\"&COLUMN(),FALSE)","v":1.2149999999999999E-2},{"$f":"INDIRECT(\"'\"&$S283&\"'!R\"&$T283&\"C\"&COLUMN(),FALSE)","v":"NG"},{"$f":"INDIRECT(\"'\"&$S283&\"'!R\"&$T283&\"C\"&COLUMN(),FALSE)","v":1},{"$f":"INDIRECT(\"'\"&$S283&\"'!R\"&$T283&\"C\"&COLUMN(),FALSE)","v":"A"},{"$f":"INDIRECT(\"'\"&$S283&\"'!R\"&$T283&\"C\"&COLUMN(),FALSE)","v":"Pilot Night Vision Sensors (PNVS) systems"},{"$f":"INDIRECT(\"'\"&$S283&\"'!R\"&$T283&\"C\"&COLUMN(),FALSE)","v":"Pilot Night Vision Sensors (PNVS) systems"},{"$f":"INDIRECT(\"'\"&$S283&\"'!R\"&$T283&\"C\"&COLUMN(),FALSE)","v":20243},null,"98",279,"20243#A","rotorcraft mil",15]
[{"$f":"INDIRECT(\"'\"&$S284&\"'!R\"&$T284&\"C\"&COLUMN(),FALSE)","v":"98#851"},{"$f":"INDIRECT(\"'\"&$S284&\"'!R\"&$T284&\"C\"&COLUMN(),FALSE)","v":82497},{"$f":"INDIRECT(\"'\"&$S284&\"'!R\"&$T284&\"C\"&COLUMN(),FALSE)","v":40000},{"$f":"INDIRECT(\"'\"&$S284&\"'!R\"&$T284&\"C\"&COLUMN(),FALSE)","v":92264.889106292976},{"$f":"INDIRECT(\"'\"&$S284&\"'!R\"&$T284&\"C\"&COLUMN(),FALSE)","v":44736.118455843476},{"$f":"INDIRECT(\"'\"&$S284&\"'!R\"&$T284&\"C\"&COLUMN(),FALSE)","v":"Used Model 2024"},{"$f":"INDIRECT(\"'\"&$S284&\"'!R\"&$T284&\"C\"&COLUMN(),FALSE)","v":82497},{"$f":"INDIRECT(\"'\"&$S284&\"'!R\"&$T284&\"C\"&COLUMN(),FALSE)","v":1.062425},{"$f":"INDIRECT(\"'\"&$S284&\"'!R\"&$T284&\"C\"&COLUMN(),FALSE)","v":"NG"},{"$f":"INDIRECT(\"'\"&$S284&\"'!R\"&$T284&\"C\"&COLUMN(),FALSE)","v":1},{"$f":"INDIRECT(\"'\"&$S284&\"'!R\"&$T284&\"C\"&COLUMN(),FALSE)","v":"A"},{"$f":"INDIRECT(\"'\"&$S284&\"'!R\"&$T284&\"C\"&COLUMN(),FALSE)","v":"Millimeter wave fire-control radar, frequency interferometer, fire-and-forget radar"},{"$f":"INDIRECT(\"'\"&$S284&\"'!R\"&$T284&\"C\"&COLUMN(),FALSE)","v":"Northrop Grumman AN/APG-78 millimeter wave fire-control radar, frequency interferometer, fire-and-forget radar"},{"$f":"INDIRECT(\"'\"&$S284&\"'!R\"&$T284&\"C\"&COLUMN(),FALSE)","v":82497},null,"98",280,"82497#A","rotorcraft mil",16]
[{"$f":"INDIRECT(\"'\"&$S285&\"'!R\"&$T285&\"C\"&COLUMN(),FALSE)","v":"98#852"},{"$f":"INDIRECT(\"'\"&$S285&\"'!R\"&$T285&\"C\"&COLUMN(),FALSE)","v":78124},{"$f":"INDIRECT(\"'\"&$S285&\"'!R\"&$T285&\"C\"&COLUMN(),FALSE)","v":30000},{"$f":"INDIRECT(\"'\"&$S285&\"'!R\"&$T285&\"C\"&COLUMN(),FALSE)","v":87374.112956107885},{"$f":"INDIRECT(\"'\"&$S285&\"'!R\"&$T285&\"C\"&COLUMN(),FALSE)","v":33552.088841882607},{"$f":"INDIRECT(\"'\"&$S285&\"'!R\"&$T285&\"C\"&COLUMN(),FALSE)","v":"Used Model 2024"},{"$f":"INDIRECT(\"'\"&$S285&\"'!R\"&$T285&\"C\"&COLUMN(),FALSE)","v":78124},{"$f":"INDIRECT(\"'\"&$S285&\"'!R\"&$T285&\"C\"&COLUMN(),FALSE)","v":1.6041333333333334},{"$f":"INDIRECT(\"'\"&$S285&\"'!R\"&$T285&\"C\"&COLUMN(),FALSE)","v":"LM"},{"$f":"INDIRECT(\"'\"&$S285&\"'!R\"&$T285&\"C\"&COLUMN(),FALSE)","v":1},{"$f":"INDIRECT(\"'\"&$S285&\"'!R\"&$T285&\"C\"&COLUMN(),FALSE)","v":"A"},{"$f":"INDIRECT(\"'\"&$S285&\"'!R\"&$T285&\"C\"&COLUMN(),FALSE)","v":"Modernized Target Acquisition Designation Sight (M-TADS) "},{"$f":"INDIRECT(\"'\"&$S285&\"'!R\"&$T285&\"C\"&COLUMN(),FALSE)","v":"Lockheed Martin Apache Arrowhead Modernized Target Acquisition Designation Sight (M-TADS) "},{"$f":"INDIRECT(\"'\"&$S285&\"'!R\"&$T285&\"C\"&COLUMN(),FALSE)","v":78124},null,"98",281,"78124#A","rotorcraft mil",17]
[{"$f":"INDIRECT(\"'\"&$S286&\"'!R\"&$T286&\"C\"&COLUMN(),FALSE)","v":"98#853"},{"$f":"INDIRECT(\"'\"&$S286&\"'!R\"&$T286&\"C\"&COLUMN(),FALSE)","v":28767},{"$f":"INDIRECT(\"'\"&$S286&\"'!R\"&$T286&\"C\"&COLUMN(),FALSE)","v":18000},{"$f":"INDIRECT(\"'\"&$S286&\"'!R\"&$T286&\"C\"&COLUMN(),FALSE)","v":32173.09799048123},{"$f":"INDIRECT(\"'\"&$S286&\"'!R\"&$T286&\"C\"&COLUMN(),FALSE)","v":20131.253305129565},{"$f":"INDIRECT(\"'\"&$S286&\"'!R\"&$T286&\"C\"&COLUMN(),FALSE)","v":"Used Model 2024"},{"$f":"INDIRECT(\"'\"&$S286&\"'!R\"&$T286&\"C\"&COLUMN(),FALSE)","v":28767},{"$f":"INDIRECT(\"'\"&$S286&\"'!R\"&$T286&\"C\"&COLUMN(),FALSE)","v":0.59816666666666662},{"$f":"INDIRECT(\"'\"&$S286&\"'!R\"&$T286&\"C\"&COLUMN(),FALSE)","v":"GE Aviation"},{"$f":"INDIRECT(\"'\"&$S286&\"'!R\"&$T286&\"C\"&COLUMN(),FALSE)","v":1},{"$f":"INDIRECT(\"'\"&$S286&\"'!R\"&$T286&\"C\"&COLUMN(),FALSE)","v":"A"},{"$f":"INDIRECT(\"'\"&$S286&\"'!R\"&$T286&\"C\"&COLUMN(),FALSE)","v":"Interface maintenance data recorders"},{"$f":"INDIRECT(\"'\"&$S286&\"'!R\"&$T286&\"C\"&COLUMN(),FALSE)","v":0},{"$f":"INDIRECT(\"'\"&$S286&\"'!R\"&$T286&\"C\"&COLUMN(),FALSE)","v":28767},null,"98",282,"28767#A","rotorcraft mil",18]
[{"$f":"INDIRECT(\"'\"&$S287&\"'!R\"&$T287&\"C\"&COLUMN(),FALSE)","v":"98#854"},{"$f":"INDIRECT(\"'\"&$S287&\"'!R\"&$T287&\"C\"&COLUMN(),FALSE)","v":24461},{"$f":"INDIRECT(\"'\"&$S287&\"'!R\"&$T287&\"C\"&COLUMN(),FALSE)","v":25000},{"$f":"INDIRECT(\"'\"&$S287&\"'!R\"&$T287&\"C\"&COLUMN(),FALSE)","v":27357.254838709679},{"$f":"INDIRECT(\"'\"&$S287&\"'!R\"&$T287&\"C\"&COLUMN(),FALSE)","v":27960.074034902173},{"$f":"INDIRECT(\"'\"&$S287&\"'!R\"&$T287&\"C\"&COLUMN(),FALSE)","v":"Used Model 2024"},{"$f":"INDIRECT(\"'\"&$S287&\"'!R\"&$T287&\"C\"&COLUMN(),FALSE)","v":24461},{"$f":"INDIRECT(\"'\"&$S287&\"'!R\"&$T287&\"C\"&COLUMN(),FALSE)","v":-2.1559999999999999E-2},{"$f":"INDIRECT(\"'\"&$S287&\"'!R\"&$T287&\"C\"&COLUMN(),FALSE)","v":0},{"$f":"INDIRECT(\"'\"&$S287&\"'!R\"&$T287&\"C\"&COLUMN(),FALSE)","v":1},{"$f":"INDIRECT(\"'\"&$S287&\"'!R\"&$T287&\"C\"&COLUMN(),FALSE)","v":"A"},{"$f":"INDIRECT(\"'\"&$S287&\"'!R\"&$T287&\"C\"&COLUMN(),FALSE)","v":"Target data acquisition"},{"$f":"INDIRECT(\"'\"&$S287&\"'!R\"&$T287&\"C\"&COLUMN(),FALSE)","v":"Link 16 target data acquisition"},{"$f":"INDIRECT(\"'\"&$S287&\"'!R\"&$T287&\"C\"&COLUMN(),FALSE)","v":24461},null,"98",283,"24461#A","rotorcraft mil",19]
[{"$f":"INDIRECT(\"'\"&$S288&\"'!R\"&$T288&\"C\"&COLUMN(),FALSE)","v":"98#855"},{"$f":"INDIRECT(\"'\"&$S288&\"'!R\"&$T288&\"C\"&COLUMN(),FALSE)","v":43999},{"$f":"INDIRECT(\"'\"&$S288&\"'!R\"&$T288&\"C\"&COLUMN(),FALSE)","v":25000},{"$f":"INDIRECT(\"'\"&$S288&\"'!R\"&$T288&\"C\"&COLUMN(),FALSE)","v":49208.611898466428},{"$f":"INDIRECT(\"'\"&$S288&\"'!R\"&$T288&\"C\"&COLUMN(),FALSE)","v":27960.074034902173},{"$f":"INDIRECT(\"'\"&$S288&\"'!R\"&$T288&\"C\"&COLUMN(),FALSE)","v":"Used Model 2024"},{"$f":"INDIRECT(\"'\"&$S288&\"'!R\"&$T288&\"C\"&COLUMN(),FALSE)","v":43999},{"$f":"INDIRECT(\"'\"&$S288&\"'!R\"&$T288&\"C\"&COLUMN(),FALSE)","v":0.75995999999999997},{"$f":"INDIRECT(\"'\"&$S288&\"'!R\"&$T288&\"C\"&COLUMN(),FALSE)","v":"Nothrop Grumman"},{"$f":"INDIRECT(\"'\"&$S288&\"'!R\"&$T288&\"C\"&COLUMN(),FALSE)","v":2},{"$f":"INDIRECT(\"'\"&$S288&\"'!R\"&$T288&\"C\"&COLUMN(),FALSE)","v":"A"},{"$f":"INDIRECT(\"'\"&$S288&\"'!R\"&$T288&\"C\"&COLUMN(),FALSE)","v":"Radar warning receivers"},{"$f":"INDIRECT(\"'\"&$S288&\"'!R\"&$T288&\"C\"&COLUMN(),FALSE)","v":" AN / APR-39A (V) radar warning receivers"},{"$f":"INDIRECT(\"'\"&$S288&\"'!R\"&$T288&\"C\"&COLUMN(),FALSE)","v":43999},null,"98",284,"43999#A","rotorcraft mil",20]
[{"$f":"INDIRECT(\"'\"&$S289&\"'!R\"&$T289&\"C\"&COLUMN(),FALSE)","v":"98#856"},{"$f":"INDIRECT(\"'\"&$S289&\"'!R\"&$T289&\"C\"&COLUMN(),FALSE)","v":76997},{"$f":"INDIRECT(\"'\"&$S289&\"'!R\"&$T289&\"C\"&COLUMN(),FALSE)","v":40000},{"$f":"INDIRECT(\"'\"&$S289&\"'!R\"&$T289&\"C\"&COLUMN(),FALSE)","v":86113.672818614505},{"$f":"INDIRECT(\"'\"&$S289&\"'!R\"&$T289&\"C\"&COLUMN(),FALSE)","v":44736.118455843476},{"$f":"INDIRECT(\"'\"&$S289&\"'!R\"&$T289&\"C\"&COLUMN(),FALSE)","v":"Used Model 2024"},{"$f":"INDIRECT(\"'\"&$S289&\"'!R\"&$T289&\"C\"&COLUMN(),FALSE)","v":76997},{"$f":"INDIRECT(\"'\"&$S289&\"'!R\"&$T289&\"C\"&COLUMN(),FALSE)","v":0.924925},{"$f":"INDIRECT(\"'\"&$S289&\"'!R\"&$T289&\"C\"&COLUMN(),FALSE)","v":"LM"},{"$f":"INDIRECT(\"'\"&$S289&\"'!R\"&$T289&\"C\"&COLUMN(),FALSE)","v":1},{"$f":"INDIRECT(\"'\"&$S289&\"'!R\"&$T289&\"C\"&COLUMN(),FALSE)","v":"A"},{"$f":"INDIRECT(\"'\"&$S289&\"'!R\"&$T289&\"C\"&COLUMN(),FALSE)","v":"Electronic Interferometer Frequency Radar Supports target acquisition systems"},{"$f":"INDIRECT(\"'\"&$S289&\"'!R\"&$T289&\"C\"&COLUMN(),FALSE)","v":" Lockheed Martin AN / APR-48A Electronic Interferometer Frequency Radar Supports target acquisition systems"},{"$f":"INDIRECT(\"'\"&$S289&\"'!R\"&$T289&\"C\"&COLUMN(),FALSE)","v":76997},null,"98",285,"76997#A","rotorcraft mil",21]
[{"$f":"INDIRECT(\"'\"&$S290&\"'!R\"&$T290&\"C\"&COLUMN(),FALSE)","v":"98#857"},{"$f":"INDIRECT(\"'\"&$S290&\"'!R\"&$T290&\"C\"&COLUMN(),FALSE)","v":83705},{"$f":"INDIRECT(\"'\"&$S290&\"'!R\"&$T290&\"C\"&COLUMN(),FALSE)","v":50000},{"$f":"INDIRECT(\"'\"&$S290&\"'!R\"&$T290&\"C\"&COLUMN(),FALSE)","v":93615.919883659444},{"$f":"INDIRECT(\"'\"&$S290&\"'!R\"&$T290&\"C\"&COLUMN(),FALSE)","v":55920.148069804345},{"$f":"INDIRECT(\"'\"&$S290&\"'!R\"&$T290&\"C\"&COLUMN(),FALSE)","v":"Used Model 2024"},{"$f":"INDIRECT(\"'\"&$S290&\"'!R\"&$T290&\"C\"&COLUMN(),FALSE)","v":83705},{"$f":"INDIRECT(\"'\"&$S290&\"'!R\"&$T290&\"C\"&COLUMN(),FALSE)","v":0.67410000000000003},{"$f":"INDIRECT(\"'\"&$S290&\"'!R\"&$T290&\"C\"&COLUMN(),FALSE)","v":0},{"$f":"INDIRECT(\"'\"&$S290&\"'!R\"&$T290&\"C\"&COLUMN(),FALSE)","v":1},{"$f":"INDIRECT(\"'\"&$S290&\"'!R\"&$T290&\"C\"&COLUMN(),FALSE)","v":"A"},{"$f":"INDIRECT(\"'\"&$S290&\"'!R\"&$T290&\"C\"&COLUMN(),FALSE)","v":"Infra-red countermeasure"},{"$f":"INDIRECT(\"'\"&$S290&\"'!R\"&$T290&\"C\"&COLUMN(),FALSE)","v":"AN / ALQ-144 infra-red countermeasure determined from BAE Systems IEWS "},{"$f":"INDIRECT(\"'\"&$S290&\"'!R\"&$T290&\"C\"&COLUMN(),FALSE)","v":83705},null,"98",286,"83705#A","rotorcraft mil",22]
[{"$f":"INDIRECT(\"'\"&$S291&\"'!R\"&$T291&\"C\"&COLUMN(),FALSE)","v":"98#858"},{"$f":"INDIRECT(\"'\"&$S291&\"'!R\"&$T291&\"C\"&COLUMN(),FALSE)","v":43999},{"$f":"INDIRECT(\"'\"&$S291&\"'!R\"&$T291&\"C\"&COLUMN(),FALSE)","v":30000},{"$f":"INDIRECT(\"'\"&$S291&\"'!R\"&$T291&\"C\"&COLUMN(),FALSE)","v":49208.611898466428},{"$f":"INDIRECT(\"'\"&$S291&\"'!R\"&$T291&\"C\"&COLUMN(),FALSE)","v":33552.088841882607},{"$f":"INDIRECT(\"'\"&$S291&\"'!R\"&$T291&\"C\"&COLUMN(),FALSE)","v":"Used Model 2024"},{"$f":"INDIRECT(\"'\"&$S291&\"'!R\"&$T291&\"C\"&COLUMN(),FALSE)","v":43999},{"$f":"INDIRECT(\"'\"&$S291&\"'!R\"&$T291&\"C\"&COLUMN(),FALSE)","v":0.46663333333333334},{"$f":"INDIRECT(\"'\"&$S291&\"'!R\"&$T291&\"C\"&COLUMN(),FALSE)","v":"Collins"},{"$f":"INDIRECT(\"'\"&$S291&\"'!R\"&$T291&\"C\"&COLUMN(),FALSE)","v":1},{"$f":"INDIRECT(\"'\"&$S291&\"'!R\"&$T291&\"C\"&COLUMN(),FALSE)","v":"A"},{"$f":"INDIRECT(\"'\"&$S291&\"'!R\"&$T291&\"C\"&COLUMN(),FALSE)","v":"Laser warning receiver"},{"$f":"INDIRECT(\"'\"&$S291&\"'!R\"&$T291&\"C\"&COLUMN(),FALSE)","v":" AN / AVR-2 laser warning receiver from Goodrich"},{"$f":"INDIRECT(\"'\"&$S291&\"'!R\"&$T291&\"C\"&COLUMN(),FALSE)","v":43999},null,"98",287,"43999#A","rotorcraft mil",23]
[{"$f":"INDIRECT(\"'\"&$S292&\"'!R\"&$T292&\"C\"&COLUMN(),FALSE)","v":"98#859"},{"$f":"INDIRECT(\"'\"&$S292&\"'!R\"&$T292&\"C\"&COLUMN(),FALSE)","v":54998},{"$f":"INDIRECT(\"'\"&$S292&\"'!R\"&$T292&\"C\"&COLUMN(),FALSE)","v":25000},{"$f":"INDIRECT(\"'\"&$S292&\"'!R\"&$T292&\"C\"&COLUMN(),FALSE)","v":61509.926070861984},{"$f":"INDIRECT(\"'\"&$S292&\"'!R\"&$T292&\"C\"&COLUMN(),FALSE)","v":27960.074034902173},{"$f":"INDIRECT(\"'\"&$S292&\"'!R\"&$T292&\"C\"&COLUMN(),FALSE)","v":"Used Model 2024"},{"$f":"INDIRECT(\"'\"&$S292&\"'!R\"&$T292&\"C\"&COLUMN(),FALSE)","v":54998},{"$f":"INDIRECT(\"'\"&$S292&\"'!R\"&$T292&\"C\"&COLUMN(),FALSE)","v":1.1999200000000001},{"$f":"INDIRECT(\"'\"&$S292&\"'!R\"&$T292&\"C\"&COLUMN(),FALSE)","v":"ITT Aerospace"},{"$f":"INDIRECT(\"'\"&$S292&\"'!R\"&$T292&\"C\"&COLUMN(),FALSE)","v":1},{"$f":"INDIRECT(\"'\"&$S292&\"'!R\"&$T292&\"C\"&COLUMN(),FALSE)","v":"A"},{"$f":"INDIRECT(\"'\"&$S292&\"'!R\"&$T292&\"C\"&COLUMN(),FALSE)","v":"Radar jammer"},{"$f":"INDIRECT(\"'\"&$S292&\"'!R\"&$T292&\"C\"&COLUMN(),FALSE)","v":"AN / ALQ-136 (V) radar jammer developed by ITT;"},{"$f":"INDIRECT(\"'\"&$S292&\"'!R\"&$T292&\"C\"&COLUMN(),FALSE)","v":54998},null,"98",288,"54998#A","rotorcraft mil",24]
[{"$f":"INDIRECT(\"'\"&$S293&\"'!R\"&$T293&\"C\"&COLUMN(),FALSE)","v":"98#860"},{"$f":"INDIRECT(\"'\"&$S293&\"'!R\"&$T293&\"C\"&COLUMN(),FALSE)","v":34520},{"$f":"INDIRECT(\"'\"&$S293&\"'!R\"&$T293&\"C\"&COLUMN(),FALSE)","v":15000},{"$f":"INDIRECT(\"'\"&$S293&\"'!R\"&$T293&\"C\"&COLUMN(),FALSE)","v":38607.270227392917},{"$f":"INDIRECT(\"'\"&$S293&\"'!R\"&$T293&\"C\"&COLUMN(),FALSE)","v":16776.044420941304},{"$f":"INDIRECT(\"'\"&$S293&\"'!R\"&$T293&\"C\"&COLUMN(),FALSE)","v":"Used Model 2024"},{"$f":"INDIRECT(\"'\"&$S293&\"'!R\"&$T293&\"C\"&COLUMN(),FALSE)","v":34520},{"$f":"INDIRECT(\"'\"&$S293&\"'!R\"&$T293&\"C\"&COLUMN(),FALSE)","v":1.3013333333333332},{"$f":"INDIRECT(\"'\"&$S293&\"'!R\"&$T293&\"C\"&COLUMN(),FALSE)","v":0},{"$f":"INDIRECT(\"'\"&$S293&\"'!R\"&$T293&\"C\"&COLUMN(),FALSE)","v":1},{"$f":"INDIRECT(\"'\"&$S293&\"'!R\"&$T293&\"C\"&COLUMN(),FALSE)","v":"A"},{"$f":"INDIRECT(\"'\"&$S293&\"'!R\"&$T293&\"C\"&COLUMN(),FALSE)","v":"Integrated data modem"},{"$f":"INDIRECT(\"'\"&$S293&\"'!R\"&$T293&\"C\"&COLUMN(),FALSE)","v":0},{"$f":"INDIRECT(\"'\"&$S293&\"'!R\"&$T293&\"C\"&COLUMN(),FALSE)","v":34520},null,"98",289,"34520#A","rotorcraft mil",25]
[{"$f":"INDIRECT(\"'\"&$S294&\"'!R\"&$T294&\"C\"&COLUMN(),FALSE)","v":"102#721"},{"$f":"INDIRECT(\"'\"&$S294&\"'!R\"&$T294&\"C\"&COLUMN(),FALSE)","v":22164},{"$f":"INDIRECT(\"'\"&$S294&\"'!R\"&$T294&\"C\"&COLUMN(),FALSE)","v":35000},{"$f":"INDIRECT(\"'\"&$S294&\"'!R\"&$T294&\"C\"&COLUMN(),FALSE)","v":24788.283236382867},{"$f":"INDIRECT(\"'\"&$S294&\"'!R\"&$T294&\"C\"&COLUMN(),FALSE)","v":39144.103648863042},{"$f":"INDIRECT(\"'\"&$S294&\"'!R\"&$T294&\"C\"&COLUMN(),FALSE)","v":"Validated PW 2020"},{"$f":"INDIRECT(\"'\"&$S294&\"'!R\"&$T294&\"C\"&COLUMN(),FALSE)","v":40000},{"$f":"INDIRECT(\"'\"&$S294&\"'!R\"&$T294&\"C\"&COLUMN(),FALSE)","v":-0.36674285714285715},{"$f":"INDIRECT(\"'\"&$S294&\"'!R\"&$T294&\"C\"&COLUMN(),FALSE)","v":"Thales/HWL "},{"$f":"INDIRECT(\"'\"&$S294&\"'!R\"&$T294&\"C\"&COLUMN(),FALSE)","v":2},{"$f":"INDIRECT(\"'\"&$S294&\"'!R\"&$T294&\"C\"&COLUMN(),FALSE)","v":"N"},{"$f":"INDIRECT(\"'\"&$S294&\"'!R\"&$T294&\"C\"&COLUMN(),FALSE)","v":"Air Data Modules (ADM)"},{"$f":"INDIRECT(\"'\"&$S294&\"'!R\"&$T294&\"C\"&COLUMN(),FALSE)","v":"Air data System"},{"$f":"INDIRECT(\"'\"&$S294&\"'!R\"&$T294&\"C\"&COLUMN(),FALSE)","v":22164},null,"102",290,"22164#N","rotocraft civil",5]
[{"$f":"INDIRECT(\"'\"&$S295&\"'!R\"&$T295&\"C\"&COLUMN(),FALSE)","v":"102#733"},{"$f":"INDIRECT(\"'\"&$S295&\"'!R\"&$T295&\"C\"&COLUMN(),FALSE)","v":40485},{"$f":"INDIRECT(\"'\"&$S295&\"'!R\"&$T295&\"C\"&COLUMN(),FALSE)","v":20000},{"$f":"INDIRECT(\"'\"&$S295&\"'!R\"&$T295&\"C\"&COLUMN(),FALSE)","v":45278.543892120579},{"$f":"INDIRECT(\"'\"&$S295&\"'!R\"&$T295&\"C\"&COLUMN(),FALSE)","v":22368.059227921738},{"$f":"INDIRECT(\"'\"&$S295&\"'!R\"&$T295&\"C\"&COLUMN(),FALSE)","v":"PW Low"},{"$f":"INDIRECT(\"'\"&$S295&\"'!R\"&$T295&\"C\"&COLUMN(),FALSE)","v":46000},{"$f":"INDIRECT(\"'\"&$S295&\"'!R\"&$T295&\"C\"&COLUMN(),FALSE)","v":1.0242500000000001},{"$f":"INDIRECT(\"'\"&$S295&\"'!R\"&$T295&\"C\"&COLUMN(),FALSE)","v":0},{"$f":"INDIRECT(\"'\"&$S295&\"'!R\"&$T295&\"C\"&COLUMN(),FALSE)","v":1},{"$f":"INDIRECT(\"'\"&$S295&\"'!R\"&$T295&\"C\"&COLUMN(),FALSE)","v":"H"},{"$f":"INDIRECT(\"'\"&$S295&\"'!R\"&$T295&\"C\"&COLUMN(),FALSE)","v":"Display Management Computer (DMC/EFIS)"},{"$f":"INDIRECT(\"'\"&$S295&\"'!R\"&$T295&\"C\"&COLUMN(),FALSE)","v":"Engine/fuel/ displays"},{"$f":"INDIRECT(\"'\"&$S295&\"'!R\"&$T295&\"C\"&COLUMN(),FALSE)","v":40485},null,"102",291,"40485#H","rotocraft civil",6]
[{"$f":"INDIRECT(\"'\"&$S296&\"'!R\"&$T296&\"C\"&COLUMN(),FALSE)","v":"102#746"},{"$f":"INDIRECT(\"'\"&$S296&\"'!R\"&$T296&\"C\"&COLUMN(),FALSE)","v":43999},{"$f":"INDIRECT(\"'\"&$S296&\"'!R\"&$T296&\"C\"&COLUMN(),FALSE)","v":0},{"$f":"INDIRECT(\"'\"&$S296&\"'!R\"&$T296&\"C\"&COLUMN(),FALSE)","v":49208.611898466428},{"$f":"INDIRECT(\"'\"&$S296&\"'!R\"&$T296&\"C\"&COLUMN(),FALSE)","v":0},{"$f":"INDIRECT(\"'\"&$S296&\"'!R\"&$T296&\"C\"&COLUMN(),FALSE)","v":"PW Low"},{"$f":"INDIRECT(\"'\"&$S296&\"'!R\"&$T296&\"C\"&COLUMN(),FALSE)","v":50000},{"$f":"INDIRECT(\"'\"&$S296&\"'!R\"&$T296&\"C\"&COLUMN(),FALSE)","v":{"$error":"#DIV/0!"}},{"$f":"INDIRECT(\"'\"&$S296&\"'!R\"&$T296&\"C\"&COLUMN(),FALSE)","v":"optional"},{"$f":"INDIRECT(\"'\"&$S296&\"'!R\"&$T296&\"C\"&COLUMN(),FALSE)","v":1},{"$f":"INDIRECT(\"'\"&$S296&\"'!R\"&$T296&\"C\"&COLUMN(),FALSE)","v":"H"},{"$f":"INDIRECT(\"'\"&$S296&\"'!R\"&$T296&\"C\"&COLUMN(),FALSE)","v":"Weather WX radar system"},{"$f":"INDIRECT(\"'\"&$S296&\"'!R\"&$T296&\"C\"&COLUMN(),FALSE)","v":"Weather radar"},{"$f":"INDIRECT(\"'\"&$S296&\"'!R\"&$T296&\"C\"&COLUMN(),FALSE)","v":43999},null,"102",292,"43999#H","rotocraft civil",7]
[{"$f":"INDIRECT(\"'\"&$S297&\"'!R\"&$T297&\"C\"&COLUMN(),FALSE)","v":"102#748"},{"$f":"INDIRECT(\"'\"&$S297&\"'!R\"&$T297&\"C\"&COLUMN(),FALSE)","v":30388},{"$f":"INDIRECT(\"'\"&$S297&\"'!R\"&$T297&\"C\"&COLUMN(),FALSE)","v":15000},{"$f":"INDIRECT(\"'\"&$S297&\"'!R\"&$T297&\"C\"&COLUMN(),FALSE)","v":33986.029190904286},{"$f":"INDIRECT(\"'\"&$S297&\"'!R\"&$T297&\"C\"&COLUMN(),FALSE)","v":16776.044420941304},{"$f":"INDIRECT(\"'\"&$S297&\"'!R\"&$T297&\"C\"&COLUMN(),FALSE)","v":"PW Low"},{"$f":"INDIRECT(\"'\"&$S297&\"'!R\"&$T297&\"C\"&COLUMN(),FALSE)","v":34000},{"$f":"INDIRECT(\"'\"&$S297&\"'!R\"&$T297&\"C\"&COLUMN(),FALSE)","v":1.0258666666666667},{"$f":"INDIRECT(\"'\"&$S297&\"'!R\"&$T297&\"C\"&COLUMN(),FALSE)","v":0},{"$f":"INDIRECT(\"'\"&$S297&\"'!R\"&$T297&\"C\"&COLUMN(),FALSE)","v":1},{"$f":"INDIRECT(\"'\"&$S297&\"'!R\"&$T297&\"C\"&COLUMN(),FALSE)","v":"K"},{"$f":"INDIRECT(\"'\"&$S297&\"'!R\"&$T297&\"C\"&COLUMN(),FALSE)","v":"Ground Proximity Warning System (GPWS/EGPWS)"},{"$f":"INDIRECT(\"'\"&$S297&\"'!R\"&$T297&\"C\"&COLUMN(),FALSE)","v":"EGPWS"},{"$f":"INDIRECT(\"'\"&$S297&\"'!R\"&$T297&\"C\"&COLUMN(),FALSE)","v":30388},null,"102",293,"30388#K","rotocraft civil",8]
[{"$f":"INDIRECT(\"'\"&$S298&\"'!R\"&$T298&\"C\"&COLUMN(),FALSE)","v":"102#749"},{"$f":"INDIRECT(\"'\"&$S298&\"'!R\"&$T298&\"C\"&COLUMN(),FALSE)","v":0},{"$f":"INDIRECT(\"'\"&$S298&\"'!R\"&$T298&\"C\"&COLUMN(),FALSE)","v":15000},{"$f":"INDIRECT(\"'\"&$S298&\"'!R\"&$T298&\"C\"&COLUMN(),FALSE)","v":0},{"$f":"INDIRECT(\"'\"&$S298&\"'!R\"&$T298&\"C\"&COLUMN(),FALSE)","v":16776.044420941304},{"$f":"INDIRECT(\"'\"&$S298&\"'!R\"&$T298&\"C\"&COLUMN(),FALSE)","v":"Validated PW 2020"},{"$f":"INDIRECT(\"'\"&$S298&\"'!R\"&$T298&\"C\"&COLUMN(),FALSE)","v":17000},{"$f":"INDIRECT(\"'\"&$S298&\"'!R\"&$T298&\"C\"&COLUMN(),FALSE)","v":-1},{"$f":"INDIRECT(\"'\"&$S298&\"'!R\"&$T298&\"C\"&COLUMN(),FALSE)","v":0},{"$f":"INDIRECT(\"'\"&$S298&\"'!R\"&$T298&\"C\"&COLUMN(),FALSE)","v":1},{"$f":"INDIRECT(\"'\"&$S298&\"'!R\"&$T298&\"C\"&COLUMN(),FALSE)","v":"A"},{"$f":"INDIRECT(\"'\"&$S298&\"'!R\"&$T298&\"C\"&COLUMN(),FALSE)","v":"TCAS computer"},{"$f":"INDIRECT(\"'\"&$S298&\"'!R\"&$T298&\"C\"&COLUMN(),FALSE)","v":"TCAS"},{"$f":"INDIRECT(\"'\"&$S298&\"'!R\"&$T298&\"C\"&COLUMN(),FALSE)","v":0},null,"102",294,"0#A","rotocraft civil",9]
[{"$f":"INDIRECT(\"'\"&$S299&\"'!R\"&$T299&\"C\"&COLUMN(),FALSE)","v":"102#765"},{"$f":"INDIRECT(\"'\"&$S299&\"'!R\"&$T299&\"C\"&COLUMN(),FALSE)","v":45546},{"$f":"INDIRECT(\"'\"&$S299&\"'!R\"&$T299&\"C\"&COLUMN(),FALSE)","v":45000},{"$f":"INDIRECT(\"'\"&$S299&\"'!R\"&$T299&\"C\"&COLUMN(),FALSE)","v":50938.781279746174},{"$f":"INDIRECT(\"'\"&$S299&\"'!R\"&$T299&\"C\"&COLUMN(),FALSE)","v":50328.133262823911},{"$f":"INDIRECT(\"'\"&$S299&\"'!R\"&$T299&\"C\"&COLUMN(),FALSE)","v":"Validated PW 2020"},{"$f":"INDIRECT(\"'\"&$S299&\"'!R\"&$T299&\"C\"&COLUMN(),FALSE)","v":51000},{"$f":"INDIRECT(\"'\"&$S299&\"'!R\"&$T299&\"C\"&COLUMN(),FALSE)","v":1.2133333333333333E-2},{"$f":"INDIRECT(\"'\"&$S299&\"'!R\"&$T299&\"C\"&COLUMN(),FALSE)","v":"Thales"},{"$f":"INDIRECT(\"'\"&$S299&\"'!R\"&$T299&\"C\"&COLUMN(),FALSE)","v":4},{"$f":"INDIRECT(\"'\"&$S299&\"'!R\"&$T299&\"C\"&COLUMN(),FALSE)","v":"K"},{"$f":"INDIRECT(\"'\"&$S299&\"'!R\"&$T299&\"C\"&COLUMN(),FALSE)","v":"Multi Function Display"},{"$f":"INDIRECT(\"'\"&$S299&\"'!R\"&$T299&\"C\"&COLUMN(),FALSE)","v":"Flat panel MFD displays"},{"$f":"INDIRECT(\"'\"&$S299&\"'!R\"&$T299&\"C\"&COLUMN(),FALSE)","v":45546},null,"102",295,"45546#K","rotocraft civil",10]
[{"$f":"INDIRECT(\"'\"&$S300&\"'!R\"&$T300&\"C\"&COLUMN(),FALSE)","v":"102#791"},{"$f":"INDIRECT(\"'\"&$S300&\"'!R\"&$T300&\"C\"&COLUMN(),FALSE)","v":25303},{"$f":"INDIRECT(\"'\"&$S300&\"'!R\"&$T300&\"C\"&COLUMN(),FALSE)","v":25000},{"$f":"INDIRECT(\"'\"&$S300&\"'!R\"&$T300&\"C\"&COLUMN(),FALSE)","v":28298.950132205187},{"$f":"INDIRECT(\"'\"&$S300&\"'!R\"&$T300&\"C\"&COLUMN(),FALSE)","v":27960.074034902173},{"$f":"INDIRECT(\"'\"&$S300&\"'!R\"&$T300&\"C\"&COLUMN(),FALSE)","v":"Validated PW 2020"},{"$f":"INDIRECT(\"'\"&$S300&\"'!R\"&$T300&\"C\"&COLUMN(),FALSE)","v":28000},{"$f":"INDIRECT(\"'\"&$S300&\"'!R\"&$T300&\"C\"&COLUMN(),FALSE)","v":1.2120000000000001E-2},{"$f":"INDIRECT(\"'\"&$S300&\"'!R\"&$T300&\"C\"&COLUMN(),FALSE)","v":0},{"$f":"INDIRECT(\"'\"&$S300&\"'!R\"&$T300&\"C\"&COLUMN(),FALSE)","v":1},{"$f":"INDIRECT(\"'\"&$S300&\"'!R\"&$T300&\"C\"&COLUMN(),FALSE)","v":"E"},{"$f":"INDIRECT(\"'\"&$S300&\"'!R\"&$T300&\"C\"&COLUMN(),FALSE)","v":"Standby display"},{"$f":"INDIRECT(\"'\"&$S300&\"'!R\"&$T300&\"C\"&COLUMN(),FALSE)","v":"Standy instrument"},{"$f":"INDIRECT(\"'\"&$S300&\"'!R\"&$T300&\"C\"&COLUMN(),FALSE)","v":25303},null,"102",296,"25303#E","rotocraft civil",11]
[{"$f":"INDIRECT(\"'\"&$S301&\"'!R\"&$T301&\"C\"&COLUMN(),FALSE)","v":"102#847"},{"$f":"INDIRECT(\"'\"&$S301&\"'!R\"&$T301&\"C\"&COLUMN(),FALSE)","v":25303},{"$f":"INDIRECT(\"'\"&$S301&\"'!R\"&$T301&\"C\"&COLUMN(),FALSE)","v":20000},{"$f":"INDIRECT(\"'\"&$S301&\"'!R\"&$T301&\"C\"&COLUMN(),FALSE)","v":28298.950132205187},{"$f":"INDIRECT(\"'\"&$S301&\"'!R\"&$T301&\"C\"&COLUMN(),FALSE)","v":22368.059227921738},{"$f":"INDIRECT(\"'\"&$S301&\"'!R\"&$T301&\"C\"&COLUMN(),FALSE)","v":"PW Low"},{"$f":"INDIRECT(\"'\"&$S301&\"'!R\"&$T301&\"C\"&COLUMN(),FALSE)","v":29000},{"$f":"INDIRECT(\"'\"&$S301&\"'!R\"&$T301&\"C\"&COLUMN(),FALSE)","v":0.26515},{"$f":"INDIRECT(\"'\"&$S301&\"'!R\"&$T301&\"C\"&COLUMN(),FALSE)","v":0},{"$f":"INDIRECT(\"'\"&$S301&\"'!R\"&$T301&\"C\"&COLUMN(),FALSE)","v":2},{"$f":"INDIRECT(\"'\"&$S301&\"'!R\"&$T301&\"C\"&COLUMN(),FALSE)","v":"G1"},{"$f":"INDIRECT(\"'\"&$S301&\"'!R\"&$T301&\"C\"&COLUMN(),FALSE)","v":"Engine/fuel/ displays"},{"$f":"INDIRECT(\"'\"&$S301&\"'!R\"&$T301&\"C\"&COLUMN(),FALSE)","v":0},{"$f":"INDIRECT(\"'\"&$S301&\"'!R\"&$T301&\"C\"&COLUMN(),FALSE)","v":25303},null,"102",297,"25303#G1","rotocraft civil",12]
[{"$f":"INDIRECT(\"'\"&$S302&\"'!R\"&$T302&\"C\"&COLUMN(),FALSE)","v":"102#848"},{"$f":"INDIRECT(\"'\"&$S302&\"'!R\"&$T302&\"C\"&COLUMN(),FALSE)","v":31029},{"$f":"INDIRECT(\"'\"&$S302&\"'!R\"&$T302&\"C\"&COLUMN(),FALSE)","v":60000},{"$f":"INDIRECT(\"'\"&$S302&\"'!R\"&$T302&\"C\"&COLUMN(),FALSE)","v":34702.925489159177},{"$f":"INDIRECT(\"'\"&$S302&\"'!R\"&$T302&\"C\"&COLUMN(),FALSE)","v":67104.177683765214},{"$f":"INDIRECT(\"'\"&$S302&\"'!R\"&$T302&\"C\"&COLUMN(),FALSE)","v":"PW Low"},{"$f":"INDIRECT(\"'\"&$S302&\"'!R\"&$T302&\"C\"&COLUMN(),FALSE)","v":35000},{"$f":"INDIRECT(\"'\"&$S302&\"'!R\"&$T302&\"C\"&COLUMN(),FALSE)","v":-0.48285},{"$f":"INDIRECT(\"'\"&$S302&\"'!R\"&$T302&\"C\"&COLUMN(),FALSE)","v":"HWL"},{"$f":"INDIRECT(\"'\"&$S302&\"'!R\"&$T302&\"C\"&COLUMN(),FALSE)","v":2},{"$f":"INDIRECT(\"'\"&$S302&\"'!R\"&$T302&\"C\"&COLUMN(),FALSE)","v":"H"},{"$f":"INDIRECT(\"'\"&$S302&\"'!R\"&$T302&\"C\"&COLUMN(),FALSE)","v":"Embedded GPS/INS"},{"$f":"INDIRECT(\"'\"&$S302&\"'!R\"&$T302&\"C\"&COLUMN(),FALSE)","v":"Embedded GPS/INS (Heading and Attitude Ref System)"},{"$f":"INDIRECT(\"'\"&$S302&\"'!R\"&$T302&\"C\"&COLUMN(),FALSE)","v":31029},null,"102",298,"31029#H","rotocraft civil",13]
[{"$f":"INDIRECT(\"'\"&$S303&\"'!R\"&$T303&\"C\"&COLUMN(),FALSE)","v":"102#862"},{"$f":"INDIRECT(\"'\"&$S303&\"'!R\"&$T303&\"C\"&COLUMN(),FALSE)","v":45546},{"$f":"INDIRECT(\"'\"&$S303&\"'!R\"&$T303&\"C\"&COLUMN(),FALSE)","v":45000},{"$f":"INDIRECT(\"'\"&$S303&\"'!R\"&$T303&\"C\"&COLUMN(),FALSE)","v":50938.781279746174},{"$f":"INDIRECT(\"'\"&$S303&\"'!R\"&$T303&\"C\"&COLUMN(),FALSE)","v":50328.133262823911},{"$f":"INDIRECT(\"'\"&$S303&\"'!R\"&$T303&\"C\"&COLUMN(),FALSE)","v":"Validated PW 2020"},{"$f":"INDIRECT(\"'\"&$S303&\"'!R\"&$T303&\"C\"&COLUMN(),FALSE)","v":51000},{"$f":"INDIRECT(\"'\"&$S303&\"'!R\"&$T303&\"C\"&COLUMN(),FALSE)","v":1.2133333333333333E-2},{"$f":"INDIRECT(\"'\"&$S303&\"'!R\"&$T303&\"C\"&COLUMN(),FALSE)","v":"Thales"},{"$f":"INDIRECT(\"'\"&$S303&\"'!R\"&$T303&\"C\"&COLUMN(),FALSE)","v":1},{"$f":"INDIRECT(\"'\"&$S303&\"'!R\"&$T303&\"C\"&COLUMN(),FALSE)","v":"E"},{"$f":"INDIRECT(\"'\"&$S303&\"'!R\"&$T303&\"C\"&COLUMN(),FALSE)","v":"Central Mission display"},{"$f":"INDIRECT(\"'\"&$S303&\"'!R\"&$T303&\"C\"&COLUMN(),FALSE)","v":0},{"$f":"INDIRECT(\"'\"&$S303&\"'!R\"&$T303&\"C\"&COLUMN(),FALSE)","v":45546},null,"102",299,"45546#E","rotocraft civil",14]
[{"$f":"INDIRECT(\"'\"&$S304&\"'!R\"&$T304&\"C\"&COLUMN(),FALSE)","v":"102#863"},{"$f":"INDIRECT(\"'\"&$S304&\"'!R\"&$T304&\"C\"&COLUMN(),FALSE)","v":56029},{"$f":"INDIRECT(\"'\"&$S304&\"'!R\"&$T304&\"C\"&COLUMN(),FALSE)","v":75000},{"$f":"INDIRECT(\"'\"&$S304&\"'!R\"&$T304&\"C\"&COLUMN(),FALSE)","v":62662.99952406135},{"$f":"INDIRECT(\"'\"&$S304&\"'!R\"&$T304&\"C\"&COLUMN(),FALSE)","v":83880.22210470651},{"$f":"INDIRECT(\"'\"&$S304&\"'!R\"&$T304&\"C\"&COLUMN(),FALSE)","v":"Validated PW 2020"},{"$f":"INDIRECT(\"'\"&$S304&\"'!R\"&$T304&\"C\"&COLUMN(),FALSE)","v":84000},{"$f":"INDIRECT(\"'\"&$S304&\"'!R\"&$T304&\"C\"&COLUMN(),FALSE)","v":-0.25294666666666665},{"$f":"INDIRECT(\"'\"&$S304&\"'!R\"&$T304&\"C\"&COLUMN(),FALSE)","v":0},{"$f":"INDIRECT(\"'\"&$S304&\"'!R\"&$T304&\"C\"&COLUMN(),FALSE)","v":1},{"$f":"INDIRECT(\"'\"&$S304&\"'!R\"&$T304&\"C\"&COLUMN(),FALSE)","v":"E"},{"$f":"INDIRECT(\"'\"&$S304&\"'!R\"&$T304&\"C\"&COLUMN(),FALSE)","v":"Dual axis dual system Auto-pilot"},{"$f":"INDIRECT(\"'\"&$S304&\"'!R\"&$T304&\"C\"&COLUMN(),FALSE)","v":0},{"$f":"INDIRECT(\"'\"&$S304&\"'!R\"&$T304&\"C\"&COLUMN(),FALSE)","v":56029},null,"102",300,"56029#E","rotocraft civil",15]
[{"$f":"INDIRECT(\"'\"&$S305&\"'!R\"&$T305&\"C\"&COLUMN(),FALSE)","v":"102#864"},{"$f":"INDIRECT(\"'\"&$S305&\"'!R\"&$T305&\"C\"&COLUMN(),FALSE)","v":28767},{"$f":"INDIRECT(\"'\"&$S305&\"'!R\"&$T305&\"C\"&COLUMN(),FALSE)","v":25000},{"$f":"INDIRECT(\"'\"&$S305&\"'!R\"&$T305&\"C\"&COLUMN(),FALSE)","v":32173.09799048123},{"$f":"INDIRECT(\"'\"&$S305&\"'!R\"&$T305&\"C\"&COLUMN(),FALSE)","v":27960.074034902173},{"$f":"INDIRECT(\"'\"&$S305&\"'!R\"&$T305&\"C\"&COLUMN(),FALSE)","v":"PW Low"},{"$f":"INDIRECT(\"'\"&$S305&\"'!R\"&$T305&\"C\"&COLUMN(),FALSE)","v":33000},{"$f":"INDIRECT(\"'\"&$S305&\"'!R\"&$T305&\"C\"&COLUMN(),FALSE)","v":0.15068000000000001},{"$f":"INDIRECT(\"'\"&$S305&\"'!R\"&$T305&\"C\"&COLUMN(),FALSE)","v":"HWL"},{"$f":"INDIRECT(\"'\"&$S305&\"'!R\"&$T305&\"C\"&COLUMN(),FALSE)","v":1},{"$f":"INDIRECT(\"'\"&$S305&\"'!R\"&$T305&\"C\"&COLUMN(),FALSE)","v":"E"},{"$f":"INDIRECT(\"'\"&$S305&\"'!R\"&$T305&\"C\"&COLUMN(),FALSE)","v":"Combined cockpit voice and data recorder"},{"$f":"INDIRECT(\"'\"&$S305&\"'!R\"&$T305&\"C\"&COLUMN(),FALSE)","v":0},{"$f":"INDIRECT(\"'\"&$S305&\"'!R\"&$T305&\"C\"&COLUMN(),FALSE)","v":28767},null,"102",301,"28767#E","rotocraft civil",16]
[{"$f":"INDIRECT(\"'\"&$S306&\"'!R\"&$T306&\"C\"&COLUMN(),FALSE)","v":"102#876"},{"$f":"INDIRECT(\"'\"&$S306&\"'!R\"&$T306&\"C\"&COLUMN(),FALSE)","v":44030},{"$f":"INDIRECT(\"'\"&$S306&\"'!R\"&$T306&\"C\"&COLUMN(),FALSE)","v":{"$error":"#N/A"}},{"$f":"INDIRECT(\"'\"&$S306&\"'!R\"&$T306&\"C\"&COLUMN(),FALSE)","v":49243.282390269706},{"$f":"INDIRECT(\"'\"&$S306&\"'!R\"&$T306&\"C\"&COLUMN(),FALSE)","v":{"$error":"#N/A"}},{"$f":"INDIRECT(\"'\"&$S306&\"'!R\"&$T306&\"C\"&COLUMN(),FALSE)","v":"Validated Model 2020"},{"$f":"INDIRECT(\"'\"&$S306&\"'!R\"&$T306&\"C\"&COLUMN(),FALSE)","v":50000},{"$f":"INDIRECT(\"'\"&$S306&\"'!R\"&$T306&\"C\"&COLUMN(),FALSE)","v":{"$error":"#N/A"}},{"$f":"INDIRECT(\"'\"&$S306&\"'!R\"&$T306&\"C\"&COLUMN(),FALSE)","v":{"$error":"#N/A"}},{"$f":"INDIRECT(\"'\"&$S306&\"'!R\"&$T306&\"C\"&COLUMN(),FALSE)","v":0},{"$f":"INDIRECT(\"'\"&$S306&\"'!R\"&$T306&\"C\"&COLUMN(),FALSE)","v":"C"},{"$f":"INDIRECT(\"'\"&$S306&\"'!R\"&$T306&\"C\"&COLUMN(),FALSE)","v":"Radio antenna receivers/transmitters"},{"$f":"INDIRECT(\"'\"&$S306&\"'!R\"&$T306&\"C\"&COLUMN(),FALSE)","v":0},{"$f":"INDIRECT(\"'\"&$S306&\"'!R\"&$T306&\"C\"&COLUMN(),FALSE)","v":44030},null,"102",302,"44030#C","rotocraft civil",17]
[{"$f":"INDIRECT(\"'\"&$S307&\"'!R\"&$T307&\"C\"&COLUMN(),FALSE)","v":"102#878"},{"$f":"INDIRECT(\"'\"&$S307&\"'!R\"&$T307&\"C\"&COLUMN(),FALSE)","v":54998},{"$f":"INDIRECT(\"'\"&$S307&\"'!R\"&$T307&\"C\"&COLUMN(),FALSE)","v":{"$error":"#N/A"}},{"$f":"INDIRECT(\"'\"&$S307&\"'!R\"&$T307&\"C\"&COLUMN(),FALSE)","v":61509.926070861984},{"$f":"INDIRECT(\"'\"&$S307&\"'!R\"&$T307&\"C\"&COLUMN(),FALSE)","v":{"$error":"#N/A"}},{"$f":"INDIRECT(\"'\"&$S307&\"'!R\"&$T307&\"C\"&COLUMN(),FALSE)","v":"Validated Model 2020"},{"$f":"INDIRECT(\"'\"&$S307&\"'!R\"&$T307&\"C\"&COLUMN(),FALSE)","v":62000},{"$f":"INDIRECT(\"'\"&$S307&\"'!R\"&$T307&\"C\"&COLUMN(),FALSE)","v":{"$error":"#N/A"}},{"$f":"INDIRECT(\"'\"&$S307&\"'!R\"&$T307&\"C\"&COLUMN(),FALSE)","v":{"$error":"#N/A"}},{"$f":"INDIRECT(\"'\"&$S307&\"'!R\"&$T307&\"C\"&COLUMN(),FALSE)","v":1},{"$f":"INDIRECT(\"'\"&$S307&\"'!R\"&$T307&\"C\"&COLUMN(),FALSE)","v":"E"},{"$f":"INDIRECT(\"'\"&$S307&\"'!R\"&$T307&\"C\"&COLUMN(),FALSE)","v":"Sensors IFF, other"},{"$f":"INDIRECT(\"'\"&$S307&\"'!R\"&$T307&\"C\"&COLUMN(),FALSE)","v":0},{"$f":"INDIRECT(\"'\"&$S307&\"'!R\"&$T307&\"C\"&COLUMN(),FALSE)","v":54998},null,"102",303,"54998#E","rotocraft civil",18]
[{"$f":"INDIRECT(\"'\"&$S308&\"'!R\"&$T308&\"C\"&COLUMN(),FALSE)","v":"102#879"},{"$f":"INDIRECT(\"'\"&$S308&\"'!R\"&$T308&\"C\"&COLUMN(),FALSE)","v":67985},{"$f":"INDIRECT(\"'\"&$S308&\"'!R\"&$T308&\"C\"&COLUMN(),FALSE)","v":{"$error":"#N/A"}},{"$f":"INDIRECT(\"'\"&$S308&\"'!R\"&$T308&\"C\"&COLUMN(),FALSE)","v":76034.625330512965},{"$f":"INDIRECT(\"'\"&$S308&\"'!R\"&$T308&\"C\"&COLUMN(),FALSE)","v":{"$error":"#N/A"}},{"$f":"INDIRECT(\"'\"&$S308&\"'!R\"&$T308&\"C\"&COLUMN(),FALSE)","v":"Validated Model 2020"},{"$f":"INDIRECT(\"'\"&$S308&\"'!R\"&$T308&\"C\"&COLUMN(),FALSE)","v":77000},{"$f":"INDIRECT(\"'\"&$S308&\"'!R\"&$T308&\"C\"&COLUMN(),FALSE)","v":{"$error":"#N/A"}},{"$f":"INDIRECT(\"'\"&$S308&\"'!R\"&$T308&\"C\"&COLUMN(),FALSE)","v":{"$error":"#N/A"}},{"$f":"INDIRECT(\"'\"&$S308&\"'!R\"&$T308&\"C\"&COLUMN(),FALSE)","v":1},{"$f":"INDIRECT(\"'\"&$S308&\"'!R\"&$T308&\"C\"&COLUMN(),FALSE)","v":"J"},{"$f":"INDIRECT(\"'\"&$S308&\"'!R\"&$T308&\"C\"&COLUMN(),FALSE)","v":"Software"},{"$f":"INDIRECT(\"'\"&$S308&\"'!R\"&$T308&\"C\"&COLUMN(),FALSE)","v":0},{"$f":"INDIRECT(\"'\"&$S308&\"'!R\"&$T308&\"C\"&COLUMN(),FALSE)","v":67985},null,"102",304,"67985#J","rotocraft civil",19]
[{"$f":"INDIRECT(\"'\"&$S309&\"'!R\"&$T309&\"C\"&COLUMN(),FALSE)","v":"102#880"},{"$f":"INDIRECT(\"'\"&$S309&\"'!R\"&$T309&\"C\"&COLUMN(),FALSE)","v":32999},{"$f":"INDIRECT(\"'\"&$S309&\"'!R\"&$T309&\"C\"&COLUMN(),FALSE)","v":{"$error":"#N/A"}},{"$f":"INDIRECT(\"'\"&$S309&\"'!R\"&$T309&\"C\"&COLUMN(),FALSE)","v":36906.179323109471},{"$f":"INDIRECT(\"'\"&$S309&\"'!R\"&$T309&\"C\"&COLUMN(),FALSE)","v":{"$error":"#N/A"}},{"$f":"INDIRECT(\"'\"&$S309&\"'!R\"&$T309&\"C\"&COLUMN(),FALSE)","v":"Validated Model 2020"},{"$f":"INDIRECT(\"'\"&$S309&\"'!R\"&$T309&\"C\"&COLUMN(),FALSE)","v":37000},{"$f":"INDIRECT(\"'\"&$S309&\"'!R\"&$T309&\"C\"&COLUMN(),FALSE)","v":{"$error":"#N/A"}},{"$f":"INDIRECT(\"'\"&$S309&\"'!R\"&$T309&\"C\"&COLUMN(),FALSE)","v":{"$error":"#N/A"}},{"$f":"INDIRECT(\"'\"&$S309&\"'!R\"&$T309&\"C\"&COLUMN(),FALSE)","v":2},{"$f":"INDIRECT(\"'\"&$S309&\"'!R\"&$T309&\"C\"&COLUMN(),FALSE)","v":"J"},{"$f":"INDIRECT(\"'\"&$S309&\"'!R\"&$T309&\"C\"&COLUMN(),FALSE)","v":"Air data sensors"},{"$f":"INDIRECT(\"'\"&$S309&\"'!R\"&$T309&\"C\"&COLUMN(),FALSE)","v":0},{"$f":"INDIRECT(\"'\"&$S309&\"'!R\"&$T309&\"C\"&COLUMN(),FALSE)","v":32999},null,"102",305,"32999#J","rotocraft civil",20]
[{"$f":"INDIRECT(\"'\"&$S310&\"'!R\"&$T310&\"C\"&COLUMN(),FALSE)","v":"102#1056"},{"$f":"INDIRECT(\"'\"&$S310&\"'!R\"&$T310&\"C\"&COLUMN(),FALSE)","v":154},{"$f":"INDIRECT(\"'\"&$S310&\"'!R\"&$T310&\"C\"&COLUMN(),FALSE)","v":{"$error":"#N/A"}},{"$f":"INDIRECT(\"'\"&$S310&\"'!R\"&$T310&\"C\"&COLUMN(),FALSE)","v":172.23405605499738},{"$f":"INDIRECT(\"'\"&$S310&\"'!R\"&$T310&\"C\"&COLUMN(),FALSE)","v":{"$error":"#N/A"}},{"$f":"INDIRECT(\"'\"&$S310&\"'!R\"&$T310&\"C\"&COLUMN(),FALSE)","v":"Validated Model 2020"},{"$f":"INDIRECT(\"'\"&$S310&\"'!R\"&$T310&\"C\"&COLUMN(),FALSE)","v":180},{"$f":"INDIRECT(\"'\"&$S310&\"'!R\"&$T310&\"C\"&COLUMN(),FALSE)","v":{"$error":"#N/A"}},{"$f":"INDIRECT(\"'\"&$S310&\"'!R\"&$T310&\"C\"&COLUMN(),FALSE)","v":{"$error":"#N/A"}},{"$f":"INDIRECT(\"'\"&$S310&\"'!R\"&$T310&\"C\"&COLUMN(),FALSE)","v":1},{"$f":"INDIRECT(\"'\"&$S310&\"'!R\"&$T310&\"C\"&COLUMN(),FALSE)","v":"K"},{"$f":"INDIRECT(\"'\"&$S310&\"'!R\"&$T310&\"C\"&COLUMN(),FALSE)","v":"Avionics Harnesses"},{"$f":"INDIRECT(\"'\"&$S310&\"'!R\"&$T310&\"C\"&COLUMN(),FALSE)","v":0},{"$f":"INDIRECT(\"'\"&$S310&\"'!R\"&$T310&\"C\"&COLUMN(),FALSE)","v":154},null,"102",306,"154#K","rotocraft civil",21]
[{"$f":"INDIRECT(\"'\"&$S311&\"'!R\"&$T311&\"C\"&COLUMN(),FALSE)","v":"452#769"},{"$f":"INDIRECT(\"'\"&$S311&\"'!R\"&$T311&\"C\"&COLUMN(),FALSE)","v":24461},{"$f":"INDIRECT(\"'\"&$S311&\"'!R\"&$T311&\"C\"&COLUMN(),FALSE)","v":20000},{"$f":"INDIRECT(\"'\"&$S311&\"'!R\"&$T311&\"C\"&COLUMN(),FALSE)","v":27357.254838709679},{"$f":"INDIRECT(\"'\"&$S311&\"'!R\"&$T311&\"C\"&COLUMN(),FALSE)","v":22368.059227921738},{"$f":"INDIRECT(\"'\"&$S311&\"'!R\"&$T311&\"C\"&COLUMN(),FALSE)","v":"Used Model 2024"},{"$f":"INDIRECT(\"'\"&$S311&\"'!R\"&$T311&\"C\"&COLUMN(),FALSE)","v":27357.254838709679},{"$f":"INDIRECT(\"'\"&$S311&\"'!R\"&$T311&\"C\"&COLUMN(),FALSE)","v":0.22305},{"$f":"INDIRECT(\"'\"&$S311&\"'!R\"&$T311&\"C\"&COLUMN(),FALSE)","v":0},{"$f":"INDIRECT(\"'\"&$S311&\"'!R\"&$T311&\"C\"&COLUMN(),FALSE)","v":1},{"$f":"INDIRECT(\"'\"&$S311&\"'!R\"&$T311&\"C\"&COLUMN(),FALSE)","v":"A"},{"$f":"INDIRECT(\"'\"&$S311&\"'!R\"&$T311&\"C\"&COLUMN(),FALSE)","v":"SATCOM"},{"$f":"INDIRECT(\"'\"&$S311&\"'!R\"&$T311&\"C\"&COLUMN(),FALSE)","v":0},{"$f":"INDIRECT(\"'\"&$S311&\"'!R\"&$T311&\"C\"&COLUMN(),FALSE)","v":24461},null,"452",307,"24461#A","large UAV",5]
[{"$f":"INDIRECT(\"'\"&$S312&\"'!R\"&$T312&\"C\"&COLUMN(),FALSE)","v":"452#771"},{"$f":"INDIRECT(\"'\"&$S312&\"'!R\"&$T312&\"C\"&COLUMN(),FALSE)","v":51781},{"$f":"INDIRECT(\"'\"&$S312&\"'!R\"&$T312&\"C\"&COLUMN(),FALSE)","v":{"$error":"#N/A"}},{"$f":"INDIRECT(\"'\"&$S312&\"'!R\"&$T312&\"C\"&COLUMN(),FALSE)","v":57912.023744050777},{"$f":"INDIRECT(\"'\"&$S312&\"'!R\"&$T312&\"C\"&COLUMN(),FALSE)","v":{"$error":"#N/A"}},{"$f":"INDIRECT(\"'\"&$S312&\"'!R\"&$T312&\"C\"&COLUMN(),FALSE)","v":"Used Model 2024"},{"$f":"INDIRECT(\"'\"&$S312&\"'!R\"&$T312&\"C\"&COLUMN(),FALSE)","v":57912.023744050777},{"$f":"INDIRECT(\"'\"&$S312&\"'!R\"&$T312&\"C\"&COLUMN(),FALSE)","v":{"$error":"#N/A"}},{"$f":"INDIRECT(\"'\"&$S312&\"'!R\"&$T312&\"C\"&COLUMN(),FALSE)","v":{"$error":"#N/A"}},{"$f":"INDIRECT(\"'\"&$S312&\"'!R\"&$T312&\"C\"&COLUMN(),FALSE)","v":1},{"$f":"INDIRECT(\"'\"&$S312&\"'!R\"&$T312&\"C\"&COLUMN(),FALSE)","v":"H"},{"$f":"INDIRECT(\"'\"&$S312&\"'!R\"&$T312&\"C\"&COLUMN(),FALSE)","v":"Data Management Unit"},{"$f":"INDIRECT(\"'\"&$S312&\"'!R\"&$T312&\"C\"&COLUMN(),FALSE)","v":0},{"$f":"INDIRECT(\"'\"&$S312&\"'!R\"&$T312&\"C\"&COLUMN(),FALSE)","v":51781},null,"452",308,"51781#H","large UAV",6]
[{"$f":"INDIRECT(\"'\"&$S313&\"'!R\"&$T313&\"C\"&COLUMN(),FALSE)","v":"452#795"},{"$f":"INDIRECT(\"'\"&$S313&\"'!R\"&$T313&\"C\"&COLUMN(),FALSE)","v":139508},{"$f":"INDIRECT(\"'\"&$S313&\"'!R\"&$T313&\"C\"&COLUMN(),FALSE)","v":{"$error":"#N/A"}},{"$f":"INDIRECT(\"'\"&$S313&\"'!R\"&$T313&\"C\"&COLUMN(),FALSE)","v":156026.16033844528},{"$f":"INDIRECT(\"'\"&$S313&\"'!R\"&$T313&\"C\"&COLUMN(),FALSE)","v":{"$error":"#N/A"}},{"$f":"INDIRECT(\"'\"&$S313&\"'!R\"&$T313&\"C\"&COLUMN(),FALSE)","v":"Used Model 2024"},{"$f":"INDIRECT(\"'\"&$S313&\"'!R\"&$T313&\"C\"&COLUMN(),FALSE)","v":156026.16033844528},{"$f":"INDIRECT(\"'\"&$S313&\"'!R\"&$T313&\"C\"&COLUMN(),FALSE)","v":{"$error":"#N/A"}},{"$f":"INDIRECT(\"'\"&$S313&\"'!R\"&$T313&\"C\"&COLUMN(),FALSE)","v":{"$error":"#N/A"}},{"$f":"INDIRECT(\"'\"&$S313&\"'!R\"&$T313&\"C\"&COLUMN(),FALSE)","v":1},{"$f":"INDIRECT(\"'\"&$S313&\"'!R\"&$T313&\"C\"&COLUMN(),FALSE)","v":"B"},{"$f":"INDIRECT(\"'\"&$S313&\"'!R\"&$T313&\"C\"&COLUMN(),FALSE)","v":"Mission computers"},{"$f":"INDIRECT(\"'\"&$S313&\"'!R\"&$T313&\"C\"&COLUMN(),FALSE)","v":0},{"$f":"INDIRECT(\"'\"&$S313&\"'!R\"&$T313&\"C\"&COLUMN(),FALSE)","v":139508},null,"452",309,"139508#B","large UAV",7]
[{"$f":"INDIRECT(\"'\"&$S314&\"'!R\"&$T314&\"C\"&COLUMN(),FALSE)","v":"452#825"},{"$f":"INDIRECT(\"'\"&$S314&\"'!R\"&$T314&\"C\"&COLUMN(),FALSE)","v":37353},{"$f":"INDIRECT(\"'\"&$S314&\"'!R\"&$T314&\"C\"&COLUMN(),FALSE)","v":{"$error":"#N/A"}},{"$f":"INDIRECT(\"'\"&$S314&\"'!R\"&$T314&\"C\"&COLUMN(),FALSE)","v":41775.705817028029},{"$f":"INDIRECT(\"'\"&$S314&\"'!R\"&$T314&\"C\"&COLUMN(),FALSE)","v":{"$error":"#N/A"}},{"$f":"INDIRECT(\"'\"&$S314&\"'!R\"&$T314&\"C\"&COLUMN(),FALSE)","v":"Used Model 2024"},{"$f":"INDIRECT(\"'\"&$S314&\"'!R\"&$T314&\"C\"&COLUMN(),FALSE)","v":41775.705817028029},{"$f":"INDIRECT(\"'\"&$S314&\"'!R\"&$T314&\"C\"&COLUMN(),FALSE)","v":{"$error":"#N/A"}},{"$f":"INDIRECT(\"'\"&$S314&\"'!R\"&$T314&\"C\"&COLUMN(),FALSE)","v":{"$error":"#N/A"}},{"$f":"INDIRECT(\"'\"&$S314&\"'!R\"&$T314&\"C\"&COLUMN(),FALSE)","v":1},{"$f":"INDIRECT(\"'\"&$S314&\"'!R\"&$T314&\"C\"&COLUMN(),FALSE)","v":"F1"},{"$f":"INDIRECT(\"'\"&$S314&\"'!R\"&$T314&\"C\"&COLUMN(),FALSE)","v":"Auto pilot system"},{"$f":"INDIRECT(\"'\"&$S314&\"'!R\"&$T314&\"C\"&COLUMN(),FALSE)","v":0},{"$f":"INDIRECT(\"'\"&$S314&\"'!R\"&$T314&\"C\"&COLUMN(),FALSE)","v":37353},null,"452",310,"37353#F1","large UAV",8]
[{"$f":"INDIRECT(\"'\"&$S315&\"'!R\"&$T315&\"C\"&COLUMN(),FALSE)","v":"452#848"},{"$f":"INDIRECT(\"'\"&$S315&\"'!R\"&$T315&\"C\"&COLUMN(),FALSE)","v":66491},{"$f":"INDIRECT(\"'\"&$S315&\"'!R\"&$T315&\"C\"&COLUMN(),FALSE)","v":{"$error":"#N/A"}},{"$f":"INDIRECT(\"'\"&$S315&\"'!R\"&$T315&\"C\"&COLUMN(),FALSE)","v":74363.731306187212},{"$f":"INDIRECT(\"'\"&$S315&\"'!R\"&$T315&\"C\"&COLUMN(),FALSE)","v":{"$error":"#N/A"}},{"$f":"INDIRECT(\"'\"&$S315&\"'!R\"&$T315&\"C\"&COLUMN(),FALSE)","v":"Used Model 2024"},{"$f":"INDIRECT(\"'\"&$S315&\"'!R\"&$T315&\"C\"&COLUMN(),FALSE)","v":74363.731306187212},{"$f":"INDIRECT(\"'\"&$S315&\"'!R\"&$T315&\"C\"&COLUMN(),FALSE)","v":{"$error":"#N/A"}},{"$f":"INDIRECT(\"'\"&$S315&\"'!R\"&$T315&\"C\"&COLUMN(),FALSE)","v":{"$error":"#N/A"}},{"$f":"INDIRECT(\"'\"&$S315&\"'!R\"&$T315&\"C\"&COLUMN(),FALSE)","v":1},{"$f":"INDIRECT(\"'\"&$S315&\"'!R\"&$T315&\"C\"&COLUMN(),FALSE)","v":"K"},{"$f":"INDIRECT(\"'\"&$S315&\"'!R\"&$T315&\"C\"&COLUMN(),FALSE)","v":"Embedded GPS/INS"},{"$f":"INDIRECT(\"'\"&$S315&\"'!R\"&$T315&\"C\"&COLUMN(),FALSE)","v":0},{"$f":"INDIRECT(\"'\"&$S315&\"'!R\"&$T315&\"C\"&COLUMN(),FALSE)","v":66491},null,"452",311,"66491#K","large UAV",9]
[{"$f":"INDIRECT(\"'\"&$S316&\"'!R\"&$T316&\"C\"&COLUMN(),FALSE)","v":"452#865"},{"$f":"INDIRECT(\"'\"&$S316&\"'!R\"&$T316&\"C\"&COLUMN(),FALSE)","v":40517},{"$f":"INDIRECT(\"'\"&$S316&\"'!R\"&$T316&\"C\"&COLUMN(),FALSE)","v":20000},{"$f":"INDIRECT(\"'\"&$S316&\"'!R\"&$T316&\"C\"&COLUMN(),FALSE)","v":45314.33278688525},{"$f":"INDIRECT(\"'\"&$S316&\"'!R\"&$T316&\"C\"&COLUMN(),FALSE)","v":22368.059227921738},{"$f":"INDIRECT(\"'\"&$S316&\"'!R\"&$T316&\"C\"&COLUMN(),FALSE)","v":"Used Model 2024"},{"$f":"INDIRECT(\"'\"&$S316&\"'!R\"&$T316&\"C\"&COLUMN(),FALSE)","v":45314.33278688525},{"$f":"INDIRECT(\"'\"&$S316&\"'!R\"&$T316&\"C\"&COLUMN(),FALSE)","v":1.0258499999999999},{"$f":"INDIRECT(\"'\"&$S316&\"'!R\"&$T316&\"C\"&COLUMN(),FALSE)","v":"NG"},{"$f":"INDIRECT(\"'\"&$S316&\"'!R\"&$T316&\"C\"&COLUMN(),FALSE)","v":4},{"$f":"INDIRECT(\"'\"&$S316&\"'!R\"&$T316&\"C\"&COLUMN(),FALSE)","v":"A"},{"$f":"INDIRECT(\"'\"&$S316&\"'!R\"&$T316&\"C\"&COLUMN(),FALSE)","v":"Multi spectral camera"},{"$f":"INDIRECT(\"'\"&$S316&\"'!R\"&$T316&\"C\"&COLUMN(),FALSE)","v":"MS-177 Multi spectral camera"},{"$f":"INDIRECT(\"'\"&$S316&\"'!R\"&$T316&\"C\"&COLUMN(),FALSE)","v":40517},null,"452",312,"40517#A","large UAV",10]
[{"$f":"INDIRECT(\"'\"&$S317&\"'!R\"&$T317&\"C\"&COLUMN(),FALSE)","v":"452#866"},{"$f":"INDIRECT(\"'\"&$S317&\"'!R\"&$T317&\"C\"&COLUMN(),FALSE)","v":100446},{"$f":"INDIRECT(\"'\"&$S317&\"'!R\"&$T317&\"C\"&COLUMN(),FALSE)","v":50000},{"$f":"INDIRECT(\"'\"&$S317&\"'!R\"&$T317&\"C\"&COLUMN(),FALSE)","v":112339.10386039135},{"$f":"INDIRECT(\"'\"&$S317&\"'!R\"&$T317&\"C\"&COLUMN(),FALSE)","v":55920.148069804345},{"$f":"INDIRECT(\"'\"&$S317&\"'!R\"&$T317&\"C\"&COLUMN(),FALSE)","v":"Used Model 2024"},{"$f":"INDIRECT(\"'\"&$S317&\"'!R\"&$T317&\"C\"&COLUMN(),FALSE)","v":112339.10386039135},{"$f":"INDIRECT(\"'\"&$S317&\"'!R\"&$T317&\"C\"&COLUMN(),FALSE)","v":1.00892},{"$f":"INDIRECT(\"'\"&$S317&\"'!R\"&$T317&\"C\"&COLUMN(),FALSE)","v":0},{"$f":"INDIRECT(\"'\"&$S317&\"'!R\"&$T317&\"C\"&COLUMN(),FALSE)","v":1},{"$f":"INDIRECT(\"'\"&$S317&\"'!R\"&$T317&\"C\"&COLUMN(),FALSE)","v":"A"},{"$f":"INDIRECT(\"'\"&$S317&\"'!R\"&$T317&\"C\"&COLUMN(),FALSE)","v":"Defensive counter measures"},{"$f":"INDIRECT(\"'\"&$S317&\"'!R\"&$T317&\"C\"&COLUMN(),FALSE)","v":"AN-ASQ230 defensive counter measures"},{"$f":"INDIRECT(\"'\"&$S317&\"'!R\"&$T317&\"C\"&COLUMN(),FALSE)","v":100446},null,"452",313,"100446#A","large UAV",11]
[{"$f":"INDIRECT(\"'\"&$S318&\"'!R\"&$T318&\"C\"&COLUMN(),FALSE)","v":"452#867"},{"$f":"INDIRECT(\"'\"&$S318&\"'!R\"&$T318&\"C\"&COLUMN(),FALSE)","v":70904},{"$f":"INDIRECT(\"'\"&$S318&\"'!R\"&$T318&\"C\"&COLUMN(),FALSE)","v":50000},{"$f":"INDIRECT(\"'\"&$S318&\"'!R\"&$T318&\"C\"&COLUMN(),FALSE)","v":79299.243574828142},{"$f":"INDIRECT(\"'\"&$S318&\"'!R\"&$T318&\"C\"&COLUMN(),FALSE)","v":55920.148069804345},{"$f":"INDIRECT(\"'\"&$S318&\"'!R\"&$T318&\"C\"&COLUMN(),FALSE)","v":"Used Model 2024"},{"$f":"INDIRECT(\"'\"&$S318&\"'!R\"&$T318&\"C\"&COLUMN(),FALSE)","v":79299.243574828142},{"$f":"INDIRECT(\"'\"&$S318&\"'!R\"&$T318&\"C\"&COLUMN(),FALSE)","v":0.41808000000000001},{"$f":"INDIRECT(\"'\"&$S318&\"'!R\"&$T318&\"C\"&COLUMN(),FALSE)","v":"Collins"},{"$f":"INDIRECT(\"'\"&$S318&\"'!R\"&$T318&\"C\"&COLUMN(),FALSE)","v":1},{"$f":"INDIRECT(\"'\"&$S318&\"'!R\"&$T318&\"C\"&COLUMN(),FALSE)","v":"A"},{"$f":"INDIRECT(\"'\"&$S318&\"'!R\"&$T318&\"C\"&COLUMN(),FALSE)","v":"Electro-optical reconnaissance sesnor"},{"$f":"INDIRECT(\"'\"&$S318&\"'!R\"&$T318&\"C\"&COLUMN(),FALSE)","v":"MS177 electro-optical reconnaissance sesnor"},{"$f":"INDIRECT(\"'\"&$S318&\"'!R\"&$T318&\"C\"&COLUMN(),FALSE)","v":70904},null,"452",314,"70904#A","large UAV",12]
[{"$f":"INDIRECT(\"'\"&$S319&\"'!R\"&$T319&\"C\"&COLUMN(),FALSE)","v":"452#868"},{"$f":"INDIRECT(\"'\"&$S319&\"'!R\"&$T319&\"C\"&COLUMN(),FALSE)","v":43999},{"$f":"INDIRECT(\"'\"&$S319&\"'!R\"&$T319&\"C\"&COLUMN(),FALSE)","v":40000},{"$f":"INDIRECT(\"'\"&$S319&\"'!R\"&$T319&\"C\"&COLUMN(),FALSE)","v":49208.611898466428},{"$f":"INDIRECT(\"'\"&$S319&\"'!R\"&$T319&\"C\"&COLUMN(),FALSE)","v":44736.118455843476},{"$f":"INDIRECT(\"'\"&$S319&\"'!R\"&$T319&\"C\"&COLUMN(),FALSE)","v":"Used Model 2024"},{"$f":"INDIRECT(\"'\"&$S319&\"'!R\"&$T319&\"C\"&COLUMN(),FALSE)","v":49208.611898466428},{"$f":"INDIRECT(\"'\"&$S319&\"'!R\"&$T319&\"C\"&COLUMN(),FALSE)","v":9.9974999999999994E-2},{"$f":"INDIRECT(\"'\"&$S319&\"'!R\"&$T319&\"C\"&COLUMN(),FALSE)","v":0},{"$f":"INDIRECT(\"'\"&$S319&\"'!R\"&$T319&\"C\"&COLUMN(),FALSE)","v":1},{"$f":"INDIRECT(\"'\"&$S319&\"'!R\"&$T319&\"C\"&COLUMN(),FALSE)","v":"A"},{"$f":"INDIRECT(\"'\"&$S319&\"'!R\"&$T319&\"C\"&COLUMN(),FALSE)","v":"Airborne Systems Intelligence Payload sensor"},{"$f":"INDIRECT(\"'\"&$S319&\"'!R\"&$T319&\"C\"&COLUMN(),FALSE)","v":0},{"$f":"INDIRECT(\"'\"&$S319&\"'!R\"&$T319&\"C\"&COLUMN(),FALSE)","v":43999},null,"452",315,"43999#A","large UAV",13]
[{"$f":"INDIRECT(\"'\"&$S320&\"'!R\"&$T320&\"C\"&COLUMN(),FALSE)","v":"452#869"},{"$f":"INDIRECT(\"'\"&$S320&\"'!R\"&$T320&\"C\"&COLUMN(),FALSE)","v":87997},{"$f":"INDIRECT(\"'\"&$S320&\"'!R\"&$T320&\"C\"&COLUMN(),FALSE)","v":80000},{"$f":"INDIRECT(\"'\"&$S320&\"'!R\"&$T320&\"C\"&COLUMN(),FALSE)","v":98416.105393971462},{"$f":"INDIRECT(\"'\"&$S320&\"'!R\"&$T320&\"C\"&COLUMN(),FALSE)","v":89472.236911686952},{"$f":"INDIRECT(\"'\"&$S320&\"'!R\"&$T320&\"C\"&COLUMN(),FALSE)","v":"Used Model 2024"},{"$f":"INDIRECT(\"'\"&$S320&\"'!R\"&$T320&\"C\"&COLUMN(),FALSE)","v":98416.105393971462},{"$f":"INDIRECT(\"'\"&$S320&\"'!R\"&$T320&\"C\"&COLUMN(),FALSE)","v":9.9962499999999996E-2},{"$f":"INDIRECT(\"'\"&$S320&\"'!R\"&$T320&\"C\"&COLUMN(),FALSE)","v":0},{"$f":"INDIRECT(\"'\"&$S320&\"'!R\"&$T320&\"C\"&COLUMN(),FALSE)","v":1},{"$f":"INDIRECT(\"'\"&$S320&\"'!R\"&$T320&\"C\"&COLUMN(),FALSE)","v":"A"},{"$f":"INDIRECT(\"'\"&$S320&\"'!R\"&$T320&\"C\"&COLUMN(),FALSE)","v":"Enhanced Integrated Sensor Suite"},{"$f":"INDIRECT(\"'\"&$S320&\"'!R\"&$T320&\"C\"&COLUMN(),FALSE)","v":"Enhanced Integrated Sensor Suite (Synthetic Aperture Radar, Ground Moving Target sensor, digital camera, infra red sensor)"},{"$f":"INDIRECT(\"'\"&$S320&\"'!R\"&$T320&\"C\"&COLUMN(),FALSE)","v":87997},null,"452",316,"87997#A","large UAV",14]
[{"$f":"INDIRECT(\"'\"&$S321&\"'!R\"&$T321&\"C\"&COLUMN(),FALSE)","v":"452#870"},{"$f":"INDIRECT(\"'\"&$S321&\"'!R\"&$T321&\"C\"&COLUMN(),FALSE)","v":19569},{"$f":"INDIRECT(\"'\"&$S321&\"'!R\"&$T321&\"C\"&COLUMN(),FALSE)","v":20000},{"$f":"INDIRECT(\"'\"&$S321&\"'!R\"&$T321&\"C\"&COLUMN(),FALSE)","v":21886.027551560022},{"$f":"INDIRECT(\"'\"&$S321&\"'!R\"&$T321&\"C\"&COLUMN(),FALSE)","v":22368.059227921738},{"$f":"INDIRECT(\"'\"&$S321&\"'!R\"&$T321&\"C\"&COLUMN(),FALSE)","v":"Used Model 2024"},{"$f":"INDIRECT(\"'\"&$S321&\"'!R\"&$T321&\"C\"&COLUMN(),FALSE)","v":21886.027551560022},{"$f":"INDIRECT(\"'\"&$S321&\"'!R\"&$T321&\"C\"&COLUMN(),FALSE)","v":-2.155E-2},{"$f":"INDIRECT(\"'\"&$S321&\"'!R\"&$T321&\"C\"&COLUMN(),FALSE)","v":0},{"$f":"INDIRECT(\"'\"&$S321&\"'!R\"&$T321&\"C\"&COLUMN(),FALSE)","v":2},{"$f":"INDIRECT(\"'\"&$S321&\"'!R\"&$T321&\"C\"&COLUMN(),FALSE)","v":"A"},{"$f":"INDIRECT(\"'\"&$S321&\"'!R\"&$T321&\"C\"&COLUMN(),FALSE)","v":"Radio Altimeters"},{"$f":"INDIRECT(\"'\"&$S321&\"'!R\"&$T321&\"C\"&COLUMN(),FALSE)","v":0},{"$f":"INDIRECT(\"'\"&$S321&\"'!R\"&$T321&\"C\"&COLUMN(),FALSE)","v":19569},null,"452",317,"19569#A","large UAV",15]
[{"$f":"INDIRECT(\"'\"&$S322&\"'!R\"&$T322&\"C\"&COLUMN(),FALSE)","v":"452#871"},{"$f":"INDIRECT(\"'\"&$S322&\"'!R\"&$T322&\"C\"&COLUMN(),FALSE)","v":20712},{"$f":"INDIRECT(\"'\"&$S322&\"'!R\"&$T322&\"C\"&COLUMN(),FALSE)","v":15000},{"$f":"INDIRECT(\"'\"&$S322&\"'!R\"&$T322&\"C\"&COLUMN(),FALSE)","v":23164.36213643575},{"$f":"INDIRECT(\"'\"&$S322&\"'!R\"&$T322&\"C\"&COLUMN(),FALSE)","v":16776.044420941304},{"$f":"INDIRECT(\"'\"&$S322&\"'!R\"&$T322&\"C\"&COLUMN(),FALSE)","v":"Used Model 2024"},{"$f":"INDIRECT(\"'\"&$S322&\"'!R\"&$T322&\"C\"&COLUMN(),FALSE)","v":23164.36213643575},{"$f":"INDIRECT(\"'\"&$S322&\"'!R\"&$T322&\"C\"&COLUMN(),FALSE)","v":0.38080000000000003},{"$f":"INDIRECT(\"'\"&$S322&\"'!R\"&$T322&\"C\"&COLUMN(),FALSE)","v":0},{"$f":"INDIRECT(\"'\"&$S322&\"'!R\"&$T322&\"C\"&COLUMN(),FALSE)","v":1},{"$f":"INDIRECT(\"'\"&$S322&\"'!R\"&$T322&\"C\"&COLUMN(),FALSE)","v":"A"},{"$f":"INDIRECT(\"'\"&$S322&\"'!R\"&$T322&\"C\"&COLUMN(),FALSE)","v":"Digital recorder"},{"$f":"INDIRECT(\"'\"&$S322&\"'!R\"&$T322&\"C\"&COLUMN(),FALSE)","v":0},{"$f":"INDIRECT(\"'\"&$S322&\"'!R\"&$T322&\"C\"&COLUMN(),FALSE)","v":20712},null,"452",318,"20712#A","large UAV",16]
[{"$f":"INDIRECT(\"'\"&$S323&\"'!R\"&$T323&\"C\"&COLUMN(),FALSE)","v":"452#872"},{"$f":"INDIRECT(\"'\"&$S323&\"'!R\"&$T323&\"C\"&COLUMN(),FALSE)","v":19569},{"$f":"INDIRECT(\"'\"&$S323&\"'!R\"&$T323&\"C\"&COLUMN(),FALSE)","v":10000},{"$f":"INDIRECT(\"'\"&$S323&\"'!R\"&$T323&\"C\"&COLUMN(),FALSE)","v":21886.027551560022},{"$f":"INDIRECT(\"'\"&$S323&\"'!R\"&$T323&\"C\"&COLUMN(),FALSE)","v":11184.029613960869},{"$f":"INDIRECT(\"'\"&$S323&\"'!R\"&$T323&\"C\"&COLUMN(),FALSE)","v":"Used Model 2024"},{"$f":"INDIRECT(\"'\"&$S323&\"'!R\"&$T323&\"C\"&COLUMN(),FALSE)","v":21886.027551560022},{"$f":"INDIRECT(\"'\"&$S323&\"'!R\"&$T323&\"C\"&COLUMN(),FALSE)","v":0.95689999999999997},{"$f":"INDIRECT(\"'\"&$S323&\"'!R\"&$T323&\"C\"&COLUMN(),FALSE)","v":0},{"$f":"INDIRECT(\"'\"&$S323&\"'!R\"&$T323&\"C\"&COLUMN(),FALSE)","v":1},{"$f":"INDIRECT(\"'\"&$S323&\"'!R\"&$T323&\"C\"&COLUMN(),FALSE)","v":"A"},{"$f":"INDIRECT(\"'\"&$S323&\"'!R\"&$T323&\"C\"&COLUMN(),FALSE)","v":"UHF SATCOM antenna"},{"$f":"INDIRECT(\"'\"&$S323&\"'!R\"&$T323&\"C\"&COLUMN(),FALSE)","v":0},{"$f":"INDIRECT(\"'\"&$S323&\"'!R\"&$T323&\"C\"&COLUMN(),FALSE)","v":19569},null,"452",319,"19569#A","large UAV",17]
[{"$f":"INDIRECT(\"'\"&$S324&\"'!R\"&$T324&\"C\"&COLUMN(),FALSE)","v":"452#873"},{"$f":"INDIRECT(\"'\"&$S324&\"'!R\"&$T324&\"C\"&COLUMN(),FALSE)","v":13298},{"$f":"INDIRECT(\"'\"&$S324&\"'!R\"&$T324&\"C\"&COLUMN(),FALSE)","v":10000},{"$f":"INDIRECT(\"'\"&$S324&\"'!R\"&$T324&\"C\"&COLUMN(),FALSE)","v":14872.522580645164},{"$f":"INDIRECT(\"'\"&$S324&\"'!R\"&$T324&\"C\"&COLUMN(),FALSE)","v":11184.029613960869},{"$f":"INDIRECT(\"'\"&$S324&\"'!R\"&$T324&\"C\"&COLUMN(),FALSE)","v":"Used Model 2024"},{"$f":"INDIRECT(\"'\"&$S324&\"'!R\"&$T324&\"C\"&COLUMN(),FALSE)","v":14872.522580645164},{"$f":"INDIRECT(\"'\"&$S324&\"'!R\"&$T324&\"C\"&COLUMN(),FALSE)","v":0.32979999999999998},{"$f":"INDIRECT(\"'\"&$S324&\"'!R\"&$T324&\"C\"&COLUMN(),FALSE)","v":0},{"$f":"INDIRECT(\"'\"&$S324&\"'!R\"&$T324&\"C\"&COLUMN(),FALSE)","v":2},{"$f":"INDIRECT(\"'\"&$S324&\"'!R\"&$T324&\"C\"&COLUMN(),FALSE)","v":"A"},{"$f":"INDIRECT(\"'\"&$S324&\"'!R\"&$T324&\"C\"&COLUMN(),FALSE)","v":"GPS antenna"},{"$f":"INDIRECT(\"'\"&$S324&\"'!R\"&$T324&\"C\"&COLUMN(),FALSE)","v":0},{"$f":"INDIRECT(\"'\"&$S324&\"'!R\"&$T324&\"C\"&COLUMN(),FALSE)","v":13298},null,"452",320,"13298#A","large UAV",18]
[{"$f":"INDIRECT(\"'\"&$S325&\"'!R\"&$T325&\"C\"&COLUMN(),FALSE)","v":"452#874"},{"$f":"INDIRECT(\"'\"&$S325&\"'!R\"&$T325&\"C\"&COLUMN(),FALSE)","v":17731},{"$f":"INDIRECT(\"'\"&$S325&\"'!R\"&$T325&\"C\"&COLUMN(),FALSE)","v":10000},{"$f":"INDIRECT(\"'\"&$S325&\"'!R\"&$T325&\"C\"&COLUMN(),FALSE)","v":19830.402908514017},{"$f":"INDIRECT(\"'\"&$S325&\"'!R\"&$T325&\"C\"&COLUMN(),FALSE)","v":11184.029613960869},{"$f":"INDIRECT(\"'\"&$S325&\"'!R\"&$T325&\"C\"&COLUMN(),FALSE)","v":"Used Model 2024"},{"$f":"INDIRECT(\"'\"&$S325&\"'!R\"&$T325&\"C\"&COLUMN(),FALSE)","v":19830.402908514017},{"$f":"INDIRECT(\"'\"&$S325&\"'!R\"&$T325&\"C\"&COLUMN(),FALSE)","v":0.77310000000000001},{"$f":"INDIRECT(\"'\"&$S325&\"'!R\"&$T325&\"C\"&COLUMN(),FALSE)","v":0},{"$f":"INDIRECT(\"'\"&$S325&\"'!R\"&$T325&\"C\"&COLUMN(),FALSE)","v":2},{"$f":"INDIRECT(\"'\"&$S325&\"'!R\"&$T325&\"C\"&COLUMN(),FALSE)","v":"A"},{"$f":"INDIRECT(\"'\"&$S325&\"'!R\"&$T325&\"C\"&COLUMN(),FALSE)","v":"Differential GPS antenna"},{"$f":"INDIRECT(\"'\"&$S325&\"'!R\"&$T325&\"C\"&COLUMN(),FALSE)","v":0},{"$f":"INDIRECT(\"'\"&$S325&\"'!R\"&$T325&\"C\"&COLUMN(),FALSE)","v":17731},null,"452",321,"17731#A","large UAV",19]
[{"$f":"INDIRECT(\"'\"&$S326&\"'!R\"&$T326&\"C\"&COLUMN(),FALSE)","v":"452#875"},{"$f":"INDIRECT(\"'\"&$S326&\"'!R\"&$T326&\"C\"&COLUMN(),FALSE)","v":24461},{"$f":"INDIRECT(\"'\"&$S326&\"'!R\"&$T326&\"C\"&COLUMN(),FALSE)","v":18000},{"$f":"INDIRECT(\"'\"&$S326&\"'!R\"&$T326&\"C\"&COLUMN(),FALSE)","v":27357.254838709679},{"$f":"INDIRECT(\"'\"&$S326&\"'!R\"&$T326&\"C\"&COLUMN(),FALSE)","v":20131.253305129565},{"$f":"INDIRECT(\"'\"&$S326&\"'!R\"&$T326&\"C\"&COLUMN(),FALSE)","v":"Used Model 2024"},{"$f":"INDIRECT(\"'\"&$S326&\"'!R\"&$T326&\"C\"&COLUMN(),FALSE)","v":27357.254838709679},{"$f":"INDIRECT(\"'\"&$S326&\"'!R\"&$T326&\"C\"&COLUMN(),FALSE)","v":0.35894444444444445},{"$f":"INDIRECT(\"'\"&$S326&\"'!R\"&$T326&\"C\"&COLUMN(),FALSE)","v":0},{"$f":"INDIRECT(\"'\"&$S326&\"'!R\"&$T326&\"C\"&COLUMN(),FALSE)","v":2},{"$f":"INDIRECT(\"'\"&$S326&\"'!R\"&$T326&\"C\"&COLUMN(),FALSE)","v":"A"},{"$f":"INDIRECT(\"'\"&$S326&\"'!R\"&$T326&\"C\"&COLUMN(),FALSE)","v":"ARC 210 radios"},{"$f":"INDIRECT(\"'\"&$S326&\"'!R\"&$T326&\"C\"&COLUMN(),FALSE)","v":0},{"$f":"INDIRECT(\"'\"&$S326&\"'!R\"&$T326&\"C\"&COLUMN(),FALSE)","v":24461},null,{"$f":"IFERROR(LEFT(A326,SEARCH(\"#\",A326)-1),\"\")","v":"452"},322,{"$f":"N326&\"#\"&IFERROR(LEFT(K326,SEARCH(\" \",K326)-1),K326)","v":"24461#A"},"large UAV",20]
[{"$f":"INDIRECT(\"'\"&$S327&\"'!R\"&$T327&\"C\"&COLUMN(),FALSE)","v":"452#876"},{"$f":"INDIRECT(\"'\"&$S327&\"'!R\"&$T327&\"C\"&COLUMN(),FALSE)","v":11741},{"$f":"INDIRECT(\"'\"&$S327&\"'!R\"&$T327&\"C\"&COLUMN(),FALSE)","v":10000},{"$f":"INDIRECT(\"'\"&$S327&\"'!R\"&$T327&\"C\"&COLUMN(),FALSE)","v":13131.169169751456},{"$f":"INDIRECT(\"'\"&$S327&\"'!R\"&$T327&\"C\"&COLUMN(),FALSE)","v":11184.029613960869},{"$f":"INDIRECT(\"'\"&$S327&\"'!R\"&$T327&\"C\"&COLUMN(),FALSE)","v":"Used Model 2024"},{"$f":"INDIRECT(\"'\"&$S327&\"'!R\"&$T327&\"C\"&COLUMN(),FALSE)","v":13131.169169751456},{"$f":"INDIRECT(\"'\"&$S327&\"'!R\"&$T327&\"C\"&COLUMN(),FALSE)","v":0.1741},{"$f":"INDIRECT(\"'\"&$S327&\"'!R\"&$T327&\"C\"&COLUMN(),FALSE)","v":0},{"$f":"INDIRECT(\"'\"&$S327&\"'!R\"&$T327&\"C\"&COLUMN(),FALSE)","v":4},{"$f":"INDIRECT(\"'\"&$S327&\"'!R\"&$T327&\"C\"&COLUMN(),FALSE)","v":"A"},{"$f":"INDIRECT(\"'\"&$S327&\"'!R\"&$T327&\"C\"&COLUMN(),FALSE)","v":"Radio antenna receivers/transmitters"},{"$f":"INDIRECT(\"'\"&$S327&\"'!R\"&$T327&\"C\"&COLUMN(),FALSE)","v":0},{"$f":"INDIRECT(\"'\"&$S327&\"'!R\"&$T327&\"C\"&COLUMN(),FALSE)","v":11741},null,"452",323,"11741#A","large UAV",21]
[{"$f":"INDIRECT(\"'\"&$S328&\"'!R\"&$T328&\"C\"&COLUMN(),FALSE)","v":"452#877"},{"$f":"INDIRECT(\"'\"&$S328&\"'!R\"&$T328&\"C\"&COLUMN(),FALSE)","v":11741},{"$f":"INDIRECT(\"'\"&$S328&\"'!R\"&$T328&\"C\"&COLUMN(),FALSE)","v":10000},{"$f":"INDIRECT(\"'\"&$S328&\"'!R\"&$T328&\"C\"&COLUMN(),FALSE)","v":13131.169169751456},{"$f":"INDIRECT(\"'\"&$S328&\"'!R\"&$T328&\"C\"&COLUMN(),FALSE)","v":11184.029613960869},{"$f":"INDIRECT(\"'\"&$S328&\"'!R\"&$T328&\"C\"&COLUMN(),FALSE)","v":"Used Model 2024"},{"$f":"INDIRECT(\"'\"&$S328&\"'!R\"&$T328&\"C\"&COLUMN(),FALSE)","v":13131.169169751456},{"$f":"INDIRECT(\"'\"&$S328&\"'!R\"&$T328&\"C\"&COLUMN(),FALSE)","v":0.1741},{"$f":"INDIRECT(\"'\"&$S328&\"'!R\"&$T328&\"C\"&COLUMN(),FALSE)","v":0},{"$f":"INDIRECT(\"'\"&$S328&\"'!R\"&$T328&\"C\"&COLUMN(),FALSE)","v":2},{"$f":"INDIRECT(\"'\"&$S328&\"'!R\"&$T328&\"C\"&COLUMN(),FALSE)","v":"A"},{"$f":"INDIRECT(\"'\"&$S328&\"'!R\"&$T328&\"C\"&COLUMN(),FALSE)","v":"UHF LOS antennas"},{"$f":"INDIRECT(\"'\"&$S328&\"'!R\"&$T328&\"C\"&COLUMN(),FALSE)","v":0},{"$f":"INDIRECT(\"'\"&$S328&\"'!R\"&$T328&\"C\"&COLUMN(),FALSE)","v":11741},null,"452",324,"11741#A","large UAV",22]
[{"$f":"INDIRECT(\"'\"&$S329&\"'!R\"&$T329&\"C\"&COLUMN(),FALSE)","v":"452#879"},{"$f":"INDIRECT(\"'\"&$S329&\"'!R\"&$T329&\"C\"&COLUMN(),FALSE)","v":91905},{"$f":"INDIRECT(\"'\"&$S329&\"'!R\"&$T329&\"C\"&COLUMN(),FALSE)","v":{"$error":"#N/A"}},{"$f":"INDIRECT(\"'\"&$S329&\"'!R\"&$T329&\"C\"&COLUMN(),FALSE)","v":102786.82416710736},{"$f":"INDIRECT(\"'\"&$S329&\"'!R\"&$T329&\"C\"&COLUMN(),FALSE)","v":{"$error":"#N/A"}},{"$f":"INDIRECT(\"'\"&$S329&\"'!R\"&$T329&\"C\"&COLUMN(),FALSE)","v":"Used Model 2024"},{"$f":"INDIRECT(\"'\"&$S329&\"'!R\"&$T329&\"C\"&COLUMN(),FALSE)","v":102786.82416710736},{"$f":"INDIRECT(\"'\"&$S329&\"'!R\"&$T329&\"C\"&COLUMN(),FALSE)","v":{"$error":"#N/A"}},{"$f":"INDIRECT(\"'\"&$S329&\"'!R\"&$T329&\"C\"&COLUMN(),FALSE)","v":{"$error":"#N/A"}},{"$f":"INDIRECT(\"'\"&$S329&\"'!R\"&$T329&\"C\"&COLUMN(),FALSE)","v":1},{"$f":"INDIRECT(\"'\"&$S329&\"'!R\"&$T329&\"C\"&COLUMN(),FALSE)","v":"N"},{"$f":"INDIRECT(\"'\"&$S329&\"'!R\"&$T329&\"C\"&COLUMN(),FALSE)","v":"Software"},{"$f":"INDIRECT(\"'\"&$S329&\"'!R\"&$T329&\"C\"&COLUMN(),FALSE)","v":0},{"$f":"INDIRECT(\"'\"&$S329&\"'!R\"&$T329&\"C\"&COLUMN(),FALSE)","v":91905},null,"452",325,"91905#N","large UAV",23]
[{"$f":"INDIRECT(\"'\"&$S330&\"'!R\"&$T330&\"C\"&COLUMN(),FALSE)","v":"452#880"},{"$f":"INDIRECT(\"'\"&$S330&\"'!R\"&$T330&\"C\"&COLUMN(),FALSE)","v":19800},{"$f":"INDIRECT(\"'\"&$S330&\"'!R\"&$T330&\"C\"&COLUMN(),FALSE)","v":{"$error":"#N/A"}},{"$f":"INDIRECT(\"'\"&$S330&\"'!R\"&$T330&\"C\"&COLUMN(),FALSE)","v":22144.378635642519},{"$f":"INDIRECT(\"'\"&$S330&\"'!R\"&$T330&\"C\"&COLUMN(),FALSE)","v":{"$error":"#N/A"}},{"$f":"INDIRECT(\"'\"&$S330&\"'!R\"&$T330&\"C\"&COLUMN(),FALSE)","v":"Used Model 2024"},{"$f":"INDIRECT(\"'\"&$S330&\"'!R\"&$T330&\"C\"&COLUMN(),FALSE)","v":22144.378635642519},{"$f":"INDIRECT(\"'\"&$S330&\"'!R\"&$T330&\"C\"&COLUMN(),FALSE)","v":{"$error":"#N/A"}},{"$f":"INDIRECT(\"'\"&$S330&\"'!R\"&$T330&\"C\"&COLUMN(),FALSE)","v":{"$error":"#N/A"}},{"$f":"INDIRECT(\"'\"&$S330&\"'!R\"&$T330&\"C\"&COLUMN(),FALSE)","v":3},{"$f":"INDIRECT(\"'\"&$S330&\"'!R\"&$T330&\"C\"&COLUMN(),FALSE)","v":"G"},{"$f":"INDIRECT(\"'\"&$S330&\"'!R\"&$T330&\"C\"&COLUMN(),FALSE)","v":"Air data sensors"},{"$f":"INDIRECT(\"'\"&$S330&\"'!R\"&$T330&\"C\"&COLUMN(),FALSE)","v":0},{"$f":"INDIRECT(\"'\"&$S330&\"'!R\"&$T330&\"C\"&COLUMN(),FALSE)","v":19800},null,"452",326,"19800#G","large UAV",24]
[{"$f":"INDIRECT(\"'\"&$S331&\"'!R\"&$T331&\"C\"&COLUMN(),FALSE)","v":0},{"$f":"INDIRECT(\"'\"&$S331&\"'!R\"&$T331&\"C\"&COLUMN(),FALSE)","v":""},{"$f":"INDIRECT(\"'\"&$S331&\"'!R\"&$T331&\"C\"&COLUMN(),FALSE)","v":65000},{"$f":"INDIRECT(\"'\"&$S331&\"'!R\"&$T331&\"C\"&COLUMN(),FALSE)","v":{"$error":"#VALUE!"}},{"$f":"INDIRECT(\"'\"&$S331&\"'!R\"&$T331&\"C\"&COLUMN(),FALSE)","v":72696.192490745641},{"$f":"INDIRECT(\"'\"&$S331&\"'!R\"&$T331&\"C\"&COLUMN(),FALSE)","v":"Used PW 2024"},{"$f":"INDIRECT(\"'\"&$S331&\"'!R\"&$T331&\"C\"&COLUMN(),FALSE)","v":75000},{"$f":"INDIRECT(\"'\"&$S331&\"'!R\"&$T331&\"C\"&COLUMN(),FALSE)","v":{"$error":"#VALUE!"}},{"$f":"INDIRECT(\"'\"&$S331&\"'!R\"&$T331&\"C\"&COLUMN(),FALSE)","v":0},{"$f":"INDIRECT(\"'\"&$S331&\"'!R\"&$T331&\"C\"&COLUMN(),FALSE)","v":1},{"$f":"INDIRECT(\"'\"&$S331&\"'!R\"&$T331&\"C\"&COLUMN(),FALSE)","v":0},{"$f":"INDIRECT(\"'\"&$S331&\"'!R\"&$T331&\"C\"&COLUMN(),FALSE)","v":0},{"$f":"INDIRECT(\"'\"&$S331&\"'!R\"&$T331&\"C\"&COLUMN(),FALSE)","v":"Intergated Navigation suite (INS/Air data?)"},{"$f":"INDIRECT(\"'\"&$S331&\"'!R\"&$T331&\"C\"&COLUMN(),FALSE)","v":""},null,"",327,"#0","large UAV",25]

{"sheet":"Cheat sheet","index":15,"n_rows":16,"n_cols":2,"rows_kept":16,"cut":false,"hidden":false,"merged":[]}
["Sheet","Aircraft_id"]
[{"$f":"INDEX(MID(sheetnames,FIND(\"]\",sheetnames)+1,255),ROW(A1))","v":"README"}]
[{"$f":"INDEX(MID(sheetnames,FIND(\"]\",sheetnames)+1,255),ROW(A2))","v":"Federal Reserve PPI AC Parts"}]
[{"$f":"INDEX(MID(sheetnames,FIND(\"]\",sheetnames)+1,255),ROW(A3))","v":"Aircraft Pricing"},{"$f":"LEFT(INDIRECT(\"'\"&A4&\"'!a5\"),SEARCH(\"#\",INDIRECT(\"'\"&A4&\"'!a5\"))-1)","v":{"$error":"#VALUE!"}}]
[{"$f":"INDEX(MID(sheetnames,FIND(\"]\",sheetnames)+1,255),ROW(A4))","v":"Narrow Body"},{"$f":"LEFT(INDIRECT(\"'\"&A5&\"'!a5\"),SEARCH(\"#\",INDIRECT(\"'\"&A5&\"'!a5\"))-1)","v":"633"}]
[{"$f":"INDEX(MID(sheetnames,FIND(\"]\",sheetnames)+1,255),ROW(A5))","v":"mil fighter"},{"$f":"LEFT(INDIRECT(\"'\"&A6&\"'!a5\"),SEARCH(\"#\",INDIRECT(\"'\"&A6&\"'!a5\"))-1)","v":"146"}]
[{"$f":"INDEX(MID(sheetnames,FIND(\"]\",sheetnames)+1,255),ROW(A6))","v":"wide body (non IMA)"},{"$f":"LEFT(INDIRECT(\"'\"&A7&\"'!a5\"),SEARCH(\"#\",INDIRECT(\"'\"&A7&\"'!a5\"))-1)","v":"518"}]
[{"$f":"INDEX(MID(sheetnames,FIND(\"]\",sheetnames)+1,255),ROW(A7))","v":"wide body (IMA)"},{"$f":"LEFT(INDIRECT(\"'\"&A8&\"'!a5\"),SEARCH(\"#\",INDIRECT(\"'\"&A8&\"'!a5\"))-1)","v":"199"}]
[{"$f":"INDEX(MID(sheetnames,FIND(\"]\",sheetnames)+1,255),ROW(A8))","v":"regional"},{"$f":"LEFT(INDIRECT(\"'\"&A9&\"'!a5\"),SEARCH(\"#\",INDIRECT(\"'\"&A9&\"'!a5\"))-1)","v":"23"}]
[{"$f":"INDEX(MID(sheetnames,FIND(\"]\",sheetnames)+1,255),ROW(A9))","v":"mil trainer"},{"$f":"LEFT(INDIRECT(\"'\"&A10&\"'!a5\"),SEARCH(\"#\",INDIRECT(\"'\"&A10&\"'!a5\"))-1)","v":"167"}]
[{"$f":"INDEX(MID(sheetnames,FIND(\"]\",sheetnames)+1,255),ROW(A10))","v":"bizjet"},{"$f":"LEFT(INDIRECT(\"'\"&A11&\"'!a5\"),SEARCH(\"#\",INDIRECT(\"'\"&A11&\"'!a5\"))-1)","v":"36"}]
[{"$f":"INDEX(MID(sheetnames,FIND(\"]\",sheetnames)+1,255),ROW(A11))","v":"Mil trans"},{"$f":"LEFT(INDIRECT(\"'\"&A12&\"'!a5\"),SEARCH(\"#\",INDIRECT(\"'\"&A12&\"'!a5\"))-1)","v":"150"}]
[{"$f":"INDEX(MID(sheetnames,FIND(\"]\",sheetnames)+1,255),ROW(A12))","v":"rotorcraft mil"},{"$f":"LEFT(INDIRECT(\"'\"&A13&\"'!a5\"),SEARCH(\"#\",INDIRECT(\"'\"&A13&\"'!a5\"))-1)","v":"98"}]
[{"$f":"INDEX(MID(sheetnames,FIND(\"]\",sheetnames)+1,255),ROW(A13))","v":"rotocraft civil"},{"$f":"LEFT(INDIRECT(\"'\"&A14&\"'!a5\"),SEARCH(\"#\",INDIRECT(\"'\"&A14&\"'!a5\"))-1)","v":"102"}]
[{"$f":"INDEX(MID(sheetnames,FIND(\"]\",sheetnames)+1,255),ROW(A14))","v":"large UAV"},{"$f":"LEFT(INDIRECT(\"'\"&A15&\"'!a5\"),SEARCH(\"#\",INDIRECT(\"'\"&A15&\"'!a5\"))-1)","v":"452"}]
[{"$f":"INDEX(MID(sheetnames,FIND(\"]\",sheetnames)+1,255),ROW(A15))","v":"Combined data"}]