{"text_format":"1","workbook":"xlsx","n_sheets":5,"sheets":["Upgrades","Avionics ID","Sheet2","Aircraft IDs","Pt1-AvionicsComponentCosts"],"not_rendered":{"charts":0,"images":0,"macros":0,"external_links":1,"defined_names":7,"comments":1,"pivot_tables":0},"unopened":[],"bounds":{"document_bytes":16777216,"sheet_cells":100000,"rows_first":2000,"rows_last":500,"rows_between":2000,"halvings":0,"cell_chars":16384,"cell_head_chars":4096},"cells_cut":0,"cells_raw":0,"read":"whole","date_system":"1900"}

{"sheet":"Upgrades","index":0,"n_rows":183,"n_cols":44,"rows_kept":183,"cut":false,"hidden":false,"merged":[[0,9,0,10],[0,11,0,12]]}
[null,null,5.0000000000000001E-3,null,40,25,10,null,null,"ANNUAL SPARES/REPAIR\n(as % of previous delivery)",null,"Price of Spares/Repairs Components\n(as % of Full Price)",null,"Check 1",null,null,"Check 2",null,null,"Check 3",null,null,"Check 4",null,null,"Check 5",null,null,"Check 6",null,null,"Check 7",null,null,"Check 8",null,null,"Check 9",null,null,"Check 10"]
["ID","Unit","Annual Replacement Rate","Annual Repair Rate","Replacement interval (years)","A, B, C, D Check",null,"Applicable class of A/C","Notes","Repairs","Spares","Repairs","Spares","Year","Repair %","Spares %","Year","Repair %","Spares %","Year","Repair %","Spares %","Year","Repair %","Spares %","Year","Repair %","Spares %","Year","Repair %","Spares %","Year","Repair %","Spares %","Year","Repair %","Spares %","Year","Repair %","Spares %","Year","Repair %","Spares %","END MARKER"]
[{"$f":"INDEX('Avionics ID'!A:E,MATCH(B3,'Avionics ID'!E:E,0),1)","v":713},"A/T Engine Control Unit",{"$f":"IFERROR(100%/E3,0)","v":3.3333333333333333E-2},0.1,30,{"$f":"IF(E3=0,\"\",IF(E3<10,\"Technology / regulatory\",\"Obsolecence\"))","v":"Obsolecence"},{"$f":"SUBSTITUTE(ADDRESS(1,MATCH(A3,'Pt1-AvionicsComponentCosts'!$A$6:$NC$6,0)+1),\"$1\",\"\")","v":"$H"},{"$f":"_xlfn.TEXTJOIN(\", \",TRUE,_xlfn.UNIQUE(_xlfn._xlws.SORT(_xlfn._xlws.FILTER('Pt1-AvionicsComponentCosts'!$NF$12:$NF$384,ISNUMBER(INDIRECT(\"'Pt1-AvionicsComponentCosts'!\"&G3&\"$12:\"&G3&\"$384\"))))))","v":"A220, A300, A320, A321, A330, A340, A350, A380, ATR, B717, B737, B747, B757, B767, B777, B787, C919, EMB Regional, MC-21, MD-11, Mil Transport, Military Jet, NSA"},null,{"$f":"D3","v":0.1},{"$f":"ROUND(C3,2)","v":0.03},0.44800000000000001,1.298,{"$f":"COUNTIF($N$2:N$2,\"Year\")*$G$1","v":10},null,{"$f":"IFERROR(IF(INT(N3/$E3)=N3/$E3,100%,IF(N3/$E3<0,0,MOD($E3,N3)/10)),0)","v":0},{"$f":"COUNTIF($N$2:Q$2,\"Year\")*$G$1","v":20},null,{"$f":"IFERROR(IF(INT(Q3/$E3)=Q3/$E3,100%,IF(Q3/$E3<0,0,MOD($E3,$G$1)/10)),0)","v":0},{"$f":"COUNTIF($N$2:T$2,\"Year\")*$G$1","v":30},null,{"$f":"IFERROR(IF(INT(T3/$E3)=T3/$E3,100%,IF(T3/$E3<0,0,MOD($E3,$G$1)/10)),0)","v":1},{"$f":"COUNTIF($N$2:W$2,\"Year\")*$G$1","v":40},null,{"$f":"IFERROR(IF(INT(W3/$E3)=W3/$E3,100%,IF(W3/$E3<0,0,MOD($E3,$G$1)/10)),0)","v":0},{"$f":"IF(Y3=0,0,IF(Z$2=\"Year\",IF(_xlfn.MAXIFS($N3:Y3,$N$2:Y$2,\"Year\")+$E3<=$E$1,W3+$E3,0),IF(Z$2=\"Repair %\",IF(W3>0,$C$3,0),IF(Z$2=\"Spares %\",IF(IF(W3>0,$C3,0)*100>50%,50%,IF(W3>0,$C3,0)*100),0))))","v":0},{"$f":"IF(Z3=0,0,IF(AA$2=\"Year\",IF(_xlfn.MAXIFS($N3:Z3,$N$2:Z$2,\"Year\")+$E3<=$E$1,X3+$E3,0),IF(AA$2=\"Repair %\",IF(X3>0,$C3,0),IF(AA$2=\"Spares %\",IF(IF(X3>0,$C3,0)*100>50%,50%,IF(X3>0,$C3,0)*100),0))))","v":0},{"$f":"IF(AA3=0,0,IF(AB$2=\"Year\",IF(_xlfn.MAXIFS($N3:AA3,$N$2:AA$2,\"Year\")+$E3<=$E$1,Y3+$E3,0),IF(AB$2=\"Repair %\",IF(Y3>0,$C3,0),IF(AB$2=\"Spares %\",IF(IF(W3>0,$C3,0)*5>80%,50%,IF(W3>0,$C3,0)*5),0))))","v":0},{"$f":"IF(AB3=0,0,IF(AC$2=\"Year\",IF(_xlfn.MAXIFS($N3:AB3,$N$2:AB$2,\"Year\")+$E3<=$E$1,Z3+$E3,0),IF(AC$2=\"Repair %\",IF(Z3>0,$C$3,0),IF(AC$2=\"Spares %\",IF(IF(Z3>0,$C3,0)*100>50%,50%,IF(Z3>0,$C3,0)*100),0))))","v":0},{"$f":"IF(AC3=0,0,IF(AD$2=\"Year\",IF(_xlfn.MAXIFS($N3:AC3,$N$2:AC$2,\"Year\")+$E3<=$E$1,AA3+$E3,0),IF(AD$2=\"Repair %\",IF(AA3>0,$C3,0),IF(AD$2=\"Spares %\",IF(IF(AA3>0,$C3,0)*100>50%,50%,IF(AA3>0,$C3,0)*100),0))))","v":0},{"$f":"IF(AD3=0,0,IF(AE$2=\"Year\",IF(_xlfn.MAXIFS($N3:AD3,$N$2:AD$2,\"Year\")+$E3<=$E$1,AB3+$E3,0),IF(AE$2=\"Repair %\",IF(AB3>0,$C3,0),IF(AE$2=\"Spares %\",IF(IF(Z3>0,$C3,0)*5>80%,50%,IF(Z3>0,$C3,0)*5),0))))","v":0},{"$f":"IF(AE3=0,0,IF(AF$2=\"Year\",IF(_xlfn.MAXIFS($N3:AE3,$N$2:AE$2,\"Year\")+$E3<=$E$1,AC3+$E3,0),IF(AF$2=\"Repair %\",IF(AC3>0,$C$3,0),IF(AF$2=\"Spares %\",IF(IF(AC3>0,$C3,0)*100>50%,50%,IF(AC3>0,$C3,0)*100),0))))","v":0},{"$f":"IF(AF3=0,0,IF(AG$2=\"Year\",IF(_xlfn.MAXIFS($N3:AF3,$N$2:AF$2,\"Year\")+$E3<=$E$1,AD3+$E3,0),IF(AG$2=\"Repair %\",IF(AD3>0,$C3,0),IF(AG$2=\"Spares %\",IF(IF(AD3>0,$C3,0)*100>50%,50%,IF(AD3>0,$C3,0)*100),0))))","v":0},{"$f":"IF(AG3=0,0,IF(AH$2=\"Year\",IF(_xlfn.MAXIFS($N3:AG3,$N$2:AG$2,\"Year\")+$E3<=$E$1,AE3+$E3,0),IF(AH$2=\"Repair %\",IF(AE3>0,$C3,0),IF(AH$2=\"Spares %\",IF(IF(AC3>0,$C3,0)*5>80%,50%,IF(AC3>0,$C3,0)*5),0))))","v":0},{"$f":"IF(AH3=0,0,IF(AI$2=\"Year\",IF(_xlfn.MAXIFS($N3:AH3,$N$2:AH$2,\"Year\")+$E3<=$E$1,AF3+$E3,0),IF(AI$2=\"Repair %\",IF(AF3>0,$C$3,0),IF(AI$2=\"Spares %\",IF(IF(AF3>0,$C3,0)*100>50%,50%,IF(AF3>0,$C3,0)*100),0))))","v":0},{"$f":"IF(AI3=0,0,IF(AJ$2=\"Year\",IF(_xlfn.MAXIFS($N3:AI3,$N$2:AI$2,\"Year\")+$E3<=$E$1,AG3+$E3,0),IF(AJ$2=\"Repair %\",IF(AG3>0,$C3,0),IF(AJ$2=\"Spares %\",IF(IF(AG3>0,$C3,0)*100>50%,50%,IF(AG3>0,$C3,0)*100),0))))","v":0},{"$f":"IF(AJ3=0,0,IF(AK$2=\"Year\",IF(_xlfn.MAXIFS($N3:AJ3,$N$2:AJ$2,\"Year\")+$E3<=$E$1,AH3+$E3,0),IF(AK$2=\"Repair %\",IF(AH3>0,$C3,0),IF(AK$2=\"Spares %\",IF(IF(AF3>0,$C3,0)*5>80%,50%,IF(AF3>0,$C3,0)*5),0))))","v":0},{"$f":"IF(AK3=0,0,IF(AL$2=\"Year\",IF(_xlfn.MAXIFS($N3:AK3,$N$2:AK$2,\"Year\")+$E3<=$E$1,AI3+$E3,0),IF(AL$2=\"Repair %\",IF(AI3>0,$C$3,0),IF(AL$2=\"Spares %\",IF(IF(AI3>0,$C3,0)*100>50%,50%,IF(AI3>0,$C3,0)*100),0))))","v":0},{"$f":"IF(AL3=0,0,IF(AM$2=\"Year\",IF(_xlfn.MAXIFS($N3:AL3,$N$2:AL$2,\"Year\")+$E3<=$E$1,AJ3+$E3,0),IF(AM$2=\"Repair %\",IF(AJ3>0,$C3,0),IF(AM$2=\"Spares %\",IF(IF(AJ3>0,$C3,0)*100>50%,50%,IF(AJ3>0,$C3,0)*100),0))))","v":0},{"$f":"IF(AM3=0,0,IF(AN$2=\"Year\",IF(_xlfn.MAXIFS($N3:AM3,$N$2:AM$2,\"Year\")+$E3<=$E$1,AK3+$E3,0),IF(AN$2=\"Repair %\",IF(AK3>0,$C3,0),IF(AN$2=\"Spares %\",IF(IF(AI3>0,$C3,0)*5>80%,50%,IF(AI3>0,$C3,0)*5),0))))","v":0},{"$f":"IF(AN3=0,0,IF(AO$2=\"Year\",IF(_xlfn.MAXIFS($N3:AN3,$N$2:AN$2,\"Year\")+$E3<=$E$1,AL3+$E3,0),IF(AO$2=\"Repair %\",IF(AL3>0,$C$3,0),IF(AO$2=\"Spares %\",IF(IF(AL3>0,$C3,0)*100>50%,50%,IF(AL3>0,$C3,0)*100),0))))","v":0},{"$f":"IF(AO3=0,0,IF(AP$2=\"Year\",IF(_xlfn.MAXIFS($N3:AO3,$N$2:AO$2,\"Year\")+$E3<=$E$1,AM3+$E3,0),IF(AP$2=\"Repair %\",IF(AM3>0,$C3,0),IF(AP$2=\"Spares %\",IF(IF(AM3>0,$C3,0)*100>50%,50%,IF(AM3>0,$C3,0)*100),0))))","v":0},{"$f":"IF(AP3=0,0,IF(AQ$2=\"Year\",IF(_xlfn.MAXIFS($N3:AP3,$N$2:AP$2,\"Year\")+$E3<=$E$1,AN3+$E3,0),IF(AQ$2=\"Repair %\",IF(AN3>0,$C3,0),IF(AQ$2=\"Spares %\",IF(IF(AL3>0,$C3,0)*5>80%,50%,IF(AL3>0,$C3,0)*5),0))))","v":0}]
[{"$f":"INDEX('Avionics ID'!A:E,MATCH(B4,'Avionics ID'!E:E,0),1)","v":763},"ADF radios",{"$f":"IFERROR(100%/E4,0)","v":0.14285714285714285},0.06,7,{"$f":"IF(E4=0,\"\",IF(E4<10,\"Technology / regulatory\",\"Obsolecence\"))","v":"Technology / regulatory"},{"$f":"SUBSTITUTE(ADDRESS(1,MATCH(A4,'Pt1-AvionicsComponentCosts'!$A$6:$NC$6,0)+1),\"$1\",\"\")","v":"$P"},{"$f":"_xlfn.TEXTJOIN(\", \",TRUE,_xlfn.UNIQUE(_xlfn._xlws.SORT(_xlfn._xlws.FILTER('Pt1-AvionicsComponentCosts'!$NF$12:$NF$384,ISNUMBER(INDIRECT(\"'Pt1-AvionicsComponentCosts'!\"&G4&\"$12:\"&G4&\"$384\"))))))","v":"A300, A320, A330, A340, A350, A380, B747, B767, B777, B787"},null,0.06,{"$f":"ROUND(C4,2)","v":0.14000000000000001},0.44800000000000001,1.298,{"$f":"COUNTIF($N$2:N$2,\"Year\")*$G$1","v":10},null,{"$f":"IFERROR(IF(INT(N4/$E4)=N4/$E4,100%,IF(N4/$E4<0,0,MOD($E4,N4)/10)),0)","v":0.7},{"$f":"COUNTIF($N$2:Q$2,\"Year\")*$G$1","v":20},{"$f":"IF(Q4=0,0,IF(R$2=\"Year\",IF(_xlfn.MAXIFS($N4:Q4,$N$2:Q$2,\"Year\")+$E4<=$E$1,O4+$E4,0),IF(R$2=\"Repair %\",IF(O4>0,$C4,0),IF(R$2=\"Spares %\",IF(IF(O4>0,$C4,0)*100>50%,50%,IF(O4>0,$C4,0)*100),0))))","v":0},0.7,{"$f":"COUNTIF($N$2:T$2,\"Year\")*$G$1","v":30},{"$f":"IF(T4=0,0,IF(U$2=\"Year\",IF(_xlfn.MAXIFS($N4:T4,$N$2:T$2,\"Year\")+$E4<=$E$1,R4+$E4,0),IF(U$2=\"Repair %\",IF(R4>0,$C4,0),IF(U$2=\"Spares %\",IF(IF(R4>0,$C4,0)*100>50%,50%,IF(R4>0,$C4,0)*100),0))))","v":0},0.7,{"$f":"COUNTIF($N$2:W$2,\"Year\")*$G$1","v":40},{"$f":"IF(W4=0,0,IF(X$2=\"Year\",IF(_xlfn.MAXIFS($N4:W4,$N$2:W$2,\"Year\")+$E4<=$E$1,U4+$E4,0),IF(X$2=\"Repair %\",IF(U4>0,$C4,0),IF(X$2=\"Spares %\",IF(IF(U4>0,$C4,0)*100>50%,50%,IF(U4>0,$C4,0)*100),0))))","v":0},0.7,{"$f":"IF(Y4=0,0,IF(Z$2=\"Year\",IF(_xlfn.MAXIFS($N4:Y4,$N$2:Y$2,\"Year\")+$E4<=$E$1,W4+$E4,0),IF(Z$2=\"Repair %\",IF(W4>0,$C$3,0),IF(Z$2=\"Spares %\",IF(IF(W4>0,$C4,0)*100>50%,50%,IF(W4>0,$C4,0)*100),0))))","v":0},{"$f":"IF(Z4=0,0,IF(AA$2=\"Year\",IF(_xlfn.MAXIFS($N4:Z4,$N$2:Z$2,\"Year\")+$E4<=$E$1,X4+$E4,0),IF(AA$2=\"Repair %\",IF(X4>0,$C4,0),IF(AA$2=\"Spares %\",IF(IF(X4>0,$C4,0)*100>50%,50%,IF(X4>0,$C4,0)*100),0))))","v":0},{"$f":"IF(AA4=0,0,IF(AB$2=\"Year\",IF(_xlfn.MAXIFS($N4:AA4,$N$2:AA$2,\"Year\")+$E4<=$E$1,Y4+$E4,0),IF(AB$2=\"Repair %\",IF(Y4>0,$C4,0),IF(AB$2=\"Spares %\",IF(IF(W4>0,$C4,0)*5>80%,50%,IF(W4>0,$C4,0)*5),0))))","v":0},{"$f":"IF(AB4=0,0,IF(AC$2=\"Year\",IF(_xlfn.MAXIFS($N4:AB4,$N$2:AB$2,\"Year\")+$E4<=$E$1,Z4+$E4,0),IF(AC$2=\"Repair %\",IF(Z4>0,$C$3,0),IF(AC$2=\"Spares %\",IF(IF(Z4>0,$C4,0)*100>50%,50%,IF(Z4>0,$C4,0)*100),0))))","v":0},{"$f":"IF(AC4=0,0,IF(AD$2=\"Year\",IF(_xlfn.MAXIFS($N4:AC4,$N$2:AC$2,\"Year\")+$E4<=$E$1,AA4+$E4,0),IF(AD$2=\"Repair %\",IF(AA4>0,$C4,0),IF(AD$2=\"Spares %\",IF(IF(AA4>0,$C4,0)*100>50%,50%,IF(AA4>0,$C4,0)*100),0))))","v":0},{"$f":"IF(AD4=0,0,IF(AE$2=\"Year\",IF(_xlfn.MAXIFS($N4:AD4,$N$2:AD$2,\"Year\")+$E4<=$E$1,AB4+$E4,0),IF(AE$2=\"Repair %\",IF(AB4>0,$C4,0),IF(AE$2=\"Spares %\",IF(IF(Z4>0,$C4,0)*5>80%,50%,IF(Z4>0,$C4,0)*5),0))))","v":0},{"$f":"IF(AE4=0,0,IF(AF$2=\"Year\",IF(_xlfn.MAXIFS($N4:AE4,$N$2:AE$2,\"Year\")+$E4<=$E$1,AC4+$E4,0),IF(AF$2=\"Repair %\",IF(AC4>0,$C$3,0),IF(AF$2=\"Spares %\",IF(IF(AC4>0,$C4,0)*100>50%,50%,IF(AC4>0,$C4,0)*100),0))))","v":0},{"$f":"IF(AF4=0,0,IF(AG$2=\"Year\",IF(_xlfn.MAXIFS($N4:AF4,$N$2:AF$2,\"Year\")+$E4<=$E$1,AD4+$E4,0),IF(AG$2=\"Repair %\",IF(AD4>0,$C4,0),IF(AG$2=\"Spares %\",IF(IF(AD4>0,$C4,0)*100>50%,50%,IF(AD4>0,$C4,0)*100),0))))","v":0},{"$f":"IF(AG4=0,0,IF(AH$2=\"Year\",IF(_xlfn.MAXIFS($N4:AG4,$N$2:AG$2,\"Year\")+$E4<=$E$1,AE4+$E4,0),IF(AH$2=\"Repair %\",IF(AE4>0,$C4,0),IF(AH$2=\"Spares %\",IF(IF(AC4>0,$C4,0)*5>80%,50%,IF(AC4>0,$C4,0)*5),0))))","v":0},{"$f":"IF(AH4=0,0,IF(AI$2=\"Year\",IF(_xlfn.MAXIFS($N4:AH4,$N$2:AH$2,\"Year\")+$E4<=$E$1,AF4+$E4,0),IF(AI$2=\"Repair %\",IF(AF4>0,$C$3,0),IF(AI$2=\"Spares %\",IF(IF(AF4>0,$C4,0)*100>50%,50%,IF(AF4>0,$C4,0)*100),0))))","v":0},{"$f":"IF(AI4=0,0,IF(AJ$2=\"Year\",IF(_xlfn.MAXIFS($N4:AI4,$N$2:AI$2,\"Year\")+$E4<=$E$1,AG4+$E4,0),IF(AJ$2=\"Repair %\",IF(AG4>0,$C4,0),IF(AJ$2=\"Spares %\",IF(IF(AG4>0,$C4,0)*100>50%,50%,IF(AG4>0,$C4,0)*100),0))))","v":0},{"$f":"IF(AJ4=0,0,IF(AK$2=\"Year\",IF(_xlfn.MAXIFS($N4:AJ4,$N$2:AJ$2,\"Year\")+$E4<=$E$1,AH4+$E4,0),IF(AK$2=\"Repair %\",IF(AH4>0,$C4,0),IF(AK$2=\"Spares %\",IF(IF(AF4>0,$C4,0)*5>80%,50%,IF(AF4>0,$C4,0)*5),0))))","v":0},{"$f":"IF(AK4=0,0,IF(AL$2=\"Year\",IF(_xlfn.MAXIFS($N4:AK4,$N$2:AK$2,\"Year\")+$E4<=$E$1,AI4+$E4,0),IF(AL$2=\"Repair %\",IF(AI4>0,$C$3,0),IF(AL$2=\"Spares %\",IF(IF(AI4>0,$C4,0)*100>50%,50%,IF(AI4>0,$C4,0)*100),0))))","v":0},{"$f":"IF(AL4=0,0,IF(AM$2=\"Year\",IF(_xlfn.MAXIFS($N4:AL4,$N$2:AL$2,\"Year\")+$E4<=$E$1,AJ4+$E4,0),IF(AM$2=\"Repair %\",IF(AJ4>0,$C4,0),IF(AM$2=\"Spares %\",IF(IF(AJ4>0,$C4,0)*100>50%,50%,IF(AJ4>0,$C4,0)*100),0))))","v":0},{"$f":"IF(AM4=0,0,IF(AN$2=\"Year\",IF(_xlfn.MAXIFS($N4:AM4,$N$2:AM$2,\"Year\")+$E4<=$E$1,AK4+$E4,0),IF(AN$2=\"Repair %\",IF(AK4>0,$C4,0),IF(AN$2=\"Spares %\",IF(IF(AI4>0,$C4,0)*5>80%,50%,IF(AI4>0,$C4,0)*5),0))))","v":0},{"$f":"IF(AN4=0,0,IF(AO$2=\"Year\",IF(_xlfn.MAXIFS($N4:AN4,$N$2:AN$2,\"Year\")+$E4<=$E$1,AL4+$E4,0),IF(AO$2=\"Repair %\",IF(AL4>0,$C$3,0),IF(AO$2=\"Spares %\",IF(IF(AL4>0,$C4,0)*100>50%,50%,IF(AL4>0,$C4,0)*100),0))))","v":0},{"$f":"IF(AO4=0,0,IF(AP$2=\"Year\",IF(_xlfn.MAXIFS($N4:AO4,$N$2:AO$2,\"Year\")+$E4<=$E$1,AM4+$E4,0),IF(AP$2=\"Repair %\",IF(AM4>0,$C4,0),IF(AP$2=\"Spares %\",IF(IF(AM4>0,$C4,0)*100>50%,50%,IF(AM4>0,$C4,0)*100),0))))","v":0},{"$f":"IF(AP4=0,0,IF(AQ$2=\"Year\",IF(_xlfn.MAXIFS($N4:AP4,$N$2:AP$2,\"Year\")+$E4<=$E$1,AN4+$E4,0),IF(AQ$2=\"Repair %\",IF(AN4>0,$C4,0),IF(AQ$2=\"Spares %\",IF(IF(AL4>0,$C4,0)*5>80%,50%,IF(AL4>0,$C4,0)*5),0))))","v":0}]
[{"$f":"INDEX('Avionics ID'!A:E,MATCH(B5,'Avionics ID'!E:E,0),1)","v":724},"ADF system",0.1,0.06,10,"Obsolecence",{"$f":"SUBSTITUTE(ADDRESS(1,MATCH(A5,'Pt1-AvionicsComponentCosts'!$A$6:$NC$6,0)+1),\"$1\",\"\")","v":"$R"},{"$f":"_xlfn.TEXTJOIN(\", \",TRUE,_xlfn.UNIQUE(_xlfn._xlws.SORT(_xlfn._xlws.FILTER('Pt1-AvionicsComponentCosts'!$NF$12:$NF$384,ISNUMBER(INDIRECT(\"'Pt1-AvionicsComponentCosts'!\"&G5&\"$12:\"&G5&\"$384\"))))))","v":"A220, A300, A320, A321, A330, A340, A350, ATR, B717, B737, B747, B757, B767, B777, B787, C919, EMB Regional, MC-21, MD-11, Mil Transport, Military Jet, NSA"},null,0.06,0.1,0.44800000000000001,1.298,{"$f":"COUNTIF($N$2:N$2,\"Year\")*$G$1","v":10},null,1,{"$f":"COUNTIF($N$2:Q$2,\"Year\")*$G$1","v":20},{"$f":"IF(Q5=0,0,IF(R$2=\"Year\",IF(_xlfn.MAXIFS($N5:Q5,$N$2:Q$2,\"Year\")+$E5<=$E$1,O5+$E5,0),IF(R$2=\"Repair %\",IF(O5>0,$C5,0),IF(R$2=\"Spares %\",IF(IF(O5>0,$C5,0)*100>50%,50%,IF(O5>0,$C5,0)*100),0))))","v":0},1,{"$f":"COUNTIF($N$2:T$2,\"Year\")*$G$1","v":30},{"$f":"IF(T5=0,0,IF(U$2=\"Year\",IF(_xlfn.MAXIFS($N5:T5,$N$2:T$2,\"Year\")+$E5<=$E$1,R5+$E5,0),IF(U$2=\"Repair %\",IF(R5>0,$C5,0),IF(U$2=\"Spares %\",IF(IF(R5>0,$C5,0)*100>50%,50%,IF(R5>0,$C5,0)*100),0))))","v":0},1,{"$f":"COUNTIF($N$2:W$2,\"Year\")*$G$1","v":40},{"$f":"IF(W5=0,0,IF(X$2=\"Year\",IF(_xlfn.MAXIFS($N5:W5,$N$2:W$2,\"Year\")+$E5<=$E$1,U5+$E5,0),IF(X$2=\"Repair %\",IF(U5>0,$C5,0),IF(X$2=\"Spares %\",IF(IF(U5>0,$C5,0)*100>50%,50%,IF(U5>0,$C5,0)*100),0))))","v":0},1,{"$f":"IF(Y5=0,0,IF(Z$2=\"Year\",IF(_xlfn.MAXIFS($N5:Y5,$N$2:Y$2,\"Year\")+$E5<=$E$1,W5+$E5,0),IF(Z$2=\"Repair %\",IF(W5>0,$C$3,0),IF(Z$2=\"Spares %\",IF(IF(W5>0,$C5,0)*100>50%,50%,IF(W5>0,$C5,0)*100),0))))","v":0},{"$f":"IF(Z5=0,0,IF(AA$2=\"Year\",IF(_xlfn.MAXIFS($N5:Z5,$N$2:Z$2,\"Year\")+$E5<=$E$1,X5+$E5,0),IF(AA$2=\"Repair %\",IF(X5>0,$C5,0),IF(AA$2=\"Spares %\",IF(IF(X5>0,$C5,0)*100>50%,50%,IF(X5>0,$C5,0)*100),0))))","v":0},{"$f":"IF(AA5=0,0,IF(AB$2=\"Year\",IF(_xlfn.MAXIFS($N5:AA5,$N$2:AA$2,\"Year\")+$E5<=$E$1,Y5+$E5,0),IF(AB$2=\"Repair %\",IF(Y5>0,$C5,0),IF(AB$2=\"Spares %\",IF(IF(W5>0,$C5,0)*5>80%,50%,IF(W5>0,$C5,0)*5),0))))","v":0},{"$f":"IF(AB5=0,0,IF(AC$2=\"Year\",IF(_xlfn.MAXIFS($N5:AB5,$N$2:AB$2,\"Year\")+$E5<=$E$1,Z5+$E5,0),IF(AC$2=\"Repair %\",IF(Z5>0,$C$3,0),IF(AC$2=\"Spares %\",IF(IF(Z5>0,$C5,0)*100>50%,50%,IF(Z5>0,$C5,0)*100),0))))","v":0},{"$f":"IF(AC5=0,0,IF(AD$2=\"Year\",IF(_xlfn.MAXIFS($N5:AC5,$N$2:AC$2,\"Year\")+$E5<=$E$1,AA5+$E5,0),IF(AD$2=\"Repair %\",IF(AA5>0,$C5,0),IF(AD$2=\"Spares %\",IF(IF(AA5>0,$C5,0)*100>50%,50%,IF(AA5>0,$C5,0)*100),0))))","v":0},{"$f":"IF(AD5=0,0,IF(AE$2=\"Year\",IF(_xlfn.MAXIFS($N5:AD5,$N$2:AD$2,\"Year\")+$E5<=$E$1,AB5+$E5,0),IF(AE$2=\"Repair %\",IF(AB5>0,$C5,0),IF(AE$2=\"Spares %\",IF(IF(Z5>0,$C5,0)*5>80%,50%,IF(Z5>0,$C5,0)*5),0))))","v":0},{"$f":"IF(AE5=0,0,IF(AF$2=\"Year\",IF(_xlfn.MAXIFS($N5:AE5,$N$2:AE$2,\"Year\")+$E5<=$E$1,AC5+$E5,0),IF(AF$2=\"Repair %\",IF(AC5>0,$C$3,0),IF(AF$2=\"Spares %\",IF(IF(AC5>0,$C5,0)*100>50%,50%,IF(AC5>0,$C5,0)*100),0))))","v":0},{"$f":"IF(AF5=0,0,IF(AG$2=\"Year\",IF(_xlfn.MAXIFS($N5:AF5,$N$2:AF$2,\"Year\")+$E5<=$E$1,AD5+$E5,0),IF(AG$2=\"Repair %\",IF(AD5>0,$C5,0),IF(AG$2=\"Spares %\",IF(IF(AD5>0,$C5,0)*100>50%,50%,IF(AD5>0,$C5,0)*100),0))))","v":0},{"$f":"IF(AG5=0,0,IF(AH$2=\"Year\",IF(_xlfn.MAXIFS($N5:AG5,$N$2:AG$2,\"Year\")+$E5<=$E$1,AE5+$E5,0),IF(AH$2=\"Repair %\",IF(AE5>0,$C5,0),IF(AH$2=\"Spares %\",IF(IF(AC5>0,$C5,0)*5>80%,50%,IF(AC5>0,$C5,0)*5),0))))","v":0},{"$f":"IF(AH5=0,0,IF(AI$2=\"Year\",IF(_xlfn.MAXIFS($N5:AH5,$N$2:AH$2,\"Year\")+$E5<=$E$1,AF5+$E5,0),IF(AI$2=\"Repair %\",IF(AF5>0,$C$3,0),IF(AI$2=\"Spares %\",IF(IF(AF5>0,$C5,0)*100>50%,50%,IF(AF5>0,$C5,0)*100),0))))","v":0},{"$f":"IF(AI5=0,0,IF(AJ$2=\"Year\",IF(_xlfn.MAXIFS($N5:AI5,$N$2:AI$2,\"Year\")+$E5<=$E$1,AG5+$E5,0),IF(AJ$2=\"Repair %\",IF(AG5>0,$C5,0),IF(AJ$2=\"Spares %\",IF(IF(AG5>0,$C5,0)*100>50%,50%,IF(AG5>0,$C5,0)*100),0))))","v":0},{"$f":"IF(AJ5=0,0,IF(AK$2=\"Year\",IF(_xlfn.MAXIFS($N5:AJ5,$N$2:AJ$2,\"Year\")+$E5<=$E$1,AH5+$E5,0),IF(AK$2=\"Repair %\",IF(AH5>0,$C5,0),IF(AK$2=\"Spares %\",IF(IF(AF5>0,$C5,0)*5>80%,50%,IF(AF5>0,$C5,0)*5),0))))","v":0},{"$f":"IF(AK5=0,0,IF(AL$2=\"Year\",IF(_xlfn.MAXIFS($N5:AK5,$N$2:AK$2,\"Year\")+$E5<=$E$1,AI5+$E5,0),IF(AL$2=\"Repair %\",IF(AI5>0,$C$3,0),IF(AL$2=\"Spares %\",IF(IF(AI5>0,$C5,0)*100>50%,50%,IF(AI5>0,$C5,0)*100),0))))","v":0},{"$f":"IF(AL5=0,0,IF(AM$2=\"Year\",IF(_xlfn.MAXIFS($N5:AL5,$N$2:AL$2,\"Year\")+$E5<=$E$1,AJ5+$E5,0),IF(AM$2=\"Repair %\",IF(AJ5>0,$C5,0),IF(AM$2=\"Spares %\",IF(IF(AJ5>0,$C5,0)*100>50%,50%,IF(AJ5>0,$C5,0)*100),0))))","v":0},{"$f":"IF(AM5=0,0,IF(AN$2=\"Year\",IF(_xlfn.MAXIFS($N5:AM5,$N$2:AM$2,\"Year\")+$E5<=$E$1,AK5+$E5,0),IF(AN$2=\"Repair %\",IF(AK5>0,$C5,0),IF(AN$2=\"Spares %\",IF(IF(AI5>0,$C5,0)*5>80%,50%,IF(AI5>0,$C5,0)*5),0))))","v":0},{"$f":"IF(AN5=0,0,IF(AO$2=\"Year\",IF(_xlfn.MAXIFS($N5:AN5,$N$2:AN$2,\"Year\")+$E5<=$E$1,AL5+$E5,0),IF(AO$2=\"Repair %\",IF(AL5>0,$C$3,0),IF(AO$2=\"Spares %\",IF(IF(AL5>0,$C5,0)*100>50%,50%,IF(AL5>0,$C5,0)*100),0))))","v":0},{"$f":"IF(AO5=0,0,IF(AP$2=\"Year\",IF(_xlfn.MAXIFS($N5:AO5,$N$2:AO$2,\"Year\")+$E5<=$E$1,AM5+$E5,0),IF(AP$2=\"Repair %\",IF(AM5>0,$C5,0),IF(AP$2=\"Spares %\",IF(IF(AM5>0,$C5,0)*100>50%,50%,IF(AM5>0,$C5,0)*100),0))))","v":0},{"$f":"IF(AP5=0,0,IF(AQ$2=\"Year\",IF(_xlfn.MAXIFS($N5:AP5,$N$2:AP$2,\"Year\")+$E5<=$E$1,AN5+$E5,0),IF(AQ$2=\"Repair %\",IF(AN5>0,$C5,0),IF(AQ$2=\"Spares %\",IF(IF(AL5>0,$C5,0)*5>80%,50%,IF(AL5>0,$C5,0)*5),0))))","v":0}]
[{"$f":"INDEX('Avionics ID'!A:E,MATCH(B6,'Avionics ID'!E:E,0),1)","v":719},"ADIRS CDU",0.1,0.06,10,"Obsolecence",{"$f":"SUBSTITUTE(ADDRESS(1,MATCH(A6,'Pt1-AvionicsComponentCosts'!$A$6:$NC$6,0)+1),\"$1\",\"\")","v":"$DR"},{"$f":"_xlfn.TEXTJOIN(\", \",TRUE,_xlfn.UNIQUE(_xlfn._xlws.SORT(_xlfn._xlws.FILTER('Pt1-AvionicsComponentCosts'!$NF$12:$NF$384,ISNUMBER(INDIRECT(\"'Pt1-AvionicsComponentCosts'!\"&G6&\"$12:\"&G6&\"$384\"))))))","v":"A220, A320, A321, A350, ATR, B717, B737, B747, B757, B777, B787, C919, EMB Regional, MC-21, Mil Transport, Military Jet, NSA"},null,0.06,0.1,0.44800000000000001,1.298,{"$f":"COUNTIF($N$2:N$2,\"Year\")*$G$1","v":10},null,1,{"$f":"COUNTIF($N$2:Q$2,\"Year\")*$G$1","v":20},{"$f":"IF(Q6=0,0,IF(R$2=\"Year\",IF(_xlfn.MAXIFS($N6:Q6,$N$2:Q$2,\"Year\")+$E6<=$E$1,O6+$E6,0),IF(R$2=\"Repair %\",IF(O6>0,$C6,0),IF(R$2=\"Spares %\",IF(IF(O6>0,$C6,0)*100>50%,50%,IF(O6>0,$C6,0)*100),0))))","v":0},1,{"$f":"COUNTIF($N$2:T$2,\"Year\")*$G$1","v":30},{"$f":"IF(T6=0,0,IF(U$2=\"Year\",IF(_xlfn.MAXIFS($N6:T6,$N$2:T$2,\"Year\")+$E6<=$E$1,R6+$E6,0),IF(U$2=\"Repair %\",IF(R6>0,$C6,0),IF(U$2=\"Spares %\",IF(IF(R6>0,$C6,0)*100>50%,50%,IF(R6>0,$C6,0)*100),0))))","v":0},1,{"$f":"COUNTIF($N$2:W$2,\"Year\")*$G$1","v":40},{"$f":"IF(W6=0,0,IF(X$2=\"Year\",IF(_xlfn.MAXIFS($N6:W6,$N$2:W$2,\"Year\")+$E6<=$E$1,U6+$E6,0),IF(X$2=\"Repair %\",IF(U6>0,$C6,0),IF(X$2=\"Spares %\",IF(IF(U6>0,$C6,0)*100>50%,50%,IF(U6>0,$C6,0)*100),0))))","v":0},1,{"$f":"IF(Y6=0,0,IF(Z$2=\"Year\",IF(_xlfn.MAXIFS($N6:Y6,$N$2:Y$2,\"Year\")+$E6<=$E$1,W6+$E6,0),IF(Z$2=\"Repair %\",IF(W6>0,$C$3,0),IF(Z$2=\"Spares %\",IF(IF(W6>0,$C6,0)*100>50%,50%,IF(W6>0,$C6,0)*100),0))))","v":0},{"$f":"IF(Z6=0,0,IF(AA$2=\"Year\",IF(_xlfn.MAXIFS($N6:Z6,$N$2:Z$2,\"Year\")+$E6<=$E$1,X6+$E6,0),IF(AA$2=\"Repair %\",IF(X6>0,$C6,0),IF(AA$2=\"Spares %\",IF(IF(X6>0,$C6,0)*100>50%,50%,IF(X6>0,$C6,0)*100),0))))","v":0},{"$f":"IF(AA6=0,0,IF(AB$2=\"Year\",IF(_xlfn.MAXIFS($N6:AA6,$N$2:AA$2,\"Year\")+$E6<=$E$1,Y6+$E6,0),IF(AB$2=\"Repair %\",IF(Y6>0,$C6,0),IF(AB$2=\"Spares %\",IF(IF(W6>0,$C6,0)*5>80%,50%,IF(W6>0,$C6,0)*5),0))))","v":0},{"$f":"IF(AB6=0,0,IF(AC$2=\"Year\",IF(_xlfn.MAXIFS($N6:AB6,$N$2:AB$2,\"Year\")+$E6<=$E$1,Z6+$E6,0),IF(AC$2=\"Repair %\",IF(Z6>0,$C$3,0),IF(AC$2=\"Spares %\",IF(IF(Z6>0,$C6,0)*100>50%,50%,IF(Z6>0,$C6,0)*100),0))))","v":0},{"$f":"IF(AC6=0,0,IF(AD$2=\"Year\",IF(_xlfn.MAXIFS($N6:AC6,$N$2:AC$2,\"Year\")+$E6<=$E$1,AA6+$E6,0),IF(AD$2=\"Repair %\",IF(AA6>0,$C6,0),IF(AD$2=\"Spares %\",IF(IF(AA6>0,$C6,0)*100>50%,50%,IF(AA6>0,$C6,0)*100),0))))","v":0},{"$f":"IF(AD6=0,0,IF(AE$2=\"Year\",IF(_xlfn.MAXIFS($N6:AD6,$N$2:AD$2,\"Year\")+$E6<=$E$1,AB6+$E6,0),IF(AE$2=\"Repair %\",IF(AB6>0,$C6,0),IF(AE$2=\"Spares %\",IF(IF(Z6>0,$C6,0)*5>80%,50%,IF(Z6>0,$C6,0)*5),0))))","v":0},{"$f":"IF(AE6=0,0,IF(AF$2=\"Year\",IF(_xlfn.MAXIFS($N6:AE6,$N$2:AE$2,\"Year\")+$E6<=$E$1,AC6+$E6,0),IF(AF$2=\"Repair %\",IF(AC6>0,$C$3,0),IF(AF$2=\"Spares %\",IF(IF(AC6>0,$C6,0)*100>50%,50%,IF(AC6>0,$C6,0)*100),0))))","v":0},{"$f":"IF(AF6=0,0,IF(AG$2=\"Year\",IF(_xlfn.MAXIFS($N6:AF6,$N$2:AF$2,\"Year\")+$E6<=$E$1,AD6+$E6,0),IF(AG$2=\"Repair %\",IF(AD6>0,$C6,0),IF(AG$2=\"Spares %\",IF(IF(AD6>0,$C6,0)*100>50%,50%,IF(AD6>0,$C6,0)*100),0))))","v":0},{"$f":"IF(AG6=0,0,IF(AH$2=\"Year\",IF(_xlfn.MAXIFS($N6:AG6,$N$2:AG$2,\"Year\")+$E6<=$E$1,AE6+$E6,0),IF(AH$2=\"Repair %\",IF(AE6>0,$C6,0),IF(AH$2=\"Spares %\",IF(IF(AC6>0,$C6,0)*5>80%,50%,IF(AC6>0,$C6,0)*5),0))))","v":0},{"$f":"IF(AH6=0,0,IF(AI$2=\"Year\",IF(_xlfn.MAXIFS($N6:AH6,$N$2:AH$2,\"Year\")+$E6<=$E$1,AF6+$E6,0),IF(AI$2=\"Repair %\",IF(AF6>0,$C$3,0),IF(AI$2=\"Spares %\",IF(IF(AF6>0,$C6,0)*100>50%,50%,IF(AF6>0,$C6,0)*100),0))))","v":0},{"$f":"IF(AI6=0,0,IF(AJ$2=\"Year\",IF(_xlfn.MAXIFS($N6:AI6,$N$2:AI$2,\"Year\")+$E6<=$E$1,AG6+$E6,0),IF(AJ$2=\"Repair %\",IF(AG6>0,$C6,0),IF(AJ$2=\"Spares %\",IF(IF(AG6>0,$C6,0)*100>50%,50%,IF(AG6>0,$C6,0)*100),0))))","v":0},{"$f":"IF(AJ6=0,0,IF(AK$2=\"Year\",IF(_xlfn.MAXIFS($N6:AJ6,$N$2:AJ$2,\"Year\")+$E6<=$E$1,AH6+$E6,0),IF(AK$2=\"Repair %\",IF(AH6>0,$C6,0),IF(AK$2=\"Spares %\",IF(IF(AF6>0,$C6,0)*5>80%,50%,IF(AF6>0,$C6,0)*5),0))))","v":0},{"$f":"IF(AK6=0,0,IF(AL$2=\"Year\",IF(_xlfn.MAXIFS($N6:AK6,$N$2:AK$2,\"Year\")+$E6<=$E$1,AI6+$E6,0),IF(AL$2=\"Repair %\",IF(AI6>0,$C$3,0),IF(AL$2=\"Spares %\",IF(IF(AI6>0,$C6,0)*100>50%,50%,IF(AI6>0,$C6,0)*100),0))))","v":0},{"$f":"IF(AL6=0,0,IF(AM$2=\"Year\",IF(_xlfn.MAXIFS($N6:AL6,$N$2:AL$2,\"Year\")+$E6<=$E$1,AJ6+$E6,0),IF(AM$2=\"Repair %\",IF(AJ6>0,$C6,0),IF(AM$2=\"Spares %\",IF(IF(AJ6>0,$C6,0)*100>50%,50%,IF(AJ6>0,$C6,0)*100),0))))","v":0},{"$f":"IF(AM6=0,0,IF(AN$2=\"Year\",IF(_xlfn.MAXIFS($N6:AM6,$N$2:AM$2,\"Year\")+$E6<=$E$1,AK6+$E6,0),IF(AN$2=\"Repair %\",IF(AK6>0,$C6,0),IF(AN$2=\"Spares %\",IF(IF(AI6>0,$C6,0)*5>80%,50%,IF(AI6>0,$C6,0)*5),0))))","v":0},{"$f":"IF(AN6=0,0,IF(AO$2=\"Year\",IF(_xlfn.MAXIFS($N6:AN6,$N$2:AN$2,\"Year\")+$E6<=$E$1,AL6+$E6,0),IF(AO$2=\"Repair %\",IF(AL6>0,$C$3,0),IF(AO$2=\"Spares %\",IF(IF(AL6>0,$C6,0)*100>50%,50%,IF(AL6>0,$C6,0)*100),0))))","v":0},{"$f":"IF(AO6=0,0,IF(AP$2=\"Year\",IF(_xlfn.MAXIFS($N6:AO6,$N$2:AO$2,\"Year\")+$E6<=$E$1,AM6+$E6,0),IF(AP$2=\"Repair %\",IF(AM6>0,$C6,0),IF(AP$2=\"Spares %\",IF(IF(AM6>0,$C6,0)*100>50%,50%,IF(AM6>0,$C6,0)*100),0))))","v":0},{"$f":"IF(AP6=0,0,IF(AQ$2=\"Year\",IF(_xlfn.MAXIFS($N6:AP6,$N$2:AP$2,\"Year\")+$E6<=$E$1,AN6+$E6,0),IF(AQ$2=\"Repair %\",IF(AN6>0,$C6,0),IF(AQ$2=\"Spares %\",IF(IF(AL6>0,$C6,0)*5>80%,50%,IF(AL6>0,$C6,0)*5),0))))","v":0}]
[{"$f":"INDEX('Avionics ID'!A:E,MATCH(B7,'Avionics ID'!E:E,0),1)","v":717},"ADIRU",0.1,0.06,10,"Obsolecence",{"$f":"SUBSTITUTE(ADDRESS(1,MATCH(A7,'Pt1-AvionicsComponentCosts'!$A$6:$NC$6,0)+1),\"$1\",\"\")","v":"$IT"},{"$f":"_xlfn.TEXTJOIN(\", \",TRUE,_xlfn.UNIQUE(_xlfn._xlws.SORT(_xlfn._xlws.FILTER('Pt1-AvionicsComponentCosts'!$NF$12:$NF$384,ISNUMBER(INDIRECT(\"'Pt1-AvionicsComponentCosts'!\"&G7&\"$12:\"&G7&\"$384\"))))))","v":"A220, A300, A320, A321, A330, A340, A350, A380, ARJ, ATR, B717, B737, B747, B757, B767, B777, C919, CRJ, EMB Regional, MC-21, MD-11, Mil Transport, Military Jet, NSA, Reg TP, Superjet 100, Turbine GA"},null,0.06,0.1,0.44800000000000001,1.298,{"$f":"COUNTIF($N$2:N$2,\"Year\")*$G$1","v":10},null,1,{"$f":"COUNTIF($N$2:Q$2,\"Year\")*$G$1","v":20},{"$f":"IF(Q7=0,0,IF(R$2=\"Year\",IF(_xlfn.MAXIFS($N7:Q7,$N$2:Q$2,\"Year\")+$E7<=$E$1,O7+$E7,0),IF(R$2=\"Repair %\",IF(O7>0,$C7,0),IF(R$2=\"Spares %\",IF(IF(O7>0,$C7,0)*100>50%,50%,IF(O7>0,$C7,0)*100),0))))","v":0},1,{"$f":"COUNTIF($N$2:T$2,\"Year\")*$G$1","v":30},{"$f":"IF(T7=0,0,IF(U$2=\"Year\",IF(_xlfn.MAXIFS($N7:T7,$N$2:T$2,\"Year\")+$E7<=$E$1,R7+$E7,0),IF(U$2=\"Repair %\",IF(R7>0,$C7,0),IF(U$2=\"Spares %\",IF(IF(R7>0,$C7,0)*100>50%,50%,IF(R7>0,$C7,0)*100),0))))","v":0},1,{"$f":"COUNTIF($N$2:W$2,\"Year\")*$G$1","v":40},{"$f":"IF(W7=0,0,IF(X$2=\"Year\",IF(_xlfn.MAXIFS($N7:W7,$N$2:W$2,\"Year\")+$E7<=$E$1,U7+$E7,0),IF(X$2=\"Repair %\",IF(U7>0,$C7,0),IF(X$2=\"Spares %\",IF(IF(U7>0,$C7,0)*100>50%,50%,IF(U7>0,$C7,0)*100),0))))","v":0},1,{"$f":"IF(Y7=0,0,IF(Z$2=\"Year\",IF(_xlfn.MAXIFS($N7:Y7,$N$2:Y$2,\"Year\")+$E7<=$E$1,W7+$E7,0),IF(Z$2=\"Repair %\",IF(W7>0,$C$3,0),IF(Z$2=\"Spares %\",IF(IF(W7>0,$C7,0)*100>50%,50%,IF(W7>0,$C7,0)*100),0))))","v":0},{"$f":"IF(Z7=0,0,IF(AA$2=\"Year\",IF(_xlfn.MAXIFS($N7:Z7,$N$2:Z$2,\"Year\")+$E7<=$E$1,X7+$E7,0),IF(AA$2=\"Repair %\",IF(X7>0,$C7,0),IF(AA$2=\"Spares %\",IF(IF(X7>0,$C7,0)*100>50%,50%,IF(X7>0,$C7,0)*100),0))))","v":0},{"$f":"IF(AA7=0,0,IF(AB$2=\"Year\",IF(_xlfn.MAXIFS($N7:AA7,$N$2:AA$2,\"Year\")+$E7<=$E$1,Y7+$E7,0),IF(AB$2=\"Repair %\",IF(Y7>0,$C7,0),IF(AB$2=\"Spares %\",IF(IF(W7>0,$C7,0)*5>80%,50%,IF(W7>0,$C7,0)*5),0))))","v":0},{"$f":"IF(AB7=0,0,IF(AC$2=\"Year\",IF(_xlfn.MAXIFS($N7:AB7,$N$2:AB$2,\"Year\")+$E7<=$E$1,Z7+$E7,0),IF(AC$2=\"Repair %\",IF(Z7>0,$C$3,0),IF(AC$2=\"Spares %\",IF(IF(Z7>0,$C7,0)*100>50%,50%,IF(Z7>0,$C7,0)*100),0))))","v":0},{"$f":"IF(AC7=0,0,IF(AD$2=\"Year\",IF(_xlfn.MAXIFS($N7:AC7,$N$2:AC$2,\"Year\")+$E7<=$E$1,AA7+$E7,0),IF(AD$2=\"Repair %\",IF(AA7>0,$C7,0),IF(AD$2=\"Spares %\",IF(IF(AA7>0,$C7,0)*100>50%,50%,IF(AA7>0,$C7,0)*100),0))))","v":0},{"$f":"IF(AD7=0,0,IF(AE$2=\"Year\",IF(_xlfn.MAXIFS($N7:AD7,$N$2:AD$2,\"Year\")+$E7<=$E$1,AB7+$E7,0),IF(AE$2=\"Repair %\",IF(AB7>0,$C7,0),IF(AE$2=\"Spares %\",IF(IF(Z7>0,$C7,0)*5>80%,50%,IF(Z7>0,$C7,0)*5),0))))","v":0},{"$f":"IF(AE7=0,0,IF(AF$2=\"Year\",IF(_xlfn.MAXIFS($N7:AE7,$N$2:AE$2,\"Year\")+$E7<=$E$1,AC7+$E7,0),IF(AF$2=\"Repair %\",IF(AC7>0,$C$3,0),IF(AF$2=\"Spares %\",IF(IF(AC7>0,$C7,0)*100>50%,50%,IF(AC7>0,$C7,0)*100),0))))","v":0},{"$f":"IF(AF7=0,0,IF(AG$2=\"Year\",IF(_xlfn.MAXIFS($N7:AF7,$N$2:AF$2,\"Year\")+$E7<=$E$1,AD7+$E7,0),IF(AG$2=\"Repair %\",IF(AD7>0,$C7,0),IF(AG$2=\"Spares %\",IF(IF(AD7>0,$C7,0)*100>50%,50%,IF(AD7>0,$C7,0)*100),0))))","v":0},{"$f":"IF(AG7=0,0,IF(AH$2=\"Year\",IF(_xlfn.MAXIFS($N7:AG7,$N$2:AG$2,\"Year\")+$E7<=$E$1,AE7+$E7,0),IF(AH$2=\"Repair %\",IF(AE7>0,$C7,0),IF(AH$2=\"Spares %\",IF(IF(AC7>0,$C7,0)*5>80%,50%,IF(AC7>0,$C7,0)*5),0))))","v":0},{"$f":"IF(AH7=0,0,IF(AI$2=\"Year\",IF(_xlfn.MAXIFS($N7:AH7,$N$2:AH$2,\"Year\")+$E7<=$E$1,AF7+$E7,0),IF(AI$2=\"Repair %\",IF(AF7>0,$C$3,0),IF(AI$2=\"Spares %\",IF(IF(AF7>0,$C7,0)*100>50%,50%,IF(AF7>0,$C7,0)*100),0))))","v":0},{"$f":"IF(AI7=0,0,IF(AJ$2=\"Year\",IF(_xlfn.MAXIFS($N7:AI7,$N$2:AI$2,\"Year\")+$E7<=$E$1,AG7+$E7,0),IF(AJ$2=\"Repair %\",IF(AG7>0,$C7,0),IF(AJ$2=\"Spares %\",IF(IF(AG7>0,$C7,0)*100>50%,50%,IF(AG7>0,$C7,0)*100),0))))","v":0},{"$f":"IF(AJ7=0,0,IF(AK$2=\"Year\",IF(_xlfn.MAXIFS($N7:AJ7,$N$2:AJ$2,\"Year\")+$E7<=$E$1,AH7+$E7,0),IF(AK$2=\"Repair %\",IF(AH7>0,$C7,0),IF(AK$2=\"Spares %\",IF(IF(AF7>0,$C7,0)*5>80%,50%,IF(AF7>0,$C7,0)*5),0))))","v":0},{"$f":"IF(AK7=0,0,IF(AL$2=\"Year\",IF(_xlfn.MAXIFS($N7:AK7,$N$2:AK$2,\"Year\")+$E7<=$E$1,AI7+$E7,0),IF(AL$2=\"Repair %\",IF(AI7>0,$C$3,0),IF(AL$2=\"Spares %\",IF(IF(AI7>0,$C7,0)*100>50%,50%,IF(AI7>0,$C7,0)*100),0))))","v":0},{"$f":"IF(AL7=0,0,IF(AM$2=\"Year\",IF(_xlfn.MAXIFS($N7:AL7,$N$2:AL$2,\"Year\")+$E7<=$E$1,AJ7+$E7,0),IF(AM$2=\"Repair %\",IF(AJ7>0,$C7,0),IF(AM$2=\"Spares %\",IF(IF(AJ7>0,$C7,0)*100>50%,50%,IF(AJ7>0,$C7,0)*100),0))))","v":0},{"$f":"IF(AM7=0,0,IF(AN$2=\"Year\",IF(_xlfn.MAXIFS($N7:AM7,$N$2:AM$2,\"Year\")+$E7<=$E$1,AK7+$E7,0),IF(AN$2=\"Repair %\",IF(AK7>0,$C7,0),IF(AN$2=\"Spares %\",IF(IF(AI7>0,$C7,0)*5>80%,50%,IF(AI7>0,$C7,0)*5),0))))","v":0},{"$f":"IF(AN7=0,0,IF(AO$2=\"Year\",IF(_xlfn.MAXIFS($N7:AN7,$N$2:AN$2,\"Year\")+$E7<=$E$1,AL7+$E7,0),IF(AO$2=\"Repair %\",IF(AL7>0,$C$3,0),IF(AO$2=\"Spares %\",IF(IF(AL7>0,$C7,0)*100>50%,50%,IF(AL7>0,$C7,0)*100),0))))","v":0},{"$f":"IF(AO7=0,0,IF(AP$2=\"Year\",IF(_xlfn.MAXIFS($N7:AO7,$N$2:AO$2,\"Year\")+$E7<=$E$1,AM7+$E7,0),IF(AP$2=\"Repair %\",IF(AM7>0,$C7,0),IF(AP$2=\"Spares %\",IF(IF(AM7>0,$C7,0)*100>50%,50%,IF(AM7>0,$C7,0)*100),0))))","v":0},{"$f":"IF(AP7=0,0,IF(AQ$2=\"Year\",IF(_xlfn.MAXIFS($N7:AP7,$N$2:AP$2,\"Year\")+$E7<=$E$1,AN7+$E7,0),IF(AQ$2=\"Repair %\",IF(AN7>0,$C7,0),IF(AQ$2=\"Spares %\",IF(IF(AL7>0,$C7,0)*5>80%,50%,IF(AL7>0,$C7,0)*5),0))))","v":0}]
[{"$f":"INDEX('Avionics ID'!A:E,MATCH(B8,'Avionics ID'!E:E,0),1)","v":796},"AESA Radar",0.05,0.06,20,"Obsolecence",{"$f":"SUBSTITUTE(ADDRESS(1,MATCH(A8,'Pt1-AvionicsComponentCosts'!$A$6:$NC$6,0)+1),\"$1\",\"\")","v":"$KJ"},{"$f":"_xlfn.TEXTJOIN(\", \",TRUE,_xlfn.UNIQUE(_xlfn._xlws.SORT(_xlfn._xlws.FILTER('Pt1-AvionicsComponentCosts'!$NF$12:$NF$384,ISNUMBER(INDIRECT(\"'Pt1-AvionicsComponentCosts'!\"&G8&\"$12:\"&G8&\"$384\"))))))","v":"Attack, Stealth"},null,0.06,0.05,0.44800000000000001,1.298,{"$f":"COUNTIF($N$2:N$2,\"Year\")*$G$1","v":10},null,0,{"$f":"COUNTIF($N$2:Q$2,\"Year\")*$G$1","v":20},{"$f":"IF(Q8=0,0,IF(R$2=\"Year\",IF(_xlfn.MAXIFS($N8:Q8,$N$2:Q$2,\"Year\")+$E8<=$E$1,O8+$E8,0),IF(R$2=\"Repair %\",IF(O8>0,$C8,0),IF(R$2=\"Spares %\",IF(IF(O8>0,$C8,0)*100>50%,50%,IF(O8>0,$C8,0)*100),0))))","v":0},1,{"$f":"COUNTIF($N$2:T$2,\"Year\")*$G$1","v":30},{"$f":"IF(T8=0,0,IF(U$2=\"Year\",IF(_xlfn.MAXIFS($N8:T8,$N$2:T$2,\"Year\")+$E8<=$E$1,R8+$E8,0),IF(U$2=\"Repair %\",IF(R8>0,$C8,0),IF(U$2=\"Spares %\",IF(IF(R8>0,$C8,0)*100>50%,50%,IF(R8>0,$C8,0)*100),0))))","v":0},0,{"$f":"COUNTIF($N$2:W$2,\"Year\")*$G$1","v":40},{"$f":"IF(W8=0,0,IF(X$2=\"Year\",IF(_xlfn.MAXIFS($N8:W8,$N$2:W$2,\"Year\")+$E8<=$E$1,U8+$E8,0),IF(X$2=\"Repair %\",IF(U8>0,$C8,0),IF(X$2=\"Spares %\",IF(IF(U8>0,$C8,0)*100>50%,50%,IF(U8>0,$C8,0)*100),0))))","v":0},1,{"$f":"IF(Y8=0,0,IF(Z$2=\"Year\",IF(_xlfn.MAXIFS($N8:Y8,$N$2:Y$2,\"Year\")+$E8<=$E$1,W8+$E8,0),IF(Z$2=\"Repair %\",IF(W8>0,$C$3,0),IF(Z$2=\"Spares %\",IF(IF(W8>0,$C8,0)*100>50%,50%,IF(W8>0,$C8,0)*100),0))))","v":0},{"$f":"IF(Z8=0,0,IF(AA$2=\"Year\",IF(_xlfn.MAXIFS($N8:Z8,$N$2:Z$2,\"Year\")+$E8<=$E$1,X8+$E8,0),IF(AA$2=\"Repair %\",IF(X8>0,$C8,0),IF(AA$2=\"Spares %\",IF(IF(X8>0,$C8,0)*100>50%,50%,IF(X8>0,$C8,0)*100),0))))","v":0},{"$f":"IF(AA8=0,0,IF(AB$2=\"Year\",IF(_xlfn.MAXIFS($N8:AA8,$N$2:AA$2,\"Year\")+$E8<=$E$1,Y8+$E8,0),IF(AB$2=\"Repair %\",IF(Y8>0,$C8,0),IF(AB$2=\"Spares %\",IF(IF(W8>0,$C8,0)*5>80%,50%,IF(W8>0,$C8,0)*5),0))))","v":0},{"$f":"IF(AB8=0,0,IF(AC$2=\"Year\",IF(_xlfn.MAXIFS($N8:AB8,$N$2:AB$2,\"Year\")+$E8<=$E$1,Z8+$E8,0),IF(AC$2=\"Repair %\",IF(Z8>0,$C$3,0),IF(AC$2=\"Spares %\",IF(IF(Z8>0,$C8,0)*100>50%,50%,IF(Z8>0,$C8,0)*100),0))))","v":0},{"$f":"IF(AC8=0,0,IF(AD$2=\"Year\",IF(_xlfn.MAXIFS($N8:AC8,$N$2:AC$2,\"Year\")+$E8<=$E$1,AA8+$E8,0),IF(AD$2=\"Repair %\",IF(AA8>0,$C8,0),IF(AD$2=\"Spares %\",IF(IF(AA8>0,$C8,0)*100>50%,50%,IF(AA8>0,$C8,0)*100),0))))","v":0},{"$f":"IF(AD8=0,0,IF(AE$2=\"Year\",IF(_xlfn.MAXIFS($N8:AD8,$N$2:AD$2,\"Year\")+$E8<=$E$1,AB8+$E8,0),IF(AE$2=\"Repair %\",IF(AB8>0,$C8,0),IF(AE$2=\"Spares %\",IF(IF(Z8>0,$C8,0)*5>80%,50%,IF(Z8>0,$C8,0)*5),0))))","v":0},{"$f":"IF(AE8=0,0,IF(AF$2=\"Year\",IF(_xlfn.MAXIFS($N8:AE8,$N$2:AE$2,\"Year\")+$E8<=$E$1,AC8+$E8,0),IF(AF$2=\"Repair %\",IF(AC8>0,$C$3,0),IF(AF$2=\"Spares %\",IF(IF(AC8>0,$C8,0)*100>50%,50%,IF(AC8>0,$C8,0)*100),0))))","v":0},{"$f":"IF(AF8=0,0,IF(AG$2=\"Year\",IF(_xlfn.MAXIFS($N8:AF8,$N$2:AF$2,\"Year\")+$E8<=$E$1,AD8+$E8,0),IF(AG$2=\"Repair %\",IF(AD8>0,$C8,0),IF(AG$2=\"Spares %\",IF(IF(AD8>0,$C8,0)*100>50%,50%,IF(AD8>0,$C8,0)*100),0))))","v":0},{"$f":"IF(AG8=0,0,IF(AH$2=\"Year\",IF(_xlfn.MAXIFS($N8:AG8,$N$2:AG$2,\"Year\")+$E8<=$E$1,AE8+$E8,0),IF(AH$2=\"Repair %\",IF(AE8>0,$C8,0),IF(AH$2=\"Spares %\",IF(IF(AC8>0,$C8,0)*5>80%,50%,IF(AC8>0,$C8,0)*5),0))))","v":0},{"$f":"IF(AH8=0,0,IF(AI$2=\"Year\",IF(_xlfn.MAXIFS($N8:AH8,$N$2:AH$2,\"Year\")+$E8<=$E$1,AF8+$E8,0),IF(AI$2=\"Repair %\",IF(AF8>0,$C$3,0),IF(AI$2=\"Spares %\",IF(IF(AF8>0,$C8,0)*100>50%,50%,IF(AF8>0,$C8,0)*100),0))))","v":0},{"$f":"IF(AI8=0,0,IF(AJ$2=\"Year\",IF(_xlfn.MAXIFS($N8:AI8,$N$2:AI$2,\"Year\")+$E8<=$E$1,AG8+$E8,0),IF(AJ$2=\"Repair %\",IF(AG8>0,$C8,0),IF(AJ$2=\"Spares %\",IF(IF(AG8>0,$C8,0)*100>50%,50%,IF(AG8>0,$C8,0)*100),0))))","v":0},{"$f":"IF(AJ8=0,0,IF(AK$2=\"Year\",IF(_xlfn.MAXIFS($N8:AJ8,$N$2:AJ$2,\"Year\")+$E8<=$E$1,AH8+$E8,0),IF(AK$2=\"Repair %\",IF(AH8>0,$C8,0),IF(AK$2=\"Spares %\",IF(IF(AF8>0,$C8,0)*5>80%,50%,IF(AF8>0,$C8,0)*5),0))))","v":0},{"$f":"IF(AK8=0,0,IF(AL$2=\"Year\",IF(_xlfn.MAXIFS($N8:AK8,$N$2:AK$2,\"Year\")+$E8<=$E$1,AI8+$E8,0),IF(AL$2=\"Repair %\",IF(AI8>0,$C$3,0),IF(AL$2=\"Spares %\",IF(IF(AI8>0,$C8,0)*100>50%,50%,IF(AI8>0,$C8,0)*100),0))))","v":0},{"$f":"IF(AL8=0,0,IF(AM$2=\"Year\",IF(_xlfn.MAXIFS($N8:AL8,$N$2:AL$2,\"Year\")+$E8<=$E$1,AJ8+$E8,0),IF(AM$2=\"Repair %\",IF(AJ8>0,$C8,0),IF(AM$2=\"Spares %\",IF(IF(AJ8>0,$C8,0)*100>50%,50%,IF(AJ8>0,$C8,0)*100),0))))","v":0},{"$f":"IF(AM8=0,0,IF(AN$2=\"Year\",IF(_xlfn.MAXIFS($N8:AM8,$N$2:AM$2,\"Year\")+$E8<=$E$1,AK8+$E8,0),IF(AN$2=\"Repair %\",IF(AK8>0,$C8,0),IF(AN$2=\"Spares %\",IF(IF(AI8>0,$C8,0)*5>80%,50%,IF(AI8>0,$C8,0)*5),0))))","v":0},{"$f":"IF(AN8=0,0,IF(AO$2=\"Year\",IF(_xlfn.MAXIFS($N8:AN8,$N$2:AN$2,\"Year\")+$E8<=$E$1,AL8+$E8,0),IF(AO$2=\"Repair %\",IF(AL8>0,$C$3,0),IF(AO$2=\"Spares %\",IF(IF(AL8>0,$C8,0)*100>50%,50%,IF(AL8>0,$C8,0)*100),0))))","v":0},{"$f":"IF(AO8=0,0,IF(AP$2=\"Year\",IF(_xlfn.MAXIFS($N8:AO8,$N$2:AO$2,\"Year\")+$E8<=$E$1,AM8+$E8,0),IF(AP$2=\"Repair %\",IF(AM8>0,$C8,0),IF(AP$2=\"Spares %\",IF(IF(AM8>0,$C8,0)*100>50%,50%,IF(AM8>0,$C8,0)*100),0))))","v":0},{"$f":"IF(AP8=0,0,IF(AQ$2=\"Year\",IF(_xlfn.MAXIFS($N8:AP8,$N$2:AP$2,\"Year\")+$E8<=$E$1,AN8+$E8,0),IF(AQ$2=\"Repair %\",IF(AN8>0,$C8,0),IF(AQ$2=\"Spares %\",IF(IF(AL8>0,$C8,0)*5>80%,50%,IF(AL8>0,$C8,0)*5),0))))","v":0}]
[{"$f":"INDEX('Avionics ID'!A:E,MATCH(B9,'Avionics ID'!E:E,0),1)","v":841},"AFDX databus",0,0.06,null,"",{"$f":"SUBSTITUTE(ADDRESS(1,MATCH(A9,'Pt1-AvionicsComponentCosts'!$A$6:$NC$6,0)+1),\"$1\",\"\")","v":"$CD"},{"$f":"_xlfn.TEXTJOIN(\", \",TRUE,_xlfn.UNIQUE(_xlfn._xlws.SORT(_xlfn._xlws.FILTER('Pt1-AvionicsComponentCosts'!$NF$12:$NF$384,ISNUMBER(INDIRECT(\"'Pt1-AvionicsComponentCosts'!\"&G9&\"$12:\"&G9&\"$384\"))))))","v":"A330 LMXT, A330 MRTT, Mil Transport, Military Jet, Military TP"},null,0.06,0,0.44800000000000001,1.298,{"$f":"COUNTIF($N$2:N$2,\"Year\")*$G$1","v":10},null,0,{"$f":"COUNTIF($N$2:Q$2,\"Year\")*$G$1","v":20},{"$f":"IF(Q9=0,0,IF(R$2=\"Year\",IF(_xlfn.MAXIFS($N9:Q9,$N$2:Q$2,\"Year\")+$E9<=$E$1,O9+$E9,0),IF(R$2=\"Repair %\",IF(O9>0,$C9,0),IF(R$2=\"Spares %\",IF(IF(O9>0,$C9,0)*100>50%,50%,IF(O9>0,$C9,0)*100),0))))","v":0},0,{"$f":"COUNTIF($N$2:T$2,\"Year\")*$G$1","v":30},{"$f":"IF(T9=0,0,IF(U$2=\"Year\",IF(_xlfn.MAXIFS($N9:T9,$N$2:T$2,\"Year\")+$E9<=$E$1,R9+$E9,0),IF(U$2=\"Repair %\",IF(R9>0,$C9,0),IF(U$2=\"Spares %\",IF(IF(R9>0,$C9,0)*100>50%,50%,IF(R9>0,$C9,0)*100),0))))","v":0},0,{"$f":"COUNTIF($N$2:W$2,\"Year\")*$G$1","v":40},{"$f":"IF(W9=0,0,IF(X$2=\"Year\",IF(_xlfn.MAXIFS($N9:W9,$N$2:W$2,\"Year\")+$E9<=$E$1,U9+$E9,0),IF(X$2=\"Repair %\",IF(U9>0,$C9,0),IF(X$2=\"Spares %\",IF(IF(U9>0,$C9,0)*100>50%,50%,IF(U9>0,$C9,0)*100),0))))","v":0},0,{"$f":"IF(Y9=0,0,IF(Z$2=\"Year\",IF(_xlfn.MAXIFS($N9:Y9,$N$2:Y$2,\"Year\")+$E9<=$E$1,W9+$E9,0),IF(Z$2=\"Repair %\",IF(W9>0,$C$3,0),IF(Z$2=\"Spares %\",IF(IF(W9>0,$C9,0)*100>50%,50%,IF(W9>0,$C9,0)*100),0))))","v":0},{"$f":"IF(Z9=0,0,IF(AA$2=\"Year\",IF(_xlfn.MAXIFS($N9:Z9,$N$2:Z$2,\"Year\")+$E9<=$E$1,X9+$E9,0),IF(AA$2=\"Repair %\",IF(X9>0,$C9,0),IF(AA$2=\"Spares %\",IF(IF(X9>0,$C9,0)*100>50%,50%,IF(X9>0,$C9,0)*100),0))))","v":0},{"$f":"IF(AA9=0,0,IF(AB$2=\"Year\",IF(_xlfn.MAXIFS($N9:AA9,$N$2:AA$2,\"Year\")+$E9<=$E$1,Y9+$E9,0),IF(AB$2=\"Repair %\",IF(Y9>0,$C9,0),IF(AB$2=\"Spares %\",IF(IF(W9>0,$C9,0)*5>80%,50%,IF(W9>0,$C9,0)*5),0))))","v":0},{"$f":"IF(AB9=0,0,IF(AC$2=\"Year\",IF(_xlfn.MAXIFS($N9:AB9,$N$2:AB$2,\"Year\")+$E9<=$E$1,Z9+$E9,0),IF(AC$2=\"Repair %\",IF(Z9>0,$C$3,0),IF(AC$2=\"Spares %\",IF(IF(Z9>0,$C9,0)*100>50%,50%,IF(Z9>0,$C9,0)*100),0))))","v":0},{"$f":"IF(AC9=0,0,IF(AD$2=\"Year\",IF(_xlfn.MAXIFS($N9:AC9,$N$2:AC$2,\"Year\")+$E9<=$E$1,AA9+$E9,0),IF(AD$2=\"Repair %\",IF(AA9>0,$C9,0),IF(AD$2=\"Spares %\",IF(IF(AA9>0,$C9,0)*100>50%,50%,IF(AA9>0,$C9,0)*100),0))))","v":0},{"$f":"IF(AD9=0,0,IF(AE$2=\"Year\",IF(_xlfn.MAXIFS($N9:AD9,$N$2:AD$2,\"Year\")+$E9<=$E$1,AB9+$E9,0),IF(AE$2=\"Repair %\",IF(AB9>0,$C9,0),IF(AE$2=\"Spares %\",IF(IF(Z9>0,$C9,0)*5>80%,50%,IF(Z9>0,$C9,0)*5),0))))","v":0},{"$f":"IF(AE9=0,0,IF(AF$2=\"Year\",IF(_xlfn.MAXIFS($N9:AE9,$N$2:AE$2,\"Year\")+$E9<=$E$1,AC9+$E9,0),IF(AF$2=\"Repair %\",IF(AC9>0,$C$3,0),IF(AF$2=\"Spares %\",IF(IF(AC9>0,$C9,0)*100>50%,50%,IF(AC9>0,$C9,0)*100),0))))","v":0},{"$f":"IF(AF9=0,0,IF(AG$2=\"Year\",IF(_xlfn.MAXIFS($N9:AF9,$N$2:AF$2,\"Year\")+$E9<=$E$1,AD9+$E9,0),IF(AG$2=\"Repair %\",IF(AD9>0,$C9,0),IF(AG$2=\"Spares %\",IF(IF(AD9>0,$C9,0)*100>50%,50%,IF(AD9>0,$C9,0)*100),0))))","v":0},{"$f":"IF(AG9=0,0,IF(AH$2=\"Year\",IF(_xlfn.MAXIFS($N9:AG9,$N$2:AG$2,\"Year\")+$E9<=$E$1,AE9+$E9,0),IF(AH$2=\"Repair %\",IF(AE9>0,$C9,0),IF(AH$2=\"Spares %\",IF(IF(AC9>0,$C9,0)*5>80%,50%,IF(AC9>0,$C9,0)*5),0))))","v":0},{"$f":"IF(AH9=0,0,IF(AI$2=\"Year\",IF(_xlfn.MAXIFS($N9:AH9,$N$2:AH$2,\"Year\")+$E9<=$E$1,AF9+$E9,0),IF(AI$2=\"Repair %\",IF(AF9>0,$C$3,0),IF(AI$2=\"Spares %\",IF(IF(AF9>0,$C9,0)*100>50%,50%,IF(AF9>0,$C9,0)*100),0))))","v":0},{"$f":"IF(AI9=0,0,IF(AJ$2=\"Year\",IF(_xlfn.MAXIFS($N9:AI9,$N$2:AI$2,\"Year\")+$E9<=$E$1,AG9+$E9,0),IF(AJ$2=\"Repair %\",IF(AG9>0,$C9,0),IF(AJ$2=\"Spares %\",IF(IF(AG9>0,$C9,0)*100>50%,50%,IF(AG9>0,$C9,0)*100),0))))","v":0},{"$f":"IF(AJ9=0,0,IF(AK$2=\"Year\",IF(_xlfn.MAXIFS($N9:AJ9,$N$2:AJ$2,\"Year\")+$E9<=$E$1,AH9+$E9,0),IF(AK$2=\"Repair %\",IF(AH9>0,$C9,0),IF(AK$2=\"Spares %\",IF(IF(AF9>0,$C9,0)*5>80%,50%,IF(AF9>0,$C9,0)*5),0))))","v":0},{"$f":"IF(AK9=0,0,IF(AL$2=\"Year\",IF(_xlfn.MAXIFS($N9:AK9,$N$2:AK$2,\"Year\")+$E9<=$E$1,AI9+$E9,0),IF(AL$2=\"Repair %\",IF(AI9>0,$C$3,0),IF(AL$2=\"Spares %\",IF(IF(AI9>0,$C9,0)*100>50%,50%,IF(AI9>0,$C9,0)*100),0))))","v":0},{"$f":"IF(AL9=0,0,IF(AM$2=\"Year\",IF(_xlfn.MAXIFS($N9:AL9,$N$2:AL$2,\"Year\")+$E9<=$E$1,AJ9+$E9,0),IF(AM$2=\"Repair %\",IF(AJ9>0,$C9,0),IF(AM$2=\"Spares %\",IF(IF(AJ9>0,$C9,0)*100>50%,50%,IF(AJ9>0,$C9,0)*100),0))))","v":0},{"$f":"IF(AM9=0,0,IF(AN$2=\"Year\",IF(_xlfn.MAXIFS($N9:AM9,$N$2:AM$2,\"Year\")+$E9<=$E$1,AK9+$E9,0),IF(AN$2=\"Repair %\",IF(AK9>0,$C9,0),IF(AN$2=\"Spares %\",IF(IF(AI9>0,$C9,0)*5>80%,50%,IF(AI9>0,$C9,0)*5),0))))","v":0},{"$f":"IF(AN9=0,0,IF(AO$2=\"Year\",IF(_xlfn.MAXIFS($N9:AN9,$N$2:AN$2,\"Year\")+$E9<=$E$1,AL9+$E9,0),IF(AO$2=\"Repair %\",IF(AL9>0,$C$3,0),IF(AO$2=\"Spares %\",IF(IF(AL9>0,$C9,0)*100>50%,50%,IF(AL9>0,$C9,0)*100),0))))","v":0},{"$f":"IF(AO9=0,0,IF(AP$2=\"Year\",IF(_xlfn.MAXIFS($N9:AO9,$N$2:AO$2,\"Year\")+$E9<=$E$1,AM9+$E9,0),IF(AP$2=\"Repair %\",IF(AM9>0,$C9,0),IF(AP$2=\"Spares %\",IF(IF(AM9>0,$C9,0)*100>50%,50%,IF(AM9>0,$C9,0)*100),0))))","v":0},{"$f":"IF(AP9=0,0,IF(AQ$2=\"Year\",IF(_xlfn.MAXIFS($N9:AP9,$N$2:AP$2,\"Year\")+$E9<=$E$1,AN9+$E9,0),IF(AQ$2=\"Repair %\",IF(AN9>0,$C9,0),IF(AQ$2=\"Spares %\",IF(IF(AL9>0,$C9,0)*5>80%,50%,IF(AL9>0,$C9,0)*5),0))))","v":0}]
[{"$f":"INDEX('Avionics ID'!A:E,MATCH(B10,'Avionics ID'!E:E,0),1)","v":777},"AHRS package",0.1,0.06,10,"Obsolecence",{"$f":"SUBSTITUTE(ADDRESS(1,MATCH(A10,'Pt1-AvionicsComponentCosts'!$A$6:$NC$6,0)+1),\"$1\",\"\")","v":"$IV"},{"$f":"_xlfn.TEXTJOIN(\", \",TRUE,_xlfn.UNIQUE(_xlfn._xlws.SORT(_xlfn._xlws.FILTER('Pt1-AvionicsComponentCosts'!$NF$12:$NF$384,ISNUMBER(INDIRECT(\"'Pt1-AvionicsComponentCosts'!\"&G10&\"$12:\"&G10&\"$384\"))))))","v":"A350, B747, B777, B787"},null,0.06,0.1,0.44800000000000001,1.298,{"$f":"COUNTIF($N$2:N$2,\"Year\")*$G$1","v":10},null,1,{"$f":"COUNTIF($N$2:Q$2,\"Year\")*$G$1","v":20},{"$f":"IF(Q10=0,0,IF(R$2=\"Year\",IF(_xlfn.MAXIFS($N10:Q10,$N$2:Q$2,\"Year\")+$E10<=$E$1,O10+$E10,0),IF(R$2=\"Repair %\",IF(O10>0,$C10,0),IF(R$2=\"Spares %\",IF(IF(O10>0,$C10,0)*100>50%,50%,IF(O10>0,$C10,0)*100),0))))","v":0},1,{"$f":"COUNTIF($N$2:T$2,\"Year\")*$G$1","v":30},{"$f":"IF(T10=0,0,IF(U$2=\"Year\",IF(_xlfn.MAXIFS($N10:T10,$N$2:T$2,\"Year\")+$E10<=$E$1,R10+$E10,0),IF(U$2=\"Repair %\",IF(R10>0,$C10,0),IF(U$2=\"Spares %\",IF(IF(R10>0,$C10,0)*100>50%,50%,IF(R10>0,$C10,0)*100),0))))","v":0},1,{"$f":"COUNTIF($N$2:W$2,\"Year\")*$G$1","v":40},{"$f":"IF(W10=0,0,IF(X$2=\"Year\",IF(_xlfn.MAXIFS($N10:W10,$N$2:W$2,\"Year\")+$E10<=$E$1,U10+$E10,0),IF(X$2=\"Repair %\",IF(U10>0,$C10,0),IF(X$2=\"Spares %\",IF(IF(U10>0,$C10,0)*100>50%,50%,IF(U10>0,$C10,0)*100),0))))","v":0},1,{"$f":"IF(Y10=0,0,IF(Z$2=\"Year\",IF(_xlfn.MAXIFS($N10:Y10,$N$2:Y$2,\"Year\")+$E10<=$E$1,W10+$E10,0),IF(Z$2=\"Repair %\",IF(W10>0,$C$3,0),IF(Z$2=\"Spares %\",IF(IF(W10>0,$C10,0)*100>50%,50%,IF(W10>0,$C10,0)*100),0))))","v":0},{"$f":"IF(Z10=0,0,IF(AA$2=\"Year\",IF(_xlfn.MAXIFS($N10:Z10,$N$2:Z$2,\"Year\")+$E10<=$E$1,X10+$E10,0),IF(AA$2=\"Repair %\",IF(X10>0,$C10,0),IF(AA$2=\"Spares %\",IF(IF(X10>0,$C10,0)*100>50%,50%,IF(X10>0,$C10,0)*100),0))))","v":0},{"$f":"IF(AA10=0,0,IF(AB$2=\"Year\",IF(_xlfn.MAXIFS($N10:AA10,$N$2:AA$2,\"Year\")+$E10<=$E$1,Y10+$E10,0),IF(AB$2=\"Repair %\",IF(Y10>0,$C10,0),IF(AB$2=\"Spares %\",IF(IF(W10>0,$C10,0)*5>80%,50%,IF(W10>0,$C10,0)*5),0))))","v":0},{"$f":"IF(AB10=0,0,IF(AC$2=\"Year\",IF(_xlfn.MAXIFS($N10:AB10,$N$2:AB$2,\"Year\")+$E10<=$E$1,Z10+$E10,0),IF(AC$2=\"Repair %\",IF(Z10>0,$C$3,0),IF(AC$2=\"Spares %\",IF(IF(Z10>0,$C10,0)*100>50%,50%,IF(Z10>0,$C10,0)*100),0))))","v":0},{"$f":"IF(AC10=0,0,IF(AD$2=\"Year\",IF(_xlfn.MAXIFS($N10:AC10,$N$2:AC$2,\"Year\")+$E10<=$E$1,AA10+$E10,0),IF(AD$2=\"Repair %\",IF(AA10>0,$C10,0),IF(AD$2=\"Spares %\",IF(IF(AA10>0,$C10,0)*100>50%,50%,IF(AA10>0,$C10,0)*100),0))))","v":0},{"$f":"IF(AD10=0,0,IF(AE$2=\"Year\",IF(_xlfn.MAXIFS($N10:AD10,$N$2:AD$2,\"Year\")+$E10<=$E$1,AB10+$E10,0),IF(AE$2=\"Repair %\",IF(AB10>0,$C10,0),IF(AE$2=\"Spares %\",IF(IF(Z10>0,$C10,0)*5>80%,50%,IF(Z10>0,$C10,0)*5),0))))","v":0},{"$f":"IF(AE10=0,0,IF(AF$2=\"Year\",IF(_xlfn.MAXIFS($N10:AE10,$N$2:AE$2,\"Year\")+$E10<=$E$1,AC10+$E10,0),IF(AF$2=\"Repair %\",IF(AC10>0,$C$3,0),IF(AF$2=\"Spares %\",IF(IF(AC10>0,$C10,0)*100>50%,50%,IF(AC10>0,$C10,0)*100),0))))","v":0},{"$f":"IF(AF10=0,0,IF(AG$2=\"Year\",IF(_xlfn.MAXIFS($N10:AF10,$N$2:AF$2,\"Year\")+$E10<=$E$1,AD10+$E10,0),IF(AG$2=\"Repair %\",IF(AD10>0,$C10,0),IF(AG$2=\"Spares %\",IF(IF(AD10>0,$C10,0)*100>50%,50%,IF(AD10>0,$C10,0)*100),0))))","v":0},{"$f":"IF(AG10=0,0,IF(AH$2=\"Year\",IF(_xlfn.MAXIFS($N10:AG10,$N$2:AG$2,\"Year\")+$E10<=$E$1,AE10+$E10,0),IF(AH$2=\"Repair %\",IF(AE10>0,$C10,0),IF(AH$2=\"Spares %\",IF(IF(AC10>0,$C10,0)*5>80%,50%,IF(AC10>0,$C10,0)*5),0))))","v":0},{"$f":"IF(AH10=0,0,IF(AI$2=\"Year\",IF(_xlfn.MAXIFS($N10:AH10,$N$2:AH$2,\"Year\")+$E10<=$E$1,AF10+$E10,0),IF(AI$2=\"Repair %\",IF(AF10>0,$C$3,0),IF(AI$2=\"Spares %\",IF(IF(AF10>0,$C10,0)*100>50%,50%,IF(AF10>0,$C10,0)*100),0))))","v":0},{"$f":"IF(AI10=0,0,IF(AJ$2=\"Year\",IF(_xlfn.MAXIFS($N10:AI10,$N$2:AI$2,\"Year\")+$E10<=$E$1,AG10+$E10,0),IF(AJ$2=\"Repair %\",IF(AG10>0,$C10,0),IF(AJ$2=\"Spares %\",IF(IF(AG10>0,$C10,0)*100>50%,50%,IF(AG10>0,$C10,0)*100),0))))","v":0},{"$f":"IF(AJ10=0,0,IF(AK$2=\"Year\",IF(_xlfn.MAXIFS($N10:AJ10,$N$2:AJ$2,\"Year\")+$E10<=$E$1,AH10+$E10,0),IF(AK$2=\"Repair %\",IF(AH10>0,$C10,0),IF(AK$2=\"Spares %\",IF(IF(AF10>0,$C10,0)*5>80%,50%,IF(AF10>0,$C10,0)*5),0))))","v":0},{"$f":"IF(AK10=0,0,IF(AL$2=\"Year\",IF(_xlfn.MAXIFS($N10:AK10,$N$2:AK$2,\"Year\")+$E10<=$E$1,AI10+$E10,0),IF(AL$2=\"Repair %\",IF(AI10>0,$C$3,0),IF(AL$2=\"Spares %\",IF(IF(AI10>0,$C10,0)*100>50%,50%,IF(AI10>0,$C10,0)*100),0))))","v":0},{"$f":"IF(AL10=0,0,IF(AM$2=\"Year\",IF(_xlfn.MAXIFS($N10:AL10,$N$2:AL$2,\"Year\")+$E10<=$E$1,AJ10+$E10,0),IF(AM$2=\"Repair %\",IF(AJ10>0,$C10,0),IF(AM$2=\"Spares %\",IF(IF(AJ10>0,$C10,0)*100>50%,50%,IF(AJ10>0,$C10,0)*100),0))))","v":0},{"$f":"IF(AM10=0,0,IF(AN$2=\"Year\",IF(_xlfn.MAXIFS($N10:AM10,$N$2:AM$2,\"Year\")+$E10<=$E$1,AK10+$E10,0),IF(AN$2=\"Repair %\",IF(AK10>0,$C10,0),IF(AN$2=\"Spares %\",IF(IF(AI10>0,$C10,0)*5>80%,50%,IF(AI10>0,$C10,0)*5),0))))","v":0},{"$f":"IF(AN10=0,0,IF(AO$2=\"Year\",IF(_xlfn.MAXIFS($N10:AN10,$N$2:AN$2,\"Year\")+$E10<=$E$1,AL10+$E10,0),IF(AO$2=\"Repair %\",IF(AL10>0,$C$3,0),IF(AO$2=\"Spares %\",IF(IF(AL10>0,$C10,0)*100>50%,50%,IF(AL10>0,$C10,0)*100),0))))","v":0},{"$f":"IF(AO10=0,0,IF(AP$2=\"Year\",IF(_xlfn.MAXIFS($N10:AO10,$N$2:AO$2,\"Year\")+$E10<=$E$1,AM10+$E10,0),IF(AP$2=\"Repair %\",IF(AM10>0,$C10,0),IF(AP$2=\"Spares %\",IF(IF(AM10>0,$C10,0)*100>50%,50%,IF(AM10>0,$C10,0)*100),0))))","v":0},{"$f":"IF(AP10=0,0,IF(AQ$2=\"Year\",IF(_xlfn.MAXIFS($N10:AP10,$N$2:AP$2,\"Year\")+$E10<=$E$1,AN10+$E10,0),IF(AQ$2=\"Repair %\",IF(AN10>0,$C10,0),IF(AQ$2=\"Spares %\",IF(IF(AL10>0,$C10,0)*5>80%,50%,IF(AL10>0,$C10,0)*5),0))))","v":0}]
[{"$f":"INDEX('Avionics ID'!A:E,MATCH(B11,'Avionics ID'!E:E,0),1)","v":721},"Air Data Modules (ADM)",0,0.06,null,"",{"$f":"SUBSTITUTE(ADDRESS(1,MATCH(A11,'Pt1-AvionicsComponentCosts'!$A$6:$NC$6,0)+1),\"$1\",\"\")","v":"$IX"},{"$f":"_xlfn.TEXTJOIN(\", \",TRUE,_xlfn.UNIQUE(_xlfn._xlws.SORT(_xlfn._xlws.FILTER('Pt1-AvionicsComponentCosts'!$NF$12:$NF$384,ISNUMBER(INDIRECT(\"'Pt1-AvionicsComponentCosts'!\"&G11&\"$12:\"&G11&\"$384\"))))))","v":"A220, A300, A320, A321, A330, A330 LMXT, A330 MRTT, A340, A350, A380, ATR, B717, B737, B747, B757, B767, B777, B787, C919, Challenger, Citation, E550, EMB Bizjet, EMB Regional, Falcon, Global, Gulfstream, Hawker, Helo, Hondajet, Learjet, MC-21, MD-11, Mil Transport, Military Jet, Military TP, Nextant 400XT, NSA, PC-24, Phenom, Praetor, SF50, TP Trainer, Turbine GA"},null,0.06,0,0.44800000000000001,1.298,{"$f":"COUNTIF($N$2:N$2,\"Year\")*$G$1","v":10},null,0,{"$f":"COUNTIF($N$2:Q$2,\"Year\")*$G$1","v":20},{"$f":"IF(Q11=0,0,IF(R$2=\"Year\",IF(_xlfn.MAXIFS($N11:Q11,$N$2:Q$2,\"Year\")+$E11<=$E$1,O11+$E11,0),IF(R$2=\"Repair %\",IF(O11>0,$C11,0),IF(R$2=\"Spares %\",IF(IF(O11>0,$C11,0)*100>50%,50%,IF(O11>0,$C11,0)*100),0))))","v":0},0,{"$f":"COUNTIF($N$2:T$2,\"Year\")*$G$1","v":30},{"$f":"IF(T11=0,0,IF(U$2=\"Year\",IF(_xlfn.MAXIFS($N11:T11,$N$2:T$2,\"Year\")+$E11<=$E$1,R11+$E11,0),IF(U$2=\"Repair %\",IF(R11>0,$C11,0),IF(U$2=\"Spares %\",IF(IF(R11>0,$C11,0)*100>50%,50%,IF(R11>0,$C11,0)*100),0))))","v":0},0,{"$f":"COUNTIF($N$2:W$2,\"Year\")*$G$1","v":40},{"$f":"IF(W11=0,0,IF(X$2=\"Year\",IF(_xlfn.MAXIFS($N11:W11,$N$2:W$2,\"Year\")+$E11<=$E$1,U11+$E11,0),IF(X$2=\"Repair %\",IF(U11>0,$C11,0),IF(X$2=\"Spares %\",IF(IF(U11>0,$C11,0)*100>50%,50%,IF(U11>0,$C11,0)*100),0))))","v":0},0,{"$f":"IF(Y11=0,0,IF(Z$2=\"Year\",IF(_xlfn.MAXIFS($N11:Y11,$N$2:Y$2,\"Year\")+$E11<=$E$1,W11+$E11,0),IF(Z$2=\"Repair %\",IF(W11>0,$C$3,0),IF(Z$2=\"Spares %\",IF(IF(W11>0,$C11,0)*100>50%,50%,IF(W11>0,$C11,0)*100),0))))","v":0},{"$f":"IF(Z11=0,0,IF(AA$2=\"Year\",IF(_xlfn.MAXIFS($N11:Z11,$N$2:Z$2,\"Year\")+$E11<=$E$1,X11+$E11,0),IF(AA$2=\"Repair %\",IF(X11>0,$C11,0),IF(AA$2=\"Spares %\",IF(IF(X11>0,$C11,0)*100>50%,50%,IF(X11>0,$C11,0)*100),0))))","v":0},{"$f":"IF(AA11=0,0,IF(AB$2=\"Year\",IF(_xlfn.MAXIFS($N11:AA11,$N$2:AA$2,\"Year\")+$E11<=$E$1,Y11+$E11,0),IF(AB$2=\"Repair %\",IF(Y11>0,$C11,0),IF(AB$2=\"Spares %\",IF(IF(W11>0,$C11,0)*5>80%,50%,IF(W11>0,$C11,0)*5),0))))","v":0},{"$f":"IF(AB11=0,0,IF(AC$2=\"Year\",IF(_xlfn.MAXIFS($N11:AB11,$N$2:AB$2,\"Year\")+$E11<=$E$1,Z11+$E11,0),IF(AC$2=\"Repair %\",IF(Z11>0,$C$3,0),IF(AC$2=\"Spares %\",IF(IF(Z11>0,$C11,0)*100>50%,50%,IF(Z11>0,$C11,0)*100),0))))","v":0},{"$f":"IF(AC11=0,0,IF(AD$2=\"Year\",IF(_xlfn.MAXIFS($N11:AC11,$N$2:AC$2,\"Year\")+$E11<=$E$1,AA11+$E11,0),IF(AD$2=\"Repair %\",IF(AA11>0,$C11,0),IF(AD$2=\"Spares %\",IF(IF(AA11>0,$C11,0)*100>50%,50%,IF(AA11>0,$C11,0)*100),0))))","v":0},{"$f":"IF(AD11=0,0,IF(AE$2=\"Year\",IF(_xlfn.MAXIFS($N11:AD11,$N$2:AD$2,\"Year\")+$E11<=$E$1,AB11+$E11,0),IF(AE$2=\"Repair %\",IF(AB11>0,$C11,0),IF(AE$2=\"Spares %\",IF(IF(Z11>0,$C11,0)*5>80%,50%,IF(Z11>0,$C11,0)*5),0))))","v":0},{"$f":"IF(AE11=0,0,IF(AF$2=\"Year\",IF(_xlfn.MAXIFS($N11:AE11,$N$2:AE$2,\"Year\")+$E11<=$E$1,AC11+$E11,0),IF(AF$2=\"Repair %\",IF(AC11>0,$C$3,0),IF(AF$2=\"Spares %\",IF(IF(AC11>0,$C11,0)*100>50%,50%,IF(AC11>0,$C11,0)*100),0))))","v":0},{"$f":"IF(AF11=0,0,IF(AG$2=\"Year\",IF(_xlfn.MAXIFS($N11:AF11,$N$2:AF$2,\"Year\")+$E11<=$E$1,AD11+$E11,0),IF(AG$2=\"Repair %\",IF(AD11>0,$C11,0),IF(AG$2=\"Spares %\",IF(IF(AD11>0,$C11,0)*100>50%,50%,IF(AD11>0,$C11,0)*100),0))))","v":0},{"$f":"IF(AG11=0,0,IF(AH$2=\"Year\",IF(_xlfn.MAXIFS($N11:AG11,$N$2:AG$2,\"Year\")+$E11<=$E$1,AE11+$E11,0),IF(AH$2=\"Repair %\",IF(AE11>0,$C11,0),IF(AH$2=\"Spares %\",IF(IF(AC11>0,$C11,0)*5>80%,50%,IF(AC11>0,$C11,0)*5),0))))","v":0},{"$f":"IF(AH11=0,0,IF(AI$2=\"Year\",IF(_xlfn.MAXIFS($N11:AH11,$N$2:AH$2,\"Year\")+$E11<=$E$1,AF11+$E11,0),IF(AI$2=\"Repair %\",IF(AF11>0,$C$3,0),IF(AI$2=\"Spares %\",IF(IF(AF11>0,$C11,0)*100>50%,50%,IF(AF11>0,$C11,0)*100),0))))","v":0},{"$f":"IF(AI11=0,0,IF(AJ$2=\"Year\",IF(_xlfn.MAXIFS($N11:AI11,$N$2:AI$2,\"Year\")+$E11<=$E$1,AG11+$E11,0),IF(AJ$2=\"Repair %\",IF(AG11>0,$C11,0),IF(AJ$2=\"Spares %\",IF(IF(AG11>0,$C11,0)*100>50%,50%,IF(AG11>0,$C11,0)*100),0))))","v":0},{"$f":"IF(AJ11=0,0,IF(AK$2=\"Year\",IF(_xlfn.MAXIFS($N11:AJ11,$N$2:AJ$2,\"Year\")+$E11<=$E$1,AH11+$E11,0),IF(AK$2=\"Repair %\",IF(AH11>0,$C11,0),IF(AK$2=\"Spares %\",IF(IF(AF11>0,$C11,0)*5>80%,50%,IF(AF11>0,$C11,0)*5),0))))","v":0},{"$f":"IF(AK11=0,0,IF(AL$2=\"Year\",IF(_xlfn.MAXIFS($N11:AK11,$N$2:AK$2,\"Year\")+$E11<=$E$1,AI11+$E11,0),IF(AL$2=\"Repair %\",IF(AI11>0,$C$3,0),IF(AL$2=\"Spares %\",IF(IF(AI11>0,$C11,0)*100>50%,50%,IF(AI11>0,$C11,0)*100),0))))","v":0},{"$f":"IF(AL11=0,0,IF(AM$2=\"Year\",IF(_xlfn.MAXIFS($N11:AL11,$N$2:AL$2,\"Year\")+$E11<=$E$1,AJ11+$E11,0),IF(AM$2=\"Repair %\",IF(AJ11>0,$C11,0),IF(AM$2=\"Spares %\",IF(IF(AJ11>0,$C11,0)*100>50%,50%,IF(AJ11>0,$C11,0)*100),0))))","v":0},{"$f":"IF(AM11=0,0,IF(AN$2=\"Year\",IF(_xlfn.MAXIFS($N11:AM11,$N$2:AM$2,\"Year\")+$E11<=$E$1,AK11+$E11,0),IF(AN$2=\"Repair %\",IF(AK11>0,$C11,0),IF(AN$2=\"Spares %\",IF(IF(AI11>0,$C11,0)*5>80%,50%,IF(AI11>0,$C11,0)*5),0))))","v":0},{"$f":"IF(AN11=0,0,IF(AO$2=\"Year\",IF(_xlfn.MAXIFS($N11:AN11,$N$2:AN$2,\"Year\")+$E11<=$E$1,AL11+$E11,0),IF(AO$2=\"Repair %\",IF(AL11>0,$C$3,0),IF(AO$2=\"Spares %\",IF(IF(AL11>0,$C11,0)*100>50%,50%,IF(AL11>0,$C11,0)*100),0))))","v":0},{"$f":"IF(AO11=0,0,IF(AP$2=\"Year\",IF(_xlfn.MAXIFS($N11:AO11,$N$2:AO$2,\"Year\")+$E11<=$E$1,AM11+$E11,0),IF(AP$2=\"Repair %\",IF(AM11>0,$C11,0),IF(AP$2=\"Spares %\",IF(IF(AM11>0,$C11,0)*100>50%,50%,IF(AM11>0,$C11,0)*100),0))))","v":0},{"$f":"IF(AP11=0,0,IF(AQ$2=\"Year\",IF(_xlfn.MAXIFS($N11:AP11,$N$2:AP$2,\"Year\")+$E11<=$E$1,AN11+$E11,0),IF(AQ$2=\"Repair %\",IF(AN11>0,$C11,0),IF(AQ$2=\"Spares %\",IF(IF(AL11>0,$C11,0)*5>80%,50%,IF(AL11>0,$C11,0)*5),0))))","v":0}]
[{"$f":"INDEX('Avionics ID'!A:E,MATCH(B12,'Avionics ID'!E:E,0),1)","v":722},"Air data probes (pitot/static)",0,0.2,null,"",{"$f":"SUBSTITUTE(ADDRESS(1,MATCH(A12,'Pt1-AvionicsComponentCosts'!$A$6:$NC$6,0)+1),\"$1\",\"\")","v":"$KL"},{"$f":"_xlfn.TEXTJOIN(\", \",TRUE,_xlfn.UNIQUE(_xlfn._xlws.SORT(_xlfn._xlws.FILTER('Pt1-AvionicsComponentCosts'!$NF$12:$NF$384,ISNUMBER(INDIRECT(\"'Pt1-AvionicsComponentCosts'!\"&G12&\"$12:\"&G12&\"$384\"))))))","v":"A220, A300, A320, A321, A330, A330 LMXT, A330 MRTT, A340, A350, A380, ATR, B717, B737, B747, B757, B767, B777, B787, C919, Challenger, Citation, E550, EMB Bizjet, EMB Regional, Falcon, Global, Gulfstream, Hawker, Hondajet, Learjet, MC-21, MD-11, Mil Transport, Military Jet, Military TP, Nextant 400XT, NSA, PC-24, Phenom, Praetor, SF50"},null,0.2,0,0.44800000000000001,1.298,{"$f":"COUNTIF($N$2:N$2,\"Year\")*$G$1","v":10},null,0,{"$f":"COUNTIF($N$2:Q$2,\"Year\")*$G$1","v":20},{"$f":"IF(Q12=0,0,IF(R$2=\"Year\",IF(_xlfn.MAXIFS($N12:Q12,$N$2:Q$2,\"Year\")+$E12<=$E$1,O12+$E12,0),IF(R$2=\"Repair %\",IF(O12>0,$C12,0),IF(R$2=\"Spares %\",IF(IF(O12>0,$C12,0)*100>50%,50%,IF(O12>0,$C12,0)*100),0))))","v":0},0,{"$f":"COUNTIF($N$2:T$2,\"Year\")*$G$1","v":30},{"$f":"IF(T12=0,0,IF(U$2=\"Year\",IF(_xlfn.MAXIFS($N12:T12,$N$2:T$2,\"Year\")+$E12<=$E$1,R12+$E12,0),IF(U$2=\"Repair %\",IF(R12>0,$C12,0),IF(U$2=\"Spares %\",IF(IF(R12>0,$C12,0)*100>50%,50%,IF(R12>0,$C12,0)*100),0))))","v":0},0,{"$f":"COUNTIF($N$2:W$2,\"Year\")*$G$1","v":40},{"$f":"IF(W12=0,0,IF(X$2=\"Year\",IF(_xlfn.MAXIFS($N12:W12,$N$2:W$2,\"Year\")+$E12<=$E$1,U12+$E12,0),IF(X$2=\"Repair %\",IF(U12>0,$C12,0),IF(X$2=\"Spares %\",IF(IF(U12>0,$C12,0)*100>50%,50%,IF(U12>0,$C12,0)*100),0))))","v":0},0,{"$f":"IF(Y12=0,0,IF(Z$2=\"Year\",IF(_xlfn.MAXIFS($N12:Y12,$N$2:Y$2,\"Year\")+$E12<=$E$1,W12+$E12,0),IF(Z$2=\"Repair %\",IF(W12>0,$C$3,0),IF(Z$2=\"Spares %\",IF(IF(W12>0,$C12,0)*100>50%,50%,IF(W12>0,$C12,0)*100),0))))","v":0},{"$f":"IF(Z12=0,0,IF(AA$2=\"Year\",IF(_xlfn.MAXIFS($N12:Z12,$N$2:Z$2,\"Year\")+$E12<=$E$1,X12+$E12,0),IF(AA$2=\"Repair %\",IF(X12>0,$C12,0),IF(AA$2=\"Spares %\",IF(IF(X12>0,$C12,0)*100>50%,50%,IF(X12>0,$C12,0)*100),0))))","v":0},{"$f":"IF(AA12=0,0,IF(AB$2=\"Year\",IF(_xlfn.MAXIFS($N12:AA12,$N$2:AA$2,\"Year\")+$E12<=$E$1,Y12+$E12,0),IF(AB$2=\"Repair %\",IF(Y12>0,$C12,0),IF(AB$2=\"Spares %\",IF(IF(W12>0,$C12,0)*5>80%,50%,IF(W12>0,$C12,0)*5),0))))","v":0},{"$f":"IF(AB12=0,0,IF(AC$2=\"Year\",IF(_xlfn.MAXIFS($N12:AB12,$N$2:AB$2,\"Year\")+$E12<=$E$1,Z12+$E12,0),IF(AC$2=\"Repair %\",IF(Z12>0,$C$3,0),IF(AC$2=\"Spares %\",IF(IF(Z12>0,$C12,0)*100>50%,50%,IF(Z12>0,$C12,0)*100),0))))","v":0},{"$f":"IF(AC12=0,0,IF(AD$2=\"Year\",IF(_xlfn.MAXIFS($N12:AC12,$N$2:AC$2,\"Year\")+$E12<=$E$1,AA12+$E12,0),IF(AD$2=\"Repair %\",IF(AA12>0,$C12,0),IF(AD$2=\"Spares %\",IF(IF(AA12>0,$C12,0)*100>50%,50%,IF(AA12>0,$C12,0)*100),0))))","v":0},{"$f":"IF(AD12=0,0,IF(AE$2=\"Year\",IF(_xlfn.MAXIFS($N12:AD12,$N$2:AD$2,\"Year\")+$E12<=$E$1,AB12+$E12,0),IF(AE$2=\"Repair %\",IF(AB12>0,$C12,0),IF(AE$2=\"Spares %\",IF(IF(Z12>0,$C12,0)*5>80%,50%,IF(Z12>0,$C12,0)*5),0))))","v":0},{"$f":"IF(AE12=0,0,IF(AF$2=\"Year\",IF(_xlfn.MAXIFS($N12:AE12,$N$2:AE$2,\"Year\")+$E12<=$E$1,AC12+$E12,0),IF(AF$2=\"Repair %\",IF(AC12>0,$C$3,0),IF(AF$2=\"Spares %\",IF(IF(AC12>0,$C12,0)*100>50%,50%,IF(AC12>0,$C12,0)*100),0))))","v":0},{"$f":"IF(AF12=0,0,IF(AG$2=\"Year\",IF(_xlfn.MAXIFS($N12:AF12,$N$2:AF$2,\"Year\")+$E12<=$E$1,AD12+$E12,0),IF(AG$2=\"Repair %\",IF(AD12>0,$C12,0),IF(AG$2=\"Spares %\",IF(IF(AD12>0,$C12,0)*100>50%,50%,IF(AD12>0,$C12,0)*100),0))))","v":0},{"$f":"IF(AG12=0,0,IF(AH$2=\"Year\",IF(_xlfn.MAXIFS($N12:AG12,$N$2:AG$2,\"Year\")+$E12<=$E$1,AE12+$E12,0),IF(AH$2=\"Repair %\",IF(AE12>0,$C12,0),IF(AH$2=\"Spares %\",IF(IF(AC12>0,$C12,0)*5>80%,50%,IF(AC12>0,$C12,0)*5),0))))","v":0},{"$f":"IF(AH12=0,0,IF(AI$2=\"Year\",IF(_xlfn.MAXIFS($N12:AH12,$N$2:AH$2,\"Year\")+$E12<=$E$1,AF12+$E12,0),IF(AI$2=\"Repair %\",IF(AF12>0,$C$3,0),IF(AI$2=\"Spares %\",IF(IF(AF12>0,$C12,0)*100>50%,50%,IF(AF12>0,$C12,0)*100),0))))","v":0},{"$f":"IF(AI12=0,0,IF(AJ$2=\"Year\",IF(_xlfn.MAXIFS($N12:AI12,$N$2:AI$2,\"Year\")+$E12<=$E$1,AG12+$E12,0),IF(AJ$2=\"Repair %\",IF(AG12>0,$C12,0),IF(AJ$2=\"Spares %\",IF(IF(AG12>0,$C12,0)*100>50%,50%,IF(AG12>0,$C12,0)*100),0))))","v":0},{"$f":"IF(AJ12=0,0,IF(AK$2=\"Year\",IF(_xlfn.MAXIFS($N12:AJ12,$N$2:AJ$2,\"Year\")+$E12<=$E$1,AH12+$E12,0),IF(AK$2=\"Repair %\",IF(AH12>0,$C12,0),IF(AK$2=\"Spares %\",IF(IF(AF12>0,$C12,0)*5>80%,50%,IF(AF12>0,$C12,0)*5),0))))","v":0},{"$f":"IF(AK12=0,0,IF(AL$2=\"Year\",IF(_xlfn.MAXIFS($N12:AK12,$N$2:AK$2,\"Year\")+$E12<=$E$1,AI12+$E12,0),IF(AL$2=\"Repair %\",IF(AI12>0,$C$3,0),IF(AL$2=\"Spares %\",IF(IF(AI12>0,$C12,0)*100>50%,50%,IF(AI12>0,$C12,0)*100),0))))","v":0},{"$f":"IF(AL12=0,0,IF(AM$2=\"Year\",IF(_xlfn.MAXIFS($N12:AL12,$N$2:AL$2,\"Year\")+$E12<=$E$1,AJ12+$E12,0),IF(AM$2=\"Repair %\",IF(AJ12>0,$C12,0),IF(AM$2=\"Spares %\",IF(IF(AJ12>0,$C12,0)*100>50%,50%,IF(AJ12>0,$C12,0)*100),0))))","v":0},{"$f":"IF(AM12=0,0,IF(AN$2=\"Year\",IF(_xlfn.MAXIFS($N12:AM12,$N$2:AM$2,\"Year\")+$E12<=$E$1,AK12+$E12,0),IF(AN$2=\"Repair %\",IF(AK12>0,$C12,0),IF(AN$2=\"Spares %\",IF(IF(AI12>0,$C12,0)*5>80%,50%,IF(AI12>0,$C12,0)*5),0))))","v":0},{"$f":"IF(AN12=0,0,IF(AO$2=\"Year\",IF(_xlfn.MAXIFS($N12:AN12,$N$2:AN$2,\"Year\")+$E12<=$E$1,AL12+$E12,0),IF(AO$2=\"Repair %\",IF(AL12>0,$C$3,0),IF(AO$2=\"Spares %\",IF(IF(AL12>0,$C12,0)*100>50%,50%,IF(AL12>0,$C12,0)*100),0))))","v":0},{"$f":"IF(AO12=0,0,IF(AP$2=\"Year\",IF(_xlfn.MAXIFS($N12:AO12,$N$2:AO$2,\"Year\")+$E12<=$E$1,AM12+$E12,0),IF(AP$2=\"Repair %\",IF(AM12>0,$C12,0),IF(AP$2=\"Spares %\",IF(IF(AM12>0,$C12,0)*100>50%,50%,IF(AM12>0,$C12,0)*100),0))))","v":0},{"$f":"IF(AP12=0,0,IF(AQ$2=\"Year\",IF(_xlfn.MAXIFS($N12:AP12,$N$2:AP$2,\"Year\")+$E12<=$E$1,AN12+$E12,0),IF(AQ$2=\"Repair %\",IF(AN12>0,$C12,0),IF(AQ$2=\"Spares %\",IF(IF(AL12>0,$C12,0)*5>80%,50%,IF(AL12>0,$C12,0)*5),0))))","v":0}]
[{"$f":"INDEX('Avionics ID'!A:E,MATCH(B13,'Avionics ID'!E:E,0),1)","v":880},"Air data sensors",6.6666666666666666E-2,0.2,15,"Obsolecence",{"$f":"SUBSTITUTE(ADDRESS(1,MATCH(A13,'Pt1-AvionicsComponentCosts'!$A$6:$NC$6,0)+1),\"$1\",\"\")","v":"$KN"},{"$f":"_xlfn.TEXTJOIN(\", \",TRUE,_xlfn.UNIQUE(_xlfn._xlws.SORT(_xlfn._xlws.FILTER('Pt1-AvionicsComponentCosts'!$NF$12:$NF$384,ISNUMBER(INDIRECT(\"'Pt1-AvionicsComponentCosts'!\"&G13&\"$12:\"&G13&\"$384\"))))))","v":"ARJ, Attack, Challenger, Citation, CRJ, E550, EMB Bizjet, EMB Regional, Falcon, Global, Gulfstream, Hawker, Helo, Hondajet, Learjet, Nextant 400XT, PC-24, Phenom, Praetor, Reg TP, SF50, Stealth, Superjet 100, Turbine GA, UAV"},null,0.2,7.0000000000000007E-2,0.44800000000000001,1.298,{"$f":"COUNTIF($N$2:N$2,\"Year\")*$G$1","v":10},null,0.5,{"$f":"COUNTIF($N$2:Q$2,\"Year\")*$G$1","v":20},{"$f":"IF(Q13=0,0,IF(R$2=\"Year\",IF(_xlfn.MAXIFS($N13:Q13,$N$2:Q$2,\"Year\")+$E13<=$E$1,O13+$E13,0),IF(R$2=\"Repair %\",IF(O13>0,$C13,0),IF(R$2=\"Spares %\",IF(IF(O13>0,$C13,0)*100>50%,50%,IF(O13>0,$C13,0)*100),0))))","v":0},0.5,{"$f":"COUNTIF($N$2:T$2,\"Year\")*$G$1","v":30},{"$f":"IF(T13=0,0,IF(U$2=\"Year\",IF(_xlfn.MAXIFS($N13:T13,$N$2:T$2,\"Year\")+$E13<=$E$1,R13+$E13,0),IF(U$2=\"Repair %\",IF(R13>0,$C13,0),IF(U$2=\"Spares %\",IF(IF(R13>0,$C13,0)*100>50%,50%,IF(R13>0,$C13,0)*100),0))))","v":0},1,{"$f":"COUNTIF($N$2:W$2,\"Year\")*$G$1","v":40},{"$f":"IF(W13=0,0,IF(X$2=\"Year\",IF(_xlfn.MAXIFS($N13:W13,$N$2:W$2,\"Year\")+$E13<=$E$1,U13+$E13,0),IF(X$2=\"Repair %\",IF(U13>0,$C13,0),IF(X$2=\"Spares %\",IF(IF(U13>0,$C13,0)*100>50%,50%,IF(U13>0,$C13,0)*100),0))))","v":0},0.5,{"$f":"IF(Y13=0,0,IF(Z$2=\"Year\",IF(_xlfn.MAXIFS($N13:Y13,$N$2:Y$2,\"Year\")+$E13<=$E$1,W13+$E13,0),IF(Z$2=\"Repair %\",IF(W13>0,$C$3,0),IF(Z$2=\"Spares %\",IF(IF(W13>0,$C13,0)*100>50%,50%,IF(W13>0,$C13,0)*100),0))))","v":0},{"$f":"IF(Z13=0,0,IF(AA$2=\"Year\",IF(_xlfn.MAXIFS($N13:Z13,$N$2:Z$2,\"Year\")+$E13<=$E$1,X13+$E13,0),IF(AA$2=\"Repair %\",IF(X13>0,$C13,0),IF(AA$2=\"Spares %\",IF(IF(X13>0,$C13,0)*100>50%,50%,IF(X13>0,$C13,0)*100),0))))","v":0},{"$f":"IF(AA13=0,0,IF(AB$2=\"Year\",IF(_xlfn.MAXIFS($N13:AA13,$N$2:AA$2,\"Year\")+$E13<=$E$1,Y13+$E13,0),IF(AB$2=\"Repair %\",IF(Y13>0,$C13,0),IF(AB$2=\"Spares %\",IF(IF(W13>0,$C13,0)*5>80%,50%,IF(W13>0,$C13,0)*5),0))))","v":0},{"$f":"IF(AB13=0,0,IF(AC$2=\"Year\",IF(_xlfn.MAXIFS($N13:AB13,$N$2:AB$2,\"Year\")+$E13<=$E$1,Z13+$E13,0),IF(AC$2=\"Repair %\",IF(Z13>0,$C$3,0),IF(AC$2=\"Spares %\",IF(IF(Z13>0,$C13,0)*100>50%,50%,IF(Z13>0,$C13,0)*100),0))))","v":0},{"$f":"IF(AC13=0,0,IF(AD$2=\"Year\",IF(_xlfn.MAXIFS($N13:AC13,$N$2:AC$2,\"Year\")+$E13<=$E$1,AA13+$E13,0),IF(AD$2=\"Repair %\",IF(AA13>0,$C13,0),IF(AD$2=\"Spares %\",IF(IF(AA13>0,$C13,0)*100>50%,50%,IF(AA13>0,$C13,0)*100),0))))","v":0},{"$f":"IF(AD13=0,0,IF(AE$2=\"Year\",IF(_xlfn.MAXIFS($N13:AD13,$N$2:AD$2,\"Year\")+$E13<=$E$1,AB13+$E13,0),IF(AE$2=\"Repair %\",IF(AB13>0,$C13,0),IF(AE$2=\"Spares %\",IF(IF(Z13>0,$C13,0)*5>80%,50%,IF(Z13>0,$C13,0)*5),0))))","v":0},{"$f":"IF(AE13=0,0,IF(AF$2=\"Year\",IF(_xlfn.MAXIFS($N13:AE13,$N$2:AE$2,\"Year\")+$E13<=$E$1,AC13+$E13,0),IF(AF$2=\"Repair %\",IF(AC13>0,$C$3,0),IF(AF$2=\"Spares %\",IF(IF(AC13>0,$C13,0)*100>50%,50%,IF(AC13>0,$C13,0)*100),0))))","v":0},{"$f":"IF(AF13=0,0,IF(AG$2=\"Year\",IF(_xlfn.MAXIFS($N13:AF13,$N$2:AF$2,\"Year\")+$E13<=$E$1,AD13+$E13,0),IF(AG$2=\"Repair %\",IF(AD13>0,$C13,0),IF(AG$2=\"Spares %\",IF(IF(AD13>0,$C13,0)*100>50%,50%,IF(AD13>0,$C13,0)*100),0))))","v":0},{"$f":"IF(AG13=0,0,IF(AH$2=\"Year\",IF(_xlfn.MAXIFS($N13:AG13,$N$2:AG$2,\"Year\")+$E13<=$E$1,AE13+$E13,0),IF(AH$2=\"Repair %\",IF(AE13>0,$C13,0),IF(AH$2=\"Spares %\",IF(IF(AC13>0,$C13,0)*5>80%,50%,IF(AC13>0,$C13,0)*5),0))))","v":0},{"$f":"IF(AH13=0,0,IF(AI$2=\"Year\",IF(_xlfn.MAXIFS($N13:AH13,$N$2:AH$2,\"Year\")+$E13<=$E$1,AF13+$E13,0),IF(AI$2=\"Repair %\",IF(AF13>0,$C$3,0),IF(AI$2=\"Spares %\",IF(IF(AF13>0,$C13,0)*100>50%,50%,IF(AF13>0,$C13,0)*100),0))))","v":0},{"$f":"IF(AI13=0,0,IF(AJ$2=\"Year\",IF(_xlfn.MAXIFS($N13:AI13,$N$2:AI$2,\"Year\")+$E13<=$E$1,AG13+$E13,0),IF(AJ$2=\"Repair %\",IF(AG13>0,$C13,0),IF(AJ$2=\"Spares %\",IF(IF(AG13>0,$C13,0)*100>50%,50%,IF(AG13>0,$C13,0)*100),0))))","v":0},{"$f":"IF(AJ13=0,0,IF(AK$2=\"Year\",IF(_xlfn.MAXIFS($N13:AJ13,$N$2:AJ$2,\"Year\")+$E13<=$E$1,AH13+$E13,0),IF(AK$2=\"Repair %\",IF(AH13>0,$C13,0),IF(AK$2=\"Spares %\",IF(IF(AF13>0,$C13,0)*5>80%,50%,IF(AF13>0,$C13,0)*5),0))))","v":0},{"$f":"IF(AK13=0,0,IF(AL$2=\"Year\",IF(_xlfn.MAXIFS($N13:AK13,$N$2:AK$2,\"Year\")+$E13<=$E$1,AI13+$E13,0),IF(AL$2=\"Repair %\",IF(AI13>0,$C$3,0),IF(AL$2=\"Spares %\",IF(IF(AI13>0,$C13,0)*100>50%,50%,IF(AI13>0,$C13,0)*100),0))))","v":0},{"$f":"IF(AL13=0,0,IF(AM$2=\"Year\",IF(_xlfn.MAXIFS($N13:AL13,$N$2:AL$2,\"Year\")+$E13<=$E$1,AJ13+$E13,0),IF(AM$2=\"Repair %\",IF(AJ13>0,$C13,0),IF(AM$2=\"Spares %\",IF(IF(AJ13>0,$C13,0)*100>50%,50%,IF(AJ13>0,$C13,0)*100),0))))","v":0},{"$f":"IF(AM13=0,0,IF(AN$2=\"Year\",IF(_xlfn.MAXIFS($N13:AM13,$N$2:AM$2,\"Year\")+$E13<=$E$1,AK13+$E13,0),IF(AN$2=\"Repair %\",IF(AK13>0,$C13,0),IF(AN$2=\"Spares %\",IF(IF(AI13>0,$C13,0)*5>80%,50%,IF(AI13>0,$C13,0)*5),0))))","v":0},{"$f":"IF(AN13=0,0,IF(AO$2=\"Year\",IF(_xlfn.MAXIFS($N13:AN13,$N$2:AN$2,\"Year\")+$E13<=$E$1,AL13+$E13,0),IF(AO$2=\"Repair %\",IF(AL13>0,$C$3,0),IF(AO$2=\"Spares %\",IF(IF(AL13>0,$C13,0)*100>50%,50%,IF(AL13>0,$C13,0)*100),0))))","v":0},{"$f":"IF(AO13=0,0,IF(AP$2=\"Year\",IF(_xlfn.MAXIFS($N13:AO13,$N$2:AO$2,\"Year\")+$E13<=$E$1,AM13+$E13,0),IF(AP$2=\"Repair %\",IF(AM13>0,$C13,0),IF(AP$2=\"Spares %\",IF(IF(AM13>0,$C13,0)*100>50%,50%,IF(AM13>0,$C13,0)*100),0))))","v":0},{"$f":"IF(AP13=0,0,IF(AQ$2=\"Year\",IF(_xlfn.MAXIFS($N13:AP13,$N$2:AP$2,\"Year\")+$E13<=$E$1,AN13+$E13,0),IF(AQ$2=\"Repair %\",IF(AN13>0,$C13,0),IF(AQ$2=\"Spares %\",IF(IF(AL13>0,$C13,0)*5>80%,50%,IF(AL13>0,$C13,0)*5),0))))","v":0}]
[{"$f":"INDEX('Avionics ID'!A:E,MATCH(B14,'Avionics ID'!E:E,0),1)","v":815},"Air Data smart sensor",0.05,0.06,20,"Obsolecence",{"$f":"SUBSTITUTE(ADDRESS(1,MATCH(A14,'Pt1-AvionicsComponentCosts'!$A$6:$NC$6,0)+1),\"$1\",\"\")","v":"$KP"},{"$f":"_xlfn.TEXTJOIN(\", \",TRUE,_xlfn.UNIQUE(_xlfn._xlws.SORT(_xlfn._xlws.FILTER('Pt1-AvionicsComponentCosts'!$NF$12:$NF$384,ISNUMBER(INDIRECT(\"'Pt1-AvionicsComponentCosts'!\"&G14&\"$12:\"&G14&\"$384\"))))))","v":"Mil Fighter"},null,0.06,0.05,0.44800000000000001,1.298,{"$f":"COUNTIF($N$2:N$2,\"Year\")*$G$1","v":10},null,0,{"$f":"COUNTIF($N$2:Q$2,\"Year\")*$G$1","v":20},{"$f":"IF(Q14=0,0,IF(R$2=\"Year\",IF(_xlfn.MAXIFS($N14:Q14,$N$2:Q$2,\"Year\")+$E14<=$E$1,O14+$E14,0),IF(R$2=\"Repair %\",IF(O14>0,$C14,0),IF(R$2=\"Spares %\",IF(IF(O14>0,$C14,0)*100>50%,50%,IF(O14>0,$C14,0)*100),0))))","v":0},1,{"$f":"COUNTIF($N$2:T$2,\"Year\")*$G$1","v":30},{"$f":"IF(T14=0,0,IF(U$2=\"Year\",IF(_xlfn.MAXIFS($N14:T14,$N$2:T$2,\"Year\")+$E14<=$E$1,R14+$E14,0),IF(U$2=\"Repair %\",IF(R14>0,$C14,0),IF(U$2=\"Spares %\",IF(IF(R14>0,$C14,0)*100>50%,50%,IF(R14>0,$C14,0)*100),0))))","v":0},0,{"$f":"COUNTIF($N$2:W$2,\"Year\")*$G$1","v":40},{"$f":"IF(W14=0,0,IF(X$2=\"Year\",IF(_xlfn.MAXIFS($N14:W14,$N$2:W$2,\"Year\")+$E14<=$E$1,U14+$E14,0),IF(X$2=\"Repair %\",IF(U14>0,$C14,0),IF(X$2=\"Spares %\",IF(IF(U14>0,$C14,0)*100>50%,50%,IF(U14>0,$C14,0)*100),0))))","v":0},1,{"$f":"IF(Y14=0,0,IF(Z$2=\"Year\",IF(_xlfn.MAXIFS($N14:Y14,$N$2:Y$2,\"Year\")+$E14<=$E$1,W14+$E14,0),IF(Z$2=\"Repair %\",IF(W14>0,$C$3,0),IF(Z$2=\"Spares %\",IF(IF(W14>0,$C14,0)*100>50%,50%,IF(W14>0,$C14,0)*100),0))))","v":0},{"$f":"IF(Z14=0,0,IF(AA$2=\"Year\",IF(_xlfn.MAXIFS($N14:Z14,$N$2:Z$2,\"Year\")+$E14<=$E$1,X14+$E14,0),IF(AA$2=\"Repair %\",IF(X14>0,$C14,0),IF(AA$2=\"Spares %\",IF(IF(X14>0,$C14,0)*100>50%,50%,IF(X14>0,$C14,0)*100),0))))","v":0},{"$f":"IF(AA14=0,0,IF(AB$2=\"Year\",IF(_xlfn.MAXIFS($N14:AA14,$N$2:AA$2,\"Year\")+$E14<=$E$1,Y14+$E14,0),IF(AB$2=\"Repair %\",IF(Y14>0,$C14,0),IF(AB$2=\"Spares %\",IF(IF(W14>0,$C14,0)*5>80%,50%,IF(W14>0,$C14,0)*5),0))))","v":0},{"$f":"IF(AB14=0,0,IF(AC$2=\"Year\",IF(_xlfn.MAXIFS($N14:AB14,$N$2:AB$2,\"Year\")+$E14<=$E$1,Z14+$E14,0),IF(AC$2=\"Repair %\",IF(Z14>0,$C$3,0),IF(AC$2=\"Spares %\",IF(IF(Z14>0,$C14,0)*100>50%,50%,IF(Z14>0,$C14,0)*100),0))))","v":0},{"$f":"IF(AC14=0,0,IF(AD$2=\"Year\",IF(_xlfn.MAXIFS($N14:AC14,$N$2:AC$2,\"Year\")+$E14<=$E$1,AA14+$E14,0),IF(AD$2=\"Repair %\",IF(AA14>0,$C14,0),IF(AD$2=\"Spares %\",IF(IF(AA14>0,$C14,0)*100>50%,50%,IF(AA14>0,$C14,0)*100),0))))","v":0},{"$f":"IF(AD14=0,0,IF(AE$2=\"Year\",IF(_xlfn.MAXIFS($N14:AD14,$N$2:AD$2,\"Year\")+$E14<=$E$1,AB14+$E14,0),IF(AE$2=\"Repair %\",IF(AB14>0,$C14,0),IF(AE$2=\"Spares %\",IF(IF(Z14>0,$C14,0)*5>80%,50%,IF(Z14>0,$C14,0)*5),0))))","v":0},{"$f":"IF(AE14=0,0,IF(AF$2=\"Year\",IF(_xlfn.MAXIFS($N14:AE14,$N$2:AE$2,\"Year\")+$E14<=$E$1,AC14+$E14,0),IF(AF$2=\"Repair %\",IF(AC14>0,$C$3,0),IF(AF$2=\"Spares %\",IF(IF(AC14>0,$C14,0)*100>50%,50%,IF(AC14>0,$C14,0)*100),0))))","v":0},{"$f":"IF(AF14=0,0,IF(AG$2=\"Year\",IF(_xlfn.MAXIFS($N14:AF14,$N$2:AF$2,\"Year\")+$E14<=$E$1,AD14+$E14,0),IF(AG$2=\"Repair %\",IF(AD14>0,$C14,0),IF(AG$2=\"Spares %\",IF(IF(AD14>0,$C14,0)*100>50%,50%,IF(AD14>0,$C14,0)*100),0))))","v":0},{"$f":"IF(AG14=0,0,IF(AH$2=\"Year\",IF(_xlfn.MAXIFS($N14:AG14,$N$2:AG$2,\"Year\")+$E14<=$E$1,AE14+$E14,0),IF(AH$2=\"Repair %\",IF(AE14>0,$C14,0),IF(AH$2=\"Spares %\",IF(IF(AC14>0,$C14,0)*5>80%,50%,IF(AC14>0,$C14,0)*5),0))))","v":0},{"$f":"IF(AH14=0,0,IF(AI$2=\"Year\",IF(_xlfn.MAXIFS($N14:AH14,$N$2:AH$2,\"Year\")+$E14<=$E$1,AF14+$E14,0),IF(AI$2=\"Repair %\",IF(AF14>0,$C$3,0),IF(AI$2=\"Spares %\",IF(IF(AF14>0,$C14,0)*100>50%,50%,IF(AF14>0,$C14,0)*100),0))))","v":0},{"$f":"IF(AI14=0,0,IF(AJ$2=\"Year\",IF(_xlfn.MAXIFS($N14:AI14,$N$2:AI$2,\"Year\")+$E14<=$E$1,AG14+$E14,0),IF(AJ$2=\"Repair %\",IF(AG14>0,$C14,0),IF(AJ$2=\"Spares %\",IF(IF(AG14>0,$C14,0)*100>50%,50%,IF(AG14>0,$C14,0)*100),0))))","v":0},{"$f":"IF(AJ14=0,0,IF(AK$2=\"Year\",IF(_xlfn.MAXIFS($N14:AJ14,$N$2:AJ$2,\"Year\")+$E14<=$E$1,AH14+$E14,0),IF(AK$2=\"Repair %\",IF(AH14>0,$C14,0),IF(AK$2=\"Spares %\",IF(IF(AF14>0,$C14,0)*5>80%,50%,IF(AF14>0,$C14,0)*5),0))))","v":0},{"$f":"IF(AK14=0,0,IF(AL$2=\"Year\",IF(_xlfn.MAXIFS($N14:AK14,$N$2:AK$2,\"Year\")+$E14<=$E$1,AI14+$E14,0),IF(AL$2=\"Repair %\",IF(AI14>0,$C$3,0),IF(AL$2=\"Spares %\",IF(IF(AI14>0,$C14,0)*100>50%,50%,IF(AI14>0,$C14,0)*100),0))))","v":0},{"$f":"IF(AL14=0,0,IF(AM$2=\"Year\",IF(_xlfn.MAXIFS($N14:AL14,$N$2:AL$2,\"Year\")+$E14<=$E$1,AJ14+$E14,0),IF(AM$2=\"Repair %\",IF(AJ14>0,$C14,0),IF(AM$2=\"Spares %\",IF(IF(AJ14>0,$C14,0)*100>50%,50%,IF(AJ14>0,$C14,0)*100),0))))","v":0},{"$f":"IF(AM14=0,0,IF(AN$2=\"Year\",IF(_xlfn.MAXIFS($N14:AM14,$N$2:AM$2,\"Year\")+$E14<=$E$1,AK14+$E14,0),IF(AN$2=\"Repair %\",IF(AK14>0,$C14,0),IF(AN$2=\"Spares %\",IF(IF(AI14>0,$C14,0)*5>80%,50%,IF(AI14>0,$C14,0)*5),0))))","v":0},{"$f":"IF(AN14=0,0,IF(AO$2=\"Year\",IF(_xlfn.MAXIFS($N14:AN14,$N$2:AN$2,\"Year\")+$E14<=$E$1,AL14+$E14,0),IF(AO$2=\"Repair %\",IF(AL14>0,$C$3,0),IF(AO$2=\"Spares %\",IF(IF(AL14>0,$C14,0)*100>50%,50%,IF(AL14>0,$C14,0)*100),0))))","v":0},{"$f":"IF(AO14=0,0,IF(AP$2=\"Year\",IF(_xlfn.MAXIFS($N14:AO14,$N$2:AO$2,\"Year\")+$E14<=$E$1,AM14+$E14,0),IF(AP$2=\"Repair %\",IF(AM14>0,$C14,0),IF(AP$2=\"Spares %\",IF(IF(AM14>0,$C14,0)*100>50%,50%,IF(AM14>0,$C14,0)*100),0))))","v":0},{"$f":"IF(AP14=0,0,IF(AQ$2=\"Year\",IF(_xlfn.MAXIFS($N14:AP14,$N$2:AP$2,\"Year\")+$E14<=$E$1,AN14+$E14,0),IF(AQ$2=\"Repair %\",IF(AN14>0,$C14,0),IF(AQ$2=\"Spares %\",IF(IF(AL14>0,$C14,0)*5>80%,50%,IF(AL14>0,$C14,0)*5),0))))","v":0}]
[{"$f":"INDEX('Avionics ID'!A:E,MATCH(B15,'Avionics ID'!E:E,0),1)","v":770},"Air Traffic Services Unit ",0.2,0.06,5,"Technology / regulatory",{"$f":"SUBSTITUTE(ADDRESS(1,MATCH(A15,'Pt1-AvionicsComponentCosts'!$A$6:$NC$6,0)+1),\"$1\",\"\")","v":"$T"},{"$f":"_xlfn.TEXTJOIN(\", \",TRUE,_xlfn.UNIQUE(_xlfn._xlws.SORT(_xlfn._xlws.FILTER('Pt1-AvionicsComponentCosts'!$NF$12:$NF$384,ISNUMBER(INDIRECT(\"'Pt1-AvionicsComponentCosts'!\"&G15&\"$12:\"&G15&\"$384\"))))))","v":"A300, A320, A330, A340, A350, A380, B747, B767, B777, MD-11"},null,0.06,0.2,0.44800000000000001,1.298,{"$f":"COUNTIF($N$2:N$2,\"Year\")*$G$1","v":10},null,1,{"$f":"COUNTIF($N$2:Q$2,\"Year\")*$G$1","v":20},{"$f":"IF(Q15=0,0,IF(R$2=\"Year\",IF(_xlfn.MAXIFS($N15:Q15,$N$2:Q$2,\"Year\")+$E15<=$E$1,O15+$E15,0),IF(R$2=\"Repair %\",IF(O15>0,$C15,0),IF(R$2=\"Spares %\",IF(IF(O15>0,$C15,0)*100>50%,50%,IF(O15>0,$C15,0)*100),0))))","v":0},1,{"$f":"COUNTIF($N$2:T$2,\"Year\")*$G$1","v":30},{"$f":"IF(T15=0,0,IF(U$2=\"Year\",IF(_xlfn.MAXIFS($N15:T15,$N$2:T$2,\"Year\")+$E15<=$E$1,R15+$E15,0),IF(U$2=\"Repair %\",IF(R15>0,$C15,0),IF(U$2=\"Spares %\",IF(IF(R15>0,$C15,0)*100>50%,50%,IF(R15>0,$C15,0)*100),0))))","v":0},1,{"$f":"COUNTIF($N$2:W$2,\"Year\")*$G$1","v":40},{"$f":"IF(W15=0,0,IF(X$2=\"Year\",IF(_xlfn.MAXIFS($N15:W15,$N$2:W$2,\"Year\")+$E15<=$E$1,U15+$E15,0),IF(X$2=\"Repair %\",IF(U15>0,$C15,0),IF(X$2=\"Spares %\",IF(IF(U15>0,$C15,0)*100>50%,50%,IF(U15>0,$C15,0)*100),0))))","v":0},1,{"$f":"IF(Y15=0,0,IF(Z$2=\"Year\",IF(_xlfn.MAXIFS($N15:Y15,$N$2:Y$2,\"Year\")+$E15<=$E$1,W15+$E15,0),IF(Z$2=\"Repair %\",IF(W15>0,$C$3,0),IF(Z$2=\"Spares %\",IF(IF(W15>0,$C15,0)*100>50%,50%,IF(W15>0,$C15,0)*100),0))))","v":0},{"$f":"IF(Z15=0,0,IF(AA$2=\"Year\",IF(_xlfn.MAXIFS($N15:Z15,$N$2:Z$2,\"Year\")+$E15<=$E$1,X15+$E15,0),IF(AA$2=\"Repair %\",IF(X15>0,$C15,0),IF(AA$2=\"Spares %\",IF(IF(X15>0,$C15,0)*100>50%,50%,IF(X15>0,$C15,0)*100),0))))","v":0},{"$f":"IF(AA15=0,0,IF(AB$2=\"Year\",IF(_xlfn.MAXIFS($N15:AA15,$N$2:AA$2,\"Year\")+$E15<=$E$1,Y15+$E15,0),IF(AB$2=\"Repair %\",IF(Y15>0,$C15,0),IF(AB$2=\"Spares %\",IF(IF(W15>0,$C15,0)*5>80%,50%,IF(W15>0,$C15,0)*5),0))))","v":0},{"$f":"IF(AB15=0,0,IF(AC$2=\"Year\",IF(_xlfn.MAXIFS($N15:AB15,$N$2:AB$2,\"Year\")+$E15<=$E$1,Z15+$E15,0),IF(AC$2=\"Repair %\",IF(Z15>0,$C$3,0),IF(AC$2=\"Spares %\",IF(IF(Z15>0,$C15,0)*100>50%,50%,IF(Z15>0,$C15,0)*100),0))))","v":0},{"$f":"IF(AC15=0,0,IF(AD$2=\"Year\",IF(_xlfn.MAXIFS($N15:AC15,$N$2:AC$2,\"Year\")+$E15<=$E$1,AA15+$E15,0),IF(AD$2=\"Repair %\",IF(AA15>0,$C15,0),IF(AD$2=\"Spares %\",IF(IF(AA15>0,$C15,0)*100>50%,50%,IF(AA15>0,$C15,0)*100),0))))","v":0},{"$f":"IF(AD15=0,0,IF(AE$2=\"Year\",IF(_xlfn.MAXIFS($N15:AD15,$N$2:AD$2,\"Year\")+$E15<=$E$1,AB15+$E15,0),IF(AE$2=\"Repair %\",IF(AB15>0,$C15,0),IF(AE$2=\"Spares %\",IF(IF(Z15>0,$C15,0)*5>80%,50%,IF(Z15>0,$C15,0)*5),0))))","v":0},{"$f":"IF(AE15=0,0,IF(AF$2=\"Year\",IF(_xlfn.MAXIFS($N15:AE15,$N$2:AE$2,\"Year\")+$E15<=$E$1,AC15+$E15,0),IF(AF$2=\"Repair %\",IF(AC15>0,$C$3,0),IF(AF$2=\"Spares %\",IF(IF(AC15>0,$C15,0)*100>50%,50%,IF(AC15>0,$C15,0)*100),0))))","v":0},{"$f":"IF(AF15=0,0,IF(AG$2=\"Year\",IF(_xlfn.MAXIFS($N15:AF15,$N$2:AF$2,\"Year\")+$E15<=$E$1,AD15+$E15,0),IF(AG$2=\"Repair %\",IF(AD15>0,$C15,0),IF(AG$2=\"Spares %\",IF(IF(AD15>0,$C15,0)*100>50%,50%,IF(AD15>0,$C15,0)*100),0))))","v":0},{"$f":"IF(AG15=0,0,IF(AH$2=\"Year\",IF(_xlfn.MAXIFS($N15:AG15,$N$2:AG$2,\"Year\")+$E15<=$E$1,AE15+$E15,0),IF(AH$2=\"Repair %\",IF(AE15>0,$C15,0),IF(AH$2=\"Spares %\",IF(IF(AC15>0,$C15,0)*5>80%,50%,IF(AC15>0,$C15,0)*5),0))))","v":0},{"$f":"IF(AH15=0,0,IF(AI$2=\"Year\",IF(_xlfn.MAXIFS($N15:AH15,$N$2:AH$2,\"Year\")+$E15<=$E$1,AF15+$E15,0),IF(AI$2=\"Repair %\",IF(AF15>0,$C$3,0),IF(AI$2=\"Spares %\",IF(IF(AF15>0,$C15,0)*100>50%,50%,IF(AF15>0,$C15,0)*100),0))))","v":0},{"$f":"IF(AI15=0,0,IF(AJ$2=\"Year\",IF(_xlfn.MAXIFS($N15:AI15,$N$2:AI$2,\"Year\")+$E15<=$E$1,AG15+$E15,0),IF(AJ$2=\"Repair %\",IF(AG15>0,$C15,0),IF(AJ$2=\"Spares %\",IF(IF(AG15>0,$C15,0)*100>50%,50%,IF(AG15>0,$C15,0)*100),0))))","v":0},{"$f":"IF(AJ15=0,0,IF(AK$2=\"Year\",IF(_xlfn.MAXIFS($N15:AJ15,$N$2:AJ$2,\"Year\")+$E15<=$E$1,AH15+$E15,0),IF(AK$2=\"Repair %\",IF(AH15>0,$C15,0),IF(AK$2=\"Spares %\",IF(IF(AF15>0,$C15,0)*5>80%,50%,IF(AF15>0,$C15,0)*5),0))))","v":0},{"$f":"IF(AK15=0,0,IF(AL$2=\"Year\",IF(_xlfn.MAXIFS($N15:AK15,$N$2:AK$2,\"Year\")+$E15<=$E$1,AI15+$E15,0),IF(AL$2=\"Repair %\",IF(AI15>0,$C$3,0),IF(AL$2=\"Spares %\",IF(IF(AI15>0,$C15,0)*100>50%,50%,IF(AI15>0,$C15,0)*100),0))))","v":0},{"$f":"IF(AL15=0,0,IF(AM$2=\"Year\",IF(_xlfn.MAXIFS($N15:AL15,$N$2:AL$2,\"Year\")+$E15<=$E$1,AJ15+$E15,0),IF(AM$2=\"Repair %\",IF(AJ15>0,$C15,0),IF(AM$2=\"Spares %\",IF(IF(AJ15>0,$C15,0)*100>50%,50%,IF(AJ15>0,$C15,0)*100),0))))","v":0},{"$f":"IF(AM15=0,0,IF(AN$2=\"Year\",IF(_xlfn.MAXIFS($N15:AM15,$N$2:AM$2,\"Year\")+$E15<=$E$1,AK15+$E15,0),IF(AN$2=\"Repair %\",IF(AK15>0,$C15,0),IF(AN$2=\"Spares %\",IF(IF(AI15>0,$C15,0)*5>80%,50%,IF(AI15>0,$C15,0)*5),0))))","v":0},{"$f":"IF(AN15=0,0,IF(AO$2=\"Year\",IF(_xlfn.MAXIFS($N15:AN15,$N$2:AN$2,\"Year\")+$E15<=$E$1,AL15+$E15,0),IF(AO$2=\"Repair %\",IF(AL15>0,$C$3,0),IF(AO$2=\"Spares %\",IF(IF(AL15>0,$C15,0)*100>50%,50%,IF(AL15>0,$C15,0)*100),0))))","v":0},{"$f":"IF(AO15=0,0,IF(AP$2=\"Year\",IF(_xlfn.MAXIFS($N15:AO15,$N$2:AO$2,\"Year\")+$E15<=$E$1,AM15+$E15,0),IF(AP$2=\"Repair %\",IF(AM15>0,$C15,0),IF(AP$2=\"Spares %\",IF(IF(AM15>0,$C15,0)*100>50%,50%,IF(AM15>0,$C15,0)*100),0))))","v":0},{"$f":"IF(AP15=0,0,IF(AQ$2=\"Year\",IF(_xlfn.MAXIFS($N15:AP15,$N$2:AP$2,\"Year\")+$E15<=$E$1,AN15+$E15,0),IF(AQ$2=\"Repair %\",IF(AN15>0,$C15,0),IF(AQ$2=\"Spares %\",IF(IF(AL15>0,$C15,0)*5>80%,50%,IF(AL15>0,$C15,0)*5),0))))","v":0}]
[{"$f":"INDEX('Avionics ID'!A:E,MATCH(B16,'Avionics ID'!E:E,0),1)","v":758},"Air Traffic Services Unit (ATSU)",0.2,0.06,5,"Technology / regulatory",{"$f":"SUBSTITUTE(ADDRESS(1,MATCH(A16,'Pt1-AvionicsComponentCosts'!$A$6:$NC$6,0)+1),\"$1\",\"\")","v":"$CF"},{"$f":"_xlfn.TEXTJOIN(\", \",TRUE,_xlfn.UNIQUE(_xlfn._xlws.SORT(_xlfn._xlws.FILTER('Pt1-AvionicsComponentCosts'!$NF$12:$NF$384,ISNUMBER(INDIRECT(\"'Pt1-AvionicsComponentCosts'!\"&G16&\"$12:\"&G16&\"$384\"))))))","v":"A220, A320, A321, ATR, B717, B737, B757, C919, EMB Regional, MC-21, Mil Transport, Military Jet, NSA"},null,0.06,0.2,0.44800000000000001,1.298,{"$f":"COUNTIF($N$2:N$2,\"Year\")*$G$1","v":10},null,1,{"$f":"COUNTIF($N$2:Q$2,\"Year\")*$G$1","v":20},{"$f":"IF(Q16=0,0,IF(R$2=\"Year\",IF(_xlfn.MAXIFS($N16:Q16,$N$2:Q$2,\"Year\")+$E16<=$E$1,O16+$E16,0),IF(R$2=\"Repair %\",IF(O16>0,$C16,0),IF(R$2=\"Spares %\",IF(IF(O16>0,$C16,0)*100>50%,50%,IF(O16>0,$C16,0)*100),0))))","v":0},1,{"$f":"COUNTIF($N$2:T$2,\"Year\")*$G$1","v":30},{"$f":"IF(T16=0,0,IF(U$2=\"Year\",IF(_xlfn.MAXIFS($N16:T16,$N$2:T$2,\"Year\")+$E16<=$E$1,R16+$E16,0),IF(U$2=\"Repair %\",IF(R16>0,$C16,0),IF(U$2=\"Spares %\",IF(IF(R16>0,$C16,0)*100>50%,50%,IF(R16>0,$C16,0)*100),0))))","v":0},1,{"$f":"COUNTIF($N$2:W$2,\"Year\")*$G$1","v":40},{"$f":"IF(W16=0,0,IF(X$2=\"Year\",IF(_xlfn.MAXIFS($N16:W16,$N$2:W$2,\"Year\")+$E16<=$E$1,U16+$E16,0),IF(X$2=\"Repair %\",IF(U16>0,$C16,0),IF(X$2=\"Spares %\",IF(IF(U16>0,$C16,0)*100>50%,50%,IF(U16>0,$C16,0)*100),0))))","v":0},1,{"$f":"IF(Y16=0,0,IF(Z$2=\"Year\",IF(_xlfn.MAXIFS($N16:Y16,$N$2:Y$2,\"Year\")+$E16<=$E$1,W16+$E16,0),IF(Z$2=\"Repair %\",IF(W16>0,$C$3,0),IF(Z$2=\"Spares %\",IF(IF(W16>0,$C16,0)*100>50%,50%,IF(W16>0,$C16,0)*100),0))))","v":0},{"$f":"IF(Z16=0,0,IF(AA$2=\"Year\",IF(_xlfn.MAXIFS($N16:Z16,$N$2:Z$2,\"Year\")+$E16<=$E$1,X16+$E16,0),IF(AA$2=\"Repair %\",IF(X16>0,$C16,0),IF(AA$2=\"Spares %\",IF(IF(X16>0,$C16,0)*100>50%,50%,IF(X16>0,$C16,0)*100),0))))","v":0},{"$f":"IF(AA16=0,0,IF(AB$2=\"Year\",IF(_xlfn.MAXIFS($N16:AA16,$N$2:AA$2,\"Year\")+$E16<=$E$1,Y16+$E16,0),IF(AB$2=\"Repair %\",IF(Y16>0,$C16,0),IF(AB$2=\"Spares %\",IF(IF(W16>0,$C16,0)*5>80%,50%,IF(W16>0,$C16,0)*5),0))))","v":0},{"$f":"IF(AB16=0,0,IF(AC$2=\"Year\",IF(_xlfn.MAXIFS($N16:AB16,$N$2:AB$2,\"Year\")+$E16<=$E$1,Z16+$E16,0),IF(AC$2=\"Repair %\",IF(Z16>0,$C$3,0),IF(AC$2=\"Spares %\",IF(IF(Z16>0,$C16,0)*100>50%,50%,IF(Z16>0,$C16,0)*100),0))))","v":0},{"$f":"IF(AC16=0,0,IF(AD$2=\"Year\",IF(_xlfn.MAXIFS($N16:AC16,$N$2:AC$2,\"Year\")+$E16<=$E$1,AA16+$E16,0),IF(AD$2=\"Repair %\",IF(AA16>0,$C16,0),IF(AD$2=\"Spares %\",IF(IF(AA16>0,$C16,0)*100>50%,50%,IF(AA16>0,$C16,0)*100),0))))","v":0},{"$f":"IF(AD16=0,0,IF(AE$2=\"Year\",IF(_xlfn.MAXIFS($N16:AD16,$N$2:AD$2,\"Year\")+$E16<=$E$1,AB16+$E16,0),IF(AE$2=\"Repair %\",IF(AB16>0,$C16,0),IF(AE$2=\"Spares %\",IF(IF(Z16>0,$C16,0)*5>80%,50%,IF(Z16>0,$C16,0)*5),0))))","v":0},{"$f":"IF(AE16=0,0,IF(AF$2=\"Year\",IF(_xlfn.MAXIFS($N16:AE16,$N$2:AE$2,\"Year\")+$E16<=$E$1,AC16+$E16,0),IF(AF$2=\"Repair %\",IF(AC16>0,$C$3,0),IF(AF$2=\"Spares %\",IF(IF(AC16>0,$C16,0)*100>50%,50%,IF(AC16>0,$C16,0)*100),0))))","v":0},{"$f":"IF(AF16=0,0,IF(AG$2=\"Year\",IF(_xlfn.MAXIFS($N16:AF16,$N$2:AF$2,\"Year\")+$E16<=$E$1,AD16+$E16,0),IF(AG$2=\"Repair %\",IF(AD16>0,$C16,0),IF(AG$2=\"Spares %\",IF(IF(AD16>0,$C16,0)*100>50%,50%,IF(AD16>0,$C16,0)*100),0))))","v":0},{"$f":"IF(AG16=0,0,IF(AH$2=\"Year\",IF(_xlfn.MAXIFS($N16:AG16,$N$2:AG$2,\"Year\")+$E16<=$E$1,AE16+$E16,0),IF(AH$2=\"Repair %\",IF(AE16>0,$C16,0),IF(AH$2=\"Spares %\",IF(IF(AC16>0,$C16,0)*5>80%,50%,IF(AC16>0,$C16,0)*5),0))))","v":0},{"$f":"IF(AH16=0,0,IF(AI$2=\"Year\",IF(_xlfn.MAXIFS($N16:AH16,$N$2:AH$2,\"Year\")+$E16<=$E$1,AF16+$E16,0),IF(AI$2=\"Repair %\",IF(AF16>0,$C$3,0),IF(AI$2=\"Spares %\",IF(IF(AF16>0,$C16,0)*100>50%,50%,IF(AF16>0,$C16,0)*100),0))))","v":0},{"$f":"IF(AI16=0,0,IF(AJ$2=\"Year\",IF(_xlfn.MAXIFS($N16:AI16,$N$2:AI$2,\"Year\")+$E16<=$E$1,AG16+$E16,0),IF(AJ$2=\"Repair %\",IF(AG16>0,$C16,0),IF(AJ$2=\"Spares %\",IF(IF(AG16>0,$C16,0)*100>50%,50%,IF(AG16>0,$C16,0)*100),0))))","v":0},{"$f":"IF(AJ16=0,0,IF(AK$2=\"Year\",IF(_xlfn.MAXIFS($N16:AJ16,$N$2:AJ$2,\"Year\")+$E16<=$E$1,AH16+$E16,0),IF(AK$2=\"Repair %\",IF(AH16>0,$C16,0),IF(AK$2=\"Spares %\",IF(IF(AF16>0,$C16,0)*5>80%,50%,IF(AF16>0,$C16,0)*5),0))))","v":0},{"$f":"IF(AK16=0,0,IF(AL$2=\"Year\",IF(_xlfn.MAXIFS($N16:AK16,$N$2:AK$2,\"Year\")+$E16<=$E$1,AI16+$E16,0),IF(AL$2=\"Repair %\",IF(AI16>0,$C$3,0),IF(AL$2=\"Spares %\",IF(IF(AI16>0,$C16,0)*100>50%,50%,IF(AI16>0,$C16,0)*100),0))))","v":0},{"$f":"IF(AL16=0,0,IF(AM$2=\"Year\",IF(_xlfn.MAXIFS($N16:AL16,$N$2:AL$2,\"Year\")+$E16<=$E$1,AJ16+$E16,0),IF(AM$2=\"Repair %\",IF(AJ16>0,$C16,0),IF(AM$2=\"Spares %\",IF(IF(AJ16>0,$C16,0)*100>50%,50%,IF(AJ16>0,$C16,0)*100),0))))","v":0},{"$f":"IF(AM16=0,0,IF(AN$2=\"Year\",IF(_xlfn.MAXIFS($N16:AM16,$N$2:AM$2,\"Year\")+$E16<=$E$1,AK16+$E16,0),IF(AN$2=\"Repair %\",IF(AK16>0,$C16,0),IF(AN$2=\"Spares %\",IF(IF(AI16>0,$C16,0)*5>80%,50%,IF(AI16>0,$C16,0)*5),0))))","v":0},{"$f":"IF(AN16=0,0,IF(AO$2=\"Year\",IF(_xlfn.MAXIFS($N16:AN16,$N$2:AN$2,\"Year\")+$E16<=$E$1,AL16+$E16,0),IF(AO$2=\"Repair %\",IF(AL16>0,$C$3,0),IF(AO$2=\"Spares %\",IF(IF(AL16>0,$C16,0)*100>50%,50%,IF(AL16>0,$C16,0)*100),0))))","v":0},{"$f":"IF(AO16=0,0,IF(AP$2=\"Year\",IF(_xlfn.MAXIFS($N16:AO16,$N$2:AO$2,\"Year\")+$E16<=$E$1,AM16+$E16,0),IF(AP$2=\"Repair %\",IF(AM16>0,$C16,0),IF(AP$2=\"Spares %\",IF(IF(AM16>0,$C16,0)*100>50%,50%,IF(AM16>0,$C16,0)*100),0))))","v":0},{"$f":"IF(AP16=0,0,IF(AQ$2=\"Year\",IF(_xlfn.MAXIFS($N16:AP16,$N$2:AP$2,\"Year\")+$E16<=$E$1,AN16+$E16,0),IF(AQ$2=\"Repair %\",IF(AN16>0,$C16,0),IF(AQ$2=\"Spares %\",IF(IF(AL16>0,$C16,0)*5>80%,50%,IF(AL16>0,$C16,0)*5),0))))","v":0}]
[{"$f":"INDEX('Avionics ID'!A:E,MATCH(B17,'Avionics ID'!E:E,0),1)","v":868},"Airborne Systems Intelligence Payload sensor",0.05,0.06,20,"Obsolecence",{"$f":"SUBSTITUTE(ADDRESS(1,MATCH(A17,'Pt1-AvionicsComponentCosts'!$A$6:$NC$6,0)+1),\"$1\",\"\")","v":"$KR"},{"$f":"_xlfn.TEXTJOIN(\", \",TRUE,_xlfn.UNIQUE(_xlfn._xlws.SORT(_xlfn._xlws.FILTER('Pt1-AvionicsComponentCosts'!$NF$12:$NF$384,ISNUMBER(INDIRECT(\"'Pt1-AvionicsComponentCosts'!\"&G17&\"$12:\"&G17&\"$384\"))))))","v":"UAV"},null,0.06,0.05,0.44800000000000001,1.298,{"$f":"COUNTIF($N$2:N$2,\"Year\")*$G$1","v":10},null,0,{"$f":"COUNTIF($N$2:Q$2,\"Year\")*$G$1","v":20},{"$f":"IF(Q17=0,0,IF(R$2=\"Year\",IF(_xlfn.MAXIFS($N17:Q17,$N$2:Q$2,\"Year\")+$E17<=$E$1,O17+$E17,0),IF(R$2=\"Repair %\",IF(O17>0,$C17,0),IF(R$2=\"Spares %\",IF(IF(O17>0,$C17,0)*100>50%,50%,IF(O17>0,$C17,0)*100),0))))","v":0},1,{"$f":"COUNTIF($N$2:T$2,\"Year\")*$G$1","v":30},{"$f":"IF(T17=0,0,IF(U$2=\"Year\",IF(_xlfn.MAXIFS($N17:T17,$N$2:T$2,\"Year\")+$E17<=$E$1,R17+$E17,0),IF(U$2=\"Repair %\",IF(R17>0,$C17,0),IF(U$2=\"Spares %\",IF(IF(R17>0,$C17,0)*100>50%,50%,IF(R17>0,$C17,0)*100),0))))","v":0},0,{"$f":"COUNTIF($N$2:W$2,\"Year\")*$G$1","v":40},{"$f":"IF(W17=0,0,IF(X$2=\"Year\",IF(_xlfn.MAXIFS($N17:W17,$N$2:W$2,\"Year\")+$E17<=$E$1,U17+$E17,0),IF(X$2=\"Repair %\",IF(U17>0,$C17,0),IF(X$2=\"Spares %\",IF(IF(U17>0,$C17,0)*100>50%,50%,IF(U17>0,$C17,0)*100),0))))","v":0},1,{"$f":"IF(Y17=0,0,IF(Z$2=\"Year\",IF(_xlfn.MAXIFS($N17:Y17,$N$2:Y$2,\"Year\")+$E17<=$E$1,W17+$E17,0),IF(Z$2=\"Repair %\",IF(W17>0,$C$3,0),IF(Z$2=\"Spares %\",IF(IF(W17>0,$C17,0)*100>50%,50%,IF(W17>0,$C17,0)*100),0))))","v":0},{"$f":"IF(Z17=0,0,IF(AA$2=\"Year\",IF(_xlfn.MAXIFS($N17:Z17,$N$2:Z$2,\"Year\")+$E17<=$E$1,X17+$E17,0),IF(AA$2=\"Repair %\",IF(X17>0,$C17,0),IF(AA$2=\"Spares %\",IF(IF(X17>0,$C17,0)*100>50%,50%,IF(X17>0,$C17,0)*100),0))))","v":0},{"$f":"IF(AA17=0,0,IF(AB$2=\"Year\",IF(_xlfn.MAXIFS($N17:AA17,$N$2:AA$2,\"Year\")+$E17<=$E$1,Y17+$E17,0),IF(AB$2=\"Repair %\",IF(Y17>0,$C17,0),IF(AB$2=\"Spares %\",IF(IF(W17>0,$C17,0)*5>80%,50%,IF(W17>0,$C17,0)*5),0))))","v":0},{"$f":"IF(AB17=0,0,IF(AC$2=\"Year\",IF(_xlfn.MAXIFS($N17:AB17,$N$2:AB$2,\"Year\")+$E17<=$E$1,Z17+$E17,0),IF(AC$2=\"Repair %\",IF(Z17>0,$C$3,0),IF(AC$2=\"Spares %\",IF(IF(Z17>0,$C17,0)*100>50%,50%,IF(Z17>0,$C17,0)*100),0))))","v":0},{"$f":"IF(AC17=0,0,IF(AD$2=\"Year\",IF(_xlfn.MAXIFS($N17:AC17,$N$2:AC$2,\"Year\")+$E17<=$E$1,AA17+$E17,0),IF(AD$2=\"Repair %\",IF(AA17>0,$C17,0),IF(AD$2=\"Spares %\",IF(IF(AA17>0,$C17,0)*100>50%,50%,IF(AA17>0,$C17,0)*100),0))))","v":0},{"$f":"IF(AD17=0,0,IF(AE$2=\"Year\",IF(_xlfn.MAXIFS($N17:AD17,$N$2:AD$2,\"Year\")+$E17<=$E$1,AB17+$E17,0),IF(AE$2=\"Repair %\",IF(AB17>0,$C17,0),IF(AE$2=\"Spares %\",IF(IF(Z17>0,$C17,0)*5>80%,50%,IF(Z17>0,$C17,0)*5),0))))","v":0},{"$f":"IF(AE17=0,0,IF(AF$2=\"Year\",IF(_xlfn.MAXIFS($N17:AE17,$N$2:AE$2,\"Year\")+$E17<=$E$1,AC17+$E17,0),IF(AF$2=\"Repair %\",IF(AC17>0,$C$3,0),IF(AF$2=\"Spares %\",IF(IF(AC17>0,$C17,0)*100>50%,50%,IF(AC17>0,$C17,0)*100),0))))","v":0},{"$f":"IF(AF17=0,0,IF(AG$2=\"Year\",IF(_xlfn.MAXIFS($N17:AF17,$N$2:AF$2,\"Year\")+$E17<=$E$1,AD17+$E17,0),IF(AG$2=\"Repair %\",IF(AD17>0,$C17,0),IF(AG$2=\"Spares %\",IF(IF(AD17>0,$C17,0)*100>50%,50%,IF(AD17>0,$C17,0)*100),0))))","v":0},{"$f":"IF(AG17=0,0,IF(AH$2=\"Year\",IF(_xlfn.MAXIFS($N17:AG17,$N$2:AG$2,\"Year\")+$E17<=$E$1,AE17+$E17,0),IF(AH$2=\"Repair %\",IF(AE17>0,$C17,0),IF(AH$2=\"Spares %\",IF(IF(AC17>0,$C17,0)*5>80%,50%,IF(AC17>0,$C17,0)*5),0))))","v":0},{"$f":"IF(AH17=0,0,IF(AI$2=\"Year\",IF(_xlfn.MAXIFS($N17:AH17,$N$2:AH$2,\"Year\")+$E17<=$E$1,AF17+$E17,0),IF(AI$2=\"Repair %\",IF(AF17>0,$C$3,0),IF(AI$2=\"Spares %\",IF(IF(AF17>0,$C17,0)*100>50%,50%,IF(AF17>0,$C17,0)*100),0))))","v":0},{"$f":"IF(AI17=0,0,IF(AJ$2=\"Year\",IF(_xlfn.MAXIFS($N17:AI17,$N$2:AI$2,\"Year\")+$E17<=$E$1,AG17+$E17,0),IF(AJ$2=\"Repair %\",IF(AG17>0,$C17,0),IF(AJ$2=\"Spares %\",IF(IF(AG17>0,$C17,0)*100>50%,50%,IF(AG17>0,$C17,0)*100),0))))","v":0},{"$f":"IF(AJ17=0,0,IF(AK$2=\"Year\",IF(_xlfn.MAXIFS($N17:AJ17,$N$2:AJ$2,\"Year\")+$E17<=$E$1,AH17+$E17,0),IF(AK$2=\"Repair %\",IF(AH17>0,$C17,0),IF(AK$2=\"Spares %\",IF(IF(AF17>0,$C17,0)*5>80%,50%,IF(AF17>0,$C17,0)*5),0))))","v":0},{"$f":"IF(AK17=0,0,IF(AL$2=\"Year\",IF(_xlfn.MAXIFS($N17:AK17,$N$2:AK$2,\"Year\")+$E17<=$E$1,AI17+$E17,0),IF(AL$2=\"Repair %\",IF(AI17>0,$C$3,0),IF(AL$2=\"Spares %\",IF(IF(AI17>0,$C17,0)*100>50%,50%,IF(AI17>0,$C17,0)*100),0))))","v":0},{"$f":"IF(AL17=0,0,IF(AM$2=\"Year\",IF(_xlfn.MAXIFS($N17:AL17,$N$2:AL$2,\"Year\")+$E17<=$E$1,AJ17+$E17,0),IF(AM$2=\"Repair %\",IF(AJ17>0,$C17,0),IF(AM$2=\"Spares %\",IF(IF(AJ17>0,$C17,0)*100>50%,50%,IF(AJ17>0,$C17,0)*100),0))))","v":0},{"$f":"IF(AM17=0,0,IF(AN$2=\"Year\",IF(_xlfn.MAXIFS($N17:AM17,$N$2:AM$2,\"Year\")+$E17<=$E$1,AK17+$E17,0),IF(AN$2=\"Repair %\",IF(AK17>0,$C17,0),IF(AN$2=\"Spares %\",IF(IF(AI17>0,$C17,0)*5>80%,50%,IF(AI17>0,$C17,0)*5),0))))","v":0},{"$f":"IF(AN17=0,0,IF(AO$2=\"Year\",IF(_xlfn.MAXIFS($N17:AN17,$N$2:AN$2,\"Year\")+$E17<=$E$1,AL17+$E17,0),IF(AO$2=\"Repair %\",IF(AL17>0,$C$3,0),IF(AO$2=\"Spares %\",IF(IF(AL17>0,$C17,0)*100>50%,50%,IF(AL17>0,$C17,0)*100),0))))","v":0},{"$f":"IF(AO17=0,0,IF(AP$2=\"Year\",IF(_xlfn.MAXIFS($N17:AO17,$N$2:AO$2,\"Year\")+$E17<=$E$1,AM17+$E17,0),IF(AP$2=\"Repair %\",IF(AM17>0,$C17,0),IF(AP$2=\"Spares %\",IF(IF(AM17>0,$C17,0)*100>50%,50%,IF(AM17>0,$C17,0)*100),0))))","v":0},{"$f":"IF(AP17=0,0,IF(AQ$2=\"Year\",IF(_xlfn.MAXIFS($N17:AP17,$N$2:AP$2,\"Year\")+$E17<=$E$1,AN17+$E17,0),IF(AQ$2=\"Repair %\",IF(AN17>0,$C17,0),IF(AQ$2=\"Spares %\",IF(IF(AL17>0,$C17,0)*5>80%,50%,IF(AL17>0,$C17,0)*5),0))))","v":0}]
[{"$f":"INDEX('Avionics ID'!A:E,MATCH(B18,'Avionics ID'!E:E,0),1)","v":882},"Aircraft avionics management unit",0.2,0.06,5,"Technology / regulatory",{"$f":"SUBSTITUTE(ADDRESS(1,MATCH(A18,'Pt1-AvionicsComponentCosts'!$A$6:$NC$6,0)+1),\"$1\",\"\")","v":"$HF"},{"$f":"_xlfn.TEXTJOIN(\", \",TRUE,_xlfn.UNIQUE(_xlfn._xlws.SORT(_xlfn._xlws.FILTER('Pt1-AvionicsComponentCosts'!$NF$12:$NF$384,ISNUMBER(INDIRECT(\"'Pt1-AvionicsComponentCosts'!\"&G18&\"$12:\"&G18&\"$384\"))))))","v":"A300, A320, A330, A330 LMXT, A330 MRTT, A340, A350, A380, B747, B767, B777, B787, MD-11, Mil Transport, Military Jet, Military TP"},null,0.06,0.2,0.44800000000000001,1.298,{"$f":"COUNTIF($N$2:N$2,\"Year\")*$G$1","v":10},null,1,{"$f":"COUNTIF($N$2:Q$2,\"Year\")*$G$1","v":20},{"$f":"IF(Q18=0,0,IF(R$2=\"Year\",IF(_xlfn.MAXIFS($N18:Q18,$N$2:Q$2,\"Year\")+$E18<=$E$1,O18+$E18,0),IF(R$2=\"Repair %\",IF(O18>0,$C18,0),IF(R$2=\"Spares %\",IF(IF(O18>0,$C18,0)*100>50%,50%,IF(O18>0,$C18,0)*100),0))))","v":0},1,{"$f":"COUNTIF($N$2:T$2,\"Year\")*$G$1","v":30},{"$f":"IF(T18=0,0,IF(U$2=\"Year\",IF(_xlfn.MAXIFS($N18:T18,$N$2:T$2,\"Year\")+$E18<=$E$1,R18+$E18,0),IF(U$2=\"Repair %\",IF(R18>0,$C18,0),IF(U$2=\"Spares %\",IF(IF(R18>0,$C18,0)*100>50%,50%,IF(R18>0,$C18,0)*100),0))))","v":0},1,{"$f":"COUNTIF($N$2:W$2,\"Year\")*$G$1","v":40},{"$f":"IF(W18=0,0,IF(X$2=\"Year\",IF(_xlfn.MAXIFS($N18:W18,$N$2:W$2,\"Year\")+$E18<=$E$1,U18+$E18,0),IF(X$2=\"Repair %\",IF(U18>0,$C18,0),IF(X$2=\"Spares %\",IF(IF(U18>0,$C18,0)*100>50%,50%,IF(U18>0,$C18,0)*100),0))))","v":0},1,{"$f":"IF(Y18=0,0,IF(Z$2=\"Year\",IF(_xlfn.MAXIFS($N18:Y18,$N$2:Y$2,\"Year\")+$E18<=$E$1,W18+$E18,0),IF(Z$2=\"Repair %\",IF(W18>0,$C$3,0),IF(Z$2=\"Spares %\",IF(IF(W18>0,$C18,0)*100>50%,50%,IF(W18>0,$C18,0)*100),0))))","v":0},{"$f":"IF(Z18=0,0,IF(AA$2=\"Year\",IF(_xlfn.MAXIFS($N18:Z18,$N$2:Z$2,\"Year\")+$E18<=$E$1,X18+$E18,0),IF(AA$2=\"Repair %\",IF(X18>0,$C18,0),IF(AA$2=\"Spares %\",IF(IF(X18>0,$C18,0)*100>50%,50%,IF(X18>0,$C18,0)*100),0))))","v":0},{"$f":"IF(AA18=0,0,IF(AB$2=\"Year\",IF(_xlfn.MAXIFS($N18:AA18,$N$2:AA$2,\"Year\")+$E18<=$E$1,Y18+$E18,0),IF(AB$2=\"Repair %\",IF(Y18>0,$C18,0),IF(AB$2=\"Spares %\",IF(IF(W18>0,$C18,0)*5>80%,50%,IF(W18>0,$C18,0)*5),0))))","v":0},{"$f":"IF(AB18=0,0,IF(AC$2=\"Year\",IF(_xlfn.MAXIFS($N18:AB18,$N$2:AB$2,\"Year\")+$E18<=$E$1,Z18+$E18,0),IF(AC$2=\"Repair %\",IF(Z18>0,$C$3,0),IF(AC$2=\"Spares %\",IF(IF(Z18>0,$C18,0)*100>50%,50%,IF(Z18>0,$C18,0)*100),0))))","v":0},{"$f":"IF(AC18=0,0,IF(AD$2=\"Year\",IF(_xlfn.MAXIFS($N18:AC18,$N$2:AC$2,\"Year\")+$E18<=$E$1,AA18+$E18,0),IF(AD$2=\"Repair %\",IF(AA18>0,$C18,0),IF(AD$2=\"Spares %\",IF(IF(AA18>0,$C18,0)*100>50%,50%,IF(AA18>0,$C18,0)*100),0))))","v":0},{"$f":"IF(AD18=0,0,IF(AE$2=\"Year\",IF(_xlfn.MAXIFS($N18:AD18,$N$2:AD$2,\"Year\")+$E18<=$E$1,AB18+$E18,0),IF(AE$2=\"Repair %\",IF(AB18>0,$C18,0),IF(AE$2=\"Spares %\",IF(IF(Z18>0,$C18,0)*5>80%,50%,IF(Z18>0,$C18,0)*5),0))))","v":0},{"$f":"IF(AE18=0,0,IF(AF$2=\"Year\",IF(_xlfn.MAXIFS($N18:AE18,$N$2:AE$2,\"Year\")+$E18<=$E$1,AC18+$E18,0),IF(AF$2=\"Repair %\",IF(AC18>0,$C$3,0),IF(AF$2=\"Spares %\",IF(IF(AC18>0,$C18,0)*100>50%,50%,IF(AC18>0,$C18,0)*100),0))))","v":0},{"$f":"IF(AF18=0,0,IF(AG$2=\"Year\",IF(_xlfn.MAXIFS($N18:AF18,$N$2:AF$2,\"Year\")+$E18<=$E$1,AD18+$E18,0),IF(AG$2=\"Repair %\",IF(AD18>0,$C18,0),IF(AG$2=\"Spares %\",IF(IF(AD18>0,$C18,0)*100>50%,50%,IF(AD18>0,$C18,0)*100),0))))","v":0},{"$f":"IF(AG18=0,0,IF(AH$2=\"Year\",IF(_xlfn.MAXIFS($N18:AG18,$N$2:AG$2,\"Year\")+$E18<=$E$1,AE18+$E18,0),IF(AH$2=\"Repair %\",IF(AE18>0,$C18,0),IF(AH$2=\"Spares %\",IF(IF(AC18>0,$C18,0)*5>80%,50%,IF(AC18>0,$C18,0)*5),0))))","v":0},{"$f":"IF(AH18=0,0,IF(AI$2=\"Year\",IF(_xlfn.MAXIFS($N18:AH18,$N$2:AH$2,\"Year\")+$E18<=$E$1,AF18+$E18,0),IF(AI$2=\"Repair %\",IF(AF18>0,$C$3,0),IF(AI$2=\"Spares %\",IF(IF(AF18>0,$C18,0)*100>50%,50%,IF(AF18>0,$C18,0)*100),0))))","v":0},{"$f":"IF(AI18=0,0,IF(AJ$2=\"Year\",IF(_xlfn.MAXIFS($N18:AI18,$N$2:AI$2,\"Year\")+$E18<=$E$1,AG18+$E18,0),IF(AJ$2=\"Repair %\",IF(AG18>0,$C18,0),IF(AJ$2=\"Spares %\",IF(IF(AG18>0,$C18,0)*100>50%,50%,IF(AG18>0,$C18,0)*100),0))))","v":0},{"$f":"IF(AJ18=0,0,IF(AK$2=\"Year\",IF(_xlfn.MAXIFS($N18:AJ18,$N$2:AJ$2,\"Year\")+$E18<=$E$1,AH18+$E18,0),IF(AK$2=\"Repair %\",IF(AH18>0,$C18,0),IF(AK$2=\"Spares %\",IF(IF(AF18>0,$C18,0)*5>80%,50%,IF(AF18>0,$C18,0)*5),0))))","v":0},{"$f":"IF(AK18=0,0,IF(AL$2=\"Year\",IF(_xlfn.MAXIFS($N18:AK18,$N$2:AK$2,\"Year\")+$E18<=$E$1,AI18+$E18,0),IF(AL$2=\"Repair %\",IF(AI18>0,$C$3,0),IF(AL$2=\"Spares %\",IF(IF(AI18>0,$C18,0)*100>50%,50%,IF(AI18>0,$C18,0)*100),0))))","v":0},{"$f":"IF(AL18=0,0,IF(AM$2=\"Year\",IF(_xlfn.MAXIFS($N18:AL18,$N$2:AL$2,\"Year\")+$E18<=$E$1,AJ18+$E18,0),IF(AM$2=\"Repair %\",IF(AJ18>0,$C18,0),IF(AM$2=\"Spares %\",IF(IF(AJ18>0,$C18,0)*100>50%,50%,IF(AJ18>0,$C18,0)*100),0))))","v":0},{"$f":"IF(AM18=0,0,IF(AN$2=\"Year\",IF(_xlfn.MAXIFS($N18:AM18,$N$2:AM$2,\"Year\")+$E18<=$E$1,AK18+$E18,0),IF(AN$2=\"Repair %\",IF(AK18>0,$C18,0),IF(AN$2=\"Spares %\",IF(IF(AI18>0,$C18,0)*5>80%,50%,IF(AI18>0,$C18,0)*5),0))))","v":0},{"$f":"IF(AN18=0,0,IF(AO$2=\"Year\",IF(_xlfn.MAXIFS($N18:AN18,$N$2:AN$2,\"Year\")+$E18<=$E$1,AL18+$E18,0),IF(AO$2=\"Repair %\",IF(AL18>0,$C$3,0),IF(AO$2=\"Spares %\",IF(IF(AL18>0,$C18,0)*100>50%,50%,IF(AL18>0,$C18,0)*100),0))))","v":0},{"$f":"IF(AO18=0,0,IF(AP$2=\"Year\",IF(_xlfn.MAXIFS($N18:AO18,$N$2:AO$2,\"Year\")+$E18<=$E$1,AM18+$E18,0),IF(AP$2=\"Repair %\",IF(AM18>0,$C18,0),IF(AP$2=\"Spares %\",IF(IF(AM18>0,$C18,0)*100>50%,50%,IF(AM18>0,$C18,0)*100),0))))","v":0},{"$f":"IF(AP18=0,0,IF(AQ$2=\"Year\",IF(_xlfn.MAXIFS($N18:AP18,$N$2:AP$2,\"Year\")+$E18<=$E$1,AN18+$E18,0),IF(AQ$2=\"Repair %\",IF(AN18>0,$C18,0),IF(AQ$2=\"Spares %\",IF(IF(AL18>0,$C18,0)*5>80%,50%,IF(AL18>0,$C18,0)*5),0))))","v":0}]
[{"$f":"INDEX('Avionics ID'!A:E,MATCH(B19,'Avionics ID'!E:E,0),1)","v":839},"Aircraft Environment Surveillance System (AESS)",0,0.06,null,"",{"$f":"SUBSTITUTE(ADDRESS(1,MATCH(A19,'Pt1-AvionicsComponentCosts'!$A$6:$NC$6,0)+1),\"$1\",\"\")","v":"$LZ"},{"$f":"_xlfn.TEXTJOIN(\", \",TRUE,_xlfn.UNIQUE(_xlfn._xlws.SORT(_xlfn._xlws.FILTER('Pt1-AvionicsComponentCosts'!$NF$12:$NF$384,ISNUMBER(INDIRECT(\"'Pt1-AvionicsComponentCosts'!\"&G19&\"$12:\"&G19&\"$384\"))))))","v":"A330 LMXT, A330 MRTT, Mil Transport, Military Jet, Military TP"},null,0.06,0,0.44800000000000001,1.298,{"$f":"COUNTIF($N$2:N$2,\"Year\")*$G$1","v":10},null,0,{"$f":"COUNTIF($N$2:Q$2,\"Year\")*$G$1","v":20},{"$f":"IF(Q19=0,0,IF(R$2=\"Year\",IF(_xlfn.MAXIFS($N19:Q19,$N$2:Q$2,\"Year\")+$E19<=$E$1,O19+$E19,0),IF(R$2=\"Repair %\",IF(O19>0,$C19,0),IF(R$2=\"Spares %\",IF(IF(O19>0,$C19,0)*100>50%,50%,IF(O19>0,$C19,0)*100),0))))","v":0},0,{"$f":"COUNTIF($N$2:T$2,\"Year\")*$G$1","v":30},{"$f":"IF(T19=0,0,IF(U$2=\"Year\",IF(_xlfn.MAXIFS($N19:T19,$N$2:T$2,\"Year\")+$E19<=$E$1,R19+$E19,0),IF(U$2=\"Repair %\",IF(R19>0,$C19,0),IF(U$2=\"Spares %\",IF(IF(R19>0,$C19,0)*100>50%,50%,IF(R19>0,$C19,0)*100),0))))","v":0},0,{"$f":"COUNTIF($N$2:W$2,\"Year\")*$G$1","v":40},{"$f":"IF(W19=0,0,IF(X$2=\"Year\",IF(_xlfn.MAXIFS($N19:W19,$N$2:W$2,\"Year\")+$E19<=$E$1,U19+$E19,0),IF(X$2=\"Repair %\",IF(U19>0,$C19,0),IF(X$2=\"Spares %\",IF(IF(U19>0,$C19,0)*100>50%,50%,IF(U19>0,$C19,0)*100),0))))","v":0},0,{"$f":"IF(Y19=0,0,IF(Z$2=\"Year\",IF(_xlfn.MAXIFS($N19:Y19,$N$2:Y$2,\"Year\")+$E19<=$E$1,W19+$E19,0),IF(Z$2=\"Repair %\",IF(W19>0,$C$3,0),IF(Z$2=\"Spares %\",IF(IF(W19>0,$C19,0)*100>50%,50%,IF(W19>0,$C19,0)*100),0))))","v":0},{"$f":"IF(Z19=0,0,IF(AA$2=\"Year\",IF(_xlfn.MAXIFS($N19:Z19,$N$2:Z$2,\"Year\")+$E19<=$E$1,X19+$E19,0),IF(AA$2=\"Repair %\",IF(X19>0,$C19,0),IF(AA$2=\"Spares %\",IF(IF(X19>0,$C19,0)*100>50%,50%,IF(X19>0,$C19,0)*100),0))))","v":0},{"$f":"IF(AA19=0,0,IF(AB$2=\"Year\",IF(_xlfn.MAXIFS($N19:AA19,$N$2:AA$2,\"Year\")+$E19<=$E$1,Y19+$E19,0),IF(AB$2=\"Repair %\",IF(Y19>0,$C19,0),IF(AB$2=\"Spares %\",IF(IF(W19>0,$C19,0)*5>80%,50%,IF(W19>0,$C19,0)*5),0))))","v":0},{"$f":"IF(AB19=0,0,IF(AC$2=\"Year\",IF(_xlfn.MAXIFS($N19:AB19,$N$2:AB$2,\"Year\")+$E19<=$E$1,Z19+$E19,0),IF(AC$2=\"Repair %\",IF(Z19>0,$C$3,0),IF(AC$2=\"Spares %\",IF(IF(Z19>0,$C19,0)*100>50%,50%,IF(Z19>0,$C19,0)*100),0))))","v":0},{"$f":"IF(AC19=0,0,IF(AD$2=\"Year\",IF(_xlfn.MAXIFS($N19:AC19,$N$2:AC$2,\"Year\")+$E19<=$E$1,AA19+$E19,0),IF(AD$2=\"Repair %\",IF(AA19>0,$C19,0),IF(AD$2=\"Spares %\",IF(IF(AA19>0,$C19,0)*100>50%,50%,IF(AA19>0,$C19,0)*100),0))))","v":0},{"$f":"IF(AD19=0,0,IF(AE$2=\"Year\",IF(_xlfn.MAXIFS($N19:AD19,$N$2:AD$2,\"Year\")+$E19<=$E$1,AB19+$E19,0),IF(AE$2=\"Repair %\",IF(AB19>0,$C19,0),IF(AE$2=\"Spares %\",IF(IF(Z19>0,$C19,0)*5>80%,50%,IF(Z19>0,$C19,0)*5),0))))","v":0},{"$f":"IF(AE19=0,0,IF(AF$2=\"Year\",IF(_xlfn.MAXIFS($N19:AE19,$N$2:AE$2,\"Year\")+$E19<=$E$1,AC19+$E19,0),IF(AF$2=\"Repair %\",IF(AC19>0,$C$3,0),IF(AF$2=\"Spares %\",IF(IF(AC19>0,$C19,0)*100>50%,50%,IF(AC19>0,$C19,0)*100),0))))","v":0},{"$f":"IF(AF19=0,0,IF(AG$2=\"Year\",IF(_xlfn.MAXIFS($N19:AF19,$N$2:AF$2,\"Year\")+$E19<=$E$1,AD19+$E19,0),IF(AG$2=\"Repair %\",IF(AD19>0,$C19,0),IF(AG$2=\"Spares %\",IF(IF(AD19>0,$C19,0)*100>50%,50%,IF(AD19>0,$C19,0)*100),0))))","v":0},{"$f":"IF(AG19=0,0,IF(AH$2=\"Year\",IF(_xlfn.MAXIFS($N19:AG19,$N$2:AG$2,\"Year\")+$E19<=$E$1,AE19+$E19,0),IF(AH$2=\"Repair %\",IF(AE19>0,$C19,0),IF(AH$2=\"Spares %\",IF(IF(AC19>0,$C19,0)*5>80%,50%,IF(AC19>0,$C19,0)*5),0))))","v":0},{"$f":"IF(AH19=0,0,IF(AI$2=\"Year\",IF(_xlfn.MAXIFS($N19:AH19,$N$2:AH$2,\"Year\")+$E19<=$E$1,AF19+$E19,0),IF(AI$2=\"Repair %\",IF(AF19>0,$C$3,0),IF(AI$2=\"Spares %\",IF(IF(AF19>0,$C19,0)*100>50%,50%,IF(AF19>0,$C19,0)*100),0))))","v":0},{"$f":"IF(AI19=0,0,IF(AJ$2=\"Year\",IF(_xlfn.MAXIFS($N19:AI19,$N$2:AI$2,\"Year\")+$E19<=$E$1,AG19+$E19,0),IF(AJ$2=\"Repair %\",IF(AG19>0,$C19,0),IF(AJ$2=\"Spares %\",IF(IF(AG19>0,$C19,0)*100>50%,50%,IF(AG19>0,$C19,0)*100),0))))","v":0},{"$f":"IF(AJ19=0,0,IF(AK$2=\"Year\",IF(_xlfn.MAXIFS($N19:AJ19,$N$2:AJ$2,\"Year\")+$E19<=$E$1,AH19+$E19,0),IF(AK$2=\"Repair %\",IF(AH19>0,$C19,0),IF(AK$2=\"Spares %\",IF(IF(AF19>0,$C19,0)*5>80%,50%,IF(AF19>0,$C19,0)*5),0))))","v":0},{"$f":"IF(AK19=0,0,IF(AL$2=\"Year\",IF(_xlfn.MAXIFS($N19:AK19,$N$2:AK$2,\"Year\")+$E19<=$E$1,AI19+$E19,0),IF(AL$2=\"Repair %\",IF(AI19>0,$C$3,0),IF(AL$2=\"Spares %\",IF(IF(AI19>0,$C19,0)*100>50%,50%,IF(AI19>0,$C19,0)*100),0))))","v":0},{"$f":"IF(AL19=0,0,IF(AM$2=\"Year\",IF(_xlfn.MAXIFS($N19:AL19,$N$2:AL$2,\"Year\")+$E19<=$E$1,AJ19+$E19,0),IF(AM$2=\"Repair %\",IF(AJ19>0,$C19,0),IF(AM$2=\"Spares %\",IF(IF(AJ19>0,$C19,0)*100>50%,50%,IF(AJ19>0,$C19,0)*100),0))))","v":0},{"$f":"IF(AM19=0,0,IF(AN$2=\"Year\",IF(_xlfn.MAXIFS($N19:AM19,$N$2:AM$2,\"Year\")+$E19<=$E$1,AK19+$E19,0),IF(AN$2=\"Repair %\",IF(AK19>0,$C19,0),IF(AN$2=\"Spares %\",IF(IF(AI19>0,$C19,0)*5>80%,50%,IF(AI19>0,$C19,0)*5),0))))","v":0},{"$f":"IF(AN19=0,0,IF(AO$2=\"Year\",IF(_xlfn.MAXIFS($N19:AN19,$N$2:AN$2,\"Year\")+$E19<=$E$1,AL19+$E19,0),IF(AO$2=\"Repair %\",IF(AL19>0,$C$3,0),IF(AO$2=\"Spares %\",IF(IF(AL19>0,$C19,0)*100>50%,50%,IF(AL19>0,$C19,0)*100),0))))","v":0},{"$f":"IF(AO19=0,0,IF(AP$2=\"Year\",IF(_xlfn.MAXIFS($N19:AO19,$N$2:AO$2,\"Year\")+$E19<=$E$1,AM19+$E19,0),IF(AP$2=\"Repair %\",IF(AM19>0,$C19,0),IF(AP$2=\"Spares %\",IF(IF(AM19>0,$C19,0)*100>50%,50%,IF(AM19>0,$C19,0)*100),0))))","v":0},{"$f":"IF(AP19=0,0,IF(AQ$2=\"Year\",IF(_xlfn.MAXIFS($N19:AP19,$N$2:AP$2,\"Year\")+$E19<=$E$1,AN19+$E19,0),IF(AQ$2=\"Repair %\",IF(AN19>0,$C19,0),IF(AQ$2=\"Spares %\",IF(IF(AL19>0,$C19,0)*5>80%,50%,IF(AL19>0,$C19,0)*5),0))))","v":0}]
[757,"Aircraft Integrated Data System (AIDS)",0,0.06,null,"",{"$f":"SUBSTITUTE(ADDRESS(1,MATCH(A20,'Pt1-AvionicsComponentCosts'!$A$6:$NC$6,0)+1),\"$1\",\"\")","v":"$CH"},{"$f":"_xlfn.TEXTJOIN(\", \",TRUE,_xlfn.UNIQUE(_xlfn._xlws.SORT(_xlfn._xlws.FILTER('Pt1-AvionicsComponentCosts'!$NF$12:$NF$384,ISNUMBER(INDIRECT(\"'Pt1-AvionicsComponentCosts'!\"&G20&\"$12:\"&G20&\"$384\"))))))","v":"A220, A320, A321, ATR, B717, B737, B757, C919, EMB Regional, MC-21, Mil Transport, Military Jet, NSA"},null,0.06,0,0.44800000000000001,1.298,{"$f":"COUNTIF($N$2:N$2,\"Year\")*$G$1","v":10},null,0,{"$f":"COUNTIF($N$2:Q$2,\"Year\")*$G$1","v":20},{"$f":"IF(Q20=0,0,IF(R$2=\"Year\",IF(_xlfn.MAXIFS($N20:Q20,$N$2:Q$2,\"Year\")+$E20<=$E$1,O20+$E20,0),IF(R$2=\"Repair %\",IF(O20>0,$C20,0),IF(R$2=\"Spares %\",IF(IF(O20>0,$C20,0)*100>50%,50%,IF(O20>0,$C20,0)*100),0))))","v":0},0,{"$f":"COUNTIF($N$2:T$2,\"Year\")*$G$1","v":30},{"$f":"IF(T20=0,0,IF(U$2=\"Year\",IF(_xlfn.MAXIFS($N20:T20,$N$2:T$2,\"Year\")+$E20<=$E$1,R20+$E20,0),IF(U$2=\"Repair %\",IF(R20>0,$C20,0),IF(U$2=\"Spares %\",IF(IF(R20>0,$C20,0)*100>50%,50%,IF(R20>0,$C20,0)*100),0))))","v":0},0,{"$f":"COUNTIF($N$2:W$2,\"Year\")*$G$1","v":40},{"$f":"IF(W20=0,0,IF(X$2=\"Year\",IF(_xlfn.MAXIFS($N20:W20,$N$2:W$2,\"Year\")+$E20<=$E$1,U20+$E20,0),IF(X$2=\"Repair %\",IF(U20>0,$C20,0),IF(X$2=\"Spares %\",IF(IF(U20>0,$C20,0)*100>50%,50%,IF(U20>0,$C20,0)*100),0))))","v":0},0,{"$f":"IF(Y20=0,0,IF(Z$2=\"Year\",IF(_xlfn.MAXIFS($N20:Y20,$N$2:Y$2,\"Year\")+$E20<=$E$1,W20+$E20,0),IF(Z$2=\"Repair %\",IF(W20>0,$C$3,0),IF(Z$2=\"Spares %\",IF(IF(W20>0,$C20,0)*100>50%,50%,IF(W20>0,$C20,0)*100),0))))","v":0},{"$f":"IF(Z20=0,0,IF(AA$2=\"Year\",IF(_xlfn.MAXIFS($N20:Z20,$N$2:Z$2,\"Year\")+$E20<=$E$1,X20+$E20,0),IF(AA$2=\"Repair %\",IF(X20>0,$C20,0),IF(AA$2=\"Spares %\",IF(IF(X20>0,$C20,0)*100>50%,50%,IF(X20>0,$C20,0)*100),0))))","v":0},{"$f":"IF(AA20=0,0,IF(AB$2=\"Year\",IF(_xlfn.MAXIFS($N20:AA20,$N$2:AA$2,\"Year\")+$E20<=$E$1,Y20+$E20,0),IF(AB$2=\"Repair %\",IF(Y20>0,$C20,0),IF(AB$2=\"Spares %\",IF(IF(W20>0,$C20,0)*5>80%,50%,IF(W20>0,$C20,0)*5),0))))","v":0},{"$f":"IF(AB20=0,0,IF(AC$2=\"Year\",IF(_xlfn.MAXIFS($N20:AB20,$N$2:AB$2,\"Year\")+$E20<=$E$1,Z20+$E20,0),IF(AC$2=\"Repair %\",IF(Z20>0,$C$3,0),IF(AC$2=\"Spares %\",IF(IF(Z20>0,$C20,0)*100>50%,50%,IF(Z20>0,$C20,0)*100),0))))","v":0},{"$f":"IF(AC20=0,0,IF(AD$2=\"Year\",IF(_xlfn.MAXIFS($N20:AC20,$N$2:AC$2,\"Year\")+$E20<=$E$1,AA20+$E20,0),IF(AD$2=\"Repair %\",IF(AA20>0,$C20,0),IF(AD$2=\"Spares %\",IF(IF(AA20>0,$C20,0)*100>50%,50%,IF(AA20>0,$C20,0)*100),0))))","v":0},{"$f":"IF(AD20=0,0,IF(AE$2=\"Year\",IF(_xlfn.MAXIFS($N20:AD20,$N$2:AD$2,\"Year\")+$E20<=$E$1,AB20+$E20,0),IF(AE$2=\"Repair %\",IF(AB20>0,$C20,0),IF(AE$2=\"Spares %\",IF(IF(Z20>0,$C20,0)*5>80%,50%,IF(Z20>0,$C20,0)*5),0))))","v":0},{"$f":"IF(AE20=0,0,IF(AF$2=\"Year\",IF(_xlfn.MAXIFS($N20:AE20,$N$2:AE$2,\"Year\")+$E20<=$E$1,AC20+$E20,0),IF(AF$2=\"Repair %\",IF(AC20>0,$C$3,0),IF(AF$2=\"Spares %\",IF(IF(AC20>0,$C20,0)*100>50%,50%,IF(AC20>0,$C20,0)*100),0))))","v":0},{"$f":"IF(AF20=0,0,IF(AG$2=\"Year\",IF(_xlfn.MAXIFS($N20:AF20,$N$2:AF$2,\"Year\")+$E20<=$E$1,AD20+$E20,0),IF(AG$2=\"Repair %\",IF(AD20>0,$C20,0),IF(AG$2=\"Spares %\",IF(IF(AD20>0,$C20,0)*100>50%,50%,IF(AD20>0,$C20,0)*100),0))))","v":0},{"$f":"IF(AG20=0,0,IF(AH$2=\"Year\",IF(_xlfn.MAXIFS($N20:AG20,$N$2:AG$2,\"Year\")+$E20<=$E$1,AE20+$E20,0),IF(AH$2=\"Repair %\",IF(AE20>0,$C20,0),IF(AH$2=\"Spares %\",IF(IF(AC20>0,$C20,0)*5>80%,50%,IF(AC20>0,$C20,0)*5),0))))","v":0},{"$f":"IF(AH20=0,0,IF(AI$2=\"Year\",IF(_xlfn.MAXIFS($N20:AH20,$N$2:AH$2,\"Year\")+$E20<=$E$1,AF20+$E20,0),IF(AI$2=\"Repair %\",IF(AF20>0,$C$3,0),IF(AI$2=\"Spares %\",IF(IF(AF20>0,$C20,0)*100>50%,50%,IF(AF20>0,$C20,0)*100),0))))","v":0},{"$f":"IF(AI20=0,0,IF(AJ$2=\"Year\",IF(_xlfn.MAXIFS($N20:AI20,$N$2:AI$2,\"Year\")+$E20<=$E$1,AG20+$E20,0),IF(AJ$2=\"Repair %\",IF(AG20>0,$C20,0),IF(AJ$2=\"Spares %\",IF(IF(AG20>0,$C20,0)*100>50%,50%,IF(AG20>0,$C20,0)*100),0))))","v":0},{"$f":"IF(AJ20=0,0,IF(AK$2=\"Year\",IF(_xlfn.MAXIFS($N20:AJ20,$N$2:AJ$2,\"Year\")+$E20<=$E$1,AH20+$E20,0),IF(AK$2=\"Repair %\",IF(AH20>0,$C20,0),IF(AK$2=\"Spares %\",IF(IF(AF20>0,$C20,0)*5>80%,50%,IF(AF20>0,$C20,0)*5),0))))","v":0},{"$f":"IF(AK20=0,0,IF(AL$2=\"Year\",IF(_xlfn.MAXIFS($N20:AK20,$N$2:AK$2,\"Year\")+$E20<=$E$1,AI20+$E20,0),IF(AL$2=\"Repair %\",IF(AI20>0,$C$3,0),IF(AL$2=\"Spares %\",IF(IF(AI20>0,$C20,0)*100>50%,50%,IF(AI20>0,$C20,0)*100),0))))","v":0},{"$f":"IF(AL20=0,0,IF(AM$2=\"Year\",IF(_xlfn.MAXIFS($N20:AL20,$N$2:AL$2,\"Year\")+$E20<=$E$1,AJ20+$E20,0),IF(AM$2=\"Repair %\",IF(AJ20>0,$C20,0),IF(AM$2=\"Spares %\",IF(IF(AJ20>0,$C20,0)*100>50%,50%,IF(AJ20>0,$C20,0)*100),0))))","v":0},{"$f":"IF(AM20=0,0,IF(AN$2=\"Year\",IF(_xlfn.MAXIFS($N20:AM20,$N$2:AM$2,\"Year\")+$E20<=$E$1,AK20+$E20,0),IF(AN$2=\"Repair %\",IF(AK20>0,$C20,0),IF(AN$2=\"Spares %\",IF(IF(AI20>0,$C20,0)*5>80%,50%,IF(AI20>0,$C20,0)*5),0))))","v":0},{"$f":"IF(AN20=0,0,IF(AO$2=\"Year\",IF(_xlfn.MAXIFS($N20:AN20,$N$2:AN$2,\"Year\")+$E20<=$E$1,AL20+$E20,0),IF(AO$2=\"Repair %\",IF(AL20>0,$C$3,0),IF(AO$2=\"Spares %\",IF(IF(AL20>0,$C20,0)*100>50%,50%,IF(AL20>0,$C20,0)*100),0))))","v":0},{"$f":"IF(AO20=0,0,IF(AP$2=\"Year\",IF(_xlfn.MAXIFS($N20:AO20,$N$2:AO$2,\"Year\")+$E20<=$E$1,AM20+$E20,0),IF(AP$2=\"Repair %\",IF(AM20>0,$C20,0),IF(AP$2=\"Spares %\",IF(IF(AM20>0,$C20,0)*100>50%,50%,IF(AM20>0,$C20,0)*100),0))))","v":0},{"$f":"IF(AP20=0,0,IF(AQ$2=\"Year\",IF(_xlfn.MAXIFS($N20:AP20,$N$2:AP$2,\"Year\")+$E20<=$E$1,AN20+$E20,0),IF(AQ$2=\"Repair %\",IF(AN20>0,$C20,0),IF(AQ$2=\"Spares %\",IF(IF(AL20>0,$C20,0)*5>80%,50%,IF(AL20>0,$C20,0)*5),0))))","v":0}]
[{"$f":"INDEX('Avionics ID'!A:E,MATCH(B21,'Avionics ID'!E:E,0),1)","v":797},"Aircraft memory system",0.1,0.06,10,"Obsolecence",{"$f":"SUBSTITUTE(ADDRESS(1,MATCH(A21,'Pt1-AvionicsComponentCosts'!$A$6:$NC$6,0)+1),\"$1\",\"\")","v":"$CJ"},{"$f":"_xlfn.TEXTJOIN(\", \",TRUE,_xlfn.UNIQUE(_xlfn._xlws.SORT(_xlfn._xlws.FILTER('Pt1-AvionicsComponentCosts'!$NF$12:$NF$384,ISNUMBER(INDIRECT(\"'Pt1-AvionicsComponentCosts'!\"&G21&\"$12:\"&G21&\"$384\"))))))","v":"Attack, Stealth"},null,0.06,0.1,0.44800000000000001,1.298,{"$f":"COUNTIF($N$2:N$2,\"Year\")*$G$1","v":10},null,1,{"$f":"COUNTIF($N$2:Q$2,\"Year\")*$G$1","v":20},{"$f":"IF(Q21=0,0,IF(R$2=\"Year\",IF(_xlfn.MAXIFS($N21:Q21,$N$2:Q$2,\"Year\")+$E21<=$E$1,O21+$E21,0),IF(R$2=\"Repair %\",IF(O21>0,$C21,0),IF(R$2=\"Spares %\",IF(IF(O21>0,$C21,0)*100>50%,50%,IF(O21>0,$C21,0)*100),0))))","v":0},1,{"$f":"COUNTIF($N$2:T$2,\"Year\")*$G$1","v":30},{"$f":"IF(T21=0,0,IF(U$2=\"Year\",IF(_xlfn.MAXIFS($N21:T21,$N$2:T$2,\"Year\")+$E21<=$E$1,R21+$E21,0),IF(U$2=\"Repair %\",IF(R21>0,$C21,0),IF(U$2=\"Spares %\",IF(IF(R21>0,$C21,0)*100>50%,50%,IF(R21>0,$C21,0)*100),0))))","v":0},1,{"$f":"COUNTIF($N$2:W$2,\"Year\")*$G$1","v":40},{"$f":"IF(W21=0,0,IF(X$2=\"Year\",IF(_xlfn.MAXIFS($N21:W21,$N$2:W$2,\"Year\")+$E21<=$E$1,U21+$E21,0),IF(X$2=\"Repair %\",IF(U21>0,$C21,0),IF(X$2=\"Spares %\",IF(IF(U21>0,$C21,0)*100>50%,50%,IF(U21>0,$C21,0)*100),0))))","v":0},1,{"$f":"IF(Y21=0,0,IF(Z$2=\"Year\",IF(_xlfn.MAXIFS($N21:Y21,$N$2:Y$2,\"Year\")+$E21<=$E$1,W21+$E21,0),IF(Z$2=\"Repair %\",IF(W21>0,$C$3,0),IF(Z$2=\"Spares %\",IF(IF(W21>0,$C21,0)*100>50%,50%,IF(W21>0,$C21,0)*100),0))))","v":0},{"$f":"IF(Z21=0,0,IF(AA$2=\"Year\",IF(_xlfn.MAXIFS($N21:Z21,$N$2:Z$2,\"Year\")+$E21<=$E$1,X21+$E21,0),IF(AA$2=\"Repair %\",IF(X21>0,$C21,0),IF(AA$2=\"Spares %\",IF(IF(X21>0,$C21,0)*100>50%,50%,IF(X21>0,$C21,0)*100),0))))","v":0},{"$f":"IF(AA21=0,0,IF(AB$2=\"Year\",IF(_xlfn.MAXIFS($N21:AA21,$N$2:AA$2,\"Year\")+$E21<=$E$1,Y21+$E21,0),IF(AB$2=\"Repair %\",IF(Y21>0,$C21,0),IF(AB$2=\"Spares %\",IF(IF(W21>0,$C21,0)*5>80%,50%,IF(W21>0,$C21,0)*5),0))))","v":0},{"$f":"IF(AB21=0,0,IF(AC$2=\"Year\",IF(_xlfn.MAXIFS($N21:AB21,$N$2:AB$2,\"Year\")+$E21<=$E$1,Z21+$E21,0),IF(AC$2=\"Repair %\",IF(Z21>0,$C$3,0),IF(AC$2=\"Spares %\",IF(IF(Z21>0,$C21,0)*100>50%,50%,IF(Z21>0,$C21,0)*100),0))))","v":0},{"$f":"IF(AC21=0,0,IF(AD$2=\"Year\",IF(_xlfn.MAXIFS($N21:AC21,$N$2:AC$2,\"Year\")+$E21<=$E$1,AA21+$E21,0),IF(AD$2=\"Repair %\",IF(AA21>0,$C21,0),IF(AD$2=\"Spares %\",IF(IF(AA21>0,$C21,0)*100>50%,50%,IF(AA21>0,$C21,0)*100),0))))","v":0},{"$f":"IF(AD21=0,0,IF(AE$2=\"Year\",IF(_xlfn.MAXIFS($N21:AD21,$N$2:AD$2,\"Year\")+$E21<=$E$1,AB21+$E21,0),IF(AE$2=\"Repair %\",IF(AB21>0,$C21,0),IF(AE$2=\"Spares %\",IF(IF(Z21>0,$C21,0)*5>80%,50%,IF(Z21>0,$C21,0)*5),0))))","v":0},{"$f":"IF(AE21=0,0,IF(AF$2=\"Year\",IF(_xlfn.MAXIFS($N21:AE21,$N$2:AE$2,\"Year\")+$E21<=$E$1,AC21+$E21,0),IF(AF$2=\"Repair %\",IF(AC21>0,$C$3,0),IF(AF$2=\"Spares %\",IF(IF(AC21>0,$C21,0)*100>50%,50%,IF(AC21>0,$C21,0)*100),0))))","v":0},{"$f":"IF(AF21=0,0,IF(AG$2=\"Year\",IF(_xlfn.MAXIFS($N21:AF21,$N$2:AF$2,\"Year\")+$E21<=$E$1,AD21+$E21,0),IF(AG$2=\"Repair %\",IF(AD21>0,$C21,0),IF(AG$2=\"Spares %\",IF(IF(AD21>0,$C21,0)*100>50%,50%,IF(AD21>0,$C21,0)*100),0))))","v":0},{"$f":"IF(AG21=0,0,IF(AH$2=\"Year\",IF(_xlfn.MAXIFS($N21:AG21,$N$2:AG$2,\"Year\")+$E21<=$E$1,AE21+$E21,0),IF(AH$2=\"Repair %\",IF(AE21>0,$C21,0),IF(AH$2=\"Spares %\",IF(IF(AC21>0,$C21,0)*5>80%,50%,IF(AC21>0,$C21,0)*5),0))))","v":0},{"$f":"IF(AH21=0,0,IF(AI$2=\"Year\",IF(_xlfn.MAXIFS($N21:AH21,$N$2:AH$2,\"Year\")+$E21<=$E$1,AF21+$E21,0),IF(AI$2=\"Repair %\",IF(AF21>0,$C$3,0),IF(AI$2=\"Spares %\",IF(IF(AF21>0,$C21,0)*100>50%,50%,IF(AF21>0,$C21,0)*100),0))))","v":0},{"$f":"IF(AI21=0,0,IF(AJ$2=\"Year\",IF(_xlfn.MAXIFS($N21:AI21,$N$2:AI$2,\"Year\")+$E21<=$E$1,AG21+$E21,0),IF(AJ$2=\"Repair %\",IF(AG21>0,$C21,0),IF(AJ$2=\"Spares %\",IF(IF(AG21>0,$C21,0)*100>50%,50%,IF(AG21>0,$C21,0)*100),0))))","v":0},{"$f":"IF(AJ21=0,0,IF(AK$2=\"Year\",IF(_xlfn.MAXIFS($N21:AJ21,$N$2:AJ$2,\"Year\")+$E21<=$E$1,AH21+$E21,0),IF(AK$2=\"Repair %\",IF(AH21>0,$C21,0),IF(AK$2=\"Spares %\",IF(IF(AF21>0,$C21,0)*5>80%,50%,IF(AF21>0,$C21,0)*5),0))))","v":0},{"$f":"IF(AK21=0,0,IF(AL$2=\"Year\",IF(_xlfn.MAXIFS($N21:AK21,$N$2:AK$2,\"Year\")+$E21<=$E$1,AI21+$E21,0),IF(AL$2=\"Repair %\",IF(AI21>0,$C$3,0),IF(AL$2=\"Spares %\",IF(IF(AI21>0,$C21,0)*100>50%,50%,IF(AI21>0,$C21,0)*100),0))))","v":0},{"$f":"IF(AL21=0,0,IF(AM$2=\"Year\",IF(_xlfn.MAXIFS($N21:AL21,$N$2:AL$2,\"Year\")+$E21<=$E$1,AJ21+$E21,0),IF(AM$2=\"Repair %\",IF(AJ21>0,$C21,0),IF(AM$2=\"Spares %\",IF(IF(AJ21>0,$C21,0)*100>50%,50%,IF(AJ21>0,$C21,0)*100),0))))","v":0},{"$f":"IF(AM21=0,0,IF(AN$2=\"Year\",IF(_xlfn.MAXIFS($N21:AM21,$N$2:AM$2,\"Year\")+$E21<=$E$1,AK21+$E21,0),IF(AN$2=\"Repair %\",IF(AK21>0,$C21,0),IF(AN$2=\"Spares %\",IF(IF(AI21>0,$C21,0)*5>80%,50%,IF(AI21>0,$C21,0)*5),0))))","v":0},{"$f":"IF(AN21=0,0,IF(AO$2=\"Year\",IF(_xlfn.MAXIFS($N21:AN21,$N$2:AN$2,\"Year\")+$E21<=$E$1,AL21+$E21,0),IF(AO$2=\"Repair %\",IF(AL21>0,$C$3,0),IF(AO$2=\"Spares %\",IF(IF(AL21>0,$C21,0)*100>50%,50%,IF(AL21>0,$C21,0)*100),0))))","v":0},{"$f":"IF(AO21=0,0,IF(AP$2=\"Year\",IF(_xlfn.MAXIFS($N21:AO21,$N$2:AO$2,\"Year\")+$E21<=$E$1,AM21+$E21,0),IF(AP$2=\"Repair %\",IF(AM21>0,$C21,0),IF(AP$2=\"Spares %\",IF(IF(AM21>0,$C21,0)*100>50%,50%,IF(AM21>0,$C21,0)*100),0))))","v":0},{"$f":"IF(AP21=0,0,IF(AQ$2=\"Year\",IF(_xlfn.MAXIFS($N21:AP21,$N$2:AP$2,\"Year\")+$E21<=$E$1,AN21+$E21,0),IF(AQ$2=\"Repair %\",IF(AN21>0,$C21,0),IF(AQ$2=\"Spares %\",IF(IF(AL21>0,$C21,0)*5>80%,50%,IF(AL21>0,$C21,0)*5),0))))","v":0}]
[{"$f":"INDEX('Avionics ID'!A:E,MATCH(B22,'Avionics ID'!E:E,0),1)","v":799},"Antenna suite",0.05,0.1,20,"Obsolecence",{"$f":"SUBSTITUTE(ADDRESS(1,MATCH(A22,'Pt1-AvionicsComponentCosts'!$A$6:$NC$6,0)+1),\"$1\",\"\")","v":"$V"},{"$f":"_xlfn.TEXTJOIN(\", \",TRUE,_xlfn.UNIQUE(_xlfn._xlws.SORT(_xlfn._xlws.FILTER('Pt1-AvionicsComponentCosts'!$NF$12:$NF$384,ISNUMBER(INDIRECT(\"'Pt1-AvionicsComponentCosts'!\"&G22&\"$12:\"&G22&\"$384\"))))))","v":"Attack, Stealth"},null,0.1,0.05,0.44800000000000001,1.298,{"$f":"COUNTIF($N$2:N$2,\"Year\")*$G$1","v":10},null,0,{"$f":"COUNTIF($N$2:Q$2,\"Year\")*$G$1","v":20},{"$f":"IF(Q22=0,0,IF(R$2=\"Year\",IF(_xlfn.MAXIFS($N22:Q22,$N$2:Q$2,\"Year\")+$E22<=$E$1,O22+$E22,0),IF(R$2=\"Repair %\",IF(O22>0,$C22,0),IF(R$2=\"Spares %\",IF(IF(O22>0,$C22,0)*100>50%,50%,IF(O22>0,$C22,0)*100),0))))","v":0},1,{"$f":"COUNTIF($N$2:T$2,\"Year\")*$G$1","v":30},{"$f":"IF(T22=0,0,IF(U$2=\"Year\",IF(_xlfn.MAXIFS($N22:T22,$N$2:T$2,\"Year\")+$E22<=$E$1,R22+$E22,0),IF(U$2=\"Repair %\",IF(R22>0,$C22,0),IF(U$2=\"Spares %\",IF(IF(R22>0,$C22,0)*100>50%,50%,IF(R22>0,$C22,0)*100),0))))","v":0},0,{"$f":"COUNTIF($N$2:W$2,\"Year\")*$G$1","v":40},{"$f":"IF(W22=0,0,IF(X$2=\"Year\",IF(_xlfn.MAXIFS($N22:W22,$N$2:W$2,\"Year\")+$E22<=$E$1,U22+$E22,0),IF(X$2=\"Repair %\",IF(U22>0,$C22,0),IF(X$2=\"Spares %\",IF(IF(U22>0,$C22,0)*100>50%,50%,IF(U22>0,$C22,0)*100),0))))","v":0},1,{"$f":"IF(Y22=0,0,IF(Z$2=\"Year\",IF(_xlfn.MAXIFS($N22:Y22,$N$2:Y$2,\"Year\")+$E22<=$E$1,W22+$E22,0),IF(Z$2=\"Repair %\",IF(W22>0,$C$3,0),IF(Z$2=\"Spares %\",IF(IF(W22>0,$C22,0)*100>50%,50%,IF(W22>0,$C22,0)*100),0))))","v":0},{"$f":"IF(Z22=0,0,IF(AA$2=\"Year\",IF(_xlfn.MAXIFS($N22:Z22,$N$2:Z$2,\"Year\")+$E22<=$E$1,X22+$E22,0),IF(AA$2=\"Repair %\",IF(X22>0,$C22,0),IF(AA$2=\"Spares %\",IF(IF(X22>0,$C22,0)*100>50%,50%,IF(X22>0,$C22,0)*100),0))))","v":0},{"$f":"IF(AA22=0,0,IF(AB$2=\"Year\",IF(_xlfn.MAXIFS($N22:AA22,$N$2:AA$2,\"Year\")+$E22<=$E$1,Y22+$E22,0),IF(AB$2=\"Repair %\",IF(Y22>0,$C22,0),IF(AB$2=\"Spares %\",IF(IF(W22>0,$C22,0)*5>80%,50%,IF(W22>0,$C22,0)*5),0))))","v":0},{"$f":"IF(AB22=0,0,IF(AC$2=\"Year\",IF(_xlfn.MAXIFS($N22:AB22,$N$2:AB$2,\"Year\")+$E22<=$E$1,Z22+$E22,0),IF(AC$2=\"Repair %\",IF(Z22>0,$C$3,0),IF(AC$2=\"Spares %\",IF(IF(Z22>0,$C22,0)*100>50%,50%,IF(Z22>0,$C22,0)*100),0))))","v":0},{"$f":"IF(AC22=0,0,IF(AD$2=\"Year\",IF(_xlfn.MAXIFS($N22:AC22,$N$2:AC$2,\"Year\")+$E22<=$E$1,AA22+$E22,0),IF(AD$2=\"Repair %\",IF(AA22>0,$C22,0),IF(AD$2=\"Spares %\",IF(IF(AA22>0,$C22,0)*100>50%,50%,IF(AA22>0,$C22,0)*100),0))))","v":0},{"$f":"IF(AD22=0,0,IF(AE$2=\"Year\",IF(_xlfn.MAXIFS($N22:AD22,$N$2:AD$2,\"Year\")+$E22<=$E$1,AB22+$E22,0),IF(AE$2=\"Repair %\",IF(AB22>0,$C22,0),IF(AE$2=\"Spares %\",IF(IF(Z22>0,$C22,0)*5>80%,50%,IF(Z22>0,$C22,0)*5),0))))","v":0},{"$f":"IF(AE22=0,0,IF(AF$2=\"Year\",IF(_xlfn.MAXIFS($N22:AE22,$N$2:AE$2,\"Year\")+$E22<=$E$1,AC22+$E22,0),IF(AF$2=\"Repair %\",IF(AC22>0,$C$3,0),IF(AF$2=\"Spares %\",IF(IF(AC22>0,$C22,0)*100>50%,50%,IF(AC22>0,$C22,0)*100),0))))","v":0},{"$f":"IF(AF22=0,0,IF(AG$2=\"Year\",IF(_xlfn.MAXIFS($N22:AF22,$N$2:AF$2,\"Year\")+$E22<=$E$1,AD22+$E22,0),IF(AG$2=\"Repair %\",IF(AD22>0,$C22,0),IF(AG$2=\"Spares %\",IF(IF(AD22>0,$C22,0)*100>50%,50%,IF(AD22>0,$C22,0)*100),0))))","v":0},{"$f":"IF(AG22=0,0,IF(AH$2=\"Year\",IF(_xlfn.MAXIFS($N22:AG22,$N$2:AG$2,\"Year\")+$E22<=$E$1,AE22+$E22,0),IF(AH$2=\"Repair %\",IF(AE22>0,$C22,0),IF(AH$2=\"Spares %\",IF(IF(AC22>0,$C22,0)*5>80%,50%,IF(AC22>0,$C22,0)*5),0))))","v":0},{"$f":"IF(AH22=0,0,IF(AI$2=\"Year\",IF(_xlfn.MAXIFS($N22:AH22,$N$2:AH$2,\"Year\")+$E22<=$E$1,AF22+$E22,0),IF(AI$2=\"Repair %\",IF(AF22>0,$C$3,0),IF(AI$2=\"Spares %\",IF(IF(AF22>0,$C22,0)*100>50%,50%,IF(AF22>0,$C22,0)*100),0))))","v":0},{"$f":"IF(AI22=0,0,IF(AJ$2=\"Year\",IF(_xlfn.MAXIFS($N22:AI22,$N$2:AI$2,\"Year\")+$E22<=$E$1,AG22+$E22,0),IF(AJ$2=\"Repair %\",IF(AG22>0,$C22,0),IF(AJ$2=\"Spares %\",IF(IF(AG22>0,$C22,0)*100>50%,50%,IF(AG22>0,$C22,0)*100),0))))","v":0},{"$f":"IF(AJ22=0,0,IF(AK$2=\"Year\",IF(_xlfn.MAXIFS($N22:AJ22,$N$2:AJ$2,\"Year\")+$E22<=$E$1,AH22+$E22,0),IF(AK$2=\"Repair %\",IF(AH22>0,$C22,0),IF(AK$2=\"Spares %\",IF(IF(AF22>0,$C22,0)*5>80%,50%,IF(AF22>0,$C22,0)*5),0))))","v":0},{"$f":"IF(AK22=0,0,IF(AL$2=\"Year\",IF(_xlfn.MAXIFS($N22:AK22,$N$2:AK$2,\"Year\")+$E22<=$E$1,AI22+$E22,0),IF(AL$2=\"Repair %\",IF(AI22>0,$C$3,0),IF(AL$2=\"Spares %\",IF(IF(AI22>0,$C22,0)*100>50%,50%,IF(AI22>0,$C22,0)*100),0))))","v":0},{"$f":"IF(AL22=0,0,IF(AM$2=\"Year\",IF(_xlfn.MAXIFS($N22:AL22,$N$2:AL$2,\"Year\")+$E22<=$E$1,AJ22+$E22,0),IF(AM$2=\"Repair %\",IF(AJ22>0,$C22,0),IF(AM$2=\"Spares %\",IF(IF(AJ22>0,$C22,0)*100>50%,50%,IF(AJ22>0,$C22,0)*100),0))))","v":0},{"$f":"IF(AM22=0,0,IF(AN$2=\"Year\",IF(_xlfn.MAXIFS($N22:AM22,$N$2:AM$2,\"Year\")+$E22<=$E$1,AK22+$E22,0),IF(AN$2=\"Repair %\",IF(AK22>0,$C22,0),IF(AN$2=\"Spares %\",IF(IF(AI22>0,$C22,0)*5>80%,50%,IF(AI22>0,$C22,0)*5),0))))","v":0},{"$f":"IF(AN22=0,0,IF(AO$2=\"Year\",IF(_xlfn.MAXIFS($N22:AN22,$N$2:AN$2,\"Year\")+$E22<=$E$1,AL22+$E22,0),IF(AO$2=\"Repair %\",IF(AL22>0,$C$3,0),IF(AO$2=\"Spares %\",IF(IF(AL22>0,$C22,0)*100>50%,50%,IF(AL22>0,$C22,0)*100),0))))","v":0},{"$f":"IF(AO22=0,0,IF(AP$2=\"Year\",IF(_xlfn.MAXIFS($N22:AO22,$N$2:AO$2,\"Year\")+$E22<=$E$1,AM22+$E22,0),IF(AP$2=\"Repair %\",IF(AM22>0,$C22,0),IF(AP$2=\"Spares %\",IF(IF(AM22>0,$C22,0)*100>50%,50%,IF(AM22>0,$C22,0)*100),0))))","v":0},{"$f":"IF(AP22=0,0,IF(AQ$2=\"Year\",IF(_xlfn.MAXIFS($N22:AP22,$N$2:AP$2,\"Year\")+$E22<=$E$1,AN22+$E22,0),IF(AQ$2=\"Repair %\",IF(AN22>0,$C22,0),IF(AQ$2=\"Spares %\",IF(IF(AL22>0,$C22,0)*5>80%,50%,IF(AL22>0,$C22,0)*5),0))))","v":0}]
[{"$f":"INDEX('Avionics ID'!A:E,MATCH(B23,'Avionics ID'!E:E,0),1)","v":875},"ARC 210 radios",0.05,0.06,20,"Obsolecence",{"$f":"SUBSTITUTE(ADDRESS(1,MATCH(A23,'Pt1-AvionicsComponentCosts'!$A$6:$NC$6,0)+1),\"$1\",\"\")","v":"$X"},{"$f":"_xlfn.TEXTJOIN(\", \",TRUE,_xlfn.UNIQUE(_xlfn._xlws.SORT(_xlfn._xlws.FILTER('Pt1-AvionicsComponentCosts'!$NF$12:$NF$384,ISNUMBER(INDIRECT(\"'Pt1-AvionicsComponentCosts'!\"&G23&\"$12:\"&G23&\"$384\"))))))","v":"UAV"},null,0.06,0.05,0.44800000000000001,1.298,{"$f":"COUNTIF($N$2:N$2,\"Year\")*$G$1","v":10},null,0,{"$f":"COUNTIF($N$2:Q$2,\"Year\")*$G$1","v":20},{"$f":"IF(Q23=0,0,IF(R$2=\"Year\",IF(_xlfn.MAXIFS($N23:Q23,$N$2:Q$2,\"Year\")+$E23<=$E$1,O23+$E23,0),IF(R$2=\"Repair %\",IF(O23>0,$C23,0),IF(R$2=\"Spares %\",IF(IF(O23>0,$C23,0)*100>50%,50%,IF(O23>0,$C23,0)*100),0))))","v":0},1,{"$f":"COUNTIF($N$2:T$2,\"Year\")*$G$1","v":30},{"$f":"IF(T23=0,0,IF(U$2=\"Year\",IF(_xlfn.MAXIFS($N23:T23,$N$2:T$2,\"Year\")+$E23<=$E$1,R23+$E23,0),IF(U$2=\"Repair %\",IF(R23>0,$C23,0),IF(U$2=\"Spares %\",IF(IF(R23>0,$C23,0)*100>50%,50%,IF(R23>0,$C23,0)*100),0))))","v":0},0,{"$f":"COUNTIF($N$2:W$2,\"Year\")*$G$1","v":40},{"$f":"IF(W23=0,0,IF(X$2=\"Year\",IF(_xlfn.MAXIFS($N23:W23,$N$2:W$2,\"Year\")+$E23<=$E$1,U23+$E23,0),IF(X$2=\"Repair %\",IF(U23>0,$C23,0),IF(X$2=\"Spares %\",IF(IF(U23>0,$C23,0)*100>50%,50%,IF(U23>0,$C23,0)*100),0))))","v":0},1,{"$f":"IF(Y23=0,0,IF(Z$2=\"Year\",IF(_xlfn.MAXIFS($N23:Y23,$N$2:Y$2,\"Year\")+$E23<=$E$1,W23+$E23,0),IF(Z$2=\"Repair %\",IF(W23>0,$C$3,0),IF(Z$2=\"Spares %\",IF(IF(W23>0,$C23,0)*100>50%,50%,IF(W23>0,$C23,0)*100),0))))","v":0},{"$f":"IF(Z23=0,0,IF(AA$2=\"Year\",IF(_xlfn.MAXIFS($N23:Z23,$N$2:Z$2,\"Year\")+$E23<=$E$1,X23+$E23,0),IF(AA$2=\"Repair %\",IF(X23>0,$C23,0),IF(AA$2=\"Spares %\",IF(IF(X23>0,$C23,0)*100>50%,50%,IF(X23>0,$C23,0)*100),0))))","v":0},{"$f":"IF(AA23=0,0,IF(AB$2=\"Year\",IF(_xlfn.MAXIFS($N23:AA23,$N$2:AA$2,\"Year\")+$E23<=$E$1,Y23+$E23,0),IF(AB$2=\"Repair %\",IF(Y23>0,$C23,0),IF(AB$2=\"Spares %\",IF(IF(W23>0,$C23,0)*5>80%,50%,IF(W23>0,$C23,0)*5),0))))","v":0},{"$f":"IF(AB23=0,0,IF(AC$2=\"Year\",IF(_xlfn.MAXIFS($N23:AB23,$N$2:AB$2,\"Year\")+$E23<=$E$1,Z23+$E23,0),IF(AC$2=\"Repair %\",IF(Z23>0,$C$3,0),IF(AC$2=\"Spares %\",IF(IF(Z23>0,$C23,0)*100>50%,50%,IF(Z23>0,$C23,0)*100),0))))","v":0},{"$f":"IF(AC23=0,0,IF(AD$2=\"Year\",IF(_xlfn.MAXIFS($N23:AC23,$N$2:AC$2,\"Year\")+$E23<=$E$1,AA23+$E23,0),IF(AD$2=\"Repair %\",IF(AA23>0,$C23,0),IF(AD$2=\"Spares %\",IF(IF(AA23>0,$C23,0)*100>50%,50%,IF(AA23>0,$C23,0)*100),0))))","v":0},{"$f":"IF(AD23=0,0,IF(AE$2=\"Year\",IF(_xlfn.MAXIFS($N23:AD23,$N$2:AD$2,\"Year\")+$E23<=$E$1,AB23+$E23,0),IF(AE$2=\"Repair %\",IF(AB23>0,$C23,0),IF(AE$2=\"Spares %\",IF(IF(Z23>0,$C23,0)*5>80%,50%,IF(Z23>0,$C23,0)*5),0))))","v":0},{"$f":"IF(AE23=0,0,IF(AF$2=\"Year\",IF(_xlfn.MAXIFS($N23:AE23,$N$2:AE$2,\"Year\")+$E23<=$E$1,AC23+$E23,0),IF(AF$2=\"Repair %\",IF(AC23>0,$C$3,0),IF(AF$2=\"Spares %\",IF(IF(AC23>0,$C23,0)*100>50%,50%,IF(AC23>0,$C23,0)*100),0))))","v":0},{"$f":"IF(AF23=0,0,IF(AG$2=\"Year\",IF(_xlfn.MAXIFS($N23:AF23,$N$2:AF$2,\"Year\")+$E23<=$E$1,AD23+$E23,0),IF(AG$2=\"Repair %\",IF(AD23>0,$C23,0),IF(AG$2=\"Spares %\",IF(IF(AD23>0,$C23,0)*100>50%,50%,IF(AD23>0,$C23,0)*100),0))))","v":0},{"$f":"IF(AG23=0,0,IF(AH$2=\"Year\",IF(_xlfn.MAXIFS($N23:AG23,$N$2:AG$2,\"Year\")+$E23<=$E$1,AE23+$E23,0),IF(AH$2=\"Repair %\",IF(AE23>0,$C23,0),IF(AH$2=\"Spares %\",IF(IF(AC23>0,$C23,0)*5>80%,50%,IF(AC23>0,$C23,0)*5),0))))","v":0},{"$f":"IF(AH23=0,0,IF(AI$2=\"Year\",IF(_xlfn.MAXIFS($N23:AH23,$N$2:AH$2,\"Year\")+$E23<=$E$1,AF23+$E23,0),IF(AI$2=\"Repair %\",IF(AF23>0,$C$3,0),IF(AI$2=\"Spares %\",IF(IF(AF23>0,$C23,0)*100>50%,50%,IF(AF23>0,$C23,0)*100),0))))","v":0},{"$f":"IF(AI23=0,0,IF(AJ$2=\"Year\",IF(_xlfn.MAXIFS($N23:AI23,$N$2:AI$2,\"Year\")+$E23<=$E$1,AG23+$E23,0),IF(AJ$2=\"Repair %\",IF(AG23>0,$C23,0),IF(AJ$2=\"Spares %\",IF(IF(AG23>0,$C23,0)*100>50%,50%,IF(AG23>0,$C23,0)*100),0))))","v":0},{"$f":"IF(AJ23=0,0,IF(AK$2=\"Year\",IF(_xlfn.MAXIFS($N23:AJ23,$N$2:AJ$2,\"Year\")+$E23<=$E$1,AH23+$E23,0),IF(AK$2=\"Repair %\",IF(AH23>0,$C23,0),IF(AK$2=\"Spares %\",IF(IF(AF23>0,$C23,0)*5>80%,50%,IF(AF23>0,$C23,0)*5),0))))","v":0},{"$f":"IF(AK23=0,0,IF(AL$2=\"Year\",IF(_xlfn.MAXIFS($N23:AK23,$N$2:AK$2,\"Year\")+$E23<=$E$1,AI23+$E23,0),IF(AL$2=\"Repair %\",IF(AI23>0,$C$3,0),IF(AL$2=\"Spares %\",IF(IF(AI23>0,$C23,0)*100>50%,50%,IF(AI23>0,$C23,0)*100),0))))","v":0},{"$f":"IF(AL23=0,0,IF(AM$2=\"Year\",IF(_xlfn.MAXIFS($N23:AL23,$N$2:AL$2,\"Year\")+$E23<=$E$1,AJ23+$E23,0),IF(AM$2=\"Repair %\",IF(AJ23>0,$C23,0),IF(AM$2=\"Spares %\",IF(IF(AJ23>0,$C23,0)*100>50%,50%,IF(AJ23>0,$C23,0)*100),0))))","v":0},{"$f":"IF(AM23=0,0,IF(AN$2=\"Year\",IF(_xlfn.MAXIFS($N23:AM23,$N$2:AM$2,\"Year\")+$E23<=$E$1,AK23+$E23,0),IF(AN$2=\"Repair %\",IF(AK23>0,$C23,0),IF(AN$2=\"Spares %\",IF(IF(AI23>0,$C23,0)*5>80%,50%,IF(AI23>0,$C23,0)*5),0))))","v":0},{"$f":"IF(AN23=0,0,IF(AO$2=\"Year\",IF(_xlfn.MAXIFS($N23:AN23,$N$2:AN$2,\"Year\")+$E23<=$E$1,AL23+$E23,0),IF(AO$2=\"Repair %\",IF(AL23>0,$C$3,0),IF(AO$2=\"Spares %\",IF(IF(AL23>0,$C23,0)*100>50%,50%,IF(AL23>0,$C23,0)*100),0))))","v":0},{"$f":"IF(AO23=0,0,IF(AP$2=\"Year\",IF(_xlfn.MAXIFS($N23:AO23,$N$2:AO$2,\"Year\")+$E23<=$E$1,AM23+$E23,0),IF(AP$2=\"Repair %\",IF(AM23>0,$C23,0),IF(AP$2=\"Spares %\",IF(IF(AM23>0,$C23,0)*100>50%,50%,IF(AM23>0,$C23,0)*100),0))))","v":0},{"$f":"IF(AP23=0,0,IF(AQ$2=\"Year\",IF(_xlfn.MAXIFS($N23:AP23,$N$2:AP$2,\"Year\")+$E23<=$E$1,AN23+$E23,0),IF(AQ$2=\"Repair %\",IF(AN23>0,$C23,0),IF(AQ$2=\"Spares %\",IF(IF(AL23>0,$C23,0)*5>80%,50%,IF(AL23>0,$C23,0)*5),0))))","v":0}]
[{"$f":"INDEX('Avionics ID'!A:E,MATCH(B24,'Avionics ID'!E:E,0),1)","v":745},"ATC control box",6.6666666666666666E-2,0.06,15,"Obsolecence",{"$f":"SUBSTITUTE(ADDRESS(1,MATCH(A24,'Pt1-AvionicsComponentCosts'!$A$6:$NC$6,0)+1),\"$1\",\"\")","v":"$MB"},{"$f":"_xlfn.TEXTJOIN(\", \",TRUE,_xlfn.UNIQUE(_xlfn._xlws.SORT(_xlfn._xlws.FILTER('Pt1-AvionicsComponentCosts'!$NF$12:$NF$384,ISNUMBER(INDIRECT(\"'Pt1-AvionicsComponentCosts'!\"&G24&\"$12:\"&G24&\"$384\"))))))","v":"A220, A320, A321, ATR, B717, B737, B757, C919, EMB Regional, MC-21, Mil Transport, Military Jet, NSA"},null,0.06,7.0000000000000007E-2,0.44800000000000001,1.298,{"$f":"COUNTIF($N$2:N$2,\"Year\")*$G$1","v":10},null,0.5,{"$f":"COUNTIF($N$2:Q$2,\"Year\")*$G$1","v":20},{"$f":"IF(Q24=0,0,IF(R$2=\"Year\",IF(_xlfn.MAXIFS($N24:Q24,$N$2:Q$2,\"Year\")+$E24<=$E$1,O24+$E24,0),IF(R$2=\"Repair %\",IF(O24>0,$C24,0),IF(R$2=\"Spares %\",IF(IF(O24>0,$C24,0)*100>50%,50%,IF(O24>0,$C24,0)*100),0))))","v":0},0.5,{"$f":"COUNTIF($N$2:T$2,\"Year\")*$G$1","v":30},{"$f":"IF(T24=0,0,IF(U$2=\"Year\",IF(_xlfn.MAXIFS($N24:T24,$N$2:T$2,\"Year\")+$E24<=$E$1,R24+$E24,0),IF(U$2=\"Repair %\",IF(R24>0,$C24,0),IF(U$2=\"Spares %\",IF(IF(R24>0,$C24,0)*100>50%,50%,IF(R24>0,$C24,0)*100),0))))","v":0},1,{"$f":"COUNTIF($N$2:W$2,\"Year\")*$G$1","v":40},{"$f":"IF(W24=0,0,IF(X$2=\"Year\",IF(_xlfn.MAXIFS($N24:W24,$N$2:W$2,\"Year\")+$E24<=$E$1,U24+$E24,0),IF(X$2=\"Repair %\",IF(U24>0,$C24,0),IF(X$2=\"Spares %\",IF(IF(U24>0,$C24,0)*100>50%,50%,IF(U24>0,$C24,0)*100),0))))","v":0},0.5,{"$f":"IF(Y24=0,0,IF(Z$2=\"Year\",IF(_xlfn.MAXIFS($N24:Y24,$N$2:Y$2,\"Year\")+$E24<=$E$1,W24+$E24,0),IF(Z$2=\"Repair %\",IF(W24>0,$C$3,0),IF(Z$2=\"Spares %\",IF(IF(W24>0,$C24,0)*100>50%,50%,IF(W24>0,$C24,0)*100),0))))","v":0},{"$f":"IF(Z24=0,0,IF(AA$2=\"Year\",IF(_xlfn.MAXIFS($N24:Z24,$N$2:Z$2,\"Year\")+$E24<=$E$1,X24+$E24,0),IF(AA$2=\"Repair %\",IF(X24>0,$C24,0),IF(AA$2=\"Spares %\",IF(IF(X24>0,$C24,0)*100>50%,50%,IF(X24>0,$C24,0)*100),0))))","v":0},{"$f":"IF(AA24=0,0,IF(AB$2=\"Year\",IF(_xlfn.MAXIFS($N24:AA24,$N$2:AA$2,\"Year\")+$E24<=$E$1,Y24+$E24,0),IF(AB$2=\"Repair %\",IF(Y24>0,$C24,0),IF(AB$2=\"Spares %\",IF(IF(W24>0,$C24,0)*5>80%,50%,IF(W24>0,$C24,0)*5),0))))","v":0},{"$f":"IF(AB24=0,0,IF(AC$2=\"Year\",IF(_xlfn.MAXIFS($N24:AB24,$N$2:AB$2,\"Year\")+$E24<=$E$1,Z24+$E24,0),IF(AC$2=\"Repair %\",IF(Z24>0,$C$3,0),IF(AC$2=\"Spares %\",IF(IF(Z24>0,$C24,0)*100>50%,50%,IF(Z24>0,$C24,0)*100),0))))","v":0},{"$f":"IF(AC24=0,0,IF(AD$2=\"Year\",IF(_xlfn.MAXIFS($N24:AC24,$N$2:AC$2,\"Year\")+$E24<=$E$1,AA24+$E24,0),IF(AD$2=\"Repair %\",IF(AA24>0,$C24,0),IF(AD$2=\"Spares %\",IF(IF(AA24>0,$C24,0)*100>50%,50%,IF(AA24>0,$C24,0)*100),0))))","v":0},{"$f":"IF(AD24=0,0,IF(AE$2=\"Year\",IF(_xlfn.MAXIFS($N24:AD24,$N$2:AD$2,\"Year\")+$E24<=$E$1,AB24+$E24,0),IF(AE$2=\"Repair %\",IF(AB24>0,$C24,0),IF(AE$2=\"Spares %\",IF(IF(Z24>0,$C24,0)*5>80%,50%,IF(Z24>0,$C24,0)*5),0))))","v":0},{"$f":"IF(AE24=0,0,IF(AF$2=\"Year\",IF(_xlfn.MAXIFS($N24:AE24,$N$2:AE$2,\"Year\")+$E24<=$E$1,AC24+$E24,0),IF(AF$2=\"Repair %\",IF(AC24>0,$C$3,0),IF(AF$2=\"Spares %\",IF(IF(AC24>0,$C24,0)*100>50%,50%,IF(AC24>0,$C24,0)*100),0))))","v":0},{"$f":"IF(AF24=0,0,IF(AG$2=\"Year\",IF(_xlfn.MAXIFS($N24:AF24,$N$2:AF$2,\"Year\")+$E24<=$E$1,AD24+$E24,0),IF(AG$2=\"Repair %\",IF(AD24>0,$C24,0),IF(AG$2=\"Spares %\",IF(IF(AD24>0,$C24,0)*100>50%,50%,IF(AD24>0,$C24,0)*100),0))))","v":0},{"$f":"IF(AG24=0,0,IF(AH$2=\"Year\",IF(_xlfn.MAXIFS($N24:AG24,$N$2:AG$2,\"Year\")+$E24<=$E$1,AE24+$E24,0),IF(AH$2=\"Repair %\",IF(AE24>0,$C24,0),IF(AH$2=\"Spares %\",IF(IF(AC24>0,$C24,0)*5>80%,50%,IF(AC24>0,$C24,0)*5),0))))","v":0},{"$f":"IF(AH24=0,0,IF(AI$2=\"Year\",IF(_xlfn.MAXIFS($N24:AH24,$N$2:AH$2,\"Year\")+$E24<=$E$1,AF24+$E24,0),IF(AI$2=\"Repair %\",IF(AF24>0,$C$3,0),IF(AI$2=\"Spares %\",IF(IF(AF24>0,$C24,0)*100>50%,50%,IF(AF24>0,$C24,0)*100),0))))","v":0},{"$f":"IF(AI24=0,0,IF(AJ$2=\"Year\",IF(_xlfn.MAXIFS($N24:AI24,$N$2:AI$2,\"Year\")+$E24<=$E$1,AG24+$E24,0),IF(AJ$2=\"Repair %\",IF(AG24>0,$C24,0),IF(AJ$2=\"Spares %\",IF(IF(AG24>0,$C24,0)*100>50%,50%,IF(AG24>0,$C24,0)*100),0))))","v":0},{"$f":"IF(AJ24=0,0,IF(AK$2=\"Year\",IF(_xlfn.MAXIFS($N24:AJ24,$N$2:AJ$2,\"Year\")+$E24<=$E$1,AH24+$E24,0),IF(AK$2=\"Repair %\",IF(AH24>0,$C24,0),IF(AK$2=\"Spares %\",IF(IF(AF24>0,$C24,0)*5>80%,50%,IF(AF24>0,$C24,0)*5),0))))","v":0},{"$f":"IF(AK24=0,0,IF(AL$2=\"Year\",IF(_xlfn.MAXIFS($N24:AK24,$N$2:AK$2,\"Year\")+$E24<=$E$1,AI24+$E24,0),IF(AL$2=\"Repair %\",IF(AI24>0,$C$3,0),IF(AL$2=\"Spares %\",IF(IF(AI24>0,$C24,0)*100>50%,50%,IF(AI24>0,$C24,0)*100),0))))","v":0},{"$f":"IF(AL24=0,0,IF(AM$2=\"Year\",IF(_xlfn.MAXIFS($N24:AL24,$N$2:AL$2,\"Year\")+$E24<=$E$1,AJ24+$E24,0),IF(AM$2=\"Repair %\",IF(AJ24>0,$C24,0),IF(AM$2=\"Spares %\",IF(IF(AJ24>0,$C24,0)*100>50%,50%,IF(AJ24>0,$C24,0)*100),0))))","v":0},{"$f":"IF(AM24=0,0,IF(AN$2=\"Year\",IF(_xlfn.MAXIFS($N24:AM24,$N$2:AM$2,\"Year\")+$E24<=$E$1,AK24+$E24,0),IF(AN$2=\"Repair %\",IF(AK24>0,$C24,0),IF(AN$2=\"Spares %\",IF(IF(AI24>0,$C24,0)*5>80%,50%,IF(AI24>0,$C24,0)*5),0))))","v":0},{"$f":"IF(AN24=0,0,IF(AO$2=\"Year\",IF(_xlfn.MAXIFS($N24:AN24,$N$2:AN$2,\"Year\")+$E24<=$E$1,AL24+$E24,0),IF(AO$2=\"Repair %\",IF(AL24>0,$C$3,0),IF(AO$2=\"Spares %\",IF(IF(AL24>0,$C24,0)*100>50%,50%,IF(AL24>0,$C24,0)*100),0))))","v":0},{"$f":"IF(AO24=0,0,IF(AP$2=\"Year\",IF(_xlfn.MAXIFS($N24:AO24,$N$2:AO$2,\"Year\")+$E24<=$E$1,AM24+$E24,0),IF(AP$2=\"Repair %\",IF(AM24>0,$C24,0),IF(AP$2=\"Spares %\",IF(IF(AM24>0,$C24,0)*100>50%,50%,IF(AM24>0,$C24,0)*100),0))))","v":0},{"$f":"IF(AP24=0,0,IF(AQ$2=\"Year\",IF(_xlfn.MAXIFS($N24:AP24,$N$2:AP$2,\"Year\")+$E24<=$E$1,AN24+$E24,0),IF(AQ$2=\"Repair %\",IF(AN24>0,$C24,0),IF(AQ$2=\"Spares %\",IF(IF(AL24>0,$C24,0)*5>80%,50%,IF(AL24>0,$C24,0)*5),0))))","v":0}]
[{"$f":"INDEX('Avionics ID'!A:E,MATCH(B25,'Avionics ID'!E:E,0),1)","v":744},"ATC Mode S Transponders (TCAS)",6.6666666666666666E-2,0.06,15,"Obsolecence",{"$f":"SUBSTITUTE(ADDRESS(1,MATCH(A25,'Pt1-AvionicsComponentCosts'!$A$6:$NC$6,0)+1),\"$1\",\"\")","v":"$MD"},{"$f":"_xlfn.TEXTJOIN(\", \",TRUE,_xlfn.UNIQUE(_xlfn._xlws.SORT(_xlfn._xlws.FILTER('Pt1-AvionicsComponentCosts'!$NF$12:$NF$384,ISNUMBER(INDIRECT(\"'Pt1-AvionicsComponentCosts'!\"&G25&\"$12:\"&G25&\"$384\"))))))","v":"A220, A300, A320, A321, A330, A340, A350, A380, ATR, B717, B737, B747, B757, B767, B777, B787, C919, EMB Regional, MC-21, MD-11, Mil Transport, Military Jet, NSA"},null,0.06,7.0000000000000007E-2,0.44800000000000001,1.298,{"$f":"COUNTIF($N$2:N$2,\"Year\")*$G$1","v":10},null,0.5,{"$f":"COUNTIF($N$2:Q$2,\"Year\")*$G$1","v":20},{"$f":"IF(Q25=0,0,IF(R$2=\"Year\",IF(_xlfn.MAXIFS($N25:Q25,$N$2:Q$2,\"Year\")+$E25<=$E$1,O25+$E25,0),IF(R$2=\"Repair %\",IF(O25>0,$C25,0),IF(R$2=\"Spares %\",IF(IF(O25>0,$C25,0)*100>50%,50%,IF(O25>0,$C25,0)*100),0))))","v":0},0.5,{"$f":"COUNTIF($N$2:T$2,\"Year\")*$G$1","v":30},{"$f":"IF(T25=0,0,IF(U$2=\"Year\",IF(_xlfn.MAXIFS($N25:T25,$N$2:T$2,\"Year\")+$E25<=$E$1,R25+$E25,0),IF(U$2=\"Repair %\",IF(R25>0,$C25,0),IF(U$2=\"Spares %\",IF(IF(R25>0,$C25,0)*100>50%,50%,IF(R25>0,$C25,0)*100),0))))","v":0},1,{"$f":"COUNTIF($N$2:W$2,\"Year\")*$G$1","v":40},{"$f":"IF(W25=0,0,IF(X$2=\"Year\",IF(_xlfn.MAXIFS($N25:W25,$N$2:W$2,\"Year\")+$E25<=$E$1,U25+$E25,0),IF(X$2=\"Repair %\",IF(U25>0,$C25,0),IF(X$2=\"Spares %\",IF(IF(U25>0,$C25,0)*100>50%,50%,IF(U25>0,$C25,0)*100),0))))","v":0},0.5,{"$f":"IF(Y25=0,0,IF(Z$2=\"Year\",IF(_xlfn.MAXIFS($N25:Y25,$N$2:Y$2,\"Year\")+$E25<=$E$1,W25+$E25,0),IF(Z$2=\"Repair %\",IF(W25>0,$C$3,0),IF(Z$2=\"Spares %\",IF(IF(W25>0,$C25,0)*100>50%,50%,IF(W25>0,$C25,0)*100),0))))","v":0},{"$f":"IF(Z25=0,0,IF(AA$2=\"Year\",IF(_xlfn.MAXIFS($N25:Z25,$N$2:Z$2,\"Year\")+$E25<=$E$1,X25+$E25,0),IF(AA$2=\"Repair %\",IF(X25>0,$C25,0),IF(AA$2=\"Spares %\",IF(IF(X25>0,$C25,0)*100>50%,50%,IF(X25>0,$C25,0)*100),0))))","v":0},{"$f":"IF(AA25=0,0,IF(AB$2=\"Year\",IF(_xlfn.MAXIFS($N25:AA25,$N$2:AA$2,\"Year\")+$E25<=$E$1,Y25+$E25,0),IF(AB$2=\"Repair %\",IF(Y25>0,$C25,0),IF(AB$2=\"Spares %\",IF(IF(W25>0,$C25,0)*5>80%,50%,IF(W25>0,$C25,0)*5),0))))","v":0},{"$f":"IF(AB25=0,0,IF(AC$2=\"Year\",IF(_xlfn.MAXIFS($N25:AB25,$N$2:AB$2,\"Year\")+$E25<=$E$1,Z25+$E25,0),IF(AC$2=\"Repair %\",IF(Z25>0,$C$3,0),IF(AC$2=\"Spares %\",IF(IF(Z25>0,$C25,0)*100>50%,50%,IF(Z25>0,$C25,0)*100),0))))","v":0},{"$f":"IF(AC25=0,0,IF(AD$2=\"Year\",IF(_xlfn.MAXIFS($N25:AC25,$N$2:AC$2,\"Year\")+$E25<=$E$1,AA25+$E25,0),IF(AD$2=\"Repair %\",IF(AA25>0,$C25,0),IF(AD$2=\"Spares %\",IF(IF(AA25>0,$C25,0)*100>50%,50%,IF(AA25>0,$C25,0)*100),0))))","v":0},{"$f":"IF(AD25=0,0,IF(AE$2=\"Year\",IF(_xlfn.MAXIFS($N25:AD25,$N$2:AD$2,\"Year\")+$E25<=$E$1,AB25+$E25,0),IF(AE$2=\"Repair %\",IF(AB25>0,$C25,0),IF(AE$2=\"Spares %\",IF(IF(Z25>0,$C25,0)*5>80%,50%,IF(Z25>0,$C25,0)*5),0))))","v":0},{"$f":"IF(AE25=0,0,IF(AF$2=\"Year\",IF(_xlfn.MAXIFS($N25:AE25,$N$2:AE$2,\"Year\")+$E25<=$E$1,AC25+$E25,0),IF(AF$2=\"Repair %\",IF(AC25>0,$C$3,0),IF(AF$2=\"Spares %\",IF(IF(AC25>0,$C25,0)*100>50%,50%,IF(AC25>0,$C25,0)*100),0))))","v":0},{"$f":"IF(AF25=0,0,IF(AG$2=\"Year\",IF(_xlfn.MAXIFS($N25:AF25,$N$2:AF$2,\"Year\")+$E25<=$E$1,AD25+$E25,0),IF(AG$2=\"Repair %\",IF(AD25>0,$C25,0),IF(AG$2=\"Spares %\",IF(IF(AD25>0,$C25,0)*100>50%,50%,IF(AD25>0,$C25,0)*100),0))))","v":0},{"$f":"IF(AG25=0,0,IF(AH$2=\"Year\",IF(_xlfn.MAXIFS($N25:AG25,$N$2:AG$2,\"Year\")+$E25<=$E$1,AE25+$E25,0),IF(AH$2=\"Repair %\",IF(AE25>0,$C25,0),IF(AH$2=\"Spares %\",IF(IF(AC25>0,$C25,0)*5>80%,50%,IF(AC25>0,$C25,0)*5),0))))","v":0},{"$f":"IF(AH25=0,0,IF(AI$2=\"Year\",IF(_xlfn.MAXIFS($N25:AH25,$N$2:AH$2,\"Year\")+$E25<=$E$1,AF25+$E25,0),IF(AI$2=\"Repair %\",IF(AF25>0,$C$3,0),IF(AI$2=\"Spares %\",IF(IF(AF25>0,$C25,0)*100>50%,50%,IF(AF25>0,$C25,0)*100),0))))","v":0},{"$f":"IF(AI25=0,0,IF(AJ$2=\"Year\",IF(_xlfn.MAXIFS($N25:AI25,$N$2:AI$2,\"Year\")+$E25<=$E$1,AG25+$E25,0),IF(AJ$2=\"Repair %\",IF(AG25>0,$C25,0),IF(AJ$2=\"Spares %\",IF(IF(AG25>0,$C25,0)*100>50%,50%,IF(AG25>0,$C25,0)*100),0))))","v":0},{"$f":"IF(AJ25=0,0,IF(AK$2=\"Year\",IF(_xlfn.MAXIFS($N25:AJ25,$N$2:AJ$2,\"Year\")+$E25<=$E$1,AH25+$E25,0),IF(AK$2=\"Repair %\",IF(AH25>0,$C25,0),IF(AK$2=\"Spares %\",IF(IF(AF25>0,$C25,0)*5>80%,50%,IF(AF25>0,$C25,0)*5),0))))","v":0},{"$f":"IF(AK25=0,0,IF(AL$2=\"Year\",IF(_xlfn.MAXIFS($N25:AK25,$N$2:AK$2,\"Year\")+$E25<=$E$1,AI25+$E25,0),IF(AL$2=\"Repair %\",IF(AI25>0,$C$3,0),IF(AL$2=\"Spares %\",IF(IF(AI25>0,$C25,0)*100>50%,50%,IF(AI25>0,$C25,0)*100),0))))","v":0},{"$f":"IF(AL25=0,0,IF(AM$2=\"Year\",IF(_xlfn.MAXIFS($N25:AL25,$N$2:AL$2,\"Year\")+$E25<=$E$1,AJ25+$E25,0),IF(AM$2=\"Repair %\",IF(AJ25>0,$C25,0),IF(AM$2=\"Spares %\",IF(IF(AJ25>0,$C25,0)*100>50%,50%,IF(AJ25>0,$C25,0)*100),0))))","v":0},{"$f":"IF(AM25=0,0,IF(AN$2=\"Year\",IF(_xlfn.MAXIFS($N25:AM25,$N$2:AM$2,\"Year\")+$E25<=$E$1,AK25+$E25,0),IF(AN$2=\"Repair %\",IF(AK25>0,$C25,0),IF(AN$2=\"Spares %\",IF(IF(AI25>0,$C25,0)*5>80%,50%,IF(AI25>0,$C25,0)*5),0))))","v":0},{"$f":"IF(AN25=0,0,IF(AO$2=\"Year\",IF(_xlfn.MAXIFS($N25:AN25,$N$2:AN$2,\"Year\")+$E25<=$E$1,AL25+$E25,0),IF(AO$2=\"Repair %\",IF(AL25>0,$C$3,0),IF(AO$2=\"Spares %\",IF(IF(AL25>0,$C25,0)*100>50%,50%,IF(AL25>0,$C25,0)*100),0))))","v":0},{"$f":"IF(AO25=0,0,IF(AP$2=\"Year\",IF(_xlfn.MAXIFS($N25:AO25,$N$2:AO$2,\"Year\")+$E25<=$E$1,AM25+$E25,0),IF(AP$2=\"Repair %\",IF(AM25>0,$C25,0),IF(AP$2=\"Spares %\",IF(IF(AM25>0,$C25,0)*100>50%,50%,IF(AM25>0,$C25,0)*100),0))))","v":0},{"$f":"IF(AP25=0,0,IF(AQ$2=\"Year\",IF(_xlfn.MAXIFS($N25:AP25,$N$2:AP$2,\"Year\")+$E25<=$E$1,AN25+$E25,0),IF(AQ$2=\"Repair %\",IF(AN25>0,$C25,0),IF(AQ$2=\"Spares %\",IF(IF(AL25>0,$C25,0)*5>80%,50%,IF(AL25>0,$C25,0)*5),0))))","v":0}]
[{"$f":"INDEX('Avionics ID'!A:E,MATCH(B26,'Avionics ID'!E:E,0),1)","v":828},"ATC Transponder",6.6666666666666666E-2,0.06,15,"Obsolecence",{"$f":"SUBSTITUTE(ADDRESS(1,MATCH(A26,'Pt1-AvionicsComponentCosts'!$A$6:$NC$6,0)+1),\"$1\",\"\")","v":"$Z"},{"$f":"_xlfn.TEXTJOIN(\", \",TRUE,_xlfn.UNIQUE(_xlfn._xlws.SORT(_xlfn._xlws.FILTER('Pt1-AvionicsComponentCosts'!$NF$12:$NF$384,ISNUMBER(INDIRECT(\"'Pt1-AvionicsComponentCosts'!\"&G26&\"$12:\"&G26&\"$384\"))))))","v":"Challenger, Citation, E550, EMB Bizjet, Falcon, Global, Gulfstream, Hawker, Hondajet, Learjet, Nextant 400XT, PC-24, Phenom, Praetor, SF50"},null,0.06,7.0000000000000007E-2,0.501,1.2969999999999999,{"$f":"COUNTIF($N$2:N$2,\"Year\")*$G$1","v":10},null,0.5,{"$f":"COUNTIF($N$2:Q$2,\"Year\")*$G$1","v":20},{"$f":"IF(Q26=0,0,IF(R$2=\"Year\",IF(_xlfn.MAXIFS($N26:Q26,$N$2:Q$2,\"Year\")+$E26<=$E$1,O26+$E26,0),IF(R$2=\"Repair %\",IF(O26>0,$C26,0),IF(R$2=\"Spares %\",IF(IF(O26>0,$C26,0)*100>50%,50%,IF(O26>0,$C26,0)*100),0))))","v":0},0.5,{"$f":"COUNTIF($N$2:T$2,\"Year\")*$G$1","v":30},{"$f":"IF(T26=0,0,IF(U$2=\"Year\",IF(_xlfn.MAXIFS($N26:T26,$N$2:T$2,\"Year\")+$E26<=$E$1,R26+$E26,0),IF(U$2=\"Repair %\",IF(R26>0,$C26,0),IF(U$2=\"Spares %\",IF(IF(R26>0,$C26,0)*100>50%,50%,IF(R26>0,$C26,0)*100),0))))","v":0},1,{"$f":"COUNTIF($N$2:W$2,\"Year\")*$G$1","v":40},{"$f":"IF(W26=0,0,IF(X$2=\"Year\",IF(_xlfn.MAXIFS($N26:W26,$N$2:W$2,\"Year\")+$E26<=$E$1,U26+$E26,0),IF(X$2=\"Repair %\",IF(U26>0,$C26,0),IF(X$2=\"Spares %\",IF(IF(U26>0,$C26,0)*100>50%,50%,IF(U26>0,$C26,0)*100),0))))","v":0},0.5,{"$f":"IF(Y26=0,0,IF(Z$2=\"Year\",IF(_xlfn.MAXIFS($N26:Y26,$N$2:Y$2,\"Year\")+$E26<=$E$1,W26+$E26,0),IF(Z$2=\"Repair %\",IF(W26>0,$C$3,0),IF(Z$2=\"Spares %\",IF(IF(W26>0,$C26,0)*100>50%,50%,IF(W26>0,$C26,0)*100),0))))","v":0},{"$f":"IF(Z26=0,0,IF(AA$2=\"Year\",IF(_xlfn.MAXIFS($N26:Z26,$N$2:Z$2,\"Year\")+$E26<=$E$1,X26+$E26,0),IF(AA$2=\"Repair %\",IF(X26>0,$C26,0),IF(AA$2=\"Spares %\",IF(IF(X26>0,$C26,0)*100>50%,50%,IF(X26>0,$C26,0)*100),0))))","v":0},{"$f":"IF(AA26=0,0,IF(AB$2=\"Year\",IF(_xlfn.MAXIFS($N26:AA26,$N$2:AA$2,\"Year\")+$E26<=$E$1,Y26+$E26,0),IF(AB$2=\"Repair %\",IF(Y26>0,$C26,0),IF(AB$2=\"Spares %\",IF(IF(W26>0,$C26,0)*5>80%,50%,IF(W26>0,$C26,0)*5),0))))","v":0},{"$f":"IF(AB26=0,0,IF(AC$2=\"Year\",IF(_xlfn.MAXIFS($N26:AB26,$N$2:AB$2,\"Year\")+$E26<=$E$1,Z26+$E26,0),IF(AC$2=\"Repair %\",IF(Z26>0,$C$3,0),IF(AC$2=\"Spares %\",IF(IF(Z26>0,$C26,0)*100>50%,50%,IF(Z26>0,$C26,0)*100),0))))","v":0},{"$f":"IF(AC26=0,0,IF(AD$2=\"Year\",IF(_xlfn.MAXIFS($N26:AC26,$N$2:AC$2,\"Year\")+$E26<=$E$1,AA26+$E26,0),IF(AD$2=\"Repair %\",IF(AA26>0,$C26,0),IF(AD$2=\"Spares %\",IF(IF(AA26>0,$C26,0)*100>50%,50%,IF(AA26>0,$C26,0)*100),0))))","v":0},{"$f":"IF(AD26=0,0,IF(AE$2=\"Year\",IF(_xlfn.MAXIFS($N26:AD26,$N$2:AD$2,\"Year\")+$E26<=$E$1,AB26+$E26,0),IF(AE$2=\"Repair %\",IF(AB26>0,$C26,0),IF(AE$2=\"Spares %\",IF(IF(Z26>0,$C26,0)*5>80%,50%,IF(Z26>0,$C26,0)*5),0))))","v":0},{"$f":"IF(AE26=0,0,IF(AF$2=\"Year\",IF(_xlfn.MAXIFS($N26:AE26,$N$2:AE$2,\"Year\")+$E26<=$E$1,AC26+$E26,0),IF(AF$2=\"Repair %\",IF(AC26>0,$C$3,0),IF(AF$2=\"Spares %\",IF(IF(AC26>0,$C26,0)*100>50%,50%,IF(AC26>0,$C26,0)*100),0))))","v":0},{"$f":"IF(AF26=0,0,IF(AG$2=\"Year\",IF(_xlfn.MAXIFS($N26:AF26,$N$2:AF$2,\"Year\")+$E26<=$E$1,AD26+$E26,0),IF(AG$2=\"Repair %\",IF(AD26>0,$C26,0),IF(AG$2=\"Spares %\",IF(IF(AD26>0,$C26,0)*100>50%,50%,IF(AD26>0,$C26,0)*100),0))))","v":0},{"$f":"IF(AG26=0,0,IF(AH$2=\"Year\",IF(_xlfn.MAXIFS($N26:AG26,$N$2:AG$2,\"Year\")+$E26<=$E$1,AE26+$E26,0),IF(AH$2=\"Repair %\",IF(AE26>0,$C26,0),IF(AH$2=\"Spares %\",IF(IF(AC26>0,$C26,0)*5>80%,50%,IF(AC26>0,$C26,0)*5),0))))","v":0},{"$f":"IF(AH26=0,0,IF(AI$2=\"Year\",IF(_xlfn.MAXIFS($N26:AH26,$N$2:AH$2,\"Year\")+$E26<=$E$1,AF26+$E26,0),IF(AI$2=\"Repair %\",IF(AF26>0,$C$3,0),IF(AI$2=\"Spares %\",IF(IF(AF26>0,$C26,0)*100>50%,50%,IF(AF26>0,$C26,0)*100),0))))","v":0},{"$f":"IF(AI26=0,0,IF(AJ$2=\"Year\",IF(_xlfn.MAXIFS($N26:AI26,$N$2:AI$2,\"Year\")+$E26<=$E$1,AG26+$E26,0),IF(AJ$2=\"Repair %\",IF(AG26>0,$C26,0),IF(AJ$2=\"Spares %\",IF(IF(AG26>0,$C26,0)*100>50%,50%,IF(AG26>0,$C26,0)*100),0))))","v":0},{"$f":"IF(AJ26=0,0,IF(AK$2=\"Year\",IF(_xlfn.MAXIFS($N26:AJ26,$N$2:AJ$2,\"Year\")+$E26<=$E$1,AH26+$E26,0),IF(AK$2=\"Repair %\",IF(AH26>0,$C26,0),IF(AK$2=\"Spares %\",IF(IF(AF26>0,$C26,0)*5>80%,50%,IF(AF26>0,$C26,0)*5),0))))","v":0},{"$f":"IF(AK26=0,0,IF(AL$2=\"Year\",IF(_xlfn.MAXIFS($N26:AK26,$N$2:AK$2,\"Year\")+$E26<=$E$1,AI26+$E26,0),IF(AL$2=\"Repair %\",IF(AI26>0,$C$3,0),IF(AL$2=\"Spares %\",IF(IF(AI26>0,$C26,0)*100>50%,50%,IF(AI26>0,$C26,0)*100),0))))","v":0},{"$f":"IF(AL26=0,0,IF(AM$2=\"Year\",IF(_xlfn.MAXIFS($N26:AL26,$N$2:AL$2,\"Year\")+$E26<=$E$1,AJ26+$E26,0),IF(AM$2=\"Repair %\",IF(AJ26>0,$C26,0),IF(AM$2=\"Spares %\",IF(IF(AJ26>0,$C26,0)*100>50%,50%,IF(AJ26>0,$C26,0)*100),0))))","v":0},{"$f":"IF(AM26=0,0,IF(AN$2=\"Year\",IF(_xlfn.MAXIFS($N26:AM26,$N$2:AM$2,\"Year\")+$E26<=$E$1,AK26+$E26,0),IF(AN$2=\"Repair %\",IF(AK26>0,$C26,0),IF(AN$2=\"Spares %\",IF(IF(AI26>0,$C26,0)*5>80%,50%,IF(AI26>0,$C26,0)*5),0))))","v":0},{"$f":"IF(AN26=0,0,IF(AO$2=\"Year\",IF(_xlfn.MAXIFS($N26:AN26,$N$2:AN$2,\"Year\")+$E26<=$E$1,AL26+$E26,0),IF(AO$2=\"Repair %\",IF(AL26>0,$C$3,0),IF(AO$2=\"Spares %\",IF(IF(AL26>0,$C26,0)*100>50%,50%,IF(AL26>0,$C26,0)*100),0))))","v":0},{"$f":"IF(AO26=0,0,IF(AP$2=\"Year\",IF(_xlfn.MAXIFS($N26:AO26,$N$2:AO$2,\"Year\")+$E26<=$E$1,AM26+$E26,0),IF(AP$2=\"Repair %\",IF(AM26>0,$C26,0),IF(AP$2=\"Spares %\",IF(IF(AM26>0,$C26,0)*100>50%,50%,IF(AM26>0,$C26,0)*100),0))))","v":0},{"$f":"IF(AP26=0,0,IF(AQ$2=\"Year\",IF(_xlfn.MAXIFS($N26:AP26,$N$2:AP$2,\"Year\")+$E26<=$E$1,AN26+$E26,0),IF(AQ$2=\"Repair %\",IF(AN26>0,$C26,0),IF(AQ$2=\"Spares %\",IF(IF(AL26>0,$C26,0)*5>80%,50%,IF(AL26>0,$C26,0)*5),0))))","v":0}]
[{"$f":"INDEX('Avionics ID'!A:E,MATCH(B27,'Avionics ID'!E:E,0),1)","v":742},"Audio Control Panel",0.1,0.06,10,"Obsolecence",{"$f":"SUBSTITUTE(ADDRESS(1,MATCH(A27,'Pt1-AvionicsComponentCosts'!$A$6:$NC$6,0)+1),\"$1\",\"\")","v":"$AB"},{"$f":"_xlfn.TEXTJOIN(\", \",TRUE,_xlfn.UNIQUE(_xlfn._xlws.SORT(_xlfn._xlws.FILTER('Pt1-AvionicsComponentCosts'!$NF$12:$NF$384,ISNUMBER(INDIRECT(\"'Pt1-AvionicsComponentCosts'!\"&G27&\"$12:\"&G27&\"$384\"))))))","v":"A220, A320, A321, ARJ, ATR, B717, B737, B757, C919, CRJ, EMB Regional, MC-21, Mil Transport, Military Jet, NSA, Reg TP, Superjet 100, Turbine GA"},null,0.06,0.1,0.501,1.2969999999999999,{"$f":"COUNTIF($N$2:N$2,\"Year\")*$G$1","v":10},null,1,{"$f":"COUNTIF($N$2:Q$2,\"Year\")*$G$1","v":20},{"$f":"IF(Q27=0,0,IF(R$2=\"Year\",IF(_xlfn.MAXIFS($N27:Q27,$N$2:Q$2,\"Year\")+$E27<=$E$1,O27+$E27,0),IF(R$2=\"Repair %\",IF(O27>0,$C27,0),IF(R$2=\"Spares %\",IF(IF(O27>0,$C27,0)*100>50%,50%,IF(O27>0,$C27,0)*100),0))))","v":0},1,{"$f":"COUNTIF($N$2:T$2,\"Year\")*$G$1","v":30},{"$f":"IF(T27=0,0,IF(U$2=\"Year\",IF(_xlfn.MAXIFS($N27:T27,$N$2:T$2,\"Year\")+$E27<=$E$1,R27+$E27,0),IF(U$2=\"Repair %\",IF(R27>0,$C27,0),IF(U$2=\"Spares %\",IF(IF(R27>0,$C27,0)*100>50%,50%,IF(R27>0,$C27,0)*100),0))))","v":0},1,{"$f":"COUNTIF($N$2:W$2,\"Year\")*$G$1","v":40},{"$f":"IF(W27=0,0,IF(X$2=\"Year\",IF(_xlfn.MAXIFS($N27:W27,$N$2:W$2,\"Year\")+$E27<=$E$1,U27+$E27,0),IF(X$2=\"Repair %\",IF(U27>0,$C27,0),IF(X$2=\"Spares %\",IF(IF(U27>0,$C27,0)*100>50%,50%,IF(U27>0,$C27,0)*100),0))))","v":0},1,{"$f":"IF(Y27=0,0,IF(Z$2=\"Year\",IF(_xlfn.MAXIFS($N27:Y27,$N$2:Y$2,\"Year\")+$E27<=$E$1,W27+$E27,0),IF(Z$2=\"Repair %\",IF(W27>0,$C$3,0),IF(Z$2=\"Spares %\",IF(IF(W27>0,$C27,0)*100>50%,50%,IF(W27>0,$C27,0)*100),0))))","v":0},{"$f":"IF(Z27=0,0,IF(AA$2=\"Year\",IF(_xlfn.MAXIFS($N27:Z27,$N$2:Z$2,\"Year\")+$E27<=$E$1,X27+$E27,0),IF(AA$2=\"Repair %\",IF(X27>0,$C27,0),IF(AA$2=\"Spares %\",IF(IF(X27>0,$C27,0)*100>50%,50%,IF(X27>0,$C27,0)*100),0))))","v":0},{"$f":"IF(AA27=0,0,IF(AB$2=\"Year\",IF(_xlfn.MAXIFS($N27:AA27,$N$2:AA$2,\"Year\")+$E27<=$E$1,Y27+$E27,0),IF(AB$2=\"Repair %\",IF(Y27>0,$C27,0),IF(AB$2=\"Spares %\",IF(IF(W27>0,$C27,0)*5>80%,50%,IF(W27>0,$C27,0)*5),0))))","v":0},{"$f":"IF(AB27=0,0,IF(AC$2=\"Year\",IF(_xlfn.MAXIFS($N27:AB27,$N$2:AB$2,\"Year\")+$E27<=$E$1,Z27+$E27,0),IF(AC$2=\"Repair %\",IF(Z27>0,$C$3,0),IF(AC$2=\"Spares %\",IF(IF(Z27>0,$C27,0)*100>50%,50%,IF(Z27>0,$C27,0)*100),0))))","v":0},{"$f":"IF(AC27=0,0,IF(AD$2=\"Year\",IF(_xlfn.MAXIFS($N27:AC27,$N$2:AC$2,\"Year\")+$E27<=$E$1,AA27+$E27,0),IF(AD$2=\"Repair %\",IF(AA27>0,$C27,0),IF(AD$2=\"Spares %\",IF(IF(AA27>0,$C27,0)*100>50%,50%,IF(AA27>0,$C27,0)*100),0))))","v":0},{"$f":"IF(AD27=0,0,IF(AE$2=\"Year\",IF(_xlfn.MAXIFS($N27:AD27,$N$2:AD$2,\"Year\")+$E27<=$E$1,AB27+$E27,0),IF(AE$2=\"Repair %\",IF(AB27>0,$C27,0),IF(AE$2=\"Spares %\",IF(IF(Z27>0,$C27,0)*5>80%,50%,IF(Z27>0,$C27,0)*5),0))))","v":0},{"$f":"IF(AE27=0,0,IF(AF$2=\"Year\",IF(_xlfn.MAXIFS($N27:AE27,$N$2:AE$2,\"Year\")+$E27<=$E$1,AC27+$E27,0),IF(AF$2=\"Repair %\",IF(AC27>0,$C$3,0),IF(AF$2=\"Spares %\",IF(IF(AC27>0,$C27,0)*100>50%,50%,IF(AC27>0,$C27,0)*100),0))))","v":0},{"$f":"IF(AF27=0,0,IF(AG$2=\"Year\",IF(_xlfn.MAXIFS($N27:AF27,$N$2:AF$2,\"Year\")+$E27<=$E$1,AD27+$E27,0),IF(AG$2=\"Repair %\",IF(AD27>0,$C27,0),IF(AG$2=\"Spares %\",IF(IF(AD27>0,$C27,0)*100>50%,50%,IF(AD27>0,$C27,0)*100),0))))","v":0},{"$f":"IF(AG27=0,0,IF(AH$2=\"Year\",IF(_xlfn.MAXIFS($N27:AG27,$N$2:AG$2,\"Year\")+$E27<=$E$1,AE27+$E27,0),IF(AH$2=\"Repair %\",IF(AE27>0,$C27,0),IF(AH$2=\"Spares %\",IF(IF(AC27>0,$C27,0)*5>80%,50%,IF(AC27>0,$C27,0)*5),0))))","v":0},{"$f":"IF(AH27=0,0,IF(AI$2=\"Year\",IF(_xlfn.MAXIFS($N27:AH27,$N$2:AH$2,\"Year\")+$E27<=$E$1,AF27+$E27,0),IF(AI$2=\"Repair %\",IF(AF27>0,$C$3,0),IF(AI$2=\"Spares %\",IF(IF(AF27>0,$C27,0)*100>50%,50%,IF(AF27>0,$C27,0)*100),0))))","v":0},{"$f":"IF(AI27=0,0,IF(AJ$2=\"Year\",IF(_xlfn.MAXIFS($N27:AI27,$N$2:AI$2,\"Year\")+$E27<=$E$1,AG27+$E27,0),IF(AJ$2=\"Repair %\",IF(AG27>0,$C27,0),IF(AJ$2=\"Spares %\",IF(IF(AG27>0,$C27,0)*100>50%,50%,IF(AG27>0,$C27,0)*100),0))))","v":0},{"$f":"IF(AJ27=0,0,IF(AK$2=\"Year\",IF(_xlfn.MAXIFS($N27:AJ27,$N$2:AJ$2,\"Year\")+$E27<=$E$1,AH27+$E27,0),IF(AK$2=\"Repair %\",IF(AH27>0,$C27,0),IF(AK$2=\"Spares %\",IF(IF(AF27>0,$C27,0)*5>80%,50%,IF(AF27>0,$C27,0)*5),0))))","v":0},{"$f":"IF(AK27=0,0,IF(AL$2=\"Year\",IF(_xlfn.MAXIFS($N27:AK27,$N$2:AK$2,\"Year\")+$E27<=$E$1,AI27+$E27,0),IF(AL$2=\"Repair %\",IF(AI27>0,$C$3,0),IF(AL$2=\"Spares %\",IF(IF(AI27>0,$C27,0)*100>50%,50%,IF(AI27>0,$C27,0)*100),0))))","v":0},{"$f":"IF(AL27=0,0,IF(AM$2=\"Year\",IF(_xlfn.MAXIFS($N27:AL27,$N$2:AL$2,\"Year\")+$E27<=$E$1,AJ27+$E27,0),IF(AM$2=\"Repair %\",IF(AJ27>0,$C27,0),IF(AM$2=\"Spares %\",IF(IF(AJ27>0,$C27,0)*100>50%,50%,IF(AJ27>0,$C27,0)*100),0))))","v":0},{"$f":"IF(AM27=0,0,IF(AN$2=\"Year\",IF(_xlfn.MAXIFS($N27:AM27,$N$2:AM$2,\"Year\")+$E27<=$E$1,AK27+$E27,0),IF(AN$2=\"Repair %\",IF(AK27>0,$C27,0),IF(AN$2=\"Spares %\",IF(IF(AI27>0,$C27,0)*5>80%,50%,IF(AI27>0,$C27,0)*5),0))))","v":0},{"$f":"IF(AN27=0,0,IF(AO$2=\"Year\",IF(_xlfn.MAXIFS($N27:AN27,$N$2:AN$2,\"Year\")+$E27<=$E$1,AL27+$E27,0),IF(AO$2=\"Repair %\",IF(AL27>0,$C$3,0),IF(AO$2=\"Spares %\",IF(IF(AL27>0,$C27,0)*100>50%,50%,IF(AL27>0,$C27,0)*100),0))))","v":0},{"$f":"IF(AO27=0,0,IF(AP$2=\"Year\",IF(_xlfn.MAXIFS($N27:AO27,$N$2:AO$2,\"Year\")+$E27<=$E$1,AM27+$E27,0),IF(AP$2=\"Repair %\",IF(AM27>0,$C27,0),IF(AP$2=\"Spares %\",IF(IF(AM27>0,$C27,0)*100>50%,50%,IF(AM27>0,$C27,0)*100),0))))","v":0},{"$f":"IF(AP27=0,0,IF(AQ$2=\"Year\",IF(_xlfn.MAXIFS($N27:AP27,$N$2:AP$2,\"Year\")+$E27<=$E$1,AN27+$E27,0),IF(AQ$2=\"Repair %\",IF(AN27>0,$C27,0),IF(AQ$2=\"Spares %\",IF(IF(AL27>0,$C27,0)*5>80%,50%,IF(AL27>0,$C27,0)*5),0))))","v":0}]
[{"$f":"INDEX('Avionics ID'!A:E,MATCH(B28,'Avionics ID'!E:E,0),1)","v":740},"Audio Management Unit",0,0.06,null,"",{"$f":"SUBSTITUTE(ADDRESS(1,MATCH(A28,'Pt1-AvionicsComponentCosts'!$A$6:$NC$6,0)+1),\"$1\",\"\")","v":"$AD"},{"$f":"_xlfn.TEXTJOIN(\", \",TRUE,_xlfn.UNIQUE(_xlfn._xlws.SORT(_xlfn._xlws.FILTER('Pt1-AvionicsComponentCosts'!$NF$12:$NF$384,ISNUMBER(INDIRECT(\"'Pt1-AvionicsComponentCosts'!\"&G28&\"$12:\"&G28&\"$384\"))))))","v":"A220, A320, A321, ATR, B717, B737, B757, C919, EMB Regional, MC-21, Mil Transport, Military Jet, NSA"},null,0.06,0,0.501,1.2969999999999999,{"$f":"COUNTIF($N$2:N$2,\"Year\")*$G$1","v":10},null,0,{"$f":"COUNTIF($N$2:Q$2,\"Year\")*$G$1","v":20},{"$f":"IF(Q28=0,0,IF(R$2=\"Year\",IF(_xlfn.MAXIFS($N28:Q28,$N$2:Q$2,\"Year\")+$E28<=$E$1,O28+$E28,0),IF(R$2=\"Repair %\",IF(O28>0,$C28,0),IF(R$2=\"Spares %\",IF(IF(O28>0,$C28,0)*100>50%,50%,IF(O28>0,$C28,0)*100),0))))","v":0},0,{"$f":"COUNTIF($N$2:T$2,\"Year\")*$G$1","v":30},{"$f":"IF(T28=0,0,IF(U$2=\"Year\",IF(_xlfn.MAXIFS($N28:T28,$N$2:T$2,\"Year\")+$E28<=$E$1,R28+$E28,0),IF(U$2=\"Repair %\",IF(R28>0,$C28,0),IF(U$2=\"Spares %\",IF(IF(R28>0,$C28,0)*100>50%,50%,IF(R28>0,$C28,0)*100),0))))","v":0},0,{"$f":"COUNTIF($N$2:W$2,\"Year\")*$G$1","v":40},{"$f":"IF(W28=0,0,IF(X$2=\"Year\",IF(_xlfn.MAXIFS($N28:W28,$N$2:W$2,\"Year\")+$E28<=$E$1,U28+$E28,0),IF(X$2=\"Repair %\",IF(U28>0,$C28,0),IF(X$2=\"Spares %\",IF(IF(U28>0,$C28,0)*100>50%,50%,IF(U28>0,$C28,0)*100),0))))","v":0},0,{"$f":"IF(Y28=0,0,IF(Z$2=\"Year\",IF(_xlfn.MAXIFS($N28:Y28,$N$2:Y$2,\"Year\")+$E28<=$E$1,W28+$E28,0),IF(Z$2=\"Repair %\",IF(W28>0,$C$3,0),IF(Z$2=\"Spares %\",IF(IF(W28>0,$C28,0)*100>50%,50%,IF(W28>0,$C28,0)*100),0))))","v":0},{"$f":"IF(Z28=0,0,IF(AA$2=\"Year\",IF(_xlfn.MAXIFS($N28:Z28,$N$2:Z$2,\"Year\")+$E28<=$E$1,X28+$E28,0),IF(AA$2=\"Repair %\",IF(X28>0,$C28,0),IF(AA$2=\"Spares %\",IF(IF(X28>0,$C28,0)*100>50%,50%,IF(X28>0,$C28,0)*100),0))))","v":0},{"$f":"IF(AA28=0,0,IF(AB$2=\"Year\",IF(_xlfn.MAXIFS($N28:AA28,$N$2:AA$2,\"Year\")+$E28<=$E$1,Y28+$E28,0),IF(AB$2=\"Repair %\",IF(Y28>0,$C28,0),IF(AB$2=\"Spares %\",IF(IF(W28>0,$C28,0)*5>80%,50%,IF(W28>0,$C28,0)*5),0))))","v":0},{"$f":"IF(AB28=0,0,IF(AC$2=\"Year\",IF(_xlfn.MAXIFS($N28:AB28,$N$2:AB$2,\"Year\")+$E28<=$E$1,Z28+$E28,0),IF(AC$2=\"Repair %\",IF(Z28>0,$C$3,0),IF(AC$2=\"Spares %\",IF(IF(Z28>0,$C28,0)*100>50%,50%,IF(Z28>0,$C28,0)*100),0))))","v":0},{"$f":"IF(AC28=0,0,IF(AD$2=\"Year\",IF(_xlfn.MAXIFS($N28:AC28,$N$2:AC$2,\"Year\")+$E28<=$E$1,AA28+$E28,0),IF(AD$2=\"Repair %\",IF(AA28>0,$C28,0),IF(AD$2=\"Spares %\",IF(IF(AA28>0,$C28,0)*100>50%,50%,IF(AA28>0,$C28,0)*100),0))))","v":0},{"$f":"IF(AD28=0,0,IF(AE$2=\"Year\",IF(_xlfn.MAXIFS($N28:AD28,$N$2:AD$2,\"Year\")+$E28<=$E$1,AB28+$E28,0),IF(AE$2=\"Repair %\",IF(AB28>0,$C28,0),IF(AE$2=\"Spares %\",IF(IF(Z28>0,$C28,0)*5>80%,50%,IF(Z28>0,$C28,0)*5),0))))","v":0},{"$f":"IF(AE28=0,0,IF(AF$2=\"Year\",IF(_xlfn.MAXIFS($N28:AE28,$N$2:AE$2,\"Year\")+$E28<=$E$1,AC28+$E28,0),IF(AF$2=\"Repair %\",IF(AC28>0,$C$3,0),IF(AF$2=\"Spares %\",IF(IF(AC28>0,$C28,0)*100>50%,50%,IF(AC28>0,$C28,0)*100),0))))","v":0},{"$f":"IF(AF28=0,0,IF(AG$2=\"Year\",IF(_xlfn.MAXIFS($N28:AF28,$N$2:AF$2,\"Year\")+$E28<=$E$1,AD28+$E28,0),IF(AG$2=\"Repair %\",IF(AD28>0,$C28,0),IF(AG$2=\"Spares %\",IF(IF(AD28>0,$C28,0)*100>50%,50%,IF(AD28>0,$C28,0)*100),0))))","v":0},{"$f":"IF(AG28=0,0,IF(AH$2=\"Year\",IF(_xlfn.MAXIFS($N28:AG28,$N$2:AG$2,\"Year\")+$E28<=$E$1,AE28+$E28,0),IF(AH$2=\"Repair %\",IF(AE28>0,$C28,0),IF(AH$2=\"Spares %\",IF(IF(AC28>0,$C28,0)*5>80%,50%,IF(AC28>0,$C28,0)*5),0))))","v":0},{"$f":"IF(AH28=0,0,IF(AI$2=\"Year\",IF(_xlfn.MAXIFS($N28:AH28,$N$2:AH$2,\"Year\")+$E28<=$E$1,AF28+$E28,0),IF(AI$2=\"Repair %\",IF(AF28>0,$C$3,0),IF(AI$2=\"Spares %\",IF(IF(AF28>0,$C28,0)*100>50%,50%,IF(AF28>0,$C28,0)*100),0))))","v":0},{"$f":"IF(AI28=0,0,IF(AJ$2=\"Year\",IF(_xlfn.MAXIFS($N28:AI28,$N$2:AI$2,\"Year\")+$E28<=$E$1,AG28+$E28,0),IF(AJ$2=\"Repair %\",IF(AG28>0,$C28,0),IF(AJ$2=\"Spares %\",IF(IF(AG28>0,$C28,0)*100>50%,50%,IF(AG28>0,$C28,0)*100),0))))","v":0},{"$f":"IF(AJ28=0,0,IF(AK$2=\"Year\",IF(_xlfn.MAXIFS($N28:AJ28,$N$2:AJ$2,\"Year\")+$E28<=$E$1,AH28+$E28,0),IF(AK$2=\"Repair %\",IF(AH28>0,$C28,0),IF(AK$2=\"Spares %\",IF(IF(AF28>0,$C28,0)*5>80%,50%,IF(AF28>0,$C28,0)*5),0))))","v":0},{"$f":"IF(AK28=0,0,IF(AL$2=\"Year\",IF(_xlfn.MAXIFS($N28:AK28,$N$2:AK$2,\"Year\")+$E28<=$E$1,AI28+$E28,0),IF(AL$2=\"Repair %\",IF(AI28>0,$C$3,0),IF(AL$2=\"Spares %\",IF(IF(AI28>0,$C28,0)*100>50%,50%,IF(AI28>0,$C28,0)*100),0))))","v":0},{"$f":"IF(AL28=0,0,IF(AM$2=\"Year\",IF(_xlfn.MAXIFS($N28:AL28,$N$2:AL$2,\"Year\")+$E28<=$E$1,AJ28+$E28,0),IF(AM$2=\"Repair %\",IF(AJ28>0,$C28,0),IF(AM$2=\"Spares %\",IF(IF(AJ28>0,$C28,0)*100>50%,50%,IF(AJ28>0,$C28,0)*100),0))))","v":0},{"$f":"IF(AM28=0,0,IF(AN$2=\"Year\",IF(_xlfn.MAXIFS($N28:AM28,$N$2:AM$2,\"Year\")+$E28<=$E$1,AK28+$E28,0),IF(AN$2=\"Repair %\",IF(AK28>0,$C28,0),IF(AN$2=\"Spares %\",IF(IF(AI28>0,$C28,0)*5>80%,50%,IF(AI28>0,$C28,0)*5),0))))","v":0},{"$f":"IF(AN28=0,0,IF(AO$2=\"Year\",IF(_xlfn.MAXIFS($N28:AN28,$N$2:AN$2,\"Year\")+$E28<=$E$1,AL28+$E28,0),IF(AO$2=\"Repair %\",IF(AL28>0,$C$3,0),IF(AO$2=\"Spares %\",IF(IF(AL28>0,$C28,0)*100>50%,50%,IF(AL28>0,$C28,0)*100),0))))","v":0},{"$f":"IF(AO28=0,0,IF(AP$2=\"Year\",IF(_xlfn.MAXIFS($N28:AO28,$N$2:AO$2,\"Year\")+$E28<=$E$1,AM28+$E28,0),IF(AP$2=\"Repair %\",IF(AM28>0,$C28,0),IF(AP$2=\"Spares %\",IF(IF(AM28>0,$C28,0)*100>50%,50%,IF(AM28>0,$C28,0)*100),0))))","v":0},{"$f":"IF(AP28=0,0,IF(AQ$2=\"Year\",IF(_xlfn.MAXIFS($N28:AP28,$N$2:AP$2,\"Year\")+$E28<=$E$1,AN28+$E28,0),IF(AQ$2=\"Repair %\",IF(AN28>0,$C28,0),IF(AQ$2=\"Spares %\",IF(IF(AL28>0,$C28,0)*5>80%,50%,IF(AL28>0,$C28,0)*5),0))))","v":0}]
[{"$f":"INDEX('Avionics ID'!A:E,MATCH(B29,'Avionics ID'!E:E,0),1)","v":825},"Auto pilot system",0,0.06,null,"",{"$f":"SUBSTITUTE(ADDRESS(1,MATCH(A29,'Pt1-AvionicsComponentCosts'!$A$6:$NC$6,0)+1),\"$1\",\"\")","v":"$J"},{"$f":"_xlfn.TEXTJOIN(\", \",TRUE,_xlfn.UNIQUE(_xlfn._xlws.SORT(_xlfn._xlws.FILTER('Pt1-AvionicsComponentCosts'!$NF$12:$NF$384,ISNUMBER(INDIRECT(\"'Pt1-AvionicsComponentCosts'!\"&G29&\"$12:\"&G29&\"$384\"))))))","v":"A220, A300, A320, A321, A330, A330 LMXT, A330 MRTT, A340, A350, ATR, Attack Helo, B717, B737, B747, B757, B767, B777, B787, C919, Challenger, Citation, E550, EMB Bizjet, EMB Regional, Falcon, Global, Gulfstream, Hawker, Helo, Hondajet, Learjet, MC-21, MD-11, Mil Transport, Military Jet, Military TP, Nextant 400XT, NSA, PC-24, Phenom, Praetor, SF50, UAV"},null,0.06,0,0.40600000000000003,2.077,{"$f":"COUNTIF($N$2:N$2,\"Year\")*$G$1","v":10},null,0,{"$f":"COUNTIF($N$2:Q$2,\"Year\")*$G$1","v":20},{"$f":"IF(Q29=0,0,IF(R$2=\"Year\",IF(_xlfn.MAXIFS($N29:Q29,$N$2:Q$2,\"Year\")+$E29<=$E$1,O29+$E29,0),IF(R$2=\"Repair %\",IF(O29>0,$C29,0),IF(R$2=\"Spares %\",IF(IF(O29>0,$C29,0)*100>50%,50%,IF(O29>0,$C29,0)*100),0))))","v":0},0,{"$f":"COUNTIF($N$2:T$2,\"Year\")*$G$1","v":30},{"$f":"IF(T29=0,0,IF(U$2=\"Year\",IF(_xlfn.MAXIFS($N29:T29,$N$2:T$2,\"Year\")+$E29<=$E$1,R29+$E29,0),IF(U$2=\"Repair %\",IF(R29>0,$C29,0),IF(U$2=\"Spares %\",IF(IF(R29>0,$C29,0)*100>50%,50%,IF(R29>0,$C29,0)*100),0))))","v":0},0,{"$f":"COUNTIF($N$2:W$2,\"Year\")*$G$1","v":40},{"$f":"IF(W29=0,0,IF(X$2=\"Year\",IF(_xlfn.MAXIFS($N29:W29,$N$2:W$2,\"Year\")+$E29<=$E$1,U29+$E29,0),IF(X$2=\"Repair %\",IF(U29>0,$C29,0),IF(X$2=\"Spares %\",IF(IF(U29>0,$C29,0)*100>50%,50%,IF(U29>0,$C29,0)*100),0))))","v":0},0,{"$f":"IF(Y29=0,0,IF(Z$2=\"Year\",IF(_xlfn.MAXIFS($N29:Y29,$N$2:Y$2,\"Year\")+$E29<=$E$1,W29+$E29,0),IF(Z$2=\"Repair %\",IF(W29>0,$C$3,0),IF(Z$2=\"Spares %\",IF(IF(W29>0,$C29,0)*100>50%,50%,IF(W29>0,$C29,0)*100),0))))","v":0},{"$f":"IF(Z29=0,0,IF(AA$2=\"Year\",IF(_xlfn.MAXIFS($N29:Z29,$N$2:Z$2,\"Year\")+$E29<=$E$1,X29+$E29,0),IF(AA$2=\"Repair %\",IF(X29>0,$C29,0),IF(AA$2=\"Spares %\",IF(IF(X29>0,$C29,0)*100>50%,50%,IF(X29>0,$C29,0)*100),0))))","v":0},{"$f":"IF(AA29=0,0,IF(AB$2=\"Year\",IF(_xlfn.MAXIFS($N29:AA29,$N$2:AA$2,\"Year\")+$E29<=$E$1,Y29+$E29,0),IF(AB$2=\"Repair %\",IF(Y29>0,$C29,0),IF(AB$2=\"Spares %\",IF(IF(W29>0,$C29,0)*5>80%,50%,IF(W29>0,$C29,0)*5),0))))","v":0},{"$f":"IF(AB29=0,0,IF(AC$2=\"Year\",IF(_xlfn.MAXIFS($N29:AB29,$N$2:AB$2,\"Year\")+$E29<=$E$1,Z29+$E29,0),IF(AC$2=\"Repair %\",IF(Z29>0,$C$3,0),IF(AC$2=\"Spares %\",IF(IF(Z29>0,$C29,0)*100>50%,50%,IF(Z29>0,$C29,0)*100),0))))","v":0},{"$f":"IF(AC29=0,0,IF(AD$2=\"Year\",IF(_xlfn.MAXIFS($N29:AC29,$N$2:AC$2,\"Year\")+$E29<=$E$1,AA29+$E29,0),IF(AD$2=\"Repair %\",IF(AA29>0,$C29,0),IF(AD$2=\"Spares %\",IF(IF(AA29>0,$C29,0)*100>50%,50%,IF(AA29>0,$C29,0)*100),0))))","v":0},{"$f":"IF(AD29=0,0,IF(AE$2=\"Year\",IF(_xlfn.MAXIFS($N29:AD29,$N$2:AD$2,\"Year\")+$E29<=$E$1,AB29+$E29,0),IF(AE$2=\"Repair %\",IF(AB29>0,$C29,0),IF(AE$2=\"Spares %\",IF(IF(Z29>0,$C29,0)*5>80%,50%,IF(Z29>0,$C29,0)*5),0))))","v":0},{"$f":"IF(AE29=0,0,IF(AF$2=\"Year\",IF(_xlfn.MAXIFS($N29:AE29,$N$2:AE$2,\"Year\")+$E29<=$E$1,AC29+$E29,0),IF(AF$2=\"Repair %\",IF(AC29>0,$C$3,0),IF(AF$2=\"Spares %\",IF(IF(AC29>0,$C29,0)*100>50%,50%,IF(AC29>0,$C29,0)*100),0))))","v":0},{"$f":"IF(AF29=0,0,IF(AG$2=\"Year\",IF(_xlfn.MAXIFS($N29:AF29,$N$2:AF$2,\"Year\")+$E29<=$E$1,AD29+$E29,0),IF(AG$2=\"Repair %\",IF(AD29>0,$C29,0),IF(AG$2=\"Spares %\",IF(IF(AD29>0,$C29,0)*100>50%,50%,IF(AD29>0,$C29,0)*100),0))))","v":0},{"$f":"IF(AG29=0,0,IF(AH$2=\"Year\",IF(_xlfn.MAXIFS($N29:AG29,$N$2:AG$2,\"Year\")+$E29<=$E$1,AE29+$E29,0),IF(AH$2=\"Repair %\",IF(AE29>0,$C29,0),IF(AH$2=\"Spares %\",IF(IF(AC29>0,$C29,0)*5>80%,50%,IF(AC29>0,$C29,0)*5),0))))","v":0},{"$f":"IF(AH29=0,0,IF(AI$2=\"Year\",IF(_xlfn.MAXIFS($N29:AH29,$N$2:AH$2,\"Year\")+$E29<=$E$1,AF29+$E29,0),IF(AI$2=\"Repair %\",IF(AF29>0,$C$3,0),IF(AI$2=\"Spares %\",IF(IF(AF29>0,$C29,0)*100>50%,50%,IF(AF29>0,$C29,0)*100),0))))","v":0},{"$f":"IF(AI29=0,0,IF(AJ$2=\"Year\",IF(_xlfn.MAXIFS($N29:AI29,$N$2:AI$2,\"Year\")+$E29<=$E$1,AG29+$E29,0),IF(AJ$2=\"Repair %\",IF(AG29>0,$C29,0),IF(AJ$2=\"Spares %\",IF(IF(AG29>0,$C29,0)*100>50%,50%,IF(AG29>0,$C29,0)*100),0))))","v":0},{"$f":"IF(AJ29=0,0,IF(AK$2=\"Year\",IF(_xlfn.MAXIFS($N29:AJ29,$N$2:AJ$2,\"Year\")+$E29<=$E$1,AH29+$E29,0),IF(AK$2=\"Repair %\",IF(AH29>0,$C29,0),IF(AK$2=\"Spares %\",IF(IF(AF29>0,$C29,0)*5>80%,50%,IF(AF29>0,$C29,0)*5),0))))","v":0},{"$f":"IF(AK29=0,0,IF(AL$2=\"Year\",IF(_xlfn.MAXIFS($N29:AK29,$N$2:AK$2,\"Year\")+$E29<=$E$1,AI29+$E29,0),IF(AL$2=\"Repair %\",IF(AI29>0,$C$3,0),IF(AL$2=\"Spares %\",IF(IF(AI29>0,$C29,0)*100>50%,50%,IF(AI29>0,$C29,0)*100),0))))","v":0},{"$f":"IF(AL29=0,0,IF(AM$2=\"Year\",IF(_xlfn.MAXIFS($N29:AL29,$N$2:AL$2,\"Year\")+$E29<=$E$1,AJ29+$E29,0),IF(AM$2=\"Repair %\",IF(AJ29>0,$C29,0),IF(AM$2=\"Spares %\",IF(IF(AJ29>0,$C29,0)*100>50%,50%,IF(AJ29>0,$C29,0)*100),0))))","v":0},{"$f":"IF(AM29=0,0,IF(AN$2=\"Year\",IF(_xlfn.MAXIFS($N29:AM29,$N$2:AM$2,\"Year\")+$E29<=$E$1,AK29+$E29,0),IF(AN$2=\"Repair %\",IF(AK29>0,$C29,0),IF(AN$2=\"Spares %\",IF(IF(AI29>0,$C29,0)*5>80%,50%,IF(AI29>0,$C29,0)*5),0))))","v":0},{"$f":"IF(AN29=0,0,IF(AO$2=\"Year\",IF(_xlfn.MAXIFS($N29:AN29,$N$2:AN$2,\"Year\")+$E29<=$E$1,AL29+$E29,0),IF(AO$2=\"Repair %\",IF(AL29>0,$C$3,0),IF(AO$2=\"Spares %\",IF(IF(AL29>0,$C29,0)*100>50%,50%,IF(AL29>0,$C29,0)*100),0))))","v":0},{"$f":"IF(AO29=0,0,IF(AP$2=\"Year\",IF(_xlfn.MAXIFS($N29:AO29,$N$2:AO$2,\"Year\")+$E29<=$E$1,AM29+$E29,0),IF(AP$2=\"Repair %\",IF(AM29>0,$C29,0),IF(AP$2=\"Spares %\",IF(IF(AM29>0,$C29,0)*100>50%,50%,IF(AM29>0,$C29,0)*100),0))))","v":0},{"$f":"IF(AP29=0,0,IF(AQ$2=\"Year\",IF(_xlfn.MAXIFS($N29:AP29,$N$2:AP$2,\"Year\")+$E29<=$E$1,AN29+$E29,0),IF(AQ$2=\"Repair %\",IF(AN29>0,$C29,0),IF(AQ$2=\"Spares %\",IF(IF(AL29>0,$C29,0)*5>80%,50%,IF(AL29>0,$C29,0)*5),0))))","v":0}]
[{"$f":"INDEX('Avionics ID'!A:E,MATCH(B30,'Avionics ID'!E:E,0),1)","v":842},"Avionics Comms Router (ACR)",6.6666666666666666E-2,0.06,15,"Obsolecence",{"$f":"SUBSTITUTE(ADDRESS(1,MATCH(A30,'Pt1-AvionicsComponentCosts'!$A$6:$NC$6,0)+1),\"$1\",\"\")","v":"$AF"},{"$f":"_xlfn.TEXTJOIN(\", \",TRUE,_xlfn.UNIQUE(_xlfn._xlws.SORT(_xlfn._xlws.FILTER('Pt1-AvionicsComponentCosts'!$NF$12:$NF$384,ISNUMBER(INDIRECT(\"'Pt1-AvionicsComponentCosts'!\"&G30&\"$12:\"&G30&\"$384\"))))))","v":"A330 LMXT, A330 MRTT, Mil Transport, Military Jet, Military TP"},null,0.06,7.0000000000000007E-2,0.501,1.2969999999999999,{"$f":"COUNTIF($N$2:N$2,\"Year\")*$G$1","v":10},null,0.5,{"$f":"COUNTIF($N$2:Q$2,\"Year\")*$G$1","v":20},{"$f":"IF(Q30=0,0,IF(R$2=\"Year\",IF(_xlfn.MAXIFS($N30:Q30,$N$2:Q$2,\"Year\")+$E30<=$E$1,O30+$E30,0),IF(R$2=\"Repair %\",IF(O30>0,$C30,0),IF(R$2=\"Spares %\",IF(IF(O30>0,$C30,0)*100>50%,50%,IF(O30>0,$C30,0)*100),0))))","v":0},0.5,{"$f":"COUNTIF($N$2:T$2,\"Year\")*$G$1","v":30},{"$f":"IF(T30=0,0,IF(U$2=\"Year\",IF(_xlfn.MAXIFS($N30:T30,$N$2:T$2,\"Year\")+$E30<=$E$1,R30+$E30,0),IF(U$2=\"Repair %\",IF(R30>0,$C30,0),IF(U$2=\"Spares %\",IF(IF(R30>0,$C30,0)*100>50%,50%,IF(R30>0,$C30,0)*100),0))))","v":0},1,{"$f":"COUNTIF($N$2:W$2,\"Year\")*$G$1","v":40},{"$f":"IF(W30=0,0,IF(X$2=\"Year\",IF(_xlfn.MAXIFS($N30:W30,$N$2:W$2,\"Year\")+$E30<=$E$1,U30+$E30,0),IF(X$2=\"Repair %\",IF(U30>0,$C30,0),IF(X$2=\"Spares %\",IF(IF(U30>0,$C30,0)*100>50%,50%,IF(U30>0,$C30,0)*100),0))))","v":0},0.5,{"$f":"IF(Y30=0,0,IF(Z$2=\"Year\",IF(_xlfn.MAXIFS($N30:Y30,$N$2:Y$2,\"Year\")+$E30<=$E$1,W30+$E30,0),IF(Z$2=\"Repair %\",IF(W30>0,$C$3,0),IF(Z$2=\"Spares %\",IF(IF(W30>0,$C30,0)*100>50%,50%,IF(W30>0,$C30,0)*100),0))))","v":0},{"$f":"IF(Z30=0,0,IF(AA$2=\"Year\",IF(_xlfn.MAXIFS($N30:Z30,$N$2:Z$2,\"Year\")+$E30<=$E$1,X30+$E30,0),IF(AA$2=\"Repair %\",IF(X30>0,$C30,0),IF(AA$2=\"Spares %\",IF(IF(X30>0,$C30,0)*100>50%,50%,IF(X30>0,$C30,0)*100),0))))","v":0},{"$f":"IF(AA30=0,0,IF(AB$2=\"Year\",IF(_xlfn.MAXIFS($N30:AA30,$N$2:AA$2,\"Year\")+$E30<=$E$1,Y30+$E30,0),IF(AB$2=\"Repair %\",IF(Y30>0,$C30,0),IF(AB$2=\"Spares %\",IF(IF(W30>0,$C30,0)*5>80%,50%,IF(W30>0,$C30,0)*5),0))))","v":0},{"$f":"IF(AB30=0,0,IF(AC$2=\"Year\",IF(_xlfn.MAXIFS($N30:AB30,$N$2:AB$2,\"Year\")+$E30<=$E$1,Z30+$E30,0),IF(AC$2=\"Repair %\",IF(Z30>0,$C$3,0),IF(AC$2=\"Spares %\",IF(IF(Z30>0,$C30,0)*100>50%,50%,IF(Z30>0,$C30,0)*100),0))))","v":0},{"$f":"IF(AC30=0,0,IF(AD$2=\"Year\",IF(_xlfn.MAXIFS($N30:AC30,$N$2:AC$2,\"Year\")+$E30<=$E$1,AA30+$E30,0),IF(AD$2=\"Repair %\",IF(AA30>0,$C30,0),IF(AD$2=\"Spares %\",IF(IF(AA30>0,$C30,0)*100>50%,50%,IF(AA30>0,$C30,0)*100),0))))","v":0},{"$f":"IF(AD30=0,0,IF(AE$2=\"Year\",IF(_xlfn.MAXIFS($N30:AD30,$N$2:AD$2,\"Year\")+$E30<=$E$1,AB30+$E30,0),IF(AE$2=\"Repair %\",IF(AB30>0,$C30,0),IF(AE$2=\"Spares %\",IF(IF(Z30>0,$C30,0)*5>80%,50%,IF(Z30>0,$C30,0)*5),0))))","v":0},{"$f":"IF(AE30=0,0,IF(AF$2=\"Year\",IF(_xlfn.MAXIFS($N30:AE30,$N$2:AE$2,\"Year\")+$E30<=$E$1,AC30+$E30,0),IF(AF$2=\"Repair %\",IF(AC30>0,$C$3,0),IF(AF$2=\"Spares %\",IF(IF(AC30>0,$C30,0)*100>50%,50%,IF(AC30>0,$C30,0)*100),0))))","v":0},{"$f":"IF(AF30=0,0,IF(AG$2=\"Year\",IF(_xlfn.MAXIFS($N30:AF30,$N$2:AF$2,\"Year\")+$E30<=$E$1,AD30+$E30,0),IF(AG$2=\"Repair %\",IF(AD30>0,$C30,0),IF(AG$2=\"Spares %\",IF(IF(AD30>0,$C30,0)*100>50%,50%,IF(AD30>0,$C30,0)*100),0))))","v":0},{"$f":"IF(AG30=0,0,IF(AH$2=\"Year\",IF(_xlfn.MAXIFS($N30:AG30,$N$2:AG$2,\"Year\")+$E30<=$E$1,AE30+$E30,0),IF(AH$2=\"Repair %\",IF(AE30>0,$C30,0),IF(AH$2=\"Spares %\",IF(IF(AC30>0,$C30,0)*5>80%,50%,IF(AC30>0,$C30,0)*5),0))))","v":0},{"$f":"IF(AH30=0,0,IF(AI$2=\"Year\",IF(_xlfn.MAXIFS($N30:AH30,$N$2:AH$2,\"Year\")+$E30<=$E$1,AF30+$E30,0),IF(AI$2=\"Repair %\",IF(AF30>0,$C$3,0),IF(AI$2=\"Spares %\",IF(IF(AF30>0,$C30,0)*100>50%,50%,IF(AF30>0,$C30,0)*100),0))))","v":0},{"$f":"IF(AI30=0,0,IF(AJ$2=\"Year\",IF(_xlfn.MAXIFS($N30:AI30,$N$2:AI$2,\"Year\")+$E30<=$E$1,AG30+$E30,0),IF(AJ$2=\"Repair %\",IF(AG30>0,$C30,0),IF(AJ$2=\"Spares %\",IF(IF(AG30>0,$C30,0)*100>50%,50%,IF(AG30>0,$C30,0)*100),0))))","v":0},{"$f":"IF(AJ30=0,0,IF(AK$2=\"Year\",IF(_xlfn.MAXIFS($N30:AJ30,$N$2:AJ$2,\"Year\")+$E30<=$E$1,AH30+$E30,0),IF(AK$2=\"Repair %\",IF(AH30>0,$C30,0),IF(AK$2=\"Spares %\",IF(IF(AF30>0,$C30,0)*5>80%,50%,IF(AF30>0,$C30,0)*5),0))))","v":0},{"$f":"IF(AK30=0,0,IF(AL$2=\"Year\",IF(_xlfn.MAXIFS($N30:AK30,$N$2:AK$2,\"Year\")+$E30<=$E$1,AI30+$E30,0),IF(AL$2=\"Repair %\",IF(AI30>0,$C$3,0),IF(AL$2=\"Spares %\",IF(IF(AI30>0,$C30,0)*100>50%,50%,IF(AI30>0,$C30,0)*100),0))))","v":0},{"$f":"IF(AL30=0,0,IF(AM$2=\"Year\",IF(_xlfn.MAXIFS($N30:AL30,$N$2:AL$2,\"Year\")+$E30<=$E$1,AJ30+$E30,0),IF(AM$2=\"Repair %\",IF(AJ30>0,$C30,0),IF(AM$2=\"Spares %\",IF(IF(AJ30>0,$C30,0)*100>50%,50%,IF(AJ30>0,$C30,0)*100),0))))","v":0},{"$f":"IF(AM30=0,0,IF(AN$2=\"Year\",IF(_xlfn.MAXIFS($N30:AM30,$N$2:AM$2,\"Year\")+$E30<=$E$1,AK30+$E30,0),IF(AN$2=\"Repair %\",IF(AK30>0,$C30,0),IF(AN$2=\"Spares %\",IF(IF(AI30>0,$C30,0)*5>80%,50%,IF(AI30>0,$C30,0)*5),0))))","v":0},{"$f":"IF(AN30=0,0,IF(AO$2=\"Year\",IF(_xlfn.MAXIFS($N30:AN30,$N$2:AN$2,\"Year\")+$E30<=$E$1,AL30+$E30,0),IF(AO$2=\"Repair %\",IF(AL30>0,$C$3,0),IF(AO$2=\"Spares %\",IF(IF(AL30>0,$C30,0)*100>50%,50%,IF(AL30>0,$C30,0)*100),0))))","v":0},{"$f":"IF(AO30=0,0,IF(AP$2=\"Year\",IF(_xlfn.MAXIFS($N30:AO30,$N$2:AO$2,\"Year\")+$E30<=$E$1,AM30+$E30,0),IF(AP$2=\"Repair %\",IF(AM30>0,$C30,0),IF(AP$2=\"Spares %\",IF(IF(AM30>0,$C30,0)*100>50%,50%,IF(AM30>0,$C30,0)*100),0))))","v":0},{"$f":"IF(AP30=0,0,IF(AQ$2=\"Year\",IF(_xlfn.MAXIFS($N30:AP30,$N$2:AP$2,\"Year\")+$E30<=$E$1,AN30+$E30,0),IF(AQ$2=\"Repair %\",IF(AN30>0,$C30,0),IF(AQ$2=\"Spares %\",IF(IF(AL30>0,$C30,0)*5>80%,50%,IF(AL30>0,$C30,0)*5),0))))","v":0}]
[{"$f":"INDEX('Avionics ID'!A:E,MATCH(B31,'Avionics ID'!E:E,0),1)","v":1056},"Avionics Harnesses",0.1,0.06,10,"Obsolecence",{"$f":"SUBSTITUTE(ADDRESS(1,MATCH(A31,'Pt1-AvionicsComponentCosts'!$A$6:$NC$6,0)+1),\"$1\",\"\")","v":"$GX"},{"$f":"_xlfn.TEXTJOIN(\", \",TRUE,_xlfn.UNIQUE(_xlfn._xlws.SORT(_xlfn._xlws.FILTER('Pt1-AvionicsComponentCosts'!$NF$12:$NF$384,ISNUMBER(INDIRECT(\"'Pt1-AvionicsComponentCosts'!\"&G31&\"$12:\"&G31&\"$384\"))))))","v":"A220, A300, A320, A321, A330, A330 LMXT, A330 MRTT, A340, A350, A380, ARJ, ATR, Attack, Attack Helo, B717, B737, B747, B757, B767, B777, B787, C919, Challenger, Citation, CRJ, E550, EMB Bizjet, EMB Regional, Falcon, Global, Gulfstream, Hawker, Helo, Hondajet, Learjet, MC-21, MD-11, Mil Fighter, Mil Transport, Military Jet, Military TP, Nextant 400XT, NSA, PC-24, Phenom, Praetor, Reg TP, SF50, Stealth, Superjet 100, TP Trainer, Turbine GA"},null,0.06,0.1,0.371,1.2310000000000001,{"$f":"COUNTIF($N$2:N$2,\"Year\")*$G$1","v":10},null,1,{"$f":"COUNTIF($N$2:Q$2,\"Year\")*$G$1","v":20},{"$f":"IF(Q31=0,0,IF(R$2=\"Year\",IF(_xlfn.MAXIFS($N31:Q31,$N$2:Q$2,\"Year\")+$E31<=$E$1,O31+$E31,0),IF(R$2=\"Repair %\",IF(O31>0,$C31,0),IF(R$2=\"Spares %\",IF(IF(O31>0,$C31,0)*100>50%,50%,IF(O31>0,$C31,0)*100),0))))","v":0},1,{"$f":"COUNTIF($N$2:T$2,\"Year\")*$G$1","v":30},{"$f":"IF(T31=0,0,IF(U$2=\"Year\",IF(_xlfn.MAXIFS($N31:T31,$N$2:T$2,\"Year\")+$E31<=$E$1,R31+$E31,0),IF(U$2=\"Repair %\",IF(R31>0,$C31,0),IF(U$2=\"Spares %\",IF(IF(R31>0,$C31,0)*100>50%,50%,IF(R31>0,$C31,0)*100),0))))","v":0},1,{"$f":"COUNTIF($N$2:W$2,\"Year\")*$G$1","v":40},{"$f":"IF(W31=0,0,IF(X$2=\"Year\",IF(_xlfn.MAXIFS($N31:W31,$N$2:W$2,\"Year\")+$E31<=$E$1,U31+$E31,0),IF(X$2=\"Repair %\",IF(U31>0,$C31,0),IF(X$2=\"Spares %\",IF(IF(U31>0,$C31,0)*100>50%,50%,IF(U31>0,$C31,0)*100),0))))","v":0},1,{"$f":"IF(Y31=0,0,IF(Z$2=\"Year\",IF(_xlfn.MAXIFS($N31:Y31,$N$2:Y$2,\"Year\")+$E31<=$E$1,W31+$E31,0),IF(Z$2=\"Repair %\",IF(W31>0,$C$3,0),IF(Z$2=\"Spares %\",IF(IF(W31>0,$C31,0)*100>50%,50%,IF(W31>0,$C31,0)*100),0))))","v":0},{"$f":"IF(Z31=0,0,IF(AA$2=\"Year\",IF(_xlfn.MAXIFS($N31:Z31,$N$2:Z$2,\"Year\")+$E31<=$E$1,X31+$E31,0),IF(AA$2=\"Repair %\",IF(X31>0,$C31,0),IF(AA$2=\"Spares %\",IF(IF(X31>0,$C31,0)*100>50%,50%,IF(X31>0,$C31,0)*100),0))))","v":0},{"$f":"IF(AA31=0,0,IF(AB$2=\"Year\",IF(_xlfn.MAXIFS($N31:AA31,$N$2:AA$2,\"Year\")+$E31<=$E$1,Y31+$E31,0),IF(AB$2=\"Repair %\",IF(Y31>0,$C31,0),IF(AB$2=\"Spares %\",IF(IF(W31>0,$C31,0)*5>80%,50%,IF(W31>0,$C31,0)*5),0))))","v":0},{"$f":"IF(AB31=0,0,IF(AC$2=\"Year\",IF(_xlfn.MAXIFS($N31:AB31,$N$2:AB$2,\"Year\")+$E31<=$E$1,Z31+$E31,0),IF(AC$2=\"Repair %\",IF(Z31>0,$C$3,0),IF(AC$2=\"Spares %\",IF(IF(Z31>0,$C31,0)*100>50%,50%,IF(Z31>0,$C31,0)*100),0))))","v":0},{"$f":"IF(AC31=0,0,IF(AD$2=\"Year\",IF(_xlfn.MAXIFS($N31:AC31,$N$2:AC$2,\"Year\")+$E31<=$E$1,AA31+$E31,0),IF(AD$2=\"Repair %\",IF(AA31>0,$C31,0),IF(AD$2=\"Spares %\",IF(IF(AA31>0,$C31,0)*100>50%,50%,IF(AA31>0,$C31,0)*100),0))))","v":0},{"$f":"IF(AD31=0,0,IF(AE$2=\"Year\",IF(_xlfn.MAXIFS($N31:AD31,$N$2:AD$2,\"Year\")+$E31<=$E$1,AB31+$E31,0),IF(AE$2=\"Repair %\",IF(AB31>0,$C31,0),IF(AE$2=\"Spares %\",IF(IF(Z31>0,$C31,0)*5>80%,50%,IF(Z31>0,$C31,0)*5),0))))","v":0},{"$f":"IF(AE31=0,0,IF(AF$2=\"Year\",IF(_xlfn.MAXIFS($N31:AE31,$N$2:AE$2,\"Year\")+$E31<=$E$1,AC31+$E31,0),IF(AF$2=\"Repair %\",IF(AC31>0,$C$3,0),IF(AF$2=\"Spares %\",IF(IF(AC31>0,$C31,0)*100>50%,50%,IF(AC31>0,$C31,0)*100),0))))","v":0},{"$f":"IF(AF31=0,0,IF(AG$2=\"Year\",IF(_xlfn.MAXIFS($N31:AF31,$N$2:AF$2,\"Year\")+$E31<=$E$1,AD31+$E31,0),IF(AG$2=\"Repair %\",IF(AD31>0,$C31,0),IF(AG$2=\"Spares %\",IF(IF(AD31>0,$C31,0)*100>50%,50%,IF(AD31>0,$C31,0)*100),0))))","v":0},{"$f":"IF(AG31=0,0,IF(AH$2=\"Year\",IF(_xlfn.MAXIFS($N31:AG31,$N$2:AG$2,\"Year\")+$E31<=$E$1,AE31+$E31,0),IF(AH$2=\"Repair %\",IF(AE31>0,$C31,0),IF(AH$2=\"Spares %\",IF(IF(AC31>0,$C31,0)*5>80%,50%,IF(AC31>0,$C31,0)*5),0))))","v":0},{"$f":"IF(AH31=0,0,IF(AI$2=\"Year\",IF(_xlfn.MAXIFS($N31:AH31,$N$2:AH$2,\"Year\")+$E31<=$E$1,AF31+$E31,0),IF(AI$2=\"Repair %\",IF(AF31>0,$C$3,0),IF(AI$2=\"Spares %\",IF(IF(AF31>0,$C31,0)*100>50%,50%,IF(AF31>0,$C31,0)*100),0))))","v":0},{"$f":"IF(AI31=0,0,IF(AJ$2=\"Year\",IF(_xlfn.MAXIFS($N31:AI31,$N$2:AI$2,\"Year\")+$E31<=$E$1,AG31+$E31,0),IF(AJ$2=\"Repair %\",IF(AG31>0,$C31,0),IF(AJ$2=\"Spares %\",IF(IF(AG31>0,$C31,0)*100>50%,50%,IF(AG31>0,$C31,0)*100),0))))","v":0},{"$f":"IF(AJ31=0,0,IF(AK$2=\"Year\",IF(_xlfn.MAXIFS($N31:AJ31,$N$2:AJ$2,\"Year\")+$E31<=$E$1,AH31+$E31,0),IF(AK$2=\"Repair %\",IF(AH31>0,$C31,0),IF(AK$2=\"Spares %\",IF(IF(AF31>0,$C31,0)*5>80%,50%,IF(AF31>0,$C31,0)*5),0))))","v":0},{"$f":"IF(AK31=0,0,IF(AL$2=\"Year\",IF(_xlfn.MAXIFS($N31:AK31,$N$2:AK$2,\"Year\")+$E31<=$E$1,AI31+$E31,0),IF(AL$2=\"Repair %\",IF(AI31>0,$C$3,0),IF(AL$2=\"Spares %\",IF(IF(AI31>0,$C31,0)*100>50%,50%,IF(AI31>0,$C31,0)*100),0))))","v":0},{"$f":"IF(AL31=0,0,IF(AM$2=\"Year\",IF(_xlfn.MAXIFS($N31:AL31,$N$2:AL$2,\"Year\")+$E31<=$E$1,AJ31+$E31,0),IF(AM$2=\"Repair %\",IF(AJ31>0,$C31,0),IF(AM$2=\"Spares %\",IF(IF(AJ31>0,$C31,0)*100>50%,50%,IF(AJ31>0,$C31,0)*100),0))))","v":0},{"$f":"IF(AM31=0,0,IF(AN$2=\"Year\",IF(_xlfn.MAXIFS($N31:AM31,$N$2:AM$2,\"Year\")+$E31<=$E$1,AK31+$E31,0),IF(AN$2=\"Repair %\",IF(AK31>0,$C31,0),IF(AN$2=\"Spares %\",IF(IF(AI31>0,$C31,0)*5>80%,50%,IF(AI31>0,$C31,0)*5),0))))","v":0},{"$f":"IF(AN31=0,0,IF(AO$2=\"Year\",IF(_xlfn.MAXIFS($N31:AN31,$N$2:AN$2,\"Year\")+$E31<=$E$1,AL31+$E31,0),IF(AO$2=\"Repair %\",IF(AL31>0,$C$3,0),IF(AO$2=\"Spares %\",IF(IF(AL31>0,$C31,0)*100>50%,50%,IF(AL31>0,$C31,0)*100),0))))","v":0},{"$f":"IF(AO31=0,0,IF(AP$2=\"Year\",IF(_xlfn.MAXIFS($N31:AO31,$N$2:AO$2,\"Year\")+$E31<=$E$1,AM31+$E31,0),IF(AP$2=\"Repair %\",IF(AM31>0,$C31,0),IF(AP$2=\"Spares %\",IF(IF(AM31>0,$C31,0)*100>50%,50%,IF(AM31>0,$C31,0)*100),0))))","v":0},{"$f":"IF(AP31=0,0,IF(AQ$2=\"Year\",IF(_xlfn.MAXIFS($N31:AP31,$N$2:AP$2,\"Year\")+$E31<=$E$1,AN31+$E31,0),IF(AQ$2=\"Repair %\",IF(AN31>0,$C31,0),IF(AQ$2=\"Spares %\",IF(IF(AL31>0,$C31,0)*5>80%,50%,IF(AL31>0,$C31,0)*5),0))))","v":0}]
[1057,"Avionics Harnesses",0.1,0.06,10,"Obsolecence",{"$f":"SUBSTITUTE(ADDRESS(1,MATCH(A32,'Pt1-AvionicsComponentCosts'!$A$6:$NC$6,0)+1),\"$1\",\"\")","v":"$GZ"},{"$f":"_xlfn.TEXTJOIN(\", \",TRUE,_xlfn.UNIQUE(_xlfn._xlws.SORT(_xlfn._xlws.FILTER('Pt1-AvionicsComponentCosts'!$NF$12:$NF$384,ISNUMBER(INDIRECT(\"'Pt1-AvionicsComponentCosts'!\"&G32&\"$12:\"&G32&\"$384\"))))))","v":"A220, A300, A320, A321, A330, A330 LMXT, A330 MRTT, A340, A350, A380, ARJ, ATR, Attack, Attack Helo, B717, B737, B747, B757, B767, B777, B787, C919, Challenger, Citation, CRJ, E550, EMB Bizjet, EMB Regional, Falcon, Global, Gulfstream, Hawker, Helo, Hondajet, Learjet, MC-21, MD-11, Mil Fighter, Mil Transport, Military Jet, Military TP, Nextant 400XT, NSA, PC-24, Phenom, Praetor, Reg TP, SF50, Stealth, Superjet 100, TP Trainer, Turbine GA"},null,0.06,0.1,0.371,1.2310000000000001,{"$f":"COUNTIF($N$2:N$2,\"Year\")*$G$1","v":10},null,1,{"$f":"COUNTIF($N$2:Q$2,\"Year\")*$G$1","v":20},{"$f":"IF(Q32=0,0,IF(R$2=\"Year\",IF(_xlfn.MAXIFS($N32:Q32,$N$2:Q$2,\"Year\")+$E32<=$E$1,O32+$E32,0),IF(R$2=\"Repair %\",IF(O32>0,$C32,0),IF(R$2=\"Spares %\",IF(IF(O32>0,$C32,0)*100>50%,50%,IF(O32>0,$C32,0)*100),0))))","v":0},1,{"$f":"COUNTIF($N$2:T$2,\"Year\")*$G$1","v":30},{"$f":"IF(T32=0,0,IF(U$2=\"Year\",IF(_xlfn.MAXIFS($N32:T32,$N$2:T$2,\"Year\")+$E32<=$E$1,R32+$E32,0),IF(U$2=\"Repair %\",IF(R32>0,$C32,0),IF(U$2=\"Spares %\",IF(IF(R32>0,$C32,0)*100>50%,50%,IF(R32>0,$C32,0)*100),0))))","v":0},1,{"$f":"COUNTIF($N$2:W$2,\"Year\")*$G$1","v":40},{"$f":"IF(W32=0,0,IF(X$2=\"Year\",IF(_xlfn.MAXIFS($N32:W32,$N$2:W$2,\"Year\")+$E32<=$E$1,U32+$E32,0),IF(X$2=\"Repair %\",IF(U32>0,$C32,0),IF(X$2=\"Spares %\",IF(IF(U32>0,$C32,0)*100>50%,50%,IF(U32>0,$C32,0)*100),0))))","v":0},1,{"$f":"IF(Y32=0,0,IF(Z$2=\"Year\",IF(_xlfn.MAXIFS($N32:Y32,$N$2:Y$2,\"Year\")+$E32<=$E$1,W32+$E32,0),IF(Z$2=\"Repair %\",IF(W32>0,$C$3,0),IF(Z$2=\"Spares %\",IF(IF(W32>0,$C32,0)*100>50%,50%,IF(W32>0,$C32,0)*100),0))))","v":0},{"$f":"IF(Z32=0,0,IF(AA$2=\"Year\",IF(_xlfn.MAXIFS($N32:Z32,$N$2:Z$2,\"Year\")+$E32<=$E$1,X32+$E32,0),IF(AA$2=\"Repair %\",IF(X32>0,$C32,0),IF(AA$2=\"Spares %\",IF(IF(X32>0,$C32,0)*100>50%,50%,IF(X32>0,$C32,0)*100),0))))","v":0},{"$f":"IF(AA32=0,0,IF(AB$2=\"Year\",IF(_xlfn.MAXIFS($N32:AA32,$N$2:AA$2,\"Year\")+$E32<=$E$1,Y32+$E32,0),IF(AB$2=\"Repair %\",IF(Y32>0,$C32,0),IF(AB$2=\"Spares %\",IF(IF(W32>0,$C32,0)*5>80%,50%,IF(W32>0,$C32,0)*5),0))))","v":0},{"$f":"IF(AB32=0,0,IF(AC$2=\"Year\",IF(_xlfn.MAXIFS($N32:AB32,$N$2:AB$2,\"Year\")+$E32<=$E$1,Z32+$E32,0),IF(AC$2=\"Repair %\",IF(Z32>0,$C$3,0),IF(AC$2=\"Spares %\",IF(IF(Z32>0,$C32,0)*100>50%,50%,IF(Z32>0,$C32,0)*100),0))))","v":0},{"$f":"IF(AC32=0,0,IF(AD$2=\"Year\",IF(_xlfn.MAXIFS($N32:AC32,$N$2:AC$2,\"Year\")+$E32<=$E$1,AA32+$E32,0),IF(AD$2=\"Repair %\",IF(AA32>0,$C32,0),IF(AD$2=\"Spares %\",IF(IF(AA32>0,$C32,0)*100>50%,50%,IF(AA32>0,$C32,0)*100),0))))","v":0},{"$f":"IF(AD32=0,0,IF(AE$2=\"Year\",IF(_xlfn.MAXIFS($N32:AD32,$N$2:AD$2,\"Year\")+$E32<=$E$1,AB32+$E32,0),IF(AE$2=\"Repair %\",IF(AB32>0,$C32,0),IF(AE$2=\"Spares %\",IF(IF(Z32>0,$C32,0)*5>80%,50%,IF(Z32>0,$C32,0)*5),0))))","v":0},{"$f":"IF(AE32=0,0,IF(AF$2=\"Year\",IF(_xlfn.MAXIFS($N32:AE32,$N$2:AE$2,\"Year\")+$E32<=$E$1,AC32+$E32,0),IF(AF$2=\"Repair %\",IF(AC32>0,$C$3,0),IF(AF$2=\"Spares %\",IF(IF(AC32>0,$C32,0)*100>50%,50%,IF(AC32>0,$C32,0)*100),0))))","v":0},{"$f":"IF(AF32=0,0,IF(AG$2=\"Year\",IF(_xlfn.MAXIFS($N32:AF32,$N$2:AF$2,\"Year\")+$E32<=$E$1,AD32+$E32,0),IF(AG$2=\"Repair %\",IF(AD32>0,$C32,0),IF(AG$2=\"Spares %\",IF(IF(AD32>0,$C32,0)*100>50%,50%,IF(AD32>0,$C32,0)*100),0))))","v":0},{"$f":"IF(AG32=0,0,IF(AH$2=\"Year\",IF(_xlfn.MAXIFS($N32:AG32,$N$2:AG$2,\"Year\")+$E32<=$E$1,AE32+$E32,0),IF(AH$2=\"Repair %\",IF(AE32>0,$C32,0),IF(AH$2=\"Spares %\",IF(IF(AC32>0,$C32,0)*5>80%,50%,IF(AC32>0,$C32,0)*5),0))))","v":0},{"$f":"IF(AH32=0,0,IF(AI$2=\"Year\",IF(_xlfn.MAXIFS($N32:AH32,$N$2:AH$2,\"Year\")+$E32<=$E$1,AF32+$E32,0),IF(AI$2=\"Repair %\",IF(AF32>0,$C$3,0),IF(AI$2=\"Spares %\",IF(IF(AF32>0,$C32,0)*100>50%,50%,IF(AF32>0,$C32,0)*100),0))))","v":0},{"$f":"IF(AI32=0,0,IF(AJ$2=\"Year\",IF(_xlfn.MAXIFS($N32:AI32,$N$2:AI$2,\"Year\")+$E32<=$E$1,AG32+$E32,0),IF(AJ$2=\"Repair %\",IF(AG32>0,$C32,0),IF(AJ$2=\"Spares %\",IF(IF(AG32>0,$C32,0)*100>50%,50%,IF(AG32>0,$C32,0)*100),0))))","v":0},{"$f":"IF(AJ32=0,0,IF(AK$2=\"Year\",IF(_xlfn.MAXIFS($N32:AJ32,$N$2:AJ$2,\"Year\")+$E32<=$E$1,AH32+$E32,0),IF(AK$2=\"Repair %\",IF(AH32>0,$C32,0),IF(AK$2=\"Spares %\",IF(IF(AF32>0,$C32,0)*5>80%,50%,IF(AF32>0,$C32,0)*5),0))))","v":0},{"$f":"IF(AK32=0,0,IF(AL$2=\"Year\",IF(_xlfn.MAXIFS($N32:AK32,$N$2:AK$2,\"Year\")+$E32<=$E$1,AI32+$E32,0),IF(AL$2=\"Repair %\",IF(AI32>0,$C$3,0),IF(AL$2=\"Spares %\",IF(IF(AI32>0,$C32,0)*100>50%,50%,IF(AI32>0,$C32,0)*100),0))))","v":0},{"$f":"IF(AL32=0,0,IF(AM$2=\"Year\",IF(_xlfn.MAXIFS($N32:AL32,$N$2:AL$2,\"Year\")+$E32<=$E$1,AJ32+$E32,0),IF(AM$2=\"Repair %\",IF(AJ32>0,$C32,0),IF(AM$2=\"Spares %\",IF(IF(AJ32>0,$C32,0)*100>50%,50%,IF(AJ32>0,$C32,0)*100),0))))","v":0},{"$f":"IF(AM32=0,0,IF(AN$2=\"Year\",IF(_xlfn.MAXIFS($N32:AM32,$N$2:AM$2,\"Year\")+$E32<=$E$1,AK32+$E32,0),IF(AN$2=\"Repair %\",IF(AK32>0,$C32,0),IF(AN$2=\"Spares %\",IF(IF(AI32>0,$C32,0)*5>80%,50%,IF(AI32>0,$C32,0)*5),0))))","v":0},{"$f":"IF(AN32=0,0,IF(AO$2=\"Year\",IF(_xlfn.MAXIFS($N32:AN32,$N$2:AN$2,\"Year\")+$E32<=$E$1,AL32+$E32,0),IF(AO$2=\"Repair %\",IF(AL32>0,$C$3,0),IF(AO$2=\"Spares %\",IF(IF(AL32>0,$C32,0)*100>50%,50%,IF(AL32>0,$C32,0)*100),0))))","v":0},{"$f":"IF(AO32=0,0,IF(AP$2=\"Year\",IF(_xlfn.MAXIFS($N32:AO32,$N$2:AO$2,\"Year\")+$E32<=$E$1,AM32+$E32,0),IF(AP$2=\"Repair %\",IF(AM32>0,$C32,0),IF(AP$2=\"Spares %\",IF(IF(AM32>0,$C32,0)*100>50%,50%,IF(AM32>0,$C32,0)*100),0))))","v":0},{"$f":"IF(AP32=0,0,IF(AQ$2=\"Year\",IF(_xlfn.MAXIFS($N32:AP32,$N$2:AP$2,\"Year\")+$E32<=$E$1,AN32+$E32,0),IF(AQ$2=\"Repair %\",IF(AN32>0,$C32,0),IF(AQ$2=\"Spares %\",IF(IF(AL32>0,$C32,0)*5>80%,50%,IF(AL32>0,$C32,0)*5),0))))","v":0}]
[1058,"Avionics Harnesses",0.1,0.06,10,"Obsolecence",{"$f":"SUBSTITUTE(ADDRESS(1,MATCH(A33,'Pt1-AvionicsComponentCosts'!$A$6:$NC$6,0)+1),\"$1\",\"\")","v":"$HB"},{"$f":"_xlfn.TEXTJOIN(\", \",TRUE,_xlfn.UNIQUE(_xlfn._xlws.SORT(_xlfn._xlws.FILTER('Pt1-AvionicsComponentCosts'!$NF$12:$NF$384,ISNUMBER(INDIRECT(\"'Pt1-AvionicsComponentCosts'!\"&G33&\"$12:\"&G33&\"$384\"))))))","v":"A220, A300, A320, A321, A330, A330 LMXT, A330 MRTT, A340, A350, A380, ARJ, ATR, Attack, Attack Helo, B717, B737, B747, B757, B767, B777, B787, C919, Challenger, Citation, CRJ, E550, EMB Bizjet, EMB Regional, Falcon, Global, Gulfstream, Hawker, Helo, Hondajet, Learjet, MC-21, MD-11, Mil Fighter, Mil Transport, Military Jet, Military TP, Nextant 400XT, NSA, PC-24, Phenom, Praetor, Reg TP, SF50, Stealth, Superjet 100, TP Trainer, Turbine GA"},null,0.06,0.1,0.371,1.2310000000000001,{"$f":"COUNTIF($N$2:N$2,\"Year\")*$G$1","v":10},null,1,{"$f":"COUNTIF($N$2:Q$2,\"Year\")*$G$1","v":20},{"$f":"IF(Q33=0,0,IF(R$2=\"Year\",IF(_xlfn.MAXIFS($N33:Q33,$N$2:Q$2,\"Year\")+$E33<=$E$1,O33+$E33,0),IF(R$2=\"Repair %\",IF(O33>0,$C33,0),IF(R$2=\"Spares %\",IF(IF(O33>0,$C33,0)*100>50%,50%,IF(O33>0,$C33,0)*100),0))))","v":0},1,{"$f":"COUNTIF($N$2:T$2,\"Year\")*$G$1","v":30},{"$f":"IF(T33=0,0,IF(U$2=\"Year\",IF(_xlfn.MAXIFS($N33:T33,$N$2:T$2,\"Year\")+$E33<=$E$1,R33+$E33,0),IF(U$2=\"Repair %\",IF(R33>0,$C33,0),IF(U$2=\"Spares %\",IF(IF(R33>0,$C33,0)*100>50%,50%,IF(R33>0,$C33,0)*100),0))))","v":0},1,{"$f":"COUNTIF($N$2:W$2,\"Year\")*$G$1","v":40},{"$f":"IF(W33=0,0,IF(X$2=\"Year\",IF(_xlfn.MAXIFS($N33:W33,$N$2:W$2,\"Year\")+$E33<=$E$1,U33+$E33,0),IF(X$2=\"Repair %\",IF(U33>0,$C33,0),IF(X$2=\"Spares %\",IF(IF(U33>0,$C33,0)*100>50%,50%,IF(U33>0,$C33,0)*100),0))))","v":0},1,{"$f":"IF(Y33=0,0,IF(Z$2=\"Year\",IF(_xlfn.MAXIFS($N33:Y33,$N$2:Y$2,\"Year\")+$E33<=$E$1,W33+$E33,0),IF(Z$2=\"Repair %\",IF(W33>0,$C$3,0),IF(Z$2=\"Spares %\",IF(IF(W33>0,$C33,0)*100>50%,50%,IF(W33>0,$C33,0)*100),0))))","v":0},{"$f":"IF(Z33=0,0,IF(AA$2=\"Year\",IF(_xlfn.MAXIFS($N33:Z33,$N$2:Z$2,\"Year\")+$E33<=$E$1,X33+$E33,0),IF(AA$2=\"Repair %\",IF(X33>0,$C33,0),IF(AA$2=\"Spares %\",IF(IF(X33>0,$C33,0)*100>50%,50%,IF(X33>0,$C33,0)*100),0))))","v":0},{"$f":"IF(AA33=0,0,IF(AB$2=\"Year\",IF(_xlfn.MAXIFS($N33:AA33,$N$2:AA$2,\"Year\")+$E33<=$E$1,Y33+$E33,0),IF(AB$2=\"Repair %\",IF(Y33>0,$C33,0),IF(AB$2=\"Spares %\",IF(IF(W33>0,$C33,0)*5>80%,50%,IF(W33>0,$C33,0)*5),0))))","v":0},{"$f":"IF(AB33=0,0,IF(AC$2=\"Year\",IF(_xlfn.MAXIFS($N33:AB33,$N$2:AB$2,\"Year\")+$E33<=$E$1,Z33+$E33,0),IF(AC$2=\"Repair %\",IF(Z33>0,$C$3,0),IF(AC$2=\"Spares %\",IF(IF(Z33>0,$C33,0)*100>50%,50%,IF(Z33>0,$C33,0)*100),0))))","v":0},{"$f":"IF(AC33=0,0,IF(AD$2=\"Year\",IF(_xlfn.MAXIFS($N33:AC33,$N$2:AC$2,\"Year\")+$E33<=$E$1,AA33+$E33,0),IF(AD$2=\"Repair %\",IF(AA33>0,$C33,0),IF(AD$2=\"Spares %\",IF(IF(AA33>0,$C33,0)*100>50%,50%,IF(AA33>0,$C33,0)*100),0))))","v":0},{"$f":"IF(AD33=0,0,IF(AE$2=\"Year\",IF(_xlfn.MAXIFS($N33:AD33,$N$2:AD$2,\"Year\")+$E33<=$E$1,AB33+$E33,0),IF(AE$2=\"Repair %\",IF(AB33>0,$C33,0),IF(AE$2=\"Spares %\",IF(IF(Z33>0,$C33,0)*5>80%,50%,IF(Z33>0,$C33,0)*5),0))))","v":0},{"$f":"IF(AE33=0,0,IF(AF$2=\"Year\",IF(_xlfn.MAXIFS($N33:AE33,$N$2:AE$2,\"Year\")+$E33<=$E$1,AC33+$E33,0),IF(AF$2=\"Repair %\",IF(AC33>0,$C$3,0),IF(AF$2=\"Spares %\",IF(IF(AC33>0,$C33,0)*100>50%,50%,IF(AC33>0,$C33,0)*100),0))))","v":0},{"$f":"IF(AF33=0,0,IF(AG$2=\"Year\",IF(_xlfn.MAXIFS($N33:AF33,$N$2:AF$2,\"Year\")+$E33<=$E$1,AD33+$E33,0),IF(AG$2=\"Repair %\",IF(AD33>0,$C33,0),IF(AG$2=\"Spares %\",IF(IF(AD33>0,$C33,0)*100>50%,50%,IF(AD33>0,$C33,0)*100),0))))","v":0},{"$f":"IF(AG33=0,0,IF(AH$2=\"Year\",IF(_xlfn.MAXIFS($N33:AG33,$N$2:AG$2,\"Year\")+$E33<=$E$1,AE33+$E33,0),IF(AH$2=\"Repair %\",IF(AE33>0,$C33,0),IF(AH$2=\"Spares %\",IF(IF(AC33>0,$C33,0)*5>80%,50%,IF(AC33>0,$C33,0)*5),0))))","v":0},{"$f":"IF(AH33=0,0,IF(AI$2=\"Year\",IF(_xlfn.MAXIFS($N33:AH33,$N$2:AH$2,\"Year\")+$E33<=$E$1,AF33+$E33,0),IF(AI$2=\"Repair %\",IF(AF33>0,$C$3,0),IF(AI$2=\"Spares %\",IF(IF(AF33>0,$C33,0)*100>50%,50%,IF(AF33>0,$C33,0)*100),0))))","v":0},{"$f":"IF(AI33=0,0,IF(AJ$2=\"Year\",IF(_xlfn.MAXIFS($N33:AI33,$N$2:AI$2,\"Year\")+$E33<=$E$1,AG33+$E33,0),IF(AJ$2=\"Repair %\",IF(AG33>0,$C33,0),IF(AJ$2=\"Spares %\",IF(IF(AG33>0,$C33,0)*100>50%,50%,IF(AG33>0,$C33,0)*100),0))))","v":0},{"$f":"IF(AJ33=0,0,IF(AK$2=\"Year\",IF(_xlfn.MAXIFS($N33:AJ33,$N$2:AJ$2,\"Year\")+$E33<=$E$1,AH33+$E33,0),IF(AK$2=\"Repair %\",IF(AH33>0,$C33,0),IF(AK$2=\"Spares %\",IF(IF(AF33>0,$C33,0)*5>80%,50%,IF(AF33>0,$C33,0)*5),0))))","v":0},{"$f":"IF(AK33=0,0,IF(AL$2=\"Year\",IF(_xlfn.MAXIFS($N33:AK33,$N$2:AK$2,\"Year\")+$E33<=$E$1,AI33+$E33,0),IF(AL$2=\"Repair %\",IF(AI33>0,$C$3,0),IF(AL$2=\"Spares %\",IF(IF(AI33>0,$C33,0)*100>50%,50%,IF(AI33>0,$C33,0)*100),0))))","v":0},{"$f":"IF(AL33=0,0,IF(AM$2=\"Year\",IF(_xlfn.MAXIFS($N33:AL33,$N$2:AL$2,\"Year\")+$E33<=$E$1,AJ33+$E33,0),IF(AM$2=\"Repair %\",IF(AJ33>0,$C33,0),IF(AM$2=\"Spares %\",IF(IF(AJ33>0,$C33,0)*100>50%,50%,IF(AJ33>0,$C33,0)*100),0))))","v":0},{"$f":"IF(AM33=0,0,IF(AN$2=\"Year\",IF(_xlfn.MAXIFS($N33:AM33,$N$2:AM$2,\"Year\")+$E33<=$E$1,AK33+$E33,0),IF(AN$2=\"Repair %\",IF(AK33>0,$C33,0),IF(AN$2=\"Spares %\",IF(IF(AI33>0,$C33,0)*5>80%,50%,IF(AI33>0,$C33,0)*5),0))))","v":0},{"$f":"IF(AN33=0,0,IF(AO$2=\"Year\",IF(_xlfn.MAXIFS($N33:AN33,$N$2:AN$2,\"Year\")+$E33<=$E$1,AL33+$E33,0),IF(AO$2=\"Repair %\",IF(AL33>0,$C$3,0),IF(AO$2=\"Spares %\",IF(IF(AL33>0,$C33,0)*100>50%,50%,IF(AL33>0,$C33,0)*100),0))))","v":0},{"$f":"IF(AO33=0,0,IF(AP$2=\"Year\",IF(_xlfn.MAXIFS($N33:AO33,$N$2:AO$2,\"Year\")+$E33<=$E$1,AM33+$E33,0),IF(AP$2=\"Repair %\",IF(AM33>0,$C33,0),IF(AP$2=\"Spares %\",IF(IF(AM33>0,$C33,0)*100>50%,50%,IF(AM33>0,$C33,0)*100),0))))","v":0},{"$f":"IF(AP33=0,0,IF(AQ$2=\"Year\",IF(_xlfn.MAXIFS($N33:AP33,$N$2:AP$2,\"Year\")+$E33<=$E$1,AN33+$E33,0),IF(AQ$2=\"Repair %\",IF(AN33>0,$C33,0),IF(AQ$2=\"Spares %\",IF(IF(AL33>0,$C33,0)*5>80%,50%,IF(AL33>0,$C33,0)*5),0))))","v":0}]
[1059,"Avionics Harnesses",0.1,0.06,10,"Obsolecence",{"$f":"SUBSTITUTE(ADDRESS(1,MATCH(A34,'Pt1-AvionicsComponentCosts'!$A$6:$NC$6,0)+1),\"$1\",\"\")","v":"$HD"},{"$f":"_xlfn.TEXTJOIN(\", \",TRUE,_xlfn.UNIQUE(_xlfn._xlws.SORT(_xlfn._xlws.FILTER('Pt1-AvionicsComponentCosts'!$NF$12:$NF$384,ISNUMBER(INDIRECT(\"'Pt1-AvionicsComponentCosts'!\"&G34&\"$12:\"&G34&\"$384\"))))))","v":"A220, A300, A320, A321, A330, A330 LMXT, A330 MRTT, A340, A350, A380, ARJ, ATR, Attack, Attack Helo, B717, B737, B747, B757, B767, B777, B787, C919, Challenger, Citation, CRJ, E550, EMB Bizjet, EMB Regional, Falcon, Global, Gulfstream, Hawker, Helo, Hondajet, Learjet, MC-21, MD-11, Mil Fighter, Mil Transport, Military Jet, Military TP, Nextant 400XT, NSA, PC-24, Phenom, Praetor, Reg TP, SF50, Stealth, Superjet 100, TP Trainer, Turbine GA"},null,0.06,0.1,0.371,1.2310000000000001,{"$f":"COUNTIF($N$2:N$2,\"Year\")*$G$1","v":10},null,1,{"$f":"COUNTIF($N$2:Q$2,\"Year\")*$G$1","v":20},{"$f":"IF(Q34=0,0,IF(R$2=\"Year\",IF(_xlfn.MAXIFS($N34:Q34,$N$2:Q$2,\"Year\")+$E34<=$E$1,O34+$E34,0),IF(R$2=\"Repair %\",IF(O34>0,$C34,0),IF(R$2=\"Spares %\",IF(IF(O34>0,$C34,0)*100>50%,50%,IF(O34>0,$C34,0)*100),0))))","v":0},1,{"$f":"COUNTIF($N$2:T$2,\"Year\")*$G$1","v":30},{"$f":"IF(T34=0,0,IF(U$2=\"Year\",IF(_xlfn.MAXIFS($N34:T34,$N$2:T$2,\"Year\")+$E34<=$E$1,R34+$E34,0),IF(U$2=\"Repair %\",IF(R34>0,$C34,0),IF(U$2=\"Spares %\",IF(IF(R34>0,$C34,0)*100>50%,50%,IF(R34>0,$C34,0)*100),0))))","v":0},1,{"$f":"COUNTIF($N$2:W$2,\"Year\")*$G$1","v":40},{"$f":"IF(W34=0,0,IF(X$2=\"Year\",IF(_xlfn.MAXIFS($N34:W34,$N$2:W$2,\"Year\")+$E34<=$E$1,U34+$E34,0),IF(X$2=\"Repair %\",IF(U34>0,$C34,0),IF(X$2=\"Spares %\",IF(IF(U34>0,$C34,0)*100>50%,50%,IF(U34>0,$C34,0)*100),0))))","v":0},1,{"$f":"IF(Y34=0,0,IF(Z$2=\"Year\",IF(_xlfn.MAXIFS($N34:Y34,$N$2:Y$2,\"Year\")+$E34<=$E$1,W34+$E34,0),IF(Z$2=\"Repair %\",IF(W34>0,$C$3,0),IF(Z$2=\"Spares %\",IF(IF(W34>0,$C34,0)*100>50%,50%,IF(W34>0,$C34,0)*100),0))))","v":0},{"$f":"IF(Z34=0,0,IF(AA$2=\"Year\",IF(_xlfn.MAXIFS($N34:Z34,$N$2:Z$2,\"Year\")+$E34<=$E$1,X34+$E34,0),IF(AA$2=\"Repair %\",IF(X34>0,$C34,0),IF(AA$2=\"Spares %\",IF(IF(X34>0,$C34,0)*100>50%,50%,IF(X34>0,$C34,0)*100),0))))","v":0},{"$f":"IF(AA34=0,0,IF(AB$2=\"Year\",IF(_xlfn.MAXIFS($N34:AA34,$N$2:AA$2,\"Year\")+$E34<=$E$1,Y34+$E34,0),IF(AB$2=\"Repair %\",IF(Y34>0,$C34,0),IF(AB$2=\"Spares %\",IF(IF(W34>0,$C34,0)*5>80%,50%,IF(W34>0,$C34,0)*5),0))))","v":0},{"$f":"IF(AB34=0,0,IF(AC$2=\"Year\",IF(_xlfn.MAXIFS($N34:AB34,$N$2:AB$2,\"Year\")+$E34<=$E$1,Z34+$E34,0),IF(AC$2=\"Repair %\",IF(Z34>0,$C$3,0),IF(AC$2=\"Spares %\",IF(IF(Z34>0,$C34,0)*100>50%,50%,IF(Z34>0,$C34,0)*100),0))))","v":0},{"$f":"IF(AC34=0,0,IF(AD$2=\"Year\",IF(_xlfn.MAXIFS($N34:AC34,$N$2:AC$2,\"Year\")+$E34<=$E$1,AA34+$E34,0),IF(AD$2=\"Repair %\",IF(AA34>0,$C34,0),IF(AD$2=\"Spares %\",IF(IF(AA34>0,$C34,0)*100>50%,50%,IF(AA34>0,$C34,0)*100),0))))","v":0},{"$f":"IF(AD34=0,0,IF(AE$2=\"Year\",IF(_xlfn.MAXIFS($N34:AD34,$N$2:AD$2,\"Year\")+$E34<=$E$1,AB34+$E34,0),IF(AE$2=\"Repair %\",IF(AB34>0,$C34,0),IF(AE$2=\"Spares %\",IF(IF(Z34>0,$C34,0)*5>80%,50%,IF(Z34>0,$C34,0)*5),0))))","v":0},{"$f":"IF(AE34=0,0,IF(AF$2=\"Year\",IF(_xlfn.MAXIFS($N34:AE34,$N$2:AE$2,\"Year\")+$E34<=$E$1,AC34+$E34,0),IF(AF$2=\"Repair %\",IF(AC34>0,$C$3,0),IF(AF$2=\"Spares %\",IF(IF(AC34>0,$C34,0)*100>50%,50%,IF(AC34>0,$C34,0)*100),0))))","v":0},{"$f":"IF(AF34=0,0,IF(AG$2=\"Year\",IF(_xlfn.MAXIFS($N34:AF34,$N$2:AF$2,\"Year\")+$E34<=$E$1,AD34+$E34,0),IF(AG$2=\"Repair %\",IF(AD34>0,$C34,0),IF(AG$2=\"Spares %\",IF(IF(AD34>0,$C34,0)*100>50%,50%,IF(AD34>0,$C34,0)*100),0))))","v":0},{"$f":"IF(AG34=0,0,IF(AH$2=\"Year\",IF(_xlfn.MAXIFS($N34:AG34,$N$2:AG$2,\"Year\")+$E34<=$E$1,AE34+$E34,0),IF(AH$2=\"Repair %\",IF(AE34>0,$C34,0),IF(AH$2=\"Spares %\",IF(IF(AC34>0,$C34,0)*5>80%,50%,IF(AC34>0,$C34,0)*5),0))))","v":0},{"$f":"IF(AH34=0,0,IF(AI$2=\"Year\",IF(_xlfn.MAXIFS($N34:AH34,$N$2:AH$2,\"Year\")+$E34<=$E$1,AF34+$E34,0),IF(AI$2=\"Repair %\",IF(AF34>0,$C$3,0),IF(AI$2=\"Spares %\",IF(IF(AF34>0,$C34,0)*100>50%,50%,IF(AF34>0,$C34,0)*100),0))))","v":0},{"$f":"IF(AI34=0,0,IF(AJ$2=\"Year\",IF(_xlfn.MAXIFS($N34:AI34,$N$2:AI$2,\"Year\")+$E34<=$E$1,AG34+$E34,0),IF(AJ$2=\"Repair %\",IF(AG34>0,$C34,0),IF(AJ$2=\"Spares %\",IF(IF(AG34>0,$C34,0)*100>50%,50%,IF(AG34>0,$C34,0)*100),0))))","v":0},{"$f":"IF(AJ34=0,0,IF(AK$2=\"Year\",IF(_xlfn.MAXIFS($N34:AJ34,$N$2:AJ$2,\"Year\")+$E34<=$E$1,AH34+$E34,0),IF(AK$2=\"Repair %\",IF(AH34>0,$C34,0),IF(AK$2=\"Spares %\",IF(IF(AF34>0,$C34,0)*5>80%,50%,IF(AF34>0,$C34,0)*5),0))))","v":0},{"$f":"IF(AK34=0,0,IF(AL$2=\"Year\",IF(_xlfn.MAXIFS($N34:AK34,$N$2:AK$2,\"Year\")+$E34<=$E$1,AI34+$E34,0),IF(AL$2=\"Repair %\",IF(AI34>0,$C$3,0),IF(AL$2=\"Spares %\",IF(IF(AI34>0,$C34,0)*100>50%,50%,IF(AI34>0,$C34,0)*100),0))))","v":0},{"$f":"IF(AL34=0,0,IF(AM$2=\"Year\",IF(_xlfn.MAXIFS($N34:AL34,$N$2:AL$2,\"Year\")+$E34<=$E$1,AJ34+$E34,0),IF(AM$2=\"Repair %\",IF(AJ34>0,$C34,0),IF(AM$2=\"Spares %\",IF(IF(AJ34>0,$C34,0)*100>50%,50%,IF(AJ34>0,$C34,0)*100),0))))","v":0},{"$f":"IF(AM34=0,0,IF(AN$2=\"Year\",IF(_xlfn.MAXIFS($N34:AM34,$N$2:AM$2,\"Year\")+$E34<=$E$1,AK34+$E34,0),IF(AN$2=\"Repair %\",IF(AK34>0,$C34,0),IF(AN$2=\"Spares %\",IF(IF(AI34>0,$C34,0)*5>80%,50%,IF(AI34>0,$C34,0)*5),0))))","v":0},{"$f":"IF(AN34=0,0,IF(AO$2=\"Year\",IF(_xlfn.MAXIFS($N34:AN34,$N$2:AN$2,\"Year\")+$E34<=$E$1,AL34+$E34,0),IF(AO$2=\"Repair %\",IF(AL34>0,$C$3,0),IF(AO$2=\"Spares %\",IF(IF(AL34>0,$C34,0)*100>50%,50%,IF(AL34>0,$C34,0)*100),0))))","v":0},{"$f":"IF(AO34=0,0,IF(AP$2=\"Year\",IF(_xlfn.MAXIFS($N34:AO34,$N$2:AO$2,\"Year\")+$E34<=$E$1,AM34+$E34,0),IF(AP$2=\"Repair %\",IF(AM34>0,$C34,0),IF(AP$2=\"Spares %\",IF(IF(AM34>0,$C34,0)*100>50%,50%,IF(AM34>0,$C34,0)*100),0))))","v":0},{"$f":"IF(AP34=0,0,IF(AQ$2=\"Year\",IF(_xlfn.MAXIFS($N34:AP34,$N$2:AP$2,\"Year\")+$E34<=$E$1,AN34+$E34,0),IF(AQ$2=\"Repair %\",IF(AN34>0,$C34,0),IF(AQ$2=\"Spares %\",IF(IF(AL34>0,$C34,0)*5>80%,50%,IF(AL34>0,$C34,0)*5),0))))","v":0}]
[{"$f":"INDEX('Avionics ID'!A:E,MATCH(B35,'Avionics ID'!E:E,0),1)","v":843},"Central Crypto System",0.1,0.06,10,"Obsolecence",{"$f":"SUBSTITUTE(ADDRESS(1,MATCH(A35,'Pt1-AvionicsComponentCosts'!$A$6:$NC$6,0)+1),\"$1\",\"\")","v":"$AH"},{"$f":"_xlfn.TEXTJOIN(\", \",TRUE,_xlfn.UNIQUE(_xlfn._xlws.SORT(_xlfn._xlws.FILTER('Pt1-AvionicsComponentCosts'!$NF$12:$NF$384,ISNUMBER(INDIRECT(\"'Pt1-AvionicsComponentCosts'!\"&G35&\"$12:\"&G35&\"$384\"))))))","v":"A330 LMXT, A330 MRTT, Mil Transport, Military Jet, Military TP"},null,0.06,0.1,0.501,1.2969999999999999,{"$f":"COUNTIF($N$2:N$2,\"Year\")*$G$1","v":10},null,1,{"$f":"COUNTIF($N$2:Q$2,\"Year\")*$G$1","v":20},{"$f":"IF(Q35=0,0,IF(R$2=\"Year\",IF(_xlfn.MAXIFS($N35:Q35,$N$2:Q$2,\"Year\")+$E35<=$E$1,O35+$E35,0),IF(R$2=\"Repair %\",IF(O35>0,$C35,0),IF(R$2=\"Spares %\",IF(IF(O35>0,$C35,0)*100>50%,50%,IF(O35>0,$C35,0)*100),0))))","v":0},1,{"$f":"COUNTIF($N$2:T$2,\"Year\")*$G$1","v":30},{"$f":"IF(T35=0,0,IF(U$2=\"Year\",IF(_xlfn.MAXIFS($N35:T35,$N$2:T$2,\"Year\")+$E35<=$E$1,R35+$E35,0),IF(U$2=\"Repair %\",IF(R35>0,$C35,0),IF(U$2=\"Spares %\",IF(IF(R35>0,$C35,0)*100>50%,50%,IF(R35>0,$C35,0)*100),0))))","v":0},1,{"$f":"COUNTIF($N$2:W$2,\"Year\")*$G$1","v":40},{"$f":"IF(W35=0,0,IF(X$2=\"Year\",IF(_xlfn.MAXIFS($N35:W35,$N$2:W$2,\"Year\")+$E35<=$E$1,U35+$E35,0),IF(X$2=\"Repair %\",IF(U35>0,$C35,0),IF(X$2=\"Spares %\",IF(IF(U35>0,$C35,0)*100>50%,50%,IF(U35>0,$C35,0)*100),0))))","v":0},1,{"$f":"IF(Y35=0,0,IF(Z$2=\"Year\",IF(_xlfn.MAXIFS($N35:Y35,$N$2:Y$2,\"Year\")+$E35<=$E$1,W35+$E35,0),IF(Z$2=\"Repair %\",IF(W35>0,$C$3,0),IF(Z$2=\"Spares %\",IF(IF(W35>0,$C35,0)*100>50%,50%,IF(W35>0,$C35,0)*100),0))))","v":0},{"$f":"IF(Z35=0,0,IF(AA$2=\"Year\",IF(_xlfn.MAXIFS($N35:Z35,$N$2:Z$2,\"Year\")+$E35<=$E$1,X35+$E35,0),IF(AA$2=\"Repair %\",IF(X35>0,$C35,0),IF(AA$2=\"Spares %\",IF(IF(X35>0,$C35,0)*100>50%,50%,IF(X35>0,$C35,0)*100),0))))","v":0},{"$f":"IF(AA35=0,0,IF(AB$2=\"Year\",IF(_xlfn.MAXIFS($N35:AA35,$N$2:AA$2,\"Year\")+$E35<=$E$1,Y35+$E35,0),IF(AB$2=\"Repair %\",IF(Y35>0,$C35,0),IF(AB$2=\"Spares %\",IF(IF(W35>0,$C35,0)*5>80%,50%,IF(W35>0,$C35,0)*5),0))))","v":0},{"$f":"IF(AB35=0,0,IF(AC$2=\"Year\",IF(_xlfn.MAXIFS($N35:AB35,$N$2:AB$2,\"Year\")+$E35<=$E$1,Z35+$E35,0),IF(AC$2=\"Repair %\",IF(Z35>0,$C$3,0),IF(AC$2=\"Spares %\",IF(IF(Z35>0,$C35,0)*100>50%,50%,IF(Z35>0,$C35,0)*100),0))))","v":0},{"$f":"IF(AC35=0,0,IF(AD$2=\"Year\",IF(_xlfn.MAXIFS($N35:AC35,$N$2:AC$2,\"Year\")+$E35<=$E$1,AA35+$E35,0),IF(AD$2=\"Repair %\",IF(AA35>0,$C35,0),IF(AD$2=\"Spares %\",IF(IF(AA35>0,$C35,0)*100>50%,50%,IF(AA35>0,$C35,0)*100),0))))","v":0},{"$f":"IF(AD35=0,0,IF(AE$2=\"Year\",IF(_xlfn.MAXIFS($N35:AD35,$N$2:AD$2,\"Year\")+$E35<=$E$1,AB35+$E35,0),IF(AE$2=\"Repair %\",IF(AB35>0,$C35,0),IF(AE$2=\"Spares %\",IF(IF(Z35>0,$C35,0)*5>80%,50%,IF(Z35>0,$C35,0)*5),0))))","v":0},{"$f":"IF(AE35=0,0,IF(AF$2=\"Year\",IF(_xlfn.MAXIFS($N35:AE35,$N$2:AE$2,\"Year\")+$E35<=$E$1,AC35+$E35,0),IF(AF$2=\"Repair %\",IF(AC35>0,$C$3,0),IF(AF$2=\"Spares %\",IF(IF(AC35>0,$C35,0)*100>50%,50%,IF(AC35>0,$C35,0)*100),0))))","v":0},{"$f":"IF(AF35=0,0,IF(AG$2=\"Year\",IF(_xlfn.MAXIFS($N35:AF35,$N$2:AF$2,\"Year\")+$E35<=$E$1,AD35+$E35,0),IF(AG$2=\"Repair %\",IF(AD35>0,$C35,0),IF(AG$2=\"Spares %\",IF(IF(AD35>0,$C35,0)*100>50%,50%,IF(AD35>0,$C35,0)*100),0))))","v":0},{"$f":"IF(AG35=0,0,IF(AH$2=\"Year\",IF(_xlfn.MAXIFS($N35:AG35,$N$2:AG$2,\"Year\")+$E35<=$E$1,AE35+$E35,0),IF(AH$2=\"Repair %\",IF(AE35>0,$C35,0),IF(AH$2=\"Spares %\",IF(IF(AC35>0,$C35,0)*5>80%,50%,IF(AC35>0,$C35,0)*5),0))))","v":0},{"$f":"IF(AH35=0,0,IF(AI$2=\"Year\",IF(_xlfn.MAXIFS($N35:AH35,$N$2:AH$2,\"Year\")+$E35<=$E$1,AF35+$E35,0),IF(AI$2=\"Repair %\",IF(AF35>0,$C$3,0),IF(AI$2=\"Spares %\",IF(IF(AF35>0,$C35,0)*100>50%,50%,IF(AF35>0,$C35,0)*100),0))))","v":0},{"$f":"IF(AI35=0,0,IF(AJ$2=\"Year\",IF(_xlfn.MAXIFS($N35:AI35,$N$2:AI$2,\"Year\")+$E35<=$E$1,AG35+$E35,0),IF(AJ$2=\"Repair %\",IF(AG35>0,$C35,0),IF(AJ$2=\"Spares %\",IF(IF(AG35>0,$C35,0)*100>50%,50%,IF(AG35>0,$C35,0)*100),0))))","v":0},{"$f":"IF(AJ35=0,0,IF(AK$2=\"Year\",IF(_xlfn.MAXIFS($N35:AJ35,$N$2:AJ$2,\"Year\")+$E35<=$E$1,AH35+$E35,0),IF(AK$2=\"Repair %\",IF(AH35>0,$C35,0),IF(AK$2=\"Spares %\",IF(IF(AF35>0,$C35,0)*5>80%,50%,IF(AF35>0,$C35,0)*5),0))))","v":0},{"$f":"IF(AK35=0,0,IF(AL$2=\"Year\",IF(_xlfn.MAXIFS($N35:AK35,$N$2:AK$2,\"Year\")+$E35<=$E$1,AI35+$E35,0),IF(AL$2=\"Repair %\",IF(AI35>0,$C$3,0),IF(AL$2=\"Spares %\",IF(IF(AI35>0,$C35,0)*100>50%,50%,IF(AI35>0,$C35,0)*100),0))))","v":0},{"$f":"IF(AL35=0,0,IF(AM$2=\"Year\",IF(_xlfn.MAXIFS($N35:AL35,$N$2:AL$2,\"Year\")+$E35<=$E$1,AJ35+$E35,0),IF(AM$2=\"Repair %\",IF(AJ35>0,$C35,0),IF(AM$2=\"Spares %\",IF(IF(AJ35>0,$C35,0)*100>50%,50%,IF(AJ35>0,$C35,0)*100),0))))","v":0},{"$f":"IF(AM35=0,0,IF(AN$2=\"Year\",IF(_xlfn.MAXIFS($N35:AM35,$N$2:AM$2,\"Year\")+$E35<=$E$1,AK35+$E35,0),IF(AN$2=\"Repair %\",IF(AK35>0,$C35,0),IF(AN$2=\"Spares %\",IF(IF(AI35>0,$C35,0)*5>80%,50%,IF(AI35>0,$C35,0)*5),0))))","v":0},{"$f":"IF(AN35=0,0,IF(AO$2=\"Year\",IF(_xlfn.MAXIFS($N35:AN35,$N$2:AN$2,\"Year\")+$E35<=$E$1,AL35+$E35,0),IF(AO$2=\"Repair %\",IF(AL35>0,$C$3,0),IF(AO$2=\"Spares %\",IF(IF(AL35>0,$C35,0)*100>50%,50%,IF(AL35>0,$C35,0)*100),0))))","v":0},{"$f":"IF(AO35=0,0,IF(AP$2=\"Year\",IF(_xlfn.MAXIFS($N35:AO35,$N$2:AO$2,\"Year\")+$E35<=$E$1,AM35+$E35,0),IF(AP$2=\"Repair %\",IF(AM35>0,$C35,0),IF(AP$2=\"Spares %\",IF(IF(AM35>0,$C35,0)*100>50%,50%,IF(AM35>0,$C35,0)*100),0))))","v":0},{"$f":"IF(AP35=0,0,IF(AQ$2=\"Year\",IF(_xlfn.MAXIFS($N35:AP35,$N$2:AP$2,\"Year\")+$E35<=$E$1,AN35+$E35,0),IF(AQ$2=\"Repair %\",IF(AN35>0,$C35,0),IF(AQ$2=\"Spares %\",IF(IF(AL35>0,$C35,0)*5>80%,50%,IF(AL35>0,$C35,0)*5),0))))","v":0}]
[{"$f":"INDEX('Avionics ID'!A:E,MATCH(B36,'Avionics ID'!E:E,0),1)","v":862},"Central Mission display",0,0.06,null,"",{"$f":"SUBSTITUTE(ADDRESS(1,MATCH(A36,'Pt1-AvionicsComponentCosts'!$A$6:$NC$6,0)+1),\"$1\",\"\")","v":"$DT"},{"$f":"_xlfn.TEXTJOIN(\", \",TRUE,_xlfn.UNIQUE(_xlfn._xlws.SORT(_xlfn._xlws.FILTER('Pt1-AvionicsComponentCosts'!$NF$12:$NF$384,ISNUMBER(INDIRECT(\"'Pt1-AvionicsComponentCosts'!\"&G36&\"$12:\"&G36&\"$384\"))))))","v":"Helo, TP Trainer, Turbine GA"},null,0.06,0,0.35299999999999998,1.8460000000000001,{"$f":"COUNTIF($N$2:N$2,\"Year\")*$G$1","v":10},null,0,{"$f":"COUNTIF($N$2:Q$2,\"Year\")*$G$1","v":20},{"$f":"IF(Q36=0,0,IF(R$2=\"Year\",IF(_xlfn.MAXIFS($N36:Q36,$N$2:Q$2,\"Year\")+$E36<=$E$1,O36+$E36,0),IF(R$2=\"Repair %\",IF(O36>0,$C36,0),IF(R$2=\"Spares %\",IF(IF(O36>0,$C36,0)*100>50%,50%,IF(O36>0,$C36,0)*100),0))))","v":0},0,{"$f":"COUNTIF($N$2:T$2,\"Year\")*$G$1","v":30},{"$f":"IF(T36=0,0,IF(U$2=\"Year\",IF(_xlfn.MAXIFS($N36:T36,$N$2:T$2,\"Year\")+$E36<=$E$1,R36+$E36,0),IF(U$2=\"Repair %\",IF(R36>0,$C36,0),IF(U$2=\"Spares %\",IF(IF(R36>0,$C36,0)*100>50%,50%,IF(R36>0,$C36,0)*100),0))))","v":0},0,{"$f":"COUNTIF($N$2:W$2,\"Year\")*$G$1","v":40},{"$f":"IF(W36=0,0,IF(X$2=\"Year\",IF(_xlfn.MAXIFS($N36:W36,$N$2:W$2,\"Year\")+$E36<=$E$1,U36+$E36,0),IF(X$2=\"Repair %\",IF(U36>0,$C36,0),IF(X$2=\"Spares %\",IF(IF(U36>0,$C36,0)*100>50%,50%,IF(U36>0,$C36,0)*100),0))))","v":0},0,{"$f":"IF(Y36=0,0,IF(Z$2=\"Year\",IF(_xlfn.MAXIFS($N36:Y36,$N$2:Y$2,\"Year\")+$E36<=$E$1,W36+$E36,0),IF(Z$2=\"Repair %\",IF(W36>0,$C$3,0),IF(Z$2=\"Spares %\",IF(IF(W36>0,$C36,0)*100>50%,50%,IF(W36>0,$C36,0)*100),0))))","v":0},{"$f":"IF(Z36=0,0,IF(AA$2=\"Year\",IF(_xlfn.MAXIFS($N36:Z36,$N$2:Z$2,\"Year\")+$E36<=$E$1,X36+$E36,0),IF(AA$2=\"Repair %\",IF(X36>0,$C36,0),IF(AA$2=\"Spares %\",IF(IF(X36>0,$C36,0)*100>50%,50%,IF(X36>0,$C36,0)*100),0))))","v":0},{"$f":"IF(AA36=0,0,IF(AB$2=\"Year\",IF(_xlfn.MAXIFS($N36:AA36,$N$2:AA$2,\"Year\")+$E36<=$E$1,Y36+$E36,0),IF(AB$2=\"Repair %\",IF(Y36>0,$C36,0),IF(AB$2=\"Spares %\",IF(IF(W36>0,$C36,0)*5>80%,50%,IF(W36>0,$C36,0)*5),0))))","v":0},{"$f":"IF(AB36=0,0,IF(AC$2=\"Year\",IF(_xlfn.MAXIFS($N36:AB36,$N$2:AB$2,\"Year\")+$E36<=$E$1,Z36+$E36,0),IF(AC$2=\"Repair %\",IF(Z36>0,$C$3,0),IF(AC$2=\"Spares %\",IF(IF(Z36>0,$C36,0)*100>50%,50%,IF(Z36>0,$C36,0)*100),0))))","v":0},{"$f":"IF(AC36=0,0,IF(AD$2=\"Year\",IF(_xlfn.MAXIFS($N36:AC36,$N$2:AC$2,\"Year\")+$E36<=$E$1,AA36+$E36,0),IF(AD$2=\"Repair %\",IF(AA36>0,$C36,0),IF(AD$2=\"Spares %\",IF(IF(AA36>0,$C36,0)*100>50%,50%,IF(AA36>0,$C36,0)*100),0))))","v":0},{"$f":"IF(AD36=0,0,IF(AE$2=\"Year\",IF(_xlfn.MAXIFS($N36:AD36,$N$2:AD$2,\"Year\")+$E36<=$E$1,AB36+$E36,0),IF(AE$2=\"Repair %\",IF(AB36>0,$C36,0),IF(AE$2=\"Spares %\",IF(IF(Z36>0,$C36,0)*5>80%,50%,IF(Z36>0,$C36,0)*5),0))))","v":0},{"$f":"IF(AE36=0,0,IF(AF$2=\"Year\",IF(_xlfn.MAXIFS($N36:AE36,$N$2:AE$2,\"Year\")+$E36<=$E$1,AC36+$E36,0),IF(AF$2=\"Repair %\",IF(AC36>0,$C$3,0),IF(AF$2=\"Spares %\",IF(IF(AC36>0,$C36,0)*100>50%,50%,IF(AC36>0,$C36,0)*100),0))))","v":0},{"$f":"IF(AF36=0,0,IF(AG$2=\"Year\",IF(_xlfn.MAXIFS($N36:AF36,$N$2:AF$2,\"Year\")+$E36<=$E$1,AD36+$E36,0),IF(AG$2=\"Repair %\",IF(AD36>0,$C36,0),IF(AG$2=\"Spares %\",IF(IF(AD36>0,$C36,0)*100>50%,50%,IF(AD36>0,$C36,0)*100),0))))","v":0},{"$f":"IF(AG36=0,0,IF(AH$2=\"Year\",IF(_xlfn.MAXIFS($N36:AG36,$N$2:AG$2,\"Year\")+$E36<=$E$1,AE36+$E36,0),IF(AH$2=\"Repair %\",IF(AE36>0,$C36,0),IF(AH$2=\"Spares %\",IF(IF(AC36>0,$C36,0)*5>80%,50%,IF(AC36>0,$C36,0)*5),0))))","v":0},{"$f":"IF(AH36=0,0,IF(AI$2=\"Year\",IF(_xlfn.MAXIFS($N36:AH36,$N$2:AH$2,\"Year\")+$E36<=$E$1,AF36+$E36,0),IF(AI$2=\"Repair %\",IF(AF36>0,$C$3,0),IF(AI$2=\"Spares %\",IF(IF(AF36>0,$C36,0)*100>50%,50%,IF(AF36>0,$C36,0)*100),0))))","v":0},{"$f":"IF(AI36=0,0,IF(AJ$2=\"Year\",IF(_xlfn.MAXIFS($N36:AI36,$N$2:AI$2,\"Year\")+$E36<=$E$1,AG36+$E36,0),IF(AJ$2=\"Repair %\",IF(AG36>0,$C36,0),IF(AJ$2=\"Spares %\",IF(IF(AG36>0,$C36,0)*100>50%,50%,IF(AG36>0,$C36,0)*100),0))))","v":0},{"$f":"IF(AJ36=0,0,IF(AK$2=\"Year\",IF(_xlfn.MAXIFS($N36:AJ36,$N$2:AJ$2,\"Year\")+$E36<=$E$1,AH36+$E36,0),IF(AK$2=\"Repair %\",IF(AH36>0,$C36,0),IF(AK$2=\"Spares %\",IF(IF(AF36>0,$C36,0)*5>80%,50%,IF(AF36>0,$C36,0)*5),0))))","v":0},{"$f":"IF(AK36=0,0,IF(AL$2=\"Year\",IF(_xlfn.MAXIFS($N36:AK36,$N$2:AK$2,\"Year\")+$E36<=$E$1,AI36+$E36,0),IF(AL$2=\"Repair %\",IF(AI36>0,$C$3,0),IF(AL$2=\"Spares %\",IF(IF(AI36>0,$C36,0)*100>50%,50%,IF(AI36>0,$C36,0)*100),0))))","v":0},{"$f":"IF(AL36=0,0,IF(AM$2=\"Year\",IF(_xlfn.MAXIFS($N36:AL36,$N$2:AL$2,\"Year\")+$E36<=$E$1,AJ36+$E36,0),IF(AM$2=\"Repair %\",IF(AJ36>0,$C36,0),IF(AM$2=\"Spares %\",IF(IF(AJ36>0,$C36,0)*100>50%,50%,IF(AJ36>0,$C36,0)*100),0))))","v":0},{"$f":"IF(AM36=0,0,IF(AN$2=\"Year\",IF(_xlfn.MAXIFS($N36:AM36,$N$2:AM$2,\"Year\")+$E36<=$E$1,AK36+$E36,0),IF(AN$2=\"Repair %\",IF(AK36>0,$C36,0),IF(AN$2=\"Spares %\",IF(IF(AI36>0,$C36,0)*5>80%,50%,IF(AI36>0,$C36,0)*5),0))))","v":0},{"$f":"IF(AN36=0,0,IF(AO$2=\"Year\",IF(_xlfn.MAXIFS($N36:AN36,$N$2:AN$2,\"Year\")+$E36<=$E$1,AL36+$E36,0),IF(AO$2=\"Repair %\",IF(AL36>0,$C$3,0),IF(AO$2=\"Spares %\",IF(IF(AL36>0,$C36,0)*100>50%,50%,IF(AL36>0,$C36,0)*100),0))))","v":0},{"$f":"IF(AO36=0,0,IF(AP$2=\"Year\",IF(_xlfn.MAXIFS($N36:AO36,$N$2:AO$2,\"Year\")+$E36<=$E$1,AM36+$E36,0),IF(AP$2=\"Repair %\",IF(AM36>0,$C36,0),IF(AP$2=\"Spares %\",IF(IF(AM36>0,$C36,0)*100>50%,50%,IF(AM36>0,$C36,0)*100),0))))","v":0},{"$f":"IF(AP36=0,0,IF(AQ$2=\"Year\",IF(_xlfn.MAXIFS($N36:AP36,$N$2:AP$2,\"Year\")+$E36<=$E$1,AN36+$E36,0),IF(AQ$2=\"Repair %\",IF(AN36>0,$C36,0),IF(AQ$2=\"Spares %\",IF(IF(AL36>0,$C36,0)*5>80%,50%,IF(AL36>0,$C36,0)*5),0))))","v":0}]
[{"$f":"INDEX('Avionics ID'!A:E,MATCH(B37,'Avionics ID'!E:E,0),1)","v":737},"Clock",0.1,0.06,10,"Obsolecence",{"$f":"SUBSTITUTE(ADDRESS(1,MATCH(A37,'Pt1-AvionicsComponentCosts'!$A$6:$NC$6,0)+1),\"$1\",\"\")","v":"$DV"},{"$f":"_xlfn.TEXTJOIN(\", \",TRUE,_xlfn.UNIQUE(_xlfn._xlws.SORT(_xlfn._xlws.FILTER('Pt1-AvionicsComponentCosts'!$NF$12:$NF$384,ISNUMBER(INDIRECT(\"'Pt1-AvionicsComponentCosts'!\"&G37&\"$12:\"&G37&\"$384\"))))))","v":"A220, A300, A320, A321, A330, A340, A350, A380, ATR, B717, B737, B747, B757, B767, B777, C919, EMB Regional, MC-21, MD-11, Mil Transport, Military Jet, NSA"},null,0.06,0.1,0.35299999999999998,1.8460000000000001,{"$f":"COUNTIF($N$2:N$2,\"Year\")*$G$1","v":10},null,1,{"$f":"COUNTIF($N$2:Q$2,\"Year\")*$G$1","v":20},{"$f":"IF(Q37=0,0,IF(R$2=\"Year\",IF(_xlfn.MAXIFS($N37:Q37,$N$2:Q$2,\"Year\")+$E37<=$E$1,O37+$E37,0),IF(R$2=\"Repair %\",IF(O37>0,$C37,0),IF(R$2=\"Spares %\",IF(IF(O37>0,$C37,0)*100>50%,50%,IF(O37>0,$C37,0)*100),0))))","v":0},1,{"$f":"COUNTIF($N$2:T$2,\"Year\")*$G$1","v":30},{"$f":"IF(T37=0,0,IF(U$2=\"Year\",IF(_xlfn.MAXIFS($N37:T37,$N$2:T$2,\"Year\")+$E37<=$E$1,R37+$E37,0),IF(U$2=\"Repair %\",IF(R37>0,$C37,0),IF(U$2=\"Spares %\",IF(IF(R37>0,$C37,0)*100>50%,50%,IF(R37>0,$C37,0)*100),0))))","v":0},1,{"$f":"COUNTIF($N$2:W$2,\"Year\")*$G$1","v":40},{"$f":"IF(W37=0,0,IF(X$2=\"Year\",IF(_xlfn.MAXIFS($N37:W37,$N$2:W$2,\"Year\")+$E37<=$E$1,U37+$E37,0),IF(X$2=\"Repair %\",IF(U37>0,$C37,0),IF(X$2=\"Spares %\",IF(IF(U37>0,$C37,0)*100>50%,50%,IF(U37>0,$C37,0)*100),0))))","v":0},1,{"$f":"IF(Y37=0,0,IF(Z$2=\"Year\",IF(_xlfn.MAXIFS($N37:Y37,$N$2:Y$2,\"Year\")+$E37<=$E$1,W37+$E37,0),IF(Z$2=\"Repair %\",IF(W37>0,$C$3,0),IF(Z$2=\"Spares %\",IF(IF(W37>0,$C37,0)*100>50%,50%,IF(W37>0,$C37,0)*100),0))))","v":0},{"$f":"IF(Z37=0,0,IF(AA$2=\"Year\",IF(_xlfn.MAXIFS($N37:Z37,$N$2:Z$2,\"Year\")+$E37<=$E$1,X37+$E37,0),IF(AA$2=\"Repair %\",IF(X37>0,$C37,0),IF(AA$2=\"Spares %\",IF(IF(X37>0,$C37,0)*100>50%,50%,IF(X37>0,$C37,0)*100),0))))","v":0},{"$f":"IF(AA37=0,0,IF(AB$2=\"Year\",IF(_xlfn.MAXIFS($N37:AA37,$N$2:AA$2,\"Year\")+$E37<=$E$1,Y37+$E37,0),IF(AB$2=\"Repair %\",IF(Y37>0,$C37,0),IF(AB$2=\"Spares %\",IF(IF(W37>0,$C37,0)*5>80%,50%,IF(W37>0,$C37,0)*5),0))))","v":0},{"$f":"IF(AB37=0,0,IF(AC$2=\"Year\",IF(_xlfn.MAXIFS($N37:AB37,$N$2:AB$2,\"Year\")+$E37<=$E$1,Z37+$E37,0),IF(AC$2=\"Repair %\",IF(Z37>0,$C$3,0),IF(AC$2=\"Spares %\",IF(IF(Z37>0,$C37,0)*100>50%,50%,IF(Z37>0,$C37,0)*100),0))))","v":0},{"$f":"IF(AC37=0,0,IF(AD$2=\"Year\",IF(_xlfn.MAXIFS($N37:AC37,$N$2:AC$2,\"Year\")+$E37<=$E$1,AA37+$E37,0),IF(AD$2=\"Repair %\",IF(AA37>0,$C37,0),IF(AD$2=\"Spares %\",IF(IF(AA37>0,$C37,0)*100>50%,50%,IF(AA37>0,$C37,0)*100),0))))","v":0},{"$f":"IF(AD37=0,0,IF(AE$2=\"Year\",IF(_xlfn.MAXIFS($N37:AD37,$N$2:AD$2,\"Year\")+$E37<=$E$1,AB37+$E37,0),IF(AE$2=\"Repair %\",IF(AB37>0,$C37,0),IF(AE$2=\"Spares %\",IF(IF(Z37>0,$C37,0)*5>80%,50%,IF(Z37>0,$C37,0)*5),0))))","v":0},{"$f":"IF(AE37=0,0,IF(AF$2=\"Year\",IF(_xlfn.MAXIFS($N37:AE37,$N$2:AE$2,\"Year\")+$E37<=$E$1,AC37+$E37,0),IF(AF$2=\"Repair %\",IF(AC37>0,$C$3,0),IF(AF$2=\"Spares %\",IF(IF(AC37>0,$C37,0)*100>50%,50%,IF(AC37>0,$C37,0)*100),0))))","v":0},{"$f":"IF(AF37=0,0,IF(AG$2=\"Year\",IF(_xlfn.MAXIFS($N37:AF37,$N$2:AF$2,\"Year\")+$E37<=$E$1,AD37+$E37,0),IF(AG$2=\"Repair %\",IF(AD37>0,$C37,0),IF(AG$2=\"Spares %\",IF(IF(AD37>0,$C37,0)*100>50%,50%,IF(AD37>0,$C37,0)*100),0))))","v":0},{"$f":"IF(AG37=0,0,IF(AH$2=\"Year\",IF(_xlfn.MAXIFS($N37:AG37,$N$2:AG$2,\"Year\")+$E37<=$E$1,AE37+$E37,0),IF(AH$2=\"Repair %\",IF(AE37>0,$C37,0),IF(AH$2=\"Spares %\",IF(IF(AC37>0,$C37,0)*5>80%,50%,IF(AC37>0,$C37,0)*5),0))))","v":0},{"$f":"IF(AH37=0,0,IF(AI$2=\"Year\",IF(_xlfn.MAXIFS($N37:AH37,$N$2:AH$2,\"Year\")+$E37<=$E$1,AF37+$E37,0),IF(AI$2=\"Repair %\",IF(AF37>0,$C$3,0),IF(AI$2=\"Spares %\",IF(IF(AF37>0,$C37,0)*100>50%,50%,IF(AF37>0,$C37,0)*100),0))))","v":0},{"$f":"IF(AI37=0,0,IF(AJ$2=\"Year\",IF(_xlfn.MAXIFS($N37:AI37,$N$2:AI$2,\"Year\")+$E37<=$E$1,AG37+$E37,0),IF(AJ$2=\"Repair %\",IF(AG37>0,$C37,0),IF(AJ$2=\"Spares %\",IF(IF(AG37>0,$C37,0)*100>50%,50%,IF(AG37>0,$C37,0)*100),0))))","v":0},{"$f":"IF(AJ37=0,0,IF(AK$2=\"Year\",IF(_xlfn.MAXIFS($N37:AJ37,$N$2:AJ$2,\"Year\")+$E37<=$E$1,AH37+$E37,0),IF(AK$2=\"Repair %\",IF(AH37>0,$C37,0),IF(AK$2=\"Spares %\",IF(IF(AF37>0,$C37,0)*5>80%,50%,IF(AF37>0,$C37,0)*5),0))))","v":0},{"$f":"IF(AK37=0,0,IF(AL$2=\"Year\",IF(_xlfn.MAXIFS($N37:AK37,$N$2:AK$2,\"Year\")+$E37<=$E$1,AI37+$E37,0),IF(AL$2=\"Repair %\",IF(AI37>0,$C$3,0),IF(AL$2=\"Spares %\",IF(IF(AI37>0,$C37,0)*100>50%,50%,IF(AI37>0,$C37,0)*100),0))))","v":0},{"$f":"IF(AL37=0,0,IF(AM$2=\"Year\",IF(_xlfn.MAXIFS($N37:AL37,$N$2:AL$2,\"Year\")+$E37<=$E$1,AJ37+$E37,0),IF(AM$2=\"Repair %\",IF(AJ37>0,$C37,0),IF(AM$2=\"Spares %\",IF(IF(AJ37>0,$C37,0)*100>50%,50%,IF(AJ37>0,$C37,0)*100),0))))","v":0},{"$f":"IF(AM37=0,0,IF(AN$2=\"Year\",IF(_xlfn.MAXIFS($N37:AM37,$N$2:AM$2,\"Year\")+$E37<=$E$1,AK37+$E37,0),IF(AN$2=\"Repair %\",IF(AK37>0,$C37,0),IF(AN$2=\"Spares %\",IF(IF(AI37>0,$C37,0)*5>80%,50%,IF(AI37>0,$C37,0)*5),0))))","v":0},{"$f":"IF(AN37=0,0,IF(AO$2=\"Year\",IF(_xlfn.MAXIFS($N37:AN37,$N$2:AN$2,\"Year\")+$E37<=$E$1,AL37+$E37,0),IF(AO$2=\"Repair %\",IF(AL37>0,$C$3,0),IF(AO$2=\"Spares %\",IF(IF(AL37>0,$C37,0)*100>50%,50%,IF(AL37>0,$C37,0)*100),0))))","v":0},{"$f":"IF(AO37=0,0,IF(AP$2=\"Year\",IF(_xlfn.MAXIFS($N37:AO37,$N$2:AO$2,\"Year\")+$E37<=$E$1,AM37+$E37,0),IF(AP$2=\"Repair %\",IF(AM37>0,$C37,0),IF(AP$2=\"Spares %\",IF(IF(AM37>0,$C37,0)*100>50%,50%,IF(AM37>0,$C37,0)*100),0))))","v":0},{"$f":"IF(AP37=0,0,IF(AQ$2=\"Year\",IF(_xlfn.MAXIFS($N37:AP37,$N$2:AP$2,\"Year\")+$E37<=$E$1,AN37+$E37,0),IF(AQ$2=\"Repair %\",IF(AN37>0,$C37,0),IF(AQ$2=\"Spares %\",IF(IF(AL37>0,$C37,0)*5>80%,50%,IF(AL37>0,$C37,0)*5),0))))","v":0}]
[{"$f":"INDEX('Avionics ID'!A:E,MATCH(B38,'Avionics ID'!E:E,0),1)","v":752},"Cockpit Voice Recorder",0.2,0.06,5,"Technology / regulatory",{"$f":"SUBSTITUTE(ADDRESS(1,MATCH(A38,'Pt1-AvionicsComponentCosts'!$A$6:$NC$6,0)+1),\"$1\",\"\")","v":"$AJ"},{"$f":"_xlfn.TEXTJOIN(\", \",TRUE,_xlfn.UNIQUE(_xlfn._xlws.SORT(_xlfn._xlws.FILTER('Pt1-AvionicsComponentCosts'!$NF$12:$NF$384,ISNUMBER(INDIRECT(\"'Pt1-AvionicsComponentCosts'!\"&G38&\"$12:\"&G38&\"$384\"))))))","v":"A220, A300, A320, A321, A330, A340, A350, A380, ATR, B717, B737, B747, B757, B767, B777, B787, C919, Challenger, Citation, E550, EMB Bizjet, EMB Regional, Falcon, Global, Gulfstream, Hawker, Hondajet, Learjet, MC-21, MD-11, Mil Transport, Military Jet, Nextant 400XT, NSA, PC-24, Phenom, Praetor, SF50"},null,0.06,0.2,0.501,1.2969999999999999,{"$f":"COUNTIF($N$2:N$2,\"Year\")*$G$1","v":10},null,1,{"$f":"COUNTIF($N$2:Q$2,\"Year\")*$G$1","v":20},{"$f":"IF(Q38=0,0,IF(R$2=\"Year\",IF(_xlfn.MAXIFS($N38:Q38,$N$2:Q$2,\"Year\")+$E38<=$E$1,O38+$E38,0),IF(R$2=\"Repair %\",IF(O38>0,$C38,0),IF(R$2=\"Spares %\",IF(IF(O38>0,$C38,0)*100>50%,50%,IF(O38>0,$C38,0)*100),0))))","v":0},1,{"$f":"COUNTIF($N$2:T$2,\"Year\")*$G$1","v":30},{"$f":"IF(T38=0,0,IF(U$2=\"Year\",IF(_xlfn.MAXIFS($N38:T38,$N$2:T$2,\"Year\")+$E38<=$E$1,R38+$E38,0),IF(U$2=\"Repair %\",IF(R38>0,$C38,0),IF(U$2=\"Spares %\",IF(IF(R38>0,$C38,0)*100>50%,50%,IF(R38>0,$C38,0)*100),0))))","v":0},1,{"$f":"COUNTIF($N$2:W$2,\"Year\")*$G$1","v":40},{"$f":"IF(W38=0,0,IF(X$2=\"Year\",IF(_xlfn.MAXIFS($N38:W38,$N$2:W$2,\"Year\")+$E38<=$E$1,U38+$E38,0),IF(X$2=\"Repair %\",IF(U38>0,$C38,0),IF(X$2=\"Spares %\",IF(IF(U38>0,$C38,0)*100>50%,50%,IF(U38>0,$C38,0)*100),0))))","v":0},1,{"$f":"IF(Y38=0,0,IF(Z$2=\"Year\",IF(_xlfn.MAXIFS($N38:Y38,$N$2:Y$2,\"Year\")+$E38<=$E$1,W38+$E38,0),IF(Z$2=\"Repair %\",IF(W38>0,$C$3,0),IF(Z$2=\"Spares %\",IF(IF(W38>0,$C38,0)*100>50%,50%,IF(W38>0,$C38,0)*100),0))))","v":0},{"$f":"IF(Z38=0,0,IF(AA$2=\"Year\",IF(_xlfn.MAXIFS($N38:Z38,$N$2:Z$2,\"Year\")+$E38<=$E$1,X38+$E38,0),IF(AA$2=\"Repair %\",IF(X38>0,$C38,0),IF(AA$2=\"Spares %\",IF(IF(X38>0,$C38,0)*100>50%,50%,IF(X38>0,$C38,0)*100),0))))","v":0},{"$f":"IF(AA38=0,0,IF(AB$2=\"Year\",IF(_xlfn.MAXIFS($N38:AA38,$N$2:AA$2,\"Year\")+$E38<=$E$1,Y38+$E38,0),IF(AB$2=\"Repair %\",IF(Y38>0,$C38,0),IF(AB$2=\"Spares %\",IF(IF(W38>0,$C38,0)*5>80%,50%,IF(W38>0,$C38,0)*5),0))))","v":0},{"$f":"IF(AB38=0,0,IF(AC$2=\"Year\",IF(_xlfn.MAXIFS($N38:AB38,$N$2:AB$2,\"Year\")+$E38<=$E$1,Z38+$E38,0),IF(AC$2=\"Repair %\",IF(Z38>0,$C$3,0),IF(AC$2=\"Spares %\",IF(IF(Z38>0,$C38,0)*100>50%,50%,IF(Z38>0,$C38,0)*100),0))))","v":0},{"$f":"IF(AC38=0,0,IF(AD$2=\"Year\",IF(_xlfn.MAXIFS($N38:AC38,$N$2:AC$2,\"Year\")+$E38<=$E$1,AA38+$E38,0),IF(AD$2=\"Repair %\",IF(AA38>0,$C38,0),IF(AD$2=\"Spares %\",IF(IF(AA38>0,$C38,0)*100>50%,50%,IF(AA38>0,$C38,0)*100),0))))","v":0},{"$f":"IF(AD38=0,0,IF(AE$2=\"Year\",IF(_xlfn.MAXIFS($N38:AD38,$N$2:AD$2,\"Year\")+$E38<=$E$1,AB38+$E38,0),IF(AE$2=\"Repair %\",IF(AB38>0,$C38,0),IF(AE$2=\"Spares %\",IF(IF(Z38>0,$C38,0)*5>80%,50%,IF(Z38>0,$C38,0)*5),0))))","v":0},{"$f":"IF(AE38=0,0,IF(AF$2=\"Year\",IF(_xlfn.MAXIFS($N38:AE38,$N$2:AE$2,\"Year\")+$E38<=$E$1,AC38+$E38,0),IF(AF$2=\"Repair %\",IF(AC38>0,$C$3,0),IF(AF$2=\"Spares %\",IF(IF(AC38>0,$C38,0)*100>50%,50%,IF(AC38>0,$C38,0)*100),0))))","v":0},{"$f":"IF(AF38=0,0,IF(AG$2=\"Year\",IF(_xlfn.MAXIFS($N38:AF38,$N$2:AF$2,\"Year\")+$E38<=$E$1,AD38+$E38,0),IF(AG$2=\"Repair %\",IF(AD38>0,$C38,0),IF(AG$2=\"Spares %\",IF(IF(AD38>0,$C38,0)*100>50%,50%,IF(AD38>0,$C38,0)*100),0))))","v":0},{"$f":"IF(AG38=0,0,IF(AH$2=\"Year\",IF(_xlfn.MAXIFS($N38:AG38,$N$2:AG$2,\"Year\")+$E38<=$E$1,AE38+$E38,0),IF(AH$2=\"Repair %\",IF(AE38>0,$C38,0),IF(AH$2=\"Spares %\",IF(IF(AC38>0,$C38,0)*5>80%,50%,IF(AC38>0,$C38,0)*5),0))))","v":0},{"$f":"IF(AH38=0,0,IF(AI$2=\"Year\",IF(_xlfn.MAXIFS($N38:AH38,$N$2:AH$2,\"Year\")+$E38<=$E$1,AF38+$E38,0),IF(AI$2=\"Repair %\",IF(AF38>0,$C$3,0),IF(AI$2=\"Spares %\",IF(IF(AF38>0,$C38,0)*100>50%,50%,IF(AF38>0,$C38,0)*100),0))))","v":0},{"$f":"IF(AI38=0,0,IF(AJ$2=\"Year\",IF(_xlfn.MAXIFS($N38:AI38,$N$2:AI$2,\"Year\")+$E38<=$E$1,AG38+$E38,0),IF(AJ$2=\"Repair %\",IF(AG38>0,$C38,0),IF(AJ$2=\"Spares %\",IF(IF(AG38>0,$C38,0)*100>50%,50%,IF(AG38>0,$C38,0)*100),0))))","v":0},{"$f":"IF(AJ38=0,0,IF(AK$2=\"Year\",IF(_xlfn.MAXIFS($N38:AJ38,$N$2:AJ$2,\"Year\")+$E38<=$E$1,AH38+$E38,0),IF(AK$2=\"Repair %\",IF(AH38>0,$C38,0),IF(AK$2=\"Spares %\",IF(IF(AF38>0,$C38,0)*5>80%,50%,IF(AF38>0,$C38,0)*5),0))))","v":0},{"$f":"IF(AK38=0,0,IF(AL$2=\"Year\",IF(_xlfn.MAXIFS($N38:AK38,$N$2:AK$2,\"Year\")+$E38<=$E$1,AI38+$E38,0),IF(AL$2=\"Repair %\",IF(AI38>0,$C$3,0),IF(AL$2=\"Spares %\",IF(IF(AI38>0,$C38,0)*100>50%,50%,IF(AI38>0,$C38,0)*100),0))))","v":0},{"$f":"IF(AL38=0,0,IF(AM$2=\"Year\",IF(_xlfn.MAXIFS($N38:AL38,$N$2:AL$2,\"Year\")+$E38<=$E$1,AJ38+$E38,0),IF(AM$2=\"Repair %\",IF(AJ38>0,$C38,0),IF(AM$2=\"Spares %\",IF(IF(AJ38>0,$C38,0)*100>50%,50%,IF(AJ38>0,$C38,0)*100),0))))","v":0},{"$f":"IF(AM38=0,0,IF(AN$2=\"Year\",IF(_xlfn.MAXIFS($N38:AM38,$N$2:AM$2,\"Year\")+$E38<=$E$1,AK38+$E38,0),IF(AN$2=\"Repair %\",IF(AK38>0,$C38,0),IF(AN$2=\"Spares %\",IF(IF(AI38>0,$C38,0)*5>80%,50%,IF(AI38>0,$C38,0)*5),0))))","v":0},{"$f":"IF(AN38=0,0,IF(AO$2=\"Year\",IF(_xlfn.MAXIFS($N38:AN38,$N$2:AN$2,\"Year\")+$E38<=$E$1,AL38+$E38,0),IF(AO$2=\"Repair %\",IF(AL38>0,$C$3,0),IF(AO$2=\"Spares %\",IF(IF(AL38>0,$C38,0)*100>50%,50%,IF(AL38>0,$C38,0)*100),0))))","v":0},{"$f":"IF(AO38=0,0,IF(AP$2=\"Year\",IF(_xlfn.MAXIFS($N38:AO38,$N$2:AO$2,\"Year\")+$E38<=$E$1,AM38+$E38,0),IF(AP$2=\"Repair %\",IF(AM38>0,$C38,0),IF(AP$2=\"Spares %\",IF(IF(AM38>0,$C38,0)*100>50%,50%,IF(AM38>0,$C38,0)*100),0))))","v":0},{"$f":"IF(AP38=0,0,IF(AQ$2=\"Year\",IF(_xlfn.MAXIFS($N38:AP38,$N$2:AP$2,\"Year\")+$E38<=$E$1,AN38+$E38,0),IF(AQ$2=\"Repair %\",IF(AN38>0,$C38,0),IF(AQ$2=\"Spares %\",IF(IF(AL38>0,$C38,0)*5>80%,50%,IF(AL38>0,$C38,0)*5),0))))","v":0}]
[{"$f":"INDEX('Avionics ID'!A:E,MATCH(B39,'Avionics ID'!E:E,0),1)","v":864},"Combined cockpit voice and data recorder",0.2,0.06,5,"Technology / regulatory",{"$f":"SUBSTITUTE(ADDRESS(1,MATCH(A39,'Pt1-AvionicsComponentCosts'!$A$6:$NC$6,0)+1),\"$1\",\"\")","v":"$CL"},{"$f":"_xlfn.TEXTJOIN(\", \",TRUE,_xlfn.UNIQUE(_xlfn._xlws.SORT(_xlfn._xlws.FILTER('Pt1-AvionicsComponentCosts'!$NF$12:$NF$384,ISNUMBER(INDIRECT(\"'Pt1-AvionicsComponentCosts'!\"&G39&\"$12:\"&G39&\"$384\"))))))","v":"Helo, TP Trainer, Turbine GA"},null,0.06,0.2,0.68300000000000005,1.931,{"$f":"COUNTIF($N$2:N$2,\"Year\")*$G$1","v":10},null,1,{"$f":"COUNTIF($N$2:Q$2,\"Year\")*$G$1","v":20},{"$f":"IF(Q39=0,0,IF(R$2=\"Year\",IF(_xlfn.MAXIFS($N39:Q39,$N$2:Q$2,\"Year\")+$E39<=$E$1,O39+$E39,0),IF(R$2=\"Repair %\",IF(O39>0,$C39,0),IF(R$2=\"Spares %\",IF(IF(O39>0,$C39,0)*100>50%,50%,IF(O39>0,$C39,0)*100),0))))","v":0},1,{"$f":"COUNTIF($N$2:T$2,\"Year\")*$G$1","v":30},{"$f":"IF(T39=0,0,IF(U$2=\"Year\",IF(_xlfn.MAXIFS($N39:T39,$N$2:T$2,\"Year\")+$E39<=$E$1,R39+$E39,0),IF(U$2=\"Repair %\",IF(R39>0,$C39,0),IF(U$2=\"Spares %\",IF(IF(R39>0,$C39,0)*100>50%,50%,IF(R39>0,$C39,0)*100),0))))","v":0},1,{"$f":"COUNTIF($N$2:W$2,\"Year\")*$G$1","v":40},{"$f":"IF(W39=0,0,IF(X$2=\"Year\",IF(_xlfn.MAXIFS($N39:W39,$N$2:W$2,\"Year\")+$E39<=$E$1,U39+$E39,0),IF(X$2=\"Repair %\",IF(U39>0,$C39,0),IF(X$2=\"Spares %\",IF(IF(U39>0,$C39,0)*100>50%,50%,IF(U39>0,$C39,0)*100),0))))","v":0},1,{"$f":"IF(Y39=0,0,IF(Z$2=\"Year\",IF(_xlfn.MAXIFS($N39:Y39,$N$2:Y$2,\"Year\")+$E39<=$E$1,W39+$E39,0),IF(Z$2=\"Repair %\",IF(W39>0,$C$3,0),IF(Z$2=\"Spares %\",IF(IF(W39>0,$C39,0)*100>50%,50%,IF(W39>0,$C39,0)*100),0))))","v":0},{"$f":"IF(Z39=0,0,IF(AA$2=\"Year\",IF(_xlfn.MAXIFS($N39:Z39,$N$2:Z$2,\"Year\")+$E39<=$E$1,X39+$E39,0),IF(AA$2=\"Repair %\",IF(X39>0,$C39,0),IF(AA$2=\"Spares %\",IF(IF(X39>0,$C39,0)*100>50%,50%,IF(X39>0,$C39,0)*100),0))))","v":0},{"$f":"IF(AA39=0,0,IF(AB$2=\"Year\",IF(_xlfn.MAXIFS($N39:AA39,$N$2:AA$2,\"Year\")+$E39<=$E$1,Y39+$E39,0),IF(AB$2=\"Repair %\",IF(Y39>0,$C39,0),IF(AB$2=\"Spares %\",IF(IF(W39>0,$C39,0)*5>80%,50%,IF(W39>0,$C39,0)*5),0))))","v":0},{"$f":"IF(AB39=0,0,IF(AC$2=\"Year\",IF(_xlfn.MAXIFS($N39:AB39,$N$2:AB$2,\"Year\")+$E39<=$E$1,Z39+$E39,0),IF(AC$2=\"Repair %\",IF(Z39>0,$C$3,0),IF(AC$2=\"Spares %\",IF(IF(Z39>0,$C39,0)*100>50%,50%,IF(Z39>0,$C39,0)*100),0))))","v":0},{"$f":"IF(AC39=0,0,IF(AD$2=\"Year\",IF(_xlfn.MAXIFS($N39:AC39,$N$2:AC$2,\"Year\")+$E39<=$E$1,AA39+$E39,0),IF(AD$2=\"Repair %\",IF(AA39>0,$C39,0),IF(AD$2=\"Spares %\",IF(IF(AA39>0,$C39,0)*100>50%,50%,IF(AA39>0,$C39,0)*100),0))))","v":0},{"$f":"IF(AD39=0,0,IF(AE$2=\"Year\",IF(_xlfn.MAXIFS($N39:AD39,$N$2:AD$2,\"Year\")+$E39<=$E$1,AB39+$E39,0),IF(AE$2=\"Repair %\",IF(AB39>0,$C39,0),IF(AE$2=\"Spares %\",IF(IF(Z39>0,$C39,0)*5>80%,50%,IF(Z39>0,$C39,0)*5),0))))","v":0},{"$f":"IF(AE39=0,0,IF(AF$2=\"Year\",IF(_xlfn.MAXIFS($N39:AE39,$N$2:AE$2,\"Year\")+$E39<=$E$1,AC39+$E39,0),IF(AF$2=\"Repair %\",IF(AC39>0,$C$3,0),IF(AF$2=\"Spares %\",IF(IF(AC39>0,$C39,0)*100>50%,50%,IF(AC39>0,$C39,0)*100),0))))","v":0},{"$f":"IF(AF39=0,0,IF(AG$2=\"Year\",IF(_xlfn.MAXIFS($N39:AF39,$N$2:AF$2,\"Year\")+$E39<=$E$1,AD39+$E39,0),IF(AG$2=\"Repair %\",IF(AD39>0,$C39,0),IF(AG$2=\"Spares %\",IF(IF(AD39>0,$C39,0)*100>50%,50%,IF(AD39>0,$C39,0)*100),0))))","v":0},{"$f":"IF(AG39=0,0,IF(AH$2=\"Year\",IF(_xlfn.MAXIFS($N39:AG39,$N$2:AG$2,\"Year\")+$E39<=$E$1,AE39+$E39,0),IF(AH$2=\"Repair %\",IF(AE39>0,$C39,0),IF(AH$2=\"Spares %\",IF(IF(AC39>0,$C39,0)*5>80%,50%,IF(AC39>0,$C39,0)*5),0))))","v":0},{"$f":"IF(AH39=0,0,IF(AI$2=\"Year\",IF(_xlfn.MAXIFS($N39:AH39,$N$2:AH$2,\"Year\")+$E39<=$E$1,AF39+$E39,0),IF(AI$2=\"Repair %\",IF(AF39>0,$C$3,0),IF(AI$2=\"Spares %\",IF(IF(AF39>0,$C39,0)*100>50%,50%,IF(AF39>0,$C39,0)*100),0))))","v":0},{"$f":"IF(AI39=0,0,IF(AJ$2=\"Year\",IF(_xlfn.MAXIFS($N39:AI39,$N$2:AI$2,\"Year\")+$E39<=$E$1,AG39+$E39,0),IF(AJ$2=\"Repair %\",IF(AG39>0,$C39,0),IF(AJ$2=\"Spares %\",IF(IF(AG39>0,$C39,0)*100>50%,50%,IF(AG39>0,$C39,0)*100),0))))","v":0},{"$f":"IF(AJ39=0,0,IF(AK$2=\"Year\",IF(_xlfn.MAXIFS($N39:AJ39,$N$2:AJ$2,\"Year\")+$E39<=$E$1,AH39+$E39,0),IF(AK$2=\"Repair %\",IF(AH39>0,$C39,0),IF(AK$2=\"Spares %\",IF(IF(AF39>0,$C39,0)*5>80%,50%,IF(AF39>0,$C39,0)*5),0))))","v":0},{"$f":"IF(AK39=0,0,IF(AL$2=\"Year\",IF(_xlfn.MAXIFS($N39:AK39,$N$2:AK$2,\"Year\")+$E39<=$E$1,AI39+$E39,0),IF(AL$2=\"Repair %\",IF(AI39>0,$C$3,0),IF(AL$2=\"Spares %\",IF(IF(AI39>0,$C39,0)*100>50%,50%,IF(AI39>0,$C39,0)*100),0))))","v":0},{"$f":"IF(AL39=0,0,IF(AM$2=\"Year\",IF(_xlfn.MAXIFS($N39:AL39,$N$2:AL$2,\"Year\")+$E39<=$E$1,AJ39+$E39,0),IF(AM$2=\"Repair %\",IF(AJ39>0,$C39,0),IF(AM$2=\"Spares %\",IF(IF(AJ39>0,$C39,0)*100>50%,50%,IF(AJ39>0,$C39,0)*100),0))))","v":0},{"$f":"IF(AM39=0,0,IF(AN$2=\"Year\",IF(_xlfn.MAXIFS($N39:AM39,$N$2:AM$2,\"Year\")+$E39<=$E$1,AK39+$E39,0),IF(AN$2=\"Repair %\",IF(AK39>0,$C39,0),IF(AN$2=\"Spares %\",IF(IF(AI39>0,$C39,0)*5>80%,50%,IF(AI39>0,$C39,0)*5),0))))","v":0},{"$f":"IF(AN39=0,0,IF(AO$2=\"Year\",IF(_xlfn.MAXIFS($N39:AN39,$N$2:AN$2,\"Year\")+$E39<=$E$1,AL39+$E39,0),IF(AO$2=\"Repair %\",IF(AL39>0,$C$3,0),IF(AO$2=\"Spares %\",IF(IF(AL39>0,$C39,0)*100>50%,50%,IF(AL39>0,$C39,0)*100),0))))","v":0},{"$f":"IF(AO39=0,0,IF(AP$2=\"Year\",IF(_xlfn.MAXIFS($N39:AO39,$N$2:AO$2,\"Year\")+$E39<=$E$1,AM39+$E39,0),IF(AP$2=\"Repair %\",IF(AM39>0,$C39,0),IF(AP$2=\"Spares %\",IF(IF(AM39>0,$C39,0)*100>50%,50%,IF(AM39>0,$C39,0)*100),0))))","v":0},{"$f":"IF(AP39=0,0,IF(AQ$2=\"Year\",IF(_xlfn.MAXIFS($N39:AP39,$N$2:AP$2,\"Year\")+$E39<=$E$1,AN39+$E39,0),IF(AQ$2=\"Repair %\",IF(AN39>0,$C39,0),IF(AQ$2=\"Spares %\",IF(IF(AL39>0,$C39,0)*5>80%,50%,IF(AL39>0,$C39,0)*5),0))))","v":0}]
[{"$f":"INDEX('Avionics ID'!A:E,MATCH(B40,'Avionics ID'!E:E,0),1)","v":773},"Common Core processing",6.6666666666666666E-2,0.06,15,"Obsolecence",{"$f":"SUBSTITUTE(ADDRESS(1,MATCH(A40,'Pt1-AvionicsComponentCosts'!$A$6:$NC$6,0)+1),\"$1\",\"\")","v":"$HH"},{"$f":"_xlfn.TEXTJOIN(\", \",TRUE,_xlfn.UNIQUE(_xlfn._xlws.SORT(_xlfn._xlws.FILTER('Pt1-AvionicsComponentCosts'!$NF$12:$NF$384,ISNUMBER(INDIRECT(\"'Pt1-AvionicsComponentCosts'!\"&G40&\"$12:\"&G40&\"$384\"))))))","v":"A220, A320, A350, A380, B747, B777, B787, C919, Falcon, Global, Gulfstream, NSA, Reg TP"},null,0.06,7.0000000000000007E-2,0.35499999999999998,1.0509999999999999,{"$f":"COUNTIF($N$2:N$2,\"Year\")*$G$1","v":10},null,0.5,{"$f":"COUNTIF($N$2:Q$2,\"Year\")*$G$1","v":20},{"$f":"IF(Q40=0,0,IF(R$2=\"Year\",IF(_xlfn.MAXIFS($N40:Q40,$N$2:Q$2,\"Year\")+$E40<=$E$1,O40+$E40,0),IF(R$2=\"Repair %\",IF(O40>0,$C40,0),IF(R$2=\"Spares %\",IF(IF(O40>0,$C40,0)*100>50%,50%,IF(O40>0,$C40,0)*100),0))))","v":0},0.5,{"$f":"COUNTIF($N$2:T$2,\"Year\")*$G$1","v":30},{"$f":"IF(T40=0,0,IF(U$2=\"Year\",IF(_xlfn.MAXIFS($N40:T40,$N$2:T$2,\"Year\")+$E40<=$E$1,R40+$E40,0),IF(U$2=\"Repair %\",IF(R40>0,$C40,0),IF(U$2=\"Spares %\",IF(IF(R40>0,$C40,0)*100>50%,50%,IF(R40>0,$C40,0)*100),0))))","v":0},1,{"$f":"COUNTIF($N$2:W$2,\"Year\")*$G$1","v":40},{"$f":"IF(W40=0,0,IF(X$2=\"Year\",IF(_xlfn.MAXIFS($N40:W40,$N$2:W$2,\"Year\")+$E40<=$E$1,U40+$E40,0),IF(X$2=\"Repair %\",IF(U40>0,$C40,0),IF(X$2=\"Spares %\",IF(IF(U40>0,$C40,0)*100>50%,50%,IF(U40>0,$C40,0)*100),0))))","v":0},0.5,{"$f":"IF(Y40=0,0,IF(Z$2=\"Year\",IF(_xlfn.MAXIFS($N40:Y40,$N$2:Y$2,\"Year\")+$E40<=$E$1,W40+$E40,0),IF(Z$2=\"Repair %\",IF(W40>0,$C$3,0),IF(Z$2=\"Spares %\",IF(IF(W40>0,$C40,0)*100>50%,50%,IF(W40>0,$C40,0)*100),0))))","v":0},{"$f":"IF(Z40=0,0,IF(AA$2=\"Year\",IF(_xlfn.MAXIFS($N40:Z40,$N$2:Z$2,\"Year\")+$E40<=$E$1,X40+$E40,0),IF(AA$2=\"Repair %\",IF(X40>0,$C40,0),IF(AA$2=\"Spares %\",IF(IF(X40>0,$C40,0)*100>50%,50%,IF(X40>0,$C40,0)*100),0))))","v":0},{"$f":"IF(AA40=0,0,IF(AB$2=\"Year\",IF(_xlfn.MAXIFS($N40:AA40,$N$2:AA$2,\"Year\")+$E40<=$E$1,Y40+$E40,0),IF(AB$2=\"Repair %\",IF(Y40>0,$C40,0),IF(AB$2=\"Spares %\",IF(IF(W40>0,$C40,0)*5>80%,50%,IF(W40>0,$C40,0)*5),0))))","v":0},{"$f":"IF(AB40=0,0,IF(AC$2=\"Year\",IF(_xlfn.MAXIFS($N40:AB40,$N$2:AB$2,\"Year\")+$E40<=$E$1,Z40+$E40,0),IF(AC$2=\"Repair %\",IF(Z40>0,$C$3,0),IF(AC$2=\"Spares %\",IF(IF(Z40>0,$C40,0)*100>50%,50%,IF(Z40>0,$C40,0)*100),0))))","v":0},{"$f":"IF(AC40=0,0,IF(AD$2=\"Year\",IF(_xlfn.MAXIFS($N40:AC40,$N$2:AC$2,\"Year\")+$E40<=$E$1,AA40+$E40,0),IF(AD$2=\"Repair %\",IF(AA40>0,$C40,0),IF(AD$2=\"Spares %\",IF(IF(AA40>0,$C40,0)*100>50%,50%,IF(AA40>0,$C40,0)*100),0))))","v":0},{"$f":"IF(AD40=0,0,IF(AE$2=\"Year\",IF(_xlfn.MAXIFS($N40:AD40,$N$2:AD$2,\"Year\")+$E40<=$E$1,AB40+$E40,0),IF(AE$2=\"Repair %\",IF(AB40>0,$C40,0),IF(AE$2=\"Spares %\",IF(IF(Z40>0,$C40,0)*5>80%,50%,IF(Z40>0,$C40,0)*5),0))))","v":0},{"$f":"IF(AE40=0,0,IF(AF$2=\"Year\",IF(_xlfn.MAXIFS($N40:AE40,$N$2:AE$2,\"Year\")+$E40<=$E$1,AC40+$E40,0),IF(AF$2=\"Repair %\",IF(AC40>0,$C$3,0),IF(AF$2=\"Spares %\",IF(IF(AC40>0,$C40,0)*100>50%,50%,IF(AC40>0,$C40,0)*100),0))))","v":0},{"$f":"IF(AF40=0,0,IF(AG$2=\"Year\",IF(_xlfn.MAXIFS($N40:AF40,$N$2:AF$2,\"Year\")+$E40<=$E$1,AD40+$E40,0),IF(AG$2=\"Repair %\",IF(AD40>0,$C40,0),IF(AG$2=\"Spares %\",IF(IF(AD40>0,$C40,0)*100>50%,50%,IF(AD40>0,$C40,0)*100),0))))","v":0},{"$f":"IF(AG40=0,0,IF(AH$2=\"Year\",IF(_xlfn.MAXIFS($N40:AG40,$N$2:AG$2,\"Year\")+$E40<=$E$1,AE40+$E40,0),IF(AH$2=\"Repair %\",IF(AE40>0,$C40,0),IF(AH$2=\"Spares %\",IF(IF(AC40>0,$C40,0)*5>80%,50%,IF(AC40>0,$C40,0)*5),0))))","v":0},{"$f":"IF(AH40=0,0,IF(AI$2=\"Year\",IF(_xlfn.MAXIFS($N40:AH40,$N$2:AH$2,\"Year\")+$E40<=$E$1,AF40+$E40,0),IF(AI$2=\"Repair %\",IF(AF40>0,$C$3,0),IF(AI$2=\"Spares %\",IF(IF(AF40>0,$C40,0)*100>50%,50%,IF(AF40>0,$C40,0)*100),0))))","v":0},{"$f":"IF(AI40=0,0,IF(AJ$2=\"Year\",IF(_xlfn.MAXIFS($N40:AI40,$N$2:AI$2,\"Year\")+$E40<=$E$1,AG40+$E40,0),IF(AJ$2=\"Repair %\",IF(AG40>0,$C40,0),IF(AJ$2=\"Spares %\",IF(IF(AG40>0,$C40,0)*100>50%,50%,IF(AG40>0,$C40,0)*100),0))))","v":0},{"$f":"IF(AJ40=0,0,IF(AK$2=\"Year\",IF(_xlfn.MAXIFS($N40:AJ40,$N$2:AJ$2,\"Year\")+$E40<=$E$1,AH40+$E40,0),IF(AK$2=\"Repair %\",IF(AH40>0,$C40,0),IF(AK$2=\"Spares %\",IF(IF(AF40>0,$C40,0)*5>80%,50%,IF(AF40>0,$C40,0)*5),0))))","v":0},{"$f":"IF(AK40=0,0,IF(AL$2=\"Year\",IF(_xlfn.MAXIFS($N40:AK40,$N$2:AK$2,\"Year\")+$E40<=$E$1,AI40+$E40,0),IF(AL$2=\"Repair %\",IF(AI40>0,$C$3,0),IF(AL$2=\"Spares %\",IF(IF(AI40>0,$C40,0)*100>50%,50%,IF(AI40>0,$C40,0)*100),0))))","v":0},{"$f":"IF(AL40=0,0,IF(AM$2=\"Year\",IF(_xlfn.MAXIFS($N40:AL40,$N$2:AL$2,\"Year\")+$E40<=$E$1,AJ40+$E40,0),IF(AM$2=\"Repair %\",IF(AJ40>0,$C40,0),IF(AM$2=\"Spares %\",IF(IF(AJ40>0,$C40,0)*100>50%,50%,IF(AJ40>0,$C40,0)*100),0))))","v":0},{"$f":"IF(AM40=0,0,IF(AN$2=\"Year\",IF(_xlfn.MAXIFS($N40:AM40,$N$2:AM$2,\"Year\")+$E40<=$E$1,AK40+$E40,0),IF(AN$2=\"Repair %\",IF(AK40>0,$C40,0),IF(AN$2=\"Spares %\",IF(IF(AI40>0,$C40,0)*5>80%,50%,IF(AI40>0,$C40,0)*5),0))))","v":0},{"$f":"IF(AN40=0,0,IF(AO$2=\"Year\",IF(_xlfn.MAXIFS($N40:AN40,$N$2:AN$2,\"Year\")+$E40<=$E$1,AL40+$E40,0),IF(AO$2=\"Repair %\",IF(AL40>0,$C$3,0),IF(AO$2=\"Spares %\",IF(IF(AL40>0,$C40,0)*100>50%,50%,IF(AL40>0,$C40,0)*100),0))))","v":0},{"$f":"IF(AO40=0,0,IF(AP$2=\"Year\",IF(_xlfn.MAXIFS($N40:AO40,$N$2:AO$2,\"Year\")+$E40<=$E$1,AM40+$E40,0),IF(AP$2=\"Repair %\",IF(AM40>0,$C40,0),IF(AP$2=\"Spares %\",IF(IF(AM40>0,$C40,0)*100>50%,50%,IF(AM40>0,$C40,0)*100),0))))","v":0},{"$f":"IF(AP40=0,0,IF(AQ$2=\"Year\",IF(_xlfn.MAXIFS($N40:AP40,$N$2:AP$2,\"Year\")+$E40<=$E$1,AN40+$E40,0),IF(AQ$2=\"Repair %\",IF(AN40>0,$C40,0),IF(AQ$2=\"Spares %\",IF(IF(AL40>0,$C40,0)*5>80%,50%,IF(AL40>0,$C40,0)*5),0))))","v":0}]
[{"$f":"INDEX('Avionics ID'!A:E,MATCH(B41,'Avionics ID'!E:E,0),1)","v":775},"Common Data Network",6.6666666666666666E-2,0.06,15,"Obsolecence",{"$f":"SUBSTITUTE(ADDRESS(1,MATCH(A41,'Pt1-AvionicsComponentCosts'!$A$6:$NC$6,0)+1),\"$1\",\"\")","v":"$HJ"},{"$f":"_xlfn.TEXTJOIN(\", \",TRUE,_xlfn.UNIQUE(_xlfn._xlws.SORT(_xlfn._xlws.FILTER('Pt1-AvionicsComponentCosts'!$NF$12:$NF$384,ISNUMBER(INDIRECT(\"'Pt1-AvionicsComponentCosts'!\"&G41&\"$12:\"&G41&\"$384\"))))))","v":"A220, A320, A350, A380, B747, B777, B787, C919, Falcon, Global, Gulfstream, NSA, Reg TP"},null,0.06,7.0000000000000007E-2,0.35499999999999998,1.0509999999999999,{"$f":"COUNTIF($N$2:N$2,\"Year\")*$G$1","v":10},null,0.5,{"$f":"COUNTIF($N$2:Q$2,\"Year\")*$G$1","v":20},{"$f":"IF(Q41=0,0,IF(R$2=\"Year\",IF(_xlfn.MAXIFS($N41:Q41,$N$2:Q$2,\"Year\")+$E41<=$E$1,O41+$E41,0),IF(R$2=\"Repair %\",IF(O41>0,$C41,0),IF(R$2=\"Spares %\",IF(IF(O41>0,$C41,0)*100>50%,50%,IF(O41>0,$C41,0)*100),0))))","v":0},0.5,{"$f":"COUNTIF($N$2:T$2,\"Year\")*$G$1","v":30},{"$f":"IF(T41=0,0,IF(U$2=\"Year\",IF(_xlfn.MAXIFS($N41:T41,$N$2:T$2,\"Year\")+$E41<=$E$1,R41+$E41,0),IF(U$2=\"Repair %\",IF(R41>0,$C41,0),IF(U$2=\"Spares %\",IF(IF(R41>0,$C41,0)*100>50%,50%,IF(R41>0,$C41,0)*100),0))))","v":0},1,{"$f":"COUNTIF($N$2:W$2,\"Year\")*$G$1","v":40},{"$f":"IF(W41=0,0,IF(X$2=\"Year\",IF(_xlfn.MAXIFS($N41:W41,$N$2:W$2,\"Year\")+$E41<=$E$1,U41+$E41,0),IF(X$2=\"Repair %\",IF(U41>0,$C41,0),IF(X$2=\"Spares %\",IF(IF(U41>0,$C41,0)*100>50%,50%,IF(U41>0,$C41,0)*100),0))))","v":0},0.5,{"$f":"IF(Y41=0,0,IF(Z$2=\"Year\",IF(_xlfn.MAXIFS($N41:Y41,$N$2:Y$2,\"Year\")+$E41<=$E$1,W41+$E41,0),IF(Z$2=\"Repair %\",IF(W41>0,$C$3,0),IF(Z$2=\"Spares %\",IF(IF(W41>0,$C41,0)*100>50%,50%,IF(W41>0,$C41,0)*100),0))))","v":0},{"$f":"IF(Z41=0,0,IF(AA$2=\"Year\",IF(_xlfn.MAXIFS($N41:Z41,$N$2:Z$2,\"Year\")+$E41<=$E$1,X41+$E41,0),IF(AA$2=\"Repair %\",IF(X41>0,$C41,0),IF(AA$2=\"Spares %\",IF(IF(X41>0,$C41,0)*100>50%,50%,IF(X41>0,$C41,0)*100),0))))","v":0},{"$f":"IF(AA41=0,0,IF(AB$2=\"Year\",IF(_xlfn.MAXIFS($N41:AA41,$N$2:AA$2,\"Year\")+$E41<=$E$1,Y41+$E41,0),IF(AB$2=\"Repair %\",IF(Y41>0,$C41,0),IF(AB$2=\"Spares %\",IF(IF(W41>0,$C41,0)*5>80%,50%,IF(W41>0,$C41,0)*5),0))))","v":0},{"$f":"IF(AB41=0,0,IF(AC$2=\"Year\",IF(_xlfn.MAXIFS($N41:AB41,$N$2:AB$2,\"Year\")+$E41<=$E$1,Z41+$E41,0),IF(AC$2=\"Repair %\",IF(Z41>0,$C$3,0),IF(AC$2=\"Spares %\",IF(IF(Z41>0,$C41,0)*100>50%,50%,IF(Z41>0,$C41,0)*100),0))))","v":0},{"$f":"IF(AC41=0,0,IF(AD$2=\"Year\",IF(_xlfn.MAXIFS($N41:AC41,$N$2:AC$2,\"Year\")+$E41<=$E$1,AA41+$E41,0),IF(AD$2=\"Repair %\",IF(AA41>0,$C41,0),IF(AD$2=\"Spares %\",IF(IF(AA41>0,$C41,0)*100>50%,50%,IF(AA41>0,$C41,0)*100),0))))","v":0},{"$f":"IF(AD41=0,0,IF(AE$2=\"Year\",IF(_xlfn.MAXIFS($N41:AD41,$N$2:AD$2,\"Year\")+$E41<=$E$1,AB41+$E41,0),IF(AE$2=\"Repair %\",IF(AB41>0,$C41,0),IF(AE$2=\"Spares %\",IF(IF(Z41>0,$C41,0)*5>80%,50%,IF(Z41>0,$C41,0)*5),0))))","v":0},{"$f":"IF(AE41=0,0,IF(AF$2=\"Year\",IF(_xlfn.MAXIFS($N41:AE41,$N$2:AE$2,\"Year\")+$E41<=$E$1,AC41+$E41,0),IF(AF$2=\"Repair %\",IF(AC41>0,$C$3,0),IF(AF$2=\"Spares %\",IF(IF(AC41>0,$C41,0)*100>50%,50%,IF(AC41>0,$C41,0)*100),0))))","v":0},{"$f":"IF(AF41=0,0,IF(AG$2=\"Year\",IF(_xlfn.MAXIFS($N41:AF41,$N$2:AF$2,\"Year\")+$E41<=$E$1,AD41+$E41,0),IF(AG$2=\"Repair %\",IF(AD41>0,$C41,0),IF(AG$2=\"Spares %\",IF(IF(AD41>0,$C41,0)*100>50%,50%,IF(AD41>0,$C41,0)*100),0))))","v":0},{"$f":"IF(AG41=0,0,IF(AH$2=\"Year\",IF(_xlfn.MAXIFS($N41:AG41,$N$2:AG$2,\"Year\")+$E41<=$E$1,AE41+$E41,0),IF(AH$2=\"Repair %\",IF(AE41>0,$C41,0),IF(AH$2=\"Spares %\",IF(IF(AC41>0,$C41,0)*5>80%,50%,IF(AC41>0,$C41,0)*5),0))))","v":0},{"$f":"IF(AH41=0,0,IF(AI$2=\"Year\",IF(_xlfn.MAXIFS($N41:AH41,$N$2:AH$2,\"Year\")+$E41<=$E$1,AF41+$E41,0),IF(AI$2=\"Repair %\",IF(AF41>0,$C$3,0),IF(AI$2=\"Spares %\",IF(IF(AF41>0,$C41,0)*100>50%,50%,IF(AF41>0,$C41,0)*100),0))))","v":0},{"$f":"IF(AI41=0,0,IF(AJ$2=\"Year\",IF(_xlfn.MAXIFS($N41:AI41,$N$2:AI$2,\"Year\")+$E41<=$E$1,AG41+$E41,0),IF(AJ$2=\"Repair %\",IF(AG41>0,$C41,0),IF(AJ$2=\"Spares %\",IF(IF(AG41>0,$C41,0)*100>50%,50%,IF(AG41>0,$C41,0)*100),0))))","v":0},{"$f":"IF(AJ41=0,0,IF(AK$2=\"Year\",IF(_xlfn.MAXIFS($N41:AJ41,$N$2:AJ$2,\"Year\")+$E41<=$E$1,AH41+$E41,0),IF(AK$2=\"Repair %\",IF(AH41>0,$C41,0),IF(AK$2=\"Spares %\",IF(IF(AF41>0,$C41,0)*5>80%,50%,IF(AF41>0,$C41,0)*5),0))))","v":0},{"$f":"IF(AK41=0,0,IF(AL$2=\"Year\",IF(_xlfn.MAXIFS($N41:AK41,$N$2:AK$2,\"Year\")+$E41<=$E$1,AI41+$E41,0),IF(AL$2=\"Repair %\",IF(AI41>0,$C$3,0),IF(AL$2=\"Spares %\",IF(IF(AI41>0,$C41,0)*100>50%,50%,IF(AI41>0,$C41,0)*100),0))))","v":0},{"$f":"IF(AL41=0,0,IF(AM$2=\"Year\",IF(_xlfn.MAXIFS($N41:AL41,$N$2:AL$2,\"Year\")+$E41<=$E$1,AJ41+$E41,0),IF(AM$2=\"Repair %\",IF(AJ41>0,$C41,0),IF(AM$2=\"Spares %\",IF(IF(AJ41>0,$C41,0)*100>50%,50%,IF(AJ41>0,$C41,0)*100),0))))","v":0},{"$f":"IF(AM41=0,0,IF(AN$2=\"Year\",IF(_xlfn.MAXIFS($N41:AM41,$N$2:AM$2,\"Year\")+$E41<=$E$1,AK41+$E41,0),IF(AN$2=\"Repair %\",IF(AK41>0,$C41,0),IF(AN$2=\"Spares %\",IF(IF(AI41>0,$C41,0)*5>80%,50%,IF(AI41>0,$C41,0)*5),0))))","v":0},{"$f":"IF(AN41=0,0,IF(AO$2=\"Year\",IF(_xlfn.MAXIFS($N41:AN41,$N$2:AN$2,\"Year\")+$E41<=$E$1,AL41+$E41,0),IF(AO$2=\"Repair %\",IF(AL41>0,$C$3,0),IF(AO$2=\"Spares %\",IF(IF(AL41>0,$C41,0)*100>50%,50%,IF(AL41>0,$C41,0)*100),0))))","v":0},{"$f":"IF(AO41=0,0,IF(AP$2=\"Year\",IF(_xlfn.MAXIFS($N41:AO41,$N$2:AO$2,\"Year\")+$E41<=$E$1,AM41+$E41,0),IF(AP$2=\"Repair %\",IF(AM41>0,$C41,0),IF(AP$2=\"Spares %\",IF(IF(AM41>0,$C41,0)*100>50%,50%,IF(AM41>0,$C41,0)*100),0))))","v":0},{"$f":"IF(AP41=0,0,IF(AQ$2=\"Year\",IF(_xlfn.MAXIFS($N41:AP41,$N$2:AP$2,\"Year\")+$E41<=$E$1,AN41+$E41,0),IF(AQ$2=\"Repair %\",IF(AN41>0,$C41,0),IF(AQ$2=\"Spares %\",IF(IF(AL41>0,$C41,0)*5>80%,50%,IF(AL41>0,$C41,0)*5),0))))","v":0}]
[{"$f":"INDEX('Avionics ID'!A:E,MATCH(B42,'Avionics ID'!E:E,0),1)","v":782},"Comms Management Function (CMF)",0.05,0.06,20,"Obsolecence",{"$f":"SUBSTITUTE(ADDRESS(1,MATCH(A42,'Pt1-AvionicsComponentCosts'!$A$6:$NC$6,0)+1),\"$1\",\"\")","v":"$AL"},{"$f":"_xlfn.TEXTJOIN(\", \",TRUE,_xlfn.UNIQUE(_xlfn._xlws.SORT(_xlfn._xlws.FILTER('Pt1-AvionicsComponentCosts'!$NF$12:$NF$384,ISNUMBER(INDIRECT(\"'Pt1-AvionicsComponentCosts'!\"&G42&\"$12:\"&G42&\"$384\"))))))","v":"A350, B747, B777, B787"},null,0.06,0.05,0.501,1.2969999999999999,{"$f":"COUNTIF($N$2:N$2,\"Year\")*$G$1","v":10},null,0,{"$f":"COUNTIF($N$2:Q$2,\"Year\")*$G$1","v":20},{"$f":"IF(Q42=0,0,IF(R$2=\"Year\",IF(_xlfn.MAXIFS($N42:Q42,$N$2:Q$2,\"Year\")+$E42<=$E$1,O42+$E42,0),IF(R$2=\"Repair %\",IF(O42>0,$C42,0),IF(R$2=\"Spares %\",IF(IF(O42>0,$C42,0)*100>50%,50%,IF(O42>0,$C42,0)*100),0))))","v":0},1,{"$f":"COUNTIF($N$2:T$2,\"Year\")*$G$1","v":30},{"$f":"IF(T42=0,0,IF(U$2=\"Year\",IF(_xlfn.MAXIFS($N42:T42,$N$2:T$2,\"Year\")+$E42<=$E$1,R42+$E42,0),IF(U$2=\"Repair %\",IF(R42>0,$C42,0),IF(U$2=\"Spares %\",IF(IF(R42>0,$C42,0)*100>50%,50%,IF(R42>0,$C42,0)*100),0))))","v":0},0,{"$f":"COUNTIF($N$2:W$2,\"Year\")*$G$1","v":40},{"$f":"IF(W42=0,0,IF(X$2=\"Year\",IF(_xlfn.MAXIFS($N42:W42,$N$2:W$2,\"Year\")+$E42<=$E$1,U42+$E42,0),IF(X$2=\"Repair %\",IF(U42>0,$C42,0),IF(X$2=\"Spares %\",IF(IF(U42>0,$C42,0)*100>50%,50%,IF(U42>0,$C42,0)*100),0))))","v":0},1,{"$f":"IF(Y42=0,0,IF(Z$2=\"Year\",IF(_xlfn.MAXIFS($N42:Y42,$N$2:Y$2,\"Year\")+$E42<=$E$1,W42+$E42,0),IF(Z$2=\"Repair %\",IF(W42>0,$C$3,0),IF(Z$2=\"Spares %\",IF(IF(W42>0,$C42,0)*100>50%,50%,IF(W42>0,$C42,0)*100),0))))","v":0},{"$f":"IF(Z42=0,0,IF(AA$2=\"Year\",IF(_xlfn.MAXIFS($N42:Z42,$N$2:Z$2,\"Year\")+$E42<=$E$1,X42+$E42,0),IF(AA$2=\"Repair %\",IF(X42>0,$C42,0),IF(AA$2=\"Spares %\",IF(IF(X42>0,$C42,0)*100>50%,50%,IF(X42>0,$C42,0)*100),0))))","v":0},{"$f":"IF(AA42=0,0,IF(AB$2=\"Year\",IF(_xlfn.MAXIFS($N42:AA42,$N$2:AA$2,\"Year\")+$E42<=$E$1,Y42+$E42,0),IF(AB$2=\"Repair %\",IF(Y42>0,$C42,0),IF(AB$2=\"Spares %\",IF(IF(W42>0,$C42,0)*5>80%,50%,IF(W42>0,$C42,0)*5),0))))","v":0},{"$f":"IF(AB42=0,0,IF(AC$2=\"Year\",IF(_xlfn.MAXIFS($N42:AB42,$N$2:AB$2,\"Year\")+$E42<=$E$1,Z42+$E42,0),IF(AC$2=\"Repair %\",IF(Z42>0,$C$3,0),IF(AC$2=\"Spares %\",IF(IF(Z42>0,$C42,0)*100>50%,50%,IF(Z42>0,$C42,0)*100),0))))","v":0},{"$f":"IF(AC42=0,0,IF(AD$2=\"Year\",IF(_xlfn.MAXIFS($N42:AC42,$N$2:AC$2,\"Year\")+$E42<=$E$1,AA42+$E42,0),IF(AD$2=\"Repair %\",IF(AA42>0,$C42,0),IF(AD$2=\"Spares %\",IF(IF(AA42>0,$C42,0)*100>50%,50%,IF(AA42>0,$C42,0)*100),0))))","v":0},{"$f":"IF(AD42=0,0,IF(AE$2=\"Year\",IF(_xlfn.MAXIFS($N42:AD42,$N$2:AD$2,\"Year\")+$E42<=$E$1,AB42+$E42,0),IF(AE$2=\"Repair %\",IF(AB42>0,$C42,0),IF(AE$2=\"Spares %\",IF(IF(Z42>0,$C42,0)*5>80%,50%,IF(Z42>0,$C42,0)*5),0))))","v":0},{"$f":"IF(AE42=0,0,IF(AF$2=\"Year\",IF(_xlfn.MAXIFS($N42:AE42,$N$2:AE$2,\"Year\")+$E42<=$E$1,AC42+$E42,0),IF(AF$2=\"Repair %\",IF(AC42>0,$C$3,0),IF(AF$2=\"Spares %\",IF(IF(AC42>0,$C42,0)*100>50%,50%,IF(AC42>0,$C42,0)*100),0))))","v":0},{"$f":"IF(AF42=0,0,IF(AG$2=\"Year\",IF(_xlfn.MAXIFS($N42:AF42,$N$2:AF$2,\"Year\")+$E42<=$E$1,AD42+$E42,0),IF(AG$2=\"Repair %\",IF(AD42>0,$C42,0),IF(AG$2=\"Spares %\",IF(IF(AD42>0,$C42,0)*100>50%,50%,IF(AD42>0,$C42,0)*100),0))))","v":0},{"$f":"IF(AG42=0,0,IF(AH$2=\"Year\",IF(_xlfn.MAXIFS($N42:AG42,$N$2:AG$2,\"Year\")+$E42<=$E$1,AE42+$E42,0),IF(AH$2=\"Repair %\",IF(AE42>0,$C42,0),IF(AH$2=\"Spares %\",IF(IF(AC42>0,$C42,0)*5>80%,50%,IF(AC42>0,$C42,0)*5),0))))","v":0},{"$f":"IF(AH42=0,0,IF(AI$2=\"Year\",IF(_xlfn.MAXIFS($N42:AH42,$N$2:AH$2,\"Year\")+$E42<=$E$1,AF42+$E42,0),IF(AI$2=\"Repair %\",IF(AF42>0,$C$3,0),IF(AI$2=\"Spares %\",IF(IF(AF42>0,$C42,0)*100>50%,50%,IF(AF42>0,$C42,0)*100),0))))","v":0},{"$f":"IF(AI42=0,0,IF(AJ$2=\"Year\",IF(_xlfn.MAXIFS($N42:AI42,$N$2:AI$2,\"Year\")+$E42<=$E$1,AG42+$E42,0),IF(AJ$2=\"Repair %\",IF(AG42>0,$C42,0),IF(AJ$2=\"Spares %\",IF(IF(AG42>0,$C42,0)*100>50%,50%,IF(AG42>0,$C42,0)*100),0))))","v":0},{"$f":"IF(AJ42=0,0,IF(AK$2=\"Year\",IF(_xlfn.MAXIFS($N42:AJ42,$N$2:AJ$2,\"Year\")+$E42<=$E$1,AH42+$E42,0),IF(AK$2=\"Repair %\",IF(AH42>0,$C42,0),IF(AK$2=\"Spares %\",IF(IF(AF42>0,$C42,0)*5>80%,50%,IF(AF42>0,$C42,0)*5),0))))","v":0},{"$f":"IF(AK42=0,0,IF(AL$2=\"Year\",IF(_xlfn.MAXIFS($N42:AK42,$N$2:AK$2,\"Year\")+$E42<=$E$1,AI42+$E42,0),IF(AL$2=\"Repair %\",IF(AI42>0,$C$3,0),IF(AL$2=\"Spares %\",IF(IF(AI42>0,$C42,0)*100>50%,50%,IF(AI42>0,$C42,0)*100),0))))","v":0},{"$f":"IF(AL42=0,0,IF(AM$2=\"Year\",IF(_xlfn.MAXIFS($N42:AL42,$N$2:AL$2,\"Year\")+$E42<=$E$1,AJ42+$E42,0),IF(AM$2=\"Repair %\",IF(AJ42>0,$C42,0),IF(AM$2=\"Spares %\",IF(IF(AJ42>0,$C42,0)*100>50%,50%,IF(AJ42>0,$C42,0)*100),0))))","v":0},{"$f":"IF(AM42=0,0,IF(AN$2=\"Year\",IF(_xlfn.MAXIFS($N42:AM42,$N$2:AM$2,\"Year\")+$E42<=$E$1,AK42+$E42,0),IF(AN$2=\"Repair %\",IF(AK42>0,$C42,0),IF(AN$2=\"Spares %\",IF(IF(AI42>0,$C42,0)*5>80%,50%,IF(AI42>0,$C42,0)*5),0))))","v":0},{"$f":"IF(AN42=0,0,IF(AO$2=\"Year\",IF(_xlfn.MAXIFS($N42:AN42,$N$2:AN$2,\"Year\")+$E42<=$E$1,AL42+$E42,0),IF(AO$2=\"Repair %\",IF(AL42>0,$C$3,0),IF(AO$2=\"Spares %\",IF(IF(AL42>0,$C42,0)*100>50%,50%,IF(AL42>0,$C42,0)*100),0))))","v":0},{"$f":"IF(AO42=0,0,IF(AP$2=\"Year\",IF(_xlfn.MAXIFS($N42:AO42,$N$2:AO$2,\"Year\")+$E42<=$E$1,AM42+$E42,0),IF(AP$2=\"Repair %\",IF(AM42>0,$C42,0),IF(AP$2=\"Spares %\",IF(IF(AM42>0,$C42,0)*100>50%,50%,IF(AM42>0,$C42,0)*100),0))))","v":0},{"$f":"IF(AP42=0,0,IF(AQ$2=\"Year\",IF(_xlfn.MAXIFS($N42:AP42,$N$2:AP$2,\"Year\")+$E42<=$E$1,AN42+$E42,0),IF(AQ$2=\"Repair %\",IF(AN42>0,$C42,0),IF(AQ$2=\"Spares %\",IF(IF(AL42>0,$C42,0)*5>80%,50%,IF(AL42>0,$C42,0)*5),0))))","v":0}]
[{"$f":"INDEX('Avionics ID'!A:E,MATCH(B43,'Avionics ID'!E:E,0),1)","v":832},"Comms Management System",0.05,0.06,20,"Obsolecence",{"$f":"SUBSTITUTE(ADDRESS(1,MATCH(A43,'Pt1-AvionicsComponentCosts'!$A$6:$NC$6,0)+1),\"$1\",\"\")","v":"$AN"},{"$f":"_xlfn.TEXTJOIN(\", \",TRUE,_xlfn.UNIQUE(_xlfn._xlws.SORT(_xlfn._xlws.FILTER('Pt1-AvionicsComponentCosts'!$NF$12:$NF$384,ISNUMBER(INDIRECT(\"'Pt1-AvionicsComponentCosts'!\"&G43&\"$12:\"&G43&\"$384\"))))))","v":"Challenger, Citation, E550, EMB Bizjet, Falcon, Global, Gulfstream, Hawker, Hondajet, Learjet, Nextant 400XT, PC-24, Phenom, Praetor, SF50"},null,0.06,0.05,0.501,1.2969999999999999,{"$f":"COUNTIF($N$2:N$2,\"Year\")*$G$1","v":10},null,0,{"$f":"COUNTIF($N$2:Q$2,\"Year\")*$G$1","v":20},{"$f":"IF(Q43=0,0,IF(R$2=\"Year\",IF(_xlfn.MAXIFS($N43:Q43,$N$2:Q$2,\"Year\")+$E43<=$E$1,O43+$E43,0),IF(R$2=\"Repair %\",IF(O43>0,$C43,0),IF(R$2=\"Spares %\",IF(IF(O43>0,$C43,0)*100>50%,50%,IF(O43>0,$C43,0)*100),0))))","v":0},1,{"$f":"COUNTIF($N$2:T$2,\"Year\")*$G$1","v":30},{"$f":"IF(T43=0,0,IF(U$2=\"Year\",IF(_xlfn.MAXIFS($N43:T43,$N$2:T$2,\"Year\")+$E43<=$E$1,R43+$E43,0),IF(U$2=\"Repair %\",IF(R43>0,$C43,0),IF(U$2=\"Spares %\",IF(IF(R43>0,$C43,0)*100>50%,50%,IF(R43>0,$C43,0)*100),0))))","v":0},0,{"$f":"COUNTIF($N$2:W$2,\"Year\")*$G$1","v":40},{"$f":"IF(W43=0,0,IF(X$2=\"Year\",IF(_xlfn.MAXIFS($N43:W43,$N$2:W$2,\"Year\")+$E43<=$E$1,U43+$E43,0),IF(X$2=\"Repair %\",IF(U43>0,$C43,0),IF(X$2=\"Spares %\",IF(IF(U43>0,$C43,0)*100>50%,50%,IF(U43>0,$C43,0)*100),0))))","v":0},1,{"$f":"IF(Y43=0,0,IF(Z$2=\"Year\",IF(_xlfn.MAXIFS($N43:Y43,$N$2:Y$2,\"Year\")+$E43<=$E$1,W43+$E43,0),IF(Z$2=\"Repair %\",IF(W43>0,$C$3,0),IF(Z$2=\"Spares %\",IF(IF(W43>0,$C43,0)*100>50%,50%,IF(W43>0,$C43,0)*100),0))))","v":0},{"$f":"IF(Z43=0,0,IF(AA$2=\"Year\",IF(_xlfn.MAXIFS($N43:Z43,$N$2:Z$2,\"Year\")+$E43<=$E$1,X43+$E43,0),IF(AA$2=\"Repair %\",IF(X43>0,$C43,0),IF(AA$2=\"Spares %\",IF(IF(X43>0,$C43,0)*100>50%,50%,IF(X43>0,$C43,0)*100),0))))","v":0},{"$f":"IF(AA43=0,0,IF(AB$2=\"Year\",IF(_xlfn.MAXIFS($N43:AA43,$N$2:AA$2,\"Year\")+$E43<=$E$1,Y43+$E43,0),IF(AB$2=\"Repair %\",IF(Y43>0,$C43,0),IF(AB$2=\"Spares %\",IF(IF(W43>0,$C43,0)*5>80%,50%,IF(W43>0,$C43,0)*5),0))))","v":0},{"$f":"IF(AB43=0,0,IF(AC$2=\"Year\",IF(_xlfn.MAXIFS($N43:AB43,$N$2:AB$2,\"Year\")+$E43<=$E$1,Z43+$E43,0),IF(AC$2=\"Repair %\",IF(Z43>0,$C$3,0),IF(AC$2=\"Spares %\",IF(IF(Z43>0,$C43,0)*100>50%,50%,IF(Z43>0,$C43,0)*100),0))))","v":0},{"$f":"IF(AC43=0,0,IF(AD$2=\"Year\",IF(_xlfn.MAXIFS($N43:AC43,$N$2:AC$2,\"Year\")+$E43<=$E$1,AA43+$E43,0),IF(AD$2=\"Repair %\",IF(AA43>0,$C43,0),IF(AD$2=\"Spares %\",IF(IF(AA43>0,$C43,0)*100>50%,50%,IF(AA43>0,$C43,0)*100),0))))","v":0},{"$f":"IF(AD43=0,0,IF(AE$2=\"Year\",IF(_xlfn.MAXIFS($N43:AD43,$N$2:AD$2,\"Year\")+$E43<=$E$1,AB43+$E43,0),IF(AE$2=\"Repair %\",IF(AB43>0,$C43,0),IF(AE$2=\"Spares %\",IF(IF(Z43>0,$C43,0)*5>80%,50%,IF(Z43>0,$C43,0)*5),0))))","v":0},{"$f":"IF(AE43=0,0,IF(AF$2=\"Year\",IF(_xlfn.MAXIFS($N43:AE43,$N$2:AE$2,\"Year\")+$E43<=$E$1,AC43+$E43,0),IF(AF$2=\"Repair %\",IF(AC43>0,$C$3,0),IF(AF$2=\"Spares %\",IF(IF(AC43>0,$C43,0)*100>50%,50%,IF(AC43>0,$C43,0)*100),0))))","v":0},{"$f":"IF(AF43=0,0,IF(AG$2=\"Year\",IF(_xlfn.MAXIFS($N43:AF43,$N$2:AF$2,\"Year\")+$E43<=$E$1,AD43+$E43,0),IF(AG$2=\"Repair %\",IF(AD43>0,$C43,0),IF(AG$2=\"Spares %\",IF(IF(AD43>0,$C43,0)*100>50%,50%,IF(AD43>0,$C43,0)*100),0))))","v":0},{"$f":"IF(AG43=0,0,IF(AH$2=\"Year\",IF(_xlfn.MAXIFS($N43:AG43,$N$2:AG$2,\"Year\")+$E43<=$E$1,AE43+$E43,0),IF(AH$2=\"Repair %\",IF(AE43>0,$C43,0),IF(AH$2=\"Spares %\",IF(IF(AC43>0,$C43,0)*5>80%,50%,IF(AC43>0,$C43,0)*5),0))))","v":0},{"$f":"IF(AH43=0,0,IF(AI$2=\"Year\",IF(_xlfn.MAXIFS($N43:AH43,$N$2:AH$2,\"Year\")+$E43<=$E$1,AF43+$E43,0),IF(AI$2=\"Repair %\",IF(AF43>0,$C$3,0),IF(AI$2=\"Spares %\",IF(IF(AF43>0,$C43,0)*100>50%,50%,IF(AF43>0,$C43,0)*100),0))))","v":0},{"$f":"IF(AI43=0,0,IF(AJ$2=\"Year\",IF(_xlfn.MAXIFS($N43:AI43,$N$2:AI$2,\"Year\")+$E43<=$E$1,AG43+$E43,0),IF(AJ$2=\"Repair %\",IF(AG43>0,$C43,0),IF(AJ$2=\"Spares %\",IF(IF(AG43>0,$C43,0)*100>50%,50%,IF(AG43>0,$C43,0)*100),0))))","v":0},{"$f":"IF(AJ43=0,0,IF(AK$2=\"Year\",IF(_xlfn.MAXIFS($N43:AJ43,$N$2:AJ$2,\"Year\")+$E43<=$E$1,AH43+$E43,0),IF(AK$2=\"Repair %\",IF(AH43>0,$C43,0),IF(AK$2=\"Spares %\",IF(IF(AF43>0,$C43,0)*5>80%,50%,IF(AF43>0,$C43,0)*5),0))))","v":0},{"$f":"IF(AK43=0,0,IF(AL$2=\"Year\",IF(_xlfn.MAXIFS($N43:AK43,$N$2:AK$2,\"Year\")+$E43<=$E$1,AI43+$E43,0),IF(AL$2=\"Repair %\",IF(AI43>0,$C$3,0),IF(AL$2=\"Spares %\",IF(IF(AI43>0,$C43,0)*100>50%,50%,IF(AI43>0,$C43,0)*100),0))))","v":0},{"$f":"IF(AL43=0,0,IF(AM$2=\"Year\",IF(_xlfn.MAXIFS($N43:AL43,$N$2:AL$2,\"Year\")+$E43<=$E$1,AJ43+$E43,0),IF(AM$2=\"Repair %\",IF(AJ43>0,$C43,0),IF(AM$2=\"Spares %\",IF(IF(AJ43>0,$C43,0)*100>50%,50%,IF(AJ43>0,$C43,0)*100),0))))","v":0},{"$f":"IF(AM43=0,0,IF(AN$2=\"Year\",IF(_xlfn.MAXIFS($N43:AM43,$N$2:AM$2,\"Year\")+$E43<=$E$1,AK43+$E43,0),IF(AN$2=\"Repair %\",IF(AK43>0,$C43,0),IF(AN$2=\"Spares %\",IF(IF(AI43>0,$C43,0)*5>80%,50%,IF(AI43>0,$C43,0)*5),0))))","v":0},{"$f":"IF(AN43=0,0,IF(AO$2=\"Year\",IF(_xlfn.MAXIFS($N43:AN43,$N$2:AN$2,\"Year\")+$E43<=$E$1,AL43+$E43,0),IF(AO$2=\"Repair %\",IF(AL43>0,$C$3,0),IF(AO$2=\"Spares %\",IF(IF(AL43>0,$C43,0)*100>50%,50%,IF(AL43>0,$C43,0)*100),0))))","v":0},{"$f":"IF(AO43=0,0,IF(AP$2=\"Year\",IF(_xlfn.MAXIFS($N43:AO43,$N$2:AO$2,\"Year\")+$E43<=$E$1,AM43+$E43,0),IF(AP$2=\"Repair %\",IF(AM43>0,$C43,0),IF(AP$2=\"Spares %\",IF(IF(AM43>0,$C43,0)*100>50%,50%,IF(AM43>0,$C43,0)*100),0))))","v":0},{"$f":"IF(AP43=0,0,IF(AQ$2=\"Year\",IF(_xlfn.MAXIFS($N43:AP43,$N$2:AP$2,\"Year\")+$E43<=$E$1,AN43+$E43,0),IF(AQ$2=\"Repair %\",IF(AN43>0,$C43,0),IF(AQ$2=\"Spares %\",IF(IF(AL43>0,$C43,0)*5>80%,50%,IF(AL43>0,$C43,0)*5),0))))","v":0}]
[{"$f":"INDEX('Avionics ID'!A:E,MATCH(B44,'Avionics ID'!E:E,0),1)","v":739},"Comms Receivers UF (transceiver/antenna)",0.1,0.06,10,"Obsolecence",{"$f":"SUBSTITUTE(ADDRESS(1,MATCH(A44,'Pt1-AvionicsComponentCosts'!$A$6:$NC$6,0)+1),\"$1\",\"\")","v":"$AP"},{"$f":"_xlfn.TEXTJOIN(\", \",TRUE,_xlfn.UNIQUE(_xlfn._xlws.SORT(_xlfn._xlws.FILTER('Pt1-AvionicsComponentCosts'!$NF$12:$NF$384,ISNUMBER(INDIRECT(\"'Pt1-AvionicsComponentCosts'!\"&G44&\"$12:\"&G44&\"$384\"))))))","v":"A220, A300, A320, A321, A330, A340, A350, A380, ATR, B717, B737, B747, B757, B767, B777, B787, C919, EMB Regional, MC-21, MD-11, Mil Transport, Military Jet, NSA"},null,0.06,0.1,0.501,1.2969999999999999,{"$f":"COUNTIF($N$2:N$2,\"Year\")*$G$1","v":10},null,1,{"$f":"COUNTIF($N$2:Q$2,\"Year\")*$G$1","v":20},{"$f":"IF(Q44=0,0,IF(R$2=\"Year\",IF(_xlfn.MAXIFS($N44:Q44,$N$2:Q$2,\"Year\")+$E44<=$E$1,O44+$E44,0),IF(R$2=\"Repair %\",IF(O44>0,$C44,0),IF(R$2=\"Spares %\",IF(IF(O44>0,$C44,0)*100>50%,50%,IF(O44>0,$C44,0)*100),0))))","v":0},1,{"$f":"COUNTIF($N$2:T$2,\"Year\")*$G$1","v":30},{"$f":"IF(T44=0,0,IF(U$2=\"Year\",IF(_xlfn.MAXIFS($N44:T44,$N$2:T$2,\"Year\")+$E44<=$E$1,R44+$E44,0),IF(U$2=\"Repair %\",IF(R44>0,$C44,0),IF(U$2=\"Spares %\",IF(IF(R44>0,$C44,0)*100>50%,50%,IF(R44>0,$C44,0)*100),0))))","v":0},1,{"$f":"COUNTIF($N$2:W$2,\"Year\")*$G$1","v":40},{"$f":"IF(W44=0,0,IF(X$2=\"Year\",IF(_xlfn.MAXIFS($N44:W44,$N$2:W$2,\"Year\")+$E44<=$E$1,U44+$E44,0),IF(X$2=\"Repair %\",IF(U44>0,$C44,0),IF(X$2=\"Spares %\",IF(IF(U44>0,$C44,0)*100>50%,50%,IF(U44>0,$C44,0)*100),0))))","v":0},1,{"$f":"IF(Y44=0,0,IF(Z$2=\"Year\",IF(_xlfn.MAXIFS($N44:Y44,$N$2:Y$2,\"Year\")+$E44<=$E$1,W44+$E44,0),IF(Z$2=\"Repair %\",IF(W44>0,$C$3,0),IF(Z$2=\"Spares %\",IF(IF(W44>0,$C44,0)*100>50%,50%,IF(W44>0,$C44,0)*100),0))))","v":0},{"$f":"IF(Z44=0,0,IF(AA$2=\"Year\",IF(_xlfn.MAXIFS($N44:Z44,$N$2:Z$2,\"Year\")+$E44<=$E$1,X44+$E44,0),IF(AA$2=\"Repair %\",IF(X44>0,$C44,0),IF(AA$2=\"Spares %\",IF(IF(X44>0,$C44,0)*100>50%,50%,IF(X44>0,$C44,0)*100),0))))","v":0},{"$f":"IF(AA44=0,0,IF(AB$2=\"Year\",IF(_xlfn.MAXIFS($N44:AA44,$N$2:AA$2,\"Year\")+$E44<=$E$1,Y44+$E44,0),IF(AB$2=\"Repair %\",IF(Y44>0,$C44,0),IF(AB$2=\"Spares %\",IF(IF(W44>0,$C44,0)*5>80%,50%,IF(W44>0,$C44,0)*5),0))))","v":0},{"$f":"IF(AB44=0,0,IF(AC$2=\"Year\",IF(_xlfn.MAXIFS($N44:AB44,$N$2:AB$2,\"Year\")+$E44<=$E$1,Z44+$E44,0),IF(AC$2=\"Repair %\",IF(Z44>0,$C$3,0),IF(AC$2=\"Spares %\",IF(IF(Z44>0,$C44,0)*100>50%,50%,IF(Z44>0,$C44,0)*100),0))))","v":0},{"$f":"IF(AC44=0,0,IF(AD$2=\"Year\",IF(_xlfn.MAXIFS($N44:AC44,$N$2:AC$2,\"Year\")+$E44<=$E$1,AA44+$E44,0),IF(AD$2=\"Repair %\",IF(AA44>0,$C44,0),IF(AD$2=\"Spares %\",IF(IF(AA44>0,$C44,0)*100>50%,50%,IF(AA44>0,$C44,0)*100),0))))","v":0},{"$f":"IF(AD44=0,0,IF(AE$2=\"Year\",IF(_xlfn.MAXIFS($N44:AD44,$N$2:AD$2,\"Year\")+$E44<=$E$1,AB44+$E44,0),IF(AE$2=\"Repair %\",IF(AB44>0,$C44,0),IF(AE$2=\"Spares %\",IF(IF(Z44>0,$C44,0)*5>80%,50%,IF(Z44>0,$C44,0)*5),0))))","v":0},{"$f":"IF(AE44=0,0,IF(AF$2=\"Year\",IF(_xlfn.MAXIFS($N44:AE44,$N$2:AE$2,\"Year\")+$E44<=$E$1,AC44+$E44,0),IF(AF$2=\"Repair %\",IF(AC44>0,$C$3,0),IF(AF$2=\"Spares %\",IF(IF(AC44>0,$C44,0)*100>50%,50%,IF(AC44>0,$C44,0)*100),0))))","v":0},{"$f":"IF(AF44=0,0,IF(AG$2=\"Year\",IF(_xlfn.MAXIFS($N44:AF44,$N$2:AF$2,\"Year\")+$E44<=$E$1,AD44+$E44,0),IF(AG$2=\"Repair %\",IF(AD44>0,$C44,0),IF(AG$2=\"Spares %\",IF(IF(AD44>0,$C44,0)*100>50%,50%,IF(AD44>0,$C44,0)*100),0))))","v":0},{"$f":"IF(AG44=0,0,IF(AH$2=\"Year\",IF(_xlfn.MAXIFS($N44:AG44,$N$2:AG$2,\"Year\")+$E44<=$E$1,AE44+$E44,0),IF(AH$2=\"Repair %\",IF(AE44>0,$C44,0),IF(AH$2=\"Spares %\",IF(IF(AC44>0,$C44,0)*5>80%,50%,IF(AC44>0,$C44,0)*5),0))))","v":0},{"$f":"IF(AH44=0,0,IF(AI$2=\"Year\",IF(_xlfn.MAXIFS($N44:AH44,$N$2:AH$2,\"Year\")+$E44<=$E$1,AF44+$E44,0),IF(AI$2=\"Repair %\",IF(AF44>0,$C$3,0),IF(AI$2=\"Spares %\",IF(IF(AF44>0,$C44,0)*100>50%,50%,IF(AF44>0,$C44,0)*100),0))))","v":0},{"$f":"IF(AI44=0,0,IF(AJ$2=\"Year\",IF(_xlfn.MAXIFS($N44:AI44,$N$2:AI$2,\"Year\")+$E44<=$E$1,AG44+$E44,0),IF(AJ$2=\"Repair %\",IF(AG44>0,$C44,0),IF(AJ$2=\"Spares %\",IF(IF(AG44>0,$C44,0)*100>50%,50%,IF(AG44>0,$C44,0)*100),0))))","v":0},{"$f":"IF(AJ44=0,0,IF(AK$2=\"Year\",IF(_xlfn.MAXIFS($N44:AJ44,$N$2:AJ$2,\"Year\")+$E44<=$E$1,AH44+$E44,0),IF(AK$2=\"Repair %\",IF(AH44>0,$C44,0),IF(AK$2=\"Spares %\",IF(IF(AF44>0,$C44,0)*5>80%,50%,IF(AF44>0,$C44,0)*5),0))))","v":0},{"$f":"IF(AK44=0,0,IF(AL$2=\"Year\",IF(_xlfn.MAXIFS($N44:AK44,$N$2:AK$2,\"Year\")+$E44<=$E$1,AI44+$E44,0),IF(AL$2=\"Repair %\",IF(AI44>0,$C$3,0),IF(AL$2=\"Spares %\",IF(IF(AI44>0,$C44,0)*100>50%,50%,IF(AI44>0,$C44,0)*100),0))))","v":0},{"$f":"IF(AL44=0,0,IF(AM$2=\"Year\",IF(_xlfn.MAXIFS($N44:AL44,$N$2:AL$2,\"Year\")+$E44<=$E$1,AJ44+$E44,0),IF(AM$2=\"Repair %\",IF(AJ44>0,$C44,0),IF(AM$2=\"Spares %\",IF(IF(AJ44>0,$C44,0)*100>50%,50%,IF(AJ44>0,$C44,0)*100),0))))","v":0},{"$f":"IF(AM44=0,0,IF(AN$2=\"Year\",IF(_xlfn.MAXIFS($N44:AM44,$N$2:AM$2,\"Year\")+$E44<=$E$1,AK44+$E44,0),IF(AN$2=\"Repair %\",IF(AK44>0,$C44,0),IF(AN$2=\"Spares %\",IF(IF(AI44>0,$C44,0)*5>80%,50%,IF(AI44>0,$C44,0)*5),0))))","v":0},{"$f":"IF(AN44=0,0,IF(AO$2=\"Year\",IF(_xlfn.MAXIFS($N44:AN44,$N$2:AN$2,\"Year\")+$E44<=$E$1,AL44+$E44,0),IF(AO$2=\"Repair %\",IF(AL44>0,$C$3,0),IF(AO$2=\"Spares %\",IF(IF(AL44>0,$C44,0)*100>50%,50%,IF(AL44>0,$C44,0)*100),0))))","v":0},{"$f":"IF(AO44=0,0,IF(AP$2=\"Year\",IF(_xlfn.MAXIFS($N44:AO44,$N$2:AO$2,\"Year\")+$E44<=$E$1,AM44+$E44,0),IF(AP$2=\"Repair %\",IF(AM44>0,$C44,0),IF(AP$2=\"Spares %\",IF(IF(AM44>0,$C44,0)*100>50%,50%,IF(AM44>0,$C44,0)*100),0))))","v":0},{"$f":"IF(AP44=0,0,IF(AQ$2=\"Year\",IF(_xlfn.MAXIFS($N44:AP44,$N$2:AP$2,\"Year\")+$E44<=$E$1,AN44+$E44,0),IF(AQ$2=\"Repair %\",IF(AN44>0,$C44,0),IF(AQ$2=\"Spares %\",IF(IF(AL44>0,$C44,0)*5>80%,50%,IF(AL44>0,$C44,0)*5),0))))","v":0}]
[{"$f":"INDEX('Avionics ID'!A:E,MATCH(B45,'Avionics ID'!E:E,0),1)","v":738},"Comms Receivers VH (transceiver/antenna)",0.1,0.06,10,"Obsolecence",{"$f":"SUBSTITUTE(ADDRESS(1,MATCH(A45,'Pt1-AvionicsComponentCosts'!$A$6:$NC$6,0)+1),\"$1\",\"\")","v":"$AR"},{"$f":"_xlfn.TEXTJOIN(\", \",TRUE,_xlfn.UNIQUE(_xlfn._xlws.SORT(_xlfn._xlws.FILTER('Pt1-AvionicsComponentCosts'!$NF$12:$NF$384,ISNUMBER(INDIRECT(\"'Pt1-AvionicsComponentCosts'!\"&G45&\"$12:\"&G45&\"$384\"))))))","v":"A220, A300, A320, A321, A330, A340, A350, A380, ATR, B717, B737, B747, B757, B767, B777, B787, C919, EMB Regional, MC-21, MD-11, Mil Transport, Military Jet, NSA"},null,0.06,0.1,0.501,1.2969999999999999,{"$f":"COUNTIF($N$2:N$2,\"Year\")*$G$1","v":10},null,1,{"$f":"COUNTIF($N$2:Q$2,\"Year\")*$G$1","v":20},{"$f":"IF(Q45=0,0,IF(R$2=\"Year\",IF(_xlfn.MAXIFS($N45:Q45,$N$2:Q$2,\"Year\")+$E45<=$E$1,O45+$E45,0),IF(R$2=\"Repair %\",IF(O45>0,$C45,0),IF(R$2=\"Spares %\",IF(IF(O45>0,$C45,0)*100>50%,50%,IF(O45>0,$C45,0)*100),0))))","v":0},1,{"$f":"COUNTIF($N$2:T$2,\"Year\")*$G$1","v":30},{"$f":"IF(T45=0,0,IF(U$2=\"Year\",IF(_xlfn.MAXIFS($N45:T45,$N$2:T$2,\"Year\")+$E45<=$E$1,R45+$E45,0),IF(U$2=\"Repair %\",IF(R45>0,$C45,0),IF(U$2=\"Spares %\",IF(IF(R45>0,$C45,0)*100>50%,50%,IF(R45>0,$C45,0)*100),0))))","v":0},1,{"$f":"COUNTIF($N$2:W$2,\"Year\")*$G$1","v":40},{"$f":"IF(W45=0,0,IF(X$2=\"Year\",IF(_xlfn.MAXIFS($N45:W45,$N$2:W$2,\"Year\")+$E45<=$E$1,U45+$E45,0),IF(X$2=\"Repair %\",IF(U45>0,$C45,0),IF(X$2=\"Spares %\",IF(IF(U45>0,$C45,0)*100>50%,50%,IF(U45>0,$C45,0)*100),0))))","v":0},1,{"$f":"IF(Y45=0,0,IF(Z$2=\"Year\",IF(_xlfn.MAXIFS($N45:Y45,$N$2:Y$2,\"Year\")+$E45<=$E$1,W45+$E45,0),IF(Z$2=\"Repair %\",IF(W45>0,$C$3,0),IF(Z$2=\"Spares %\",IF(IF(W45>0,$C45,0)*100>50%,50%,IF(W45>0,$C45,0)*100),0))))","v":0},{"$f":"IF(Z45=0,0,IF(AA$2=\"Year\",IF(_xlfn.MAXIFS($N45:Z45,$N$2:Z$2,\"Year\")+$E45<=$E$1,X45+$E45,0),IF(AA$2=\"Repair %\",IF(X45>0,$C45,0),IF(AA$2=\"Spares %\",IF(IF(X45>0,$C45,0)*100>50%,50%,IF(X45>0,$C45,0)*100),0))))","v":0},{"$f":"IF(AA45=0,0,IF(AB$2=\"Year\",IF(_xlfn.MAXIFS($N45:AA45,$N$2:AA$2,\"Year\")+$E45<=$E$1,Y45+$E45,0),IF(AB$2=\"Repair %\",IF(Y45>0,$C45,0),IF(AB$2=\"Spares %\",IF(IF(W45>0,$C45,0)*5>80%,50%,IF(W45>0,$C45,0)*5),0))))","v":0},{"$f":"IF(AB45=0,0,IF(AC$2=\"Year\",IF(_xlfn.MAXIFS($N45:AB45,$N$2:AB$2,\"Year\")+$E45<=$E$1,Z45+$E45,0),IF(AC$2=\"Repair %\",IF(Z45>0,$C$3,0),IF(AC$2=\"Spares %\",IF(IF(Z45>0,$C45,0)*100>50%,50%,IF(Z45>0,$C45,0)*100),0))))","v":0},{"$f":"IF(AC45=0,0,IF(AD$2=\"Year\",IF(_xlfn.MAXIFS($N45:AC45,$N$2:AC$2,\"Year\")+$E45<=$E$1,AA45+$E45,0),IF(AD$2=\"Repair %\",IF(AA45>0,$C45,0),IF(AD$2=\"Spares %\",IF(IF(AA45>0,$C45,0)*100>50%,50%,IF(AA45>0,$C45,0)*100),0))))","v":0},{"$f":"IF(AD45=0,0,IF(AE$2=\"Year\",IF(_xlfn.MAXIFS($N45:AD45,$N$2:AD$2,\"Year\")+$E45<=$E$1,AB45+$E45,0),IF(AE$2=\"Repair %\",IF(AB45>0,$C45,0),IF(AE$2=\"Spares %\",IF(IF(Z45>0,$C45,0)*5>80%,50%,IF(Z45>0,$C45,0)*5),0))))","v":0},{"$f":"IF(AE45=0,0,IF(AF$2=\"Year\",IF(_xlfn.MAXIFS($N45:AE45,$N$2:AE$2,\"Year\")+$E45<=$E$1,AC45+$E45,0),IF(AF$2=\"Repair %\",IF(AC45>0,$C$3,0),IF(AF$2=\"Spares %\",IF(IF(AC45>0,$C45,0)*100>50%,50%,IF(AC45>0,$C45,0)*100),0))))","v":0},{"$f":"IF(AF45=0,0,IF(AG$2=\"Year\",IF(_xlfn.MAXIFS($N45:AF45,$N$2:AF$2,\"Year\")+$E45<=$E$1,AD45+$E45,0),IF(AG$2=\"Repair %\",IF(AD45>0,$C45,0),IF(AG$2=\"Spares %\",IF(IF(AD45>0,$C45,0)*100>50%,50%,IF(AD45>0,$C45,0)*100),0))))","v":0},{"$f":"IF(AG45=0,0,IF(AH$2=\"Year\",IF(_xlfn.MAXIFS($N45:AG45,$N$2:AG$2,\"Year\")+$E45<=$E$1,AE45+$E45,0),IF(AH$2=\"Repair %\",IF(AE45>0,$C45,0),IF(AH$2=\"Spares %\",IF(IF(AC45>0,$C45,0)*5>80%,50%,IF(AC45>0,$C45,0)*5),0))))","v":0},{"$f":"IF(AH45=0,0,IF(AI$2=\"Year\",IF(_xlfn.MAXIFS($N45:AH45,$N$2:AH$2,\"Year\")+$E45<=$E$1,AF45+$E45,0),IF(AI$2=\"Repair %\",IF(AF45>0,$C$3,0),IF(AI$2=\"Spares %\",IF(IF(AF45>0,$C45,0)*100>50%,50%,IF(AF45>0,$C45,0)*100),0))))","v":0},{"$f":"IF(AI45=0,0,IF(AJ$2=\"Year\",IF(_xlfn.MAXIFS($N45:AI45,$N$2:AI$2,\"Year\")+$E45<=$E$1,AG45+$E45,0),IF(AJ$2=\"Repair %\",IF(AG45>0,$C45,0),IF(AJ$2=\"Spares %\",IF(IF(AG45>0,$C45,0)*100>50%,50%,IF(AG45>0,$C45,0)*100),0))))","v":0},{"$f":"IF(AJ45=0,0,IF(AK$2=\"Year\",IF(_xlfn.MAXIFS($N45:AJ45,$N$2:AJ$2,\"Year\")+$E45<=$E$1,AH45+$E45,0),IF(AK$2=\"Repair %\",IF(AH45>0,$C45,0),IF(AK$2=\"Spares %\",IF(IF(AF45>0,$C45,0)*5>80%,50%,IF(AF45>0,$C45,0)*5),0))))","v":0},{"$f":"IF(AK45=0,0,IF(AL$2=\"Year\",IF(_xlfn.MAXIFS($N45:AK45,$N$2:AK$2,\"Year\")+$E45<=$E$1,AI45+$E45,0),IF(AL$2=\"Repair %\",IF(AI45>0,$C$3,0),IF(AL$2=\"Spares %\",IF(IF(AI45>0,$C45,0)*100>50%,50%,IF(AI45>0,$C45,0)*100),0))))","v":0},{"$f":"IF(AL45=0,0,IF(AM$2=\"Year\",IF(_xlfn.MAXIFS($N45:AL45,$N$2:AL$2,\"Year\")+$E45<=$E$1,AJ45+$E45,0),IF(AM$2=\"Repair %\",IF(AJ45>0,$C45,0),IF(AM$2=\"Spares %\",IF(IF(AJ45>0,$C45,0)*100>50%,50%,IF(AJ45>0,$C45,0)*100),0))))","v":0},{"$f":"IF(AM45=0,0,IF(AN$2=\"Year\",IF(_xlfn.MAXIFS($N45:AM45,$N$2:AM$2,\"Year\")+$E45<=$E$1,AK45+$E45,0),IF(AN$2=\"Repair %\",IF(AK45>0,$C45,0),IF(AN$2=\"Spares %\",IF(IF(AI45>0,$C45,0)*5>80%,50%,IF(AI45>0,$C45,0)*5),0))))","v":0},{"$f":"IF(AN45=0,0,IF(AO$2=\"Year\",IF(_xlfn.MAXIFS($N45:AN45,$N$2:AN$2,\"Year\")+$E45<=$E$1,AL45+$E45,0),IF(AO$2=\"Repair %\",IF(AL45>0,$C$3,0),IF(AO$2=\"Spares %\",IF(IF(AL45>0,$C45,0)*100>50%,50%,IF(AL45>0,$C45,0)*100),0))))","v":0},{"$f":"IF(AO45=0,0,IF(AP$2=\"Year\",IF(_xlfn.MAXIFS($N45:AO45,$N$2:AO$2,\"Year\")+$E45<=$E$1,AM45+$E45,0),IF(AP$2=\"Repair %\",IF(AM45>0,$C45,0),IF(AP$2=\"Spares %\",IF(IF(AM45>0,$C45,0)*100>50%,50%,IF(AM45>0,$C45,0)*100),0))))","v":0},{"$f":"IF(AP45=0,0,IF(AQ$2=\"Year\",IF(_xlfn.MAXIFS($N45:AP45,$N$2:AP$2,\"Year\")+$E45<=$E$1,AN45+$E45,0),IF(AQ$2=\"Repair %\",IF(AN45>0,$C45,0),IF(AQ$2=\"Spares %\",IF(IF(AL45>0,$C45,0)*5>80%,50%,IF(AL45>0,$C45,0)*5),0))))","v":0}]
[{"$f":"INDEX('Avionics ID'!A:E,MATCH(B46,'Avionics ID'!E:E,0),1)","v":787},"Communication, Navigation, Identification Unit AN/ASQ-242",0.05,0.06,20,"Obsolecence",{"$f":"SUBSTITUTE(ADDRESS(1,MATCH(A46,'Pt1-AvionicsComponentCosts'!$A$6:$NC$6,0)+1),\"$1\",\"\")","v":"$AT"},{"$f":"_xlfn.TEXTJOIN(\", \",TRUE,_xlfn.UNIQUE(_xlfn._xlws.SORT(_xlfn._xlws.FILTER('Pt1-AvionicsComponentCosts'!$NF$12:$NF$384,ISNUMBER(INDIRECT(\"'Pt1-AvionicsComponentCosts'!\"&G46&\"$12:\"&G46&\"$384\"))))))","v":"Attack, Stealth"},null,0.06,0.05,0.501,1.2969999999999999,{"$f":"COUNTIF($N$2:N$2,\"Year\")*$G$1","v":10},null,0,{"$f":"COUNTIF($N$2:Q$2,\"Year\")*$G$1","v":20},{"$f":"IF(Q46=0,0,IF(R$2=\"Year\",IF(_xlfn.MAXIFS($N46:Q46,$N$2:Q$2,\"Year\")+$E46<=$E$1,O46+$E46,0),IF(R$2=\"Repair %\",IF(O46>0,$C46,0),IF(R$2=\"Spares %\",IF(IF(O46>0,$C46,0)*100>50%,50%,IF(O46>0,$C46,0)*100),0))))","v":0},1,{"$f":"COUNTIF($N$2:T$2,\"Year\")*$G$1","v":30},{"$f":"IF(T46=0,0,IF(U$2=\"Year\",IF(_xlfn.MAXIFS($N46:T46,$N$2:T$2,\"Year\")+$E46<=$E$1,R46+$E46,0),IF(U$2=\"Repair %\",IF(R46>0,$C46,0),IF(U$2=\"Spares %\",IF(IF(R46>0,$C46,0)*100>50%,50%,IF(R46>0,$C46,0)*100),0))))","v":0},0,{"$f":"COUNTIF($N$2:W$2,\"Year\")*$G$1","v":40},{"$f":"IF(W46=0,0,IF(X$2=\"Year\",IF(_xlfn.MAXIFS($N46:W46,$N$2:W$2,\"Year\")+$E46<=$E$1,U46+$E46,0),IF(X$2=\"Repair %\",IF(U46>0,$C46,0),IF(X$2=\"Spares %\",IF(IF(U46>0,$C46,0)*100>50%,50%,IF(U46>0,$C46,0)*100),0))))","v":0},1,{"$f":"IF(Y46=0,0,IF(Z$2=\"Year\",IF(_xlfn.MAXIFS($N46:Y46,$N$2:Y$2,\"Year\")+$E46<=$E$1,W46+$E46,0),IF(Z$2=\"Repair %\",IF(W46>0,$C$3,0),IF(Z$2=\"Spares %\",IF(IF(W46>0,$C46,0)*100>50%,50%,IF(W46>0,$C46,0)*100),0))))","v":0},{"$f":"IF(Z46=0,0,IF(AA$2=\"Year\",IF(_xlfn.MAXIFS($N46:Z46,$N$2:Z$2,\"Year\")+$E46<=$E$1,X46+$E46,0),IF(AA$2=\"Repair %\",IF(X46>0,$C46,0),IF(AA$2=\"Spares %\",IF(IF(X46>0,$C46,0)*100>50%,50%,IF(X46>0,$C46,0)*100),0))))","v":0},{"$f":"IF(AA46=0,0,IF(AB$2=\"Year\",IF(_xlfn.MAXIFS($N46:AA46,$N$2:AA$2,\"Year\")+$E46<=$E$1,Y46+$E46,0),IF(AB$2=\"Repair %\",IF(Y46>0,$C46,0),IF(AB$2=\"Spares %\",IF(IF(W46>0,$C46,0)*5>80%,50%,IF(W46>0,$C46,0)*5),0))))","v":0},{"$f":"IF(AB46=0,0,IF(AC$2=\"Year\",IF(_xlfn.MAXIFS($N46:AB46,$N$2:AB$2,\"Year\")+$E46<=$E$1,Z46+$E46,0),IF(AC$2=\"Repair %\",IF(Z46>0,$C$3,0),IF(AC$2=\"Spares %\",IF(IF(Z46>0,$C46,0)*100>50%,50%,IF(Z46>0,$C46,0)*100),0))))","v":0},{"$f":"IF(AC46=0,0,IF(AD$2=\"Year\",IF(_xlfn.MAXIFS($N46:AC46,$N$2:AC$2,\"Year\")+$E46<=$E$1,AA46+$E46,0),IF(AD$2=\"Repair %\",IF(AA46>0,$C46,0),IF(AD$2=\"Spares %\",IF(IF(AA46>0,$C46,0)*100>50%,50%,IF(AA46>0,$C46,0)*100),0))))","v":0},{"$f":"IF(AD46=0,0,IF(AE$2=\"Year\",IF(_xlfn.MAXIFS($N46:AD46,$N$2:AD$2,\"Year\")+$E46<=$E$1,AB46+$E46,0),IF(AE$2=\"Repair %\",IF(AB46>0,$C46,0),IF(AE$2=\"Spares %\",IF(IF(Z46>0,$C46,0)*5>80%,50%,IF(Z46>0,$C46,0)*5),0))))","v":0},{"$f":"IF(AE46=0,0,IF(AF$2=\"Year\",IF(_xlfn.MAXIFS($N46:AE46,$N$2:AE$2,\"Year\")+$E46<=$E$1,AC46+$E46,0),IF(AF$2=\"Repair %\",IF(AC46>0,$C$3,0),IF(AF$2=\"Spares %\",IF(IF(AC46>0,$C46,0)*100>50%,50%,IF(AC46>0,$C46,0)*100),0))))","v":0},{"$f":"IF(AF46=0,0,IF(AG$2=\"Year\",IF(_xlfn.MAXIFS($N46:AF46,$N$2:AF$2,\"Year\")+$E46<=$E$1,AD46+$E46,0),IF(AG$2=\"Repair %\",IF(AD46>0,$C46,0),IF(AG$2=\"Spares %\",IF(IF(AD46>0,$C46,0)*100>50%,50%,IF(AD46>0,$C46,0)*100),0))))","v":0},{"$f":"IF(AG46=0,0,IF(AH$2=\"Year\",IF(_xlfn.MAXIFS($N46:AG46,$N$2:AG$2,\"Year\")+$E46<=$E$1,AE46+$E46,0),IF(AH$2=\"Repair %\",IF(AE46>0,$C46,0),IF(AH$2=\"Spares %\",IF(IF(AC46>0,$C46,0)*5>80%,50%,IF(AC46>0,$C46,0)*5),0))))","v":0},{"$f":"IF(AH46=0,0,IF(AI$2=\"Year\",IF(_xlfn.MAXIFS($N46:AH46,$N$2:AH$2,\"Year\")+$E46<=$E$1,AF46+$E46,0),IF(AI$2=\"Repair %\",IF(AF46>0,$C$3,0),IF(AI$2=\"Spares %\",IF(IF(AF46>0,$C46,0)*100>50%,50%,IF(AF46>0,$C46,0)*100),0))))","v":0},{"$f":"IF(AI46=0,0,IF(AJ$2=\"Year\",IF(_xlfn.MAXIFS($N46:AI46,$N$2:AI$2,\"Year\")+$E46<=$E$1,AG46+$E46,0),IF(AJ$2=\"Repair %\",IF(AG46>0,$C46,0),IF(AJ$2=\"Spares %\",IF(IF(AG46>0,$C46,0)*100>50%,50%,IF(AG46>0,$C46,0)*100),0))))","v":0},{"$f":"IF(AJ46=0,0,IF(AK$2=\"Year\",IF(_xlfn.MAXIFS($N46:AJ46,$N$2:AJ$2,\"Year\")+$E46<=$E$1,AH46+$E46,0),IF(AK$2=\"Repair %\",IF(AH46>0,$C46,0),IF(AK$2=\"Spares %\",IF(IF(AF46>0,$C46,0)*5>80%,50%,IF(AF46>0,$C46,0)*5),0))))","v":0},{"$f":"IF(AK46=0,0,IF(AL$2=\"Year\",IF(_xlfn.MAXIFS($N46:AK46,$N$2:AK$2,\"Year\")+$E46<=$E$1,AI46+$E46,0),IF(AL$2=\"Repair %\",IF(AI46>0,$C$3,0),IF(AL$2=\"Spares %\",IF(IF(AI46>0,$C46,0)*100>50%,50%,IF(AI46>0,$C46,0)*100),0))))","v":0},{"$f":"IF(AL46=0,0,IF(AM$2=\"Year\",IF(_xlfn.MAXIFS($N46:AL46,$N$2:AL$2,\"Year\")+$E46<=$E$1,AJ46+$E46,0),IF(AM$2=\"Repair %\",IF(AJ46>0,$C46,0),IF(AM$2=\"Spares %\",IF(IF(AJ46>0,$C46,0)*100>50%,50%,IF(AJ46>0,$C46,0)*100),0))))","v":0},{"$f":"IF(AM46=0,0,IF(AN$2=\"Year\",IF(_xlfn.MAXIFS($N46:AM46,$N$2:AM$2,\"Year\")+$E46<=$E$1,AK46+$E46,0),IF(AN$2=\"Repair %\",IF(AK46>0,$C46,0),IF(AN$2=\"Spares %\",IF(IF(AI46>0,$C46,0)*5>80%,50%,IF(AI46>0,$C46,0)*5),0))))","v":0},{"$f":"IF(AN46=0,0,IF(AO$2=\"Year\",IF(_xlfn.MAXIFS($N46:AN46,$N$2:AN$2,\"Year\")+$E46<=$E$1,AL46+$E46,0),IF(AO$2=\"Repair %\",IF(AL46>0,$C$3,0),IF(AO$2=\"Spares %\",IF(IF(AL46>0,$C46,0)*100>50%,50%,IF(AL46>0,$C46,0)*100),0))))","v":0},{"$f":"IF(AO46=0,0,IF(AP$2=\"Year\",IF(_xlfn.MAXIFS($N46:AO46,$N$2:AO$2,\"Year\")+$E46<=$E$1,AM46+$E46,0),IF(AP$2=\"Repair %\",IF(AM46>0,$C46,0),IF(AP$2=\"Spares %\",IF(IF(AM46>0,$C46,0)*100>50%,50%,IF(AM46>0,$C46,0)*100),0))))","v":0},{"$f":"IF(AP46=0,0,IF(AQ$2=\"Year\",IF(_xlfn.MAXIFS($N46:AP46,$N$2:AP$2,\"Year\")+$E46<=$E$1,AN46+$E46,0),IF(AQ$2=\"Repair %\",IF(AN46>0,$C46,0),IF(AQ$2=\"Spares %\",IF(IF(AL46>0,$C46,0)*5>80%,50%,IF(AL46>0,$C46,0)*5),0))))","v":0}]
[{"$f":"INDEX('Avionics ID'!A:E,MATCH(B47,'Avionics ID'!E:E,0),1)","v":734},"Compass",0,0.06,null,"",{"$f":"SUBSTITUTE(ADDRESS(1,MATCH(A47,'Pt1-AvionicsComponentCosts'!$A$6:$NC$6,0)+1),\"$1\",\"\")","v":"$DX"},{"$f":"_xlfn.TEXTJOIN(\", \",TRUE,_xlfn.UNIQUE(_xlfn._xlws.SORT(_xlfn._xlws.FILTER('Pt1-AvionicsComponentCosts'!$NF$12:$NF$384,ISNUMBER(INDIRECT(\"'Pt1-AvionicsComponentCosts'!\"&G47&\"$12:\"&G47&\"$384\"))))))","v":"A220, A300, A320, A321, A330, A340, A350, A380, ATR, B717, B737, B747, B757, B767, B777, B787, C919, EMB Regional, MC-21, MD-11, Mil Transport, Military Jet, NSA"},null,0.06,0,0.35299999999999998,1.8460000000000001,{"$f":"COUNTIF($N$2:N$2,\"Year\")*$G$1","v":10},null,0,{"$f":"COUNTIF($N$2:Q$2,\"Year\")*$G$1","v":20},{"$f":"IF(Q47=0,0,IF(R$2=\"Year\",IF(_xlfn.MAXIFS($N47:Q47,$N$2:Q$2,\"Year\")+$E47<=$E$1,O47+$E47,0),IF(R$2=\"Repair %\",IF(O47>0,$C47,0),IF(R$2=\"Spares %\",IF(IF(O47>0,$C47,0)*100>50%,50%,IF(O47>0,$C47,0)*100),0))))","v":0},0,{"$f":"COUNTIF($N$2:T$2,\"Year\")*$G$1","v":30},{"$f":"IF(T47=0,0,IF(U$2=\"Year\",IF(_xlfn.MAXIFS($N47:T47,$N$2:T$2,\"Year\")+$E47<=$E$1,R47+$E47,0),IF(U$2=\"Repair %\",IF(R47>0,$C47,0),IF(U$2=\"Spares %\",IF(IF(R47>0,$C47,0)*100>50%,50%,IF(R47>0,$C47,0)*100),0))))","v":0},0,{"$f":"COUNTIF($N$2:W$2,\"Year\")*$G$1","v":40},{"$f":"IF(W47=0,0,IF(X$2=\"Year\",IF(_xlfn.MAXIFS($N47:W47,$N$2:W$2,\"Year\")+$E47<=$E$1,U47+$E47,0),IF(X$2=\"Repair %\",IF(U47>0,$C47,0),IF(X$2=\"Spares %\",IF(IF(U47>0,$C47,0)*100>50%,50%,IF(U47>0,$C47,0)*100),0))))","v":0},0,{"$f":"IF(Y47=0,0,IF(Z$2=\"Year\",IF(_xlfn.MAXIFS($N47:Y47,$N$2:Y$2,\"Year\")+$E47<=$E$1,W47+$E47,0),IF(Z$2=\"Repair %\",IF(W47>0,$C$3,0),IF(Z$2=\"Spares %\",IF(IF(W47>0,$C47,0)*100>50%,50%,IF(W47>0,$C47,0)*100),0))))","v":0},{"$f":"IF(Z47=0,0,IF(AA$2=\"Year\",IF(_xlfn.MAXIFS($N47:Z47,$N$2:Z$2,\"Year\")+$E47<=$E$1,X47+$E47,0),IF(AA$2=\"Repair %\",IF(X47>0,$C47,0),IF(AA$2=\"Spares %\",IF(IF(X47>0,$C47,0)*100>50%,50%,IF(X47>0,$C47,0)*100),0))))","v":0},{"$f":"IF(AA47=0,0,IF(AB$2=\"Year\",IF(_xlfn.MAXIFS($N47:AA47,$N$2:AA$2,\"Year\")+$E47<=$E$1,Y47+$E47,0),IF(AB$2=\"Repair %\",IF(Y47>0,$C47,0),IF(AB$2=\"Spares %\",IF(IF(W47>0,$C47,0)*5>80%,50%,IF(W47>0,$C47,0)*5),0))))","v":0},{"$f":"IF(AB47=0,0,IF(AC$2=\"Year\",IF(_xlfn.MAXIFS($N47:AB47,$N$2:AB$2,\"Year\")+$E47<=$E$1,Z47+$E47,0),IF(AC$2=\"Repair %\",IF(Z47>0,$C$3,0),IF(AC$2=\"Spares %\",IF(IF(Z47>0,$C47,0)*100>50%,50%,IF(Z47>0,$C47,0)*100),0))))","v":0},{"$f":"IF(AC47=0,0,IF(AD$2=\"Year\",IF(_xlfn.MAXIFS($N47:AC47,$N$2:AC$2,\"Year\")+$E47<=$E$1,AA47+$E47,0),IF(AD$2=\"Repair %\",IF(AA47>0,$C47,0),IF(AD$2=\"Spares %\",IF(IF(AA47>0,$C47,0)*100>50%,50%,IF(AA47>0,$C47,0)*100),0))))","v":0},{"$f":"IF(AD47=0,0,IF(AE$2=\"Year\",IF(_xlfn.MAXIFS($N47:AD47,$N$2:AD$2,\"Year\")+$E47<=$E$1,AB47+$E47,0),IF(AE$2=\"Repair %\",IF(AB47>0,$C47,0),IF(AE$2=\"Spares %\",IF(IF(Z47>0,$C47,0)*5>80%,50%,IF(Z47>0,$C47,0)*5),0))))","v":0},{"$f":"IF(AE47=0,0,IF(AF$2=\"Year\",IF(_xlfn.MAXIFS($N47:AE47,$N$2:AE$2,\"Year\")+$E47<=$E$1,AC47+$E47,0),IF(AF$2=\"Repair %\",IF(AC47>0,$C$3,0),IF(AF$2=\"Spares %\",IF(IF(AC47>0,$C47,0)*100>50%,50%,IF(AC47>0,$C47,0)*100),0))))","v":0},{"$f":"IF(AF47=0,0,IF(AG$2=\"Year\",IF(_xlfn.MAXIFS($N47:AF47,$N$2:AF$2,\"Year\")+$E47<=$E$1,AD47+$E47,0),IF(AG$2=\"Repair %\",IF(AD47>0,$C47,0),IF(AG$2=\"Spares %\",IF(IF(AD47>0,$C47,0)*100>50%,50%,IF(AD47>0,$C47,0)*100),0))))","v":0},{"$f":"IF(AG47=0,0,IF(AH$2=\"Year\",IF(_xlfn.MAXIFS($N47:AG47,$N$2:AG$2,\"Year\")+$E47<=$E$1,AE47+$E47,0),IF(AH$2=\"Repair %\",IF(AE47>0,$C47,0),IF(AH$2=\"Spares %\",IF(IF(AC47>0,$C47,0)*5>80%,50%,IF(AC47>0,$C47,0)*5),0))))","v":0},{"$f":"IF(AH47=0,0,IF(AI$2=\"Year\",IF(_xlfn.MAXIFS($N47:AH47,$N$2:AH$2,\"Year\")+$E47<=$E$1,AF47+$E47,0),IF(AI$2=\"Repair %\",IF(AF47>0,$C$3,0),IF(AI$2=\"Spares %\",IF(IF(AF47>0,$C47,0)*100>50%,50%,IF(AF47>0,$C47,0)*100),0))))","v":0},{"$f":"IF(AI47=0,0,IF(AJ$2=\"Year\",IF(_xlfn.MAXIFS($N47:AI47,$N$2:AI$2,\"Year\")+$E47<=$E$1,AG47+$E47,0),IF(AJ$2=\"Repair %\",IF(AG47>0,$C47,0),IF(AJ$2=\"Spares %\",IF(IF(AG47>0,$C47,0)*100>50%,50%,IF(AG47>0,$C47,0)*100),0))))","v":0},{"$f":"IF(AJ47=0,0,IF(AK$2=\"Year\",IF(_xlfn.MAXIFS($N47:AJ47,$N$2:AJ$2,\"Year\")+$E47<=$E$1,AH47+$E47,0),IF(AK$2=\"Repair %\",IF(AH47>0,$C47,0),IF(AK$2=\"Spares %\",IF(IF(AF47>0,$C47,0)*5>80%,50%,IF(AF47>0,$C47,0)*5),0))))","v":0},{"$f":"IF(AK47=0,0,IF(AL$2=\"Year\",IF(_xlfn.MAXIFS($N47:AK47,$N$2:AK$2,\"Year\")+$E47<=$E$1,AI47+$E47,0),IF(AL$2=\"Repair %\",IF(AI47>0,$C$3,0),IF(AL$2=\"Spares %\",IF(IF(AI47>0,$C47,0)*100>50%,50%,IF(AI47>0,$C47,0)*100),0))))","v":0},{"$f":"IF(AL47=0,0,IF(AM$2=\"Year\",IF(_xlfn.MAXIFS($N47:AL47,$N$2:AL$2,\"Year\")+$E47<=$E$1,AJ47+$E47,0),IF(AM$2=\"Repair %\",IF(AJ47>0,$C47,0),IF(AM$2=\"Spares %\",IF(IF(AJ47>0,$C47,0)*100>50%,50%,IF(AJ47>0,$C47,0)*100),0))))","v":0},{"$f":"IF(AM47=0,0,IF(AN$2=\"Year\",IF(_xlfn.MAXIFS($N47:AM47,$N$2:AM$2,\"Year\")+$E47<=$E$1,AK47+$E47,0),IF(AN$2=\"Repair %\",IF(AK47>0,$C47,0),IF(AN$2=\"Spares %\",IF(IF(AI47>0,$C47,0)*5>80%,50%,IF(AI47>0,$C47,0)*5),0))))","v":0},{"$f":"IF(AN47=0,0,IF(AO$2=\"Year\",IF(_xlfn.MAXIFS($N47:AN47,$N$2:AN$2,\"Year\")+$E47<=$E$1,AL47+$E47,0),IF(AO$2=\"Repair %\",IF(AL47>0,$C$3,0),IF(AO$2=\"Spares %\",IF(IF(AL47>0,$C47,0)*100>50%,50%,IF(AL47>0,$C47,0)*100),0))))","v":0},{"$f":"IF(AO47=0,0,IF(AP$2=\"Year\",IF(_xlfn.MAXIFS($N47:AO47,$N$2:AO$2,\"Year\")+$E47<=$E$1,AM47+$E47,0),IF(AP$2=\"Repair %\",IF(AM47>0,$C47,0),IF(AP$2=\"Spares %\",IF(IF(AM47>0,$C47,0)*100>50%,50%,IF(AM47>0,$C47,0)*100),0))))","v":0},{"$f":"IF(AP47=0,0,IF(AQ$2=\"Year\",IF(_xlfn.MAXIFS($N47:AP47,$N$2:AP$2,\"Year\")+$E47<=$E$1,AN47+$E47,0),IF(AQ$2=\"Repair %\",IF(AN47>0,$C47,0),IF(AQ$2=\"Spares %\",IF(IF(AL47>0,$C47,0)*5>80%,50%,IF(AL47>0,$C47,0)*5),0))))","v":0}]
[{"$f":"INDEX('Avionics ID'!A:E,MATCH(B48,'Avionics ID'!E:E,0),1)","v":779},"Crew Info System/Maint System",0,0.06,null,"",{"$f":"SUBSTITUTE(ADDRESS(1,MATCH(A48,'Pt1-AvionicsComponentCosts'!$A$6:$NC$6,0)+1),\"$1\",\"\")","v":"$DZ"},{"$f":"_xlfn.TEXTJOIN(\", \",TRUE,_xlfn.UNIQUE(_xlfn._xlws.SORT(_xlfn._xlws.FILTER('Pt1-AvionicsComponentCosts'!$NF$12:$NF$384,ISNUMBER(INDIRECT(\"'Pt1-AvionicsComponentCosts'!\"&G48&\"$12:\"&G48&\"$384\"))))))","v":"A350, B747, B777, B787"},null,0.06,0,0.35299999999999998,1.8460000000000001,{"$f":"COUNTIF($N$2:N$2,\"Year\")*$G$1","v":10},null,0,{"$f":"COUNTIF($N$2:Q$2,\"Year\")*$G$1","v":20},{"$f":"IF(Q48=0,0,IF(R$2=\"Year\",IF(_xlfn.MAXIFS($N48:Q48,$N$2:Q$2,\"Year\")+$E48<=$E$1,O48+$E48,0),IF(R$2=\"Repair %\",IF(O48>0,$C48,0),IF(R$2=\"Spares %\",IF(IF(O48>0,$C48,0)*100>50%,50%,IF(O48>0,$C48,0)*100),0))))","v":0},0,{"$f":"COUNTIF($N$2:T$2,\"Year\")*$G$1","v":30},{"$f":"IF(T48=0,0,IF(U$2=\"Year\",IF(_xlfn.MAXIFS($N48:T48,$N$2:T$2,\"Year\")+$E48<=$E$1,R48+$E48,0),IF(U$2=\"Repair %\",IF(R48>0,$C48,0),IF(U$2=\"Spares %\",IF(IF(R48>0,$C48,0)*100>50%,50%,IF(R48>0,$C48,0)*100),0))))","v":0},0,{"$f":"COUNTIF($N$2:W$2,\"Year\")*$G$1","v":40},{"$f":"IF(W48=0,0,IF(X$2=\"Year\",IF(_xlfn.MAXIFS($N48:W48,$N$2:W$2,\"Year\")+$E48<=$E$1,U48+$E48,0),IF(X$2=\"Repair %\",IF(U48>0,$C48,0),IF(X$2=\"Spares %\",IF(IF(U48>0,$C48,0)*100>50%,50%,IF(U48>0,$C48,0)*100),0))))","v":0},0,{"$f":"IF(Y48=0,0,IF(Z$2=\"Year\",IF(_xlfn.MAXIFS($N48:Y48,$N$2:Y$2,\"Year\")+$E48<=$E$1,W48+$E48,0),IF(Z$2=\"Repair %\",IF(W48>0,$C$3,0),IF(Z$2=\"Spares %\",IF(IF(W48>0,$C48,0)*100>50%,50%,IF(W48>0,$C48,0)*100),0))))","v":0},{"$f":"IF(Z48=0,0,IF(AA$2=\"Year\",IF(_xlfn.MAXIFS($N48:Z48,$N$2:Z$2,\"Year\")+$E48<=$E$1,X48+$E48,0),IF(AA$2=\"Repair %\",IF(X48>0,$C48,0),IF(AA$2=\"Spares %\",IF(IF(X48>0,$C48,0)*100>50%,50%,IF(X48>0,$C48,0)*100),0))))","v":0},{"$f":"IF(AA48=0,0,IF(AB$2=\"Year\",IF(_xlfn.MAXIFS($N48:AA48,$N$2:AA$2,\"Year\")+$E48<=$E$1,Y48+$E48,0),IF(AB$2=\"Repair %\",IF(Y48>0,$C48,0),IF(AB$2=\"Spares %\",IF(IF(W48>0,$C48,0)*5>80%,50%,IF(W48>0,$C48,0)*5),0))))","v":0},{"$f":"IF(AB48=0,0,IF(AC$2=\"Year\",IF(_xlfn.MAXIFS($N48:AB48,$N$2:AB$2,\"Year\")+$E48<=$E$1,Z48+$E48,0),IF(AC$2=\"Repair %\",IF(Z48>0,$C$3,0),IF(AC$2=\"Spares %\",IF(IF(Z48>0,$C48,0)*100>50%,50%,IF(Z48>0,$C48,0)*100),0))))","v":0},{"$f":"IF(AC48=0,0,IF(AD$2=\"Year\",IF(_xlfn.MAXIFS($N48:AC48,$N$2:AC$2,\"Year\")+$E48<=$E$1,AA48+$E48,0),IF(AD$2=\"Repair %\",IF(AA48>0,$C48,0),IF(AD$2=\"Spares %\",IF(IF(AA48>0,$C48,0)*100>50%,50%,IF(AA48>0,$C48,0)*100),0))))","v":0},{"$f":"IF(AD48=0,0,IF(AE$2=\"Year\",IF(_xlfn.MAXIFS($N48:AD48,$N$2:AD$2,\"Year\")+$E48<=$E$1,AB48+$E48,0),IF(AE$2=\"Repair %\",IF(AB48>0,$C48,0),IF(AE$2=\"Spares %\",IF(IF(Z48>0,$C48,0)*5>80%,50%,IF(Z48>0,$C48,0)*5),0))))","v":0},{"$f":"IF(AE48=0,0,IF(AF$2=\"Year\",IF(_xlfn.MAXIFS($N48:AE48,$N$2:AE$2,\"Year\")+$E48<=$E$1,AC48+$E48,0),IF(AF$2=\"Repair %\",IF(AC48>0,$C$3,0),IF(AF$2=\"Spares %\",IF(IF(AC48>0,$C48,0)*100>50%,50%,IF(AC48>0,$C48,0)*100),0))))","v":0},{"$f":"IF(AF48=0,0,IF(AG$2=\"Year\",IF(_xlfn.MAXIFS($N48:AF48,$N$2:AF$2,\"Year\")+$E48<=$E$1,AD48+$E48,0),IF(AG$2=\"Repair %\",IF(AD48>0,$C48,0),IF(AG$2=\"Spares %\",IF(IF(AD48>0,$C48,0)*100>50%,50%,IF(AD48>0,$C48,0)*100),0))))","v":0},{"$f":"IF(AG48=0,0,IF(AH$2=\"Year\",IF(_xlfn.MAXIFS($N48:AG48,$N$2:AG$2,\"Year\")+$E48<=$E$1,AE48+$E48,0),IF(AH$2=\"Repair %\",IF(AE48>0,$C48,0),IF(AH$2=\"Spares %\",IF(IF(AC48>0,$C48,0)*5>80%,50%,IF(AC48>0,$C48,0)*5),0))))","v":0},{"$f":"IF(AH48=0,0,IF(AI$2=\"Year\",IF(_xlfn.MAXIFS($N48:AH48,$N$2:AH$2,\"Year\")+$E48<=$E$1,AF48+$E48,0),IF(AI$2=\"Repair %\",IF(AF48>0,$C$3,0),IF(AI$2=\"Spares %\",IF(IF(AF48>0,$C48,0)*100>50%,50%,IF(AF48>0,$C48,0)*100),0))))","v":0},{"$f":"IF(AI48=0,0,IF(AJ$2=\"Year\",IF(_xlfn.MAXIFS($N48:AI48,$N$2:AI$2,\"Year\")+$E48<=$E$1,AG48+$E48,0),IF(AJ$2=\"Repair %\",IF(AG48>0,$C48,0),IF(AJ$2=\"Spares %\",IF(IF(AG48>0,$C48,0)*100>50%,50%,IF(AG48>0,$C48,0)*100),0))))","v":0},{"$f":"IF(AJ48=0,0,IF(AK$2=\"Year\",IF(_xlfn.MAXIFS($N48:AJ48,$N$2:AJ$2,\"Year\")+$E48<=$E$1,AH48+$E48,0),IF(AK$2=\"Repair %\",IF(AH48>0,$C48,0),IF(AK$2=\"Spares %\",IF(IF(AF48>0,$C48,0)*5>80%,50%,IF(AF48>0,$C48,0)*5),0))))","v":0},{"$f":"IF(AK48=0,0,IF(AL$2=\"Year\",IF(_xlfn.MAXIFS($N48:AK48,$N$2:AK$2,\"Year\")+$E48<=$E$1,AI48+$E48,0),IF(AL$2=\"Repair %\",IF(AI48>0,$C$3,0),IF(AL$2=\"Spares %\",IF(IF(AI48>0,$C48,0)*100>50%,50%,IF(AI48>0,$C48,0)*100),0))))","v":0},{"$f":"IF(AL48=0,0,IF(AM$2=\"Year\",IF(_xlfn.MAXIFS($N48:AL48,$N$2:AL$2,\"Year\")+$E48<=$E$1,AJ48+$E48,0),IF(AM$2=\"Repair %\",IF(AJ48>0,$C48,0),IF(AM$2=\"Spares %\",IF(IF(AJ48>0,$C48,0)*100>50%,50%,IF(AJ48>0,$C48,0)*100),0))))","v":0},{"$f":"IF(AM48=0,0,IF(AN$2=\"Year\",IF(_xlfn.MAXIFS($N48:AM48,$N$2:AM$2,\"Year\")+$E48<=$E$1,AK48+$E48,0),IF(AN$2=\"Repair %\",IF(AK48>0,$C48,0),IF(AN$2=\"Spares %\",IF(IF(AI48>0,$C48,0)*5>80%,50%,IF(AI48>0,$C48,0)*5),0))))","v":0},{"$f":"IF(AN48=0,0,IF(AO$2=\"Year\",IF(_xlfn.MAXIFS($N48:AN48,$N$2:AN$2,\"Year\")+$E48<=$E$1,AL48+$E48,0),IF(AO$2=\"Repair %\",IF(AL48>0,$C$3,0),IF(AO$2=\"Spares %\",IF(IF(AL48>0,$C48,0)*100>50%,50%,IF(AL48>0,$C48,0)*100),0))))","v":0},{"$f":"IF(AO48=0,0,IF(AP$2=\"Year\",IF(_xlfn.MAXIFS($N48:AO48,$N$2:AO$2,\"Year\")+$E48<=$E$1,AM48+$E48,0),IF(AP$2=\"Repair %\",IF(AM48>0,$C48,0),IF(AP$2=\"Spares %\",IF(IF(AM48>0,$C48,0)*100>50%,50%,IF(AM48>0,$C48,0)*100),0))))","v":0},{"$f":"IF(AP48=0,0,IF(AQ$2=\"Year\",IF(_xlfn.MAXIFS($N48:AP48,$N$2:AP$2,\"Year\")+$E48<=$E$1,AN48+$E48,0),IF(AQ$2=\"Repair %\",IF(AN48>0,$C48,0),IF(AQ$2=\"Spares %\",IF(IF(AL48>0,$C48,0)*5>80%,50%,IF(AL48>0,$C48,0)*5),0))))","v":0}]
[{"$f":"INDEX('Avionics ID'!A:E,MATCH(B49,'Avionics ID'!E:E,0),1)","v":808},"Cursor Control Device",0,0.1,null,"",{"$f":"SUBSTITUTE(ADDRESS(1,MATCH(A49,'Pt1-AvionicsComponentCosts'!$A$6:$NC$6,0)+1),\"$1\",\"\")","v":"$EB"},{"$f":"_xlfn.TEXTJOIN(\", \",TRUE,_xlfn.UNIQUE(_xlfn._xlws.SORT(_xlfn._xlws.FILTER('Pt1-AvionicsComponentCosts'!$NF$12:$NF$384,ISNUMBER(INDIRECT(\"'Pt1-AvionicsComponentCosts'!\"&G49&\"$12:\"&G49&\"$384\"))))))","v":"ARJ, CRJ, EMB Regional, Reg TP, Superjet 100, Turbine GA"},null,0.1,0,0.35299999999999998,1.8460000000000001,{"$f":"COUNTIF($N$2:N$2,\"Year\")*$G$1","v":10},null,0,{"$f":"COUNTIF($N$2:Q$2,\"Year\")*$G$1","v":20},{"$f":"IF(Q49=0,0,IF(R$2=\"Year\",IF(_xlfn.MAXIFS($N49:Q49,$N$2:Q$2,\"Year\")+$E49<=$E$1,O49+$E49,0),IF(R$2=\"Repair %\",IF(O49>0,$C49,0),IF(R$2=\"Spares %\",IF(IF(O49>0,$C49,0)*100>50%,50%,IF(O49>0,$C49,0)*100),0))))","v":0},0,{"$f":"COUNTIF($N$2:T$2,\"Year\")*$G$1","v":30},{"$f":"IF(T49=0,0,IF(U$2=\"Year\",IF(_xlfn.MAXIFS($N49:T49,$N$2:T$2,\"Year\")+$E49<=$E$1,R49+$E49,0),IF(U$2=\"Repair %\",IF(R49>0,$C49,0),IF(U$2=\"Spares %\",IF(IF(R49>0,$C49,0)*100>50%,50%,IF(R49>0,$C49,0)*100),0))))","v":0},0,{"$f":"COUNTIF($N$2:W$2,\"Year\")*$G$1","v":40},{"$f":"IF(W49=0,0,IF(X$2=\"Year\",IF(_xlfn.MAXIFS($N49:W49,$N$2:W$2,\"Year\")+$E49<=$E$1,U49+$E49,0),IF(X$2=\"Repair %\",IF(U49>0,$C49,0),IF(X$2=\"Spares %\",IF(IF(U49>0,$C49,0)*100>50%,50%,IF(U49>0,$C49,0)*100),0))))","v":0},0,{"$f":"IF(Y49=0,0,IF(Z$2=\"Year\",IF(_xlfn.MAXIFS($N49:Y49,$N$2:Y$2,\"Year\")+$E49<=$E$1,W49+$E49,0),IF(Z$2=\"Repair %\",IF(W49>0,$C$3,0),IF(Z$2=\"Spares %\",IF(IF(W49>0,$C49,0)*100>50%,50%,IF(W49>0,$C49,0)*100),0))))","v":0},{"$f":"IF(Z49=0,0,IF(AA$2=\"Year\",IF(_xlfn.MAXIFS($N49:Z49,$N$2:Z$2,\"Year\")+$E49<=$E$1,X49+$E49,0),IF(AA$2=\"Repair %\",IF(X49>0,$C49,0),IF(AA$2=\"Spares %\",IF(IF(X49>0,$C49,0)*100>50%,50%,IF(X49>0,$C49,0)*100),0))))","v":0},{"$f":"IF(AA49=0,0,IF(AB$2=\"Year\",IF(_xlfn.MAXIFS($N49:AA49,$N$2:AA$2,\"Year\")+$E49<=$E$1,Y49+$E49,0),IF(AB$2=\"Repair %\",IF(Y49>0,$C49,0),IF(AB$2=\"Spares %\",IF(IF(W49>0,$C49,0)*5>80%,50%,IF(W49>0,$C49,0)*5),0))))","v":0},{"$f":"IF(AB49=0,0,IF(AC$2=\"Year\",IF(_xlfn.MAXIFS($N49:AB49,$N$2:AB$2,\"Year\")+$E49<=$E$1,Z49+$E49,0),IF(AC$2=\"Repair %\",IF(Z49>0,$C$3,0),IF(AC$2=\"Spares %\",IF(IF(Z49>0,$C49,0)*100>50%,50%,IF(Z49>0,$C49,0)*100),0))))","v":0},{"$f":"IF(AC49=0,0,IF(AD$2=\"Year\",IF(_xlfn.MAXIFS($N49:AC49,$N$2:AC$2,\"Year\")+$E49<=$E$1,AA49+$E49,0),IF(AD$2=\"Repair %\",IF(AA49>0,$C49,0),IF(AD$2=\"Spares %\",IF(IF(AA49>0,$C49,0)*100>50%,50%,IF(AA49>0,$C49,0)*100),0))))","v":0},{"$f":"IF(AD49=0,0,IF(AE$2=\"Year\",IF(_xlfn.MAXIFS($N49:AD49,$N$2:AD$2,\"Year\")+$E49<=$E$1,AB49+$E49,0),IF(AE$2=\"Repair %\",IF(AB49>0,$C49,0),IF(AE$2=\"Spares %\",IF(IF(Z49>0,$C49,0)*5>80%,50%,IF(Z49>0,$C49,0)*5),0))))","v":0},{"$f":"IF(AE49=0,0,IF(AF$2=\"Year\",IF(_xlfn.MAXIFS($N49:AE49,$N$2:AE$2,\"Year\")+$E49<=$E$1,AC49+$E49,0),IF(AF$2=\"Repair %\",IF(AC49>0,$C$3,0),IF(AF$2=\"Spares %\",IF(IF(AC49>0,$C49,0)*100>50%,50%,IF(AC49>0,$C49,0)*100),0))))","v":0},{"$f":"IF(AF49=0,0,IF(AG$2=\"Year\",IF(_xlfn.MAXIFS($N49:AF49,$N$2:AF$2,\"Year\")+$E49<=$E$1,AD49+$E49,0),IF(AG$2=\"Repair %\",IF(AD49>0,$C49,0),IF(AG$2=\"Spares %\",IF(IF(AD49>0,$C49,0)*100>50%,50%,IF(AD49>0,$C49,0)*100),0))))","v":0},{"$f":"IF(AG49=0,0,IF(AH$2=\"Year\",IF(_xlfn.MAXIFS($N49:AG49,$N$2:AG$2,\"Year\")+$E49<=$E$1,AE49+$E49,0),IF(AH$2=\"Repair %\",IF(AE49>0,$C49,0),IF(AH$2=\"Spares %\",IF(IF(AC49>0,$C49,0)*5>80%,50%,IF(AC49>0,$C49,0)*5),0))))","v":0},{"$f":"IF(AH49=0,0,IF(AI$2=\"Year\",IF(_xlfn.MAXIFS($N49:AH49,$N$2:AH$2,\"Year\")+$E49<=$E$1,AF49+$E49,0),IF(AI$2=\"Repair %\",IF(AF49>0,$C$3,0),IF(AI$2=\"Spares %\",IF(IF(AF49>0,$C49,0)*100>50%,50%,IF(AF49>0,$C49,0)*100),0))))","v":0},{"$f":"IF(AI49=0,0,IF(AJ$2=\"Year\",IF(_xlfn.MAXIFS($N49:AI49,$N$2:AI$2,\"Year\")+$E49<=$E$1,AG49+$E49,0),IF(AJ$2=\"Repair %\",IF(AG49>0,$C49,0),IF(AJ$2=\"Spares %\",IF(IF(AG49>0,$C49,0)*100>50%,50%,IF(AG49>0,$C49,0)*100),0))))","v":0},{"$f":"IF(AJ49=0,0,IF(AK$2=\"Year\",IF(_xlfn.MAXIFS($N49:AJ49,$N$2:AJ$2,\"Year\")+$E49<=$E$1,AH49+$E49,0),IF(AK$2=\"Repair %\",IF(AH49>0,$C49,0),IF(AK$2=\"Spares %\",IF(IF(AF49>0,$C49,0)*5>80%,50%,IF(AF49>0,$C49,0)*5),0))))","v":0},{"$f":"IF(AK49=0,0,IF(AL$2=\"Year\",IF(_xlfn.MAXIFS($N49:AK49,$N$2:AK$2,\"Year\")+$E49<=$E$1,AI49+$E49,0),IF(AL$2=\"Repair %\",IF(AI49>0,$C$3,0),IF(AL$2=\"Spares %\",IF(IF(AI49>0,$C49,0)*100>50%,50%,IF(AI49>0,$C49,0)*100),0))))","v":0},{"$f":"IF(AL49=0,0,IF(AM$2=\"Year\",IF(_xlfn.MAXIFS($N49:AL49,$N$2:AL$2,\"Year\")+$E49<=$E$1,AJ49+$E49,0),IF(AM$2=\"Repair %\",IF(AJ49>0,$C49,0),IF(AM$2=\"Spares %\",IF(IF(AJ49>0,$C49,0)*100>50%,50%,IF(AJ49>0,$C49,0)*100),0))))","v":0},{"$f":"IF(AM49=0,0,IF(AN$2=\"Year\",IF(_xlfn.MAXIFS($N49:AM49,$N$2:AM$2,\"Year\")+$E49<=$E$1,AK49+$E49,0),IF(AN$2=\"Repair %\",IF(AK49>0,$C49,0),IF(AN$2=\"Spares %\",IF(IF(AI49>0,$C49,0)*5>80%,50%,IF(AI49>0,$C49,0)*5),0))))","v":0},{"$f":"IF(AN49=0,0,IF(AO$2=\"Year\",IF(_xlfn.MAXIFS($N49:AN49,$N$2:AN$2,\"Year\")+$E49<=$E$1,AL49+$E49,0),IF(AO$2=\"Repair %\",IF(AL49>0,$C$3,0),IF(AO$2=\"Spares %\",IF(IF(AL49>0,$C49,0)*100>50%,50%,IF(AL49>0,$C49,0)*100),0))))","v":0},{"$f":"IF(AO49=0,0,IF(AP$2=\"Year\",IF(_xlfn.MAXIFS($N49:AO49,$N$2:AO$2,\"Year\")+$E49<=$E$1,AM49+$E49,0),IF(AP$2=\"Repair %\",IF(AM49>0,$C49,0),IF(AP$2=\"Spares %\",IF(IF(AM49>0,$C49,0)*100>50%,50%,IF(AM49>0,$C49,0)*100),0))))","v":0},{"$f":"IF(AP49=0,0,IF(AQ$2=\"Year\",IF(_xlfn.MAXIFS($N49:AP49,$N$2:AP$2,\"Year\")+$E49<=$E$1,AN49+$E49,0),IF(AQ$2=\"Repair %\",IF(AN49>0,$C49,0),IF(AQ$2=\"Spares %\",IF(IF(AL49>0,$C49,0)*5>80%,50%,IF(AL49>0,$C49,0)*5),0))))","v":0}]
[{"$f":"INDEX('Avionics ID'!A:E,MATCH(B50,'Avionics ID'!E:E,0),1)","v":753},"CVR control panel",0,0.06,null,"",{"$f":"SUBSTITUTE(ADDRESS(1,MATCH(A50,'Pt1-AvionicsComponentCosts'!$A$6:$NC$6,0)+1),\"$1\",\"\")","v":"$AV"},{"$f":"_xlfn.TEXTJOIN(\", \",TRUE,_xlfn.UNIQUE(_xlfn._xlws.SORT(_xlfn._xlws.FILTER('Pt1-AvionicsComponentCosts'!$NF$12:$NF$384,ISNUMBER(INDIRECT(\"'Pt1-AvionicsComponentCosts'!\"&G50&\"$12:\"&G50&\"$384\"))))))","v":"A220, A300, A320, A321, A330, A340, A350, A380, ATR, B717, B737, B747, B757, B767, B777, B787, C919, EMB Regional, MC-21, MD-11, Mil Transport, Military Jet, NSA"},null,0.06,0,0.501,1.2969999999999999,{"$f":"COUNTIF($N$2:N$2,\"Year\")*$G$1","v":10},null,0,{"$f":"COUNTIF($N$2:Q$2,\"Year\")*$G$1","v":20},{"$f":"IF(Q50=0,0,IF(R$2=\"Year\",IF(_xlfn.MAXIFS($N50:Q50,$N$2:Q$2,\"Year\")+$E50<=$E$1,O50+$E50,0),IF(R$2=\"Repair %\",IF(O50>0,$C50,0),IF(R$2=\"Spares %\",IF(IF(O50>0,$C50,0)*100>50%,50%,IF(O50>0,$C50,0)*100),0))))","v":0},0,{"$f":"COUNTIF($N$2:T$2,\"Year\")*$G$1","v":30},{"$f":"IF(T50=0,0,IF(U$2=\"Year\",IF(_xlfn.MAXIFS($N50:T50,$N$2:T$2,\"Year\")+$E50<=$E$1,R50+$E50,0),IF(U$2=\"Repair %\",IF(R50>0,$C50,0),IF(U$2=\"Spares %\",IF(IF(R50>0,$C50,0)*100>50%,50%,IF(R50>0,$C50,0)*100),0))))","v":0},0,{"$f":"COUNTIF($N$2:W$2,\"Year\")*$G$1","v":40},{"$f":"IF(W50=0,0,IF(X$2=\"Year\",IF(_xlfn.MAXIFS($N50:W50,$N$2:W$2,\"Year\")+$E50<=$E$1,U50+$E50,0),IF(X$2=\"Repair %\",IF(U50>0,$C50,0),IF(X$2=\"Spares %\",IF(IF(U50>0,$C50,0)*100>50%,50%,IF(U50>0,$C50,0)*100),0))))","v":0},0,{"$f":"IF(Y50=0,0,IF(Z$2=\"Year\",IF(_xlfn.MAXIFS($N50:Y50,$N$2:Y$2,\"Year\")+$E50<=$E$1,W50+$E50,0),IF(Z$2=\"Repair %\",IF(W50>0,$C$3,0),IF(Z$2=\"Spares %\",IF(IF(W50>0,$C50,0)*100>50%,50%,IF(W50>0,$C50,0)*100),0))))","v":0},{"$f":"IF(Z50=0,0,IF(AA$2=\"Year\",IF(_xlfn.MAXIFS($N50:Z50,$N$2:Z$2,\"Year\")+$E50<=$E$1,X50+$E50,0),IF(AA$2=\"Repair %\",IF(X50>0,$C50,0),IF(AA$2=\"Spares %\",IF(IF(X50>0,$C50,0)*100>50%,50%,IF(X50>0,$C50,0)*100),0))))","v":0},{"$f":"IF(AA50=0,0,IF(AB$2=\"Year\",IF(_xlfn.MAXIFS($N50:AA50,$N$2:AA$2,\"Year\")+$E50<=$E$1,Y50+$E50,0),IF(AB$2=\"Repair %\",IF(Y50>0,$C50,0),IF(AB$2=\"Spares %\",IF(IF(W50>0,$C50,0)*5>80%,50%,IF(W50>0,$C50,0)*5),0))))","v":0},{"$f":"IF(AB50=0,0,IF(AC$2=\"Year\",IF(_xlfn.MAXIFS($N50:AB50,$N$2:AB$2,\"Year\")+$E50<=$E$1,Z50+$E50,0),IF(AC$2=\"Repair %\",IF(Z50>0,$C$3,0),IF(AC$2=\"Spares %\",IF(IF(Z50>0,$C50,0)*100>50%,50%,IF(Z50>0,$C50,0)*100),0))))","v":0},{"$f":"IF(AC50=0,0,IF(AD$2=\"Year\",IF(_xlfn.MAXIFS($N50:AC50,$N$2:AC$2,\"Year\")+$E50<=$E$1,AA50+$E50,0),IF(AD$2=\"Repair %\",IF(AA50>0,$C50,0),IF(AD$2=\"Spares %\",IF(IF(AA50>0,$C50,0)*100>50%,50%,IF(AA50>0,$C50,0)*100),0))))","v":0},{"$f":"IF(AD50=0,0,IF(AE$2=\"Year\",IF(_xlfn.MAXIFS($N50:AD50,$N$2:AD$2,\"Year\")+$E50<=$E$1,AB50+$E50,0),IF(AE$2=\"Repair %\",IF(AB50>0,$C50,0),IF(AE$2=\"Spares %\",IF(IF(Z50>0,$C50,0)*5>80%,50%,IF(Z50>0,$C50,0)*5),0))))","v":0},{"$f":"IF(AE50=0,0,IF(AF$2=\"Year\",IF(_xlfn.MAXIFS($N50:AE50,$N$2:AE$2,\"Year\")+$E50<=$E$1,AC50+$E50,0),IF(AF$2=\"Repair %\",IF(AC50>0,$C$3,0),IF(AF$2=\"Spares %\",IF(IF(AC50>0,$C50,0)*100>50%,50%,IF(AC50>0,$C50,0)*100),0))))","v":0},{"$f":"IF(AF50=0,0,IF(AG$2=\"Year\",IF(_xlfn.MAXIFS($N50:AF50,$N$2:AF$2,\"Year\")+$E50<=$E$1,AD50+$E50,0),IF(AG$2=\"Repair %\",IF(AD50>0,$C50,0),IF(AG$2=\"Spares %\",IF(IF(AD50>0,$C50,0)*100>50%,50%,IF(AD50>0,$C50,0)*100),0))))","v":0},{"$f":"IF(AG50=0,0,IF(AH$2=\"Year\",IF(_xlfn.MAXIFS($N50:AG50,$N$2:AG$2,\"Year\")+$E50<=$E$1,AE50+$E50,0),IF(AH$2=\"Repair %\",IF(AE50>0,$C50,0),IF(AH$2=\"Spares %\",IF(IF(AC50>0,$C50,0)*5>80%,50%,IF(AC50>0,$C50,0)*5),0))))","v":0},{"$f":"IF(AH50=0,0,IF(AI$2=\"Year\",IF(_xlfn.MAXIFS($N50:AH50,$N$2:AH$2,\"Year\")+$E50<=$E$1,AF50+$E50,0),IF(AI$2=\"Repair %\",IF(AF50>0,$C$3,0),IF(AI$2=\"Spares %\",IF(IF(AF50>0,$C50,0)*100>50%,50%,IF(AF50>0,$C50,0)*100),0))))","v":0},{"$f":"IF(AI50=0,0,IF(AJ$2=\"Year\",IF(_xlfn.MAXIFS($N50:AI50,$N$2:AI$2,\"Year\")+$E50<=$E$1,AG50+$E50,0),IF(AJ$2=\"Repair %\",IF(AG50>0,$C50,0),IF(AJ$2=\"Spares %\",IF(IF(AG50>0,$C50,0)*100>50%,50%,IF(AG50>0,$C50,0)*100),0))))","v":0},{"$f":"IF(AJ50=0,0,IF(AK$2=\"Year\",IF(_xlfn.MAXIFS($N50:AJ50,$N$2:AJ$2,\"Year\")+$E50<=$E$1,AH50+$E50,0),IF(AK$2=\"Repair %\",IF(AH50>0,$C50,0),IF(AK$2=\"Spares %\",IF(IF(AF50>0,$C50,0)*5>80%,50%,IF(AF50>0,$C50,0)*5),0))))","v":0},{"$f":"IF(AK50=0,0,IF(AL$2=\"Year\",IF(_xlfn.MAXIFS($N50:AK50,$N$2:AK$2,\"Year\")+$E50<=$E$1,AI50+$E50,0),IF(AL$2=\"Repair %\",IF(AI50>0,$C$3,0),IF(AL$2=\"Spares %\",IF(IF(AI50>0,$C50,0)*100>50%,50%,IF(AI50>0,$C50,0)*100),0))))","v":0},{"$f":"IF(AL50=0,0,IF(AM$2=\"Year\",IF(_xlfn.MAXIFS($N50:AL50,$N$2:AL$2,\"Year\")+$E50<=$E$1,AJ50+$E50,0),IF(AM$2=\"Repair %\",IF(AJ50>0,$C50,0),IF(AM$2=\"Spares %\",IF(IF(AJ50>0,$C50,0)*100>50%,50%,IF(AJ50>0,$C50,0)*100),0))))","v":0},{"$f":"IF(AM50=0,0,IF(AN$2=\"Year\",IF(_xlfn.MAXIFS($N50:AM50,$N$2:AM$2,\"Year\")+$E50<=$E$1,AK50+$E50,0),IF(AN$2=\"Repair %\",IF(AK50>0,$C50,0),IF(AN$2=\"Spares %\",IF(IF(AI50>0,$C50,0)*5>80%,50%,IF(AI50>0,$C50,0)*5),0))))","v":0},{"$f":"IF(AN50=0,0,IF(AO$2=\"Year\",IF(_xlfn.MAXIFS($N50:AN50,$N$2:AN$2,\"Year\")+$E50<=$E$1,AL50+$E50,0),IF(AO$2=\"Repair %\",IF(AL50>0,$C$3,0),IF(AO$2=\"Spares %\",IF(IF(AL50>0,$C50,0)*100>50%,50%,IF(AL50>0,$C50,0)*100),0))))","v":0},{"$f":"IF(AO50=0,0,IF(AP$2=\"Year\",IF(_xlfn.MAXIFS($N50:AO50,$N$2:AO$2,\"Year\")+$E50<=$E$1,AM50+$E50,0),IF(AP$2=\"Repair %\",IF(AM50>0,$C50,0),IF(AP$2=\"Spares %\",IF(IF(AM50>0,$C50,0)*100>50%,50%,IF(AM50>0,$C50,0)*100),0))))","v":0},{"$f":"IF(AP50=0,0,IF(AQ$2=\"Year\",IF(_xlfn.MAXIFS($N50:AP50,$N$2:AP$2,\"Year\")+$E50<=$E$1,AN50+$E50,0),IF(AQ$2=\"Repair %\",IF(AN50>0,$C50,0),IF(AQ$2=\"Spares %\",IF(IF(AL50>0,$C50,0)*5>80%,50%,IF(AL50>0,$C50,0)*5),0))))","v":0}]
[{"$f":"INDEX('Avionics ID'!A:E,MATCH(B51,'Avionics ID'!E:E,0),1)","v":714},"Data Base loader",6.6666666666666666E-2,0.06,15,"Obsolecence",{"$f":"SUBSTITUTE(ADDRESS(1,MATCH(A51,'Pt1-AvionicsComponentCosts'!$A$6:$NC$6,0)+1),\"$1\",\"\")","v":"$CN"},{"$f":"_xlfn.TEXTJOIN(\", \",TRUE,_xlfn.UNIQUE(_xlfn._xlws.SORT(_xlfn._xlws.FILTER('Pt1-AvionicsComponentCosts'!$NF$12:$NF$384,ISNUMBER(INDIRECT(\"'Pt1-AvionicsComponentCosts'!\"&G51&\"$12:\"&G51&\"$384\"))))))","v":"A220, A300, A320, A321, A330, A340, A350, A380, ATR, B717, B737, B747, B757, B767, B777, B787, C919, EMB Regional, MC-21, MD-11, Mil Transport, Military Jet, NSA"},null,0.06,7.0000000000000007E-2,0.68300000000000005,1.931,{"$f":"COUNTIF($N$2:N$2,\"Year\")*$G$1","v":10},null,0.5,{"$f":"COUNTIF($N$2:Q$2,\"Year\")*$G$1","v":20},{"$f":"IF(Q51=0,0,IF(R$2=\"Year\",IF(_xlfn.MAXIFS($N51:Q51,$N$2:Q$2,\"Year\")+$E51<=$E$1,O51+$E51,0),IF(R$2=\"Repair %\",IF(O51>0,$C51,0),IF(R$2=\"Spares %\",IF(IF(O51>0,$C51,0)*100>50%,50%,IF(O51>0,$C51,0)*100),0))))","v":0},0.5,{"$f":"COUNTIF($N$2:T$2,\"Year\")*$G$1","v":30},{"$f":"IF(T51=0,0,IF(U$2=\"Year\",IF(_xlfn.MAXIFS($N51:T51,$N$2:T$2,\"Year\")+$E51<=$E$1,R51+$E51,0),IF(U$2=\"Repair %\",IF(R51>0,$C51,0),IF(U$2=\"Spares %\",IF(IF(R51>0,$C51,0)*100>50%,50%,IF(R51>0,$C51,0)*100),0))))","v":0},1,{"$f":"COUNTIF($N$2:W$2,\"Year\")*$G$1","v":40},{"$f":"IF(W51=0,0,IF(X$2=\"Year\",IF(_xlfn.MAXIFS($N51:W51,$N$2:W$2,\"Year\")+$E51<=$E$1,U51+$E51,0),IF(X$2=\"Repair %\",IF(U51>0,$C51,0),IF(X$2=\"Spares %\",IF(IF(U51>0,$C51,0)*100>50%,50%,IF(U51>0,$C51,0)*100),0))))","v":0},0.5,{"$f":"IF(Y51=0,0,IF(Z$2=\"Year\",IF(_xlfn.MAXIFS($N51:Y51,$N$2:Y$2,\"Year\")+$E51<=$E$1,W51+$E51,0),IF(Z$2=\"Repair %\",IF(W51>0,$C$3,0),IF(Z$2=\"Spares %\",IF(IF(W51>0,$C51,0)*100>50%,50%,IF(W51>0,$C51,0)*100),0))))","v":0},{"$f":"IF(Z51=0,0,IF(AA$2=\"Year\",IF(_xlfn.MAXIFS($N51:Z51,$N$2:Z$2,\"Year\")+$E51<=$E$1,X51+$E51,0),IF(AA$2=\"Repair %\",IF(X51>0,$C51,0),IF(AA$2=\"Spares %\",IF(IF(X51>0,$C51,0)*100>50%,50%,IF(X51>0,$C51,0)*100),0))))","v":0},{"$f":"IF(AA51=0,0,IF(AB$2=\"Year\",IF(_xlfn.MAXIFS($N51:AA51,$N$2:AA$2,\"Year\")+$E51<=$E$1,Y51+$E51,0),IF(AB$2=\"Repair %\",IF(Y51>0,$C51,0),IF(AB$2=\"Spares %\",IF(IF(W51>0,$C51,0)*5>80%,50%,IF(W51>0,$C51,0)*5),0))))","v":0},{"$f":"IF(AB51=0,0,IF(AC$2=\"Year\",IF(_xlfn.MAXIFS($N51:AB51,$N$2:AB$2,\"Year\")+$E51<=$E$1,Z51+$E51,0),IF(AC$2=\"Repair %\",IF(Z51>0,$C$3,0),IF(AC$2=\"Spares %\",IF(IF(Z51>0,$C51,0)*100>50%,50%,IF(Z51>0,$C51,0)*100),0))))","v":0},{"$f":"IF(AC51=0,0,IF(AD$2=\"Year\",IF(_xlfn.MAXIFS($N51:AC51,$N$2:AC$2,\"Year\")+$E51<=$E$1,AA51+$E51,0),IF(AD$2=\"Repair %\",IF(AA51>0,$C51,0),IF(AD$2=\"Spares %\",IF(IF(AA51>0,$C51,0)*100>50%,50%,IF(AA51>0,$C51,0)*100),0))))","v":0},{"$f":"IF(AD51=0,0,IF(AE$2=\"Year\",IF(_xlfn.MAXIFS($N51:AD51,$N$2:AD$2,\"Year\")+$E51<=$E$1,AB51+$E51,0),IF(AE$2=\"Repair %\",IF(AB51>0,$C51,0),IF(AE$2=\"Spares %\",IF(IF(Z51>0,$C51,0)*5>80%,50%,IF(Z51>0,$C51,0)*5),0))))","v":0},{"$f":"IF(AE51=0,0,IF(AF$2=\"Year\",IF(_xlfn.MAXIFS($N51:AE51,$N$2:AE$2,\"Year\")+$E51<=$E$1,AC51+$E51,0),IF(AF$2=\"Repair %\",IF(AC51>0,$C$3,0),IF(AF$2=\"Spares %\",IF(IF(AC51>0,$C51,0)*100>50%,50%,IF(AC51>0,$C51,0)*100),0))))","v":0},{"$f":"IF(AF51=0,0,IF(AG$2=\"Year\",IF(_xlfn.MAXIFS($N51:AF51,$N$2:AF$2,\"Year\")+$E51<=$E$1,AD51+$E51,0),IF(AG$2=\"Repair %\",IF(AD51>0,$C51,0),IF(AG$2=\"Spares %\",IF(IF(AD51>0,$C51,0)*100>50%,50%,IF(AD51>0,$C51,0)*100),0))))","v":0},{"$f":"IF(AG51=0,0,IF(AH$2=\"Year\",IF(_xlfn.MAXIFS($N51:AG51,$N$2:AG$2,\"Year\")+$E51<=$E$1,AE51+$E51,0),IF(AH$2=\"Repair %\",IF(AE51>0,$C51,0),IF(AH$2=\"Spares %\",IF(IF(AC51>0,$C51,0)*5>80%,50%,IF(AC51>0,$C51,0)*5),0))))","v":0},{"$f":"IF(AH51=0,0,IF(AI$2=\"Year\",IF(_xlfn.MAXIFS($N51:AH51,$N$2:AH$2,\"Year\")+$E51<=$E$1,AF51+$E51,0),IF(AI$2=\"Repair %\",IF(AF51>0,$C$3,0),IF(AI$2=\"Spares %\",IF(IF(AF51>0,$C51,0)*100>50%,50%,IF(AF51>0,$C51,0)*100),0))))","v":0},{"$f":"IF(AI51=0,0,IF(AJ$2=\"Year\",IF(_xlfn.MAXIFS($N51:AI51,$N$2:AI$2,\"Year\")+$E51<=$E$1,AG51+$E51,0),IF(AJ$2=\"Repair %\",IF(AG51>0,$C51,0),IF(AJ$2=\"Spares %\",IF(IF(AG51>0,$C51,0)*100>50%,50%,IF(AG51>0,$C51,0)*100),0))))","v":0},{"$f":"IF(AJ51=0,0,IF(AK$2=\"Year\",IF(_xlfn.MAXIFS($N51:AJ51,$N$2:AJ$2,\"Year\")+$E51<=$E$1,AH51+$E51,0),IF(AK$2=\"Repair %\",IF(AH51>0,$C51,0),IF(AK$2=\"Spares %\",IF(IF(AF51>0,$C51,0)*5>80%,50%,IF(AF51>0,$C51,0)*5),0))))","v":0},{"$f":"IF(AK51=0,0,IF(AL$2=\"Year\",IF(_xlfn.MAXIFS($N51:AK51,$N$2:AK$2,\"Year\")+$E51<=$E$1,AI51+$E51,0),IF(AL$2=\"Repair %\",IF(AI51>0,$C$3,0),IF(AL$2=\"Spares %\",IF(IF(AI51>0,$C51,0)*100>50%,50%,IF(AI51>0,$C51,0)*100),0))))","v":0},{"$f":"IF(AL51=0,0,IF(AM$2=\"Year\",IF(_xlfn.MAXIFS($N51:AL51,$N$2:AL$2,\"Year\")+$E51<=$E$1,AJ51+$E51,0),IF(AM$2=\"Repair %\",IF(AJ51>0,$C51,0),IF(AM$2=\"Spares %\",IF(IF(AJ51>0,$C51,0)*100>50%,50%,IF(AJ51>0,$C51,0)*100),0))))","v":0},{"$f":"IF(AM51=0,0,IF(AN$2=\"Year\",IF(_xlfn.MAXIFS($N51:AM51,$N$2:AM$2,\"Year\")+$E51<=$E$1,AK51+$E51,0),IF(AN$2=\"Repair %\",IF(AK51>0,$C51,0),IF(AN$2=\"Spares %\",IF(IF(AI51>0,$C51,0)*5>80%,50%,IF(AI51>0,$C51,0)*5),0))))","v":0},{"$f":"IF(AN51=0,0,IF(AO$2=\"Year\",IF(_xlfn.MAXIFS($N51:AN51,$N$2:AN$2,\"Year\")+$E51<=$E$1,AL51+$E51,0),IF(AO$2=\"Repair %\",IF(AL51>0,$C$3,0),IF(AO$2=\"Spares %\",IF(IF(AL51>0,$C51,0)*100>50%,50%,IF(AL51>0,$C51,0)*100),0))))","v":0},{"$f":"IF(AO51=0,0,IF(AP$2=\"Year\",IF(_xlfn.MAXIFS($N51:AO51,$N$2:AO$2,\"Year\")+$E51<=$E$1,AM51+$E51,0),IF(AP$2=\"Repair %\",IF(AM51>0,$C51,0),IF(AP$2=\"Spares %\",IF(IF(AM51>0,$C51,0)*100>50%,50%,IF(AM51>0,$C51,0)*100),0))))","v":0},{"$f":"IF(AP51=0,0,IF(AQ$2=\"Year\",IF(_xlfn.MAXIFS($N51:AP51,$N$2:AP$2,\"Year\")+$E51<=$E$1,AN51+$E51,0),IF(AQ$2=\"Repair %\",IF(AN51>0,$C51,0),IF(AQ$2=\"Spares %\",IF(IF(AL51>0,$C51,0)*5>80%,50%,IF(AL51>0,$C51,0)*5),0))))","v":0}]
[{"$f":"INDEX('Avionics ID'!A:E,MATCH(B52,'Avionics ID'!E:E,0),1)","v":771},"Data Management Unit",0,0.06,null,"",{"$f":"SUBSTITUTE(ADDRESS(1,MATCH(A52,'Pt1-AvionicsComponentCosts'!$A$6:$NC$6,0)+1),\"$1\",\"\")","v":"$CP"},{"$f":"_xlfn.TEXTJOIN(\", \",TRUE,_xlfn.UNIQUE(_xlfn._xlws.SORT(_xlfn._xlws.FILTER('Pt1-AvionicsComponentCosts'!$NF$12:$NF$384,ISNUMBER(INDIRECT(\"'Pt1-AvionicsComponentCosts'!\"&G52&\"$12:\"&G52&\"$384\"))))))","v":"A300, A320, A330, A340, A350, A380, B747, B767, B777, Challenger, Citation, E550, EMB Bizjet, Falcon, Global, Gulfstream, Hawker, Hondajet, Learjet, MD-11, Nextant 400XT, PC-24, Phenom, Praetor, SF50, UAV"},null,0.06,0,0.68300000000000005,1.931,{"$f":"COUNTIF($N$2:N$2,\"Year\")*$G$1","v":10},null,0,{"$f":"COUNTIF($N$2:Q$2,\"Year\")*$G$1","v":20},{"$f":"IF(Q52=0,0,IF(R$2=\"Year\",IF(_xlfn.MAXIFS($N52:Q52,$N$2:Q$2,\"Year\")+$E52<=$E$1,O52+$E52,0),IF(R$2=\"Repair %\",IF(O52>0,$C52,0),IF(R$2=\"Spares %\",IF(IF(O52>0,$C52,0)*100>50%,50%,IF(O52>0,$C52,0)*100),0))))","v":0},0,{"$f":"COUNTIF($N$2:T$2,\"Year\")*$G$1","v":30},{"$f":"IF(T52=0,0,IF(U$2=\"Year\",IF(_xlfn.MAXIFS($N52:T52,$N$2:T$2,\"Year\")+$E52<=$E$1,R52+$E52,0),IF(U$2=\"Repair %\",IF(R52>0,$C52,0),IF(U$2=\"Spares %\",IF(IF(R52>0,$C52,0)*100>50%,50%,IF(R52>0,$C52,0)*100),0))))","v":0},0,{"$f":"COUNTIF($N$2:W$2,\"Year\")*$G$1","v":40},{"$f":"IF(W52=0,0,IF(X$2=\"Year\",IF(_xlfn.MAXIFS($N52:W52,$N$2:W$2,\"Year\")+$E52<=$E$1,U52+$E52,0),IF(X$2=\"Repair %\",IF(U52>0,$C52,0),IF(X$2=\"Spares %\",IF(IF(U52>0,$C52,0)*100>50%,50%,IF(U52>0,$C52,0)*100),0))))","v":0},0,{"$f":"IF(Y52=0,0,IF(Z$2=\"Year\",IF(_xlfn.MAXIFS($N52:Y52,$N$2:Y$2,\"Year\")+$E52<=$E$1,W52+$E52,0),IF(Z$2=\"Repair %\",IF(W52>0,$C$3,0),IF(Z$2=\"Spares %\",IF(IF(W52>0,$C52,0)*100>50%,50%,IF(W52>0,$C52,0)*100),0))))","v":0},{"$f":"IF(Z52=0,0,IF(AA$2=\"Year\",IF(_xlfn.MAXIFS($N52:Z52,$N$2:Z$2,\"Year\")+$E52<=$E$1,X52+$E52,0),IF(AA$2=\"Repair %\",IF(X52>0,$C52,0),IF(AA$2=\"Spares %\",IF(IF(X52>0,$C52,0)*100>50%,50%,IF(X52>0,$C52,0)*100),0))))","v":0},{"$f":"IF(AA52=0,0,IF(AB$2=\"Year\",IF(_xlfn.MAXIFS($N52:AA52,$N$2:AA$2,\"Year\")+$E52<=$E$1,Y52+$E52,0),IF(AB$2=\"Repair %\",IF(Y52>0,$C52,0),IF(AB$2=\"Spares %\",IF(IF(W52>0,$C52,0)*5>80%,50%,IF(W52>0,$C52,0)*5),0))))","v":0},{"$f":"IF(AB52=0,0,IF(AC$2=\"Year\",IF(_xlfn.MAXIFS($N52:AB52,$N$2:AB$2,\"Year\")+$E52<=$E$1,Z52+$E52,0),IF(AC$2=\"Repair %\",IF(Z52>0,$C$3,0),IF(AC$2=\"Spares %\",IF(IF(Z52>0,$C52,0)*100>50%,50%,IF(Z52>0,$C52,0)*100),0))))","v":0},{"$f":"IF(AC52=0,0,IF(AD$2=\"Year\",IF(_xlfn.MAXIFS($N52:AC52,$N$2:AC$2,\"Year\")+$E52<=$E$1,AA52+$E52,0),IF(AD$2=\"Repair %\",IF(AA52>0,$C52,0),IF(AD$2=\"Spares %\",IF(IF(AA52>0,$C52,0)*100>50%,50%,IF(AA52>0,$C52,0)*100),0))))","v":0},{"$f":"IF(AD52=0,0,IF(AE$2=\"Year\",IF(_xlfn.MAXIFS($N52:AD52,$N$2:AD$2,\"Year\")+$E52<=$E$1,AB52+$E52,0),IF(AE$2=\"Repair %\",IF(AB52>0,$C52,0),IF(AE$2=\"Spares %\",IF(IF(Z52>0,$C52,0)*5>80%,50%,IF(Z52>0,$C52,0)*5),0))))","v":0},{"$f":"IF(AE52=0,0,IF(AF$2=\"Year\",IF(_xlfn.MAXIFS($N52:AE52,$N$2:AE$2,\"Year\")+$E52<=$E$1,AC52+$E52,0),IF(AF$2=\"Repair %\",IF(AC52>0,$C$3,0),IF(AF$2=\"Spares %\",IF(IF(AC52>0,$C52,0)*100>50%,50%,IF(AC52>0,$C52,0)*100),0))))","v":0},{"$f":"IF(AF52=0,0,IF(AG$2=\"Year\",IF(_xlfn.MAXIFS($N52:AF52,$N$2:AF$2,\"Year\")+$E52<=$E$1,AD52+$E52,0),IF(AG$2=\"Repair %\",IF(AD52>0,$C52,0),IF(AG$2=\"Spares %\",IF(IF(AD52>0,$C52,0)*100>50%,50%,IF(AD52>0,$C52,0)*100),0))))","v":0},{"$f":"IF(AG52=0,0,IF(AH$2=\"Year\",IF(_xlfn.MAXIFS($N52:AG52,$N$2:AG$2,\"Year\")+$E52<=$E$1,AE52+$E52,0),IF(AH$2=\"Repair %\",IF(AE52>0,$C52,0),IF(AH$2=\"Spares %\",IF(IF(AC52>0,$C52,0)*5>80%,50%,IF(AC52>0,$C52,0)*5),0))))","v":0},{"$f":"IF(AH52=0,0,IF(AI$2=\"Year\",IF(_xlfn.MAXIFS($N52:AH52,$N$2:AH$2,\"Year\")+$E52<=$E$1,AF52+$E52,0),IF(AI$2=\"Repair %\",IF(AF52>0,$C$3,0),IF(AI$2=\"Spares %\",IF(IF(AF52>0,$C52,0)*100>50%,50%,IF(AF52>0,$C52,0)*100),0))))","v":0},{"$f":"IF(AI52=0,0,IF(AJ$2=\"Year\",IF(_xlfn.MAXIFS($N52:AI52,$N$2:AI$2,\"Year\")+$E52<=$E$1,AG52+$E52,0),IF(AJ$2=\"Repair %\",IF(AG52>0,$C52,0),IF(AJ$2=\"Spares %\",IF(IF(AG52>0,$C52,0)*100>50%,50%,IF(AG52>0,$C52,0)*100),0))))","v":0},{"$f":"IF(AJ52=0,0,IF(AK$2=\"Year\",IF(_xlfn.MAXIFS($N52:AJ52,$N$2:AJ$2,\"Year\")+$E52<=$E$1,AH52+$E52,0),IF(AK$2=\"Repair %\",IF(AH52>0,$C52,0),IF(AK$2=\"Spares %\",IF(IF(AF52>0,$C52,0)*5>80%,50%,IF(AF52>0,$C52,0)*5),0))))","v":0},{"$f":"IF(AK52=0,0,IF(AL$2=\"Year\",IF(_xlfn.MAXIFS($N52:AK52,$N$2:AK$2,\"Year\")+$E52<=$E$1,AI52+$E52,0),IF(AL$2=\"Repair %\",IF(AI52>0,$C$3,0),IF(AL$2=\"Spares %\",IF(IF(AI52>0,$C52,0)*100>50%,50%,IF(AI52>0,$C52,0)*100),0))))","v":0},{"$f":"IF(AL52=0,0,IF(AM$2=\"Year\",IF(_xlfn.MAXIFS($N52:AL52,$N$2:AL$2,\"Year\")+$E52<=$E$1,AJ52+$E52,0),IF(AM$2=\"Repair %\",IF(AJ52>0,$C52,0),IF(AM$2=\"Spares %\",IF(IF(AJ52>0,$C52,0)*100>50%,50%,IF(AJ52>0,$C52,0)*100),0))))","v":0},{"$f":"IF(AM52=0,0,IF(AN$2=\"Year\",IF(_xlfn.MAXIFS($N52:AM52,$N$2:AM$2,\"Year\")+$E52<=$E$1,AK52+$E52,0),IF(AN$2=\"Repair %\",IF(AK52>0,$C52,0),IF(AN$2=\"Spares %\",IF(IF(AI52>0,$C52,0)*5>80%,50%,IF(AI52>0,$C52,0)*5),0))))","v":0},{"$f":"IF(AN52=0,0,IF(AO$2=\"Year\",IF(_xlfn.MAXIFS($N52:AN52,$N$2:AN$2,\"Year\")+$E52<=$E$1,AL52+$E52,0),IF(AO$2=\"Repair %\",IF(AL52>0,$C$3,0),IF(AO$2=\"Spares %\",IF(IF(AL52>0,$C52,0)*100>50%,50%,IF(AL52>0,$C52,0)*100),0))))","v":0},{"$f":"IF(AO52=0,0,IF(AP$2=\"Year\",IF(_xlfn.MAXIFS($N52:AO52,$N$2:AO$2,\"Year\")+$E52<=$E$1,AM52+$E52,0),IF(AP$2=\"Repair %\",IF(AM52>0,$C52,0),IF(AP$2=\"Spares %\",IF(IF(AM52>0,$C52,0)*100>50%,50%,IF(AM52>0,$C52,0)*100),0))))","v":0},{"$f":"IF(AP52=0,0,IF(AQ$2=\"Year\",IF(_xlfn.MAXIFS($N52:AP52,$N$2:AP$2,\"Year\")+$E52<=$E$1,AN52+$E52,0),IF(AQ$2=\"Repair %\",IF(AN52>0,$C52,0),IF(AQ$2=\"Spares %\",IF(IF(AL52>0,$C52,0)*5>80%,50%,IF(AL52>0,$C52,0)*5),0))))","v":0}]
[{"$f":"INDEX('Avionics ID'!A:E,MATCH(B53,'Avionics ID'!E:E,0),1)","v":861},"Data Transfer module",0.05,0.06,20,"Obsolecence",{"$f":"SUBSTITUTE(ADDRESS(1,MATCH(A53,'Pt1-AvionicsComponentCosts'!$A$6:$NC$6,0)+1),\"$1\",\"\")","v":"$HX"},{"$f":"_xlfn.TEXTJOIN(\", \",TRUE,_xlfn.UNIQUE(_xlfn._xlws.SORT(_xlfn._xlws.FILTER('Pt1-AvionicsComponentCosts'!$NF$12:$NF$384,ISNUMBER(INDIRECT(\"'Pt1-AvionicsComponentCosts'!\"&G53&\"$12:\"&G53&\"$384\"))))))","v":"Attack Helo, Helo"},null,0.06,0.05,0.36,1.87,{"$f":"COUNTIF($N$2:N$2,\"Year\")*$G$1","v":10},null,0,{"$f":"COUNTIF($N$2:Q$2,\"Year\")*$G$1","v":20},{"$f":"IF(Q53=0,0,IF(R$2=\"Year\",IF(_xlfn.MAXIFS($N53:Q53,$N$2:Q$2,\"Year\")+$E53<=$E$1,O53+$E53,0),IF(R$2=\"Repair %\",IF(O53>0,$C53,0),IF(R$2=\"Spares %\",IF(IF(O53>0,$C53,0)*100>50%,50%,IF(O53>0,$C53,0)*100),0))))","v":0},1,{"$f":"COUNTIF($N$2:T$2,\"Year\")*$G$1","v":30},{"$f":"IF(T53=0,0,IF(U$2=\"Year\",IF(_xlfn.MAXIFS($N53:T53,$N$2:T$2,\"Year\")+$E53<=$E$1,R53+$E53,0),IF(U$2=\"Repair %\",IF(R53>0,$C53,0),IF(U$2=\"Spares %\",IF(IF(R53>0,$C53,0)*100>50%,50%,IF(R53>0,$C53,0)*100),0))))","v":0},0,{"$f":"COUNTIF($N$2:W$2,\"Year\")*$G$1","v":40},{"$f":"IF(W53=0,0,IF(X$2=\"Year\",IF(_xlfn.MAXIFS($N53:W53,$N$2:W$2,\"Year\")+$E53<=$E$1,U53+$E53,0),IF(X$2=\"Repair %\",IF(U53>0,$C53,0),IF(X$2=\"Spares %\",IF(IF(U53>0,$C53,0)*100>50%,50%,IF(U53>0,$C53,0)*100),0))))","v":0},1,{"$f":"IF(Y53=0,0,IF(Z$2=\"Year\",IF(_xlfn.MAXIFS($N53:Y53,$N$2:Y$2,\"Year\")+$E53<=$E$1,W53+$E53,0),IF(Z$2=\"Repair %\",IF(W53>0,$C$3,0),IF(Z$2=\"Spares %\",IF(IF(W53>0,$C53,0)*100>50%,50%,IF(W53>0,$C53,0)*100),0))))","v":0},{"$f":"IF(Z53=0,0,IF(AA$2=\"Year\",IF(_xlfn.MAXIFS($N53:Z53,$N$2:Z$2,\"Year\")+$E53<=$E$1,X53+$E53,0),IF(AA$2=\"Repair %\",IF(X53>0,$C53,0),IF(AA$2=\"Spares %\",IF(IF(X53>0,$C53,0)*100>50%,50%,IF(X53>0,$C53,0)*100),0))))","v":0},{"$f":"IF(AA53=0,0,IF(AB$2=\"Year\",IF(_xlfn.MAXIFS($N53:AA53,$N$2:AA$2,\"Year\")+$E53<=$E$1,Y53+$E53,0),IF(AB$2=\"Repair %\",IF(Y53>0,$C53,0),IF(AB$2=\"Spares %\",IF(IF(W53>0,$C53,0)*5>80%,50%,IF(W53>0,$C53,0)*5),0))))","v":0},{"$f":"IF(AB53=0,0,IF(AC$2=\"Year\",IF(_xlfn.MAXIFS($N53:AB53,$N$2:AB$2,\"Year\")+$E53<=$E$1,Z53+$E53,0),IF(AC$2=\"Repair %\",IF(Z53>0,$C$3,0),IF(AC$2=\"Spares %\",IF(IF(Z53>0,$C53,0)*100>50%,50%,IF(Z53>0,$C53,0)*100),0))))","v":0},{"$f":"IF(AC53=0,0,IF(AD$2=\"Year\",IF(_xlfn.MAXIFS($N53:AC53,$N$2:AC$2,\"Year\")+$E53<=$E$1,AA53+$E53,0),IF(AD$2=\"Repair %\",IF(AA53>0,$C53,0),IF(AD$2=\"Spares %\",IF(IF(AA53>0,$C53,0)*100>50%,50%,IF(AA53>0,$C53,0)*100),0))))","v":0},{"$f":"IF(AD53=0,0,IF(AE$2=\"Year\",IF(_xlfn.MAXIFS($N53:AD53,$N$2:AD$2,\"Year\")+$E53<=$E$1,AB53+$E53,0),IF(AE$2=\"Repair %\",IF(AB53>0,$C53,0),IF(AE$2=\"Spares %\",IF(IF(Z53>0,$C53,0)*5>80%,50%,IF(Z53>0,$C53,0)*5),0))))","v":0},{"$f":"IF(AE53=0,0,IF(AF$2=\"Year\",IF(_xlfn.MAXIFS($N53:AE53,$N$2:AE$2,\"Year\")+$E53<=$E$1,AC53+$E53,0),IF(AF$2=\"Repair %\",IF(AC53>0,$C$3,0),IF(AF$2=\"Spares %\",IF(IF(AC53>0,$C53,0)*100>50%,50%,IF(AC53>0,$C53,0)*100),0))))","v":0},{"$f":"IF(AF53=0,0,IF(AG$2=\"Year\",IF(_xlfn.MAXIFS($N53:AF53,$N$2:AF$2,\"Year\")+$E53<=$E$1,AD53+$E53,0),IF(AG$2=\"Repair %\",IF(AD53>0,$C53,0),IF(AG$2=\"Spares %\",IF(IF(AD53>0,$C53,0)*100>50%,50%,IF(AD53>0,$C53,0)*100),0))))","v":0},{"$f":"IF(AG53=0,0,IF(AH$2=\"Year\",IF(_xlfn.MAXIFS($N53:AG53,$N$2:AG$2,\"Year\")+$E53<=$E$1,AE53+$E53,0),IF(AH$2=\"Repair %\",IF(AE53>0,$C53,0),IF(AH$2=\"Spares %\",IF(IF(AC53>0,$C53,0)*5>80%,50%,IF(AC53>0,$C53,0)*5),0))))","v":0},{"$f":"IF(AH53=0,0,IF(AI$2=\"Year\",IF(_xlfn.MAXIFS($N53:AH53,$N$2:AH$2,\"Year\")+$E53<=$E$1,AF53+$E53,0),IF(AI$2=\"Repair %\",IF(AF53>0,$C$3,0),IF(AI$2=\"Spares %\",IF(IF(AF53>0,$C53,0)*100>50%,50%,IF(AF53>0,$C53,0)*100),0))))","v":0},{"$f":"IF(AI53=0,0,IF(AJ$2=\"Year\",IF(_xlfn.MAXIFS($N53:AI53,$N$2:AI$2,\"Year\")+$E53<=$E$1,AG53+$E53,0),IF(AJ$2=\"Repair %\",IF(AG53>0,$C53,0),IF(AJ$2=\"Spares %\",IF(IF(AG53>0,$C53,0)*100>50%,50%,IF(AG53>0,$C53,0)*100),0))))","v":0},{"$f":"IF(AJ53=0,0,IF(AK$2=\"Year\",IF(_xlfn.MAXIFS($N53:AJ53,$N$2:AJ$2,\"Year\")+$E53<=$E$1,AH53+$E53,0),IF(AK$2=\"Repair %\",IF(AH53>0,$C53,0),IF(AK$2=\"Spares %\",IF(IF(AF53>0,$C53,0)*5>80%,50%,IF(AF53>0,$C53,0)*5),0))))","v":0},{"$f":"IF(AK53=0,0,IF(AL$2=\"Year\",IF(_xlfn.MAXIFS($N53:AK53,$N$2:AK$2,\"Year\")+$E53<=$E$1,AI53+$E53,0),IF(AL$2=\"Repair %\",IF(AI53>0,$C$3,0),IF(AL$2=\"Spares %\",IF(IF(AI53>0,$C53,0)*100>50%,50%,IF(AI53>0,$C53,0)*100),0))))","v":0},{"$f":"IF(AL53=0,0,IF(AM$2=\"Year\",IF(_xlfn.MAXIFS($N53:AL53,$N$2:AL$2,\"Year\")+$E53<=$E$1,AJ53+$E53,0),IF(AM$2=\"Repair %\",IF(AJ53>0,$C53,0),IF(AM$2=\"Spares %\",IF(IF(AJ53>0,$C53,0)*100>50%,50%,IF(AJ53>0,$C53,0)*100),0))))","v":0},{"$f":"IF(AM53=0,0,IF(AN$2=\"Year\",IF(_xlfn.MAXIFS($N53:AM53,$N$2:AM$2,\"Year\")+$E53<=$E$1,AK53+$E53,0),IF(AN$2=\"Repair %\",IF(AK53>0,$C53,0),IF(AN$2=\"Spares %\",IF(IF(AI53>0,$C53,0)*5>80%,50%,IF(AI53>0,$C53,0)*5),0))))","v":0},{"$f":"IF(AN53=0,0,IF(AO$2=\"Year\",IF(_xlfn.MAXIFS($N53:AN53,$N$2:AN$2,\"Year\")+$E53<=$E$1,AL53+$E53,0),IF(AO$2=\"Repair %\",IF(AL53>0,$C$3,0),IF(AO$2=\"Spares %\",IF(IF(AL53>0,$C53,0)*100>50%,50%,IF(AL53>0,$C53,0)*100),0))))","v":0},{"$f":"IF(AO53=0,0,IF(AP$2=\"Year\",IF(_xlfn.MAXIFS($N53:AO53,$N$2:AO$2,\"Year\")+$E53<=$E$1,AM53+$E53,0),IF(AP$2=\"Repair %\",IF(AM53>0,$C53,0),IF(AP$2=\"Spares %\",IF(IF(AM53>0,$C53,0)*100>50%,50%,IF(AM53>0,$C53,0)*100),0))))","v":0},{"$f":"IF(AP53=0,0,IF(AQ$2=\"Year\",IF(_xlfn.MAXIFS($N53:AP53,$N$2:AP$2,\"Year\")+$E53<=$E$1,AN53+$E53,0),IF(AQ$2=\"Repair %\",IF(AN53>0,$C53,0),IF(AQ$2=\"Spares %\",IF(IF(AL53>0,$C53,0)*5>80%,50%,IF(AL53>0,$C53,0)*5),0))))","v":0}]
[{"$f":"INDEX('Avionics ID'!A:E,MATCH(B54,'Avionics ID'!E:E,0),1)","v":767},"Datalink cockpit Display Unit",0.2,0.06,5,"Technology / regulatory",{"$f":"SUBSTITUTE(ADDRESS(1,MATCH(A54,'Pt1-AvionicsComponentCosts'!$A$6:$NC$6,0)+1),\"$1\",\"\")","v":"$ED"},{"$f":"_xlfn.TEXTJOIN(\", \",TRUE,_xlfn.UNIQUE(_xlfn._xlws.SORT(_xlfn._xlws.FILTER('Pt1-AvionicsComponentCosts'!$NF$12:$NF$384,ISNUMBER(INDIRECT(\"'Pt1-AvionicsComponentCosts'!\"&G54&\"$12:\"&G54&\"$384\"))))))","v":"A300, A320, A330, A340, A350, A380, B747, B767, B777, MD-11"},null,0.06,0.2,0.35299999999999998,1.8460000000000001,{"$f":"COUNTIF($N$2:N$2,\"Year\")*$G$1","v":10},null,1,{"$f":"COUNTIF($N$2:Q$2,\"Year\")*$G$1","v":20},{"$f":"IF(Q54=0,0,IF(R$2=\"Year\",IF(_xlfn.MAXIFS($N54:Q54,$N$2:Q$2,\"Year\")+$E54<=$E$1,O54+$E54,0),IF(R$2=\"Repair %\",IF(O54>0,$C54,0),IF(R$2=\"Spares %\",IF(IF(O54>0,$C54,0)*100>50%,50%,IF(O54>0,$C54,0)*100),0))))","v":0},1,{"$f":"COUNTIF($N$2:T$2,\"Year\")*$G$1","v":30},{"$f":"IF(T54=0,0,IF(U$2=\"Year\",IF(_xlfn.MAXIFS($N54:T54,$N$2:T$2,\"Year\")+$E54<=$E$1,R54+$E54,0),IF(U$2=\"Repair %\",IF(R54>0,$C54,0),IF(U$2=\"Spares %\",IF(IF(R54>0,$C54,0)*100>50%,50%,IF(R54>0,$C54,0)*100),0))))","v":0},1,{"$f":"COUNTIF($N$2:W$2,\"Year\")*$G$1","v":40},{"$f":"IF(W54=0,0,IF(X$2=\"Year\",IF(_xlfn.MAXIFS($N54:W54,$N$2:W$2,\"Year\")+$E54<=$E$1,U54+$E54,0),IF(X$2=\"Repair %\",IF(U54>0,$C54,0),IF(X$2=\"Spares %\",IF(IF(U54>0,$C54,0)*100>50%,50%,IF(U54>0,$C54,0)*100),0))))","v":0},1,{"$f":"IF(Y54=0,0,IF(Z$2=\"Year\",IF(_xlfn.MAXIFS($N54:Y54,$N$2:Y$2,\"Year\")+$E54<=$E$1,W54+$E54,0),IF(Z$2=\"Repair %\",IF(W54>0,$C$3,0),IF(Z$2=\"Spares %\",IF(IF(W54>0,$C54,0)*100>50%,50%,IF(W54>0,$C54,0)*100),0))))","v":0},{"$f":"IF(Z54=0,0,IF(AA$2=\"Year\",IF(_xlfn.MAXIFS($N54:Z54,$N$2:Z$2,\"Year\")+$E54<=$E$1,X54+$E54,0),IF(AA$2=\"Repair %\",IF(X54>0,$C54,0),IF(AA$2=\"Spares %\",IF(IF(X54>0,$C54,0)*100>50%,50%,IF(X54>0,$C54,0)*100),0))))","v":0},{"$f":"IF(AA54=0,0,IF(AB$2=\"Year\",IF(_xlfn.MAXIFS($N54:AA54,$N$2:AA$2,\"Year\")+$E54<=$E$1,Y54+$E54,0),IF(AB$2=\"Repair %\",IF(Y54>0,$C54,0),IF(AB$2=\"Spares %\",IF(IF(W54>0,$C54,0)*5>80%,50%,IF(W54>0,$C54,0)*5),0))))","v":0},{"$f":"IF(AB54=0,0,IF(AC$2=\"Year\",IF(_xlfn.MAXIFS($N54:AB54,$N$2:AB$2,\"Year\")+$E54<=$E$1,Z54+$E54,0),IF(AC$2=\"Repair %\",IF(Z54>0,$C$3,0),IF(AC$2=\"Spares %\",IF(IF(Z54>0,$C54,0)*100>50%,50%,IF(Z54>0,$C54,0)*100),0))))","v":0},{"$f":"IF(AC54=0,0,IF(AD$2=\"Year\",IF(_xlfn.MAXIFS($N54:AC54,$N$2:AC$2,\"Year\")+$E54<=$E$1,AA54+$E54,0),IF(AD$2=\"Repair %\",IF(AA54>0,$C54,0),IF(AD$2=\"Spares %\",IF(IF(AA54>0,$C54,0)*100>50%,50%,IF(AA54>0,$C54,0)*100),0))))","v":0},{"$f":"IF(AD54=0,0,IF(AE$2=\"Year\",IF(_xlfn.MAXIFS($N54:AD54,$N$2:AD$2,\"Year\")+$E54<=$E$1,AB54+$E54,0),IF(AE$2=\"Repair %\",IF(AB54>0,$C54,0),IF(AE$2=\"Spares %\",IF(IF(Z54>0,$C54,0)*5>80%,50%,IF(Z54>0,$C54,0)*5),0))))","v":0},{"$f":"IF(AE54=0,0,IF(AF$2=\"Year\",IF(_xlfn.MAXIFS($N54:AE54,$N$2:AE$2,\"Year\")+$E54<=$E$1,AC54+$E54,0),IF(AF$2=\"Repair %\",IF(AC54>0,$C$3,0),IF(AF$2=\"Spares %\",IF(IF(AC54>0,$C54,0)*100>50%,50%,IF(AC54>0,$C54,0)*100),0))))","v":0},{"$f":"IF(AF54=0,0,IF(AG$2=\"Year\",IF(_xlfn.MAXIFS($N54:AF54,$N$2:AF$2,\"Year\")+$E54<=$E$1,AD54+$E54,0),IF(AG$2=\"Repair %\",IF(AD54>0,$C54,0),IF(AG$2=\"Spares %\",IF(IF(AD54>0,$C54,0)*100>50%,50%,IF(AD54>0,$C54,0)*100),0))))","v":0},{"$f":"IF(AG54=0,0,IF(AH$2=\"Year\",IF(_xlfn.MAXIFS($N54:AG54,$N$2:AG$2,\"Year\")+$E54<=$E$1,AE54+$E54,0),IF(AH$2=\"Repair %\",IF(AE54>0,$C54,0),IF(AH$2=\"Spares %\",IF(IF(AC54>0,$C54,0)*5>80%,50%,IF(AC54>0,$C54,0)*5),0))))","v":0},{"$f":"IF(AH54=0,0,IF(AI$2=\"Year\",IF(_xlfn.MAXIFS($N54:AH54,$N$2:AH$2,\"Year\")+$E54<=$E$1,AF54+$E54,0),IF(AI$2=\"Repair %\",IF(AF54>0,$C$3,0),IF(AI$2=\"Spares %\",IF(IF(AF54>0,$C54,0)*100>50%,50%,IF(AF54>0,$C54,0)*100),0))))","v":0},{"$f":"IF(AI54=0,0,IF(AJ$2=\"Year\",IF(_xlfn.MAXIFS($N54:AI54,$N$2:AI$2,\"Year\")+$E54<=$E$1,AG54+$E54,0),IF(AJ$2=\"Repair %\",IF(AG54>0,$C54,0),IF(AJ$2=\"Spares %\",IF(IF(AG54>0,$C54,0)*100>50%,50%,IF(AG54>0,$C54,0)*100),0))))","v":0},{"$f":"IF(AJ54=0,0,IF(AK$2=\"Year\",IF(_xlfn.MAXIFS($N54:AJ54,$N$2:AJ$2,\"Year\")+$E54<=$E$1,AH54+$E54,0),IF(AK$2=\"Repair %\",IF(AH54>0,$C54,0),IF(AK$2=\"Spares %\",IF(IF(AF54>0,$C54,0)*5>80%,50%,IF(AF54>0,$C54,0)*5),0))))","v":0},{"$f":"IF(AK54=0,0,IF(AL$2=\"Year\",IF(_xlfn.MAXIFS($N54:AK54,$N$2:AK$2,\"Year\")+$E54<=$E$1,AI54+$E54,0),IF(AL$2=\"Repair %\",IF(AI54>0,$C$3,0),IF(AL$2=\"Spares %\",IF(IF(AI54>0,$C54,0)*100>50%,50%,IF(AI54>0,$C54,0)*100),0))))","v":0},{"$f":"IF(AL54=0,0,IF(AM$2=\"Year\",IF(_xlfn.MAXIFS($N54:AL54,$N$2:AL$2,\"Year\")+$E54<=$E$1,AJ54+$E54,0),IF(AM$2=\"Repair %\",IF(AJ54>0,$C54,0),IF(AM$2=\"Spares %\",IF(IF(AJ54>0,$C54,0)*100>50%,50%,IF(AJ54>0,$C54,0)*100),0))))","v":0},{"$f":"IF(AM54=0,0,IF(AN$2=\"Year\",IF(_xlfn.MAXIFS($N54:AM54,$N$2:AM$2,\"Year\")+$E54<=$E$1,AK54+$E54,0),IF(AN$2=\"Repair %\",IF(AK54>0,$C54,0),IF(AN$2=\"Spares %\",IF(IF(AI54>0,$C54,0)*5>80%,50%,IF(AI54>0,$C54,0)*5),0))))","v":0},{"$f":"IF(AN54=0,0,IF(AO$2=\"Year\",IF(_xlfn.MAXIFS($N54:AN54,$N$2:AN$2,\"Year\")+$E54<=$E$1,AL54+$E54,0),IF(AO$2=\"Repair %\",IF(AL54>0,$C$3,0),IF(AO$2=\"Spares %\",IF(IF(AL54>0,$C54,0)*100>50%,50%,IF(AL54>0,$C54,0)*100),0))))","v":0},{"$f":"IF(AO54=0,0,IF(AP$2=\"Year\",IF(_xlfn.MAXIFS($N54:AO54,$N$2:AO$2,\"Year\")+$E54<=$E$1,AM54+$E54,0),IF(AP$2=\"Repair %\",IF(AM54>0,$C54,0),IF(AP$2=\"Spares %\",IF(IF(AM54>0,$C54,0)*100>50%,50%,IF(AM54>0,$C54,0)*100),0))))","v":0},{"$f":"IF(AP54=0,0,IF(AQ$2=\"Year\",IF(_xlfn.MAXIFS($N54:AP54,$N$2:AP$2,\"Year\")+$E54<=$E$1,AN54+$E54,0),IF(AQ$2=\"Repair %\",IF(AN54>0,$C54,0),IF(AQ$2=\"Spares %\",IF(IF(AL54>0,$C54,0)*5>80%,50%,IF(AL54>0,$C54,0)*5),0))))","v":0}]
[{"$f":"INDEX('Avionics ID'!A:E,MATCH(B55,'Avionics ID'!E:E,0),1)","v":736},"DDRMI display",0.1,0.06,10,"Obsolecence",{"$f":"SUBSTITUTE(ADDRESS(1,MATCH(A55,'Pt1-AvionicsComponentCosts'!$A$6:$NC$6,0)+1),\"$1\",\"\")","v":"$EF"},{"$f":"_xlfn.TEXTJOIN(\", \",TRUE,_xlfn.UNIQUE(_xlfn._xlws.SORT(_xlfn._xlws.FILTER('Pt1-AvionicsComponentCosts'!$NF$12:$NF$384,ISNUMBER(INDIRECT(\"'Pt1-AvionicsComponentCosts'!\"&G55&\"$12:\"&G55&\"$384\"))))))","v":"A220, A320, A321, ATR, B717, B737, B757, C919, EMB Regional, MC-21, Mil Transport, Military Jet, NSA"},null,0.06,0.1,0.35299999999999998,1.8460000000000001,{"$f":"COUNTIF($N$2:N$2,\"Year\")*$G$1","v":10},null,1,{"$f":"COUNTIF($N$2:Q$2,\"Year\")*$G$1","v":20},{"$f":"IF(Q55=0,0,IF(R$2=\"Year\",IF(_xlfn.MAXIFS($N55:Q55,$N$2:Q$2,\"Year\")+$E55<=$E$1,O55+$E55,0),IF(R$2=\"Repair %\",IF(O55>0,$C55,0),IF(R$2=\"Spares %\",IF(IF(O55>0,$C55,0)*100>50%,50%,IF(O55>0,$C55,0)*100),0))))","v":0},1,{"$f":"COUNTIF($N$2:T$2,\"Year\")*$G$1","v":30},{"$f":"IF(T55=0,0,IF(U$2=\"Year\",IF(_xlfn.MAXIFS($N55:T55,$N$2:T$2,\"Year\")+$E55<=$E$1,R55+$E55,0),IF(U$2=\"Repair %\",IF(R55>0,$C55,0),IF(U$2=\"Spares %\",IF(IF(R55>0,$C55,0)*100>50%,50%,IF(R55>0,$C55,0)*100),0))))","v":0},1,{"$f":"COUNTIF($N$2:W$2,\"Year\")*$G$1","v":40},{"$f":"IF(W55=0,0,IF(X$2=\"Year\",IF(_xlfn.MAXIFS($N55:W55,$N$2:W$2,\"Year\")+$E55<=$E$1,U55+$E55,0),IF(X$2=\"Repair %\",IF(U55>0,$C55,0),IF(X$2=\"Spares %\",IF(IF(U55>0,$C55,0)*100>50%,50%,IF(U55>0,$C55,0)*100),0))))","v":0},1,{"$f":"IF(Y55=0,0,IF(Z$2=\"Year\",IF(_xlfn.MAXIFS($N55:Y55,$N$2:Y$2,\"Year\")+$E55<=$E$1,W55+$E55,0),IF(Z$2=\"Repair %\",IF(W55>0,$C$3,0),IF(Z$2=\"Spares %\",IF(IF(W55>0,$C55,0)*100>50%,50%,IF(W55>0,$C55,0)*100),0))))","v":0},{"$f":"IF(Z55=0,0,IF(AA$2=\"Year\",IF(_xlfn.MAXIFS($N55:Z55,$N$2:Z$2,\"Year\")+$E55<=$E$1,X55+$E55,0),IF(AA$2=\"Repair %\",IF(X55>0,$C55,0),IF(AA$2=\"Spares %\",IF(IF(X55>0,$C55,0)*100>50%,50%,IF(X55>0,$C55,0)*100),0))))","v":0},{"$f":"IF(AA55=0,0,IF(AB$2=\"Year\",IF(_xlfn.MAXIFS($N55:AA55,$N$2:AA$2,\"Year\")+$E55<=$E$1,Y55+$E55,0),IF(AB$2=\"Repair %\",IF(Y55>0,$C55,0),IF(AB$2=\"Spares %\",IF(IF(W55>0,$C55,0)*5>80%,50%,IF(W55>0,$C55,0)*5),0))))","v":0},{"$f":"IF(AB55=0,0,IF(AC$2=\"Year\",IF(_xlfn.MAXIFS($N55:AB55,$N$2:AB$2,\"Year\")+$E55<=$E$1,Z55+$E55,0),IF(AC$2=\"Repair %\",IF(Z55>0,$C$3,0),IF(AC$2=\"Spares %\",IF(IF(Z55>0,$C55,0)*100>50%,50%,IF(Z55>0,$C55,0)*100),0))))","v":0},{"$f":"IF(AC55=0,0,IF(AD$2=\"Year\",IF(_xlfn.MAXIFS($N55:AC55,$N$2:AC$2,\"Year\")+$E55<=$E$1,AA55+$E55,0),IF(AD$2=\"Repair %\",IF(AA55>0,$C55,0),IF(AD$2=\"Spares %\",IF(IF(AA55>0,$C55,0)*100>50%,50%,IF(AA55>0,$C55,0)*100),0))))","v":0},{"$f":"IF(AD55=0,0,IF(AE$2=\"Year\",IF(_xlfn.MAXIFS($N55:AD55,$N$2:AD$2,\"Year\")+$E55<=$E$1,AB55+$E55,0),IF(AE$2=\"Repair %\",IF(AB55>0,$C55,0),IF(AE$2=\"Spares %\",IF(IF(Z55>0,$C55,0)*5>80%,50%,IF(Z55>0,$C55,0)*5),0))))","v":0},{"$f":"IF(AE55=0,0,IF(AF$2=\"Year\",IF(_xlfn.MAXIFS($N55:AE55,$N$2:AE$2,\"Year\")+$E55<=$E$1,AC55+$E55,0),IF(AF$2=\"Repair %\",IF(AC55>0,$C$3,0),IF(AF$2=\"Spares %\",IF(IF(AC55>0,$C55,0)*100>50%,50%,IF(AC55>0,$C55,0)*100),0))))","v":0},{"$f":"IF(AF55=0,0,IF(AG$2=\"Year\",IF(_xlfn.MAXIFS($N55:AF55,$N$2:AF$2,\"Year\")+$E55<=$E$1,AD55+$E55,0),IF(AG$2=\"Repair %\",IF(AD55>0,$C55,0),IF(AG$2=\"Spares %\",IF(IF(AD55>0,$C55,0)*100>50%,50%,IF(AD55>0,$C55,0)*100),0))))","v":0},{"$f":"IF(AG55=0,0,IF(AH$2=\"Year\",IF(_xlfn.MAXIFS($N55:AG55,$N$2:AG$2,\"Year\")+$E55<=$E$1,AE55+$E55,0),IF(AH$2=\"Repair %\",IF(AE55>0,$C55,0),IF(AH$2=\"Spares %\",IF(IF(AC55>0,$C55,0)*5>80%,50%,IF(AC55>0,$C55,0)*5),0))))","v":0},{"$f":"IF(AH55=0,0,IF(AI$2=\"Year\",IF(_xlfn.MAXIFS($N55:AH55,$N$2:AH$2,\"Year\")+$E55<=$E$1,AF55+$E55,0),IF(AI$2=\"Repair %\",IF(AF55>0,$C$3,0),IF(AI$2=\"Spares %\",IF(IF(AF55>0,$C55,0)*100>50%,50%,IF(AF55>0,$C55,0)*100),0))))","v":0},{"$f":"IF(AI55=0,0,IF(AJ$2=\"Year\",IF(_xlfn.MAXIFS($N55:AI55,$N$2:AI$2,\"Year\")+$E55<=$E$1,AG55+$E55,0),IF(AJ$2=\"Repair %\",IF(AG55>0,$C55,0),IF(AJ$2=\"Spares %\",IF(IF(AG55>0,$C55,0)*100>50%,50%,IF(AG55>0,$C55,0)*100),0))))","v":0},{"$f":"IF(AJ55=0,0,IF(AK$2=\"Year\",IF(_xlfn.MAXIFS($N55:AJ55,$N$2:AJ$2,\"Year\")+$E55<=$E$1,AH55+$E55,0),IF(AK$2=\"Repair %\",IF(AH55>0,$C55,0),IF(AK$2=\"Spares %\",IF(IF(AF55>0,$C55,0)*5>80%,50%,IF(AF55>0,$C55,0)*5),0))))","v":0},{"$f":"IF(AK55=0,0,IF(AL$2=\"Year\",IF(_xlfn.MAXIFS($N55:AK55,$N$2:AK$2,\"Year\")+$E55<=$E$1,AI55+$E55,0),IF(AL$2=\"Repair %\",IF(AI55>0,$C$3,0),IF(AL$2=\"Spares %\",IF(IF(AI55>0,$C55,0)*100>50%,50%,IF(AI55>0,$C55,0)*100),0))))","v":0},{"$f":"IF(AL55=0,0,IF(AM$2=\"Year\",IF(_xlfn.MAXIFS($N55:AL55,$N$2:AL$2,\"Year\")+$E55<=$E$1,AJ55+$E55,0),IF(AM$2=\"Repair %\",IF(AJ55>0,$C55,0),IF(AM$2=\"Spares %\",IF(IF(AJ55>0,$C55,0)*100>50%,50%,IF(AJ55>0,$C55,0)*100),0))))","v":0},{"$f":"IF(AM55=0,0,IF(AN$2=\"Year\",IF(_xlfn.MAXIFS($N55:AM55,$N$2:AM$2,\"Year\")+$E55<=$E$1,AK55+$E55,0),IF(AN$2=\"Repair %\",IF(AK55>0,$C55,0),IF(AN$2=\"Spares %\",IF(IF(AI55>0,$C55,0)*5>80%,50%,IF(AI55>0,$C55,0)*5),0))))","v":0},{"$f":"IF(AN55=0,0,IF(AO$2=\"Year\",IF(_xlfn.MAXIFS($N55:AN55,$N$2:AN$2,\"Year\")+$E55<=$E$1,AL55+$E55,0),IF(AO$2=\"Repair %\",IF(AL55>0,$C$3,0),IF(AO$2=\"Spares %\",IF(IF(AL55>0,$C55,0)*100>50%,50%,IF(AL55>0,$C55,0)*100),0))))","v":0},{"$f":"IF(AO55=0,0,IF(AP$2=\"Year\",IF(_xlfn.MAXIFS($N55:AO55,$N$2:AO$2,\"Year\")+$E55<=$E$1,AM55+$E55,0),IF(AP$2=\"Repair %\",IF(AM55>0,$C55,0),IF(AP$2=\"Spares %\",IF(IF(AM55>0,$C55,0)*100>50%,50%,IF(AM55>0,$C55,0)*100),0))))","v":0},{"$f":"IF(AP55=0,0,IF(AQ$2=\"Year\",IF(_xlfn.MAXIFS($N55:AP55,$N$2:AP$2,\"Year\")+$E55<=$E$1,AN55+$E55,0),IF(AQ$2=\"Repair %\",IF(AN55>0,$C55,0),IF(AQ$2=\"Spares %\",IF(IF(AL55>0,$C55,0)*5>80%,50%,IF(AL55>0,$C55,0)*5),0))))","v":0}]
[{"$f":"INDEX('Avionics ID'!A:E,MATCH(B56,'Avionics ID'!E:E,0),1)","v":846},"Defensive Aids Computer",0.1,0.06,10,"Obsolecence",{"$f":"SUBSTITUTE(ADDRESS(1,MATCH(A56,'Pt1-AvionicsComponentCosts'!$A$6:$NC$6,0)+1),\"$1\",\"\")","v":"$HZ"},{"$f":"_xlfn.TEXTJOIN(\", \",TRUE,_xlfn.UNIQUE(_xlfn._xlws.SORT(_xlfn._xlws.FILTER('Pt1-AvionicsComponentCosts'!$NF$12:$NF$384,ISNUMBER(INDIRECT(\"'Pt1-AvionicsComponentCosts'!\"&G56&\"$12:\"&G56&\"$384\"))))))","v":"A330 LMXT, A330 MRTT, Mil Transport, Military Jet, Military TP"},null,0.06,0.1,0.36,1.87,{"$f":"COUNTIF($N$2:N$2,\"Year\")*$G$1","v":10},null,1,{"$f":"COUNTIF($N$2:Q$2,\"Year\")*$G$1","v":20},{"$f":"IF(Q56=0,0,IF(R$2=\"Year\",IF(_xlfn.MAXIFS($N56:Q56,$N$2:Q$2,\"Year\")+$E56<=$E$1,O56+$E56,0),IF(R$2=\"Repair %\",IF(O56>0,$C56,0),IF(R$2=\"Spares %\",IF(IF(O56>0,$C56,0)*100>50%,50%,IF(O56>0,$C56,0)*100),0))))","v":0},1,{"$f":"COUNTIF($N$2:T$2,\"Year\")*$G$1","v":30},{"$f":"IF(T56=0,0,IF(U$2=\"Year\",IF(_xlfn.MAXIFS($N56:T56,$N$2:T$2,\"Year\")+$E56<=$E$1,R56+$E56,0),IF(U$2=\"Repair %\",IF(R56>0,$C56,0),IF(U$2=\"Spares %\",IF(IF(R56>0,$C56,0)*100>50%,50%,IF(R56>0,$C56,0)*100),0))))","v":0},1,{"$f":"COUNTIF($N$2:W$2,\"Year\")*$G$1","v":40},{"$f":"IF(W56=0,0,IF(X$2=\"Year\",IF(_xlfn.MAXIFS($N56:W56,$N$2:W$2,\"Year\")+$E56<=$E$1,U56+$E56,0),IF(X$2=\"Repair %\",IF(U56>0,$C56,0),IF(X$2=\"Spares %\",IF(IF(U56>0,$C56,0)*100>50%,50%,IF(U56>0,$C56,0)*100),0))))","v":0},1,{"$f":"IF(Y56=0,0,IF(Z$2=\"Year\",IF(_xlfn.MAXIFS($N56:Y56,$N$2:Y$2,\"Year\")+$E56<=$E$1,W56+$E56,0),IF(Z$2=\"Repair %\",IF(W56>0,$C$3,0),IF(Z$2=\"Spares %\",IF(IF(W56>0,$C56,0)*100>50%,50%,IF(W56>0,$C56,0)*100),0))))","v":0},{"$f":"IF(Z56=0,0,IF(AA$2=\"Year\",IF(_xlfn.MAXIFS($N56:Z56,$N$2:Z$2,\"Year\")+$E56<=$E$1,X56+$E56,0),IF(AA$2=\"Repair %\",IF(X56>0,$C56,0),IF(AA$2=\"Spares %\",IF(IF(X56>0,$C56,0)*100>50%,50%,IF(X56>0,$C56,0)*100),0))))","v":0},{"$f":"IF(AA56=0,0,IF(AB$2=\"Year\",IF(_xlfn.MAXIFS($N56:AA56,$N$2:AA$2,\"Year\")+$E56<=$E$1,Y56+$E56,0),IF(AB$2=\"Repair %\",IF(Y56>0,$C56,0),IF(AB$2=\"Spares %\",IF(IF(W56>0,$C56,0)*5>80%,50%,IF(W56>0,$C56,0)*5),0))))","v":0},{"$f":"IF(AB56=0,0,IF(AC$2=\"Year\",IF(_xlfn.MAXIFS($N56:AB56,$N$2:AB$2,\"Year\")+$E56<=$E$1,Z56+$E56,0),IF(AC$2=\"Repair %\",IF(Z56>0,$C$3,0),IF(AC$2=\"Spares %\",IF(IF(Z56>0,$C56,0)*100>50%,50%,IF(Z56>0,$C56,0)*100),0))))","v":0},{"$f":"IF(AC56=0,0,IF(AD$2=\"Year\",IF(_xlfn.MAXIFS($N56:AC56,$N$2:AC$2,\"Year\")+$E56<=$E$1,AA56+$E56,0),IF(AD$2=\"Repair %\",IF(AA56>0,$C56,0),IF(AD$2=\"Spares %\",IF(IF(AA56>0,$C56,0)*100>50%,50%,IF(AA56>0,$C56,0)*100),0))))","v":0},{"$f":"IF(AD56=0,0,IF(AE$2=\"Year\",IF(_xlfn.MAXIFS($N56:AD56,$N$2:AD$2,\"Year\")+$E56<=$E$1,AB56+$E56,0),IF(AE$2=\"Repair %\",IF(AB56>0,$C56,0),IF(AE$2=\"Spares %\",IF(IF(Z56>0,$C56,0)*5>80%,50%,IF(Z56>0,$C56,0)*5),0))))","v":0},{"$f":"IF(AE56=0,0,IF(AF$2=\"Year\",IF(_xlfn.MAXIFS($N56:AE56,$N$2:AE$2,\"Year\")+$E56<=$E$1,AC56+$E56,0),IF(AF$2=\"Repair %\",IF(AC56>0,$C$3,0),IF(AF$2=\"Spares %\",IF(IF(AC56>0,$C56,0)*100>50%,50%,IF(AC56>0,$C56,0)*100),0))))","v":0},{"$f":"IF(AF56=0,0,IF(AG$2=\"Year\",IF(_xlfn.MAXIFS($N56:AF56,$N$2:AF$2,\"Year\")+$E56<=$E$1,AD56+$E56,0),IF(AG$2=\"Repair %\",IF(AD56>0,$C56,0),IF(AG$2=\"Spares %\",IF(IF(AD56>0,$C56,0)*100>50%,50%,IF(AD56>0,$C56,0)*100),0))))","v":0},{"$f":"IF(AG56=0,0,IF(AH$2=\"Year\",IF(_xlfn.MAXIFS($N56:AG56,$N$2:AG$2,\"Year\")+$E56<=$E$1,AE56+$E56,0),IF(AH$2=\"Repair %\",IF(AE56>0,$C56,0),IF(AH$2=\"Spares %\",IF(IF(AC56>0,$C56,0)*5>80%,50%,IF(AC56>0,$C56,0)*5),0))))","v":0},{"$f":"IF(AH56=0,0,IF(AI$2=\"Year\",IF(_xlfn.MAXIFS($N56:AH56,$N$2:AH$2,\"Year\")+$E56<=$E$1,AF56+$E56,0),IF(AI$2=\"Repair %\",IF(AF56>0,$C$3,0),IF(AI$2=\"Spares %\",IF(IF(AF56>0,$C56,0)*100>50%,50%,IF(AF56>0,$C56,0)*100),0))))","v":0},{"$f":"IF(AI56=0,0,IF(AJ$2=\"Year\",IF(_xlfn.MAXIFS($N56:AI56,$N$2:AI$2,\"Year\")+$E56<=$E$1,AG56+$E56,0),IF(AJ$2=\"Repair %\",IF(AG56>0,$C56,0),IF(AJ$2=\"Spares %\",IF(IF(AG56>0,$C56,0)*100>50%,50%,IF(AG56>0,$C56,0)*100),0))))","v":0},{"$f":"IF(AJ56=0,0,IF(AK$2=\"Year\",IF(_xlfn.MAXIFS($N56:AJ56,$N$2:AJ$2,\"Year\")+$E56<=$E$1,AH56+$E56,0),IF(AK$2=\"Repair %\",IF(AH56>0,$C56,0),IF(AK$2=\"Spares %\",IF(IF(AF56>0,$C56,0)*5>80%,50%,IF(AF56>0,$C56,0)*5),0))))","v":0},{"$f":"IF(AK56=0,0,IF(AL$2=\"Year\",IF(_xlfn.MAXIFS($N56:AK56,$N$2:AK$2,\"Year\")+$E56<=$E$1,AI56+$E56,0),IF(AL$2=\"Repair %\",IF(AI56>0,$C$3,0),IF(AL$2=\"Spares %\",IF(IF(AI56>0,$C56,0)*100>50%,50%,IF(AI56>0,$C56,0)*100),0))))","v":0},{"$f":"IF(AL56=0,0,IF(AM$2=\"Year\",IF(_xlfn.MAXIFS($N56:AL56,$N$2:AL$2,\"Year\")+$E56<=$E$1,AJ56+$E56,0),IF(AM$2=\"Repair %\",IF(AJ56>0,$C56,0),IF(AM$2=\"Spares %\",IF(IF(AJ56>0,$C56,0)*100>50%,50%,IF(AJ56>0,$C56,0)*100),0))))","v":0},{"$f":"IF(AM56=0,0,IF(AN$2=\"Year\",IF(_xlfn.MAXIFS($N56:AM56,$N$2:AM$2,\"Year\")+$E56<=$E$1,AK56+$E56,0),IF(AN$2=\"Repair %\",IF(AK56>0,$C56,0),IF(AN$2=\"Spares %\",IF(IF(AI56>0,$C56,0)*5>80%,50%,IF(AI56>0,$C56,0)*5),0))))","v":0},{"$f":"IF(AN56=0,0,IF(AO$2=\"Year\",IF(_xlfn.MAXIFS($N56:AN56,$N$2:AN$2,\"Year\")+$E56<=$E$1,AL56+$E56,0),IF(AO$2=\"Repair %\",IF(AL56>0,$C$3,0),IF(AO$2=\"Spares %\",IF(IF(AL56>0,$C56,0)*100>50%,50%,IF(AL56>0,$C56,0)*100),0))))","v":0},{"$f":"IF(AO56=0,0,IF(AP$2=\"Year\",IF(_xlfn.MAXIFS($N56:AO56,$N$2:AO$2,\"Year\")+$E56<=$E$1,AM56+$E56,0),IF(AP$2=\"Repair %\",IF(AM56>0,$C56,0),IF(AP$2=\"Spares %\",IF(IF(AM56>0,$C56,0)*100>50%,50%,IF(AM56>0,$C56,0)*100),0))))","v":0},{"$f":"IF(AP56=0,0,IF(AQ$2=\"Year\",IF(_xlfn.MAXIFS($N56:AP56,$N$2:AP$2,\"Year\")+$E56<=$E$1,AN56+$E56,0),IF(AQ$2=\"Repair %\",IF(AN56>0,$C56,0),IF(AQ$2=\"Spares %\",IF(IF(AL56>0,$C56,0)*5>80%,50%,IF(AL56>0,$C56,0)*5),0))))","v":0}]
[{"$f":"INDEX('Avionics ID'!A:E,MATCH(B57,'Avionics ID'!E:E,0),1)","v":866},"Defensive counter measures",0.1,0.06,10,"Obsolecence",{"$f":"SUBSTITUTE(ADDRESS(1,MATCH(A57,'Pt1-AvionicsComponentCosts'!$A$6:$NC$6,0)+1),\"$1\",\"\")","v":"$IB"},{"$f":"_xlfn.TEXTJOIN(\", \",TRUE,_xlfn.UNIQUE(_xlfn._xlws.SORT(_xlfn._xlws.FILTER('Pt1-AvionicsComponentCosts'!$NF$12:$NF$384,ISNUMBER(INDIRECT(\"'Pt1-AvionicsComponentCosts'!\"&G57&\"$12:\"&G57&\"$384\"))))))","v":"A330 LMXT, A330 MRTT, Mil Transport, Military Jet, Military TP, UAV"},null,0.06,0.1,0.36,1.87,{"$f":"COUNTIF($N$2:N$2,\"Year\")*$G$1","v":10},null,1,{"$f":"COUNTIF($N$2:Q$2,\"Year\")*$G$1","v":20},{"$f":"IF(Q57=0,0,IF(R$2=\"Year\",IF(_xlfn.MAXIFS($N57:Q57,$N$2:Q$2,\"Year\")+$E57<=$E$1,O57+$E57,0),IF(R$2=\"Repair %\",IF(O57>0,$C57,0),IF(R$2=\"Spares %\",IF(IF(O57>0,$C57,0)*100>50%,50%,IF(O57>0,$C57,0)*100),0))))","v":0},1,{"$f":"COUNTIF($N$2:T$2,\"Year\")*$G$1","v":30},{"$f":"IF(T57=0,0,IF(U$2=\"Year\",IF(_xlfn.MAXIFS($N57:T57,$N$2:T$2,\"Year\")+$E57<=$E$1,R57+$E57,0),IF(U$2=\"Repair %\",IF(R57>0,$C57,0),IF(U$2=\"Spares %\",IF(IF(R57>0,$C57,0)*100>50%,50%,IF(R57>0,$C57,0)*100),0))))","v":0},1,{"$f":"COUNTIF($N$2:W$2,\"Year\")*$G$1","v":40},{"$f":"IF(W57=0,0,IF(X$2=\"Year\",IF(_xlfn.MAXIFS($N57:W57,$N$2:W$2,\"Year\")+$E57<=$E$1,U57+$E57,0),IF(X$2=\"Repair %\",IF(U57>0,$C57,0),IF(X$2=\"Spares %\",IF(IF(U57>0,$C57,0)*100>50%,50%,IF(U57>0,$C57,0)*100),0))))","v":0},1,{"$f":"IF(Y57=0,0,IF(Z$2=\"Year\",IF(_xlfn.MAXIFS($N57:Y57,$N$2:Y$2,\"Year\")+$E57<=$E$1,W57+$E57,0),IF(Z$2=\"Repair %\",IF(W57>0,$C$3,0),IF(Z$2=\"Spares %\",IF(IF(W57>0,$C57,0)*100>50%,50%,IF(W57>0,$C57,0)*100),0))))","v":0},{"$f":"IF(Z57=0,0,IF(AA$2=\"Year\",IF(_xlfn.MAXIFS($N57:Z57,$N$2:Z$2,\"Year\")+$E57<=$E$1,X57+$E57,0),IF(AA$2=\"Repair %\",IF(X57>0,$C57,0),IF(AA$2=\"Spares %\",IF(IF(X57>0,$C57,0)*100>50%,50%,IF(X57>0,$C57,0)*100),0))))","v":0},{"$f":"IF(AA57=0,0,IF(AB$2=\"Year\",IF(_xlfn.MAXIFS($N57:AA57,$N$2:AA$2,\"Year\")+$E57<=$E$1,Y57+$E57,0),IF(AB$2=\"Repair %\",IF(Y57>0,$C57,0),IF(AB$2=\"Spares %\",IF(IF(W57>0,$C57,0)*5>80%,50%,IF(W57>0,$C57,0)*5),0))))","v":0},{"$f":"IF(AB57=0,0,IF(AC$2=\"Year\",IF(_xlfn.MAXIFS($N57:AB57,$N$2:AB$2,\"Year\")+$E57<=$E$1,Z57+$E57,0),IF(AC$2=\"Repair %\",IF(Z57>0,$C$3,0),IF(AC$2=\"Spares %\",IF(IF(Z57>0,$C57,0)*100>50%,50%,IF(Z57>0,$C57,0)*100),0))))","v":0},{"$f":"IF(AC57=0,0,IF(AD$2=\"Year\",IF(_xlfn.MAXIFS($N57:AC57,$N$2:AC$2,\"Year\")+$E57<=$E$1,AA57+$E57,0),IF(AD$2=\"Repair %\",IF(AA57>0,$C57,0),IF(AD$2=\"Spares %\",IF(IF(AA57>0,$C57,0)*100>50%,50%,IF(AA57>0,$C57,0)*100),0))))","v":0},{"$f":"IF(AD57=0,0,IF(AE$2=\"Year\",IF(_xlfn.MAXIFS($N57:AD57,$N$2:AD$2,\"Year\")+$E57<=$E$1,AB57+$E57,0),IF(AE$2=\"Repair %\",IF(AB57>0,$C57,0),IF(AE$2=\"Spares %\",IF(IF(Z57>0,$C57,0)*5>80%,50%,IF(Z57>0,$C57,0)*5),0))))","v":0},{"$f":"IF(AE57=0,0,IF(AF$2=\"Year\",IF(_xlfn.MAXIFS($N57:AE57,$N$2:AE$2,\"Year\")+$E57<=$E$1,AC57+$E57,0),IF(AF$2=\"Repair %\",IF(AC57>0,$C$3,0),IF(AF$2=\"Spares %\",IF(IF(AC57>0,$C57,0)*100>50%,50%,IF(AC57>0,$C57,0)*100),0))))","v":0},{"$f":"IF(AF57=0,0,IF(AG$2=\"Year\",IF(_xlfn.MAXIFS($N57:AF57,$N$2:AF$2,\"Year\")+$E57<=$E$1,AD57+$E57,0),IF(AG$2=\"Repair %\",IF(AD57>0,$C57,0),IF(AG$2=\"Spares %\",IF(IF(AD57>0,$C57,0)*100>50%,50%,IF(AD57>0,$C57,0)*100),0))))","v":0},{"$f":"IF(AG57=0,0,IF(AH$2=\"Year\",IF(_xlfn.MAXIFS($N57:AG57,$N$2:AG$2,\"Year\")+$E57<=$E$1,AE57+$E57,0),IF(AH$2=\"Repair %\",IF(AE57>0,$C57,0),IF(AH$2=\"Spares %\",IF(IF(AC57>0,$C57,0)*5>80%,50%,IF(AC57>0,$C57,0)*5),0))))","v":0},{"$f":"IF(AH57=0,0,IF(AI$2=\"Year\",IF(_xlfn.MAXIFS($N57:AH57,$N$2:AH$2,\"Year\")+$E57<=$E$1,AF57+$E57,0),IF(AI$2=\"Repair %\",IF(AF57>0,$C$3,0),IF(AI$2=\"Spares %\",IF(IF(AF57>0,$C57,0)*100>50%,50%,IF(AF57>0,$C57,0)*100),0))))","v":0},{"$f":"IF(AI57=0,0,IF(AJ$2=\"Year\",IF(_xlfn.MAXIFS($N57:AI57,$N$2:AI$2,\"Year\")+$E57<=$E$1,AG57+$E57,0),IF(AJ$2=\"Repair %\",IF(AG57>0,$C57,0),IF(AJ$2=\"Spares %\",IF(IF(AG57>0,$C57,0)*100>50%,50%,IF(AG57>0,$C57,0)*100),0))))","v":0},{"$f":"IF(AJ57=0,0,IF(AK$2=\"Year\",IF(_xlfn.MAXIFS($N57:AJ57,$N$2:AJ$2,\"Year\")+$E57<=$E$1,AH57+$E57,0),IF(AK$2=\"Repair %\",IF(AH57>0,$C57,0),IF(AK$2=\"Spares %\",IF(IF(AF57>0,$C57,0)*5>80%,50%,IF(AF57>0,$C57,0)*5),0))))","v":0},{"$f":"IF(AK57=0,0,IF(AL$2=\"Year\",IF(_xlfn.MAXIFS($N57:AK57,$N$2:AK$2,\"Year\")+$E57<=$E$1,AI57+$E57,0),IF(AL$2=\"Repair %\",IF(AI57>0,$C$3,0),IF(AL$2=\"Spares %\",IF(IF(AI57>0,$C57,0)*100>50%,50%,IF(AI57>0,$C57,0)*100),0))))","v":0},{"$f":"IF(AL57=0,0,IF(AM$2=\"Year\",IF(_xlfn.MAXIFS($N57:AL57,$N$2:AL$2,\"Year\")+$E57<=$E$1,AJ57+$E57,0),IF(AM$2=\"Repair %\",IF(AJ57>0,$C57,0),IF(AM$2=\"Spares %\",IF(IF(AJ57>0,$C57,0)*100>50%,50%,IF(AJ57>0,$C57,0)*100),0))))","v":0},{"$f":"IF(AM57=0,0,IF(AN$2=\"Year\",IF(_xlfn.MAXIFS($N57:AM57,$N$2:AM$2,\"Year\")+$E57<=$E$1,AK57+$E57,0),IF(AN$2=\"Repair %\",IF(AK57>0,$C57,0),IF(AN$2=\"Spares %\",IF(IF(AI57>0,$C57,0)*5>80%,50%,IF(AI57>0,$C57,0)*5),0))))","v":0},{"$f":"IF(AN57=0,0,IF(AO$2=\"Year\",IF(_xlfn.MAXIFS($N57:AN57,$N$2:AN$2,\"Year\")+$E57<=$E$1,AL57+$E57,0),IF(AO$2=\"Repair %\",IF(AL57>0,$C$3,0),IF(AO$2=\"Spares %\",IF(IF(AL57>0,$C57,0)*100>50%,50%,IF(AL57>0,$C57,0)*100),0))))","v":0},{"$f":"IF(AO57=0,0,IF(AP$2=\"Year\",IF(_xlfn.MAXIFS($N57:AO57,$N$2:AO$2,\"Year\")+$E57<=$E$1,AM57+$E57,0),IF(AP$2=\"Repair %\",IF(AM57>0,$C57,0),IF(AP$2=\"Spares %\",IF(IF(AM57>0,$C57,0)*100>50%,50%,IF(AM57>0,$C57,0)*100),0))))","v":0},{"$f":"IF(AP57=0,0,IF(AQ$2=\"Year\",IF(_xlfn.MAXIFS($N57:AP57,$N$2:AP$2,\"Year\")+$E57<=$E$1,AN57+$E57,0),IF(AQ$2=\"Repair %\",IF(AN57>0,$C57,0),IF(AQ$2=\"Spares %\",IF(IF(AL57>0,$C57,0)*5>80%,50%,IF(AL57>0,$C57,0)*5),0))))","v":0}]
[{"$f":"INDEX('Avionics ID'!A:E,MATCH(B58,'Avionics ID'!E:E,0),1)","v":874},"Differential GPS antenna",0.05,0.1,20,"Obsolecence",{"$f":"SUBSTITUTE(ADDRESS(1,MATCH(A58,'Pt1-AvionicsComponentCosts'!$A$6:$NC$6,0)+1),\"$1\",\"\")","v":"$JB"},{"$f":"_xlfn.TEXTJOIN(\", \",TRUE,_xlfn.UNIQUE(_xlfn._xlws.SORT(_xlfn._xlws.FILTER('Pt1-AvionicsComponentCosts'!$NF$12:$NF$384,ISNUMBER(INDIRECT(\"'Pt1-AvionicsComponentCosts'!\"&G58&\"$12:\"&G58&\"$384\"))))))","v":"UAV"},null,0.1,0.05,0.35399999999999998,1.829,{"$f":"COUNTIF($N$2:N$2,\"Year\")*$G$1","v":10},null,0,{"$f":"COUNTIF($N$2:Q$2,\"Year\")*$G$1","v":20},{"$f":"IF(Q58=0,0,IF(R$2=\"Year\",IF(_xlfn.MAXIFS($N58:Q58,$N$2:Q$2,\"Year\")+$E58<=$E$1,O58+$E58,0),IF(R$2=\"Repair %\",IF(O58>0,$C58,0),IF(R$2=\"Spares %\",IF(IF(O58>0,$C58,0)*100>50%,50%,IF(O58>0,$C58,0)*100),0))))","v":0},1,{"$f":"COUNTIF($N$2:T$2,\"Year\")*$G$1","v":30},{"$f":"IF(T58=0,0,IF(U$2=\"Year\",IF(_xlfn.MAXIFS($N58:T58,$N$2:T$2,\"Year\")+$E58<=$E$1,R58+$E58,0),IF(U$2=\"Repair %\",IF(R58>0,$C58,0),IF(U$2=\"Spares %\",IF(IF(R58>0,$C58,0)*100>50%,50%,IF(R58>0,$C58,0)*100),0))))","v":0},0,{"$f":"COUNTIF($N$2:W$2,\"Year\")*$G$1","v":40},{"$f":"IF(W58=0,0,IF(X$2=\"Year\",IF(_xlfn.MAXIFS($N58:W58,$N$2:W$2,\"Year\")+$E58<=$E$1,U58+$E58,0),IF(X$2=\"Repair %\",IF(U58>0,$C58,0),IF(X$2=\"Spares %\",IF(IF(U58>0,$C58,0)*100>50%,50%,IF(U58>0,$C58,0)*100),0))))","v":0},1,{"$f":"IF(Y58=0,0,IF(Z$2=\"Year\",IF(_xlfn.MAXIFS($N58:Y58,$N$2:Y$2,\"Year\")+$E58<=$E$1,W58+$E58,0),IF(Z$2=\"Repair %\",IF(W58>0,$C$3,0),IF(Z$2=\"Spares %\",IF(IF(W58>0,$C58,0)*100>50%,50%,IF(W58>0,$C58,0)*100),0))))","v":0},{"$f":"IF(Z58=0,0,IF(AA$2=\"Year\",IF(_xlfn.MAXIFS($N58:Z58,$N$2:Z$2,\"Year\")+$E58<=$E$1,X58+$E58,0),IF(AA$2=\"Repair %\",IF(X58>0,$C58,0),IF(AA$2=\"Spares %\",IF(IF(X58>0,$C58,0)*100>50%,50%,IF(X58>0,$C58,0)*100),0))))","v":0},{"$f":"IF(AA58=0,0,IF(AB$2=\"Year\",IF(_xlfn.MAXIFS($N58:AA58,$N$2:AA$2,\"Year\")+$E58<=$E$1,Y58+$E58,0),IF(AB$2=\"Repair %\",IF(Y58>0,$C58,0),IF(AB$2=\"Spares %\",IF(IF(W58>0,$C58,0)*5>80%,50%,IF(W58>0,$C58,0)*5),0))))","v":0},{"$f":"IF(AB58=0,0,IF(AC$2=\"Year\",IF(_xlfn.MAXIFS($N58:AB58,$N$2:AB$2,\"Year\")+$E58<=$E$1,Z58+$E58,0),IF(AC$2=\"Repair %\",IF(Z58>0,$C$3,0),IF(AC$2=\"Spares %\",IF(IF(Z58>0,$C58,0)*100>50%,50%,IF(Z58>0,$C58,0)*100),0))))","v":0},{"$f":"IF(AC58=0,0,IF(AD$2=\"Year\",IF(_xlfn.MAXIFS($N58:AC58,$N$2:AC$2,\"Year\")+$E58<=$E$1,AA58+$E58,0),IF(AD$2=\"Repair %\",IF(AA58>0,$C58,0),IF(AD$2=\"Spares %\",IF(IF(AA58>0,$C58,0)*100>50%,50%,IF(AA58>0,$C58,0)*100),0))))","v":0},{"$f":"IF(AD58=0,0,IF(AE$2=\"Year\",IF(_xlfn.MAXIFS($N58:AD58,$N$2:AD$2,\"Year\")+$E58<=$E$1,AB58+$E58,0),IF(AE$2=\"Repair %\",IF(AB58>0,$C58,0),IF(AE$2=\"Spares %\",IF(IF(Z58>0,$C58,0)*5>80%,50%,IF(Z58>0,$C58,0)*5),0))))","v":0},{"$f":"IF(AE58=0,0,IF(AF$2=\"Year\",IF(_xlfn.MAXIFS($N58:AE58,$N$2:AE$2,\"Year\")+$E58<=$E$1,AC58+$E58,0),IF(AF$2=\"Repair %\",IF(AC58>0,$C$3,0),IF(AF$2=\"Spares %\",IF(IF(AC58>0,$C58,0)*100>50%,50%,IF(AC58>0,$C58,0)*100),0))))","v":0},{"$f":"IF(AF58=0,0,IF(AG$2=\"Year\",IF(_xlfn.MAXIFS($N58:AF58,$N$2:AF$2,\"Year\")+$E58<=$E$1,AD58+$E58,0),IF(AG$2=\"Repair %\",IF(AD58>0,$C58,0),IF(AG$2=\"Spares %\",IF(IF(AD58>0,$C58,0)*100>50%,50%,IF(AD58>0,$C58,0)*100),0))))","v":0},{"$f":"IF(AG58=0,0,IF(AH$2=\"Year\",IF(_xlfn.MAXIFS($N58:AG58,$N$2:AG$2,\"Year\")+$E58<=$E$1,AE58+$E58,0),IF(AH$2=\"Repair %\",IF(AE58>0,$C58,0),IF(AH$2=\"Spares %\",IF(IF(AC58>0,$C58,0)*5>80%,50%,IF(AC58>0,$C58,0)*5),0))))","v":0},{"$f":"IF(AH58=0,0,IF(AI$2=\"Year\",IF(_xlfn.MAXIFS($N58:AH58,$N$2:AH$2,\"Year\")+$E58<=$E$1,AF58+$E58,0),IF(AI$2=\"Repair %\",IF(AF58>0,$C$3,0),IF(AI$2=\"Spares %\",IF(IF(AF58>0,$C58,0)*100>50%,50%,IF(AF58>0,$C58,0)*100),0))))","v":0},{"$f":"IF(AI58=0,0,IF(AJ$2=\"Year\",IF(_xlfn.MAXIFS($N58:AI58,$N$2:AI$2,\"Year\")+$E58<=$E$1,AG58+$E58,0),IF(AJ$2=\"Repair %\",IF(AG58>0,$C58,0),IF(AJ$2=\"Spares %\",IF(IF(AG58>0,$C58,0)*100>50%,50%,IF(AG58>0,$C58,0)*100),0))))","v":0},{"$f":"IF(AJ58=0,0,IF(AK$2=\"Year\",IF(_xlfn.MAXIFS($N58:AJ58,$N$2:AJ$2,\"Year\")+$E58<=$E$1,AH58+$E58,0),IF(AK$2=\"Repair %\",IF(AH58>0,$C58,0),IF(AK$2=\"Spares %\",IF(IF(AF58>0,$C58,0)*5>80%,50%,IF(AF58>0,$C58,0)*5),0))))","v":0},{"$f":"IF(AK58=0,0,IF(AL$2=\"Year\",IF(_xlfn.MAXIFS($N58:AK58,$N$2:AK$2,\"Year\")+$E58<=$E$1,AI58+$E58,0),IF(AL$2=\"Repair %\",IF(AI58>0,$C$3,0),IF(AL$2=\"Spares %\",IF(IF(AI58>0,$C58,0)*100>50%,50%,IF(AI58>0,$C58,0)*100),0))))","v":0},{"$f":"IF(AL58=0,0,IF(AM$2=\"Year\",IF(_xlfn.MAXIFS($N58:AL58,$N$2:AL$2,\"Year\")+$E58<=$E$1,AJ58+$E58,0),IF(AM$2=\"Repair %\",IF(AJ58>0,$C58,0),IF(AM$2=\"Spares %\",IF(IF(AJ58>0,$C58,0)*100>50%,50%,IF(AJ58>0,$C58,0)*100),0))))","v":0},{"$f":"IF(AM58=0,0,IF(AN$2=\"Year\",IF(_xlfn.MAXIFS($N58:AM58,$N$2:AM$2,\"Year\")+$E58<=$E$1,AK58+$E58,0),IF(AN$2=\"Repair %\",IF(AK58>0,$C58,0),IF(AN$2=\"Spares %\",IF(IF(AI58>0,$C58,0)*5>80%,50%,IF(AI58>0,$C58,0)*5),0))))","v":0},{"$f":"IF(AN58=0,0,IF(AO$2=\"Year\",IF(_xlfn.MAXIFS($N58:AN58,$N$2:AN$2,\"Year\")+$E58<=$E$1,AL58+$E58,0),IF(AO$2=\"Repair %\",IF(AL58>0,$C$3,0),IF(AO$2=\"Spares %\",IF(IF(AL58>0,$C58,0)*100>50%,50%,IF(AL58>0,$C58,0)*100),0))))","v":0},{"$f":"IF(AO58=0,0,IF(AP$2=\"Year\",IF(_xlfn.MAXIFS($N58:AO58,$N$2:AO$2,\"Year\")+$E58<=$E$1,AM58+$E58,0),IF(AP$2=\"Repair %\",IF(AM58>0,$C58,0),IF(AP$2=\"Spares %\",IF(IF(AM58>0,$C58,0)*100>50%,50%,IF(AM58>0,$C58,0)*100),0))))","v":0},{"$f":"IF(AP58=0,0,IF(AQ$2=\"Year\",IF(_xlfn.MAXIFS($N58:AP58,$N$2:AP$2,\"Year\")+$E58<=$E$1,AN58+$E58,0),IF(AQ$2=\"Repair %\",IF(AN58>0,$C58,0),IF(AQ$2=\"Spares %\",IF(IF(AL58>0,$C58,0)*5>80%,50%,IF(AL58>0,$C58,0)*5),0))))","v":0}]
[{"$f":"INDEX('Avionics ID'!A:E,MATCH(B59,'Avionics ID'!E:E,0),1)","v":821},"Digital Data link/transfer",0.05,0.06,20,"Obsolecence",{"$f":"SUBSTITUTE(ADDRESS(1,MATCH(A59,'Pt1-AvionicsComponentCosts'!$A$6:$NC$6,0)+1),\"$1\",\"\")","v":"$CR"},{"$f":"_xlfn.TEXTJOIN(\", \",TRUE,_xlfn.UNIQUE(_xlfn._xlws.SORT(_xlfn._xlws.FILTER('Pt1-AvionicsComponentCosts'!$NF$12:$NF$384,ISNUMBER(INDIRECT(\"'Pt1-AvionicsComponentCosts'!\"&G59&\"$12:\"&G59&\"$384\"))))))","v":"Mil Fighter, TP Trainer"},null,0.06,0.05,0.68300000000000005,1.931,{"$f":"COUNTIF($N$2:N$2,\"Year\")*$G$1","v":10},null,0,{"$f":"COUNTIF($N$2:Q$2,\"Year\")*$G$1","v":20},{"$f":"IF(Q59=0,0,IF(R$2=\"Year\",IF(_xlfn.MAXIFS($N59:Q59,$N$2:Q$2,\"Year\")+$E59<=$E$1,O59+$E59,0),IF(R$2=\"Repair %\",IF(O59>0,$C59,0),IF(R$2=\"Spares %\",IF(IF(O59>0,$C59,0)*100>50%,50%,IF(O59>0,$C59,0)*100),0))))","v":0},1,{"$f":"COUNTIF($N$2:T$2,\"Year\")*$G$1","v":30},{"$f":"IF(T59=0,0,IF(U$2=\"Year\",IF(_xlfn.MAXIFS($N59:T59,$N$2:T$2,\"Year\")+$E59<=$E$1,R59+$E59,0),IF(U$2=\"Repair %\",IF(R59>0,$C59,0),IF(U$2=\"Spares %\",IF(IF(R59>0,$C59,0)*100>50%,50%,IF(R59>0,$C59,0)*100),0))))","v":0},0,{"$f":"COUNTIF($N$2:W$2,\"Year\")*$G$1","v":40},{"$f":"IF(W59=0,0,IF(X$2=\"Year\",IF(_xlfn.MAXIFS($N59:W59,$N$2:W$2,\"Year\")+$E59<=$E$1,U59+$E59,0),IF(X$2=\"Repair %\",IF(U59>0,$C59,0),IF(X$2=\"Spares %\",IF(IF(U59>0,$C59,0)*100>50%,50%,IF(U59>0,$C59,0)*100),0))))","v":0},1,{"$f":"IF(Y59=0,0,IF(Z$2=\"Year\",IF(_xlfn.MAXIFS($N59:Y59,$N$2:Y$2,\"Year\")+$E59<=$E$1,W59+$E59,0),IF(Z$2=\"Repair %\",IF(W59>0,$C$3,0),IF(Z$2=\"Spares %\",IF(IF(W59>0,$C59,0)*100>50%,50%,IF(W59>0,$C59,0)*100),0))))","v":0},{"$f":"IF(Z59=0,0,IF(AA$2=\"Year\",IF(_xlfn.MAXIFS($N59:Z59,$N$2:Z$2,\"Year\")+$E59<=$E$1,X59+$E59,0),IF(AA$2=\"Repair %\",IF(X59>0,$C59,0),IF(AA$2=\"Spares %\",IF(IF(X59>0,$C59,0)*100>50%,50%,IF(X59>0,$C59,0)*100),0))))","v":0},{"$f":"IF(AA59=0,0,IF(AB$2=\"Year\",IF(_xlfn.MAXIFS($N59:AA59,$N$2:AA$2,\"Year\")+$E59<=$E$1,Y59+$E59,0),IF(AB$2=\"Repair %\",IF(Y59>0,$C59,0),IF(AB$2=\"Spares %\",IF(IF(W59>0,$C59,0)*5>80%,50%,IF(W59>0,$C59,0)*5),0))))","v":0},{"$f":"IF(AB59=0,0,IF(AC$2=\"Year\",IF(_xlfn.MAXIFS($N59:AB59,$N$2:AB$2,\"Year\")+$E59<=$E$1,Z59+$E59,0),IF(AC$2=\"Repair %\",IF(Z59>0,$C$3,0),IF(AC$2=\"Spares %\",IF(IF(Z59>0,$C59,0)*100>50%,50%,IF(Z59>0,$C59,0)*100),0))))","v":0},{"$f":"IF(AC59=0,0,IF(AD$2=\"Year\",IF(_xlfn.MAXIFS($N59:AC59,$N$2:AC$2,\"Year\")+$E59<=$E$1,AA59+$E59,0),IF(AD$2=\"Repair %\",IF(AA59>0,$C59,0),IF(AD$2=\"Spares %\",IF(IF(AA59>0,$C59,0)*100>50%,50%,IF(AA59>0,$C59,0)*100),0))))","v":0},{"$f":"IF(AD59=0,0,IF(AE$2=\"Year\",IF(_xlfn.MAXIFS($N59:AD59,$N$2:AD$2,\"Year\")+$E59<=$E$1,AB59+$E59,0),IF(AE$2=\"Repair %\",IF(AB59>0,$C59,0),IF(AE$2=\"Spares %\",IF(IF(Z59>0,$C59,0)*5>80%,50%,IF(Z59>0,$C59,0)*5),0))))","v":0},{"$f":"IF(AE59=0,0,IF(AF$2=\"Year\",IF(_xlfn.MAXIFS($N59:AE59,$N$2:AE$2,\"Year\")+$E59<=$E$1,AC59+$E59,0),IF(AF$2=\"Repair %\",IF(AC59>0,$C$3,0),IF(AF$2=\"Spares %\",IF(IF(AC59>0,$C59,0)*100>50%,50%,IF(AC59>0,$C59,0)*100),0))))","v":0},{"$f":"IF(AF59=0,0,IF(AG$2=\"Year\",IF(_xlfn.MAXIFS($N59:AF59,$N$2:AF$2,\"Year\")+$E59<=$E$1,AD59+$E59,0),IF(AG$2=\"Repair %\",IF(AD59>0,$C59,0),IF(AG$2=\"Spares %\",IF(IF(AD59>0,$C59,0)*100>50%,50%,IF(AD59>0,$C59,0)*100),0))))","v":0},{"$f":"IF(AG59=0,0,IF(AH$2=\"Year\",IF(_xlfn.MAXIFS($N59:AG59,$N$2:AG$2,\"Year\")+$E59<=$E$1,AE59+$E59,0),IF(AH$2=\"Repair %\",IF(AE59>0,$C59,0),IF(AH$2=\"Spares %\",IF(IF(AC59>0,$C59,0)*5>80%,50%,IF(AC59>0,$C59,0)*5),0))))","v":0},{"$f":"IF(AH59=0,0,IF(AI$2=\"Year\",IF(_xlfn.MAXIFS($N59:AH59,$N$2:AH$2,\"Year\")+$E59<=$E$1,AF59+$E59,0),IF(AI$2=\"Repair %\",IF(AF59>0,$C$3,0),IF(AI$2=\"Spares %\",IF(IF(AF59>0,$C59,0)*100>50%,50%,IF(AF59>0,$C59,0)*100),0))))","v":0},{"$f":"IF(AI59=0,0,IF(AJ$2=\"Year\",IF(_xlfn.MAXIFS($N59:AI59,$N$2:AI$2,\"Year\")+$E59<=$E$1,AG59+$E59,0),IF(AJ$2=\"Repair %\",IF(AG59>0,$C59,0),IF(AJ$2=\"Spares %\",IF(IF(AG59>0,$C59,0)*100>50%,50%,IF(AG59>0,$C59,0)*100),0))))","v":0},{"$f":"IF(AJ59=0,0,IF(AK$2=\"Year\",IF(_xlfn.MAXIFS($N59:AJ59,$N$2:AJ$2,\"Year\")+$E59<=$E$1,AH59+$E59,0),IF(AK$2=\"Repair %\",IF(AH59>0,$C59,0),IF(AK$2=\"Spares %\",IF(IF(AF59>0,$C59,0)*5>80%,50%,IF(AF59>0,$C59,0)*5),0))))","v":0},{"$f":"IF(AK59=0,0,IF(AL$2=\"Year\",IF(_xlfn.MAXIFS($N59:AK59,$N$2:AK$2,\"Year\")+$E59<=$E$1,AI59+$E59,0),IF(AL$2=\"Repair %\",IF(AI59>0,$C$3,0),IF(AL$2=\"Spares %\",IF(IF(AI59>0,$C59,0)*100>50%,50%,IF(AI59>0,$C59,0)*100),0))))","v":0},{"$f":"IF(AL59=0,0,IF(AM$2=\"Year\",IF(_xlfn.MAXIFS($N59:AL59,$N$2:AL$2,\"Year\")+$E59<=$E$1,AJ59+$E59,0),IF(AM$2=\"Repair %\",IF(AJ59>0,$C59,0),IF(AM$2=\"Spares %\",IF(IF(AJ59>0,$C59,0)*100>50%,50%,IF(AJ59>0,$C59,0)*100),0))))","v":0},{"$f":"IF(AM59=0,0,IF(AN$2=\"Year\",IF(_xlfn.MAXIFS($N59:AM59,$N$2:AM$2,\"Year\")+$E59<=$E$1,AK59+$E59,0),IF(AN$2=\"Repair %\",IF(AK59>0,$C59,0),IF(AN$2=\"Spares %\",IF(IF(AI59>0,$C59,0)*5>80%,50%,IF(AI59>0,$C59,0)*5),0))))","v":0},{"$f":"IF(AN59=0,0,IF(AO$2=\"Year\",IF(_xlfn.MAXIFS($N59:AN59,$N$2:AN$2,\"Year\")+$E59<=$E$1,AL59+$E59,0),IF(AO$2=\"Repair %\",IF(AL59>0,$C$3,0),IF(AO$2=\"Spares %\",IF(IF(AL59>0,$C59,0)*100>50%,50%,IF(AL59>0,$C59,0)*100),0))))","v":0},{"$f":"IF(AO59=0,0,IF(AP$2=\"Year\",IF(_xlfn.MAXIFS($N59:AO59,$N$2:AO$2,\"Year\")+$E59<=$E$1,AM59+$E59,0),IF(AP$2=\"Repair %\",IF(AM59>0,$C59,0),IF(AP$2=\"Spares %\",IF(IF(AM59>0,$C59,0)*100>50%,50%,IF(AM59>0,$C59,0)*100),0))))","v":0},{"$f":"IF(AP59=0,0,IF(AQ$2=\"Year\",IF(_xlfn.MAXIFS($N59:AP59,$N$2:AP$2,\"Year\")+$E59<=$E$1,AN59+$E59,0),IF(AQ$2=\"Repair %\",IF(AN59>0,$C59,0),IF(AQ$2=\"Spares %\",IF(IF(AL59>0,$C59,0)*5>80%,50%,IF(AL59>0,$C59,0)*5),0))))","v":0}]
[{"$f":"INDEX('Avionics ID'!A:E,MATCH(B60,'Avionics ID'!E:E,0),1)","v":871},"Digital recorder",0.05,0.06,20,"Obsolecence",{"$f":"SUBSTITUTE(ADDRESS(1,MATCH(A60,'Pt1-AvionicsComponentCosts'!$A$6:$NC$6,0)+1),\"$1\",\"\")","v":"$CT"},{"$f":"_xlfn.TEXTJOIN(\", \",TRUE,_xlfn.UNIQUE(_xlfn._xlws.SORT(_xlfn._xlws.FILTER('Pt1-AvionicsComponentCosts'!$NF$12:$NF$384,ISNUMBER(INDIRECT(\"'Pt1-AvionicsComponentCosts'!\"&G60&\"$12:\"&G60&\"$384\"))))))","v":"UAV"},null,0.06,0.05,0.68300000000000005,1.931,{"$f":"COUNTIF($N$2:N$2,\"Year\")*$G$1","v":10},null,0,{"$f":"COUNTIF($N$2:Q$2,\"Year\")*$G$1","v":20},{"$f":"IF(Q60=0,0,IF(R$2=\"Year\",IF(_xlfn.MAXIFS($N60:Q60,$N$2:Q$2,\"Year\")+$E60<=$E$1,O60+$E60,0),IF(R$2=\"Repair %\",IF(O60>0,$C60,0),IF(R$2=\"Spares %\",IF(IF(O60>0,$C60,0)*100>50%,50%,IF(O60>0,$C60,0)*100),0))))","v":0},1,{"$f":"COUNTIF($N$2:T$2,\"Year\")*$G$1","v":30},{"$f":"IF(T60=0,0,IF(U$2=\"Year\",IF(_xlfn.MAXIFS($N60:T60,$N$2:T$2,\"Year\")+$E60<=$E$1,R60+$E60,0),IF(U$2=\"Repair %\",IF(R60>0,$C60,0),IF(U$2=\"Spares %\",IF(IF(R60>0,$C60,0)*100>50%,50%,IF(R60>0,$C60,0)*100),0))))","v":0},0,{"$f":"COUNTIF($N$2:W$2,\"Year\")*$G$1","v":40},{"$f":"IF(W60=0,0,IF(X$2=\"Year\",IF(_xlfn.MAXIFS($N60:W60,$N$2:W$2,\"Year\")+$E60<=$E$1,U60+$E60,0),IF(X$2=\"Repair %\",IF(U60>0,$C60,0),IF(X$2=\"Spares %\",IF(IF(U60>0,$C60,0)*100>50%,50%,IF(U60>0,$C60,0)*100),0))))","v":0},1,{"$f":"IF(Y60=0,0,IF(Z$2=\"Year\",IF(_xlfn.MAXIFS($N60:Y60,$N$2:Y$2,\"Year\")+$E60<=$E$1,W60+$E60,0),IF(Z$2=\"Repair %\",IF(W60>0,$C$3,0),IF(Z$2=\"Spares %\",IF(IF(W60>0,$C60,0)*100>50%,50%,IF(W60>0,$C60,0)*100),0))))","v":0},{"$f":"IF(Z60=0,0,IF(AA$2=\"Year\",IF(_xlfn.MAXIFS($N60:Z60,$N$2:Z$2,\"Year\")+$E60<=$E$1,X60+$E60,0),IF(AA$2=\"Repair %\",IF(X60>0,$C60,0),IF(AA$2=\"Spares %\",IF(IF(X60>0,$C60,0)*100>50%,50%,IF(X60>0,$C60,0)*100),0))))","v":0},{"$f":"IF(AA60=0,0,IF(AB$2=\"Year\",IF(_xlfn.MAXIFS($N60:AA60,$N$2:AA$2,\"Year\")+$E60<=$E$1,Y60+$E60,0),IF(AB$2=\"Repair %\",IF(Y60>0,$C60,0),IF(AB$2=\"Spares %\",IF(IF(W60>0,$C60,0)*5>80%,50%,IF(W60>0,$C60,0)*5),0))))","v":0},{"$f":"IF(AB60=0,0,IF(AC$2=\"Year\",IF(_xlfn.MAXIFS($N60:AB60,$N$2:AB$2,\"Year\")+$E60<=$E$1,Z60+$E60,0),IF(AC$2=\"Repair %\",IF(Z60>0,$C$3,0),IF(AC$2=\"Spares %\",IF(IF(Z60>0,$C60,0)*100>50%,50%,IF(Z60>0,$C60,0)*100),0))))","v":0},{"$f":"IF(AC60=0,0,IF(AD$2=\"Year\",IF(_xlfn.MAXIFS($N60:AC60,$N$2:AC$2,\"Year\")+$E60<=$E$1,AA60+$E60,0),IF(AD$2=\"Repair %\",IF(AA60>0,$C60,0),IF(AD$2=\"Spares %\",IF(IF(AA60>0,$C60,0)*100>50%,50%,IF(AA60>0,$C60,0)*100),0))))","v":0},{"$f":"IF(AD60=0,0,IF(AE$2=\"Year\",IF(_xlfn.MAXIFS($N60:AD60,$N$2:AD$2,\"Year\")+$E60<=$E$1,AB60+$E60,0),IF(AE$2=\"Repair %\",IF(AB60>0,$C60,0),IF(AE$2=\"Spares %\",IF(IF(Z60>0,$C60,0)*5>80%,50%,IF(Z60>0,$C60,0)*5),0))))","v":0},{"$f":"IF(AE60=0,0,IF(AF$2=\"Year\",IF(_xlfn.MAXIFS($N60:AE60,$N$2:AE$2,\"Year\")+$E60<=$E$1,AC60+$E60,0),IF(AF$2=\"Repair %\",IF(AC60>0,$C$3,0),IF(AF$2=\"Spares %\",IF(IF(AC60>0,$C60,0)*100>50%,50%,IF(AC60>0,$C60,0)*100),0))))","v":0},{"$f":"IF(AF60=0,0,IF(AG$2=\"Year\",IF(_xlfn.MAXIFS($N60:AF60,$N$2:AF$2,\"Year\")+$E60<=$E$1,AD60+$E60,0),IF(AG$2=\"Repair %\",IF(AD60>0,$C60,0),IF(AG$2=\"Spares %\",IF(IF(AD60>0,$C60,0)*100>50%,50%,IF(AD60>0,$C60,0)*100),0))))","v":0},{"$f":"IF(AG60=0,0,IF(AH$2=\"Year\",IF(_xlfn.MAXIFS($N60:AG60,$N$2:AG$2,\"Year\")+$E60<=$E$1,AE60+$E60,0),IF(AH$2=\"Repair %\",IF(AE60>0,$C60,0),IF(AH$2=\"Spares %\",IF(IF(AC60>0,$C60,0)*5>80%,50%,IF(AC60>0,$C60,0)*5),0))))","v":0},{"$f":"IF(AH60=0,0,IF(AI$2=\"Year\",IF(_xlfn.MAXIFS($N60:AH60,$N$2:AH$2,\"Year\")+$E60<=$E$1,AF60+$E60,0),IF(AI$2=\"Repair %\",IF(AF60>0,$C$3,0),IF(AI$2=\"Spares %\",IF(IF(AF60>0,$C60,0)*100>50%,50%,IF(AF60>0,$C60,0)*100),0))))","v":0},{"$f":"IF(AI60=0,0,IF(AJ$2=\"Year\",IF(_xlfn.MAXIFS($N60:AI60,$N$2:AI$2,\"Year\")+$E60<=$E$1,AG60+$E60,0),IF(AJ$2=\"Repair %\",IF(AG60>0,$C60,0),IF(AJ$2=\"Spares %\",IF(IF(AG60>0,$C60,0)*100>50%,50%,IF(AG60>0,$C60,0)*100),0))))","v":0},{"$f":"IF(AJ60=0,0,IF(AK$2=\"Year\",IF(_xlfn.MAXIFS($N60:AJ60,$N$2:AJ$2,\"Year\")+$E60<=$E$1,AH60+$E60,0),IF(AK$2=\"Repair %\",IF(AH60>0,$C60,0),IF(AK$2=\"Spares %\",IF(IF(AF60>0,$C60,0)*5>80%,50%,IF(AF60>0,$C60,0)*5),0))))","v":0},{"$f":"IF(AK60=0,0,IF(AL$2=\"Year\",IF(_xlfn.MAXIFS($N60:AK60,$N$2:AK$2,\"Year\")+$E60<=$E$1,AI60+$E60,0),IF(AL$2=\"Repair %\",IF(AI60>0,$C$3,0),IF(AL$2=\"Spares %\",IF(IF(AI60>0,$C60,0)*100>50%,50%,IF(AI60>0,$C60,0)*100),0))))","v":0},{"$f":"IF(AL60=0,0,IF(AM$2=\"Year\",IF(_xlfn.MAXIFS($N60:AL60,$N$2:AL$2,\"Year\")+$E60<=$E$1,AJ60+$E60,0),IF(AM$2=\"Repair %\",IF(AJ60>0,$C60,0),IF(AM$2=\"Spares %\",IF(IF(AJ60>0,$C60,0)*100>50%,50%,IF(AJ60>0,$C60,0)*100),0))))","v":0},{"$f":"IF(AM60=0,0,IF(AN$2=\"Year\",IF(_xlfn.MAXIFS($N60:AM60,$N$2:AM$2,\"Year\")+$E60<=$E$1,AK60+$E60,0),IF(AN$2=\"Repair %\",IF(AK60>0,$C60,0),IF(AN$2=\"Spares %\",IF(IF(AI60>0,$C60,0)*5>80%,50%,IF(AI60>0,$C60,0)*5),0))))","v":0},{"$f":"IF(AN60=0,0,IF(AO$2=\"Year\",IF(_xlfn.MAXIFS($N60:AN60,$N$2:AN$2,\"Year\")+$E60<=$E$1,AL60+$E60,0),IF(AO$2=\"Repair %\",IF(AL60>0,$C$3,0),IF(AO$2=\"Spares %\",IF(IF(AL60>0,$C60,0)*100>50%,50%,IF(AL60>0,$C60,0)*100),0))))","v":0},{"$f":"IF(AO60=0,0,IF(AP$2=\"Year\",IF(_xlfn.MAXIFS($N60:AO60,$N$2:AO$2,\"Year\")+$E60<=$E$1,AM60+$E60,0),IF(AP$2=\"Repair %\",IF(AM60>0,$C60,0),IF(AP$2=\"Spares %\",IF(IF(AM60>0,$C60,0)*100>50%,50%,IF(AM60>0,$C60,0)*100),0))))","v":0},{"$f":"IF(AP60=0,0,IF(AQ$2=\"Year\",IF(_xlfn.MAXIFS($N60:AP60,$N$2:AP$2,\"Year\")+$E60<=$E$1,AN60+$E60,0),IF(AQ$2=\"Repair %\",IF(AN60>0,$C60,0),IF(AQ$2=\"Spares %\",IF(IF(AL60>0,$C60,0)*5>80%,50%,IF(AL60>0,$C60,0)*5),0))))","v":0}]
[{"$f":"INDEX('Avionics ID'!A:E,MATCH(B61,'Avionics ID'!E:E,0),1)","v":809},"Digital Voice & Data Recorder",0.2,0.06,5,"Technology / regulatory",{"$f":"SUBSTITUTE(ADDRESS(1,MATCH(A61,'Pt1-AvionicsComponentCosts'!$A$6:$NC$6,0)+1),\"$1\",\"\")","v":"$CV"},{"$f":"_xlfn.TEXTJOIN(\", \",TRUE,_xlfn.UNIQUE(_xlfn._xlws.SORT(_xlfn._xlws.FILTER('Pt1-AvionicsComponentCosts'!$NF$12:$NF$384,ISNUMBER(INDIRECT(\"'Pt1-AvionicsComponentCosts'!\"&G61&\"$12:\"&G61&\"$384\"))))))","v":"ARJ, CRJ, EMB Regional, Reg TP, Superjet 100, Turbine GA"},null,0.06,0.2,0.68300000000000005,1.931,{"$f":"COUNTIF($N$2:N$2,\"Year\")*$G$1","v":10},null,1,{"$f":"COUNTIF($N$2:Q$2,\"Year\")*$G$1","v":20},{"$f":"IF(Q61=0,0,IF(R$2=\"Year\",IF(_xlfn.MAXIFS($N61:Q61,$N$2:Q$2,\"Year\")+$E61<=$E$1,O61+$E61,0),IF(R$2=\"Repair %\",IF(O61>0,$C61,0),IF(R$2=\"Spares %\",IF(IF(O61>0,$C61,0)*100>50%,50%,IF(O61>0,$C61,0)*100),0))))","v":0},1,{"$f":"COUNTIF($N$2:T$2,\"Year\")*$G$1","v":30},{"$f":"IF(T61=0,0,IF(U$2=\"Year\",IF(_xlfn.MAXIFS($N61:T61,$N$2:T$2,\"Year\")+$E61<=$E$1,R61+$E61,0),IF(U$2=\"Repair %\",IF(R61>0,$C61,0),IF(U$2=\"Spares %\",IF(IF(R61>0,$C61,0)*100>50%,50%,IF(R61>0,$C61,0)*100),0))))","v":0},1,{"$f":"COUNTIF($N$2:W$2,\"Year\")*$G$1","v":40},{"$f":"IF(W61=0,0,IF(X$2=\"Year\",IF(_xlfn.MAXIFS($N61:W61,$N$2:W$2,\"Year\")+$E61<=$E$1,U61+$E61,0),IF(X$2=\"Repair %\",IF(U61>0,$C61,0),IF(X$2=\"Spares %\",IF(IF(U61>0,$C61,0)*100>50%,50%,IF(U61>0,$C61,0)*100),0))))","v":0},1,{"$f":"IF(Y61=0,0,IF(Z$2=\"Year\",IF(_xlfn.MAXIFS($N61:Y61,$N$2:Y$2,\"Year\")+$E61<=$E$1,W61+$E61,0),IF(Z$2=\"Repair %\",IF(W61>0,$C$3,0),IF(Z$2=\"Spares %\",IF(IF(W61>0,$C61,0)*100>50%,50%,IF(W61>0,$C61,0)*100),0))))","v":0},{"$f":"IF(Z61=0,0,IF(AA$2=\"Year\",IF(_xlfn.MAXIFS($N61:Z61,$N$2:Z$2,\"Year\")+$E61<=$E$1,X61+$E61,0),IF(AA$2=\"Repair %\",IF(X61>0,$C61,0),IF(AA$2=\"Spares %\",IF(IF(X61>0,$C61,0)*100>50%,50%,IF(X61>0,$C61,0)*100),0))))","v":0},{"$f":"IF(AA61=0,0,IF(AB$2=\"Year\",IF(_xlfn.MAXIFS($N61:AA61,$N$2:AA$2,\"Year\")+$E61<=$E$1,Y61+$E61,0),IF(AB$2=\"Repair %\",IF(Y61>0,$C61,0),IF(AB$2=\"Spares %\",IF(IF(W61>0,$C61,0)*5>80%,50%,IF(W61>0,$C61,0)*5),0))))","v":0},{"$f":"IF(AB61=0,0,IF(AC$2=\"Year\",IF(_xlfn.MAXIFS($N61:AB61,$N$2:AB$2,\"Year\")+$E61<=$E$1,Z61+$E61,0),IF(AC$2=\"Repair %\",IF(Z61>0,$C$3,0),IF(AC$2=\"Spares %\",IF(IF(Z61>0,$C61,0)*100>50%,50%,IF(Z61>0,$C61,0)*100),0))))","v":0},{"$f":"IF(AC61=0,0,IF(AD$2=\"Year\",IF(_xlfn.MAXIFS($N61:AC61,$N$2:AC$2,\"Year\")+$E61<=$E$1,AA61+$E61,0),IF(AD$2=\"Repair %\",IF(AA61>0,$C61,0),IF(AD$2=\"Spares %\",IF(IF(AA61>0,$C61,0)*100>50%,50%,IF(AA61>0,$C61,0)*100),0))))","v":0},{"$f":"IF(AD61=0,0,IF(AE$2=\"Year\",IF(_xlfn.MAXIFS($N61:AD61,$N$2:AD$2,\"Year\")+$E61<=$E$1,AB61+$E61,0),IF(AE$2=\"Repair %\",IF(AB61>0,$C61,0),IF(AE$2=\"Spares %\",IF(IF(Z61>0,$C61,0)*5>80%,50%,IF(Z61>0,$C61,0)*5),0))))","v":0},{"$f":"IF(AE61=0,0,IF(AF$2=\"Year\",IF(_xlfn.MAXIFS($N61:AE61,$N$2:AE$2,\"Year\")+$E61<=$E$1,AC61+$E61,0),IF(AF$2=\"Repair %\",IF(AC61>0,$C$3,0),IF(AF$2=\"Spares %\",IF(IF(AC61>0,$C61,0)*100>50%,50%,IF(AC61>0,$C61,0)*100),0))))","v":0},{"$f":"IF(AF61=0,0,IF(AG$2=\"Year\",IF(_xlfn.MAXIFS($N61:AF61,$N$2:AF$2,\"Year\")+$E61<=$E$1,AD61+$E61,0),IF(AG$2=\"Repair %\",IF(AD61>0,$C61,0),IF(AG$2=\"Spares %\",IF(IF(AD61>0,$C61,0)*100>50%,50%,IF(AD61>0,$C61,0)*100),0))))","v":0},{"$f":"IF(AG61=0,0,IF(AH$2=\"Year\",IF(_xlfn.MAXIFS($N61:AG61,$N$2:AG$2,\"Year\")+$E61<=$E$1,AE61+$E61,0),IF(AH$2=\"Repair %\",IF(AE61>0,$C61,0),IF(AH$2=\"Spares %\",IF(IF(AC61>0,$C61,0)*5>80%,50%,IF(AC61>0,$C61,0)*5),0))))","v":0},{"$f":"IF(AH61=0,0,IF(AI$2=\"Year\",IF(_xlfn.MAXIFS($N61:AH61,$N$2:AH$2,\"Year\")+$E61<=$E$1,AF61+$E61,0),IF(AI$2=\"Repair %\",IF(AF61>0,$C$3,0),IF(AI$2=\"Spares %\",IF(IF(AF61>0,$C61,0)*100>50%,50%,IF(AF61>0,$C61,0)*100),0))))","v":0},{"$f":"IF(AI61=0,0,IF(AJ$2=\"Year\",IF(_xlfn.MAXIFS($N61:AI61,$N$2:AI$2,\"Year\")+$E61<=$E$1,AG61+$E61,0),IF(AJ$2=\"Repair %\",IF(AG61>0,$C61,0),IF(AJ$2=\"Spares %\",IF(IF(AG61>0,$C61,0)*100>50%,50%,IF(AG61>0,$C61,0)*100),0))))","v":0},{"$f":"IF(AJ61=0,0,IF(AK$2=\"Year\",IF(_xlfn.MAXIFS($N61:AJ61,$N$2:AJ$2,\"Year\")+$E61<=$E$1,AH61+$E61,0),IF(AK$2=\"Repair %\",IF(AH61>0,$C61,0),IF(AK$2=\"Spares %\",IF(IF(AF61>0,$C61,0)*5>80%,50%,IF(AF61>0,$C61,0)*5),0))))","v":0},{"$f":"IF(AK61=0,0,IF(AL$2=\"Year\",IF(_xlfn.MAXIFS($N61:AK61,$N$2:AK$2,\"Year\")+$E61<=$E$1,AI61+$E61,0),IF(AL$2=\"Repair %\",IF(AI61>0,$C$3,0),IF(AL$2=\"Spares %\",IF(IF(AI61>0,$C61,0)*100>50%,50%,IF(AI61>0,$C61,0)*100),0))))","v":0},{"$f":"IF(AL61=0,0,IF(AM$2=\"Year\",IF(_xlfn.MAXIFS($N61:AL61,$N$2:AL$2,\"Year\")+$E61<=$E$1,AJ61+$E61,0),IF(AM$2=\"Repair %\",IF(AJ61>0,$C61,0),IF(AM$2=\"Spares %\",IF(IF(AJ61>0,$C61,0)*100>50%,50%,IF(AJ61>0,$C61,0)*100),0))))","v":0},{"$f":"IF(AM61=0,0,IF(AN$2=\"Year\",IF(_xlfn.MAXIFS($N61:AM61,$N$2:AM$2,\"Year\")+$E61<=$E$1,AK61+$E61,0),IF(AN$2=\"Repair %\",IF(AK61>0,$C61,0),IF(AN$2=\"Spares %\",IF(IF(AI61>0,$C61,0)*5>80%,50%,IF(AI61>0,$C61,0)*5),0))))","v":0},{"$f":"IF(AN61=0,0,IF(AO$2=\"Year\",IF(_xlfn.MAXIFS($N61:AN61,$N$2:AN$2,\"Year\")+$E61<=$E$1,AL61+$E61,0),IF(AO$2=\"Repair %\",IF(AL61>0,$C$3,0),IF(AO$2=\"Spares %\",IF(IF(AL61>0,$C61,0)*100>50%,50%,IF(AL61>0,$C61,0)*100),0))))","v":0},{"$f":"IF(AO61=0,0,IF(AP$2=\"Year\",IF(_xlfn.MAXIFS($N61:AO61,$N$2:AO$2,\"Year\")+$E61<=$E$1,AM61+$E61,0),IF(AP$2=\"Repair %\",IF(AM61>0,$C61,0),IF(AP$2=\"Spares %\",IF(IF(AM61>0,$C61,0)*100>50%,50%,IF(AM61>0,$C61,0)*100),0))))","v":0},{"$f":"IF(AP61=0,0,IF(AQ$2=\"Year\",IF(_xlfn.MAXIFS($N61:AP61,$N$2:AP$2,\"Year\")+$E61<=$E$1,AN61+$E61,0),IF(AQ$2=\"Repair %\",IF(AN61>0,$C61,0),IF(AQ$2=\"Spares %\",IF(IF(AL61>0,$C61,0)*5>80%,50%,IF(AL61>0,$C61,0)*5),0))))","v":0}]
[{"$f":"INDEX('Avionics ID'!A:E,MATCH(B62,'Avionics ID'!E:E,0),1)","v":845},"Directed InfraRed Counter Measures",0,0.06,null,"",{"$f":"SUBSTITUTE(ADDRESS(1,MATCH(A62,'Pt1-AvionicsComponentCosts'!$A$6:$NC$6,0)+1),\"$1\",\"\")","v":"$ID"},{"$f":"_xlfn.TEXTJOIN(\", \",TRUE,_xlfn.UNIQUE(_xlfn._xlws.SORT(_xlfn._xlws.FILTER('Pt1-AvionicsComponentCosts'!$NF$12:$NF$384,ISNUMBER(INDIRECT(\"'Pt1-AvionicsComponentCosts'!\"&G62&\"$12:\"&G62&\"$384\"))))))","v":"A330 LMXT, A330 MRTT, Mil Transport, Military Jet, Military TP"},null,0.06,0,0.36,1.87,{"$f":"COUNTIF($N$2:N$2,\"Year\")*$G$1","v":10},null,0,{"$f":"COUNTIF($N$2:Q$2,\"Year\")*$G$1","v":20},{"$f":"IF(Q62=0,0,IF(R$2=\"Year\",IF(_xlfn.MAXIFS($N62:Q62,$N$2:Q$2,\"Year\")+$E62<=$E$1,O62+$E62,0),IF(R$2=\"Repair %\",IF(O62>0,$C62,0),IF(R$2=\"Spares %\",IF(IF(O62>0,$C62,0)*100>50%,50%,IF(O62>0,$C62,0)*100),0))))","v":0},0,{"$f":"COUNTIF($N$2:T$2,\"Year\")*$G$1","v":30},{"$f":"IF(T62=0,0,IF(U$2=\"Year\",IF(_xlfn.MAXIFS($N62:T62,$N$2:T$2,\"Year\")+$E62<=$E$1,R62+$E62,0),IF(U$2=\"Repair %\",IF(R62>0,$C62,0),IF(U$2=\"Spares %\",IF(IF(R62>0,$C62,0)*100>50%,50%,IF(R62>0,$C62,0)*100),0))))","v":0},0,{"$f":"COUNTIF($N$2:W$2,\"Year\")*$G$1","v":40},{"$f":"IF(W62=0,0,IF(X$2=\"Year\",IF(_xlfn.MAXIFS($N62:W62,$N$2:W$2,\"Year\")+$E62<=$E$1,U62+$E62,0),IF(X$2=\"Repair %\",IF(U62>0,$C62,0),IF(X$2=\"Spares %\",IF(IF(U62>0,$C62,0)*100>50%,50%,IF(U62>0,$C62,0)*100),0))))","v":0},0,{"$f":"IF(Y62=0,0,IF(Z$2=\"Year\",IF(_xlfn.MAXIFS($N62:Y62,$N$2:Y$2,\"Year\")+$E62<=$E$1,W62+$E62,0),IF(Z$2=\"Repair %\",IF(W62>0,$C$3,0),IF(Z$2=\"Spares %\",IF(IF(W62>0,$C62,0)*100>50%,50%,IF(W62>0,$C62,0)*100),0))))","v":0},{"$f":"IF(Z62=0,0,IF(AA$2=\"Year\",IF(_xlfn.MAXIFS($N62:Z62,$N$2:Z$2,\"Year\")+$E62<=$E$1,X62+$E62,0),IF(AA$2=\"Repair %\",IF(X62>0,$C62,0),IF(AA$2=\"Spares %\",IF(IF(X62>0,$C62,0)*100>50%,50%,IF(X62>0,$C62,0)*100),0))))","v":0},{"$f":"IF(AA62=0,0,IF(AB$2=\"Year\",IF(_xlfn.MAXIFS($N62:AA62,$N$2:AA$2,\"Year\")+$E62<=$E$1,Y62+$E62,0),IF(AB$2=\"Repair %\",IF(Y62>0,$C62,0),IF(AB$2=\"Spares %\",IF(IF(W62>0,$C62,0)*5>80%,50%,IF(W62>0,$C62,0)*5),0))))","v":0},{"$f":"IF(AB62=0,0,IF(AC$2=\"Year\",IF(_xlfn.MAXIFS($N62:AB62,$N$2:AB$2,\"Year\")+$E62<=$E$1,Z62+$E62,0),IF(AC$2=\"Repair %\",IF(Z62>0,$C$3,0),IF(AC$2=\"Spares %\",IF(IF(Z62>0,$C62,0)*100>50%,50%,IF(Z62>0,$C62,0)*100),0))))","v":0},{"$f":"IF(AC62=0,0,IF(AD$2=\"Year\",IF(_xlfn.MAXIFS($N62:AC62,$N$2:AC$2,\"Year\")+$E62<=$E$1,AA62+$E62,0),IF(AD$2=\"Repair %\",IF(AA62>0,$C62,0),IF(AD$2=\"Spares %\",IF(IF(AA62>0,$C62,0)*100>50%,50%,IF(AA62>0,$C62,0)*100),0))))","v":0},{"$f":"IF(AD62=0,0,IF(AE$2=\"Year\",IF(_xlfn.MAXIFS($N62:AD62,$N$2:AD$2,\"Year\")+$E62<=$E$1,AB62+$E62,0),IF(AE$2=\"Repair %\",IF(AB62>0,$C62,0),IF(AE$2=\"Spares %\",IF(IF(Z62>0,$C62,0)*5>80%,50%,IF(Z62>0,$C62,0)*5),0))))","v":0},{"$f":"IF(AE62=0,0,IF(AF$2=\"Year\",IF(_xlfn.MAXIFS($N62:AE62,$N$2:AE$2,\"Year\")+$E62<=$E$1,AC62+$E62,0),IF(AF$2=\"Repair %\",IF(AC62>0,$C$3,0),IF(AF$2=\"Spares %\",IF(IF(AC62>0,$C62,0)*100>50%,50%,IF(AC62>0,$C62,0)*100),0))))","v":0},{"$f":"IF(AF62=0,0,IF(AG$2=\"Year\",IF(_xlfn.MAXIFS($N62:AF62,$N$2:AF$2,\"Year\")+$E62<=$E$1,AD62+$E62,0),IF(AG$2=\"Repair %\",IF(AD62>0,$C62,0),IF(AG$2=\"Spares %\",IF(IF(AD62>0,$C62,0)*100>50%,50%,IF(AD62>0,$C62,0)*100),0))))","v":0},{"$f":"IF(AG62=0,0,IF(AH$2=\"Year\",IF(_xlfn.MAXIFS($N62:AG62,$N$2:AG$2,\"Year\")+$E62<=$E$1,AE62+$E62,0),IF(AH$2=\"Repair %\",IF(AE62>0,$C62,0),IF(AH$2=\"Spares %\",IF(IF(AC62>0,$C62,0)*5>80%,50%,IF(AC62>0,$C62,0)*5),0))))","v":0},{"$f":"IF(AH62=0,0,IF(AI$2=\"Year\",IF(_xlfn.MAXIFS($N62:AH62,$N$2:AH$2,\"Year\")+$E62<=$E$1,AF62+$E62,0),IF(AI$2=\"Repair %\",IF(AF62>0,$C$3,0),IF(AI$2=\"Spares %\",IF(IF(AF62>0,$C62,0)*100>50%,50%,IF(AF62>0,$C62,0)*100),0))))","v":0},{"$f":"IF(AI62=0,0,IF(AJ$2=\"Year\",IF(_xlfn.MAXIFS($N62:AI62,$N$2:AI$2,\"Year\")+$E62<=$E$1,AG62+$E62,0),IF(AJ$2=\"Repair %\",IF(AG62>0,$C62,0),IF(AJ$2=\"Spares %\",IF(IF(AG62>0,$C62,0)*100>50%,50%,IF(AG62>0,$C62,0)*100),0))))","v":0},{"$f":"IF(AJ62=0,0,IF(AK$2=\"Year\",IF(_xlfn.MAXIFS($N62:AJ62,$N$2:AJ$2,\"Year\")+$E62<=$E$1,AH62+$E62,0),IF(AK$2=\"Repair %\",IF(AH62>0,$C62,0),IF(AK$2=\"Spares %\",IF(IF(AF62>0,$C62,0)*5>80%,50%,IF(AF62>0,$C62,0)*5),0))))","v":0},{"$f":"IF(AK62=0,0,IF(AL$2=\"Year\",IF(_xlfn.MAXIFS($N62:AK62,$N$2:AK$2,\"Year\")+$E62<=$E$1,AI62+$E62,0),IF(AL$2=\"Repair %\",IF(AI62>0,$C$3,0),IF(AL$2=\"Spares %\",IF(IF(AI62>0,$C62,0)*100>50%,50%,IF(AI62>0,$C62,0)*100),0))))","v":0},{"$f":"IF(AL62=0,0,IF(AM$2=\"Year\",IF(_xlfn.MAXIFS($N62:AL62,$N$2:AL$2,\"Year\")+$E62<=$E$1,AJ62+$E62,0),IF(AM$2=\"Repair %\",IF(AJ62>0,$C62,0),IF(AM$2=\"Spares %\",IF(IF(AJ62>0,$C62,0)*100>50%,50%,IF(AJ62>0,$C62,0)*100),0))))","v":0},{"$f":"IF(AM62=0,0,IF(AN$2=\"Year\",IF(_xlfn.MAXIFS($N62:AM62,$N$2:AM$2,\"Year\")+$E62<=$E$1,AK62+$E62,0),IF(AN$2=\"Repair %\",IF(AK62>0,$C62,0),IF(AN$2=\"Spares %\",IF(IF(AI62>0,$C62,0)*5>80%,50%,IF(AI62>0,$C62,0)*5),0))))","v":0},{"$f":"IF(AN62=0,0,IF(AO$2=\"Year\",IF(_xlfn.MAXIFS($N62:AN62,$N$2:AN$2,\"Year\")+$E62<=$E$1,AL62+$E62,0),IF(AO$2=\"Repair %\",IF(AL62>0,$C$3,0),IF(AO$2=\"Spares %\",IF(IF(AL62>0,$C62,0)*100>50%,50%,IF(AL62>0,$C62,0)*100),0))))","v":0},{"$f":"IF(AO62=0,0,IF(AP$2=\"Year\",IF(_xlfn.MAXIFS($N62:AO62,$N$2:AO$2,\"Year\")+$E62<=$E$1,AM62+$E62,0),IF(AP$2=\"Repair %\",IF(AM62>0,$C62,0),IF(AP$2=\"Spares %\",IF(IF(AM62>0,$C62,0)*100>50%,50%,IF(AM62>0,$C62,0)*100),0))))","v":0},{"$f":"IF(AP62=0,0,IF(AQ$2=\"Year\",IF(_xlfn.MAXIFS($N62:AP62,$N$2:AP$2,\"Year\")+$E62<=$E$1,AN62+$E62,0),IF(AQ$2=\"Repair %\",IF(AN62>0,$C62,0),IF(AQ$2=\"Spares %\",IF(IF(AL62>0,$C62,0)*5>80%,50%,IF(AL62>0,$C62,0)*5),0))))","v":0}]
[{"$f":"INDEX('Avionics ID'!A:E,MATCH(B63,'Avionics ID'!E:E,0),1)","v":802},"Display Controllers",6.6666666666666666E-2,0.06,15,"Obsolecence",{"$f":"SUBSTITUTE(ADDRESS(1,MATCH(A63,'Pt1-AvionicsComponentCosts'!$A$6:$NC$6,0)+1),\"$1\",\"\")","v":"$EH"},{"$f":"_xlfn.TEXTJOIN(\", \",TRUE,_xlfn.UNIQUE(_xlfn._xlws.SORT(_xlfn._xlws.FILTER('Pt1-AvionicsComponentCosts'!$NF$12:$NF$384,ISNUMBER(INDIRECT(\"'Pt1-AvionicsComponentCosts'!\"&G63&\"$12:\"&G63&\"$384\"))))))","v":"ARJ, CRJ, EMB Regional, Reg TP, Superjet 100, Turbine GA"},null,0.06,7.0000000000000007E-2,0.35299999999999998,1.8460000000000001,{"$f":"COUNTIF($N$2:N$2,\"Year\")*$G$1","v":10},null,0.5,{"$f":"COUNTIF($N$2:Q$2,\"Year\")*$G$1","v":20},{"$f":"IF(Q63=0,0,IF(R$2=\"Year\",IF(_xlfn.MAXIFS($N63:Q63,$N$2:Q$2,\"Year\")+$E63<=$E$1,O63+$E63,0),IF(R$2=\"Repair %\",IF(O63>0,$C63,0),IF(R$2=\"Spares %\",IF(IF(O63>0,$C63,0)*100>50%,50%,IF(O63>0,$C63,0)*100),0))))","v":0},0.5,{"$f":"COUNTIF($N$2:T$2,\"Year\")*$G$1","v":30},{"$f":"IF(T63=0,0,IF(U$2=\"Year\",IF(_xlfn.MAXIFS($N63:T63,$N$2:T$2,\"Year\")+$E63<=$E$1,R63+$E63,0),IF(U$2=\"Repair %\",IF(R63>0,$C63,0),IF(U$2=\"Spares %\",IF(IF(R63>0,$C63,0)*100>50%,50%,IF(R63>0,$C63,0)*100),0))))","v":0},1,{"$f":"COUNTIF($N$2:W$2,\"Year\")*$G$1","v":40},{"$f":"IF(W63=0,0,IF(X$2=\"Year\",IF(_xlfn.MAXIFS($N63:W63,$N$2:W$2,\"Year\")+$E63<=$E$1,U63+$E63,0),IF(X$2=\"Repair %\",IF(U63>0,$C63,0),IF(X$2=\"Spares %\",IF(IF(U63>0,$C63,0)*100>50%,50%,IF(U63>0,$C63,0)*100),0))))","v":0},0.5,{"$f":"IF(Y63=0,0,IF(Z$2=\"Year\",IF(_xlfn.MAXIFS($N63:Y63,$N$2:Y$2,\"Year\")+$E63<=$E$1,W63+$E63,0),IF(Z$2=\"Repair %\",IF(W63>0,$C$3,0),IF(Z$2=\"Spares %\",IF(IF(W63>0,$C63,0)*100>50%,50%,IF(W63>0,$C63,0)*100),0))))","v":0},{"$f":"IF(Z63=0,0,IF(AA$2=\"Year\",IF(_xlfn.MAXIFS($N63:Z63,$N$2:Z$2,\"Year\")+$E63<=$E$1,X63+$E63,0),IF(AA$2=\"Repair %\",IF(X63>0,$C63,0),IF(AA$2=\"Spares %\",IF(IF(X63>0,$C63,0)*100>50%,50%,IF(X63>0,$C63,0)*100),0))))","v":0},{"$f":"IF(AA63=0,0,IF(AB$2=\"Year\",IF(_xlfn.MAXIFS($N63:AA63,$N$2:AA$2,\"Year\")+$E63<=$E$1,Y63+$E63,0),IF(AB$2=\"Repair %\",IF(Y63>0,$C63,0),IF(AB$2=\"Spares %\",IF(IF(W63>0,$C63,0)*5>80%,50%,IF(W63>0,$C63,0)*5),0))))","v":0},{"$f":"IF(AB63=0,0,IF(AC$2=\"Year\",IF(_xlfn.MAXIFS($N63:AB63,$N$2:AB$2,\"Year\")+$E63<=$E$1,Z63+$E63,0),IF(AC$2=\"Repair %\",IF(Z63>0,$C$3,0),IF(AC$2=\"Spares %\",IF(IF(Z63>0,$C63,0)*100>50%,50%,IF(Z63>0,$C63,0)*100),0))))","v":0},{"$f":"IF(AC63=0,0,IF(AD$2=\"Year\",IF(_xlfn.MAXIFS($N63:AC63,$N$2:AC$2,\"Year\")+$E63<=$E$1,AA63+$E63,0),IF(AD$2=\"Repair %\",IF(AA63>0,$C63,0),IF(AD$2=\"Spares %\",IF(IF(AA63>0,$C63,0)*100>50%,50%,IF(AA63>0,$C63,0)*100),0))))","v":0},{"$f":"IF(AD63=0,0,IF(AE$2=\"Year\",IF(_xlfn.MAXIFS($N63:AD63,$N$2:AD$2,\"Year\")+$E63<=$E$1,AB63+$E63,0),IF(AE$2=\"Repair %\",IF(AB63>0,$C63,0),IF(AE$2=\"Spares %\",IF(IF(Z63>0,$C63,0)*5>80%,50%,IF(Z63>0,$C63,0)*5),0))))","v":0},{"$f":"IF(AE63=0,0,IF(AF$2=\"Year\",IF(_xlfn.MAXIFS($N63:AE63,$N$2:AE$2,\"Year\")+$E63<=$E$1,AC63+$E63,0),IF(AF$2=\"Repair %\",IF(AC63>0,$C$3,0),IF(AF$2=\"Spares %\",IF(IF(AC63>0,$C63,0)*100>50%,50%,IF(AC63>0,$C63,0)*100),0))))","v":0},{"$f":"IF(AF63=0,0,IF(AG$2=\"Year\",IF(_xlfn.MAXIFS($N63:AF63,$N$2:AF$2,\"Year\")+$E63<=$E$1,AD63+$E63,0),IF(AG$2=\"Repair %\",IF(AD63>0,$C63,0),IF(AG$2=\"Spares %\",IF(IF(AD63>0,$C63,0)*100>50%,50%,IF(AD63>0,$C63,0)*100),0))))","v":0},{"$f":"IF(AG63=0,0,IF(AH$2=\"Year\",IF(_xlfn.MAXIFS($N63:AG63,$N$2:AG$2,\"Year\")+$E63<=$E$1,AE63+$E63,0),IF(AH$2=\"Repair %\",IF(AE63>0,$C63,0),IF(AH$2=\"Spares %\",IF(IF(AC63>0,$C63,0)*5>80%,50%,IF(AC63>0,$C63,0)*5),0))))","v":0},{"$f":"IF(AH63=0,0,IF(AI$2=\"Year\",IF(_xlfn.MAXIFS($N63:AH63,$N$2:AH$2,\"Year\")+$E63<=$E$1,AF63+$E63,0),IF(AI$2=\"Repair %\",IF(AF63>0,$C$3,0),IF(AI$2=\"Spares %\",IF(IF(AF63>0,$C63,0)*100>50%,50%,IF(AF63>0,$C63,0)*100),0))))","v":0},{"$f":"IF(AI63=0,0,IF(AJ$2=\"Year\",IF(_xlfn.MAXIFS($N63:AI63,$N$2:AI$2,\"Year\")+$E63<=$E$1,AG63+$E63,0),IF(AJ$2=\"Repair %\",IF(AG63>0,$C63,0),IF(AJ$2=\"Spares %\",IF(IF(AG63>0,$C63,0)*100>50%,50%,IF(AG63>0,$C63,0)*100),0))))","v":0},{"$f":"IF(AJ63=0,0,IF(AK$2=\"Year\",IF(_xlfn.MAXIFS($N63:AJ63,$N$2:AJ$2,\"Year\")+$E63<=$E$1,AH63+$E63,0),IF(AK$2=\"Repair %\",IF(AH63>0,$C63,0),IF(AK$2=\"Spares %\",IF(IF(AF63>0,$C63,0)*5>80%,50%,IF(AF63>0,$C63,0)*5),0))))","v":0},{"$f":"IF(AK63=0,0,IF(AL$2=\"Year\",IF(_xlfn.MAXIFS($N63:AK63,$N$2:AK$2,\"Year\")+$E63<=$E$1,AI63+$E63,0),IF(AL$2=\"Repair %\",IF(AI63>0,$C$3,0),IF(AL$2=\"Spares %\",IF(IF(AI63>0,$C63,0)*100>50%,50%,IF(AI63>0,$C63,0)*100),0))))","v":0},{"$f":"IF(AL63=0,0,IF(AM$2=\"Year\",IF(_xlfn.MAXIFS($N63:AL63,$N$2:AL$2,\"Year\")+$E63<=$E$1,AJ63+$E63,0),IF(AM$2=\"Repair %\",IF(AJ63>0,$C63,0),IF(AM$2=\"Spares %\",IF(IF(AJ63>0,$C63,0)*100>50%,50%,IF(AJ63>0,$C63,0)*100),0))))","v":0},{"$f":"IF(AM63=0,0,IF(AN$2=\"Year\",IF(_xlfn.MAXIFS($N63:AM63,$N$2:AM$2,\"Year\")+$E63<=$E$1,AK63+$E63,0),IF(AN$2=\"Repair %\",IF(AK63>0,$C63,0),IF(AN$2=\"Spares %\",IF(IF(AI63>0,$C63,0)*5>80%,50%,IF(AI63>0,$C63,0)*5),0))))","v":0},{"$f":"IF(AN63=0,0,IF(AO$2=\"Year\",IF(_xlfn.MAXIFS($N63:AN63,$N$2:AN$2,\"Year\")+$E63<=$E$1,AL63+$E63,0),IF(AO$2=\"Repair %\",IF(AL63>0,$C$3,0),IF(AO$2=\"Spares %\",IF(IF(AL63>0,$C63,0)*100>50%,50%,IF(AL63>0,$C63,0)*100),0))))","v":0},{"$f":"IF(AO63=0,0,IF(AP$2=\"Year\",IF(_xlfn.MAXIFS($N63:AO63,$N$2:AO$2,\"Year\")+$E63<=$E$1,AM63+$E63,0),IF(AP$2=\"Repair %\",IF(AM63>0,$C63,0),IF(AP$2=\"Spares %\",IF(IF(AM63>0,$C63,0)*100>50%,50%,IF(AM63>0,$C63,0)*100),0))))","v":0},{"$f":"IF(AP63=0,0,IF(AQ$2=\"Year\",IF(_xlfn.MAXIFS($N63:AP63,$N$2:AP$2,\"Year\")+$E63<=$E$1,AN63+$E63,0),IF(AQ$2=\"Repair %\",IF(AN63>0,$C63,0),IF(AQ$2=\"Spares %\",IF(IF(AL63>0,$C63,0)*5>80%,50%,IF(AL63>0,$C63,0)*5),0))))","v":0}]
[{"$f":"INDEX('Avionics ID'!A:E,MATCH(B64,'Avionics ID'!E:E,0),1)","v":733},"Display Management Computer (DMC/EFIS)",6.6666666666666666E-2,0.06,15,"Obsolecence",{"$f":"SUBSTITUTE(ADDRESS(1,MATCH(A64,'Pt1-AvionicsComponentCosts'!$A$6:$NC$6,0)+1),\"$1\",\"\")","v":"$EJ"},{"$f":"_xlfn.TEXTJOIN(\", \",TRUE,_xlfn.UNIQUE(_xlfn._xlws.SORT(_xlfn._xlws.FILTER('Pt1-AvionicsComponentCosts'!$NF$12:$NF$384,ISNUMBER(INDIRECT(\"'Pt1-AvionicsComponentCosts'!\"&G64&\"$12:\"&G64&\"$384\"))))))","v":"A220, A300, A320, A321, A330, A340, A350, A380, ATR, B717, B737, B747, B757, B767, B777, B787, C919, EMB Regional, Helo, MC-21, MD-11, Mil Transport, Military Jet, NSA, TP Trainer, Turbine GA"},null,0.06,7.0000000000000007E-2,0.35299999999999998,1.8460000000000001,{"$f":"COUNTIF($N$2:N$2,\"Year\")*$G$1","v":10},null,0.5,{"$f":"COUNTIF($N$2:Q$2,\"Year\")*$G$1","v":20},{"$f":"IF(Q64=0,0,IF(R$2=\"Year\",IF(_xlfn.MAXIFS($N64:Q64,$N$2:Q$2,\"Year\")+$E64<=$E$1,O64+$E64,0),IF(R$2=\"Repair %\",IF(O64>0,$C64,0),IF(R$2=\"Spares %\",IF(IF(O64>0,$C64,0)*100>50%,50%,IF(O64>0,$C64,0)*100),0))))","v":0},0.5,{"$f":"COUNTIF($N$2:T$2,\"Year\")*$G$1","v":30},{"$f":"IF(T64=0,0,IF(U$2=\"Year\",IF(_xlfn.MAXIFS($N64:T64,$N$2:T$2,\"Year\")+$E64<=$E$1,R64+$E64,0),IF(U$2=\"Repair %\",IF(R64>0,$C64,0),IF(U$2=\"Spares %\",IF(IF(R64>0,$C64,0)*100>50%,50%,IF(R64>0,$C64,0)*100),0))))","v":0},1,{"$f":"COUNTIF($N$2:W$2,\"Year\")*$G$1","v":40},{"$f":"IF(W64=0,0,IF(X$2=\"Year\",IF(_xlfn.MAXIFS($N64:W64,$N$2:W$2,\"Year\")+$E64<=$E$1,U64+$E64,0),IF(X$2=\"Repair %\",IF(U64>0,$C64,0),IF(X$2=\"Spares %\",IF(IF(U64>0,$C64,0)*100>50%,50%,IF(U64>0,$C64,0)*100),0))))","v":0},0.5,{"$f":"IF(Y64=0,0,IF(Z$2=\"Year\",IF(_xlfn.MAXIFS($N64:Y64,$N$2:Y$2,\"Year\")+$E64<=$E$1,W64+$E64,0),IF(Z$2=\"Repair %\",IF(W64>0,$C$3,0),IF(Z$2=\"Spares %\",IF(IF(W64>0,$C64,0)*100>50%,50%,IF(W64>0,$C64,0)*100),0))))","v":0},{"$f":"IF(Z64=0,0,IF(AA$2=\"Year\",IF(_xlfn.MAXIFS($N64:Z64,$N$2:Z$2,\"Year\")+$E64<=$E$1,X64+$E64,0),IF(AA$2=\"Repair %\",IF(X64>0,$C64,0),IF(AA$2=\"Spares %\",IF(IF(X64>0,$C64,0)*100>50%,50%,IF(X64>0,$C64,0)*100),0))))","v":0},{"$f":"IF(AA64=0,0,IF(AB$2=\"Year\",IF(_xlfn.MAXIFS($N64:AA64,$N$2:AA$2,\"Year\")+$E64<=$E$1,Y64+$E64,0),IF(AB$2=\"Repair %\",IF(Y64>0,$C64,0),IF(AB$2=\"Spares %\",IF(IF(W64>0,$C64,0)*5>80%,50%,IF(W64>0,$C64,0)*5),0))))","v":0},{"$f":"IF(AB64=0,0,IF(AC$2=\"Year\",IF(_xlfn.MAXIFS($N64:AB64,$N$2:AB$2,\"Year\")+$E64<=$E$1,Z64+$E64,0),IF(AC$2=\"Repair %\",IF(Z64>0,$C$3,0),IF(AC$2=\"Spares %\",IF(IF(Z64>0,$C64,0)*100>50%,50%,IF(Z64>0,$C64,0)*100),0))))","v":0},{"$f":"IF(AC64=0,0,IF(AD$2=\"Year\",IF(_xlfn.MAXIFS($N64:AC64,$N$2:AC$2,\"Year\")+$E64<=$E$1,AA64+$E64,0),IF(AD$2=\"Repair %\",IF(AA64>0,$C64,0),IF(AD$2=\"Spares %\",IF(IF(AA64>0,$C64,0)*100>50%,50%,IF(AA64>0,$C64,0)*100),0))))","v":0},{"$f":"IF(AD64=0,0,IF(AE$2=\"Year\",IF(_xlfn.MAXIFS($N64:AD64,$N$2:AD$2,\"Year\")+$E64<=$E$1,AB64+$E64,0),IF(AE$2=\"Repair %\",IF(AB64>0,$C64,0),IF(AE$2=\"Spares %\",IF(IF(Z64>0,$C64,0)*5>80%,50%,IF(Z64>0,$C64,0)*5),0))))","v":0},{"$f":"IF(AE64=0,0,IF(AF$2=\"Year\",IF(_xlfn.MAXIFS($N64:AE64,$N$2:AE$2,\"Year\")+$E64<=$E$1,AC64+$E64,0),IF(AF$2=\"Repair %\",IF(AC64>0,$C$3,0),IF(AF$2=\"Spares %\",IF(IF(AC64>0,$C64,0)*100>50%,50%,IF(AC64>0,$C64,0)*100),0))))","v":0},{"$f":"IF(AF64=0,0,IF(AG$2=\"Year\",IF(_xlfn.MAXIFS($N64:AF64,$N$2:AF$2,\"Year\")+$E64<=$E$1,AD64+$E64,0),IF(AG$2=\"Repair %\",IF(AD64>0,$C64,0),IF(AG$2=\"Spares %\",IF(IF(AD64>0,$C64,0)*100>50%,50%,IF(AD64>0,$C64,0)*100),0))))","v":0},{"$f":"IF(AG64=0,0,IF(AH$2=\"Year\",IF(_xlfn.MAXIFS($N64:AG64,$N$2:AG$2,\"Year\")+$E64<=$E$1,AE64+$E64,0),IF(AH$2=\"Repair %\",IF(AE64>0,$C64,0),IF(AH$2=\"Spares %\",IF(IF(AC64>0,$C64,0)*5>80%,50%,IF(AC64>0,$C64,0)*5),0))))","v":0},{"$f":"IF(AH64=0,0,IF(AI$2=\"Year\",IF(_xlfn.MAXIFS($N64:AH64,$N$2:AH$2,\"Year\")+$E64<=$E$1,AF64+$E64,0),IF(AI$2=\"Repair %\",IF(AF64>0,$C$3,0),IF(AI$2=\"Spares %\",IF(IF(AF64>0,$C64,0)*100>50%,50%,IF(AF64>0,$C64,0)*100),0))))","v":0},{"$f":"IF(AI64=0,0,IF(AJ$2=\"Year\",IF(_xlfn.MAXIFS($N64:AI64,$N$2:AI$2,\"Year\")+$E64<=$E$1,AG64+$E64,0),IF(AJ$2=\"Repair %\",IF(AG64>0,$C64,0),IF(AJ$2=\"Spares %\",IF(IF(AG64>0,$C64,0)*100>50%,50%,IF(AG64>0,$C64,0)*100),0))))","v":0},{"$f":"IF(AJ64=0,0,IF(AK$2=\"Year\",IF(_xlfn.MAXIFS($N64:AJ64,$N$2:AJ$2,\"Year\")+$E64<=$E$1,AH64+$E64,0),IF(AK$2=\"Repair %\",IF(AH64>0,$C64,0),IF(AK$2=\"Spares %\",IF(IF(AF64>0,$C64,0)*5>80%,50%,IF(AF64>0,$C64,0)*5),0))))","v":0},{"$f":"IF(AK64=0,0,IF(AL$2=\"Year\",IF(_xlfn.MAXIFS($N64:AK64,$N$2:AK$2,\"Year\")+$E64<=$E$1,AI64+$E64,0),IF(AL$2=\"Repair %\",IF(AI64>0,$C$3,0),IF(AL$2=\"Spares %\",IF(IF(AI64>0,$C64,0)*100>50%,50%,IF(AI64>0,$C64,0)*100),0))))","v":0},{"$f":"IF(AL64=0,0,IF(AM$2=\"Year\",IF(_xlfn.MAXIFS($N64:AL64,$N$2:AL$2,\"Year\")+$E64<=$E$1,AJ64+$E64,0),IF(AM$2=\"Repair %\",IF(AJ64>0,$C64,0),IF(AM$2=\"Spares %\",IF(IF(AJ64>0,$C64,0)*100>50%,50%,IF(AJ64>0,$C64,0)*100),0))))","v":0},{"$f":"IF(AM64=0,0,IF(AN$2=\"Year\",IF(_xlfn.MAXIFS($N64:AM64,$N$2:AM$2,\"Year\")+$E64<=$E$1,AK64+$E64,0),IF(AN$2=\"Repair %\",IF(AK64>0,$C64,0),IF(AN$2=\"Spares %\",IF(IF(AI64>0,$C64,0)*5>80%,50%,IF(AI64>0,$C64,0)*5),0))))","v":0},{"$f":"IF(AN64=0,0,IF(AO$2=\"Year\",IF(_xlfn.MAXIFS($N64:AN64,$N$2:AN$2,\"Year\")+$E64<=$E$1,AL64+$E64,0),IF(AO$2=\"Repair %\",IF(AL64>0,$C$3,0),IF(AO$2=\"Spares %\",IF(IF(AL64>0,$C64,0)*100>50%,50%,IF(AL64>0,$C64,0)*100),0))))","v":0},{"$f":"IF(AO64=0,0,IF(AP$2=\"Year\",IF(_xlfn.MAXIFS($N64:AO64,$N$2:AO$2,\"Year\")+$E64<=$E$1,AM64+$E64,0),IF(AP$2=\"Repair %\",IF(AM64>0,$C64,0),IF(AP$2=\"Spares %\",IF(IF(AM64>0,$C64,0)*100>50%,50%,IF(AM64>0,$C64,0)*100),0))))","v":0},{"$f":"IF(AP64=0,0,IF(AQ$2=\"Year\",IF(_xlfn.MAXIFS($N64:AP64,$N$2:AP$2,\"Year\")+$E64<=$E$1,AN64+$E64,0),IF(AQ$2=\"Repair %\",IF(AN64>0,$C64,0),IF(AQ$2=\"Spares %\",IF(IF(AL64>0,$C64,0)*5>80%,50%,IF(AL64>0,$C64,0)*5),0))))","v":0}]
[{"$f":"INDEX('Avionics ID'!A:E,MATCH(B65,'Avionics ID'!E:E,0),1)","v":812},"Display processor",0.05,0.06,20,"Obsolecence",{"$f":"SUBSTITUTE(ADDRESS(1,MATCH(A65,'Pt1-AvionicsComponentCosts'!$A$6:$NC$6,0)+1),\"$1\",\"\")","v":"$EL"},{"$f":"_xlfn.TEXTJOIN(\", \",TRUE,_xlfn.UNIQUE(_xlfn._xlws.SORT(_xlfn._xlws.FILTER('Pt1-AvionicsComponentCosts'!$NF$12:$NF$384,ISNUMBER(INDIRECT(\"'Pt1-AvionicsComponentCosts'!\"&G65&\"$12:\"&G65&\"$384\"))))))","v":"Mil Fighter"},null,0.06,0.05,0.35299999999999998,1.8460000000000001,{"$f":"COUNTIF($N$2:N$2,\"Year\")*$G$1","v":10},null,0,{"$f":"COUNTIF($N$2:Q$2,\"Year\")*$G$1","v":20},{"$f":"IF(Q65=0,0,IF(R$2=\"Year\",IF(_xlfn.MAXIFS($N65:Q65,$N$2:Q$2,\"Year\")+$E65<=$E$1,O65+$E65,0),IF(R$2=\"Repair %\",IF(O65>0,$C65,0),IF(R$2=\"Spares %\",IF(IF(O65>0,$C65,0)*100>50%,50%,IF(O65>0,$C65,0)*100),0))))","v":0},1,{"$f":"COUNTIF($N$2:T$2,\"Year\")*$G$1","v":30},{"$f":"IF(T65=0,0,IF(U$2=\"Year\",IF(_xlfn.MAXIFS($N65:T65,$N$2:T$2,\"Year\")+$E65<=$E$1,R65+$E65,0),IF(U$2=\"Repair %\",IF(R65>0,$C65,0),IF(U$2=\"Spares %\",IF(IF(R65>0,$C65,0)*100>50%,50%,IF(R65>0,$C65,0)*100),0))))","v":0},0,{"$f":"COUNTIF($N$2:W$2,\"Year\")*$G$1","v":40},{"$f":"IF(W65=0,0,IF(X$2=\"Year\",IF(_xlfn.MAXIFS($N65:W65,$N$2:W$2,\"Year\")+$E65<=$E$1,U65+$E65,0),IF(X$2=\"Repair %\",IF(U65>0,$C65,0),IF(X$2=\"Spares %\",IF(IF(U65>0,$C65,0)*100>50%,50%,IF(U65>0,$C65,0)*100),0))))","v":0},1,{"$f":"IF(Y65=0,0,IF(Z$2=\"Year\",IF(_xlfn.MAXIFS($N65:Y65,$N$2:Y$2,\"Year\")+$E65<=$E$1,W65+$E65,0),IF(Z$2=\"Repair %\",IF(W65>0,$C$3,0),IF(Z$2=\"Spares %\",IF(IF(W65>0,$C65,0)*100>50%,50%,IF(W65>0,$C65,0)*100),0))))","v":0},{"$f":"IF(Z65=0,0,IF(AA$2=\"Year\",IF(_xlfn.MAXIFS($N65:Z65,$N$2:Z$2,\"Year\")+$E65<=$E$1,X65+$E65,0),IF(AA$2=\"Repair %\",IF(X65>0,$C65,0),IF(AA$2=\"Spares %\",IF(IF(X65>0,$C65,0)*100>50%,50%,IF(X65>0,$C65,0)*100),0))))","v":0},{"$f":"IF(AA65=0,0,IF(AB$2=\"Year\",IF(_xlfn.MAXIFS($N65:AA65,$N$2:AA$2,\"Year\")+$E65<=$E$1,Y65+$E65,0),IF(AB$2=\"Repair %\",IF(Y65>0,$C65,0),IF(AB$2=\"Spares %\",IF(IF(W65>0,$C65,0)*5>80%,50%,IF(W65>0,$C65,0)*5),0))))","v":0},{"$f":"IF(AB65=0,0,IF(AC$2=\"Year\",IF(_xlfn.MAXIFS($N65:AB65,$N$2:AB$2,\"Year\")+$E65<=$E$1,Z65+$E65,0),IF(AC$2=\"Repair %\",IF(Z65>0,$C$3,0),IF(AC$2=\"Spares %\",IF(IF(Z65>0,$C65,0)*100>50%,50%,IF(Z65>0,$C65,0)*100),0))))","v":0},{"$f":"IF(AC65=0,0,IF(AD$2=\"Year\",IF(_xlfn.MAXIFS($N65:AC65,$N$2:AC$2,\"Year\")+$E65<=$E$1,AA65+$E65,0),IF(AD$2=\"Repair %\",IF(AA65>0,$C65,0),IF(AD$2=\"Spares %\",IF(IF(AA65>0,$C65,0)*100>50%,50%,IF(AA65>0,$C65,0)*100),0))))","v":0},{"$f":"IF(AD65=0,0,IF(AE$2=\"Year\",IF(_xlfn.MAXIFS($N65:AD65,$N$2:AD$2,\"Year\")+$E65<=$E$1,AB65+$E65,0),IF(AE$2=\"Repair %\",IF(AB65>0,$C65,0),IF(AE$2=\"Spares %\",IF(IF(Z65>0,$C65,0)*5>80%,50%,IF(Z65>0,$C65,0)*5),0))))","v":0},{"$f":"IF(AE65=0,0,IF(AF$2=\"Year\",IF(_xlfn.MAXIFS($N65:AE65,$N$2:AE$2,\"Year\")+$E65<=$E$1,AC65+$E65,0),IF(AF$2=\"Repair %\",IF(AC65>0,$C$3,0),IF(AF$2=\"Spares %\",IF(IF(AC65>0,$C65,0)*100>50%,50%,IF(AC65>0,$C65,0)*100),0))))","v":0},{"$f":"IF(AF65=0,0,IF(AG$2=\"Year\",IF(_xlfn.MAXIFS($N65:AF65,$N$2:AF$2,\"Year\")+$E65<=$E$1,AD65+$E65,0),IF(AG$2=\"Repair %\",IF(AD65>0,$C65,0),IF(AG$2=\"Spares %\",IF(IF(AD65>0,$C65,0)*100>50%,50%,IF(AD65>0,$C65,0)*100),0))))","v":0},{"$f":"IF(AG65=0,0,IF(AH$2=\"Year\",IF(_xlfn.MAXIFS($N65:AG65,$N$2:AG$2,\"Year\")+$E65<=$E$1,AE65+$E65,0),IF(AH$2=\"Repair %\",IF(AE65>0,$C65,0),IF(AH$2=\"Spares %\",IF(IF(AC65>0,$C65,0)*5>80%,50%,IF(AC65>0,$C65,0)*5),0))))","v":0},{"$f":"IF(AH65=0,0,IF(AI$2=\"Year\",IF(_xlfn.MAXIFS($N65:AH65,$N$2:AH$2,\"Year\")+$E65<=$E$1,AF65+$E65,0),IF(AI$2=\"Repair %\",IF(AF65>0,$C$3,0),IF(AI$2=\"Spares %\",IF(IF(AF65>0,$C65,0)*100>50%,50%,IF(AF65>0,$C65,0)*100),0))))","v":0},{"$f":"IF(AI65=0,0,IF(AJ$2=\"Year\",IF(_xlfn.MAXIFS($N65:AI65,$N$2:AI$2,\"Year\")+$E65<=$E$1,AG65+$E65,0),IF(AJ$2=\"Repair %\",IF(AG65>0,$C65,0),IF(AJ$2=\"Spares %\",IF(IF(AG65>0,$C65,0)*100>50%,50%,IF(AG65>0,$C65,0)*100),0))))","v":0},{"$f":"IF(AJ65=0,0,IF(AK$2=\"Year\",IF(_xlfn.MAXIFS($N65:AJ65,$N$2:AJ$2,\"Year\")+$E65<=$E$1,AH65+$E65,0),IF(AK$2=\"Repair %\",IF(AH65>0,$C65,0),IF(AK$2=\"Spares %\",IF(IF(AF65>0,$C65,0)*5>80%,50%,IF(AF65>0,$C65,0)*5),0))))","v":0},{"$f":"IF(AK65=0,0,IF(AL$2=\"Year\",IF(_xlfn.MAXIFS($N65:AK65,$N$2:AK$2,\"Year\")+$E65<=$E$1,AI65+$E65,0),IF(AL$2=\"Repair %\",IF(AI65>0,$C$3,0),IF(AL$2=\"Spares %\",IF(IF(AI65>0,$C65,0)*100>50%,50%,IF(AI65>0,$C65,0)*100),0))))","v":0},{"$f":"IF(AL65=0,0,IF(AM$2=\"Year\",IF(_xlfn.MAXIFS($N65:AL65,$N$2:AL$2,\"Year\")+$E65<=$E$1,AJ65+$E65,0),IF(AM$2=\"Repair %\",IF(AJ65>0,$C65,0),IF(AM$2=\"Spares %\",IF(IF(AJ65>0,$C65,0)*100>50%,50%,IF(AJ65>0,$C65,0)*100),0))))","v":0},{"$f":"IF(AM65=0,0,IF(AN$2=\"Year\",IF(_xlfn.MAXIFS($N65:AM65,$N$2:AM$2,\"Year\")+$E65<=$E$1,AK65+$E65,0),IF(AN$2=\"Repair %\",IF(AK65>0,$C65,0),IF(AN$2=\"Spares %\",IF(IF(AI65>0,$C65,0)*5>80%,50%,IF(AI65>0,$C65,0)*5),0))))","v":0},{"$f":"IF(AN65=0,0,IF(AO$2=\"Year\",IF(_xlfn.MAXIFS($N65:AN65,$N$2:AN$2,\"Year\")+$E65<=$E$1,AL65+$E65,0),IF(AO$2=\"Repair %\",IF(AL65>0,$C$3,0),IF(AO$2=\"Spares %\",IF(IF(AL65>0,$C65,0)*100>50%,50%,IF(AL65>0,$C65,0)*100),0))))","v":0},{"$f":"IF(AO65=0,0,IF(AP$2=\"Year\",IF(_xlfn.MAXIFS($N65:AO65,$N$2:AO$2,\"Year\")+$E65<=$E$1,AM65+$E65,0),IF(AP$2=\"Repair %\",IF(AM65>0,$C65,0),IF(AP$2=\"Spares %\",IF(IF(AM65>0,$C65,0)*100>50%,50%,IF(AM65>0,$C65,0)*100),0))))","v":0},{"$f":"IF(AP65=0,0,IF(AQ$2=\"Year\",IF(_xlfn.MAXIFS($N65:AP65,$N$2:AP$2,\"Year\")+$E65<=$E$1,AN65+$E65,0),IF(AQ$2=\"Repair %\",IF(AN65>0,$C65,0),IF(AQ$2=\"Spares %\",IF(IF(AL65>0,$C65,0)*5>80%,50%,IF(AL65>0,$C65,0)*5),0))))","v":0}]
[{"$f":"INDEX('Avionics ID'!A:E,MATCH(B66,'Avionics ID'!E:E,0),1)","v":798},"Distributed Aperture System (electro-optical)",0.05,0.06,20,"Obsolecence",{"$f":"SUBSTITUTE(ADDRESS(1,MATCH(A66,'Pt1-AvionicsComponentCosts'!$A$6:$NC$6,0)+1),\"$1\",\"\")","v":"$KT"},{"$f":"_xlfn.TEXTJOIN(\", \",TRUE,_xlfn.UNIQUE(_xlfn._xlws.SORT(_xlfn._xlws.FILTER('Pt1-AvionicsComponentCosts'!$NF$12:$NF$384,ISNUMBER(INDIRECT(\"'Pt1-AvionicsComponentCosts'!\"&G66&\"$12:\"&G66&\"$384\"))))))","v":"Attack, Stealth"},null,0.06,0.05,0.33500000000000002,1.6830000000000001,{"$f":"COUNTIF($N$2:N$2,\"Year\")*$G$1","v":10},null,0,{"$f":"COUNTIF($N$2:Q$2,\"Year\")*$G$1","v":20},{"$f":"IF(Q66=0,0,IF(R$2=\"Year\",IF(_xlfn.MAXIFS($N66:Q66,$N$2:Q$2,\"Year\")+$E66<=$E$1,O66+$E66,0),IF(R$2=\"Repair %\",IF(O66>0,$C66,0),IF(R$2=\"Spares %\",IF(IF(O66>0,$C66,0)*100>50%,50%,IF(O66>0,$C66,0)*100),0))))","v":0},1,{"$f":"COUNTIF($N$2:T$2,\"Year\")*$G$1","v":30},{"$f":"IF(T66=0,0,IF(U$2=\"Year\",IF(_xlfn.MAXIFS($N66:T66,$N$2:T$2,\"Year\")+$E66<=$E$1,R66+$E66,0),IF(U$2=\"Repair %\",IF(R66>0,$C66,0),IF(U$2=\"Spares %\",IF(IF(R66>0,$C66,0)*100>50%,50%,IF(R66>0,$C66,0)*100),0))))","v":0},0,{"$f":"COUNTIF($N$2:W$2,\"Year\")*$G$1","v":40},{"$f":"IF(W66=0,0,IF(X$2=\"Year\",IF(_xlfn.MAXIFS($N66:W66,$N$2:W$2,\"Year\")+$E66<=$E$1,U66+$E66,0),IF(X$2=\"Repair %\",IF(U66>0,$C66,0),IF(X$2=\"Spares %\",IF(IF(U66>0,$C66,0)*100>50%,50%,IF(U66>0,$C66,0)*100),0))))","v":0},1,{"$f":"IF(Y66=0,0,IF(Z$2=\"Year\",IF(_xlfn.MAXIFS($N66:Y66,$N$2:Y$2,\"Year\")+$E66<=$E$1,W66+$E66,0),IF(Z$2=\"Repair %\",IF(W66>0,$C$3,0),IF(Z$2=\"Spares %\",IF(IF(W66>0,$C66,0)*100>50%,50%,IF(W66>0,$C66,0)*100),0))))","v":0},{"$f":"IF(Z66=0,0,IF(AA$2=\"Year\",IF(_xlfn.MAXIFS($N66:Z66,$N$2:Z$2,\"Year\")+$E66<=$E$1,X66+$E66,0),IF(AA$2=\"Repair %\",IF(X66>0,$C66,0),IF(AA$2=\"Spares %\",IF(IF(X66>0,$C66,0)*100>50%,50%,IF(X66>0,$C66,0)*100),0))))","v":0},{"$f":"IF(AA66=0,0,IF(AB$2=\"Year\",IF(_xlfn.MAXIFS($N66:AA66,$N$2:AA$2,\"Year\")+$E66<=$E$1,Y66+$E66,0),IF(AB$2=\"Repair %\",IF(Y66>0,$C66,0),IF(AB$2=\"Spares %\",IF(IF(W66>0,$C66,0)*5>80%,50%,IF(W66>0,$C66,0)*5),0))))","v":0},{"$f":"IF(AB66=0,0,IF(AC$2=\"Year\",IF(_xlfn.MAXIFS($N66:AB66,$N$2:AB$2,\"Year\")+$E66<=$E$1,Z66+$E66,0),IF(AC$2=\"Repair %\",IF(Z66>0,$C$3,0),IF(AC$2=\"Spares %\",IF(IF(Z66>0,$C66,0)*100>50%,50%,IF(Z66>0,$C66,0)*100),0))))","v":0},{"$f":"IF(AC66=0,0,IF(AD$2=\"Year\",IF(_xlfn.MAXIFS($N66:AC66,$N$2:AC$2,\"Year\")+$E66<=$E$1,AA66+$E66,0),IF(AD$2=\"Repair %\",IF(AA66>0,$C66,0),IF(AD$2=\"Spares %\",IF(IF(AA66>0,$C66,0)*100>50%,50%,IF(AA66>0,$C66,0)*100),0))))","v":0},{"$f":"IF(AD66=0,0,IF(AE$2=\"Year\",IF(_xlfn.MAXIFS($N66:AD66,$N$2:AD$2,\"Year\")+$E66<=$E$1,AB66+$E66,0),IF(AE$2=\"Repair %\",IF(AB66>0,$C66,0),IF(AE$2=\"Spares %\",IF(IF(Z66>0,$C66,0)*5>80%,50%,IF(Z66>0,$C66,0)*5),0))))","v":0},{"$f":"IF(AE66=0,0,IF(AF$2=\"Year\",IF(_xlfn.MAXIFS($N66:AE66,$N$2:AE$2,\"Year\")+$E66<=$E$1,AC66+$E66,0),IF(AF$2=\"Repair %\",IF(AC66>0,$C$3,0),IF(AF$2=\"Spares %\",IF(IF(AC66>0,$C66,0)*100>50%,50%,IF(AC66>0,$C66,0)*100),0))))","v":0},{"$f":"IF(AF66=0,0,IF(AG$2=\"Year\",IF(_xlfn.MAXIFS($N66:AF66,$N$2:AF$2,\"Year\")+$E66<=$E$1,AD66+$E66,0),IF(AG$2=\"Repair %\",IF(AD66>0,$C66,0),IF(AG$2=\"Spares %\",IF(IF(AD66>0,$C66,0)*100>50%,50%,IF(AD66>0,$C66,0)*100),0))))","v":0},{"$f":"IF(AG66=0,0,IF(AH$2=\"Year\",IF(_xlfn.MAXIFS($N66:AG66,$N$2:AG$2,\"Year\")+$E66<=$E$1,AE66+$E66,0),IF(AH$2=\"Repair %\",IF(AE66>0,$C66,0),IF(AH$2=\"Spares %\",IF(IF(AC66>0,$C66,0)*5>80%,50%,IF(AC66>0,$C66,0)*5),0))))","v":0},{"$f":"IF(AH66=0,0,IF(AI$2=\"Year\",IF(_xlfn.MAXIFS($N66:AH66,$N$2:AH$2,\"Year\")+$E66<=$E$1,AF66+$E66,0),IF(AI$2=\"Repair %\",IF(AF66>0,$C$3,0),IF(AI$2=\"Spares %\",IF(IF(AF66>0,$C66,0)*100>50%,50%,IF(AF66>0,$C66,0)*100),0))))","v":0},{"$f":"IF(AI66=0,0,IF(AJ$2=\"Year\",IF(_xlfn.MAXIFS($N66:AI66,$N$2:AI$2,\"Year\")+$E66<=$E$1,AG66+$E66,0),IF(AJ$2=\"Repair %\",IF(AG66>0,$C66,0),IF(AJ$2=\"Spares %\",IF(IF(AG66>0,$C66,0)*100>50%,50%,IF(AG66>0,$C66,0)*100),0))))","v":0},{"$f":"IF(AJ66=0,0,IF(AK$2=\"Year\",IF(_xlfn.MAXIFS($N66:AJ66,$N$2:AJ$2,\"Year\")+$E66<=$E$1,AH66+$E66,0),IF(AK$2=\"Repair %\",IF(AH66>0,$C66,0),IF(AK$2=\"Spares %\",IF(IF(AF66>0,$C66,0)*5>80%,50%,IF(AF66>0,$C66,0)*5),0))))","v":0},{"$f":"IF(AK66=0,0,IF(AL$2=\"Year\",IF(_xlfn.MAXIFS($N66:AK66,$N$2:AK$2,\"Year\")+$E66<=$E$1,AI66+$E66,0),IF(AL$2=\"Repair %\",IF(AI66>0,$C$3,0),IF(AL$2=\"Spares %\",IF(IF(AI66>0,$C66,0)*100>50%,50%,IF(AI66>0,$C66,0)*100),0))))","v":0},{"$f":"IF(AL66=0,0,IF(AM$2=\"Year\",IF(_xlfn.MAXIFS($N66:AL66,$N$2:AL$2,\"Year\")+$E66<=$E$1,AJ66+$E66,0),IF(AM$2=\"Repair %\",IF(AJ66>0,$C66,0),IF(AM$2=\"Spares %\",IF(IF(AJ66>0,$C66,0)*100>50%,50%,IF(AJ66>0,$C66,0)*100),0))))","v":0},{"$f":"IF(AM66=0,0,IF(AN$2=\"Year\",IF(_xlfn.MAXIFS($N66:AM66,$N$2:AM$2,\"Year\")+$E66<=$E$1,AK66+$E66,0),IF(AN$2=\"Repair %\",IF(AK66>0,$C66,0),IF(AN$2=\"Spares %\",IF(IF(AI66>0,$C66,0)*5>80%,50%,IF(AI66>0,$C66,0)*5),0))))","v":0},{"$f":"IF(AN66=0,0,IF(AO$2=\"Year\",IF(_xlfn.MAXIFS($N66:AN66,$N$2:AN$2,\"Year\")+$E66<=$E$1,AL66+$E66,0),IF(AO$2=\"Repair %\",IF(AL66>0,$C$3,0),IF(AO$2=\"Spares %\",IF(IF(AL66>0,$C66,0)*100>50%,50%,IF(AL66>0,$C66,0)*100),0))))","v":0},{"$f":"IF(AO66=0,0,IF(AP$2=\"Year\",IF(_xlfn.MAXIFS($N66:AO66,$N$2:AO$2,\"Year\")+$E66<=$E$1,AM66+$E66,0),IF(AP$2=\"Repair %\",IF(AM66>0,$C66,0),IF(AP$2=\"Spares %\",IF(IF(AM66>0,$C66,0)*100>50%,50%,IF(AM66>0,$C66,0)*100),0))))","v":0},{"$f":"IF(AP66=0,0,IF(AQ$2=\"Year\",IF(_xlfn.MAXIFS($N66:AP66,$N$2:AP$2,\"Year\")+$E66<=$E$1,AN66+$E66,0),IF(AQ$2=\"Repair %\",IF(AN66>0,$C66,0),IF(AQ$2=\"Spares %\",IF(IF(AL66>0,$C66,0)*5>80%,50%,IF(AL66>0,$C66,0)*5),0))))","v":0}]
[{"$f":"INDEX('Avionics ID'!A:E,MATCH(B67,'Avionics ID'!E:E,0),1)","v":725},"DME receivers",0.04,0.06,25,"Obsolecence",{"$f":"SUBSTITUTE(ADDRESS(1,MATCH(A67,'Pt1-AvionicsComponentCosts'!$A$6:$NC$6,0)+1),\"$1\",\"\")","v":"$JD"},{"$f":"_xlfn.TEXTJOIN(\", \",TRUE,_xlfn.UNIQUE(_xlfn._xlws.SORT(_xlfn._xlws.FILTER('Pt1-AvionicsComponentCosts'!$NF$12:$NF$384,ISNUMBER(INDIRECT(\"'Pt1-AvionicsComponentCosts'!\"&G67&\"$12:\"&G67&\"$384\"))))))","v":"A220, A320, A321, A350, ATR, B717, B737, B747, B757, B777, B787, C919, EMB Regional, MC-21, Mil Transport, Military Jet, NSA"},null,{"$f":"D67","v":0.06},0.04,0.35399999999999998,1.829,{"$f":"COUNTIF($N$2:N$2,\"Year\")*$G$1","v":10},null,0.5,{"$f":"COUNTIF($N$2:Q$2,\"Year\")*$G$1","v":20},{"$f":"IF(Q67=0,0,IF(R$2=\"Year\",IF(_xlfn.MAXIFS($N67:Q67,$N$2:Q$2,\"Year\")+$E67<=$E$1,O67+$E67,0),IF(R$2=\"Repair %\",IF(O67>0,$C67,0),IF(R$2=\"Spares %\",IF(IF(O67>0,$C67,0)*100>50%,50%,IF(O67>0,$C67,0)*100),0))))","v":0},{"$f":"IFERROR(IF(INT(Q67/$E67)=Q67/$E67,100%,IF(Q67/$E67<0,0,MOD($E67,$G$1)/10)),0)","v":0.5},{"$f":"COUNTIF($N$2:T$2,\"Year\")*$G$1","v":30},{"$f":"IF(T67=0,0,IF(U$2=\"Year\",IF(_xlfn.MAXIFS($N67:T67,$N$2:T$2,\"Year\")+$E67<=$E$1,R67+$E67,0),IF(U$2=\"Repair %\",IF(R67>0,$C67,0),IF(U$2=\"Spares %\",IF(IF(R67>0,$C67,0)*100>50%,50%,IF(R67>0,$C67,0)*100),0))))","v":0},{"$f":"IFERROR(IF(INT(T67/$E67)=T67/$E67,100%,IF(T67/$E67<0,0,MOD($E67,$G$1)/10)),0)","v":0.5},{"$f":"COUNTIF($N$2:W$2,\"Year\")*$G$1","v":40},{"$f":"IF(W67=0,0,IF(X$2=\"Year\",IF(_xlfn.MAXIFS($N67:W67,$N$2:W$2,\"Year\")+$E67<=$E$1,U67+$E67,0),IF(X$2=\"Repair %\",IF(U67>0,$C67,0),IF(X$2=\"Spares %\",IF(IF(U67>0,$C67,0)*100>50%,50%,IF(U67>0,$C67,0)*100),0))))","v":0},{"$f":"IFERROR(IF(INT(W67/$E67)=W67/$E67,100%,IF(W67/$E67<0,0,MOD($E67,$G$1)/10)),0)","v":0.5},{"$f":"IF(Y67=0,0,IF(Z$2=\"Year\",IF(_xlfn.MAXIFS($N67:Y67,$N$2:Y$2,\"Year\")+$E67<=$E$1,W67+$E67,0),IF(Z$2=\"Repair %\",IF(W67>0,$C$3,0),IF(Z$2=\"Spares %\",IF(IF(W67>0,$C67,0)*100>50%,50%,IF(W67>0,$C67,0)*100),0))))","v":0},{"$f":"IF(Z67=0,0,IF(AA$2=\"Year\",IF(_xlfn.MAXIFS($N67:Z67,$N$2:Z$2,\"Year\")+$E67<=$E$1,X67+$E67,0),IF(AA$2=\"Repair %\",IF(X67>0,$C67,0),IF(AA$2=\"Spares %\",IF(IF(X67>0,$C67,0)*100>50%,50%,IF(X67>0,$C67,0)*100),0))))","v":0},{"$f":"IF(AA67=0,0,IF(AB$2=\"Year\",IF(_xlfn.MAXIFS($N67:AA67,$N$2:AA$2,\"Year\")+$E67<=$E$1,Y67+$E67,0),IF(AB$2=\"Repair %\",IF(Y67>0,$C67,0),IF(AB$2=\"Spares %\",IF(IF(W67>0,$C67,0)*5>80%,50%,IF(W67>0,$C67,0)*5),0))))","v":0},{"$f":"IF(AB67=0,0,IF(AC$2=\"Year\",IF(_xlfn.MAXIFS($N67:AB67,$N$2:AB$2,\"Year\")+$E67<=$E$1,Z67+$E67,0),IF(AC$2=\"Repair %\",IF(Z67>0,$C$3,0),IF(AC$2=\"Spares %\",IF(IF(Z67>0,$C67,0)*100>50%,50%,IF(Z67>0,$C67,0)*100),0))))","v":0},{"$f":"IF(AC67=0,0,IF(AD$2=\"Year\",IF(_xlfn.MAXIFS($N67:AC67,$N$2:AC$2,\"Year\")+$E67<=$E$1,AA67+$E67,0),IF(AD$2=\"Repair %\",IF(AA67>0,$C67,0),IF(AD$2=\"Spares %\",IF(IF(AA67>0,$C67,0)*100>50%,50%,IF(AA67>0,$C67,0)*100),0))))","v":0},{"$f":"IF(AD67=0,0,IF(AE$2=\"Year\",IF(_xlfn.MAXIFS($N67:AD67,$N$2:AD$2,\"Year\")+$E67<=$E$1,AB67+$E67,0),IF(AE$2=\"Repair %\",IF(AB67>0,$C67,0),IF(AE$2=\"Spares %\",IF(IF(Z67>0,$C67,0)*5>80%,50%,IF(Z67>0,$C67,0)*5),0))))","v":0},{"$f":"IF(AE67=0,0,IF(AF$2=\"Year\",IF(_xlfn.MAXIFS($N67:AE67,$N$2:AE$2,\"Year\")+$E67<=$E$1,AC67+$E67,0),IF(AF$2=\"Repair %\",IF(AC67>0,$C$3,0),IF(AF$2=\"Spares %\",IF(IF(AC67>0,$C67,0)*100>50%,50%,IF(AC67>0,$C67,0)*100),0))))","v":0},{"$f":"IF(AF67=0,0,IF(AG$2=\"Year\",IF(_xlfn.MAXIFS($N67:AF67,$N$2:AF$2,\"Year\")+$E67<=$E$1,AD67+$E67,0),IF(AG$2=\"Repair %\",IF(AD67>0,$C67,0),IF(AG$2=\"Spares %\",IF(IF(AD67>0,$C67,0)*100>50%,50%,IF(AD67>0,$C67,0)*100),0))))","v":0},{"$f":"IF(AG67=0,0,IF(AH$2=\"Year\",IF(_xlfn.MAXIFS($N67:AG67,$N$2:AG$2,\"Year\")+$E67<=$E$1,AE67+$E67,0),IF(AH$2=\"Repair %\",IF(AE67>0,$C67,0),IF(AH$2=\"Spares %\",IF(IF(AC67>0,$C67,0)*5>80%,50%,IF(AC67>0,$C67,0)*5),0))))","v":0},{"$f":"IF(AH67=0,0,IF(AI$2=\"Year\",IF(_xlfn.MAXIFS($N67:AH67,$N$2:AH$2,\"Year\")+$E67<=$E$1,AF67+$E67,0),IF(AI$2=\"Repair %\",IF(AF67>0,$C$3,0),IF(AI$2=\"Spares %\",IF(IF(AF67>0,$C67,0)*100>50%,50%,IF(AF67>0,$C67,0)*100),0))))","v":0},{"$f":"IF(AI67=0,0,IF(AJ$2=\"Year\",IF(_xlfn.MAXIFS($N67:AI67,$N$2:AI$2,\"Year\")+$E67<=$E$1,AG67+$E67,0),IF(AJ$2=\"Repair %\",IF(AG67>0,$C67,0),IF(AJ$2=\"Spares %\",IF(IF(AG67>0,$C67,0)*100>50%,50%,IF(AG67>0,$C67,0)*100),0))))","v":0},{"$f":"IF(AJ67=0,0,IF(AK$2=\"Year\",IF(_xlfn.MAXIFS($N67:AJ67,$N$2:AJ$2,\"Year\")+$E67<=$E$1,AH67+$E67,0),IF(AK$2=\"Repair %\",IF(AH67>0,$C67,0),IF(AK$2=\"Spares %\",IF(IF(AF67>0,$C67,0)*5>80%,50%,IF(AF67>0,$C67,0)*5),0))))","v":0},{"$f":"IF(AK67=0,0,IF(AL$2=\"Year\",IF(_xlfn.MAXIFS($N67:AK67,$N$2:AK$2,\"Year\")+$E67<=$E$1,AI67+$E67,0),IF(AL$2=\"Repair %\",IF(AI67>0,$C$3,0),IF(AL$2=\"Spares %\",IF(IF(AI67>0,$C67,0)*100>50%,50%,IF(AI67>0,$C67,0)*100),0))))","v":0},{"$f":"IF(AL67=0,0,IF(AM$2=\"Year\",IF(_xlfn.MAXIFS($N67:AL67,$N$2:AL$2,\"Year\")+$E67<=$E$1,AJ67+$E67,0),IF(AM$2=\"Repair %\",IF(AJ67>0,$C67,0),IF(AM$2=\"Spares %\",IF(IF(AJ67>0,$C67,0)*100>50%,50%,IF(AJ67>0,$C67,0)*100),0))))","v":0},{"$f":"IF(AM67=0,0,IF(AN$2=\"Year\",IF(_xlfn.MAXIFS($N67:AM67,$N$2:AM$2,\"Year\")+$E67<=$E$1,AK67+$E67,0),IF(AN$2=\"Repair %\",IF(AK67>0,$C67,0),IF(AN$2=\"Spares %\",IF(IF(AI67>0,$C67,0)*5>80%,50%,IF(AI67>0,$C67,0)*5),0))))","v":0},{"$f":"IF(AN67=0,0,IF(AO$2=\"Year\",IF(_xlfn.MAXIFS($N67:AN67,$N$2:AN$2,\"Year\")+$E67<=$E$1,AL67+$E67,0),IF(AO$2=\"Repair %\",IF(AL67>0,$C$3,0),IF(AO$2=\"Spares %\",IF(IF(AL67>0,$C67,0)*100>50%,50%,IF(AL67>0,$C67,0)*100),0))))","v":0},{"$f":"IF(AO67=0,0,IF(AP$2=\"Year\",IF(_xlfn.MAXIFS($N67:AO67,$N$2:AO$2,\"Year\")+$E67<=$E$1,AM67+$E67,0),IF(AP$2=\"Repair %\",IF(AM67>0,$C67,0),IF(AP$2=\"Spares %\",IF(IF(AM67>0,$C67,0)*100>50%,50%,IF(AM67>0,$C67,0)*100),0))))","v":0},{"$f":"IF(AP67=0,0,IF(AQ$2=\"Year\",IF(_xlfn.MAXIFS($N67:AP67,$N$2:AP$2,\"Year\")+$E67<=$E$1,AN67+$E67,0),IF(AQ$2=\"Repair %\",IF(AN67>0,$C67,0),IF(AQ$2=\"Spares %\",IF(IF(AL67>0,$C67,0)*5>80%,50%,IF(AL67>0,$C67,0)*5),0))))","v":0}]
[{"$f":"INDEX('Avionics ID'!A:E,MATCH(B68,'Avionics ID'!E:E,0),1)","v":863},"Dual axis dual system Auto-pilot",{"$f":"IFERROR(100%/E68,0)","v":0},0.06,null,{"$f":"IF(E68=0,\"\",IF(E68<10,\"Technology / regulatory\",\"Obsolecence\"))","v":""},{"$f":"SUBSTITUTE(ADDRESS(1,MATCH(A68,'Pt1-AvionicsComponentCosts'!$A$6:$NC$6,0)+1),\"$1\",\"\")","v":"$L"},{"$f":"_xlfn.TEXTJOIN(\", \",TRUE,_xlfn.UNIQUE(_xlfn._xlws.SORT(_xlfn._xlws.FILTER('Pt1-AvionicsComponentCosts'!$NF$12:$NF$384,ISNUMBER(INDIRECT(\"'Pt1-AvionicsComponentCosts'!\"&G68&\"$12:\"&G68&\"$384\"))))))","v":"Helo, TP Trainer, Turbine GA"},null,0.06,{"$f":"ROUND(C68,2)","v":0},0.40600000000000003,2.077,{"$f":"COUNTIF($N$2:N$2,\"Year\")*$G$1","v":10},null,{"$f":"IFERROR(IF(INT(N68/$E68)=N68/$E68,100%,IF(N68/$E68<0,0,MOD($E68,N68)/10)),0)","v":0},{"$f":"COUNTIF($N$2:Q$2,\"Year\")*$G$1","v":20},{"$f":"IF(Q68=0,0,IF(R$2=\"Year\",IF(_xlfn.MAXIFS($N68:Q68,$N$2:Q$2,\"Year\")+$E68<=$E$1,O68+$E68,0),IF(R$2=\"Repair %\",IF(O68>0,$C68,0),IF(R$2=\"Spares %\",IF(IF(O68>0,$C68,0)*100>50%,50%,IF(O68>0,$C68,0)*100),0))))","v":0},0,{"$f":"COUNTIF($N$2:T$2,\"Year\")*$G$1","v":30},{"$f":"IF(T68=0,0,IF(U$2=\"Year\",IF(_xlfn.MAXIFS($N68:T68,$N$2:T$2,\"Year\")+$E68<=$E$1,R68+$E68,0),IF(U$2=\"Repair %\",IF(R68>0,$C68,0),IF(U$2=\"Spares %\",IF(IF(R68>0,$C68,0)*100>50%,50%,IF(R68>0,$C68,0)*100),0))))","v":0},0,{"$f":"COUNTIF($N$2:W$2,\"Year\")*$G$1","v":40},{"$f":"IF(W68=0,0,IF(X$2=\"Year\",IF(_xlfn.MAXIFS($N68:W68,$N$2:W$2,\"Year\")+$E68<=$E$1,U68+$E68,0),IF(X$2=\"Repair %\",IF(U68>0,$C68,0),IF(X$2=\"Spares %\",IF(IF(U68>0,$C68,0)*100>50%,50%,IF(U68>0,$C68,0)*100),0))))","v":0},0,{"$f":"IF(Y68=0,0,IF(Z$2=\"Year\",IF(_xlfn.MAXIFS($N68:Y68,$N$2:Y$2,\"Year\")+$E68<=$E$1,W68+$E68,0),IF(Z$2=\"Repair %\",IF(W68>0,$C$3,0),IF(Z$2=\"Spares %\",IF(IF(W68>0,$C68,0)*100>50%,50%,IF(W68>0,$C68,0)*100),0))))","v":0},{"$f":"IF(Z68=0,0,IF(AA$2=\"Year\",IF(_xlfn.MAXIFS($N68:Z68,$N$2:Z$2,\"Year\")+$E68<=$E$1,X68+$E68,0),IF(AA$2=\"Repair %\",IF(X68>0,$C68,0),IF(AA$2=\"Spares %\",IF(IF(X68>0,$C68,0)*100>50%,50%,IF(X68>0,$C68,0)*100),0))))","v":0},{"$f":"IF(AA68=0,0,IF(AB$2=\"Year\",IF(_xlfn.MAXIFS($N68:AA68,$N$2:AA$2,\"Year\")+$E68<=$E$1,Y68+$E68,0),IF(AB$2=\"Repair %\",IF(Y68>0,$C68,0),IF(AB$2=\"Spares %\",IF(IF(W68>0,$C68,0)*5>80%,50%,IF(W68>0,$C68,0)*5),0))))","v":0},{"$f":"IF(AB68=0,0,IF(AC$2=\"Year\",IF(_xlfn.MAXIFS($N68:AB68,$N$2:AB$2,\"Year\")+$E68<=$E$1,Z68+$E68,0),IF(AC$2=\"Repair %\",IF(Z68>0,$C$3,0),IF(AC$2=\"Spares %\",IF(IF(Z68>0,$C68,0)*100>50%,50%,IF(Z68>0,$C68,0)*100),0))))","v":0},{"$f":"IF(AC68=0,0,IF(AD$2=\"Year\",IF(_xlfn.MAXIFS($N68:AC68,$N$2:AC$2,\"Year\")+$E68<=$E$1,AA68+$E68,0),IF(AD$2=\"Repair %\",IF(AA68>0,$C68,0),IF(AD$2=\"Spares %\",IF(IF(AA68>0,$C68,0)*100>50%,50%,IF(AA68>0,$C68,0)*100),0))))","v":0},{"$f":"IF(AD68=0,0,IF(AE$2=\"Year\",IF(_xlfn.MAXIFS($N68:AD68,$N$2:AD$2,\"Year\")+$E68<=$E$1,AB68+$E68,0),IF(AE$2=\"Repair %\",IF(AB68>0,$C68,0),IF(AE$2=\"Spares %\",IF(IF(Z68>0,$C68,0)*5>80%,50%,IF(Z68>0,$C68,0)*5),0))))","v":0},{"$f":"IF(AE68=0,0,IF(AF$2=\"Year\",IF(_xlfn.MAXIFS($N68:AE68,$N$2:AE$2,\"Year\")+$E68<=$E$1,AC68+$E68,0),IF(AF$2=\"Repair %\",IF(AC68>0,$C$3,0),IF(AF$2=\"Spares %\",IF(IF(AC68>0,$C68,0)*100>50%,50%,IF(AC68>0,$C68,0)*100),0))))","v":0},{"$f":"IF(AF68=0,0,IF(AG$2=\"Year\",IF(_xlfn.MAXIFS($N68:AF68,$N$2:AF$2,\"Year\")+$E68<=$E$1,AD68+$E68,0),IF(AG$2=\"Repair %\",IF(AD68>0,$C68,0),IF(AG$2=\"Spares %\",IF(IF(AD68>0,$C68,0)*100>50%,50%,IF(AD68>0,$C68,0)*100),0))))","v":0},{"$f":"IF(AG68=0,0,IF(AH$2=\"Year\",IF(_xlfn.MAXIFS($N68:AG68,$N$2:AG$2,\"Year\")+$E68<=$E$1,AE68+$E68,0),IF(AH$2=\"Repair %\",IF(AE68>0,$C68,0),IF(AH$2=\"Spares %\",IF(IF(AC68>0,$C68,0)*5>80%,50%,IF(AC68>0,$C68,0)*5),0))))","v":0},{"$f":"IF(AH68=0,0,IF(AI$2=\"Year\",IF(_xlfn.MAXIFS($N68:AH68,$N$2:AH$2,\"Year\")+$E68<=$E$1,AF68+$E68,0),IF(AI$2=\"Repair %\",IF(AF68>0,$C$3,0),IF(AI$2=\"Spares %\",IF(IF(AF68>0,$C68,0)*100>50%,50%,IF(AF68>0,$C68,0)*100),0))))","v":0},{"$f":"IF(AI68=0,0,IF(AJ$2=\"Year\",IF(_xlfn.MAXIFS($N68:AI68,$N$2:AI$2,\"Year\")+$E68<=$E$1,AG68+$E68,0),IF(AJ$2=\"Repair %\",IF(AG68>0,$C68,0),IF(AJ$2=\"Spares %\",IF(IF(AG68>0,$C68,0)*100>50%,50%,IF(AG68>0,$C68,0)*100),0))))","v":0},{"$f":"IF(AJ68=0,0,IF(AK$2=\"Year\",IF(_xlfn.MAXIFS($N68:AJ68,$N$2:AJ$2,\"Year\")+$E68<=$E$1,AH68+$E68,0),IF(AK$2=\"Repair %\",IF(AH68>0,$C68,0),IF(AK$2=\"Spares %\",IF(IF(AF68>0,$C68,0)*5>80%,50%,IF(AF68>0,$C68,0)*5),0))))","v":0},{"$f":"IF(AK68=0,0,IF(AL$2=\"Year\",IF(_xlfn.MAXIFS($N68:AK68,$N$2:AK$2,\"Year\")+$E68<=$E$1,AI68+$E68,0),IF(AL$2=\"Repair %\",IF(AI68>0,$C$3,0),IF(AL$2=\"Spares %\",IF(IF(AI68>0,$C68,0)*100>50%,50%,IF(AI68>0,$C68,0)*100),0))))","v":0},{"$f":"IF(AL68=0,0,IF(AM$2=\"Year\",IF(_xlfn.MAXIFS($N68:AL68,$N$2:AL$2,\"Year\")+$E68<=$E$1,AJ68+$E68,0),IF(AM$2=\"Repair %\",IF(AJ68>0,$C68,0),IF(AM$2=\"Spares %\",IF(IF(AJ68>0,$C68,0)*100>50%,50%,IF(AJ68>0,$C68,0)*100),0))))","v":0},{"$f":"IF(AM68=0,0,IF(AN$2=\"Year\",IF(_xlfn.MAXIFS($N68:AM68,$N$2:AM$2,\"Year\")+$E68<=$E$1,AK68+$E68,0),IF(AN$2=\"Repair %\",IF(AK68>0,$C68,0),IF(AN$2=\"Spares %\",IF(IF(AI68>0,$C68,0)*5>80%,50%,IF(AI68>0,$C68,0)*5),0))))","v":0},{"$f":"IF(AN68=0,0,IF(AO$2=\"Year\",IF(_xlfn.MAXIFS($N68:AN68,$N$2:AN$2,\"Year\")+$E68<=$E$1,AL68+$E68,0),IF(AO$2=\"Repair %\",IF(AL68>0,$C$3,0),IF(AO$2=\"Spares %\",IF(IF(AL68>0,$C68,0)*100>50%,50%,IF(AL68>0,$C68,0)*100),0))))","v":0},{"$f":"IF(AO68=0,0,IF(AP$2=\"Year\",IF(_xlfn.MAXIFS($N68:AO68,$N$2:AO$2,\"Year\")+$E68<=$E$1,AM68+$E68,0),IF(AP$2=\"Repair %\",IF(AM68>0,$C68,0),IF(AP$2=\"Spares %\",IF(IF(AM68>0,$C68,0)*100>50%,50%,IF(AM68>0,$C68,0)*100),0))))","v":0},{"$f":"IF(AP68=0,0,IF(AQ$2=\"Year\",IF(_xlfn.MAXIFS($N68:AP68,$N$2:AP$2,\"Year\")+$E68<=$E$1,AN68+$E68,0),IF(AQ$2=\"Repair %\",IF(AN68>0,$C68,0),IF(AQ$2=\"Spares %\",IF(IF(AL68>0,$C68,0)*5>80%,50%,IF(AL68>0,$C68,0)*5),0))))","v":0}]
[{"$f":"INDEX('Avionics ID'!A:E,MATCH(B69,'Avionics ID'!E:E,0),1)","v":820},"Dual redundant digital bus",0.05,0.06,20,"Obsolecence",{"$f":"SUBSTITUTE(ADDRESS(1,MATCH(A69,'Pt1-AvionicsComponentCosts'!$A$6:$NC$6,0)+1),\"$1\",\"\")","v":"$EN"},{"$f":"_xlfn.TEXTJOIN(\", \",TRUE,_xlfn.UNIQUE(_xlfn._xlws.SORT(_xlfn._xlws.FILTER('Pt1-AvionicsComponentCosts'!$NF$12:$NF$384,ISNUMBER(INDIRECT(\"'Pt1-AvionicsComponentCosts'!\"&G69&\"$12:\"&G69&\"$384\"))))))","v":"Mil Fighter"},null,0.06,0.05,0.35299999999999998,1.8460000000000001,{"$f":"COUNTIF($N$2:N$2,\"Year\")*$G$1","v":10},null,0,{"$f":"COUNTIF($N$2:Q$2,\"Year\")*$G$1","v":20},{"$f":"IF(Q69=0,0,IF(R$2=\"Year\",IF(_xlfn.MAXIFS($N69:Q69,$N$2:Q$2,\"Year\")+$E69<=$E$1,O69+$E69,0),IF(R$2=\"Repair %\",IF(O69>0,$C69,0),IF(R$2=\"Spares %\",IF(IF(O69>0,$C69,0)*100>50%,50%,IF(O69>0,$C69,0)*100),0))))","v":0},1,{"$f":"COUNTIF($N$2:T$2,\"Year\")*$G$1","v":30},{"$f":"IF(T69=0,0,IF(U$2=\"Year\",IF(_xlfn.MAXIFS($N69:T69,$N$2:T$2,\"Year\")+$E69<=$E$1,R69+$E69,0),IF(U$2=\"Repair %\",IF(R69>0,$C69,0),IF(U$2=\"Spares %\",IF(IF(R69>0,$C69,0)*100>50%,50%,IF(R69>0,$C69,0)*100),0))))","v":0},0,{"$f":"COUNTIF($N$2:W$2,\"Year\")*$G$1","v":40},{"$f":"IF(W69=0,0,IF(X$2=\"Year\",IF(_xlfn.MAXIFS($N69:W69,$N$2:W$2,\"Year\")+$E69<=$E$1,U69+$E69,0),IF(X$2=\"Repair %\",IF(U69>0,$C69,0),IF(X$2=\"Spares %\",IF(IF(U69>0,$C69,0)*100>50%,50%,IF(U69>0,$C69,0)*100),0))))","v":0},1,{"$f":"IF(Y69=0,0,IF(Z$2=\"Year\",IF(_xlfn.MAXIFS($N69:Y69,$N$2:Y$2,\"Year\")+$E69<=$E$1,W69+$E69,0),IF(Z$2=\"Repair %\",IF(W69>0,$C$3,0),IF(Z$2=\"Spares %\",IF(IF(W69>0,$C69,0)*100>50%,50%,IF(W69>0,$C69,0)*100),0))))","v":0},{"$f":"IF(Z69=0,0,IF(AA$2=\"Year\",IF(_xlfn.MAXIFS($N69:Z69,$N$2:Z$2,\"Year\")+$E69<=$E$1,X69+$E69,0),IF(AA$2=\"Repair %\",IF(X69>0,$C69,0),IF(AA$2=\"Spares %\",IF(IF(X69>0,$C69,0)*100>50%,50%,IF(X69>0,$C69,0)*100),0))))","v":0},{"$f":"IF(AA69=0,0,IF(AB$2=\"Year\",IF(_xlfn.MAXIFS($N69:AA69,$N$2:AA$2,\"Year\")+$E69<=$E$1,Y69+$E69,0),IF(AB$2=\"Repair %\",IF(Y69>0,$C69,0),IF(AB$2=\"Spares %\",IF(IF(W69>0,$C69,0)*5>80%,50%,IF(W69>0,$C69,0)*5),0))))","v":0},{"$f":"IF(AB69=0,0,IF(AC$2=\"Year\",IF(_xlfn.MAXIFS($N69:AB69,$N$2:AB$2,\"Year\")+$E69<=$E$1,Z69+$E69,0),IF(AC$2=\"Repair %\",IF(Z69>0,$C$3,0),IF(AC$2=\"Spares %\",IF(IF(Z69>0,$C69,0)*100>50%,50%,IF(Z69>0,$C69,0)*100),0))))","v":0},{"$f":"IF(AC69=0,0,IF(AD$2=\"Year\",IF(_xlfn.MAXIFS($N69:AC69,$N$2:AC$2,\"Year\")+$E69<=$E$1,AA69+$E69,0),IF(AD$2=\"Repair %\",IF(AA69>0,$C69,0),IF(AD$2=\"Spares %\",IF(IF(AA69>0,$C69,0)*100>50%,50%,IF(AA69>0,$C69,0)*100),0))))","v":0},{"$f":"IF(AD69=0,0,IF(AE$2=\"Year\",IF(_xlfn.MAXIFS($N69:AD69,$N$2:AD$2,\"Year\")+$E69<=$E$1,AB69+$E69,0),IF(AE$2=\"Repair %\",IF(AB69>0,$C69,0),IF(AE$2=\"Spares %\",IF(IF(Z69>0,$C69,0)*5>80%,50%,IF(Z69>0,$C69,0)*5),0))))","v":0},{"$f":"IF(AE69=0,0,IF(AF$2=\"Year\",IF(_xlfn.MAXIFS($N69:AE69,$N$2:AE$2,\"Year\")+$E69<=$E$1,AC69+$E69,0),IF(AF$2=\"Repair %\",IF(AC69>0,$C$3,0),IF(AF$2=\"Spares %\",IF(IF(AC69>0,$C69,0)*100>50%,50%,IF(AC69>0,$C69,0)*100),0))))","v":0},{"$f":"IF(AF69=0,0,IF(AG$2=\"Year\",IF(_xlfn.MAXIFS($N69:AF69,$N$2:AF$2,\"Year\")+$E69<=$E$1,AD69+$E69,0),IF(AG$2=\"Repair %\",IF(AD69>0,$C69,0),IF(AG$2=\"Spares %\",IF(IF(AD69>0,$C69,0)*100>50%,50%,IF(AD69>0,$C69,0)*100),0))))","v":0},{"$f":"IF(AG69=0,0,IF(AH$2=\"Year\",IF(_xlfn.MAXIFS($N69:AG69,$N$2:AG$2,\"Year\")+$E69<=$E$1,AE69+$E69,0),IF(AH$2=\"Repair %\",IF(AE69>0,$C69,0),IF(AH$2=\"Spares %\",IF(IF(AC69>0,$C69,0)*5>80%,50%,IF(AC69>0,$C69,0)*5),0))))","v":0},{"$f":"IF(AH69=0,0,IF(AI$2=\"Year\",IF(_xlfn.MAXIFS($N69:AH69,$N$2:AH$2,\"Year\")+$E69<=$E$1,AF69+$E69,0),IF(AI$2=\"Repair %\",IF(AF69>0,$C$3,0),IF(AI$2=\"Spares %\",IF(IF(AF69>0,$C69,0)*100>50%,50%,IF(AF69>0,$C69,0)*100),0))))","v":0},{"$f":"IF(AI69=0,0,IF(AJ$2=\"Year\",IF(_xlfn.MAXIFS($N69:AI69,$N$2:AI$2,\"Year\")+$E69<=$E$1,AG69+$E69,0),IF(AJ$2=\"Repair %\",IF(AG69>0,$C69,0),IF(AJ$2=\"Spares %\",IF(IF(AG69>0,$C69,0)*100>50%,50%,IF(AG69>0,$C69,0)*100),0))))","v":0},{"$f":"IF(AJ69=0,0,IF(AK$2=\"Year\",IF(_xlfn.MAXIFS($N69:AJ69,$N$2:AJ$2,\"Year\")+$E69<=$E$1,AH69+$E69,0),IF(AK$2=\"Repair %\",IF(AH69>0,$C69,0),IF(AK$2=\"Spares %\",IF(IF(AF69>0,$C69,0)*5>80%,50%,IF(AF69>0,$C69,0)*5),0))))","v":0},{"$f":"IF(AK69=0,0,IF(AL$2=\"Year\",IF(_xlfn.MAXIFS($N69:AK69,$N$2:AK$2,\"Year\")+$E69<=$E$1,AI69+$E69,0),IF(AL$2=\"Repair %\",IF(AI69>0,$C$3,0),IF(AL$2=\"Spares %\",IF(IF(AI69>0,$C69,0)*100>50%,50%,IF(AI69>0,$C69,0)*100),0))))","v":0},{"$f":"IF(AL69=0,0,IF(AM$2=\"Year\",IF(_xlfn.MAXIFS($N69:AL69,$N$2:AL$2,\"Year\")+$E69<=$E$1,AJ69+$E69,0),IF(AM$2=\"Repair %\",IF(AJ69>0,$C69,0),IF(AM$2=\"Spares %\",IF(IF(AJ69>0,$C69,0)*100>50%,50%,IF(AJ69>0,$C69,0)*100),0))))","v":0},{"$f":"IF(AM69=0,0,IF(AN$2=\"Year\",IF(_xlfn.MAXIFS($N69:AM69,$N$2:AM$2,\"Year\")+$E69<=$E$1,AK69+$E69,0),IF(AN$2=\"Repair %\",IF(AK69>0,$C69,0),IF(AN$2=\"Spares %\",IF(IF(AI69>0,$C69,0)*5>80%,50%,IF(AI69>0,$C69,0)*5),0))))","v":0},{"$f":"IF(AN69=0,0,IF(AO$2=\"Year\",IF(_xlfn.MAXIFS($N69:AN69,$N$2:AN$2,\"Year\")+$E69<=$E$1,AL69+$E69,0),IF(AO$2=\"Repair %\",IF(AL69>0,$C$3,0),IF(AO$2=\"Spares %\",IF(IF(AL69>0,$C69,0)*100>50%,50%,IF(AL69>0,$C69,0)*100),0))))","v":0},{"$f":"IF(AO69=0,0,IF(AP$2=\"Year\",IF(_xlfn.MAXIFS($N69:AO69,$N$2:AO$2,\"Year\")+$E69<=$E$1,AM69+$E69,0),IF(AP$2=\"Repair %\",IF(AM69>0,$C69,0),IF(AP$2=\"Spares %\",IF(IF(AM69>0,$C69,0)*100>50%,50%,IF(AM69>0,$C69,0)*100),0))))","v":0},{"$f":"IF(AP69=0,0,IF(AQ$2=\"Year\",IF(_xlfn.MAXIFS($N69:AP69,$N$2:AP$2,\"Year\")+$E69<=$E$1,AN69+$E69,0),IF(AQ$2=\"Repair %\",IF(AN69>0,$C69,0),IF(AQ$2=\"Spares %\",IF(IF(AL69>0,$C69,0)*5>80%,50%,IF(AL69>0,$C69,0)*5),0))))","v":0}]
[{"$f":"INDEX('Avionics ID'!A:E,MATCH(B70,'Avionics ID'!E:E,0),1)","v":731},"ECAM Control panel",0.1,0.06,10,"Obsolecence",{"$f":"SUBSTITUTE(ADDRESS(1,MATCH(A70,'Pt1-AvionicsComponentCosts'!$A$6:$NC$6,0)+1),\"$1\",\"\")","v":"$EP"},{"$f":"_xlfn.TEXTJOIN(\", \",TRUE,_xlfn.UNIQUE(_xlfn._xlws.SORT(_xlfn._xlws.FILTER('Pt1-AvionicsComponentCosts'!$NF$12:$NF$384,ISNUMBER(INDIRECT(\"'Pt1-AvionicsComponentCosts'!\"&G70&\"$12:\"&G70&\"$384\"))))))","v":"A220, A320, A321, ATR, B717, B737, B757, C919, EMB Regional, MC-21, Mil Transport, Military Jet, NSA"},null,0.06,0.1,0.35299999999999998,1.8460000000000001,{"$f":"COUNTIF($N$2:N$2,\"Year\")*$G$1","v":10},null,1,{"$f":"COUNTIF($N$2:Q$2,\"Year\")*$G$1","v":20},{"$f":"IF(Q70=0,0,IF(R$2=\"Year\",IF(_xlfn.MAXIFS($N70:Q70,$N$2:Q$2,\"Year\")+$E70<=$E$1,O70+$E70,0),IF(R$2=\"Repair %\",IF(O70>0,$C70,0),IF(R$2=\"Spares %\",IF(IF(O70>0,$C70,0)*100>50%,50%,IF(O70>0,$C70,0)*100),0))))","v":0},1,{"$f":"COUNTIF($N$2:T$2,\"Year\")*$G$1","v":30},{"$f":"IF(T70=0,0,IF(U$2=\"Year\",IF(_xlfn.MAXIFS($N70:T70,$N$2:T$2,\"Year\")+$E70<=$E$1,R70+$E70,0),IF(U$2=\"Repair %\",IF(R70>0,$C70,0),IF(U$2=\"Spares %\",IF(IF(R70>0,$C70,0)*100>50%,50%,IF(R70>0,$C70,0)*100),0))))","v":0},1,{"$f":"COUNTIF($N$2:W$2,\"Year\")*$G$1","v":40},{"$f":"IF(W70=0,0,IF(X$2=\"Year\",IF(_xlfn.MAXIFS($N70:W70,$N$2:W$2,\"Year\")+$E70<=$E$1,U70+$E70,0),IF(X$2=\"Repair %\",IF(U70>0,$C70,0),IF(X$2=\"Spares %\",IF(IF(U70>0,$C70,0)*100>50%,50%,IF(U70>0,$C70,0)*100),0))))","v":0},1,{"$f":"IF(Y70=0,0,IF(Z$2=\"Year\",IF(_xlfn.MAXIFS($N70:Y70,$N$2:Y$2,\"Year\")+$E70<=$E$1,W70+$E70,0),IF(Z$2=\"Repair %\",IF(W70>0,$C$3,0),IF(Z$2=\"Spares %\",IF(IF(W70>0,$C70,0)*100>50%,50%,IF(W70>0,$C70,0)*100),0))))","v":0},{"$f":"IF(Z70=0,0,IF(AA$2=\"Year\",IF(_xlfn.MAXIFS($N70:Z70,$N$2:Z$2,\"Year\")+$E70<=$E$1,X70+$E70,0),IF(AA$2=\"Repair %\",IF(X70>0,$C70,0),IF(AA$2=\"Spares %\",IF(IF(X70>0,$C70,0)*100>50%,50%,IF(X70>0,$C70,0)*100),0))))","v":0},{"$f":"IF(AA70=0,0,IF(AB$2=\"Year\",IF(_xlfn.MAXIFS($N70:AA70,$N$2:AA$2,\"Year\")+$E70<=$E$1,Y70+$E70,0),IF(AB$2=\"Repair %\",IF(Y70>0,$C70,0),IF(AB$2=\"Spares %\",IF(IF(W70>0,$C70,0)*5>80%,50%,IF(W70>0,$C70,0)*5),0))))","v":0},{"$f":"IF(AB70=0,0,IF(AC$2=\"Year\",IF(_xlfn.MAXIFS($N70:AB70,$N$2:AB$2,\"Year\")+$E70<=$E$1,Z70+$E70,0),IF(AC$2=\"Repair %\",IF(Z70>0,$C$3,0),IF(AC$2=\"Spares %\",IF(IF(Z70>0,$C70,0)*100>50%,50%,IF(Z70>0,$C70,0)*100),0))))","v":0},{"$f":"IF(AC70=0,0,IF(AD$2=\"Year\",IF(_xlfn.MAXIFS($N70:AC70,$N$2:AC$2,\"Year\")+$E70<=$E$1,AA70+$E70,0),IF(AD$2=\"Repair %\",IF(AA70>0,$C70,0),IF(AD$2=\"Spares %\",IF(IF(AA70>0,$C70,0)*100>50%,50%,IF(AA70>0,$C70,0)*100),0))))","v":0},{"$f":"IF(AD70=0,0,IF(AE$2=\"Year\",IF(_xlfn.MAXIFS($N70:AD70,$N$2:AD$2,\"Year\")+$E70<=$E$1,AB70+$E70,0),IF(AE$2=\"Repair %\",IF(AB70>0,$C70,0),IF(AE$2=\"Spares %\",IF(IF(Z70>0,$C70,0)*5>80%,50%,IF(Z70>0,$C70,0)*5),0))))","v":0},{"$f":"IF(AE70=0,0,IF(AF$2=\"Year\",IF(_xlfn.MAXIFS($N70:AE70,$N$2:AE$2,\"Year\")+$E70<=$E$1,AC70+$E70,0),IF(AF$2=\"Repair %\",IF(AC70>0,$C$3,0),IF(AF$2=\"Spares %\",IF(IF(AC70>0,$C70,0)*100>50%,50%,IF(AC70>0,$C70,0)*100),0))))","v":0},{"$f":"IF(AF70=0,0,IF(AG$2=\"Year\",IF(_xlfn.MAXIFS($N70:AF70,$N$2:AF$2,\"Year\")+$E70<=$E$1,AD70+$E70,0),IF(AG$2=\"Repair %\",IF(AD70>0,$C70,0),IF(AG$2=\"Spares %\",IF(IF(AD70>0,$C70,0)*100>50%,50%,IF(AD70>0,$C70,0)*100),0))))","v":0},{"$f":"IF(AG70=0,0,IF(AH$2=\"Year\",IF(_xlfn.MAXIFS($N70:AG70,$N$2:AG$2,\"Year\")+$E70<=$E$1,AE70+$E70,0),IF(AH$2=\"Repair %\",IF(AE70>0,$C70,0),IF(AH$2=\"Spares %\",IF(IF(AC70>0,$C70,0)*5>80%,50%,IF(AC70>0,$C70,0)*5),0))))","v":0},{"$f":"IF(AH70=0,0,IF(AI$2=\"Year\",IF(_xlfn.MAXIFS($N70:AH70,$N$2:AH$2,\"Year\")+$E70<=$E$1,AF70+$E70,0),IF(AI$2=\"Repair %\",IF(AF70>0,$C$3,0),IF(AI$2=\"Spares %\",IF(IF(AF70>0,$C70,0)*100>50%,50%,IF(AF70>0,$C70,0)*100),0))))","v":0},{"$f":"IF(AI70=0,0,IF(AJ$2=\"Year\",IF(_xlfn.MAXIFS($N70:AI70,$N$2:AI$2,\"Year\")+$E70<=$E$1,AG70+$E70,0),IF(AJ$2=\"Repair %\",IF(AG70>0,$C70,0),IF(AJ$2=\"Spares %\",IF(IF(AG70>0,$C70,0)*100>50%,50%,IF(AG70>0,$C70,0)*100),0))))","v":0},{"$f":"IF(AJ70=0,0,IF(AK$2=\"Year\",IF(_xlfn.MAXIFS($N70:AJ70,$N$2:AJ$2,\"Year\")+$E70<=$E$1,AH70+$E70,0),IF(AK$2=\"Repair %\",IF(AH70>0,$C70,0),IF(AK$2=\"Spares %\",IF(IF(AF70>0,$C70,0)*5>80%,50%,IF(AF70>0,$C70,0)*5),0))))","v":0},{"$f":"IF(AK70=0,0,IF(AL$2=\"Year\",IF(_xlfn.MAXIFS($N70:AK70,$N$2:AK$2,\"Year\")+$E70<=$E$1,AI70+$E70,0),IF(AL$2=\"Repair %\",IF(AI70>0,$C$3,0),IF(AL$2=\"Spares %\",IF(IF(AI70>0,$C70,0)*100>50%,50%,IF(AI70>0,$C70,0)*100),0))))","v":0},{"$f":"IF(AL70=0,0,IF(AM$2=\"Year\",IF(_xlfn.MAXIFS($N70:AL70,$N$2:AL$2,\"Year\")+$E70<=$E$1,AJ70+$E70,0),IF(AM$2=\"Repair %\",IF(AJ70>0,$C70,0),IF(AM$2=\"Spares %\",IF(IF(AJ70>0,$C70,0)*100>50%,50%,IF(AJ70>0,$C70,0)*100),0))))","v":0},{"$f":"IF(AM70=0,0,IF(AN$2=\"Year\",IF(_xlfn.MAXIFS($N70:AM70,$N$2:AM$2,\"Year\")+$E70<=$E$1,AK70+$E70,0),IF(AN$2=\"Repair %\",IF(AK70>0,$C70,0),IF(AN$2=\"Spares %\",IF(IF(AI70>0,$C70,0)*5>80%,50%,IF(AI70>0,$C70,0)*5),0))))","v":0},{"$f":"IF(AN70=0,0,IF(AO$2=\"Year\",IF(_xlfn.MAXIFS($N70:AN70,$N$2:AN$2,\"Year\")+$E70<=$E$1,AL70+$E70,0),IF(AO$2=\"Repair %\",IF(AL70>0,$C$3,0),IF(AO$2=\"Spares %\",IF(IF(AL70>0,$C70,0)*100>50%,50%,IF(AL70>0,$C70,0)*100),0))))","v":0},{"$f":"IF(AO70=0,0,IF(AP$2=\"Year\",IF(_xlfn.MAXIFS($N70:AO70,$N$2:AO$2,\"Year\")+$E70<=$E$1,AM70+$E70,0),IF(AP$2=\"Repair %\",IF(AM70>0,$C70,0),IF(AP$2=\"Spares %\",IF(IF(AM70>0,$C70,0)*100>50%,50%,IF(AM70>0,$C70,0)*100),0))))","v":0},{"$f":"IF(AP70=0,0,IF(AQ$2=\"Year\",IF(_xlfn.MAXIFS($N70:AP70,$N$2:AP$2,\"Year\")+$E70<=$E$1,AN70+$E70,0),IF(AQ$2=\"Repair %\",IF(AN70>0,$C70,0),IF(AQ$2=\"Spares %\",IF(IF(AL70>0,$C70,0)*5>80%,50%,IF(AL70>0,$C70,0)*5),0))))","v":0}]
[{"$f":"INDEX('Avionics ID'!A:E,MATCH(B71,'Avionics ID'!E:E,0),1)","v":729},"ECAM display",0.05,0.06,20,"Obsolecence",{"$f":"SUBSTITUTE(ADDRESS(1,MATCH(A71,'Pt1-AvionicsComponentCosts'!$A$6:$NC$6,0)+1),\"$1\",\"\")","v":"$ER"},{"$f":"_xlfn.TEXTJOIN(\", \",TRUE,_xlfn.UNIQUE(_xlfn._xlws.SORT(_xlfn._xlws.FILTER('Pt1-AvionicsComponentCosts'!$NF$12:$NF$384,ISNUMBER(INDIRECT(\"'Pt1-AvionicsComponentCosts'!\"&G71&\"$12:\"&G71&\"$384\"))))))","v":"A220, A320, A321, ATR, B717, B737, B757, C919, EMB Regional, MC-21, Mil Transport, Military Jet, NSA"},null,0.06,0.05,0.35299999999999998,1.8460000000000001,{"$f":"COUNTIF($N$2:N$2,\"Year\")*$G$1","v":10},null,0,{"$f":"COUNTIF($N$2:Q$2,\"Year\")*$G$1","v":20},{"$f":"IF(Q71=0,0,IF(R$2=\"Year\",IF(_xlfn.MAXIFS($N71:Q71,$N$2:Q$2,\"Year\")+$E71<=$E$1,O71+$E71,0),IF(R$2=\"Repair %\",IF(O71>0,$C71,0),IF(R$2=\"Spares %\",IF(IF(O71>0,$C71,0)*100>50%,50%,IF(O71>0,$C71,0)*100),0))))","v":0},1,{"$f":"COUNTIF($N$2:T$2,\"Year\")*$G$1","v":30},{"$f":"IF(T71=0,0,IF(U$2=\"Year\",IF(_xlfn.MAXIFS($N71:T71,$N$2:T$2,\"Year\")+$E71<=$E$1,R71+$E71,0),IF(U$2=\"Repair %\",IF(R71>0,$C71,0),IF(U$2=\"Spares %\",IF(IF(R71>0,$C71,0)*100>50%,50%,IF(R71>0,$C71,0)*100),0))))","v":0},0,{"$f":"COUNTIF($N$2:W$2,\"Year\")*$G$1","v":40},{"$f":"IF(W71=0,0,IF(X$2=\"Year\",IF(_xlfn.MAXIFS($N71:W71,$N$2:W$2,\"Year\")+$E71<=$E$1,U71+$E71,0),IF(X$2=\"Repair %\",IF(U71>0,$C71,0),IF(X$2=\"Spares %\",IF(IF(U71>0,$C71,0)*100>50%,50%,IF(U71>0,$C71,0)*100),0))))","v":0},1,{"$f":"IF(Y71=0,0,IF(Z$2=\"Year\",IF(_xlfn.MAXIFS($N71:Y71,$N$2:Y$2,\"Year\")+$E71<=$E$1,W71+$E71,0),IF(Z$2=\"Repair %\",IF(W71>0,$C$3,0),IF(Z$2=\"Spares %\",IF(IF(W71>0,$C71,0)*100>50%,50%,IF(W71>0,$C71,0)*100),0))))","v":0},{"$f":"IF(Z71=0,0,IF(AA$2=\"Year\",IF(_xlfn.MAXIFS($N71:Z71,$N$2:Z$2,\"Year\")+$E71<=$E$1,X71+$E71,0),IF(AA$2=\"Repair %\",IF(X71>0,$C71,0),IF(AA$2=\"Spares %\",IF(IF(X71>0,$C71,0)*100>50%,50%,IF(X71>0,$C71,0)*100),0))))","v":0},{"$f":"IF(AA71=0,0,IF(AB$2=\"Year\",IF(_xlfn.MAXIFS($N71:AA71,$N$2:AA$2,\"Year\")+$E71<=$E$1,Y71+$E71,0),IF(AB$2=\"Repair %\",IF(Y71>0,$C71,0),IF(AB$2=\"Spares %\",IF(IF(W71>0,$C71,0)*5>80%,50%,IF(W71>0,$C71,0)*5),0))))","v":0},{"$f":"IF(AB71=0,0,IF(AC$2=\"Year\",IF(_xlfn.MAXIFS($N71:AB71,$N$2:AB$2,\"Year\")+$E71<=$E$1,Z71+$E71,0),IF(AC$2=\"Repair %\",IF(Z71>0,$C$3,0),IF(AC$2=\"Spares %\",IF(IF(Z71>0,$C71,0)*100>50%,50%,IF(Z71>0,$C71,0)*100),0))))","v":0},{"$f":"IF(AC71=0,0,IF(AD$2=\"Year\",IF(_xlfn.MAXIFS($N71:AC71,$N$2:AC$2,\"Year\")+$E71<=$E$1,AA71+$E71,0),IF(AD$2=\"Repair %\",IF(AA71>0,$C71,0),IF(AD$2=\"Spares %\",IF(IF(AA71>0,$C71,0)*100>50%,50%,IF(AA71>0,$C71,0)*100),0))))","v":0},{"$f":"IF(AD71=0,0,IF(AE$2=\"Year\",IF(_xlfn.MAXIFS($N71:AD71,$N$2:AD$2,\"Year\")+$E71<=$E$1,AB71+$E71,0),IF(AE$2=\"Repair %\",IF(AB71>0,$C71,0),IF(AE$2=\"Spares %\",IF(IF(Z71>0,$C71,0)*5>80%,50%,IF(Z71>0,$C71,0)*5),0))))","v":0},{"$f":"IF(AE71=0,0,IF(AF$2=\"Year\",IF(_xlfn.MAXIFS($N71:AE71,$N$2:AE$2,\"Year\")+$E71<=$E$1,AC71+$E71,0),IF(AF$2=\"Repair %\",IF(AC71>0,$C$3,0),IF(AF$2=\"Spares %\",IF(IF(AC71>0,$C71,0)*100>50%,50%,IF(AC71>0,$C71,0)*100),0))))","v":0},{"$f":"IF(AF71=0,0,IF(AG$2=\"Year\",IF(_xlfn.MAXIFS($N71:AF71,$N$2:AF$2,\"Year\")+$E71<=$E$1,AD71+$E71,0),IF(AG$2=\"Repair %\",IF(AD71>0,$C71,0),IF(AG$2=\"Spares %\",IF(IF(AD71>0,$C71,0)*100>50%,50%,IF(AD71>0,$C71,0)*100),0))))","v":0},{"$f":"IF(AG71=0,0,IF(AH$2=\"Year\",IF(_xlfn.MAXIFS($N71:AG71,$N$2:AG$2,\"Year\")+$E71<=$E$1,AE71+$E71,0),IF(AH$2=\"Repair %\",IF(AE71>0,$C71,0),IF(AH$2=\"Spares %\",IF(IF(AC71>0,$C71,0)*5>80%,50%,IF(AC71>0,$C71,0)*5),0))))","v":0},{"$f":"IF(AH71=0,0,IF(AI$2=\"Year\",IF(_xlfn.MAXIFS($N71:AH71,$N$2:AH$2,\"Year\")+$E71<=$E$1,AF71+$E71,0),IF(AI$2=\"Repair %\",IF(AF71>0,$C$3,0),IF(AI$2=\"Spares %\",IF(IF(AF71>0,$C71,0)*100>50%,50%,IF(AF71>0,$C71,0)*100),0))))","v":0},{"$f":"IF(AI71=0,0,IF(AJ$2=\"Year\",IF(_xlfn.MAXIFS($N71:AI71,$N$2:AI$2,\"Year\")+$E71<=$E$1,AG71+$E71,0),IF(AJ$2=\"Repair %\",IF(AG71>0,$C71,0),IF(AJ$2=\"Spares %\",IF(IF(AG71>0,$C71,0)*100>50%,50%,IF(AG71>0,$C71,0)*100),0))))","v":0},{"$f":"IF(AJ71=0,0,IF(AK$2=\"Year\",IF(_xlfn.MAXIFS($N71:AJ71,$N$2:AJ$2,\"Year\")+$E71<=$E$1,AH71+$E71,0),IF(AK$2=\"Repair %\",IF(AH71>0,$C71,0),IF(AK$2=\"Spares %\",IF(IF(AF71>0,$C71,0)*5>80%,50%,IF(AF71>0,$C71,0)*5),0))))","v":0},{"$f":"IF(AK71=0,0,IF(AL$2=\"Year\",IF(_xlfn.MAXIFS($N71:AK71,$N$2:AK$2,\"Year\")+$E71<=$E$1,AI71+$E71,0),IF(AL$2=\"Repair %\",IF(AI71>0,$C$3,0),IF(AL$2=\"Spares %\",IF(IF(AI71>0,$C71,0)*100>50%,50%,IF(AI71>0,$C71,0)*100),0))))","v":0},{"$f":"IF(AL71=0,0,IF(AM$2=\"Year\",IF(_xlfn.MAXIFS($N71:AL71,$N$2:AL$2,\"Year\")+$E71<=$E$1,AJ71+$E71,0),IF(AM$2=\"Repair %\",IF(AJ71>0,$C71,0),IF(AM$2=\"Spares %\",IF(IF(AJ71>0,$C71,0)*100>50%,50%,IF(AJ71>0,$C71,0)*100),0))))","v":0},{"$f":"IF(AM71=0,0,IF(AN$2=\"Year\",IF(_xlfn.MAXIFS($N71:AM71,$N$2:AM$2,\"Year\")+$E71<=$E$1,AK71+$E71,0),IF(AN$2=\"Repair %\",IF(AK71>0,$C71,0),IF(AN$2=\"Spares %\",IF(IF(AI71>0,$C71,0)*5>80%,50%,IF(AI71>0,$C71,0)*5),0))))","v":0},{"$f":"IF(AN71=0,0,IF(AO$2=\"Year\",IF(_xlfn.MAXIFS($N71:AN71,$N$2:AN$2,\"Year\")+$E71<=$E$1,AL71+$E71,0),IF(AO$2=\"Repair %\",IF(AL71>0,$C$3,0),IF(AO$2=\"Spares %\",IF(IF(AL71>0,$C71,0)*100>50%,50%,IF(AL71>0,$C71,0)*100),0))))","v":0},{"$f":"IF(AO71=0,0,IF(AP$2=\"Year\",IF(_xlfn.MAXIFS($N71:AO71,$N$2:AO$2,\"Year\")+$E71<=$E$1,AM71+$E71,0),IF(AP$2=\"Repair %\",IF(AM71>0,$C71,0),IF(AP$2=\"Spares %\",IF(IF(AM71>0,$C71,0)*100>50%,50%,IF(AM71>0,$C71,0)*100),0))))","v":0},{"$f":"IF(AP71=0,0,IF(AQ$2=\"Year\",IF(_xlfn.MAXIFS($N71:AP71,$N$2:AP$2,\"Year\")+$E71<=$E$1,AN71+$E71,0),IF(AQ$2=\"Repair %\",IF(AN71>0,$C71,0),IF(AQ$2=\"Spares %\",IF(IF(AL71>0,$C71,0)*5>80%,50%,IF(AL71>0,$C71,0)*5),0))))","v":0}]
[{"$f":"INDEX('Avionics ID'!A:E,MATCH(B72,'Avionics ID'!E:E,0),1)","v":728},"EFIS Control panel",0.1,0.06,10,"Obsolecence",{"$f":"SUBSTITUTE(ADDRESS(1,MATCH(A72,'Pt1-AvionicsComponentCosts'!$A$6:$NC$6,0)+1),\"$1\",\"\")","v":"$ET"},{"$f":"_xlfn.TEXTJOIN(\", \",TRUE,_xlfn.UNIQUE(_xlfn._xlws.SORT(_xlfn._xlws.FILTER('Pt1-AvionicsComponentCosts'!$NF$12:$NF$384,ISNUMBER(INDIRECT(\"'Pt1-AvionicsComponentCosts'!\"&G72&\"$12:\"&G72&\"$384\"))))))","v":"A220, A300, A320, A321, A330, A340, A350, A380, ATR, B717, B737, B747, B757, B767, B777, B787, C919, EMB Regional, MC-21, MD-11, Mil Transport, Military Jet, NSA"},null,0.06,0.1,0.35299999999999998,1.8460000000000001,{"$f":"COUNTIF($N$2:N$2,\"Year\")*$G$1","v":10},null,1,{"$f":"COUNTIF($N$2:Q$2,\"Year\")*$G$1","v":20},{"$f":"IF(Q72=0,0,IF(R$2=\"Year\",IF(_xlfn.MAXIFS($N72:Q72,$N$2:Q$2,\"Year\")+$E72<=$E$1,O72+$E72,0),IF(R$2=\"Repair %\",IF(O72>0,$C72,0),IF(R$2=\"Spares %\",IF(IF(O72>0,$C72,0)*100>50%,50%,IF(O72>0,$C72,0)*100),0))))","v":0},1,{"$f":"COUNTIF($N$2:T$2,\"Year\")*$G$1","v":30},{"$f":"IF(T72=0,0,IF(U$2=\"Year\",IF(_xlfn.MAXIFS($N72:T72,$N$2:T$2,\"Year\")+$E72<=$E$1,R72+$E72,0),IF(U$2=\"Repair %\",IF(R72>0,$C72,0),IF(U$2=\"Spares %\",IF(IF(R72>0,$C72,0)*100>50%,50%,IF(R72>0,$C72,0)*100),0))))","v":0},1,{"$f":"COUNTIF($N$2:W$2,\"Year\")*$G$1","v":40},{"$f":"IF(W72=0,0,IF(X$2=\"Year\",IF(_xlfn.MAXIFS($N72:W72,$N$2:W$2,\"Year\")+$E72<=$E$1,U72+$E72,0),IF(X$2=\"Repair %\",IF(U72>0,$C72,0),IF(X$2=\"Spares %\",IF(IF(U72>0,$C72,0)*100>50%,50%,IF(U72>0,$C72,0)*100),0))))","v":0},1,{"$f":"IF(Y72=0,0,IF(Z$2=\"Year\",IF(_xlfn.MAXIFS($N72:Y72,$N$2:Y$2,\"Year\")+$E72<=$E$1,W72+$E72,0),IF(Z$2=\"Repair %\",IF(W72>0,$C$3,0),IF(Z$2=\"Spares %\",IF(IF(W72>0,$C72,0)*100>50%,50%,IF(W72>0,$C72,0)*100),0))))","v":0},{"$f":"IF(Z72=0,0,IF(AA$2=\"Year\",IF(_xlfn.MAXIFS($N72:Z72,$N$2:Z$2,\"Year\")+$E72<=$E$1,X72+$E72,0),IF(AA$2=\"Repair %\",IF(X72>0,$C72,0),IF(AA$2=\"Spares %\",IF(IF(X72>0,$C72,0)*100>50%,50%,IF(X72>0,$C72,0)*100),0))))","v":0},{"$f":"IF(AA72=0,0,IF(AB$2=\"Year\",IF(_xlfn.MAXIFS($N72:AA72,$N$2:AA$2,\"Year\")+$E72<=$E$1,Y72+$E72,0),IF(AB$2=\"Repair %\",IF(Y72>0,$C72,0),IF(AB$2=\"Spares %\",IF(IF(W72>0,$C72,0)*5>80%,50%,IF(W72>0,$C72,0)*5),0))))","v":0},{"$f":"IF(AB72=0,0,IF(AC$2=\"Year\",IF(_xlfn.MAXIFS($N72:AB72,$N$2:AB$2,\"Year\")+$E72<=$E$1,Z72+$E72,0),IF(AC$2=\"Repair %\",IF(Z72>0,$C$3,0),IF(AC$2=\"Spares %\",IF(IF(Z72>0,$C72,0)*100>50%,50%,IF(Z72>0,$C72,0)*100),0))))","v":0},{"$f":"IF(AC72=0,0,IF(AD$2=\"Year\",IF(_xlfn.MAXIFS($N72:AC72,$N$2:AC$2,\"Year\")+$E72<=$E$1,AA72+$E72,0),IF(AD$2=\"Repair %\",IF(AA72>0,$C72,0),IF(AD$2=\"Spares %\",IF(IF(AA72>0,$C72,0)*100>50%,50%,IF(AA72>0,$C72,0)*100),0))))","v":0},{"$f":"IF(AD72=0,0,IF(AE$2=\"Year\",IF(_xlfn.MAXIFS($N72:AD72,$N$2:AD$2,\"Year\")+$E72<=$E$1,AB72+$E72,0),IF(AE$2=\"Repair %\",IF(AB72>0,$C72,0),IF(AE$2=\"Spares %\",IF(IF(Z72>0,$C72,0)*5>80%,50%,IF(Z72>0,$C72,0)*5),0))))","v":0},{"$f":"IF(AE72=0,0,IF(AF$2=\"Year\",IF(_xlfn.MAXIFS($N72:AE72,$N$2:AE$2,\"Year\")+$E72<=$E$1,AC72+$E72,0),IF(AF$2=\"Repair %\",IF(AC72>0,$C$3,0),IF(AF$2=\"Spares %\",IF(IF(AC72>0,$C72,0)*100>50%,50%,IF(AC72>0,$C72,0)*100),0))))","v":0},{"$f":"IF(AF72=0,0,IF(AG$2=\"Year\",IF(_xlfn.MAXIFS($N72:AF72,$N$2:AF$2,\"Year\")+$E72<=$E$1,AD72+$E72,0),IF(AG$2=\"Repair %\",IF(AD72>0,$C72,0),IF(AG$2=\"Spares %\",IF(IF(AD72>0,$C72,0)*100>50%,50%,IF(AD72>0,$C72,0)*100),0))))","v":0},{"$f":"IF(AG72=0,0,IF(AH$2=\"Year\",IF(_xlfn.MAXIFS($N72:AG72,$N$2:AG$2,\"Year\")+$E72<=$E$1,AE72+$E72,0),IF(AH$2=\"Repair %\",IF(AE72>0,$C72,0),IF(AH$2=\"Spares %\",IF(IF(AC72>0,$C72,0)*5>80%,50%,IF(AC72>0,$C72,0)*5),0))))","v":0},{"$f":"IF(AH72=0,0,IF(AI$2=\"Year\",IF(_xlfn.MAXIFS($N72:AH72,$N$2:AH$2,\"Year\")+$E72<=$E$1,AF72+$E72,0),IF(AI$2=\"Repair %\",IF(AF72>0,$C$3,0),IF(AI$2=\"Spares %\",IF(IF(AF72>0,$C72,0)*100>50%,50%,IF(AF72>0,$C72,0)*100),0))))","v":0},{"$f":"IF(AI72=0,0,IF(AJ$2=\"Year\",IF(_xlfn.MAXIFS($N72:AI72,$N$2:AI$2,\"Year\")+$E72<=$E$1,AG72+$E72,0),IF(AJ$2=\"Repair %\",IF(AG72>0,$C72,0),IF(AJ$2=\"Spares %\",IF(IF(AG72>0,$C72,0)*100>50%,50%,IF(AG72>0,$C72,0)*100),0))))","v":0},{"$f":"IF(AJ72=0,0,IF(AK$2=\"Year\",IF(_xlfn.MAXIFS($N72:AJ72,$N$2:AJ$2,\"Year\")+$E72<=$E$1,AH72+$E72,0),IF(AK$2=\"Repair %\",IF(AH72>0,$C72,0),IF(AK$2=\"Spares %\",IF(IF(AF72>0,$C72,0)*5>80%,50%,IF(AF72>0,$C72,0)*5),0))))","v":0},{"$f":"IF(AK72=0,0,IF(AL$2=\"Year\",IF(_xlfn.MAXIFS($N72:AK72,$N$2:AK$2,\"Year\")+$E72<=$E$1,AI72+$E72,0),IF(AL$2=\"Repair %\",IF(AI72>0,$C$3,0),IF(AL$2=\"Spares %\",IF(IF(AI72>0,$C72,0)*100>50%,50%,IF(AI72>0,$C72,0)*100),0))))","v":0},{"$f":"IF(AL72=0,0,IF(AM$2=\"Year\",IF(_xlfn.MAXIFS($N72:AL72,$N$2:AL$2,\"Year\")+$E72<=$E$1,AJ72+$E72,0),IF(AM$2=\"Repair %\",IF(AJ72>0,$C72,0),IF(AM$2=\"Spares %\",IF(IF(AJ72>0,$C72,0)*100>50%,50%,IF(AJ72>0,$C72,0)*100),0))))","v":0},{"$f":"IF(AM72=0,0,IF(AN$2=\"Year\",IF(_xlfn.MAXIFS($N72:AM72,$N$2:AM$2,\"Year\")+$E72<=$E$1,AK72+$E72,0),IF(AN$2=\"Repair %\",IF(AK72>0,$C72,0),IF(AN$2=\"Spares %\",IF(IF(AI72>0,$C72,0)*5>80%,50%,IF(AI72>0,$C72,0)*5),0))))","v":0},{"$f":"IF(AN72=0,0,IF(AO$2=\"Year\",IF(_xlfn.MAXIFS($N72:AN72,$N$2:AN$2,\"Year\")+$E72<=$E$1,AL72+$E72,0),IF(AO$2=\"Repair %\",IF(AL72>0,$C$3,0),IF(AO$2=\"Spares %\",IF(IF(AL72>0,$C72,0)*100>50%,50%,IF(AL72>0,$C72,0)*100),0))))","v":0},{"$f":"IF(AO72=0,0,IF(AP$2=\"Year\",IF(_xlfn.MAXIFS($N72:AO72,$N$2:AO$2,\"Year\")+$E72<=$E$1,AM72+$E72,0),IF(AP$2=\"Repair %\",IF(AM72>0,$C72,0),IF(AP$2=\"Spares %\",IF(IF(AM72>0,$C72,0)*100>50%,50%,IF(AM72>0,$C72,0)*100),0))))","v":0},{"$f":"IF(AP72=0,0,IF(AQ$2=\"Year\",IF(_xlfn.MAXIFS($N72:AP72,$N$2:AP$2,\"Year\")+$E72<=$E$1,AN72+$E72,0),IF(AQ$2=\"Repair %\",IF(AN72>0,$C72,0),IF(AQ$2=\"Spares %\",IF(IF(AL72>0,$C72,0)*5>80%,50%,IF(AL72>0,$C72,0)*5),0))))","v":0}]
[{"$f":"INDEX('Avionics ID'!A:E,MATCH(B73,'Avionics ID'!E:E,0),1)","v":827},"EICAS Controller panel",0.1,0.06,10,"Obsolecence",{"$f":"SUBSTITUTE(ADDRESS(1,MATCH(A73,'Pt1-AvionicsComponentCosts'!$A$6:$NC$6,0)+1),\"$1\",\"\")","v":"$EV"},{"$f":"_xlfn.TEXTJOIN(\", \",TRUE,_xlfn.UNIQUE(_xlfn._xlws.SORT(_xlfn._xlws.FILTER('Pt1-AvionicsComponentCosts'!$NF$12:$NF$384,ISNUMBER(INDIRECT(\"'Pt1-AvionicsComponentCosts'!\"&G73&\"$12:\"&G73&\"$384\"))))))","v":"Challenger, Citation, E550, EMB Bizjet, Falcon, Global, Gulfstream, Hawker, Hondajet, Learjet, Nextant 400XT, PC-24, Phenom, Praetor, SF50"},null,0.06,0.1,0.35299999999999998,1.8460000000000001,{"$f":"COUNTIF($N$2:N$2,\"Year\")*$G$1","v":10},null,1,{"$f":"COUNTIF($N$2:Q$2,\"Year\")*$G$1","v":20},{"$f":"IF(Q73=0,0,IF(R$2=\"Year\",IF(_xlfn.MAXIFS($N73:Q73,$N$2:Q$2,\"Year\")+$E73<=$E$1,O73+$E73,0),IF(R$2=\"Repair %\",IF(O73>0,$C73,0),IF(R$2=\"Spares %\",IF(IF(O73>0,$C73,0)*100>50%,50%,IF(O73>0,$C73,0)*100),0))))","v":0},1,{"$f":"COUNTIF($N$2:T$2,\"Year\")*$G$1","v":30},{"$f":"IF(T73=0,0,IF(U$2=\"Year\",IF(_xlfn.MAXIFS($N73:T73,$N$2:T$2,\"Year\")+$E73<=$E$1,R73+$E73,0),IF(U$2=\"Repair %\",IF(R73>0,$C73,0),IF(U$2=\"Spares %\",IF(IF(R73>0,$C73,0)*100>50%,50%,IF(R73>0,$C73,0)*100),0))))","v":0},1,{"$f":"COUNTIF($N$2:W$2,\"Year\")*$G$1","v":40},{"$f":"IF(W73=0,0,IF(X$2=\"Year\",IF(_xlfn.MAXIFS($N73:W73,$N$2:W$2,\"Year\")+$E73<=$E$1,U73+$E73,0),IF(X$2=\"Repair %\",IF(U73>0,$C73,0),IF(X$2=\"Spares %\",IF(IF(U73>0,$C73,0)*100>50%,50%,IF(U73>0,$C73,0)*100),0))))","v":0},1,{"$f":"IF(Y73=0,0,IF(Z$2=\"Year\",IF(_xlfn.MAXIFS($N73:Y73,$N$2:Y$2,\"Year\")+$E73<=$E$1,W73+$E73,0),IF(Z$2=\"Repair %\",IF(W73>0,$C$3,0),IF(Z$2=\"Spares %\",IF(IF(W73>0,$C73,0)*100>50%,50%,IF(W73>0,$C73,0)*100),0))))","v":0},{"$f":"IF(Z73=0,0,IF(AA$2=\"Year\",IF(_xlfn.MAXIFS($N73:Z73,$N$2:Z$2,\"Year\")+$E73<=$E$1,X73+$E73,0),IF(AA$2=\"Repair %\",IF(X73>0,$C73,0),IF(AA$2=\"Spares %\",IF(IF(X73>0,$C73,0)*100>50%,50%,IF(X73>0,$C73,0)*100),0))))","v":0},{"$f":"IF(AA73=0,0,IF(AB$2=\"Year\",IF(_xlfn.MAXIFS($N73:AA73,$N$2:AA$2,\"Year\")+$E73<=$E$1,Y73+$E73,0),IF(AB$2=\"Repair %\",IF(Y73>0,$C73,0),IF(AB$2=\"Spares %\",IF(IF(W73>0,$C73,0)*5>80%,50%,IF(W73>0,$C73,0)*5),0))))","v":0},{"$f":"IF(AB73=0,0,IF(AC$2=\"Year\",IF(_xlfn.MAXIFS($N73:AB73,$N$2:AB$2,\"Year\")+$E73<=$E$1,Z73+$E73,0),IF(AC$2=\"Repair %\",IF(Z73>0,$C$3,0),IF(AC$2=\"Spares %\",IF(IF(Z73>0,$C73,0)*100>50%,50%,IF(Z73>0,$C73,0)*100),0))))","v":0},{"$f":"IF(AC73=0,0,IF(AD$2=\"Year\",IF(_xlfn.MAXIFS($N73:AC73,$N$2:AC$2,\"Year\")+$E73<=$E$1,AA73+$E73,0),IF(AD$2=\"Repair %\",IF(AA73>0,$C73,0),IF(AD$2=\"Spares %\",IF(IF(AA73>0,$C73,0)*100>50%,50%,IF(AA73>0,$C73,0)*100),0))))","v":0},{"$f":"IF(AD73=0,0,IF(AE$2=\"Year\",IF(_xlfn.MAXIFS($N73:AD73,$N$2:AD$2,\"Year\")+$E73<=$E$1,AB73+$E73,0),IF(AE$2=\"Repair %\",IF(AB73>0,$C73,0),IF(AE$2=\"Spares %\",IF(IF(Z73>0,$C73,0)*5>80%,50%,IF(Z73>0,$C73,0)*5),0))))","v":0},{"$f":"IF(AE73=0,0,IF(AF$2=\"Year\",IF(_xlfn.MAXIFS($N73:AE73,$N$2:AE$2,\"Year\")+$E73<=$E$1,AC73+$E73,0),IF(AF$2=\"Repair %\",IF(AC73>0,$C$3,0),IF(AF$2=\"Spares %\",IF(IF(AC73>0,$C73,0)*100>50%,50%,IF(AC73>0,$C73,0)*100),0))))","v":0},{"$f":"IF(AF73=0,0,IF(AG$2=\"Year\",IF(_xlfn.MAXIFS($N73:AF73,$N$2:AF$2,\"Year\")+$E73<=$E$1,AD73+$E73,0),IF(AG$2=\"Repair %\",IF(AD73>0,$C73,0),IF(AG$2=\"Spares %\",IF(IF(AD73>0,$C73,0)*100>50%,50%,IF(AD73>0,$C73,0)*100),0))))","v":0},{"$f":"IF(AG73=0,0,IF(AH$2=\"Year\",IF(_xlfn.MAXIFS($N73:AG73,$N$2:AG$2,\"Year\")+$E73<=$E$1,AE73+$E73,0),IF(AH$2=\"Repair %\",IF(AE73>0,$C73,0),IF(AH$2=\"Spares %\",IF(IF(AC73>0,$C73,0)*5>80%,50%,IF(AC73>0,$C73,0)*5),0))))","v":0},{"$f":"IF(AH73=0,0,IF(AI$2=\"Year\",IF(_xlfn.MAXIFS($N73:AH73,$N$2:AH$2,\"Year\")+$E73<=$E$1,AF73+$E73,0),IF(AI$2=\"Repair %\",IF(AF73>0,$C$3,0),IF(AI$2=\"Spares %\",IF(IF(AF73>0,$C73,0)*100>50%,50%,IF(AF73>0,$C73,0)*100),0))))","v":0},{"$f":"IF(AI73=0,0,IF(AJ$2=\"Year\",IF(_xlfn.MAXIFS($N73:AI73,$N$2:AI$2,\"Year\")+$E73<=$E$1,AG73+$E73,0),IF(AJ$2=\"Repair %\",IF(AG73>0,$C73,0),IF(AJ$2=\"Spares %\",IF(IF(AG73>0,$C73,0)*100>50%,50%,IF(AG73>0,$C73,0)*100),0))))","v":0},{"$f":"IF(AJ73=0,0,IF(AK$2=\"Year\",IF(_xlfn.MAXIFS($N73:AJ73,$N$2:AJ$2,\"Year\")+$E73<=$E$1,AH73+$E73,0),IF(AK$2=\"Repair %\",IF(AH73>0,$C73,0),IF(AK$2=\"Spares %\",IF(IF(AF73>0,$C73,0)*5>80%,50%,IF(AF73>0,$C73,0)*5),0))))","v":0},{"$f":"IF(AK73=0,0,IF(AL$2=\"Year\",IF(_xlfn.MAXIFS($N73:AK73,$N$2:AK$2,\"Year\")+$E73<=$E$1,AI73+$E73,0),IF(AL$2=\"Repair %\",IF(AI73>0,$C$3,0),IF(AL$2=\"Spares %\",IF(IF(AI73>0,$C73,0)*100>50%,50%,IF(AI73>0,$C73,0)*100),0))))","v":0},{"$f":"IF(AL73=0,0,IF(AM$2=\"Year\",IF(_xlfn.MAXIFS($N73:AL73,$N$2:AL$2,\"Year\")+$E73<=$E$1,AJ73+$E73,0),IF(AM$2=\"Repair %\",IF(AJ73>0,$C73,0),IF(AM$2=\"Spares %\",IF(IF(AJ73>0,$C73,0)*100>50%,50%,IF(AJ73>0,$C73,0)*100),0))))","v":0},{"$f":"IF(AM73=0,0,IF(AN$2=\"Year\",IF(_xlfn.MAXIFS($N73:AM73,$N$2:AM$2,\"Year\")+$E73<=$E$1,AK73+$E73,0),IF(AN$2=\"Repair %\",IF(AK73>0,$C73,0),IF(AN$2=\"Spares %\",IF(IF(AI73>0,$C73,0)*5>80%,50%,IF(AI73>0,$C73,0)*5),0))))","v":0},{"$f":"IF(AN73=0,0,IF(AO$2=\"Year\",IF(_xlfn.MAXIFS($N73:AN73,$N$2:AN$2,\"Year\")+$E73<=$E$1,AL73+$E73,0),IF(AO$2=\"Repair %\",IF(AL73>0,$C$3,0),IF(AO$2=\"Spares %\",IF(IF(AL73>0,$C73,0)*100>50%,50%,IF(AL73>0,$C73,0)*100),0))))","v":0},{"$f":"IF(AO73=0,0,IF(AP$2=\"Year\",IF(_xlfn.MAXIFS($N73:AO73,$N$2:AO$2,\"Year\")+$E73<=$E$1,AM73+$E73,0),IF(AP$2=\"Repair %\",IF(AM73>0,$C73,0),IF(AP$2=\"Spares %\",IF(IF(AM73>0,$C73,0)*100>50%,50%,IF(AM73>0,$C73,0)*100),0))))","v":0},{"$f":"IF(AP73=0,0,IF(AQ$2=\"Year\",IF(_xlfn.MAXIFS($N73:AP73,$N$2:AP$2,\"Year\")+$E73<=$E$1,AN73+$E73,0),IF(AQ$2=\"Repair %\",IF(AN73>0,$C73,0),IF(AQ$2=\"Spares %\",IF(IF(AL73>0,$C73,0)*5>80%,50%,IF(AL73>0,$C73,0)*5),0))))","v":0}]
[{"$f":"INDEX('Avionics ID'!A:E,MATCH(B74,'Avionics ID'!E:E,0),1)","v":766},"EICAS Crew alerting System",0,0.06,null,"",{"$f":"SUBSTITUTE(ADDRESS(1,MATCH(A74,'Pt1-AvionicsComponentCosts'!$A$6:$NC$6,0)+1),\"$1\",\"\")","v":"$EX"},{"$f":"_xlfn.TEXTJOIN(\", \",TRUE,_xlfn.UNIQUE(_xlfn._xlws.SORT(_xlfn._xlws.FILTER('Pt1-AvionicsComponentCosts'!$NF$12:$NF$384,ISNUMBER(INDIRECT(\"'Pt1-AvionicsComponentCosts'!\"&G74&\"$12:\"&G74&\"$384\"))))))","v":"A300, A320, A330, A340, A350, A380, B747, B767, B777, B787, MD-11"},null,0.06,0,0.35299999999999998,1.8460000000000001,{"$f":"COUNTIF($N$2:N$2,\"Year\")*$G$1","v":10},null,0,{"$f":"COUNTIF($N$2:Q$2,\"Year\")*$G$1","v":20},{"$f":"IF(Q74=0,0,IF(R$2=\"Year\",IF(_xlfn.MAXIFS($N74:Q74,$N$2:Q$2,\"Year\")+$E74<=$E$1,O74+$E74,0),IF(R$2=\"Repair %\",IF(O74>0,$C74,0),IF(R$2=\"Spares %\",IF(IF(O74>0,$C74,0)*100>50%,50%,IF(O74>0,$C74,0)*100),0))))","v":0},0,{"$f":"COUNTIF($N$2:T$2,\"Year\")*$G$1","v":30},{"$f":"IF(T74=0,0,IF(U$2=\"Year\",IF(_xlfn.MAXIFS($N74:T74,$N$2:T$2,\"Year\")+$E74<=$E$1,R74+$E74,0),IF(U$2=\"Repair %\",IF(R74>0,$C74,0),IF(U$2=\"Spares %\",IF(IF(R74>0,$C74,0)*100>50%,50%,IF(R74>0,$C74,0)*100),0))))","v":0},0,{"$f":"COUNTIF($N$2:W$2,\"Year\")*$G$1","v":40},{"$f":"IF(W74=0,0,IF(X$2=\"Year\",IF(_xlfn.MAXIFS($N74:W74,$N$2:W$2,\"Year\")+$E74<=$E$1,U74+$E74,0),IF(X$2=\"Repair %\",IF(U74>0,$C74,0),IF(X$2=\"Spares %\",IF(IF(U74>0,$C74,0)*100>50%,50%,IF(U74>0,$C74,0)*100),0))))","v":0},0,{"$f":"IF(Y74=0,0,IF(Z$2=\"Year\",IF(_xlfn.MAXIFS($N74:Y74,$N$2:Y$2,\"Year\")+$E74<=$E$1,W74+$E74,0),IF(Z$2=\"Repair %\",IF(W74>0,$C$3,0),IF(Z$2=\"Spares %\",IF(IF(W74>0,$C74,0)*100>50%,50%,IF(W74>0,$C74,0)*100),0))))","v":0},{"$f":"IF(Z74=0,0,IF(AA$2=\"Year\",IF(_xlfn.MAXIFS($N74:Z74,$N$2:Z$2,\"Year\")+$E74<=$E$1,X74+$E74,0),IF(AA$2=\"Repair %\",IF(X74>0,$C74,0),IF(AA$2=\"Spares %\",IF(IF(X74>0,$C74,0)*100>50%,50%,IF(X74>0,$C74,0)*100),0))))","v":0},{"$f":"IF(AA74=0,0,IF(AB$2=\"Year\",IF(_xlfn.MAXIFS($N74:AA74,$N$2:AA$2,\"Year\")+$E74<=$E$1,Y74+$E74,0),IF(AB$2=\"Repair %\",IF(Y74>0,$C74,0),IF(AB$2=\"Spares %\",IF(IF(W74>0,$C74,0)*5>80%,50%,IF(W74>0,$C74,0)*5),0))))","v":0},{"$f":"IF(AB74=0,0,IF(AC$2=\"Year\",IF(_xlfn.MAXIFS($N74:AB74,$N$2:AB$2,\"Year\")+$E74<=$E$1,Z74+$E74,0),IF(AC$2=\"Repair %\",IF(Z74>0,$C$3,0),IF(AC$2=\"Spares %\",IF(IF(Z74>0,$C74,0)*100>50%,50%,IF(Z74>0,$C74,0)*100),0))))","v":0},{"$f":"IF(AC74=0,0,IF(AD$2=\"Year\",IF(_xlfn.MAXIFS($N74:AC74,$N$2:AC$2,\"Year\")+$E74<=$E$1,AA74+$E74,0),IF(AD$2=\"Repair %\",IF(AA74>0,$C74,0),IF(AD$2=\"Spares %\",IF(IF(AA74>0,$C74,0)*100>50%,50%,IF(AA74>0,$C74,0)*100),0))))","v":0},{"$f":"IF(AD74=0,0,IF(AE$2=\"Year\",IF(_xlfn.MAXIFS($N74:AD74,$N$2:AD$2,\"Year\")+$E74<=$E$1,AB74+$E74,0),IF(AE$2=\"Repair %\",IF(AB74>0,$C74,0),IF(AE$2=\"Spares %\",IF(IF(Z74>0,$C74,0)*5>80%,50%,IF(Z74>0,$C74,0)*5),0))))","v":0},{"$f":"IF(AE74=0,0,IF(AF$2=\"Year\",IF(_xlfn.MAXIFS($N74:AE74,$N$2:AE$2,\"Year\")+$E74<=$E$1,AC74+$E74,0),IF(AF$2=\"Repair %\",IF(AC74>0,$C$3,0),IF(AF$2=\"Spares %\",IF(IF(AC74>0,$C74,0)*100>50%,50%,IF(AC74>0,$C74,0)*100),0))))","v":0},{"$f":"IF(AF74=0,0,IF(AG$2=\"Year\",IF(_xlfn.MAXIFS($N74:AF74,$N$2:AF$2,\"Year\")+$E74<=$E$1,AD74+$E74,0),IF(AG$2=\"Repair %\",IF(AD74>0,$C74,0),IF(AG$2=\"Spares %\",IF(IF(AD74>0,$C74,0)*100>50%,50%,IF(AD74>0,$C74,0)*100),0))))","v":0},{"$f":"IF(AG74=0,0,IF(AH$2=\"Year\",IF(_xlfn.MAXIFS($N74:AG74,$N$2:AG$2,\"Year\")+$E74<=$E$1,AE74+$E74,0),IF(AH$2=\"Repair %\",IF(AE74>0,$C74,0),IF(AH$2=\"Spares %\",IF(IF(AC74>0,$C74,0)*5>80%,50%,IF(AC74>0,$C74,0)*5),0))))","v":0},{"$f":"IF(AH74=0,0,IF(AI$2=\"Year\",IF(_xlfn.MAXIFS($N74:AH74,$N$2:AH$2,\"Year\")+$E74<=$E$1,AF74+$E74,0),IF(AI$2=\"Repair %\",IF(AF74>0,$C$3,0),IF(AI$2=\"Spares %\",IF(IF(AF74>0,$C74,0)*100>50%,50%,IF(AF74>0,$C74,0)*100),0))))","v":0},{"$f":"IF(AI74=0,0,IF(AJ$2=\"Year\",IF(_xlfn.MAXIFS($N74:AI74,$N$2:AI$2,\"Year\")+$E74<=$E$1,AG74+$E74,0),IF(AJ$2=\"Repair %\",IF(AG74>0,$C74,0),IF(AJ$2=\"Spares %\",IF(IF(AG74>0,$C74,0)*100>50%,50%,IF(AG74>0,$C74,0)*100),0))))","v":0},{"$f":"IF(AJ74=0,0,IF(AK$2=\"Year\",IF(_xlfn.MAXIFS($N74:AJ74,$N$2:AJ$2,\"Year\")+$E74<=$E$1,AH74+$E74,0),IF(AK$2=\"Repair %\",IF(AH74>0,$C74,0),IF(AK$2=\"Spares %\",IF(IF(AF74>0,$C74,0)*5>80%,50%,IF(AF74>0,$C74,0)*5),0))))","v":0},{"$f":"IF(AK74=0,0,IF(AL$2=\"Year\",IF(_xlfn.MAXIFS($N74:AK74,$N$2:AK$2,\"Year\")+$E74<=$E$1,AI74+$E74,0),IF(AL$2=\"Repair %\",IF(AI74>0,$C$3,0),IF(AL$2=\"Spares %\",IF(IF(AI74>0,$C74,0)*100>50%,50%,IF(AI74>0,$C74,0)*100),0))))","v":0},{"$f":"IF(AL74=0,0,IF(AM$2=\"Year\",IF(_xlfn.MAXIFS($N74:AL74,$N$2:AL$2,\"Year\")+$E74<=$E$1,AJ74+$E74,0),IF(AM$2=\"Repair %\",IF(AJ74>0,$C74,0),IF(AM$2=\"Spares %\",IF(IF(AJ74>0,$C74,0)*100>50%,50%,IF(AJ74>0,$C74,0)*100),0))))","v":0},{"$f":"IF(AM74=0,0,IF(AN$2=\"Year\",IF(_xlfn.MAXIFS($N74:AM74,$N$2:AM$2,\"Year\")+$E74<=$E$1,AK74+$E74,0),IF(AN$2=\"Repair %\",IF(AK74>0,$C74,0),IF(AN$2=\"Spares %\",IF(IF(AI74>0,$C74,0)*5>80%,50%,IF(AI74>0,$C74,0)*5),0))))","v":0},{"$f":"IF(AN74=0,0,IF(AO$2=\"Year\",IF(_xlfn.MAXIFS($N74:AN74,$N$2:AN$2,\"Year\")+$E74<=$E$1,AL74+$E74,0),IF(AO$2=\"Repair %\",IF(AL74>0,$C$3,0),IF(AO$2=\"Spares %\",IF(IF(AL74>0,$C74,0)*100>50%,50%,IF(AL74>0,$C74,0)*100),0))))","v":0},{"$f":"IF(AO74=0,0,IF(AP$2=\"Year\",IF(_xlfn.MAXIFS($N74:AO74,$N$2:AO$2,\"Year\")+$E74<=$E$1,AM74+$E74,0),IF(AP$2=\"Repair %\",IF(AM74>0,$C74,0),IF(AP$2=\"Spares %\",IF(IF(AM74>0,$C74,0)*100>50%,50%,IF(AM74>0,$C74,0)*100),0))))","v":0},{"$f":"IF(AP74=0,0,IF(AQ$2=\"Year\",IF(_xlfn.MAXIFS($N74:AP74,$N$2:AP$2,\"Year\")+$E74<=$E$1,AN74+$E74,0),IF(AQ$2=\"Repair %\",IF(AN74>0,$C74,0),IF(AQ$2=\"Spares %\",IF(IF(AL74>0,$C74,0)*5>80%,50%,IF(AL74>0,$C74,0)*5),0))))","v":0}]
[{"$f":"INDEX('Avionics ID'!A:E,MATCH(B75,'Avionics ID'!E:E,0),1)","v":792},"Electro Optical Targeting System (FLIR & IRST)",0.05,0.06,20,"Obsolecence",{"$f":"SUBSTITUTE(ADDRESS(1,MATCH(A75,'Pt1-AvionicsComponentCosts'!$A$6:$NC$6,0)+1),\"$1\",\"\")","v":"$KV"},{"$f":"_xlfn.TEXTJOIN(\", \",TRUE,_xlfn.UNIQUE(_xlfn._xlws.SORT(_xlfn._xlws.FILTER('Pt1-AvionicsComponentCosts'!$NF$12:$NF$384,ISNUMBER(INDIRECT(\"'Pt1-AvionicsComponentCosts'!\"&G75&\"$12:\"&G75&\"$384\"))))))","v":"Attack, Stealth"},null,0.06,0.05,0.33500000000000002,1.6830000000000001,{"$f":"COUNTIF($N$2:N$2,\"Year\")*$G$1","v":10},null,0,{"$f":"COUNTIF($N$2:Q$2,\"Year\")*$G$1","v":20},{"$f":"IF(Q75=0,0,IF(R$2=\"Year\",IF(_xlfn.MAXIFS($N75:Q75,$N$2:Q$2,\"Year\")+$E75<=$E$1,O75+$E75,0),IF(R$2=\"Repair %\",IF(O75>0,$C75,0),IF(R$2=\"Spares %\",IF(IF(O75>0,$C75,0)*100>50%,50%,IF(O75>0,$C75,0)*100),0))))","v":0},1,{"$f":"COUNTIF($N$2:T$2,\"Year\")*$G$1","v":30},{"$f":"IF(T75=0,0,IF(U$2=\"Year\",IF(_xlfn.MAXIFS($N75:T75,$N$2:T$2,\"Year\")+$E75<=$E$1,R75+$E75,0),IF(U$2=\"Repair %\",IF(R75>0,$C75,0),IF(U$2=\"Spares %\",IF(IF(R75>0,$C75,0)*100>50%,50%,IF(R75>0,$C75,0)*100),0))))","v":0},0,{"$f":"COUNTIF($N$2:W$2,\"Year\")*$G$1","v":40},{"$f":"IF(W75=0,0,IF(X$2=\"Year\",IF(_xlfn.MAXIFS($N75:W75,$N$2:W$2,\"Year\")+$E75<=$E$1,U75+$E75,0),IF(X$2=\"Repair %\",IF(U75>0,$C75,0),IF(X$2=\"Spares %\",IF(IF(U75>0,$C75,0)*100>50%,50%,IF(U75>0,$C75,0)*100),0))))","v":0},1,{"$f":"IF(Y75=0,0,IF(Z$2=\"Year\",IF(_xlfn.MAXIFS($N75:Y75,$N$2:Y$2,\"Year\")+$E75<=$E$1,W75+$E75,0),IF(Z$2=\"Repair %\",IF(W75>0,$C$3,0),IF(Z$2=\"Spares %\",IF(IF(W75>0,$C75,0)*100>50%,50%,IF(W75>0,$C75,0)*100),0))))","v":0},{"$f":"IF(Z75=0,0,IF(AA$2=\"Year\",IF(_xlfn.MAXIFS($N75:Z75,$N$2:Z$2,\"Year\")+$E75<=$E$1,X75+$E75,0),IF(AA$2=\"Repair %\",IF(X75>0,$C75,0),IF(AA$2=\"Spares %\",IF(IF(X75>0,$C75,0)*100>50%,50%,IF(X75>0,$C75,0)*100),0))))","v":0},{"$f":"IF(AA75=0,0,IF(AB$2=\"Year\",IF(_xlfn.MAXIFS($N75:AA75,$N$2:AA$2,\"Year\")+$E75<=$E$1,Y75+$E75,0),IF(AB$2=\"Repair %\",IF(Y75>0,$C75,0),IF(AB$2=\"Spares %\",IF(IF(W75>0,$C75,0)*5>80%,50%,IF(W75>0,$C75,0)*5),0))))","v":0},{"$f":"IF(AB75=0,0,IF(AC$2=\"Year\",IF(_xlfn.MAXIFS($N75:AB75,$N$2:AB$2,\"Year\")+$E75<=$E$1,Z75+$E75,0),IF(AC$2=\"Repair %\",IF(Z75>0,$C$3,0),IF(AC$2=\"Spares %\",IF(IF(Z75>0,$C75,0)*100>50%,50%,IF(Z75>0,$C75,0)*100),0))))","v":0},{"$f":"IF(AC75=0,0,IF(AD$2=\"Year\",IF(_xlfn.MAXIFS($N75:AC75,$N$2:AC$2,\"Year\")+$E75<=$E$1,AA75+$E75,0),IF(AD$2=\"Repair %\",IF(AA75>0,$C75,0),IF(AD$2=\"Spares %\",IF(IF(AA75>0,$C75,0)*100>50%,50%,IF(AA75>0,$C75,0)*100),0))))","v":0},{"$f":"IF(AD75=0,0,IF(AE$2=\"Year\",IF(_xlfn.MAXIFS($N75:AD75,$N$2:AD$2,\"Year\")+$E75<=$E$1,AB75+$E75,0),IF(AE$2=\"Repair %\",IF(AB75>0,$C75,0),IF(AE$2=\"Spares %\",IF(IF(Z75>0,$C75,0)*5>80%,50%,IF(Z75>0,$C75,0)*5),0))))","v":0},{"$f":"IF(AE75=0,0,IF(AF$2=\"Year\",IF(_xlfn.MAXIFS($N75:AE75,$N$2:AE$2,\"Year\")+$E75<=$E$1,AC75+$E75,0),IF(AF$2=\"Repair %\",IF(AC75>0,$C$3,0),IF(AF$2=\"Spares %\",IF(IF(AC75>0,$C75,0)*100>50%,50%,IF(AC75>0,$C75,0)*100),0))))","v":0},{"$f":"IF(AF75=0,0,IF(AG$2=\"Year\",IF(_xlfn.MAXIFS($N75:AF75,$N$2:AF$2,\"Year\")+$E75<=$E$1,AD75+$E75,0),IF(AG$2=\"Repair %\",IF(AD75>0,$C75,0),IF(AG$2=\"Spares %\",IF(IF(AD75>0,$C75,0)*100>50%,50%,IF(AD75>0,$C75,0)*100),0))))","v":0},{"$f":"IF(AG75=0,0,IF(AH$2=\"Year\",IF(_xlfn.MAXIFS($N75:AG75,$N$2:AG$2,\"Year\")+$E75<=$E$1,AE75+$E75,0),IF(AH$2=\"Repair %\",IF(AE75>0,$C75,0),IF(AH$2=\"Spares %\",IF(IF(AC75>0,$C75,0)*5>80%,50%,IF(AC75>0,$C75,0)*5),0))))","v":0},{"$f":"IF(AH75=0,0,IF(AI$2=\"Year\",IF(_xlfn.MAXIFS($N75:AH75,$N$2:AH$2,\"Year\")+$E75<=$E$1,AF75+$E75,0),IF(AI$2=\"Repair %\",IF(AF75>0,$C$3,0),IF(AI$2=\"Spares %\",IF(IF(AF75>0,$C75,0)*100>50%,50%,IF(AF75>0,$C75,0)*100),0))))","v":0},{"$f":"IF(AI75=0,0,IF(AJ$2=\"Year\",IF(_xlfn.MAXIFS($N75:AI75,$N$2:AI$2,\"Year\")+$E75<=$E$1,AG75+$E75,0),IF(AJ$2=\"Repair %\",IF(AG75>0,$C75,0),IF(AJ$2=\"Spares %\",IF(IF(AG75>0,$C75,0)*100>50%,50%,IF(AG75>0,$C75,0)*100),0))))","v":0},{"$f":"IF(AJ75=0,0,IF(AK$2=\"Year\",IF(_xlfn.MAXIFS($N75:AJ75,$N$2:AJ$2,\"Year\")+$E75<=$E$1,AH75+$E75,0),IF(AK$2=\"Repair %\",IF(AH75>0,$C75,0),IF(AK$2=\"Spares %\",IF(IF(AF75>0,$C75,0)*5>80%,50%,IF(AF75>0,$C75,0)*5),0))))","v":0},{"$f":"IF(AK75=0,0,IF(AL$2=\"Year\",IF(_xlfn.MAXIFS($N75:AK75,$N$2:AK$2,\"Year\")+$E75<=$E$1,AI75+$E75,0),IF(AL$2=\"Repair %\",IF(AI75>0,$C$3,0),IF(AL$2=\"Spares %\",IF(IF(AI75>0,$C75,0)*100>50%,50%,IF(AI75>0,$C75,0)*100),0))))","v":0},{"$f":"IF(AL75=0,0,IF(AM$2=\"Year\",IF(_xlfn.MAXIFS($N75:AL75,$N$2:AL$2,\"Year\")+$E75<=$E$1,AJ75+$E75,0),IF(AM$2=\"Repair %\",IF(AJ75>0,$C75,0),IF(AM$2=\"Spares %\",IF(IF(AJ75>0,$C75,0)*100>50%,50%,IF(AJ75>0,$C75,0)*100),0))))","v":0},{"$f":"IF(AM75=0,0,IF(AN$2=\"Year\",IF(_xlfn.MAXIFS($N75:AM75,$N$2:AM$2,\"Year\")+$E75<=$E$1,AK75+$E75,0),IF(AN$2=\"Repair %\",IF(AK75>0,$C75,0),IF(AN$2=\"Spares %\",IF(IF(AI75>0,$C75,0)*5>80%,50%,IF(AI75>0,$C75,0)*5),0))))","v":0},{"$f":"IF(AN75=0,0,IF(AO$2=\"Year\",IF(_xlfn.MAXIFS($N75:AN75,$N$2:AN$2,\"Year\")+$E75<=$E$1,AL75+$E75,0),IF(AO$2=\"Repair %\",IF(AL75>0,$C$3,0),IF(AO$2=\"Spares %\",IF(IF(AL75>0,$C75,0)*100>50%,50%,IF(AL75>0,$C75,0)*100),0))))","v":0},{"$f":"IF(AO75=0,0,IF(AP$2=\"Year\",IF(_xlfn.MAXIFS($N75:AO75,$N$2:AO$2,\"Year\")+$E75<=$E$1,AM75+$E75,0),IF(AP$2=\"Repair %\",IF(AM75>0,$C75,0),IF(AP$2=\"Spares %\",IF(IF(AM75>0,$C75,0)*100>50%,50%,IF(AM75>0,$C75,0)*100),0))))","v":0},{"$f":"IF(AP75=0,0,IF(AQ$2=\"Year\",IF(_xlfn.MAXIFS($N75:AP75,$N$2:AP$2,\"Year\")+$E75<=$E$1,AN75+$E75,0),IF(AQ$2=\"Repair %\",IF(AN75>0,$C75,0),IF(AQ$2=\"Spares %\",IF(IF(AL75>0,$C75,0)*5>80%,50%,IF(AL75>0,$C75,0)*5),0))))","v":0}]
[{"$f":"INDEX('Avionics ID'!A:E,MATCH(B76,'Avionics ID'!E:E,0),1)","v":759},"Electronic Flight Bags (EFBs)",0.2,0.06,5,"Technology / regulatory",{"$f":"SUBSTITUTE(ADDRESS(1,MATCH(A76,'Pt1-AvionicsComponentCosts'!$A$6:$NC$6,0)+1),\"$1\",\"\")","v":"$CX"},{"$f":"_xlfn.TEXTJOIN(\", \",TRUE,_xlfn.UNIQUE(_xlfn._xlws.SORT(_xlfn._xlws.FILTER('Pt1-AvionicsComponentCosts'!$NF$12:$NF$384,ISNUMBER(INDIRECT(\"'Pt1-AvionicsComponentCosts'!\"&G76&\"$12:\"&G76&\"$384\"))))))","v":"A220, A300, A320, A321, A330, A340, A350, A380, ARJ, ATR, B717, B737, B747, B757, B767, B777, B787, C919, CRJ, EMB Regional, MC-21, MD-11, Mil Transport, Military Jet, NSA, Reg TP, Superjet 100, Turbine GA"},null,0.06,0.2,0.68300000000000005,1.931,{"$f":"COUNTIF($N$2:N$2,\"Year\")*$G$1","v":10},null,1,{"$f":"COUNTIF($N$2:Q$2,\"Year\")*$G$1","v":20},{"$f":"IF(Q76=0,0,IF(R$2=\"Year\",IF(_xlfn.MAXIFS($N76:Q76,$N$2:Q$2,\"Year\")+$E76<=$E$1,O76+$E76,0),IF(R$2=\"Repair %\",IF(O76>0,$C76,0),IF(R$2=\"Spares %\",IF(IF(O76>0,$C76,0)*100>50%,50%,IF(O76>0,$C76,0)*100),0))))","v":0},1,{"$f":"COUNTIF($N$2:T$2,\"Year\")*$G$1","v":30},{"$f":"IF(T76=0,0,IF(U$2=\"Year\",IF(_xlfn.MAXIFS($N76:T76,$N$2:T$2,\"Year\")+$E76<=$E$1,R76+$E76,0),IF(U$2=\"Repair %\",IF(R76>0,$C76,0),IF(U$2=\"Spares %\",IF(IF(R76>0,$C76,0)*100>50%,50%,IF(R76>0,$C76,0)*100),0))))","v":0},1,{"$f":"COUNTIF($N$2:W$2,\"Year\")*$G$1","v":40},{"$f":"IF(W76=0,0,IF(X$2=\"Year\",IF(_xlfn.MAXIFS($N76:W76,$N$2:W$2,\"Year\")+$E76<=$E$1,U76+$E76,0),IF(X$2=\"Repair %\",IF(U76>0,$C76,0),IF(X$2=\"Spares %\",IF(IF(U76>0,$C76,0)*100>50%,50%,IF(U76>0,$C76,0)*100),0))))","v":0},1,{"$f":"IF(Y76=0,0,IF(Z$2=\"Year\",IF(_xlfn.MAXIFS($N76:Y76,$N$2:Y$2,\"Year\")+$E76<=$E$1,W76+$E76,0),IF(Z$2=\"Repair %\",IF(W76>0,$C$3,0),IF(Z$2=\"Spares %\",IF(IF(W76>0,$C76,0)*100>50%,50%,IF(W76>0,$C76,0)*100),0))))","v":0},{"$f":"IF(Z76=0,0,IF(AA$2=\"Year\",IF(_xlfn.MAXIFS($N76:Z76,$N$2:Z$2,\"Year\")+$E76<=$E$1,X76+$E76,0),IF(AA$2=\"Repair %\",IF(X76>0,$C76,0),IF(AA$2=\"Spares %\",IF(IF(X76>0,$C76,0)*100>50%,50%,IF(X76>0,$C76,0)*100),0))))","v":0},{"$f":"IF(AA76=0,0,IF(AB$2=\"Year\",IF(_xlfn.MAXIFS($N76:AA76,$N$2:AA$2,\"Year\")+$E76<=$E$1,Y76+$E76,0),IF(AB$2=\"Repair %\",IF(Y76>0,$C76,0),IF(AB$2=\"Spares %\",IF(IF(W76>0,$C76,0)*5>80%,50%,IF(W76>0,$C76,0)*5),0))))","v":0},{"$f":"IF(AB76=0,0,IF(AC$2=\"Year\",IF(_xlfn.MAXIFS($N76:AB76,$N$2:AB$2,\"Year\")+$E76<=$E$1,Z76+$E76,0),IF(AC$2=\"Repair %\",IF(Z76>0,$C$3,0),IF(AC$2=\"Spares %\",IF(IF(Z76>0,$C76,0)*100>50%,50%,IF(Z76>0,$C76,0)*100),0))))","v":0},{"$f":"IF(AC76=0,0,IF(AD$2=\"Year\",IF(_xlfn.MAXIFS($N76:AC76,$N$2:AC$2,\"Year\")+$E76<=$E$1,AA76+$E76,0),IF(AD$2=\"Repair %\",IF(AA76>0,$C76,0),IF(AD$2=\"Spares %\",IF(IF(AA76>0,$C76,0)*100>50%,50%,IF(AA76>0,$C76,0)*100),0))))","v":0},{"$f":"IF(AD76=0,0,IF(AE$2=\"Year\",IF(_xlfn.MAXIFS($N76:AD76,$N$2:AD$2,\"Year\")+$E76<=$E$1,AB76+$E76,0),IF(AE$2=\"Repair %\",IF(AB76>0,$C76,0),IF(AE$2=\"Spares %\",IF(IF(Z76>0,$C76,0)*5>80%,50%,IF(Z76>0,$C76,0)*5),0))))","v":0},{"$f":"IF(AE76=0,0,IF(AF$2=\"Year\",IF(_xlfn.MAXIFS($N76:AE76,$N$2:AE$2,\"Year\")+$E76<=$E$1,AC76+$E76,0),IF(AF$2=\"Repair %\",IF(AC76>0,$C$3,0),IF(AF$2=\"Spares %\",IF(IF(AC76>0,$C76,0)*100>50%,50%,IF(AC76>0,$C76,0)*100),0))))","v":0},{"$f":"IF(AF76=0,0,IF(AG$2=\"Year\",IF(_xlfn.MAXIFS($N76:AF76,$N$2:AF$2,\"Year\")+$E76<=$E$1,AD76+$E76,0),IF(AG$2=\"Repair %\",IF(AD76>0,$C76,0),IF(AG$2=\"Spares %\",IF(IF(AD76>0,$C76,0)*100>50%,50%,IF(AD76>0,$C76,0)*100),0))))","v":0},{"$f":"IF(AG76=0,0,IF(AH$2=\"Year\",IF(_xlfn.MAXIFS($N76:AG76,$N$2:AG$2,\"Year\")+$E76<=$E$1,AE76+$E76,0),IF(AH$2=\"Repair %\",IF(AE76>0,$C76,0),IF(AH$2=\"Spares %\",IF(IF(AC76>0,$C76,0)*5>80%,50%,IF(AC76>0,$C76,0)*5),0))))","v":0},{"$f":"IF(AH76=0,0,IF(AI$2=\"Year\",IF(_xlfn.MAXIFS($N76:AH76,$N$2:AH$2,\"Year\")+$E76<=$E$1,AF76+$E76,0),IF(AI$2=\"Repair %\",IF(AF76>0,$C$3,0),IF(AI$2=\"Spares %\",IF(IF(AF76>0,$C76,0)*100>50%,50%,IF(AF76>0,$C76,0)*100),0))))","v":0},{"$f":"IF(AI76=0,0,IF(AJ$2=\"Year\",IF(_xlfn.MAXIFS($N76:AI76,$N$2:AI$2,\"Year\")+$E76<=$E$1,AG76+$E76,0),IF(AJ$2=\"Repair %\",IF(AG76>0,$C76,0),IF(AJ$2=\"Spares %\",IF(IF(AG76>0,$C76,0)*100>50%,50%,IF(AG76>0,$C76,0)*100),0))))","v":0},{"$f":"IF(AJ76=0,0,IF(AK$2=\"Year\",IF(_xlfn.MAXIFS($N76:AJ76,$N$2:AJ$2,\"Year\")+$E76<=$E$1,AH76+$E76,0),IF(AK$2=\"Repair %\",IF(AH76>0,$C76,0),IF(AK$2=\"Spares %\",IF(IF(AF76>0,$C76,0)*5>80%,50%,IF(AF76>0,$C76,0)*5),0))))","v":0},{"$f":"IF(AK76=0,0,IF(AL$2=\"Year\",IF(_xlfn.MAXIFS($N76:AK76,$N$2:AK$2,\"Year\")+$E76<=$E$1,AI76+$E76,0),IF(AL$2=\"Repair %\",IF(AI76>0,$C$3,0),IF(AL$2=\"Spares %\",IF(IF(AI76>0,$C76,0)*100>50%,50%,IF(AI76>0,$C76,0)*100),0))))","v":0},{"$f":"IF(AL76=0,0,IF(AM$2=\"Year\",IF(_xlfn.MAXIFS($N76:AL76,$N$2:AL$2,\"Year\")+$E76<=$E$1,AJ76+$E76,0),IF(AM$2=\"Repair %\",IF(AJ76>0,$C76,0),IF(AM$2=\"Spares %\",IF(IF(AJ76>0,$C76,0)*100>50%,50%,IF(AJ76>0,$C76,0)*100),0))))","v":0},{"$f":"IF(AM76=0,0,IF(AN$2=\"Year\",IF(_xlfn.MAXIFS($N76:AM76,$N$2:AM$2,\"Year\")+$E76<=$E$1,AK76+$E76,0),IF(AN$2=\"Repair %\",IF(AK76>0,$C76,0),IF(AN$2=\"Spares %\",IF(IF(AI76>0,$C76,0)*5>80%,50%,IF(AI76>0,$C76,0)*5),0))))","v":0},{"$f":"IF(AN76=0,0,IF(AO$2=\"Year\",IF(_xlfn.MAXIFS($N76:AN76,$N$2:AN$2,\"Year\")+$E76<=$E$1,AL76+$E76,0),IF(AO$2=\"Repair %\",IF(AL76>0,$C$3,0),IF(AO$2=\"Spares %\",IF(IF(AL76>0,$C76,0)*100>50%,50%,IF(AL76>0,$C76,0)*100),0))))","v":0},{"$f":"IF(AO76=0,0,IF(AP$2=\"Year\",IF(_xlfn.MAXIFS($N76:AO76,$N$2:AO$2,\"Year\")+$E76<=$E$1,AM76+$E76,0),IF(AP$2=\"Repair %\",IF(AM76>0,$C76,0),IF(AP$2=\"Spares %\",IF(IF(AM76>0,$C76,0)*100>50%,50%,IF(AM76>0,$C76,0)*100),0))))","v":0},{"$f":"IF(AP76=0,0,IF(AQ$2=\"Year\",IF(_xlfn.MAXIFS($N76:AP76,$N$2:AP$2,\"Year\")+$E76<=$E$1,AN76+$E76,0),IF(AQ$2=\"Repair %\",IF(AN76>0,$C76,0),IF(AQ$2=\"Spares %\",IF(IF(AL76>0,$C76,0)*5>80%,50%,IF(AL76>0,$C76,0)*5),0))))","v":0}]
[{"$f":"INDEX('Avionics ID'!A:E,MATCH(B77,'Avionics ID'!E:E,0),1)","v":856},"Electronic Interferometer Frequency Radar Supports target acquisition systems",0.05,0.06,20,"Obsolecence",{"$f":"SUBSTITUTE(ADDRESS(1,MATCH(A77,'Pt1-AvionicsComponentCosts'!$A$6:$NC$6,0)+1),\"$1\",\"\")","v":"$KX"},{"$f":"_xlfn.TEXTJOIN(\", \",TRUE,_xlfn.UNIQUE(_xlfn._xlws.SORT(_xlfn._xlws.FILTER('Pt1-AvionicsComponentCosts'!$NF$12:$NF$384,ISNUMBER(INDIRECT(\"'Pt1-AvionicsComponentCosts'!\"&G77&\"$12:\"&G77&\"$384\"))))))","v":"Attack Helo, Helo"},null,0.06,0.05,0.33500000000000002,1.6830000000000001,{"$f":"COUNTIF($N$2:N$2,\"Year\")*$G$1","v":10},null,0,{"$f":"COUNTIF($N$2:Q$2,\"Year\")*$G$1","v":20},{"$f":"IF(Q77=0,0,IF(R$2=\"Year\",IF(_xlfn.MAXIFS($N77:Q77,$N$2:Q$2,\"Year\")+$E77<=$E$1,O77+$E77,0),IF(R$2=\"Repair %\",IF(O77>0,$C77,0),IF(R$2=\"Spares %\",IF(IF(O77>0,$C77,0)*100>50%,50%,IF(O77>0,$C77,0)*100),0))))","v":0},1,{"$f":"COUNTIF($N$2:T$2,\"Year\")*$G$1","v":30},{"$f":"IF(T77=0,0,IF(U$2=\"Year\",IF(_xlfn.MAXIFS($N77:T77,$N$2:T$2,\"Year\")+$E77<=$E$1,R77+$E77,0),IF(U$2=\"Repair %\",IF(R77>0,$C77,0),IF(U$2=\"Spares %\",IF(IF(R77>0,$C77,0)*100>50%,50%,IF(R77>0,$C77,0)*100),0))))","v":0},0,{"$f":"COUNTIF($N$2:W$2,\"Year\")*$G$1","v":40},{"$f":"IF(W77=0,0,IF(X$2=\"Year\",IF(_xlfn.MAXIFS($N77:W77,$N$2:W$2,\"Year\")+$E77<=$E$1,U77+$E77,0),IF(X$2=\"Repair %\",IF(U77>0,$C77,0),IF(X$2=\"Spares %\",IF(IF(U77>0,$C77,0)*100>50%,50%,IF(U77>0,$C77,0)*100),0))))","v":0},1,{"$f":"IF(Y77=0,0,IF(Z$2=\"Year\",IF(_xlfn.MAXIFS($N77:Y77,$N$2:Y$2,\"Year\")+$E77<=$E$1,W77+$E77,0),IF(Z$2=\"Repair %\",IF(W77>0,$C$3,0),IF(Z$2=\"Spares %\",IF(IF(W77>0,$C77,0)*100>50%,50%,IF(W77>0,$C77,0)*100),0))))","v":0},{"$f":"IF(Z77=0,0,IF(AA$2=\"Year\",IF(_xlfn.MAXIFS($N77:Z77,$N$2:Z$2,\"Year\")+$E77<=$E$1,X77+$E77,0),IF(AA$2=\"Repair %\",IF(X77>0,$C77,0),IF(AA$2=\"Spares %\",IF(IF(X77>0,$C77,0)*100>50%,50%,IF(X77>0,$C77,0)*100),0))))","v":0},{"$f":"IF(AA77=0,0,IF(AB$2=\"Year\",IF(_xlfn.MAXIFS($N77:AA77,$N$2:AA$2,\"Year\")+$E77<=$E$1,Y77+$E77,0),IF(AB$2=\"Repair %\",IF(Y77>0,$C77,0),IF(AB$2=\"Spares %\",IF(IF(W77>0,$C77,0)*5>80%,50%,IF(W77>0,$C77,0)*5),0))))","v":0},{"$f":"IF(AB77=0,0,IF(AC$2=\"Year\",IF(_xlfn.MAXIFS($N77:AB77,$N$2:AB$2,\"Year\")+$E77<=$E$1,Z77+$E77,0),IF(AC$2=\"Repair %\",IF(Z77>0,$C$3,0),IF(AC$2=\"Spares %\",IF(IF(Z77>0,$C77,0)*100>50%,50%,IF(Z77>0,$C77,0)*100),0))))","v":0},{"$f":"IF(AC77=0,0,IF(AD$2=\"Year\",IF(_xlfn.MAXIFS($N77:AC77,$N$2:AC$2,\"Year\")+$E77<=$E$1,AA77+$E77,0),IF(AD$2=\"Repair %\",IF(AA77>0,$C77,0),IF(AD$2=\"Spares %\",IF(IF(AA77>0,$C77,0)*100>50%,50%,IF(AA77>0,$C77,0)*100),0))))","v":0},{"$f":"IF(AD77=0,0,IF(AE$2=\"Year\",IF(_xlfn.MAXIFS($N77:AD77,$N$2:AD$2,\"Year\")+$E77<=$E$1,AB77+$E77,0),IF(AE$2=\"Repair %\",IF(AB77>0,$C77,0),IF(AE$2=\"Spares %\",IF(IF(Z77>0,$C77,0)*5>80%,50%,IF(Z77>0,$C77,0)*5),0))))","v":0},{"$f":"IF(AE77=0,0,IF(AF$2=\"Year\",IF(_xlfn.MAXIFS($N77:AE77,$N$2:AE$2,\"Year\")+$E77<=$E$1,AC77+$E77,0),IF(AF$2=\"Repair %\",IF(AC77>0,$C$3,0),IF(AF$2=\"Spares %\",IF(IF(AC77>0,$C77,0)*100>50%,50%,IF(AC77>0,$C77,0)*100),0))))","v":0},{"$f":"IF(AF77=0,0,IF(AG$2=\"Year\",IF(_xlfn.MAXIFS($N77:AF77,$N$2:AF$2,\"Year\")+$E77<=$E$1,AD77+$E77,0),IF(AG$2=\"Repair %\",IF(AD77>0,$C77,0),IF(AG$2=\"Spares %\",IF(IF(AD77>0,$C77,0)*100>50%,50%,IF(AD77>0,$C77,0)*100),0))))","v":0},{"$f":"IF(AG77=0,0,IF(AH$2=\"Year\",IF(_xlfn.MAXIFS($N77:AG77,$N$2:AG$2,\"Year\")+$E77<=$E$1,AE77+$E77,0),IF(AH$2=\"Repair %\",IF(AE77>0,$C77,0),IF(AH$2=\"Spares %\",IF(IF(AC77>0,$C77,0)*5>80%,50%,IF(AC77>0,$C77,0)*5),0))))","v":0},{"$f":"IF(AH77=0,0,IF(AI$2=\"Year\",IF(_xlfn.MAXIFS($N77:AH77,$N$2:AH$2,\"Year\")+$E77<=$E$1,AF77+$E77,0),IF(AI$2=\"Repair %\",IF(AF77>0,$C$3,0),IF(AI$2=\"Spares %\",IF(IF(AF77>0,$C77,0)*100>50%,50%,IF(AF77>0,$C77,0)*100),0))))","v":0},{"$f":"IF(AI77=0,0,IF(AJ$2=\"Year\",IF(_xlfn.MAXIFS($N77:AI77,$N$2:AI$2,\"Year\")+$E77<=$E$1,AG77+$E77,0),IF(AJ$2=\"Repair %\",IF(AG77>0,$C77,0),IF(AJ$2=\"Spares %\",IF(IF(AG77>0,$C77,0)*100>50%,50%,IF(AG77>0,$C77,0)*100),0))))","v":0},{"$f":"IF(AJ77=0,0,IF(AK$2=\"Year\",IF(_xlfn.MAXIFS($N77:AJ77,$N$2:AJ$2,\"Year\")+$E77<=$E$1,AH77+$E77,0),IF(AK$2=\"Repair %\",IF(AH77>0,$C77,0),IF(AK$2=\"Spares %\",IF(IF(AF77>0,$C77,0)*5>80%,50%,IF(AF77>0,$C77,0)*5),0))))","v":0},{"$f":"IF(AK77=0,0,IF(AL$2=\"Year\",IF(_xlfn.MAXIFS($N77:AK77,$N$2:AK$2,\"Year\")+$E77<=$E$1,AI77+$E77,0),IF(AL$2=\"Repair %\",IF(AI77>0,$C$3,0),IF(AL$2=\"Spares %\",IF(IF(AI77>0,$C77,0)*100>50%,50%,IF(AI77>0,$C77,0)*100),0))))","v":0},{"$f":"IF(AL77=0,0,IF(AM$2=\"Year\",IF(_xlfn.MAXIFS($N77:AL77,$N$2:AL$2,\"Year\")+$E77<=$E$1,AJ77+$E77,0),IF(AM$2=\"Repair %\",IF(AJ77>0,$C77,0),IF(AM$2=\"Spares %\",IF(IF(AJ77>0,$C77,0)*100>50%,50%,IF(AJ77>0,$C77,0)*100),0))))","v":0},{"$f":"IF(AM77=0,0,IF(AN$2=\"Year\",IF(_xlfn.MAXIFS($N77:AM77,$N$2:AM$2,\"Year\")+$E77<=$E$1,AK77+$E77,0),IF(AN$2=\"Repair %\",IF(AK77>0,$C77,0),IF(AN$2=\"Spares %\",IF(IF(AI77>0,$C77,0)*5>80%,50%,IF(AI77>0,$C77,0)*5),0))))","v":0},{"$f":"IF(AN77=0,0,IF(AO$2=\"Year\",IF(_xlfn.MAXIFS($N77:AN77,$N$2:AN$2,\"Year\")+$E77<=$E$1,AL77+$E77,0),IF(AO$2=\"Repair %\",IF(AL77>0,$C$3,0),IF(AO$2=\"Spares %\",IF(IF(AL77>0,$C77,0)*100>50%,50%,IF(AL77>0,$C77,0)*100),0))))","v":0},{"$f":"IF(AO77=0,0,IF(AP$2=\"Year\",IF(_xlfn.MAXIFS($N77:AO77,$N$2:AO$2,\"Year\")+$E77<=$E$1,AM77+$E77,0),IF(AP$2=\"Repair %\",IF(AM77>0,$C77,0),IF(AP$2=\"Spares %\",IF(IF(AM77>0,$C77,0)*100>50%,50%,IF(AM77>0,$C77,0)*100),0))))","v":0},{"$f":"IF(AP77=0,0,IF(AQ$2=\"Year\",IF(_xlfn.MAXIFS($N77:AP77,$N$2:AP$2,\"Year\")+$E77<=$E$1,AN77+$E77,0),IF(AQ$2=\"Repair %\",IF(AN77>0,$C77,0),IF(AQ$2=\"Spares %\",IF(IF(AL77>0,$C77,0)*5>80%,50%,IF(AL77>0,$C77,0)*5),0))))","v":0}]
[{"$f":"INDEX('Avionics ID'!A:E,MATCH(B78,'Avionics ID'!E:E,0),1)","v":788},"Electronic Warfare suite AN/ASQ-239 (evasion, engagement,  jamming, c/measures)",0.05,0.06,20,"Obsolecence",{"$f":"SUBSTITUTE(ADDRESS(1,MATCH(A78,'Pt1-AvionicsComponentCosts'!$A$6:$NC$6,0)+1),\"$1\",\"\")","v":"$MH"},{"$f":"_xlfn.TEXTJOIN(\", \",TRUE,_xlfn.UNIQUE(_xlfn._xlws.SORT(_xlfn._xlws.FILTER('Pt1-AvionicsComponentCosts'!$NF$12:$NF$384,ISNUMBER(INDIRECT(\"'Pt1-AvionicsComponentCosts'!\"&G78&\"$12:\"&G78&\"$384\"))))))","v":"Attack, Stealth"},null,0.06,0.05,0.44800000000000001,1.298,{"$f":"COUNTIF($N$2:N$2,\"Year\")*$G$1","v":10},null,0,{"$f":"COUNTIF($N$2:Q$2,\"Year\")*$G$1","v":20},{"$f":"IF(Q78=0,0,IF(R$2=\"Year\",IF(_xlfn.MAXIFS($N78:Q78,$N$2:Q$2,\"Year\")+$E78<=$E$1,O78+$E78,0),IF(R$2=\"Repair %\",IF(O78>0,$C78,0),IF(R$2=\"Spares %\",IF(IF(O78>0,$C78,0)*100>50%,50%,IF(O78>0,$C78,0)*100),0))))","v":0},1,{"$f":"COUNTIF($N$2:T$2,\"Year\")*$G$1","v":30},{"$f":"IF(T78=0,0,IF(U$2=\"Year\",IF(_xlfn.MAXIFS($N78:T78,$N$2:T$2,\"Year\")+$E78<=$E$1,R78+$E78,0),IF(U$2=\"Repair %\",IF(R78>0,$C78,0),IF(U$2=\"Spares %\",IF(IF(R78>0,$C78,0)*100>50%,50%,IF(R78>0,$C78,0)*100),0))))","v":0},0,{"$f":"COUNTIF($N$2:W$2,\"Year\")*$G$1","v":40},{"$f":"IF(W78=0,0,IF(X$2=\"Year\",IF(_xlfn.MAXIFS($N78:W78,$N$2:W$2,\"Year\")+$E78<=$E$1,U78+$E78,0),IF(X$2=\"Repair %\",IF(U78>0,$C78,0),IF(X$2=\"Spares %\",IF(IF(U78>0,$C78,0)*100>50%,50%,IF(U78>0,$C78,0)*100),0))))","v":0},1,{"$f":"IF(Y78=0,0,IF(Z$2=\"Year\",IF(_xlfn.MAXIFS($N78:Y78,$N$2:Y$2,\"Year\")+$E78<=$E$1,W78+$E78,0),IF(Z$2=\"Repair %\",IF(W78>0,$C$3,0),IF(Z$2=\"Spares %\",IF(IF(W78>0,$C78,0)*100>50%,50%,IF(W78>0,$C78,0)*100),0))))","v":0},{"$f":"IF(Z78=0,0,IF(AA$2=\"Year\",IF(_xlfn.MAXIFS($N78:Z78,$N$2:Z$2,\"Year\")+$E78<=$E$1,X78+$E78,0),IF(AA$2=\"Repair %\",IF(X78>0,$C78,0),IF(AA$2=\"Spares %\",IF(IF(X78>0,$C78,0)*100>50%,50%,IF(X78>0,$C78,0)*100),0))))","v":0},{"$f":"IF(AA78=0,0,IF(AB$2=\"Year\",IF(_xlfn.MAXIFS($N78:AA78,$N$2:AA$2,\"Year\")+$E78<=$E$1,Y78+$E78,0),IF(AB$2=\"Repair %\",IF(Y78>0,$C78,0),IF(AB$2=\"Spares %\",IF(IF(W78>0,$C78,0)*5>80%,50%,IF(W78>0,$C78,0)*5),0))))","v":0},{"$f":"IF(AB78=0,0,IF(AC$2=\"Year\",IF(_xlfn.MAXIFS($N78:AB78,$N$2:AB$2,\"Year\")+$E78<=$E$1,Z78+$E78,0),IF(AC$2=\"Repair %\",IF(Z78>0,$C$3,0),IF(AC$2=\"Spares %\",IF(IF(Z78>0,$C78,0)*100>50%,50%,IF(Z78>0,$C78,0)*100),0))))","v":0},{"$f":"IF(AC78=0,0,IF(AD$2=\"Year\",IF(_xlfn.MAXIFS($N78:AC78,$N$2:AC$2,\"Year\")+$E78<=$E$1,AA78+$E78,0),IF(AD$2=\"Repair %\",IF(AA78>0,$C78,0),IF(AD$2=\"Spares %\",IF(IF(AA78>0,$C78,0)*100>50%,50%,IF(AA78>0,$C78,0)*100),0))))","v":0},{"$f":"IF(AD78=0,0,IF(AE$2=\"Year\",IF(_xlfn.MAXIFS($N78:AD78,$N$2:AD$2,\"Year\")+$E78<=$E$1,AB78+$E78,0),IF(AE$2=\"Repair %\",IF(AB78>0,$C78,0),IF(AE$2=\"Spares %\",IF(IF(Z78>0,$C78,0)*5>80%,50%,IF(Z78>0,$C78,0)*5),0))))","v":0},{"$f":"IF(AE78=0,0,IF(AF$2=\"Year\",IF(_xlfn.MAXIFS($N78:AE78,$N$2:AE$2,\"Year\")+$E78<=$E$1,AC78+$E78,0),IF(AF$2=\"Repair %\",IF(AC78>0,$C$3,0),IF(AF$2=\"Spares %\",IF(IF(AC78>0,$C78,0)*100>50%,50%,IF(AC78>0,$C78,0)*100),0))))","v":0},{"$f":"IF(AF78=0,0,IF(AG$2=\"Year\",IF(_xlfn.MAXIFS($N78:AF78,$N$2:AF$2,\"Year\")+$E78<=$E$1,AD78+$E78,0),IF(AG$2=\"Repair %\",IF(AD78>0,$C78,0),IF(AG$2=\"Spares %\",IF(IF(AD78>0,$C78,0)*100>50%,50%,IF(AD78>0,$C78,0)*100),0))))","v":0},{"$f":"IF(AG78=0,0,IF(AH$2=\"Year\",IF(_xlfn.MAXIFS($N78:AG78,$N$2:AG$2,\"Year\")+$E78<=$E$1,AE78+$E78,0),IF(AH$2=\"Repair %\",IF(AE78>0,$C78,0),IF(AH$2=\"Spares %\",IF(IF(AC78>0,$C78,0)*5>80%,50%,IF(AC78>0,$C78,0)*5),0))))","v":0},{"$f":"IF(AH78=0,0,IF(AI$2=\"Year\",IF(_xlfn.MAXIFS($N78:AH78,$N$2:AH$2,\"Year\")+$E78<=$E$1,AF78+$E78,0),IF(AI$2=\"Repair %\",IF(AF78>0,$C$3,0),IF(AI$2=\"Spares %\",IF(IF(AF78>0,$C78,0)*100>50%,50%,IF(AF78>0,$C78,0)*100),0))))","v":0},{"$f":"IF(AI78=0,0,IF(AJ$2=\"Year\",IF(_xlfn.MAXIFS($N78:AI78,$N$2:AI$2,\"Year\")+$E78<=$E$1,AG78+$E78,0),IF(AJ$2=\"Repair %\",IF(AG78>0,$C78,0),IF(AJ$2=\"Spares %\",IF(IF(AG78>0,$C78,0)*100>50%,50%,IF(AG78>0,$C78,0)*100),0))))","v":0},{"$f":"IF(AJ78=0,0,IF(AK$2=\"Year\",IF(_xlfn.MAXIFS($N78:AJ78,$N$2:AJ$2,\"Year\")+$E78<=$E$1,AH78+$E78,0),IF(AK$2=\"Repair %\",IF(AH78>0,$C78,0),IF(AK$2=\"Spares %\",IF(IF(AF78>0,$C78,0)*5>80%,50%,IF(AF78>0,$C78,0)*5),0))))","v":0},{"$f":"IF(AK78=0,0,IF(AL$2=\"Year\",IF(_xlfn.MAXIFS($N78:AK78,$N$2:AK$2,\"Year\")+$E78<=$E$1,AI78+$E78,0),IF(AL$2=\"Repair %\",IF(AI78>0,$C$3,0),IF(AL$2=\"Spares %\",IF(IF(AI78>0,$C78,0)*100>50%,50%,IF(AI78>0,$C78,0)*100),0))))","v":0},{"$f":"IF(AL78=0,0,IF(AM$2=\"Year\",IF(_xlfn.MAXIFS($N78:AL78,$N$2:AL$2,\"Year\")+$E78<=$E$1,AJ78+$E78,0),IF(AM$2=\"Repair %\",IF(AJ78>0,$C78,0),IF(AM$2=\"Spares %\",IF(IF(AJ78>0,$C78,0)*100>50%,50%,IF(AJ78>0,$C78,0)*100),0))))","v":0},{"$f":"IF(AM78=0,0,IF(AN$2=\"Year\",IF(_xlfn.MAXIFS($N78:AM78,$N$2:AM$2,\"Year\")+$E78<=$E$1,AK78+$E78,0),IF(AN$2=\"Repair %\",IF(AK78>0,$C78,0),IF(AN$2=\"Spares %\",IF(IF(AI78>0,$C78,0)*5>80%,50%,IF(AI78>0,$C78,0)*5),0))))","v":0},{"$f":"IF(AN78=0,0,IF(AO$2=\"Year\",IF(_xlfn.MAXIFS($N78:AN78,$N$2:AN$2,\"Year\")+$E78<=$E$1,AL78+$E78,0),IF(AO$2=\"Repair %\",IF(AL78>0,$C$3,0),IF(AO$2=\"Spares %\",IF(IF(AL78>0,$C78,0)*100>50%,50%,IF(AL78>0,$C78,0)*100),0))))","v":0},{"$f":"IF(AO78=0,0,IF(AP$2=\"Year\",IF(_xlfn.MAXIFS($N78:AO78,$N$2:AO$2,\"Year\")+$E78<=$E$1,AM78+$E78,0),IF(AP$2=\"Repair %\",IF(AM78>0,$C78,0),IF(AP$2=\"Spares %\",IF(IF(AM78>0,$C78,0)*100>50%,50%,IF(AM78>0,$C78,0)*100),0))))","v":0},{"$f":"IF(AP78=0,0,IF(AQ$2=\"Year\",IF(_xlfn.MAXIFS($N78:AP78,$N$2:AP$2,\"Year\")+$E78<=$E$1,AN78+$E78,0),IF(AQ$2=\"Repair %\",IF(AN78>0,$C78,0),IF(AQ$2=\"Spares %\",IF(IF(AL78>0,$C78,0)*5>80%,50%,IF(AL78>0,$C78,0)*5),0))))","v":0}]
[{"$f":"INDEX('Avionics ID'!A:E,MATCH(B79,'Avionics ID'!E:E,0),1)","v":867},"Electro-optical reconnaissance sesnor",0.05,0.06,20,"Obsolecence",{"$f":"SUBSTITUTE(ADDRESS(1,MATCH(A79,'Pt1-AvionicsComponentCosts'!$A$6:$NC$6,0)+1),\"$1\",\"\")","v":"$MF"},{"$f":"_xlfn.TEXTJOIN(\", \",TRUE,_xlfn.UNIQUE(_xlfn._xlws.SORT(_xlfn._xlws.FILTER('Pt1-AvionicsComponentCosts'!$NF$12:$NF$384,ISNUMBER(INDIRECT(\"'Pt1-AvionicsComponentCosts'!\"&G79&\"$12:\"&G79&\"$384\"))))))","v":"UAV"},null,0.06,0.05,0.44800000000000001,1.298,{"$f":"COUNTIF($N$2:N$2,\"Year\")*$G$1","v":10},null,0,{"$f":"COUNTIF($N$2:Q$2,\"Year\")*$G$1","v":20},{"$f":"IF(Q79=0,0,IF(R$2=\"Year\",IF(_xlfn.MAXIFS($N79:Q79,$N$2:Q$2,\"Year\")+$E79<=$E$1,O79+$E79,0),IF(R$2=\"Repair %\",IF(O79>0,$C79,0),IF(R$2=\"Spares %\",IF(IF(O79>0,$C79,0)*100>50%,50%,IF(O79>0,$C79,0)*100),0))))","v":0},1,{"$f":"COUNTIF($N$2:T$2,\"Year\")*$G$1","v":30},{"$f":"IF(T79=0,0,IF(U$2=\"Year\",IF(_xlfn.MAXIFS($N79:T79,$N$2:T$2,\"Year\")+$E79<=$E$1,R79+$E79,0),IF(U$2=\"Repair %\",IF(R79>0,$C79,0),IF(U$2=\"Spares %\",IF(IF(R79>0,$C79,0)*100>50%,50%,IF(R79>0,$C79,0)*100),0))))","v":0},0,{"$f":"COUNTIF($N$2:W$2,\"Year\")*$G$1","v":40},{"$f":"IF(W79=0,0,IF(X$2=\"Year\",IF(_xlfn.MAXIFS($N79:W79,$N$2:W$2,\"Year\")+$E79<=$E$1,U79+$E79,0),IF(X$2=\"Repair %\",IF(U79>0,$C79,0),IF(X$2=\"Spares %\",IF(IF(U79>0,$C79,0)*100>50%,50%,IF(U79>0,$C79,0)*100),0))))","v":0},1,{"$f":"IF(Y79=0,0,IF(Z$2=\"Year\",IF(_xlfn.MAXIFS($N79:Y79,$N$2:Y$2,\"Year\")+$E79<=$E$1,W79+$E79,0),IF(Z$2=\"Repair %\",IF(W79>0,$C$3,0),IF(Z$2=\"Spares %\",IF(IF(W79>0,$C79,0)*100>50%,50%,IF(W79>0,$C79,0)*100),0))))","v":0},{"$f":"IF(Z79=0,0,IF(AA$2=\"Year\",IF(_xlfn.MAXIFS($N79:Z79,$N$2:Z$2,\"Year\")+$E79<=$E$1,X79+$E79,0),IF(AA$2=\"Repair %\",IF(X79>0,$C79,0),IF(AA$2=\"Spares %\",IF(IF(X79>0,$C79,0)*100>50%,50%,IF(X79>0,$C79,0)*100),0))))","v":0},{"$f":"IF(AA79=0,0,IF(AB$2=\"Year\",IF(_xlfn.MAXIFS($N79:AA79,$N$2:AA$2,\"Year\")+$E79<=$E$1,Y79+$E79,0),IF(AB$2=\"Repair %\",IF(Y79>0,$C79,0),IF(AB$2=\"Spares %\",IF(IF(W79>0,$C79,0)*5>80%,50%,IF(W79>0,$C79,0)*5),0))))","v":0},{"$f":"IF(AB79=0,0,IF(AC$2=\"Year\",IF(_xlfn.MAXIFS($N79:AB79,$N$2:AB$2,\"Year\")+$E79<=$E$1,Z79+$E79,0),IF(AC$2=\"Repair %\",IF(Z79>0,$C$3,0),IF(AC$2=\"Spares %\",IF(IF(Z79>0,$C79,0)*100>50%,50%,IF(Z79>0,$C79,0)*100),0))))","v":0},{"$f":"IF(AC79=0,0,IF(AD$2=\"Year\",IF(_xlfn.MAXIFS($N79:AC79,$N$2:AC$2,\"Year\")+$E79<=$E$1,AA79+$E79,0),IF(AD$2=\"Repair %\",IF(AA79>0,$C79,0),IF(AD$2=\"Spares %\",IF(IF(AA79>0,$C79,0)*100>50%,50%,IF(AA79>0,$C79,0)*100),0))))","v":0},{"$f":"IF(AD79=0,0,IF(AE$2=\"Year\",IF(_xlfn.MAXIFS($N79:AD79,$N$2:AD$2,\"Year\")+$E79<=$E$1,AB79+$E79,0),IF(AE$2=\"Repair %\",IF(AB79>0,$C79,0),IF(AE$2=\"Spares %\",IF(IF(Z79>0,$C79,0)*5>80%,50%,IF(Z79>0,$C79,0)*5),0))))","v":0},{"$f":"IF(AE79=0,0,IF(AF$2=\"Year\",IF(_xlfn.MAXIFS($N79:AE79,$N$2:AE$2,\"Year\")+$E79<=$E$1,AC79+$E79,0),IF(AF$2=\"Repair %\",IF(AC79>0,$C$3,0),IF(AF$2=\"Spares %\",IF(IF(AC79>0,$C79,0)*100>50%,50%,IF(AC79>0,$C79,0)*100),0))))","v":0},{"$f":"IF(AF79=0,0,IF(AG$2=\"Year\",IF(_xlfn.MAXIFS($N79:AF79,$N$2:AF$2,\"Year\")+$E79<=$E$1,AD79+$E79,0),IF(AG$2=\"Repair %\",IF(AD79>0,$C79,0),IF(AG$2=\"Spares %\",IF(IF(AD79>0,$C79,0)*100>50%,50%,IF(AD79>0,$C79,0)*100),0))))","v":0},{"$f":"IF(AG79=0,0,IF(AH$2=\"Year\",IF(_xlfn.MAXIFS($N79:AG79,$N$2:AG$2,\"Year\")+$E79<=$E$1,AE79+$E79,0),IF(AH$2=\"Repair %\",IF(AE79>0,$C79,0),IF(AH$2=\"Spares %\",IF(IF(AC79>0,$C79,0)*5>80%,50%,IF(AC79>0,$C79,0)*5),0))))","v":0},{"$f":"IF(AH79=0,0,IF(AI$2=\"Year\",IF(_xlfn.MAXIFS($N79:AH79,$N$2:AH$2,\"Year\")+$E79<=$E$1,AF79+$E79,0),IF(AI$2=\"Repair %\",IF(AF79>0,$C$3,0),IF(AI$2=\"Spares %\",IF(IF(AF79>0,$C79,0)*100>50%,50%,IF(AF79>0,$C79,0)*100),0))))","v":0},{"$f":"IF(AI79=0,0,IF(AJ$2=\"Year\",IF(_xlfn.MAXIFS($N79:AI79,$N$2:AI$2,\"Year\")+$E79<=$E$1,AG79+$E79,0),IF(AJ$2=\"Repair %\",IF(AG79>0,$C79,0),IF(AJ$2=\"Spares %\",IF(IF(AG79>0,$C79,0)*100>50%,50%,IF(AG79>0,$C79,0)*100),0))))","v":0},{"$f":"IF(AJ79=0,0,IF(AK$2=\"Year\",IF(_xlfn.MAXIFS($N79:AJ79,$N$2:AJ$2,\"Year\")+$E79<=$E$1,AH79+$E79,0),IF(AK$2=\"Repair %\",IF(AH79>0,$C79,0),IF(AK$2=\"Spares %\",IF(IF(AF79>0,$C79,0)*5>80%,50%,IF(AF79>0,$C79,0)*5),0))))","v":0},{"$f":"IF(AK79=0,0,IF(AL$2=\"Year\",IF(_xlfn.MAXIFS($N79:AK79,$N$2:AK$2,\"Year\")+$E79<=$E$1,AI79+$E79,0),IF(AL$2=\"Repair %\",IF(AI79>0,$C$3,0),IF(AL$2=\"Spares %\",IF(IF(AI79>0,$C79,0)*100>50%,50%,IF(AI79>0,$C79,0)*100),0))))","v":0},{"$f":"IF(AL79=0,0,IF(AM$2=\"Year\",IF(_xlfn.MAXIFS($N79:AL79,$N$2:AL$2,\"Year\")+$E79<=$E$1,AJ79+$E79,0),IF(AM$2=\"Repair %\",IF(AJ79>0,$C79,0),IF(AM$2=\"Spares %\",IF(IF(AJ79>0,$C79,0)*100>50%,50%,IF(AJ79>0,$C79,0)*100),0))))","v":0},{"$f":"IF(AM79=0,0,IF(AN$2=\"Year\",IF(_xlfn.MAXIFS($N79:AM79,$N$2:AM$2,\"Year\")+$E79<=$E$1,AK79+$E79,0),IF(AN$2=\"Repair %\",IF(AK79>0,$C79,0),IF(AN$2=\"Spares %\",IF(IF(AI79>0,$C79,0)*5>80%,50%,IF(AI79>0,$C79,0)*5),0))))","v":0},{"$f":"IF(AN79=0,0,IF(AO$2=\"Year\",IF(_xlfn.MAXIFS($N79:AN79,$N$2:AN$2,\"Year\")+$E79<=$E$1,AL79+$E79,0),IF(AO$2=\"Repair %\",IF(AL79>0,$C$3,0),IF(AO$2=\"Spares %\",IF(IF(AL79>0,$C79,0)*100>50%,50%,IF(AL79>0,$C79,0)*100),0))))","v":0},{"$f":"IF(AO79=0,0,IF(AP$2=\"Year\",IF(_xlfn.MAXIFS($N79:AO79,$N$2:AO$2,\"Year\")+$E79<=$E$1,AM79+$E79,0),IF(AP$2=\"Repair %\",IF(AM79>0,$C79,0),IF(AP$2=\"Spares %\",IF(IF(AM79>0,$C79,0)*100>50%,50%,IF(AM79>0,$C79,0)*100),0))))","v":0},{"$f":"IF(AP79=0,0,IF(AQ$2=\"Year\",IF(_xlfn.MAXIFS($N79:AP79,$N$2:AP$2,\"Year\")+$E79<=$E$1,AN79+$E79,0),IF(AQ$2=\"Repair %\",IF(AN79>0,$C79,0),IF(AQ$2=\"Spares %\",IF(IF(AL79>0,$C79,0)*5>80%,50%,IF(AL79>0,$C79,0)*5),0))))","v":0}]
[{"$f":"INDEX('Avionics ID'!A:E,MATCH(B80,'Avionics ID'!E:E,0),1)","v":848},"Embedded GPS/INS",0.05,0.06,20,"Obsolecence",{"$f":"SUBSTITUTE(ADDRESS(1,MATCH(A80,'Pt1-AvionicsComponentCosts'!$A$6:$NC$6,0)+1),\"$1\",\"\")","v":"$JF"},{"$f":"_xlfn.TEXTJOIN(\", \",TRUE,_xlfn.UNIQUE(_xlfn._xlws.SORT(_xlfn._xlws.FILTER('Pt1-AvionicsComponentCosts'!$NF$12:$NF$384,ISNUMBER(INDIRECT(\"'Pt1-AvionicsComponentCosts'!\"&G80&\"$12:\"&G80&\"$384\"))))))","v":"Attack Helo, Helo, TP Trainer, Turbine GA, UAV"},null,0.06,0.05,0.35399999999999998,1.829,{"$f":"COUNTIF($N$2:N$2,\"Year\")*$G$1","v":10},null,0,{"$f":"COUNTIF($N$2:Q$2,\"Year\")*$G$1","v":20},{"$f":"IF(Q80=0,0,IF(R$2=\"Year\",IF(_xlfn.MAXIFS($N80:Q80,$N$2:Q$2,\"Year\")+$E80<=$E$1,O80+$E80,0),IF(R$2=\"Repair %\",IF(O80>0,$C80,0),IF(R$2=\"Spares %\",IF(IF(O80>0,$C80,0)*100>50%,50%,IF(O80>0,$C80,0)*100),0))))","v":0},1,{"$f":"COUNTIF($N$2:T$2,\"Year\")*$G$1","v":30},{"$f":"IF(T80=0,0,IF(U$2=\"Year\",IF(_xlfn.MAXIFS($N80:T80,$N$2:T$2,\"Year\")+$E80<=$E$1,R80+$E80,0),IF(U$2=\"Repair %\",IF(R80>0,$C80,0),IF(U$2=\"Spares %\",IF(IF(R80>0,$C80,0)*100>50%,50%,IF(R80>0,$C80,0)*100),0))))","v":0},0,{"$f":"COUNTIF($N$2:W$2,\"Year\")*$G$1","v":40},{"$f":"IF(W80=0,0,IF(X$2=\"Year\",IF(_xlfn.MAXIFS($N80:W80,$N$2:W$2,\"Year\")+$E80<=$E$1,U80+$E80,0),IF(X$2=\"Repair %\",IF(U80>0,$C80,0),IF(X$2=\"Spares %\",IF(IF(U80>0,$C80,0)*100>50%,50%,IF(U80>0,$C80,0)*100),0))))","v":0},1,{"$f":"IF(Y80=0,0,IF(Z$2=\"Year\",IF(_xlfn.MAXIFS($N80:Y80,$N$2:Y$2,\"Year\")+$E80<=$E$1,W80+$E80,0),IF(Z$2=\"Repair %\",IF(W80>0,$C$3,0),IF(Z$2=\"Spares %\",IF(IF(W80>0,$C80,0)*100>50%,50%,IF(W80>0,$C80,0)*100),0))))","v":0},{"$f":"IF(Z80=0,0,IF(AA$2=\"Year\",IF(_xlfn.MAXIFS($N80:Z80,$N$2:Z$2,\"Year\")+$E80<=$E$1,X80+$E80,0),IF(AA$2=\"Repair %\",IF(X80>0,$C80,0),IF(AA$2=\"Spares %\",IF(IF(X80>0,$C80,0)*100>50%,50%,IF(X80>0,$C80,0)*100),0))))","v":0},{"$f":"IF(AA80=0,0,IF(AB$2=\"Year\",IF(_xlfn.MAXIFS($N80:AA80,$N$2:AA$2,\"Year\")+$E80<=$E$1,Y80+$E80,0),IF(AB$2=\"Repair %\",IF(Y80>0,$C80,0),IF(AB$2=\"Spares %\",IF(IF(W80>0,$C80,0)*5>80%,50%,IF(W80>0,$C80,0)*5),0))))","v":0},{"$f":"IF(AB80=0,0,IF(AC$2=\"Year\",IF(_xlfn.MAXIFS($N80:AB80,$N$2:AB$2,\"Year\")+$E80<=$E$1,Z80+$E80,0),IF(AC$2=\"Repair %\",IF(Z80>0,$C$3,0),IF(AC$2=\"Spares %\",IF(IF(Z80>0,$C80,0)*100>50%,50%,IF(Z80>0,$C80,0)*100),0))))","v":0},{"$f":"IF(AC80=0,0,IF(AD$2=\"Year\",IF(_xlfn.MAXIFS($N80:AC80,$N$2:AC$2,\"Year\")+$E80<=$E$1,AA80+$E80,0),IF(AD$2=\"Repair %\",IF(AA80>0,$C80,0),IF(AD$2=\"Spares %\",IF(IF(AA80>0,$C80,0)*100>50%,50%,IF(AA80>0,$C80,0)*100),0))))","v":0},{"$f":"IF(AD80=0,0,IF(AE$2=\"Year\",IF(_xlfn.MAXIFS($N80:AD80,$N$2:AD$2,\"Year\")+$E80<=$E$1,AB80+$E80,0),IF(AE$2=\"Repair %\",IF(AB80>0,$C80,0),IF(AE$2=\"Spares %\",IF(IF(Z80>0,$C80,0)*5>80%,50%,IF(Z80>0,$C80,0)*5),0))))","v":0},{"$f":"IF(AE80=0,0,IF(AF$2=\"Year\",IF(_xlfn.MAXIFS($N80:AE80,$N$2:AE$2,\"Year\")+$E80<=$E$1,AC80+$E80,0),IF(AF$2=\"Repair %\",IF(AC80>0,$C$3,0),IF(AF$2=\"Spares %\",IF(IF(AC80>0,$C80,0)*100>50%,50%,IF(AC80>0,$C80,0)*100),0))))","v":0},{"$f":"IF(AF80=0,0,IF(AG$2=\"Year\",IF(_xlfn.MAXIFS($N80:AF80,$N$2:AF$2,\"Year\")+$E80<=$E$1,AD80+$E80,0),IF(AG$2=\"Repair %\",IF(AD80>0,$C80,0),IF(AG$2=\"Spares %\",IF(IF(AD80>0,$C80,0)*100>50%,50%,IF(AD80>0,$C80,0)*100),0))))","v":0},{"$f":"IF(AG80=0,0,IF(AH$2=\"Year\",IF(_xlfn.MAXIFS($N80:AG80,$N$2:AG$2,\"Year\")+$E80<=$E$1,AE80+$E80,0),IF(AH$2=\"Repair %\",IF(AE80>0,$C80,0),IF(AH$2=\"Spares %\",IF(IF(AC80>0,$C80,0)*5>80%,50%,IF(AC80>0,$C80,0)*5),0))))","v":0},{"$f":"IF(AH80=0,0,IF(AI$2=\"Year\",IF(_xlfn.MAXIFS($N80:AH80,$N$2:AH$2,\"Year\")+$E80<=$E$1,AF80+$E80,0),IF(AI$2=\"Repair %\",IF(AF80>0,$C$3,0),IF(AI$2=\"Spares %\",IF(IF(AF80>0,$C80,0)*100>50%,50%,IF(AF80>0,$C80,0)*100),0))))","v":0},{"$f":"IF(AI80=0,0,IF(AJ$2=\"Year\",IF(_xlfn.MAXIFS($N80:AI80,$N$2:AI$2,\"Year\")+$E80<=$E$1,AG80+$E80,0),IF(AJ$2=\"Repair %\",IF(AG80>0,$C80,0),IF(AJ$2=\"Spares %\",IF(IF(AG80>0,$C80,0)*100>50%,50%,IF(AG80>0,$C80,0)*100),0))))","v":0},{"$f":"IF(AJ80=0,0,IF(AK$2=\"Year\",IF(_xlfn.MAXIFS($N80:AJ80,$N$2:AJ$2,\"Year\")+$E80<=$E$1,AH80+$E80,0),IF(AK$2=\"Repair %\",IF(AH80>0,$C80,0),IF(AK$2=\"Spares %\",IF(IF(AF80>0,$C80,0)*5>80%,50%,IF(AF80>0,$C80,0)*5),0))))","v":0},{"$f":"IF(AK80=0,0,IF(AL$2=\"Year\",IF(_xlfn.MAXIFS($N80:AK80,$N$2:AK$2,\"Year\")+$E80<=$E$1,AI80+$E80,0),IF(AL$2=\"Repair %\",IF(AI80>0,$C$3,0),IF(AL$2=\"Spares %\",IF(IF(AI80>0,$C80,0)*100>50%,50%,IF(AI80>0,$C80,0)*100),0))))","v":0},{"$f":"IF(AL80=0,0,IF(AM$2=\"Year\",IF(_xlfn.MAXIFS($N80:AL80,$N$2:AL$2,\"Year\")+$E80<=$E$1,AJ80+$E80,0),IF(AM$2=\"Repair %\",IF(AJ80>0,$C80,0),IF(AM$2=\"Spares %\",IF(IF(AJ80>0,$C80,0)*100>50%,50%,IF(AJ80>0,$C80,0)*100),0))))","v":0},{"$f":"IF(AM80=0,0,IF(AN$2=\"Year\",IF(_xlfn.MAXIFS($N80:AM80,$N$2:AM$2,\"Year\")+$E80<=$E$1,AK80+$E80,0),IF(AN$2=\"Repair %\",IF(AK80>0,$C80,0),IF(AN$2=\"Spares %\",IF(IF(AI80>0,$C80,0)*5>80%,50%,IF(AI80>0,$C80,0)*5),0))))","v":0},{"$f":"IF(AN80=0,0,IF(AO$2=\"Year\",IF(_xlfn.MAXIFS($N80:AN80,$N$2:AN$2,\"Year\")+$E80<=$E$1,AL80+$E80,0),IF(AO$2=\"Repair %\",IF(AL80>0,$C$3,0),IF(AO$2=\"Spares %\",IF(IF(AL80>0,$C80,0)*100>50%,50%,IF(AL80>0,$C80,0)*100),0))))","v":0},{"$f":"IF(AO80=0,0,IF(AP$2=\"Year\",IF(_xlfn.MAXIFS($N80:AO80,$N$2:AO$2,\"Year\")+$E80<=$E$1,AM80+$E80,0),IF(AP$2=\"Repair %\",IF(AM80>0,$C80,0),IF(AP$2=\"Spares %\",IF(IF(AM80>0,$C80,0)*100>50%,50%,IF(AM80>0,$C80,0)*100),0))))","v":0},{"$f":"IF(AP80=0,0,IF(AQ$2=\"Year\",IF(_xlfn.MAXIFS($N80:AP80,$N$2:AP$2,\"Year\")+$E80<=$E$1,AN80+$E80,0),IF(AQ$2=\"Repair %\",IF(AN80>0,$C80,0),IF(AQ$2=\"Spares %\",IF(IF(AL80>0,$C80,0)*5>80%,50%,IF(AL80>0,$C80,0)*5),0))))","v":0}]
[{"$f":"INDEX('Avionics ID'!A:E,MATCH(B81,'Avionics ID'!E:E,0),1)","v":847},"Engine/fuel/ displays",0.05,0.06,20,"Obsolecence",{"$f":"SUBSTITUTE(ADDRESS(1,MATCH(A81,'Pt1-AvionicsComponentCosts'!$A$6:$NC$6,0)+1),\"$1\",\"\")","v":"$EZ"},{"$f":"_xlfn.TEXTJOIN(\", \",TRUE,_xlfn.UNIQUE(_xlfn._xlws.SORT(_xlfn._xlws.FILTER('Pt1-AvionicsComponentCosts'!$NF$12:$NF$384,ISNUMBER(INDIRECT(\"'Pt1-AvionicsComponentCosts'!\"&G81&\"$12:\"&G81&\"$384\"))))))","v":"Attack Helo, Helo, TP Trainer, Turbine GA"},null,0.06,0.05,0.35299999999999998,1.8460000000000001,{"$f":"COUNTIF($N$2:N$2,\"Year\")*$G$1","v":10},null,0,{"$f":"COUNTIF($N$2:Q$2,\"Year\")*$G$1","v":20},{"$f":"IF(Q81=0,0,IF(R$2=\"Year\",IF(_xlfn.MAXIFS($N81:Q81,$N$2:Q$2,\"Year\")+$E81<=$E$1,O81+$E81,0),IF(R$2=\"Repair %\",IF(O81>0,$C81,0),IF(R$2=\"Spares %\",IF(IF(O81>0,$C81,0)*100>50%,50%,IF(O81>0,$C81,0)*100),0))))","v":0},1,{"$f":"COUNTIF($N$2:T$2,\"Year\")*$G$1","v":30},{"$f":"IF(T81=0,0,IF(U$2=\"Year\",IF(_xlfn.MAXIFS($N81:T81,$N$2:T$2,\"Year\")+$E81<=$E$1,R81+$E81,0),IF(U$2=\"Repair %\",IF(R81>0,$C81,0),IF(U$2=\"Spares %\",IF(IF(R81>0,$C81,0)*100>50%,50%,IF(R81>0,$C81,0)*100),0))))","v":0},0,{"$f":"COUNTIF($N$2:W$2,\"Year\")*$G$1","v":40},{"$f":"IF(W81=0,0,IF(X$2=\"Year\",IF(_xlfn.MAXIFS($N81:W81,$N$2:W$2,\"Year\")+$E81<=$E$1,U81+$E81,0),IF(X$2=\"Repair %\",IF(U81>0,$C81,0),IF(X$2=\"Spares %\",IF(IF(U81>0,$C81,0)*100>50%,50%,IF(U81>0,$C81,0)*100),0))))","v":0},1,{"$f":"IF(Y81=0,0,IF(Z$2=\"Year\",IF(_xlfn.MAXIFS($N81:Y81,$N$2:Y$2,\"Year\")+$E81<=$E$1,W81+$E81,0),IF(Z$2=\"Repair %\",IF(W81>0,$C$3,0),IF(Z$2=\"Spares %\",IF(IF(W81>0,$C81,0)*100>50%,50%,IF(W81>0,$C81,0)*100),0))))","v":0},{"$f":"IF(Z81=0,0,IF(AA$2=\"Year\",IF(_xlfn.MAXIFS($N81:Z81,$N$2:Z$2,\"Year\")+$E81<=$E$1,X81+$E81,0),IF(AA$2=\"Repair %\",IF(X81>0,$C81,0),IF(AA$2=\"Spares %\",IF(IF(X81>0,$C81,0)*100>50%,50%,IF(X81>0,$C81,0)*100),0))))","v":0},{"$f":"IF(AA81=0,0,IF(AB$2=\"Year\",IF(_xlfn.MAXIFS($N81:AA81,$N$2:AA$2,\"Year\")+$E81<=$E$1,Y81+$E81,0),IF(AB$2=\"Repair %\",IF(Y81>0,$C81,0),IF(AB$2=\"Spares %\",IF(IF(W81>0,$C81,0)*5>80%,50%,IF(W81>0,$C81,0)*5),0))))","v":0},{"$f":"IF(AB81=0,0,IF(AC$2=\"Year\",IF(_xlfn.MAXIFS($N81:AB81,$N$2:AB$2,\"Year\")+$E81<=$E$1,Z81+$E81,0),IF(AC$2=\"Repair %\",IF(Z81>0,$C$3,0),IF(AC$2=\"Spares %\",IF(IF(Z81>0,$C81,0)*100>50%,50%,IF(Z81>0,$C81,0)*100),0))))","v":0},{"$f":"IF(AC81=0,0,IF(AD$2=\"Year\",IF(_xlfn.MAXIFS($N81:AC81,$N$2:AC$2,\"Year\")+$E81<=$E$1,AA81+$E81,0),IF(AD$2=\"Repair %\",IF(AA81>0,$C81,0),IF(AD$2=\"Spares %\",IF(IF(AA81>0,$C81,0)*100>50%,50%,IF(AA81>0,$C81,0)*100),0))))","v":0},{"$f":"IF(AD81=0,0,IF(AE$2=\"Year\",IF(_xlfn.MAXIFS($N81:AD81,$N$2:AD$2,\"Year\")+$E81<=$E$1,AB81+$E81,0),IF(AE$2=\"Repair %\",IF(AB81>0,$C81,0),IF(AE$2=\"Spares %\",IF(IF(Z81>0,$C81,0)*5>80%,50%,IF(Z81>0,$C81,0)*5),0))))","v":0},{"$f":"IF(AE81=0,0,IF(AF$2=\"Year\",IF(_xlfn.MAXIFS($N81:AE81,$N$2:AE$2,\"Year\")+$E81<=$E$1,AC81+$E81,0),IF(AF$2=\"Repair %\",IF(AC81>0,$C$3,0),IF(AF$2=\"Spares %\",IF(IF(AC81>0,$C81,0)*100>50%,50%,IF(AC81>0,$C81,0)*100),0))))","v":0},{"$f":"IF(AF81=0,0,IF(AG$2=\"Year\",IF(_xlfn.MAXIFS($N81:AF81,$N$2:AF$2,\"Year\")+$E81<=$E$1,AD81+$E81,0),IF(AG$2=\"Repair %\",IF(AD81>0,$C81,0),IF(AG$2=\"Spares %\",IF(IF(AD81>0,$C81,0)*100>50%,50%,IF(AD81>0,$C81,0)*100),0))))","v":0},{"$f":"IF(AG81=0,0,IF(AH$2=\"Year\",IF(_xlfn.MAXIFS($N81:AG81,$N$2:AG$2,\"Year\")+$E81<=$E$1,AE81+$E81,0),IF(AH$2=\"Repair %\",IF(AE81>0,$C81,0),IF(AH$2=\"Spares %\",IF(IF(AC81>0,$C81,0)*5>80%,50%,IF(AC81>0,$C81,0)*5),0))))","v":0},{"$f":"IF(AH81=0,0,IF(AI$2=\"Year\",IF(_xlfn.MAXIFS($N81:AH81,$N$2:AH$2,\"Year\")+$E81<=$E$1,AF81+$E81,0),IF(AI$2=\"Repair %\",IF(AF81>0,$C$3,0),IF(AI$2=\"Spares %\",IF(IF(AF81>0,$C81,0)*100>50%,50%,IF(AF81>0,$C81,0)*100),0))))","v":0},{"$f":"IF(AI81=0,0,IF(AJ$2=\"Year\",IF(_xlfn.MAXIFS($N81:AI81,$N$2:AI$2,\"Year\")+$E81<=$E$1,AG81+$E81,0),IF(AJ$2=\"Repair %\",IF(AG81>0,$C81,0),IF(AJ$2=\"Spares %\",IF(IF(AG81>0,$C81,0)*100>50%,50%,IF(AG81>0,$C81,0)*100),0))))","v":0},{"$f":"IF(AJ81=0,0,IF(AK$2=\"Year\",IF(_xlfn.MAXIFS($N81:AJ81,$N$2:AJ$2,\"Year\")+$E81<=$E$1,AH81+$E81,0),IF(AK$2=\"Repair %\",IF(AH81>0,$C81,0),IF(AK$2=\"Spares %\",IF(IF(AF81>0,$C81,0)*5>80%,50%,IF(AF81>0,$C81,0)*5),0))))","v":0},{"$f":"IF(AK81=0,0,IF(AL$2=\"Year\",IF(_xlfn.MAXIFS($N81:AK81,$N$2:AK$2,\"Year\")+$E81<=$E$1,AI81+$E81,0),IF(AL$2=\"Repair %\",IF(AI81>0,$C$3,0),IF(AL$2=\"Spares %\",IF(IF(AI81>0,$C81,0)*100>50%,50%,IF(AI81>0,$C81,0)*100),0))))","v":0},{"$f":"IF(AL81=0,0,IF(AM$2=\"Year\",IF(_xlfn.MAXIFS($N81:AL81,$N$2:AL$2,\"Year\")+$E81<=$E$1,AJ81+$E81,0),IF(AM$2=\"Repair %\",IF(AJ81>0,$C81,0),IF(AM$2=\"Spares %\",IF(IF(AJ81>0,$C81,0)*100>50%,50%,IF(AJ81>0,$C81,0)*100),0))))","v":0},{"$f":"IF(AM81=0,0,IF(AN$2=\"Year\",IF(_xlfn.MAXIFS($N81:AM81,$N$2:AM$2,\"Year\")+$E81<=$E$1,AK81+$E81,0),IF(AN$2=\"Repair %\",IF(AK81>0,$C81,0),IF(AN$2=\"Spares %\",IF(IF(AI81>0,$C81,0)*5>80%,50%,IF(AI81>0,$C81,0)*5),0))))","v":0},{"$f":"IF(AN81=0,0,IF(AO$2=\"Year\",IF(_xlfn.MAXIFS($N81:AN81,$N$2:AN$2,\"Year\")+$E81<=$E$1,AL81+$E81,0),IF(AO$2=\"Repair %\",IF(AL81>0,$C$3,0),IF(AO$2=\"Spares %\",IF(IF(AL81>0,$C81,0)*100>50%,50%,IF(AL81>0,$C81,0)*100),0))))","v":0},{"$f":"IF(AO81=0,0,IF(AP$2=\"Year\",IF(_xlfn.MAXIFS($N81:AO81,$N$2:AO$2,\"Year\")+$E81<=$E$1,AM81+$E81,0),IF(AP$2=\"Repair %\",IF(AM81>0,$C81,0),IF(AP$2=\"Spares %\",IF(IF(AM81>0,$C81,0)*100>50%,50%,IF(AM81>0,$C81,0)*100),0))))","v":0},{"$f":"IF(AP81=0,0,IF(AQ$2=\"Year\",IF(_xlfn.MAXIFS($N81:AP81,$N$2:AP$2,\"Year\")+$E81<=$E$1,AN81+$E81,0),IF(AQ$2=\"Repair %\",IF(AN81>0,$C81,0),IF(AQ$2=\"Spares %\",IF(IF(AL81>0,$C81,0)*5>80%,50%,IF(AL81>0,$C81,0)*5),0))))","v":0}]
[{"$f":"INDEX('Avionics ID'!A:E,MATCH(B82,'Avionics ID'!E:E,0),1)","v":869},"Enhanced Integrated Sensor Suite",0.05,0.06,20,"Obsolecence",{"$f":"SUBSTITUTE(ADDRESS(1,MATCH(A82,'Pt1-AvionicsComponentCosts'!$A$6:$NC$6,0)+1),\"$1\",\"\")","v":"$KZ"},{"$f":"_xlfn.TEXTJOIN(\", \",TRUE,_xlfn.UNIQUE(_xlfn._xlws.SORT(_xlfn._xlws.FILTER('Pt1-AvionicsComponentCosts'!$NF$12:$NF$384,ISNUMBER(INDIRECT(\"'Pt1-AvionicsComponentCosts'!\"&G82&\"$12:\"&G82&\"$384\"))))))","v":"UAV"},null,0.06,0.05,0.33500000000000002,1.6830000000000001,{"$f":"COUNTIF($N$2:N$2,\"Year\")*$G$1","v":10},null,0,{"$f":"COUNTIF($N$2:Q$2,\"Year\")*$G$1","v":20},{"$f":"IF(Q82=0,0,IF(R$2=\"Year\",IF(_xlfn.MAXIFS($N82:Q82,$N$2:Q$2,\"Year\")+$E82<=$E$1,O82+$E82,0),IF(R$2=\"Repair %\",IF(O82>0,$C82,0),IF(R$2=\"Spares %\",IF(IF(O82>0,$C82,0)*100>50%,50%,IF(O82>0,$C82,0)*100),0))))","v":0},1,{"$f":"COUNTIF($N$2:T$2,\"Year\")*$G$1","v":30},{"$f":"IF(T82=0,0,IF(U$2=\"Year\",IF(_xlfn.MAXIFS($N82:T82,$N$2:T$2,\"Year\")+$E82<=$E$1,R82+$E82,0),IF(U$2=\"Repair %\",IF(R82>0,$C82,0),IF(U$2=\"Spares %\",IF(IF(R82>0,$C82,0)*100>50%,50%,IF(R82>0,$C82,0)*100),0))))","v":0},0,{"$f":"COUNTIF($N$2:W$2,\"Year\")*$G$1","v":40},{"$f":"IF(W82=0,0,IF(X$2=\"Year\",IF(_xlfn.MAXIFS($N82:W82,$N$2:W$2,\"Year\")+$E82<=$E$1,U82+$E82,0),IF(X$2=\"Repair %\",IF(U82>0,$C82,0),IF(X$2=\"Spares %\",IF(IF(U82>0,$C82,0)*100>50%,50%,IF(U82>0,$C82,0)*100),0))))","v":0},1,{"$f":"IF(Y82=0,0,IF(Z$2=\"Year\",IF(_xlfn.MAXIFS($N82:Y82,$N$2:Y$2,\"Year\")+$E82<=$E$1,W82+$E82,0),IF(Z$2=\"Repair %\",IF(W82>0,$C$3,0),IF(Z$2=\"Spares %\",IF(IF(W82>0,$C82,0)*100>50%,50%,IF(W82>0,$C82,0)*100),0))))","v":0},{"$f":"IF(Z82=0,0,IF(AA$2=\"Year\",IF(_xlfn.MAXIFS($N82:Z82,$N$2:Z$2,\"Year\")+$E82<=$E$1,X82+$E82,0),IF(AA$2=\"Repair %\",IF(X82>0,$C82,0),IF(AA$2=\"Spares %\",IF(IF(X82>0,$C82,0)*100>50%,50%,IF(X82>0,$C82,0)*100),0))))","v":0},{"$f":"IF(AA82=0,0,IF(AB$2=\"Year\",IF(_xlfn.MAXIFS($N82:AA82,$N$2:AA$2,\"Year\")+$E82<=$E$1,Y82+$E82,0),IF(AB$2=\"Repair %\",IF(Y82>0,$C82,0),IF(AB$2=\"Spares %\",IF(IF(W82>0,$C82,0)*5>80%,50%,IF(W82>0,$C82,0)*5),0))))","v":0},{"$f":"IF(AB82=0,0,IF(AC$2=\"Year\",IF(_xlfn.MAXIFS($N82:AB82,$N$2:AB$2,\"Year\")+$E82<=$E$1,Z82+$E82,0),IF(AC$2=\"Repair %\",IF(Z82>0,$C$3,0),IF(AC$2=\"Spares %\",IF(IF(Z82>0,$C82,0)*100>50%,50%,IF(Z82>0,$C82,0)*100),0))))","v":0},{"$f":"IF(AC82=0,0,IF(AD$2=\"Year\",IF(_xlfn.MAXIFS($N82:AC82,$N$2:AC$2,\"Year\")+$E82<=$E$1,AA82+$E82,0),IF(AD$2=\"Repair %\",IF(AA82>0,$C82,0),IF(AD$2=\"Spares %\",IF(IF(AA82>0,$C82,0)*100>50%,50%,IF(AA82>0,$C82,0)*100),0))))","v":0},{"$f":"IF(AD82=0,0,IF(AE$2=\"Year\",IF(_xlfn.MAXIFS($N82:AD82,$N$2:AD$2,\"Year\")+$E82<=$E$1,AB82+$E82,0),IF(AE$2=\"Repair %\",IF(AB82>0,$C82,0),IF(AE$2=\"Spares %\",IF(IF(Z82>0,$C82,0)*5>80%,50%,IF(Z82>0,$C82,0)*5),0))))","v":0},{"$f":"IF(AE82=0,0,IF(AF$2=\"Year\",IF(_xlfn.MAXIFS($N82:AE82,$N$2:AE$2,\"Year\")+$E82<=$E$1,AC82+$E82,0),IF(AF$2=\"Repair %\",IF(AC82>0,$C$3,0),IF(AF$2=\"Spares %\",IF(IF(AC82>0,$C82,0)*100>50%,50%,IF(AC82>0,$C82,0)*100),0))))","v":0},{"$f":"IF(AF82=0,0,IF(AG$2=\"Year\",IF(_xlfn.MAXIFS($N82:AF82,$N$2:AF$2,\"Year\")+$E82<=$E$1,AD82+$E82,0),IF(AG$2=\"Repair %\",IF(AD82>0,$C82,0),IF(AG$2=\"Spares %\",IF(IF(AD82>0,$C82,0)*100>50%,50%,IF(AD82>0,$C82,0)*100),0))))","v":0},{"$f":"IF(AG82=0,0,IF(AH$2=\"Year\",IF(_xlfn.MAXIFS($N82:AG82,$N$2:AG$2,\"Year\")+$E82<=$E$1,AE82+$E82,0),IF(AH$2=\"Repair %\",IF(AE82>0,$C82,0),IF(AH$2=\"Spares %\",IF(IF(AC82>0,$C82,0)*5>80%,50%,IF(AC82>0,$C82,0)*5),0))))","v":0},{"$f":"IF(AH82=0,0,IF(AI$2=\"Year\",IF(_xlfn.MAXIFS($N82:AH82,$N$2:AH$2,\"Year\")+$E82<=$E$1,AF82+$E82,0),IF(AI$2=\"Repair %\",IF(AF82>0,$C$3,0),IF(AI$2=\"Spares %\",IF(IF(AF82>0,$C82,0)*100>50%,50%,IF(AF82>0,$C82,0)*100),0))))","v":0},{"$f":"IF(AI82=0,0,IF(AJ$2=\"Year\",IF(_xlfn.MAXIFS($N82:AI82,$N$2:AI$2,\"Year\")+$E82<=$E$1,AG82+$E82,0),IF(AJ$2=\"Repair %\",IF(AG82>0,$C82,0),IF(AJ$2=\"Spares %\",IF(IF(AG82>0,$C82,0)*100>50%,50%,IF(AG82>0,$C82,0)*100),0))))","v":0},{"$f":"IF(AJ82=0,0,IF(AK$2=\"Year\",IF(_xlfn.MAXIFS($N82:AJ82,$N$2:AJ$2,\"Year\")+$E82<=$E$1,AH82+$E82,0),IF(AK$2=\"Repair %\",IF(AH82>0,$C82,0),IF(AK$2=\"Spares %\",IF(IF(AF82>0,$C82,0)*5>80%,50%,IF(AF82>0,$C82,0)*5),0))))","v":0},{"$f":"IF(AK82=0,0,IF(AL$2=\"Year\",IF(_xlfn.MAXIFS($N82:AK82,$N$2:AK$2,\"Year\")+$E82<=$E$1,AI82+$E82,0),IF(AL$2=\"Repair %\",IF(AI82>0,$C$3,0),IF(AL$2=\"Spares %\",IF(IF(AI82>0,$C82,0)*100>50%,50%,IF(AI82>0,$C82,0)*100),0))))","v":0},{"$f":"IF(AL82=0,0,IF(AM$2=\"Year\",IF(_xlfn.MAXIFS($N82:AL82,$N$2:AL$2,\"Year\")+$E82<=$E$1,AJ82+$E82,0),IF(AM$2=\"Repair %\",IF(AJ82>0,$C82,0),IF(AM$2=\"Spares %\",IF(IF(AJ82>0,$C82,0)*100>50%,50%,IF(AJ82>0,$C82,0)*100),0))))","v":0},{"$f":"IF(AM82=0,0,IF(AN$2=\"Year\",IF(_xlfn.MAXIFS($N82:AM82,$N$2:AM$2,\"Year\")+$E82<=$E$1,AK82+$E82,0),IF(AN$2=\"Repair %\",IF(AK82>0,$C82,0),IF(AN$2=\"Spares %\",IF(IF(AI82>0,$C82,0)*5>80%,50%,IF(AI82>0,$C82,0)*5),0))))","v":0},{"$f":"IF(AN82=0,0,IF(AO$2=\"Year\",IF(_xlfn.MAXIFS($N82:AN82,$N$2:AN$2,\"Year\")+$E82<=$E$1,AL82+$E82,0),IF(AO$2=\"Repair %\",IF(AL82>0,$C$3,0),IF(AO$2=\"Spares %\",IF(IF(AL82>0,$C82,0)*100>50%,50%,IF(AL82>0,$C82,0)*100),0))))","v":0},{"$f":"IF(AO82=0,0,IF(AP$2=\"Year\",IF(_xlfn.MAXIFS($N82:AO82,$N$2:AO$2,\"Year\")+$E82<=$E$1,AM82+$E82,0),IF(AP$2=\"Repair %\",IF(AM82>0,$C82,0),IF(AP$2=\"Spares %\",IF(IF(AM82>0,$C82,0)*100>50%,50%,IF(AM82>0,$C82,0)*100),0))))","v":0},{"$f":"IF(AP82=0,0,IF(AQ$2=\"Year\",IF(_xlfn.MAXIFS($N82:AP82,$N$2:AP$2,\"Year\")+$E82<=$E$1,AN82+$E82,0),IF(AQ$2=\"Repair %\",IF(AN82>0,$C82,0),IF(AQ$2=\"Spares %\",IF(IF(AL82>0,$C82,0)*5>80%,50%,IF(AL82>0,$C82,0)*5),0))))","v":0}]
[{"$f":"INDEX('Avionics ID'!A:E,MATCH(B83,'Avionics ID'!E:E,0),1)","v":885},"Enhanced Vision system",0.05,0.06,20,"Obsolecence",{"$f":"SUBSTITUTE(ADDRESS(1,MATCH(A83,'Pt1-AvionicsComponentCosts'!$A$6:$NC$6,0)+1),\"$1\",\"\")","v":"$MJ"},{"$f":"_xlfn.TEXTJOIN(\", \",TRUE,_xlfn.UNIQUE(_xlfn._xlws.SORT(_xlfn._xlws.FILTER('Pt1-AvionicsComponentCosts'!$NF$12:$NF$384,ISNUMBER(INDIRECT(\"'Pt1-AvionicsComponentCosts'!\"&G83&\"$12:\"&G83&\"$384\"))))))","v":"Attack, Attack Helo, Helo, Stealth"},null,0.06,0.05,0.44800000000000001,1.298,{"$f":"COUNTIF($N$2:N$2,\"Year\")*$G$1","v":10},null,0,{"$f":"COUNTIF($N$2:Q$2,\"Year\")*$G$1","v":20},{"$f":"IF(Q83=0,0,IF(R$2=\"Year\",IF(_xlfn.MAXIFS($N83:Q83,$N$2:Q$2,\"Year\")+$E83<=$E$1,O83+$E83,0),IF(R$2=\"Repair %\",IF(O83>0,$C83,0),IF(R$2=\"Spares %\",IF(IF(O83>0,$C83,0)*100>50%,50%,IF(O83>0,$C83,0)*100),0))))","v":0},1,{"$f":"COUNTIF($N$2:T$2,\"Year\")*$G$1","v":30},{"$f":"IF(T83=0,0,IF(U$2=\"Year\",IF(_xlfn.MAXIFS($N83:T83,$N$2:T$2,\"Year\")+$E83<=$E$1,R83+$E83,0),IF(U$2=\"Repair %\",IF(R83>0,$C83,0),IF(U$2=\"Spares %\",IF(IF(R83>0,$C83,0)*100>50%,50%,IF(R83>0,$C83,0)*100),0))))","v":0},0,{"$f":"COUNTIF($N$2:W$2,\"Year\")*$G$1","v":40},{"$f":"IF(W83=0,0,IF(X$2=\"Year\",IF(_xlfn.MAXIFS($N83:W83,$N$2:W$2,\"Year\")+$E83<=$E$1,U83+$E83,0),IF(X$2=\"Repair %\",IF(U83>0,$C83,0),IF(X$2=\"Spares %\",IF(IF(U83>0,$C83,0)*100>50%,50%,IF(U83>0,$C83,0)*100),0))))","v":0},1,{"$f":"IF(Y83=0,0,IF(Z$2=\"Year\",IF(_xlfn.MAXIFS($N83:Y83,$N$2:Y$2,\"Year\")+$E83<=$E$1,W83+$E83,0),IF(Z$2=\"Repair %\",IF(W83>0,$C$3,0),IF(Z$2=\"Spares %\",IF(IF(W83>0,$C83,0)*100>50%,50%,IF(W83>0,$C83,0)*100),0))))","v":0},{"$f":"IF(Z83=0,0,IF(AA$2=\"Year\",IF(_xlfn.MAXIFS($N83:Z83,$N$2:Z$2,\"Year\")+$E83<=$E$1,X83+$E83,0),IF(AA$2=\"Repair %\",IF(X83>0,$C83,0),IF(AA$2=\"Spares %\",IF(IF(X83>0,$C83,0)*100>50%,50%,IF(X83>0,$C83,0)*100),0))))","v":0},{"$f":"IF(AA83=0,0,IF(AB$2=\"Year\",IF(_xlfn.MAXIFS($N83:AA83,$N$2:AA$2,\"Year\")+$E83<=$E$1,Y83+$E83,0),IF(AB$2=\"Repair %\",IF(Y83>0,$C83,0),IF(AB$2=\"Spares %\",IF(IF(W83>0,$C83,0)*5>80%,50%,IF(W83>0,$C83,0)*5),0))))","v":0},{"$f":"IF(AB83=0,0,IF(AC$2=\"Year\",IF(_xlfn.MAXIFS($N83:AB83,$N$2:AB$2,\"Year\")+$E83<=$E$1,Z83+$E83,0),IF(AC$2=\"Repair %\",IF(Z83>0,$C$3,0),IF(AC$2=\"Spares %\",IF(IF(Z83>0,$C83,0)*100>50%,50%,IF(Z83>0,$C83,0)*100),0))))","v":0},{"$f":"IF(AC83=0,0,IF(AD$2=\"Year\",IF(_xlfn.MAXIFS($N83:AC83,$N$2:AC$2,\"Year\")+$E83<=$E$1,AA83+$E83,0),IF(AD$2=\"Repair %\",IF(AA83>0,$C83,0),IF(AD$2=\"Spares %\",IF(IF(AA83>0,$C83,0)*100>50%,50%,IF(AA83>0,$C83,0)*100),0))))","v":0},{"$f":"IF(AD83=0,0,IF(AE$2=\"Year\",IF(_xlfn.MAXIFS($N83:AD83,$N$2:AD$2,\"Year\")+$E83<=$E$1,AB83+$E83,0),IF(AE$2=\"Repair %\",IF(AB83>0,$C83,0),IF(AE$2=\"Spares %\",IF(IF(Z83>0,$C83,0)*5>80%,50%,IF(Z83>0,$C83,0)*5),0))))","v":0},{"$f":"IF(AE83=0,0,IF(AF$2=\"Year\",IF(_xlfn.MAXIFS($N83:AE83,$N$2:AE$2,\"Year\")+$E83<=$E$1,AC83+$E83,0),IF(AF$2=\"Repair %\",IF(AC83>0,$C$3,0),IF(AF$2=\"Spares %\",IF(IF(AC83>0,$C83,0)*100>50%,50%,IF(AC83>0,$C83,0)*100),0))))","v":0},{"$f":"IF(AF83=0,0,IF(AG$2=\"Year\",IF(_xlfn.MAXIFS($N83:AF83,$N$2:AF$2,\"Year\")+$E83<=$E$1,AD83+$E83,0),IF(AG$2=\"Repair %\",IF(AD83>0,$C83,0),IF(AG$2=\"Spares %\",IF(IF(AD83>0,$C83,0)*100>50%,50%,IF(AD83>0,$C83,0)*100),0))))","v":0},{"$f":"IF(AG83=0,0,IF(AH$2=\"Year\",IF(_xlfn.MAXIFS($N83:AG83,$N$2:AG$2,\"Year\")+$E83<=$E$1,AE83+$E83,0),IF(AH$2=\"Repair %\",IF(AE83>0,$C83,0),IF(AH$2=\"Spares %\",IF(IF(AC83>0,$C83,0)*5>80%,50%,IF(AC83>0,$C83,0)*5),0))))","v":0},{"$f":"IF(AH83=0,0,IF(AI$2=\"Year\",IF(_xlfn.MAXIFS($N83:AH83,$N$2:AH$2,\"Year\")+$E83<=$E$1,AF83+$E83,0),IF(AI$2=\"Repair %\",IF(AF83>0,$C$3,0),IF(AI$2=\"Spares %\",IF(IF(AF83>0,$C83,0)*100>50%,50%,IF(AF83>0,$C83,0)*100),0))))","v":0},{"$f":"IF(AI83=0,0,IF(AJ$2=\"Year\",IF(_xlfn.MAXIFS($N83:AI83,$N$2:AI$2,\"Year\")+$E83<=$E$1,AG83+$E83,0),IF(AJ$2=\"Repair %\",IF(AG83>0,$C83,0),IF(AJ$2=\"Spares %\",IF(IF(AG83>0,$C83,0)*100>50%,50%,IF(AG83>0,$C83,0)*100),0))))","v":0},{"$f":"IF(AJ83=0,0,IF(AK$2=\"Year\",IF(_xlfn.MAXIFS($N83:AJ83,$N$2:AJ$2,\"Year\")+$E83<=$E$1,AH83+$E83,0),IF(AK$2=\"Repair %\",IF(AH83>0,$C83,0),IF(AK$2=\"Spares %\",IF(IF(AF83>0,$C83,0)*5>80%,50%,IF(AF83>0,$C83,0)*5),0))))","v":0},{"$f":"IF(AK83=0,0,IF(AL$2=\"Year\",IF(_xlfn.MAXIFS($N83:AK83,$N$2:AK$2,\"Year\")+$E83<=$E$1,AI83+$E83,0),IF(AL$2=\"Repair %\",IF(AI83>0,$C$3,0),IF(AL$2=\"Spares %\",IF(IF(AI83>0,$C83,0)*100>50%,50%,IF(AI83>0,$C83,0)*100),0))))","v":0},{"$f":"IF(AL83=0,0,IF(AM$2=\"Year\",IF(_xlfn.MAXIFS($N83:AL83,$N$2:AL$2,\"Year\")+$E83<=$E$1,AJ83+$E83,0),IF(AM$2=\"Repair %\",IF(AJ83>0,$C83,0),IF(AM$2=\"Spares %\",IF(IF(AJ83>0,$C83,0)*100>50%,50%,IF(AJ83>0,$C83,0)*100),0))))","v":0},{"$f":"IF(AM83=0,0,IF(AN$2=\"Year\",IF(_xlfn.MAXIFS($N83:AM83,$N$2:AM$2,\"Year\")+$E83<=$E$1,AK83+$E83,0),IF(AN$2=\"Repair %\",IF(AK83>0,$C83,0),IF(AN$2=\"Spares %\",IF(IF(AI83>0,$C83,0)*5>80%,50%,IF(AI83>0,$C83,0)*5),0))))","v":0},{"$f":"IF(AN83=0,0,IF(AO$2=\"Year\",IF(_xlfn.MAXIFS($N83:AN83,$N$2:AN$2,\"Year\")+$E83<=$E$1,AL83+$E83,0),IF(AO$2=\"Repair %\",IF(AL83>0,$C$3,0),IF(AO$2=\"Spares %\",IF(IF(AL83>0,$C83,0)*100>50%,50%,IF(AL83>0,$C83,0)*100),0))))","v":0},{"$f":"IF(AO83=0,0,IF(AP$2=\"Year\",IF(_xlfn.MAXIFS($N83:AO83,$N$2:AO$2,\"Year\")+$E83<=$E$1,AM83+$E83,0),IF(AP$2=\"Repair %\",IF(AM83>0,$C83,0),IF(AP$2=\"Spares %\",IF(IF(AM83>0,$C83,0)*100>50%,50%,IF(AM83>0,$C83,0)*100),0))))","v":0},{"$f":"IF(AP83=0,0,IF(AQ$2=\"Year\",IF(_xlfn.MAXIFS($N83:AP83,$N$2:AP$2,\"Year\")+$E83<=$E$1,AN83+$E83,0),IF(AQ$2=\"Repair %\",IF(AN83>0,$C83,0),IF(AQ$2=\"Spares %\",IF(IF(AL83>0,$C83,0)*5>80%,50%,IF(AL83>0,$C83,0)*5),0))))","v":0}]
[{"$f":"INDEX('Avionics ID'!A:E,MATCH(B84,'Avionics ID'!E:E,0),1)","v":711},"FCU",0,0.06,null,"",{"$f":"SUBSTITUTE(ADDRESS(1,MATCH(A84,'Pt1-AvionicsComponentCosts'!$A$6:$NC$6,0)+1),\"$1\",\"\")","v":"$GH"},{"$f":"_xlfn.TEXTJOIN(\", \",TRUE,_xlfn.UNIQUE(_xlfn._xlws.SORT(_xlfn._xlws.FILTER('Pt1-AvionicsComponentCosts'!$NF$12:$NF$384,ISNUMBER(INDIRECT(\"'Pt1-AvionicsComponentCosts'!\"&G84&\"$12:\"&G84&\"$384\"))))))","v":"A220, A320, A321, ATR, B717, B737, B757, C919, EMB Regional, MC-21, Mil Transport, Military Jet, NSA"},null,0.06,0,0.371,1.2310000000000001,{"$f":"COUNTIF($N$2:N$2,\"Year\")*$G$1","v":10},null,0,{"$f":"COUNTIF($N$2:Q$2,\"Year\")*$G$1","v":20},{"$f":"IF(Q84=0,0,IF(R$2=\"Year\",IF(_xlfn.MAXIFS($N84:Q84,$N$2:Q$2,\"Year\")+$E84<=$E$1,O84+$E84,0),IF(R$2=\"Repair %\",IF(O84>0,$C84,0),IF(R$2=\"Spares %\",IF(IF(O84>0,$C84,0)*100>50%,50%,IF(O84>0,$C84,0)*100),0))))","v":0},0,{"$f":"COUNTIF($N$2:T$2,\"Year\")*$G$1","v":30},{"$f":"IF(T84=0,0,IF(U$2=\"Year\",IF(_xlfn.MAXIFS($N84:T84,$N$2:T$2,\"Year\")+$E84<=$E$1,R84+$E84,0),IF(U$2=\"Repair %\",IF(R84>0,$C84,0),IF(U$2=\"Spares %\",IF(IF(R84>0,$C84,0)*100>50%,50%,IF(R84>0,$C84,0)*100),0))))","v":0},0,{"$f":"COUNTIF($N$2:W$2,\"Year\")*$G$1","v":40},{"$f":"IF(W84=0,0,IF(X$2=\"Year\",IF(_xlfn.MAXIFS($N84:W84,$N$2:W$2,\"Year\")+$E84<=$E$1,U84+$E84,0),IF(X$2=\"Repair %\",IF(U84>0,$C84,0),IF(X$2=\"Spares %\",IF(IF(U84>0,$C84,0)*100>50%,50%,IF(U84>0,$C84,0)*100),0))))","v":0},0,{"$f":"IF(Y84=0,0,IF(Z$2=\"Year\",IF(_xlfn.MAXIFS($N84:Y84,$N$2:Y$2,\"Year\")+$E84<=$E$1,W84+$E84,0),IF(Z$2=\"Repair %\",IF(W84>0,$C$3,0),IF(Z$2=\"Spares %\",IF(IF(W84>0,$C84,0)*100>50%,50%,IF(W84>0,$C84,0)*100),0))))","v":0},{"$f":"IF(Z84=0,0,IF(AA$2=\"Year\",IF(_xlfn.MAXIFS($N84:Z84,$N$2:Z$2,\"Year\")+$E84<=$E$1,X84+$E84,0),IF(AA$2=\"Repair %\",IF(X84>0,$C84,0),IF(AA$2=\"Spares %\",IF(IF(X84>0,$C84,0)*100>50%,50%,IF(X84>0,$C84,0)*100),0))))","v":0},{"$f":"IF(AA84=0,0,IF(AB$2=\"Year\",IF(_xlfn.MAXIFS($N84:AA84,$N$2:AA$2,\"Year\")+$E84<=$E$1,Y84+$E84,0),IF(AB$2=\"Repair %\",IF(Y84>0,$C84,0),IF(AB$2=\"Spares %\",IF(IF(W84>0,$C84,0)*5>80%,50%,IF(W84>0,$C84,0)*5),0))))","v":0},{"$f":"IF(AB84=0,0,IF(AC$2=\"Year\",IF(_xlfn.MAXIFS($N84:AB84,$N$2:AB$2,\"Year\")+$E84<=$E$1,Z84+$E84,0),IF(AC$2=\"Repair %\",IF(Z84>0,$C$3,0),IF(AC$2=\"Spares %\",IF(IF(Z84>0,$C84,0)*100>50%,50%,IF(Z84>0,$C84,0)*100),0))))","v":0},{"$f":"IF(AC84=0,0,IF(AD$2=\"Year\",IF(_xlfn.MAXIFS($N84:AC84,$N$2:AC$2,\"Year\")+$E84<=$E$1,AA84+$E84,0),IF(AD$2=\"Repair %\",IF(AA84>0,$C84,0),IF(AD$2=\"Spares %\",IF(IF(AA84>0,$C84,0)*100>50%,50%,IF(AA84>0,$C84,0)*100),0))))","v":0},{"$f":"IF(AD84=0,0,IF(AE$2=\"Year\",IF(_xlfn.MAXIFS($N84:AD84,$N$2:AD$2,\"Year\")+$E84<=$E$1,AB84+$E84,0),IF(AE$2=\"Repair %\",IF(AB84>0,$C84,0),IF(AE$2=\"Spares %\",IF(IF(Z84>0,$C84,0)*5>80%,50%,IF(Z84>0,$C84,0)*5),0))))","v":0},{"$f":"IF(AE84=0,0,IF(AF$2=\"Year\",IF(_xlfn.MAXIFS($N84:AE84,$N$2:AE$2,\"Year\")+$E84<=$E$1,AC84+$E84,0),IF(AF$2=\"Repair %\",IF(AC84>0,$C$3,0),IF(AF$2=\"Spares %\",IF(IF(AC84>0,$C84,0)*100>50%,50%,IF(AC84>0,$C84,0)*100),0))))","v":0},{"$f":"IF(AF84=0,0,IF(AG$2=\"Year\",IF(_xlfn.MAXIFS($N84:AF84,$N$2:AF$2,\"Year\")+$E84<=$E$1,AD84+$E84,0),IF(AG$2=\"Repair %\",IF(AD84>0,$C84,0),IF(AG$2=\"Spares %\",IF(IF(AD84>0,$C84,0)*100>50%,50%,IF(AD84>0,$C84,0)*100),0))))","v":0},{"$f":"IF(AG84=0,0,IF(AH$2=\"Year\",IF(_xlfn.MAXIFS($N84:AG84,$N$2:AG$2,\"Year\")+$E84<=$E$1,AE84+$E84,0),IF(AH$2=\"Repair %\",IF(AE84>0,$C84,0),IF(AH$2=\"Spares %\",IF(IF(AC84>0,$C84,0)*5>80%,50%,IF(AC84>0,$C84,0)*5),0))))","v":0},{"$f":"IF(AH84=0,0,IF(AI$2=\"Year\",IF(_xlfn.MAXIFS($N84:AH84,$N$2:AH$2,\"Year\")+$E84<=$E$1,AF84+$E84,0),IF(AI$2=\"Repair %\",IF(AF84>0,$C$3,0),IF(AI$2=\"Spares %\",IF(IF(AF84>0,$C84,0)*100>50%,50%,IF(AF84>0,$C84,0)*100),0))))","v":0},{"$f":"IF(AI84=0,0,IF(AJ$2=\"Year\",IF(_xlfn.MAXIFS($N84:AI84,$N$2:AI$2,\"Year\")+$E84<=$E$1,AG84+$E84,0),IF(AJ$2=\"Repair %\",IF(AG84>0,$C84,0),IF(AJ$2=\"Spares %\",IF(IF(AG84>0,$C84,0)*100>50%,50%,IF(AG84>0,$C84,0)*100),0))))","v":0},{"$f":"IF(AJ84=0,0,IF(AK$2=\"Year\",IF(_xlfn.MAXIFS($N84:AJ84,$N$2:AJ$2,\"Year\")+$E84<=$E$1,AH84+$E84,0),IF(AK$2=\"Repair %\",IF(AH84>0,$C84,0),IF(AK$2=\"Spares %\",IF(IF(AF84>0,$C84,0)*5>80%,50%,IF(AF84>0,$C84,0)*5),0))))","v":0},{"$f":"IF(AK84=0,0,IF(AL$2=\"Year\",IF(_xlfn.MAXIFS($N84:AK84,$N$2:AK$2,\"Year\")+$E84<=$E$1,AI84+$E84,0),IF(AL$2=\"Repair %\",IF(AI84>0,$C$3,0),IF(AL$2=\"Spares %\",IF(IF(AI84>0,$C84,0)*100>50%,50%,IF(AI84>0,$C84,0)*100),0))))","v":0},{"$f":"IF(AL84=0,0,IF(AM$2=\"Year\",IF(_xlfn.MAXIFS($N84:AL84,$N$2:AL$2,\"Year\")+$E84<=$E$1,AJ84+$E84,0),IF(AM$2=\"Repair %\",IF(AJ84>0,$C84,0),IF(AM$2=\"Spares %\",IF(IF(AJ84>0,$C84,0)*100>50%,50%,IF(AJ84>0,$C84,0)*100),0))))","v":0},{"$f":"IF(AM84=0,0,IF(AN$2=\"Year\",IF(_xlfn.MAXIFS($N84:AM84,$N$2:AM$2,\"Year\")+$E84<=$E$1,AK84+$E84,0),IF(AN$2=\"Repair %\",IF(AK84>0,$C84,0),IF(AN$2=\"Spares %\",IF(IF(AI84>0,$C84,0)*5>80%,50%,IF(AI84>0,$C84,0)*5),0))))","v":0},{"$f":"IF(AN84=0,0,IF(AO$2=\"Year\",IF(_xlfn.MAXIFS($N84:AN84,$N$2:AN$2,\"Year\")+$E84<=$E$1,AL84+$E84,0),IF(AO$2=\"Repair %\",IF(AL84>0,$C$3,0),IF(AO$2=\"Spares %\",IF(IF(AL84>0,$C84,0)*100>50%,50%,IF(AL84>0,$C84,0)*100),0))))","v":0},{"$f":"IF(AO84=0,0,IF(AP$2=\"Year\",IF(_xlfn.MAXIFS($N84:AO84,$N$2:AO$2,\"Year\")+$E84<=$E$1,AM84+$E84,0),IF(AP$2=\"Repair %\",IF(AM84>0,$C84,0),IF(AP$2=\"Spares %\",IF(IF(AM84>0,$C84,0)*100>50%,50%,IF(AM84>0,$C84,0)*100),0))))","v":0},{"$f":"IF(AP84=0,0,IF(AQ$2=\"Year\",IF(_xlfn.MAXIFS($N84:AP84,$N$2:AP$2,\"Year\")+$E84<=$E$1,AN84+$E84,0),IF(AQ$2=\"Repair %\",IF(AN84>0,$C84,0),IF(AQ$2=\"Spares %\",IF(IF(AL84>0,$C84,0)*5>80%,50%,IF(AL84>0,$C84,0)*5),0))))","v":0}]
[{"$f":"INDEX('Avionics ID'!A:E,MATCH(B85,'Avionics ID'!E:E,0),1)","v":755},"FD Interface Unit",0,0.06,null,"",{"$f":"SUBSTITUTE(ADDRESS(1,MATCH(A85,'Pt1-AvionicsComponentCosts'!$A$6:$NC$6,0)+1),\"$1\",\"\")","v":"$CZ"},{"$f":"_xlfn.TEXTJOIN(\", \",TRUE,_xlfn.UNIQUE(_xlfn._xlws.SORT(_xlfn._xlws.FILTER('Pt1-AvionicsComponentCosts'!$NF$12:$NF$384,ISNUMBER(INDIRECT(\"'Pt1-AvionicsComponentCosts'!\"&G85&\"$12:\"&G85&\"$384\"))))))","v":"A220, A320, A321, A350, ATR, B717, B737, B747, B757, B777, B787, C919, EMB Regional, MC-21, Mil Transport, Military Jet, NSA"},null,0.06,0,0.68300000000000005,1.931,{"$f":"COUNTIF($N$2:N$2,\"Year\")*$G$1","v":10},null,0,{"$f":"COUNTIF($N$2:Q$2,\"Year\")*$G$1","v":20},{"$f":"IF(Q85=0,0,IF(R$2=\"Year\",IF(_xlfn.MAXIFS($N85:Q85,$N$2:Q$2,\"Year\")+$E85<=$E$1,O85+$E85,0),IF(R$2=\"Repair %\",IF(O85>0,$C85,0),IF(R$2=\"Spares %\",IF(IF(O85>0,$C85,0)*100>50%,50%,IF(O85>0,$C85,0)*100),0))))","v":0},0,{"$f":"COUNTIF($N$2:T$2,\"Year\")*$G$1","v":30},{"$f":"IF(T85=0,0,IF(U$2=\"Year\",IF(_xlfn.MAXIFS($N85:T85,$N$2:T$2,\"Year\")+$E85<=$E$1,R85+$E85,0),IF(U$2=\"Repair %\",IF(R85>0,$C85,0),IF(U$2=\"Spares %\",IF(IF(R85>0,$C85,0)*100>50%,50%,IF(R85>0,$C85,0)*100),0))))","v":0},0,{"$f":"COUNTIF($N$2:W$2,\"Year\")*$G$1","v":40},{"$f":"IF(W85=0,0,IF(X$2=\"Year\",IF(_xlfn.MAXIFS($N85:W85,$N$2:W$2,\"Year\")+$E85<=$E$1,U85+$E85,0),IF(X$2=\"Repair %\",IF(U85>0,$C85,0),IF(X$2=\"Spares %\",IF(IF(U85>0,$C85,0)*100>50%,50%,IF(U85>0,$C85,0)*100),0))))","v":0},0,{"$f":"IF(Y85=0,0,IF(Z$2=\"Year\",IF(_xlfn.MAXIFS($N85:Y85,$N$2:Y$2,\"Year\")+$E85<=$E$1,W85+$E85,0),IF(Z$2=\"Repair %\",IF(W85>0,$C$3,0),IF(Z$2=\"Spares %\",IF(IF(W85>0,$C85,0)*100>50%,50%,IF(W85>0,$C85,0)*100),0))))","v":0},{"$f":"IF(Z85=0,0,IF(AA$2=\"Year\",IF(_xlfn.MAXIFS($N85:Z85,$N$2:Z$2,\"Year\")+$E85<=$E$1,X85+$E85,0),IF(AA$2=\"Repair %\",IF(X85>0,$C85,0),IF(AA$2=\"Spares %\",IF(IF(X85>0,$C85,0)*100>50%,50%,IF(X85>0,$C85,0)*100),0))))","v":0},{"$f":"IF(AA85=0,0,IF(AB$2=\"Year\",IF(_xlfn.MAXIFS($N85:AA85,$N$2:AA$2,\"Year\")+$E85<=$E$1,Y85+$E85,0),IF(AB$2=\"Repair %\",IF(Y85>0,$C85,0),IF(AB$2=\"Spares %\",IF(IF(W85>0,$C85,0)*5>80%,50%,IF(W85>0,$C85,0)*5),0))))","v":0},{"$f":"IF(AB85=0,0,IF(AC$2=\"Year\",IF(_xlfn.MAXIFS($N85:AB85,$N$2:AB$2,\"Year\")+$E85<=$E$1,Z85+$E85,0),IF(AC$2=\"Repair %\",IF(Z85>0,$C$3,0),IF(AC$2=\"Spares %\",IF(IF(Z85>0,$C85,0)*100>50%,50%,IF(Z85>0,$C85,0)*100),0))))","v":0},{"$f":"IF(AC85=0,0,IF(AD$2=\"Year\",IF(_xlfn.MAXIFS($N85:AC85,$N$2:AC$2,\"Year\")+$E85<=$E$1,AA85+$E85,0),IF(AD$2=\"Repair %\",IF(AA85>0,$C85,0),IF(AD$2=\"Spares %\",IF(IF(AA85>0,$C85,0)*100>50%,50%,IF(AA85>0,$C85,0)*100),0))))","v":0},{"$f":"IF(AD85=0,0,IF(AE$2=\"Year\",IF(_xlfn.MAXIFS($N85:AD85,$N$2:AD$2,\"Year\")+$E85<=$E$1,AB85+$E85,0),IF(AE$2=\"Repair %\",IF(AB85>0,$C85,0),IF(AE$2=\"Spares %\",IF(IF(Z85>0,$C85,0)*5>80%,50%,IF(Z85>0,$C85,0)*5),0))))","v":0},{"$f":"IF(AE85=0,0,IF(AF$2=\"Year\",IF(_xlfn.MAXIFS($N85:AE85,$N$2:AE$2,\"Year\")+$E85<=$E$1,AC85+$E85,0),IF(AF$2=\"Repair %\",IF(AC85>0,$C$3,0),IF(AF$2=\"Spares %\",IF(IF(AC85>0,$C85,0)*100>50%,50%,IF(AC85>0,$C85,0)*100),0))))","v":0},{"$f":"IF(AF85=0,0,IF(AG$2=\"Year\",IF(_xlfn.MAXIFS($N85:AF85,$N$2:AF$2,\"Year\")+$E85<=$E$1,AD85+$E85,0),IF(AG$2=\"Repair %\",IF(AD85>0,$C85,0),IF(AG$2=\"Spares %\",IF(IF(AD85>0,$C85,0)*100>50%,50%,IF(AD85>0,$C85,0)*100),0))))","v":0},{"$f":"IF(AG85=0,0,IF(AH$2=\"Year\",IF(_xlfn.MAXIFS($N85:AG85,$N$2:AG$2,\"Year\")+$E85<=$E$1,AE85+$E85,0),IF(AH$2=\"Repair %\",IF(AE85>0,$C85,0),IF(AH$2=\"Spares %\",IF(IF(AC85>0,$C85,0)*5>80%,50%,IF(AC85>0,$C85,0)*5),0))))","v":0},{"$f":"IF(AH85=0,0,IF(AI$2=\"Year\",IF(_xlfn.MAXIFS($N85:AH85,$N$2:AH$2,\"Year\")+$E85<=$E$1,AF85+$E85,0),IF(AI$2=\"Repair %\",IF(AF85>0,$C$3,0),IF(AI$2=\"Spares %\",IF(IF(AF85>0,$C85,0)*100>50%,50%,IF(AF85>0,$C85,0)*100),0))))","v":0},{"$f":"IF(AI85=0,0,IF(AJ$2=\"Year\",IF(_xlfn.MAXIFS($N85:AI85,$N$2:AI$2,\"Year\")+$E85<=$E$1,AG85+$E85,0),IF(AJ$2=\"Repair %\",IF(AG85>0,$C85,0),IF(AJ$2=\"Spares %\",IF(IF(AG85>0,$C85,0)*100>50%,50%,IF(AG85>0,$C85,0)*100),0))))","v":0},{"$f":"IF(AJ85=0,0,IF(AK$2=\"Year\",IF(_xlfn.MAXIFS($N85:AJ85,$N$2:AJ$2,\"Year\")+$E85<=$E$1,AH85+$E85,0),IF(AK$2=\"Repair %\",IF(AH85>0,$C85,0),IF(AK$2=\"Spares %\",IF(IF(AF85>0,$C85,0)*5>80%,50%,IF(AF85>0,$C85,0)*5),0))))","v":0},{"$f":"IF(AK85=0,0,IF(AL$2=\"Year\",IF(_xlfn.MAXIFS($N85:AK85,$N$2:AK$2,\"Year\")+$E85<=$E$1,AI85+$E85,0),IF(AL$2=\"Repair %\",IF(AI85>0,$C$3,0),IF(AL$2=\"Spares %\",IF(IF(AI85>0,$C85,0)*100>50%,50%,IF(AI85>0,$C85,0)*100),0))))","v":0},{"$f":"IF(AL85=0,0,IF(AM$2=\"Year\",IF(_xlfn.MAXIFS($N85:AL85,$N$2:AL$2,\"Year\")+$E85<=$E$1,AJ85+$E85,0),IF(AM$2=\"Repair %\",IF(AJ85>0,$C85,0),IF(AM$2=\"Spares %\",IF(IF(AJ85>0,$C85,0)*100>50%,50%,IF(AJ85>0,$C85,0)*100),0))))","v":0},{"$f":"IF(AM85=0,0,IF(AN$2=\"Year\",IF(_xlfn.MAXIFS($N85:AM85,$N$2:AM$2,\"Year\")+$E85<=$E$1,AK85+$E85,0),IF(AN$2=\"Repair %\",IF(AK85>0,$C85,0),IF(AN$2=\"Spares %\",IF(IF(AI85>0,$C85,0)*5>80%,50%,IF(AI85>0,$C85,0)*5),0))))","v":0},{"$f":"IF(AN85=0,0,IF(AO$2=\"Year\",IF(_xlfn.MAXIFS($N85:AN85,$N$2:AN$2,\"Year\")+$E85<=$E$1,AL85+$E85,0),IF(AO$2=\"Repair %\",IF(AL85>0,$C$3,0),IF(AO$2=\"Spares %\",IF(IF(AL85>0,$C85,0)*100>50%,50%,IF(AL85>0,$C85,0)*100),0))))","v":0},{"$f":"IF(AO85=0,0,IF(AP$2=\"Year\",IF(_xlfn.MAXIFS($N85:AO85,$N$2:AO$2,\"Year\")+$E85<=$E$1,AM85+$E85,0),IF(AP$2=\"Repair %\",IF(AM85>0,$C85,0),IF(AP$2=\"Spares %\",IF(IF(AM85>0,$C85,0)*100>50%,50%,IF(AM85>0,$C85,0)*100),0))))","v":0},{"$f":"IF(AP85=0,0,IF(AQ$2=\"Year\",IF(_xlfn.MAXIFS($N85:AP85,$N$2:AP$2,\"Year\")+$E85<=$E$1,AN85+$E85,0),IF(AQ$2=\"Repair %\",IF(AN85>0,$C85,0),IF(AQ$2=\"Spares %\",IF(IF(AL85>0,$C85,0)*5>80%,50%,IF(AL85>0,$C85,0)*5),0))))","v":0}]
[{"$f":"INDEX('Avionics ID'!A:E,MATCH(B86,'Avionics ID'!E:E,0),1)","v":712},"Flight Augmentation Computers",0,0.06,null,"",{"$f":"SUBSTITUTE(ADDRESS(1,MATCH(A86,'Pt1-AvionicsComponentCosts'!$A$6:$NC$6,0)+1),\"$1\",\"\")","v":"$GJ"},{"$f":"_xlfn.TEXTJOIN(\", \",TRUE,_xlfn.UNIQUE(_xlfn._xlws.SORT(_xlfn._xlws.FILTER('Pt1-AvionicsComponentCosts'!$NF$12:$NF$384,ISNUMBER(INDIRECT(\"'Pt1-AvionicsComponentCosts'!\"&G86&\"$12:\"&G86&\"$384\"))))))","v":"A220, A320, A321, ATR, B717, B737, B757, C919, EMB Regional, MC-21, Mil Transport, Military Jet, NSA"},null,0.06,0,0.371,1.2310000000000001,{"$f":"COUNTIF($N$2:N$2,\"Year\")*$G$1","v":10},null,0,{"$f":"COUNTIF($N$2:Q$2,\"Year\")*$G$1","v":20},{"$f":"IF(Q86=0,0,IF(R$2=\"Year\",IF(_xlfn.MAXIFS($N86:Q86,$N$2:Q$2,\"Year\")+$E86<=$E$1,O86+$E86,0),IF(R$2=\"Repair %\",IF(O86>0,$C86,0),IF(R$2=\"Spares %\",IF(IF(O86>0,$C86,0)*100>50%,50%,IF(O86>0,$C86,0)*100),0))))","v":0},0,{"$f":"COUNTIF($N$2:T$2,\"Year\")*$G$1","v":30},{"$f":"IF(T86=0,0,IF(U$2=\"Year\",IF(_xlfn.MAXIFS($N86:T86,$N$2:T$2,\"Year\")+$E86<=$E$1,R86+$E86,0),IF(U$2=\"Repair %\",IF(R86>0,$C86,0),IF(U$2=\"Spares %\",IF(IF(R86>0,$C86,0)*100>50%,50%,IF(R86>0,$C86,0)*100),0))))","v":0},0,{"$f":"COUNTIF($N$2:W$2,\"Year\")*$G$1","v":40},{"$f":"IF(W86=0,0,IF(X$2=\"Year\",IF(_xlfn.MAXIFS($N86:W86,$N$2:W$2,\"Year\")+$E86<=$E$1,U86+$E86,0),IF(X$2=\"Repair %\",IF(U86>0,$C86,0),IF(X$2=\"Spares %\",IF(IF(U86>0,$C86,0)*100>50%,50%,IF(U86>0,$C86,0)*100),0))))","v":0},0,{"$f":"IF(Y86=0,0,IF(Z$2=\"Year\",IF(_xlfn.MAXIFS($N86:Y86,$N$2:Y$2,\"Year\")+$E86<=$E$1,W86+$E86,0),IF(Z$2=\"Repair %\",IF(W86>0,$C$3,0),IF(Z$2=\"Spares %\",IF(IF(W86>0,$C86,0)*100>50%,50%,IF(W86>0,$C86,0)*100),0))))","v":0},{"$f":"IF(Z86=0,0,IF(AA$2=\"Year\",IF(_xlfn.MAXIFS($N86:Z86,$N$2:Z$2,\"Year\")+$E86<=$E$1,X86+$E86,0),IF(AA$2=\"Repair %\",IF(X86>0,$C86,0),IF(AA$2=\"Spares %\",IF(IF(X86>0,$C86,0)*100>50%,50%,IF(X86>0,$C86,0)*100),0))))","v":0},{"$f":"IF(AA86=0,0,IF(AB$2=\"Year\",IF(_xlfn.MAXIFS($N86:AA86,$N$2:AA$2,\"Year\")+$E86<=$E$1,Y86+$E86,0),IF(AB$2=\"Repair %\",IF(Y86>0,$C86,0),IF(AB$2=\"Spares %\",IF(IF(W86>0,$C86,0)*5>80%,50%,IF(W86>0,$C86,0)*5),0))))","v":0},{"$f":"IF(AB86=0,0,IF(AC$2=\"Year\",IF(_xlfn.MAXIFS($N86:AB86,$N$2:AB$2,\"Year\")+$E86<=$E$1,Z86+$E86,0),IF(AC$2=\"Repair %\",IF(Z86>0,$C$3,0),IF(AC$2=\"Spares %\",IF(IF(Z86>0,$C86,0)*100>50%,50%,IF(Z86>0,$C86,0)*100),0))))","v":0},{"$f":"IF(AC86=0,0,IF(AD$2=\"Year\",IF(_xlfn.MAXIFS($N86:AC86,$N$2:AC$2,\"Year\")+$E86<=$E$1,AA86+$E86,0),IF(AD$2=\"Repair %\",IF(AA86>0,$C86,0),IF(AD$2=\"Spares %\",IF(IF(AA86>0,$C86,0)*100>50%,50%,IF(AA86>0,$C86,0)*100),0))))","v":0},{"$f":"IF(AD86=0,0,IF(AE$2=\"Year\",IF(_xlfn.MAXIFS($N86:AD86,$N$2:AD$2,\"Year\")+$E86<=$E$1,AB86+$E86,0),IF(AE$2=\"Repair %\",IF(AB86>0,$C86,0),IF(AE$2=\"Spares %\",IF(IF(Z86>0,$C86,0)*5>80%,50%,IF(Z86>0,$C86,0)*5),0))))","v":0},{"$f":"IF(AE86=0,0,IF(AF$2=\"Year\",IF(_xlfn.MAXIFS($N86:AE86,$N$2:AE$2,\"Year\")+$E86<=$E$1,AC86+$E86,0),IF(AF$2=\"Repair %\",IF(AC86>0,$C$3,0),IF(AF$2=\"Spares %\",IF(IF(AC86>0,$C86,0)*100>50%,50%,IF(AC86>0,$C86,0)*100),0))))","v":0},{"$f":"IF(AF86=0,0,IF(AG$2=\"Year\",IF(_xlfn.MAXIFS($N86:AF86,$N$2:AF$2,\"Year\")+$E86<=$E$1,AD86+$E86,0),IF(AG$2=\"Repair %\",IF(AD86>0,$C86,0),IF(AG$2=\"Spares %\",IF(IF(AD86>0,$C86,0)*100>50%,50%,IF(AD86>0,$C86,0)*100),0))))","v":0},{"$f":"IF(AG86=0,0,IF(AH$2=\"Year\",IF(_xlfn.MAXIFS($N86:AG86,$N$2:AG$2,\"Year\")+$E86<=$E$1,AE86+$E86,0),IF(AH$2=\"Repair %\",IF(AE86>0,$C86,0),IF(AH$2=\"Spares %\",IF(IF(AC86>0,$C86,0)*5>80%,50%,IF(AC86>0,$C86,0)*5),0))))","v":0},{"$f":"IF(AH86=0,0,IF(AI$2=\"Year\",IF(_xlfn.MAXIFS($N86:AH86,$N$2:AH$2,\"Year\")+$E86<=$E$1,AF86+$E86,0),IF(AI$2=\"Repair %\",IF(AF86>0,$C$3,0),IF(AI$2=\"Spares %\",IF(IF(AF86>0,$C86,0)*100>50%,50%,IF(AF86>0,$C86,0)*100),0))))","v":0},{"$f":"IF(AI86=0,0,IF(AJ$2=\"Year\",IF(_xlfn.MAXIFS($N86:AI86,$N$2:AI$2,\"Year\")+$E86<=$E$1,AG86+$E86,0),IF(AJ$2=\"Repair %\",IF(AG86>0,$C86,0),IF(AJ$2=\"Spares %\",IF(IF(AG86>0,$C86,0)*100>50%,50%,IF(AG86>0,$C86,0)*100),0))))","v":0},{"$f":"IF(AJ86=0,0,IF(AK$2=\"Year\",IF(_xlfn.MAXIFS($N86:AJ86,$N$2:AJ$2,\"Year\")+$E86<=$E$1,AH86+$E86,0),IF(AK$2=\"Repair %\",IF(AH86>0,$C86,0),IF(AK$2=\"Spares %\",IF(IF(AF86>0,$C86,0)*5>80%,50%,IF(AF86>0,$C86,0)*5),0))))","v":0},{"$f":"IF(AK86=0,0,IF(AL$2=\"Year\",IF(_xlfn.MAXIFS($N86:AK86,$N$2:AK$2,\"Year\")+$E86<=$E$1,AI86+$E86,0),IF(AL$2=\"Repair %\",IF(AI86>0,$C$3,0),IF(AL$2=\"Spares %\",IF(IF(AI86>0,$C86,0)*100>50%,50%,IF(AI86>0,$C86,0)*100),0))))","v":0},{"$f":"IF(AL86=0,0,IF(AM$2=\"Year\",IF(_xlfn.MAXIFS($N86:AL86,$N$2:AL$2,\"Year\")+$E86<=$E$1,AJ86+$E86,0),IF(AM$2=\"Repair %\",IF(AJ86>0,$C86,0),IF(AM$2=\"Spares %\",IF(IF(AJ86>0,$C86,0)*100>50%,50%,IF(AJ86>0,$C86,0)*100),0))))","v":0},{"$f":"IF(AM86=0,0,IF(AN$2=\"Year\",IF(_xlfn.MAXIFS($N86:AM86,$N$2:AM$2,\"Year\")+$E86<=$E$1,AK86+$E86,0),IF(AN$2=\"Repair %\",IF(AK86>0,$C86,0),IF(AN$2=\"Spares %\",IF(IF(AI86>0,$C86,0)*5>80%,50%,IF(AI86>0,$C86,0)*5),0))))","v":0},{"$f":"IF(AN86=0,0,IF(AO$2=\"Year\",IF(_xlfn.MAXIFS($N86:AN86,$N$2:AN$2,\"Year\")+$E86<=$E$1,AL86+$E86,0),IF(AO$2=\"Repair %\",IF(AL86>0,$C$3,0),IF(AO$2=\"Spares %\",IF(IF(AL86>0,$C86,0)*100>50%,50%,IF(AL86>0,$C86,0)*100),0))))","v":0},{"$f":"IF(AO86=0,0,IF(AP$2=\"Year\",IF(_xlfn.MAXIFS($N86:AO86,$N$2:AO$2,\"Year\")+$E86<=$E$1,AM86+$E86,0),IF(AP$2=\"Repair %\",IF(AM86>0,$C86,0),IF(AP$2=\"Spares %\",IF(IF(AM86>0,$C86,0)*100>50%,50%,IF(AM86>0,$C86,0)*100),0))))","v":0},{"$f":"IF(AP86=0,0,IF(AQ$2=\"Year\",IF(_xlfn.MAXIFS($N86:AP86,$N$2:AP$2,\"Year\")+$E86<=$E$1,AN86+$E86,0),IF(AQ$2=\"Repair %\",IF(AN86>0,$C86,0),IF(AQ$2=\"Spares %\",IF(IF(AL86>0,$C86,0)*5>80%,50%,IF(AL86>0,$C86,0)*5),0))))","v":0}]
[{"$f":"INDEX('Avionics ID'!A:E,MATCH(B87,'Avionics ID'!E:E,0),1)","v":715},"Flight Control Unit (FCU) panel",0.1,0.06,10,"Obsolecence",{"$f":"SUBSTITUTE(ADDRESS(1,MATCH(A87,'Pt1-AvionicsComponentCosts'!$A$6:$NC$6,0)+1),\"$1\",\"\")","v":"$GL"},{"$f":"_xlfn.TEXTJOIN(\", \",TRUE,_xlfn.UNIQUE(_xlfn._xlws.SORT(_xlfn._xlws.FILTER('Pt1-AvionicsComponentCosts'!$NF$12:$NF$384,ISNUMBER(INDIRECT(\"'Pt1-AvionicsComponentCosts'!\"&G87&\"$12:\"&G87&\"$384\"))))))","v":"A220, A320, A321, ATR, B717, B737, B757, C919, EMB Regional, MC-21, Mil Transport, Military Jet, NSA"},null,0.06,0.1,0.371,1.2310000000000001,{"$f":"COUNTIF($N$2:N$2,\"Year\")*$G$1","v":10},null,1,{"$f":"COUNTIF($N$2:Q$2,\"Year\")*$G$1","v":20},{"$f":"IF(Q87=0,0,IF(R$2=\"Year\",IF(_xlfn.MAXIFS($N87:Q87,$N$2:Q$2,\"Year\")+$E87<=$E$1,O87+$E87,0),IF(R$2=\"Repair %\",IF(O87>0,$C87,0),IF(R$2=\"Spares %\",IF(IF(O87>0,$C87,0)*100>50%,50%,IF(O87>0,$C87,0)*100),0))))","v":0},1,{"$f":"COUNTIF($N$2:T$2,\"Year\")*$G$1","v":30},{"$f":"IF(T87=0,0,IF(U$2=\"Year\",IF(_xlfn.MAXIFS($N87:T87,$N$2:T$2,\"Year\")+$E87<=$E$1,R87+$E87,0),IF(U$2=\"Repair %\",IF(R87>0,$C87,0),IF(U$2=\"Spares %\",IF(IF(R87>0,$C87,0)*100>50%,50%,IF(R87>0,$C87,0)*100),0))))","v":0},1,{"$f":"COUNTIF($N$2:W$2,\"Year\")*$G$1","v":40},{"$f":"IF(W87=0,0,IF(X$2=\"Year\",IF(_xlfn.MAXIFS($N87:W87,$N$2:W$2,\"Year\")+$E87<=$E$1,U87+$E87,0),IF(X$2=\"Repair %\",IF(U87>0,$C87,0),IF(X$2=\"Spares %\",IF(IF(U87>0,$C87,0)*100>50%,50%,IF(U87>0,$C87,0)*100),0))))","v":0},1,{"$f":"IF(Y87=0,0,IF(Z$2=\"Year\",IF(_xlfn.MAXIFS($N87:Y87,$N$2:Y$2,\"Year\")+$E87<=$E$1,W87+$E87,0),IF(Z$2=\"Repair %\",IF(W87>0,$C$3,0),IF(Z$2=\"Spares %\",IF(IF(W87>0,$C87,0)*100>50%,50%,IF(W87>0,$C87,0)*100),0))))","v":0},{"$f":"IF(Z87=0,0,IF(AA$2=\"Year\",IF(_xlfn.MAXIFS($N87:Z87,$N$2:Z$2,\"Year\")+$E87<=$E$1,X87+$E87,0),IF(AA$2=\"Repair %\",IF(X87>0,$C87,0),IF(AA$2=\"Spares %\",IF(IF(X87>0,$C87,0)*100>50%,50%,IF(X87>0,$C87,0)*100),0))))","v":0},{"$f":"IF(AA87=0,0,IF(AB$2=\"Year\",IF(_xlfn.MAXIFS($N87:AA87,$N$2:AA$2,\"Year\")+$E87<=$E$1,Y87+$E87,0),IF(AB$2=\"Repair %\",IF(Y87>0,$C87,0),IF(AB$2=\"Spares %\",IF(IF(W87>0,$C87,0)*5>80%,50%,IF(W87>0,$C87,0)*5),0))))","v":0},{"$f":"IF(AB87=0,0,IF(AC$2=\"Year\",IF(_xlfn.MAXIFS($N87:AB87,$N$2:AB$2,\"Year\")+$E87<=$E$1,Z87+$E87,0),IF(AC$2=\"Repair %\",IF(Z87>0,$C$3,0),IF(AC$2=\"Spares %\",IF(IF(Z87>0,$C87,0)*100>50%,50%,IF(Z87>0,$C87,0)*100),0))))","v":0},{"$f":"IF(AC87=0,0,IF(AD$2=\"Year\",IF(_xlfn.MAXIFS($N87:AC87,$N$2:AC$2,\"Year\")+$E87<=$E$1,AA87+$E87,0),IF(AD$2=\"Repair %\",IF(AA87>0,$C87,0),IF(AD$2=\"Spares %\",IF(IF(AA87>0,$C87,0)*100>50%,50%,IF(AA87>0,$C87,0)*100),0))))","v":0},{"$f":"IF(AD87=0,0,IF(AE$2=\"Year\",IF(_xlfn.MAXIFS($N87:AD87,$N$2:AD$2,\"Year\")+$E87<=$E$1,AB87+$E87,0),IF(AE$2=\"Repair %\",IF(AB87>0,$C87,0),IF(AE$2=\"Spares %\",IF(IF(Z87>0,$C87,0)*5>80%,50%,IF(Z87>0,$C87,0)*5),0))))","v":0},{"$f":"IF(AE87=0,0,IF(AF$2=\"Year\",IF(_xlfn.MAXIFS($N87:AE87,$N$2:AE$2,\"Year\")+$E87<=$E$1,AC87+$E87,0),IF(AF$2=\"Repair %\",IF(AC87>0,$C$3,0),IF(AF$2=\"Spares %\",IF(IF(AC87>0,$C87,0)*100>50%,50%,IF(AC87>0,$C87,0)*100),0))))","v":0},{"$f":"IF(AF87=0,0,IF(AG$2=\"Year\",IF(_xlfn.MAXIFS($N87:AF87,$N$2:AF$2,\"Year\")+$E87<=$E$1,AD87+$E87,0),IF(AG$2=\"Repair %\",IF(AD87>0,$C87,0),IF(AG$2=\"Spares %\",IF(IF(AD87>0,$C87,0)*100>50%,50%,IF(AD87>0,$C87,0)*100),0))))","v":0},{"$f":"IF(AG87=0,0,IF(AH$2=\"Year\",IF(_xlfn.MAXIFS($N87:AG87,$N$2:AG$2,\"Year\")+$E87<=$E$1,AE87+$E87,0),IF(AH$2=\"Repair %\",IF(AE87>0,$C87,0),IF(AH$2=\"Spares %\",IF(IF(AC87>0,$C87,0)*5>80%,50%,IF(AC87>0,$C87,0)*5),0))))","v":0},{"$f":"IF(AH87=0,0,IF(AI$2=\"Year\",IF(_xlfn.MAXIFS($N87:AH87,$N$2:AH$2,\"Year\")+$E87<=$E$1,AF87+$E87,0),IF(AI$2=\"Repair %\",IF(AF87>0,$C$3,0),IF(AI$2=\"Spares %\",IF(IF(AF87>0,$C87,0)*100>50%,50%,IF(AF87>0,$C87,0)*100),0))))","v":0},{"$f":"IF(AI87=0,0,IF(AJ$2=\"Year\",IF(_xlfn.MAXIFS($N87:AI87,$N$2:AI$2,\"Year\")+$E87<=$E$1,AG87+$E87,0),IF(AJ$2=\"Repair %\",IF(AG87>0,$C87,0),IF(AJ$2=\"Spares %\",IF(IF(AG87>0,$C87,0)*100>50%,50%,IF(AG87>0,$C87,0)*100),0))))","v":0},{"$f":"IF(AJ87=0,0,IF(AK$2=\"Year\",IF(_xlfn.MAXIFS($N87:AJ87,$N$2:AJ$2,\"Year\")+$E87<=$E$1,AH87+$E87,0),IF(AK$2=\"Repair %\",IF(AH87>0,$C87,0),IF(AK$2=\"Spares %\",IF(IF(AF87>0,$C87,0)*5>80%,50%,IF(AF87>0,$C87,0)*5),0))))","v":0},{"$f":"IF(AK87=0,0,IF(AL$2=\"Year\",IF(_xlfn.MAXIFS($N87:AK87,$N$2:AK$2,\"Year\")+$E87<=$E$1,AI87+$E87,0),IF(AL$2=\"Repair %\",IF(AI87>0,$C$3,0),IF(AL$2=\"Spares %\",IF(IF(AI87>0,$C87,0)*100>50%,50%,IF(AI87>0,$C87,0)*100),0))))","v":0},{"$f":"IF(AL87=0,0,IF(AM$2=\"Year\",IF(_xlfn.MAXIFS($N87:AL87,$N$2:AL$2,\"Year\")+$E87<=$E$1,AJ87+$E87,0),IF(AM$2=\"Repair %\",IF(AJ87>0,$C87,0),IF(AM$2=\"Spares %\",IF(IF(AJ87>0,$C87,0)*100>50%,50%,IF(AJ87>0,$C87,0)*100),0))))","v":0},{"$f":"IF(AM87=0,0,IF(AN$2=\"Year\",IF(_xlfn.MAXIFS($N87:AM87,$N$2:AM$2,\"Year\")+$E87<=$E$1,AK87+$E87,0),IF(AN$2=\"Repair %\",IF(AK87>0,$C87,0),IF(AN$2=\"Spares %\",IF(IF(AI87>0,$C87,0)*5>80%,50%,IF(AI87>0,$C87,0)*5),0))))","v":0},{"$f":"IF(AN87=0,0,IF(AO$2=\"Year\",IF(_xlfn.MAXIFS($N87:AN87,$N$2:AN$2,\"Year\")+$E87<=$E$1,AL87+$E87,0),IF(AO$2=\"Repair %\",IF(AL87>0,$C$3,0),IF(AO$2=\"Spares %\",IF(IF(AL87>0,$C87,0)*100>50%,50%,IF(AL87>0,$C87,0)*100),0))))","v":0},{"$f":"IF(AO87=0,0,IF(AP$2=\"Year\",IF(_xlfn.MAXIFS($N87:AO87,$N$2:AO$2,\"Year\")+$E87<=$E$1,AM87+$E87,0),IF(AP$2=\"Repair %\",IF(AM87>0,$C87,0),IF(AP$2=\"Spares %\",IF(IF(AM87>0,$C87,0)*100>50%,50%,IF(AM87>0,$C87,0)*100),0))))","v":0},{"$f":"IF(AP87=0,0,IF(AQ$2=\"Year\",IF(_xlfn.MAXIFS($N87:AP87,$N$2:AP$2,\"Year\")+$E87<=$E$1,AN87+$E87,0),IF(AQ$2=\"Repair %\",IF(AN87>0,$C87,0),IF(AQ$2=\"Spares %\",IF(IF(AL87>0,$C87,0)*5>80%,50%,IF(AL87>0,$C87,0)*5),0))))","v":0}]
[{"$f":"INDEX('Avionics ID'!A:E,MATCH(B88,'Avionics ID'!E:E,0),1)","v":754},"Flight Data Recorder",0.2,0.06,5,"Technology / regulatory",{"$f":"SUBSTITUTE(ADDRESS(1,MATCH(A88,'Pt1-AvionicsComponentCosts'!$A$6:$NC$6,0)+1),\"$1\",\"\")","v":"$DB"},{"$f":"_xlfn.TEXTJOIN(\", \",TRUE,_xlfn.UNIQUE(_xlfn._xlws.SORT(_xlfn._xlws.FILTER('Pt1-AvionicsComponentCosts'!$NF$12:$NF$384,ISNUMBER(INDIRECT(\"'Pt1-AvionicsComponentCosts'!\"&G88&\"$12:\"&G88&\"$384\"))))))","v":"A220, A300, A320, A321, A330, A340, A350, A380, ATR, B717, B737, B747, B757, B767, B777, B787, C919, Challenger, Citation, E550, EMB Bizjet, EMB Regional, Falcon, Global, Gulfstream, Hawker, Hondajet, Learjet, MC-21, MD-11, Mil Transport, Military Jet, Nextant 400XT, NSA, PC-24, Phenom, Praetor, SF50"},null,0.06,0.2,0.68300000000000005,1.931,{"$f":"COUNTIF($N$2:N$2,\"Year\")*$G$1","v":10},null,1,{"$f":"COUNTIF($N$2:Q$2,\"Year\")*$G$1","v":20},{"$f":"IF(Q88=0,0,IF(R$2=\"Year\",IF(_xlfn.MAXIFS($N88:Q88,$N$2:Q$2,\"Year\")+$E88<=$E$1,O88+$E88,0),IF(R$2=\"Repair %\",IF(O88>0,$C88,0),IF(R$2=\"Spares %\",IF(IF(O88>0,$C88,0)*100>50%,50%,IF(O88>0,$C88,0)*100),0))))","v":0},1,{"$f":"COUNTIF($N$2:T$2,\"Year\")*$G$1","v":30},{"$f":"IF(T88=0,0,IF(U$2=\"Year\",IF(_xlfn.MAXIFS($N88:T88,$N$2:T$2,\"Year\")+$E88<=$E$1,R88+$E88,0),IF(U$2=\"Repair %\",IF(R88>0,$C88,0),IF(U$2=\"Spares %\",IF(IF(R88>0,$C88,0)*100>50%,50%,IF(R88>0,$C88,0)*100),0))))","v":0},1,{"$f":"COUNTIF($N$2:W$2,\"Year\")*$G$1","v":40},{"$f":"IF(W88=0,0,IF(X$2=\"Year\",IF(_xlfn.MAXIFS($N88:W88,$N$2:W$2,\"Year\")+$E88<=$E$1,U88+$E88,0),IF(X$2=\"Repair %\",IF(U88>0,$C88,0),IF(X$2=\"Spares %\",IF(IF(U88>0,$C88,0)*100>50%,50%,IF(U88>0,$C88,0)*100),0))))","v":0},1,{"$f":"IF(Y88=0,0,IF(Z$2=\"Year\",IF(_xlfn.MAXIFS($N88:Y88,$N$2:Y$2,\"Year\")+$E88<=$E$1,W88+$E88,0),IF(Z$2=\"Repair %\",IF(W88>0,$C$3,0),IF(Z$2=\"Spares %\",IF(IF(W88>0,$C88,0)*100>50%,50%,IF(W88>0,$C88,0)*100),0))))","v":0},{"$f":"IF(Z88=0,0,IF(AA$2=\"Year\",IF(_xlfn.MAXIFS($N88:Z88,$N$2:Z$2,\"Year\")+$E88<=$E$1,X88+$E88,0),IF(AA$2=\"Repair %\",IF(X88>0,$C88,0),IF(AA$2=\"Spares %\",IF(IF(X88>0,$C88,0)*100>50%,50%,IF(X88>0,$C88,0)*100),0))))","v":0},{"$f":"IF(AA88=0,0,IF(AB$2=\"Year\",IF(_xlfn.MAXIFS($N88:AA88,$N$2:AA$2,\"Year\")+$E88<=$E$1,Y88+$E88,0),IF(AB$2=\"Repair %\",IF(Y88>0,$C88,0),IF(AB$2=\"Spares %\",IF(IF(W88>0,$C88,0)*5>80%,50%,IF(W88>0,$C88,0)*5),0))))","v":0},{"$f":"IF(AB88=0,0,IF(AC$2=\"Year\",IF(_xlfn.MAXIFS($N88:AB88,$N$2:AB$2,\"Year\")+$E88<=$E$1,Z88+$E88,0),IF(AC$2=\"Repair %\",IF(Z88>0,$C$3,0),IF(AC$2=\"Spares %\",IF(IF(Z88>0,$C88,0)*100>50%,50%,IF(Z88>0,$C88,0)*100),0))))","v":0},{"$f":"IF(AC88=0,0,IF(AD$2=\"Year\",IF(_xlfn.MAXIFS($N88:AC88,$N$2:AC$2,\"Year\")+$E88<=$E$1,AA88+$E88,0),IF(AD$2=\"Repair %\",IF(AA88>0,$C88,0),IF(AD$2=\"Spares %\",IF(IF(AA88>0,$C88,0)*100>50%,50%,IF(AA88>0,$C88,0)*100),0))))","v":0},{"$f":"IF(AD88=0,0,IF(AE$2=\"Year\",IF(_xlfn.MAXIFS($N88:AD88,$N$2:AD$2,\"Year\")+$E88<=$E$1,AB88+$E88,0),IF(AE$2=\"Repair %\",IF(AB88>0,$C88,0),IF(AE$2=\"Spares %\",IF(IF(Z88>0,$C88,0)*5>80%,50%,IF(Z88>0,$C88,0)*5),0))))","v":0},{"$f":"IF(AE88=0,0,IF(AF$2=\"Year\",IF(_xlfn.MAXIFS($N88:AE88,$N$2:AE$2,\"Year\")+$E88<=$E$1,AC88+$E88,0),IF(AF$2=\"Repair %\",IF(AC88>0,$C$3,0),IF(AF$2=\"Spares %\",IF(IF(AC88>0,$C88,0)*100>50%,50%,IF(AC88>0,$C88,0)*100),0))))","v":0},{"$f":"IF(AF88=0,0,IF(AG$2=\"Year\",IF(_xlfn.MAXIFS($N88:AF88,$N$2:AF$2,\"Year\")+$E88<=$E$1,AD88+$E88,0),IF(AG$2=\"Repair %\",IF(AD88>0,$C88,0),IF(AG$2=\"Spares %\",IF(IF(AD88>0,$C88,0)*100>50%,50%,IF(AD88>0,$C88,0)*100),0))))","v":0},{"$f":"IF(AG88=0,0,IF(AH$2=\"Year\",IF(_xlfn.MAXIFS($N88:AG88,$N$2:AG$2,\"Year\")+$E88<=$E$1,AE88+$E88,0),IF(AH$2=\"Repair %\",IF(AE88>0,$C88,0),IF(AH$2=\"Spares %\",IF(IF(AC88>0,$C88,0)*5>80%,50%,IF(AC88>0,$C88,0)*5),0))))","v":0},{"$f":"IF(AH88=0,0,IF(AI$2=\"Year\",IF(_xlfn.MAXIFS($N88:AH88,$N$2:AH$2,\"Year\")+$E88<=$E$1,AF88+$E88,0),IF(AI$2=\"Repair %\",IF(AF88>0,$C$3,0),IF(AI$2=\"Spares %\",IF(IF(AF88>0,$C88,0)*100>50%,50%,IF(AF88>0,$C88,0)*100),0))))","v":0},{"$f":"IF(AI88=0,0,IF(AJ$2=\"Year\",IF(_xlfn.MAXIFS($N88:AI88,$N$2:AI$2,\"Year\")+$E88<=$E$1,AG88+$E88,0),IF(AJ$2=\"Repair %\",IF(AG88>0,$C88,0),IF(AJ$2=\"Spares %\",IF(IF(AG88>0,$C88,0)*100>50%,50%,IF(AG88>0,$C88,0)*100),0))))","v":0},{"$f":"IF(AJ88=0,0,IF(AK$2=\"Year\",IF(_xlfn.MAXIFS($N88:AJ88,$N$2:AJ$2,\"Year\")+$E88<=$E$1,AH88+$E88,0),IF(AK$2=\"Repair %\",IF(AH88>0,$C88,0),IF(AK$2=\"Spares %\",IF(IF(AF88>0,$C88,0)*5>80%,50%,IF(AF88>0,$C88,0)*5),0))))","v":0},{"$f":"IF(AK88=0,0,IF(AL$2=\"Year\",IF(_xlfn.MAXIFS($N88:AK88,$N$2:AK$2,\"Year\")+$E88<=$E$1,AI88+$E88,0),IF(AL$2=\"Repair %\",IF(AI88>0,$C$3,0),IF(AL$2=\"Spares %\",IF(IF(AI88>0,$C88,0)*100>50%,50%,IF(AI88>0,$C88,0)*100),0))))","v":0},{"$f":"IF(AL88=0,0,IF(AM$2=\"Year\",IF(_xlfn.MAXIFS($N88:AL88,$N$2:AL$2,\"Year\")+$E88<=$E$1,AJ88+$E88,0),IF(AM$2=\"Repair %\",IF(AJ88>0,$C88,0),IF(AM$2=\"Spares %\",IF(IF(AJ88>0,$C88,0)*100>50%,50%,IF(AJ88>0,$C88,0)*100),0))))","v":0},{"$f":"IF(AM88=0,0,IF(AN$2=\"Year\",IF(_xlfn.MAXIFS($N88:AM88,$N$2:AM$2,\"Year\")+$E88<=$E$1,AK88+$E88,0),IF(AN$2=\"Repair %\",IF(AK88>0,$C88,0),IF(AN$2=\"Spares %\",IF(IF(AI88>0,$C88,0)*5>80%,50%,IF(AI88>0,$C88,0)*5),0))))","v":0},{"$f":"IF(AN88=0,0,IF(AO$2=\"Year\",IF(_xlfn.MAXIFS($N88:AN88,$N$2:AN$2,\"Year\")+$E88<=$E$1,AL88+$E88,0),IF(AO$2=\"Repair %\",IF(AL88>0,$C$3,0),IF(AO$2=\"Spares %\",IF(IF(AL88>0,$C88,0)*100>50%,50%,IF(AL88>0,$C88,0)*100),0))))","v":0},{"$f":"IF(AO88=0,0,IF(AP$2=\"Year\",IF(_xlfn.MAXIFS($N88:AO88,$N$2:AO$2,\"Year\")+$E88<=$E$1,AM88+$E88,0),IF(AP$2=\"Repair %\",IF(AM88>0,$C88,0),IF(AP$2=\"Spares %\",IF(IF(AM88>0,$C88,0)*100>50%,50%,IF(AM88>0,$C88,0)*100),0))))","v":0},{"$f":"IF(AP88=0,0,IF(AQ$2=\"Year\",IF(_xlfn.MAXIFS($N88:AP88,$N$2:AP$2,\"Year\")+$E88<=$E$1,AN88+$E88,0),IF(AQ$2=\"Repair %\",IF(AN88>0,$C88,0),IF(AQ$2=\"Spares %\",IF(IF(AL88>0,$C88,0)*5>80%,50%,IF(AL88>0,$C88,0)*5),0))))","v":0}]
[{"$f":"INDEX('Avionics ID'!A:E,MATCH(B89,'Avionics ID'!E:E,0),1)","v":804},"Flight Guidance System (A/Pilot)",0.1,0.06,10,"Obsolecence",{"$f":"SUBSTITUTE(ADDRESS(1,MATCH(A89,'Pt1-AvionicsComponentCosts'!$A$6:$NC$6,0)+1),\"$1\",\"\")","v":"$N"},{"$f":"_xlfn.TEXTJOIN(\", \",TRUE,_xlfn.UNIQUE(_xlfn._xlws.SORT(_xlfn._xlws.FILTER('Pt1-AvionicsComponentCosts'!$NF$12:$NF$384,ISNUMBER(INDIRECT(\"'Pt1-AvionicsComponentCosts'!\"&G89&\"$12:\"&G89&\"$384\"))))))","v":"A350, ARJ, B747, B777, B787, Challenger, Citation, CRJ, E550, EMB Bizjet, EMB Regional, Falcon, Global, Gulfstream, Hawker, Hondajet, Learjet, Nextant 400XT, PC-24, Phenom, Praetor, Reg TP, SF50, Superjet 100, Turbine GA"},null,0.06,0.1,0.40600000000000003,2.077,{"$f":"COUNTIF($N$2:N$2,\"Year\")*$G$1","v":10},null,1,{"$f":"COUNTIF($N$2:Q$2,\"Year\")*$G$1","v":20},{"$f":"IF(Q89=0,0,IF(R$2=\"Year\",IF(_xlfn.MAXIFS($N89:Q89,$N$2:Q$2,\"Year\")+$E89<=$E$1,O89+$E89,0),IF(R$2=\"Repair %\",IF(O89>0,$C89,0),IF(R$2=\"Spares %\",IF(IF(O89>0,$C89,0)*100>50%,50%,IF(O89>0,$C89,0)*100),0))))","v":0},1,{"$f":"COUNTIF($N$2:T$2,\"Year\")*$G$1","v":30},{"$f":"IF(T89=0,0,IF(U$2=\"Year\",IF(_xlfn.MAXIFS($N89:T89,$N$2:T$2,\"Year\")+$E89<=$E$1,R89+$E89,0),IF(U$2=\"Repair %\",IF(R89>0,$C89,0),IF(U$2=\"Spares %\",IF(IF(R89>0,$C89,0)*100>50%,50%,IF(R89>0,$C89,0)*100),0))))","v":0},1,{"$f":"COUNTIF($N$2:W$2,\"Year\")*$G$1","v":40},{"$f":"IF(W89=0,0,IF(X$2=\"Year\",IF(_xlfn.MAXIFS($N89:W89,$N$2:W$2,\"Year\")+$E89<=$E$1,U89+$E89,0),IF(X$2=\"Repair %\",IF(U89>0,$C89,0),IF(X$2=\"Spares %\",IF(IF(U89>0,$C89,0)*100>50%,50%,IF(U89>0,$C89,0)*100),0))))","v":0},1,{"$f":"IF(Y89=0,0,IF(Z$2=\"Year\",IF(_xlfn.MAXIFS($N89:Y89,$N$2:Y$2,\"Year\")+$E89<=$E$1,W89+$E89,0),IF(Z$2=\"Repair %\",IF(W89>0,$C$3,0),IF(Z$2=\"Spares %\",IF(IF(W89>0,$C89,0)*100>50%,50%,IF(W89>0,$C89,0)*100),0))))","v":0},{"$f":"IF(Z89=0,0,IF(AA$2=\"Year\",IF(_xlfn.MAXIFS($N89:Z89,$N$2:Z$2,\"Year\")+$E89<=$E$1,X89+$E89,0),IF(AA$2=\"Repair %\",IF(X89>0,$C89,0),IF(AA$2=\"Spares %\",IF(IF(X89>0,$C89,0)*100>50%,50%,IF(X89>0,$C89,0)*100),0))))","v":0},{"$f":"IF(AA89=0,0,IF(AB$2=\"Year\",IF(_xlfn.MAXIFS($N89:AA89,$N$2:AA$2,\"Year\")+$E89<=$E$1,Y89+$E89,0),IF(AB$2=\"Repair %\",IF(Y89>0,$C89,0),IF(AB$2=\"Spares %\",IF(IF(W89>0,$C89,0)*5>80%,50%,IF(W89>0,$C89,0)*5),0))))","v":0},{"$f":"IF(AB89=0,0,IF(AC$2=\"Year\",IF(_xlfn.MAXIFS($N89:AB89,$N$2:AB$2,\"Year\")+$E89<=$E$1,Z89+$E89,0),IF(AC$2=\"Repair %\",IF(Z89>0,$C$3,0),IF(AC$2=\"Spares %\",IF(IF(Z89>0,$C89,0)*100>50%,50%,IF(Z89>0,$C89,0)*100),0))))","v":0},{"$f":"IF(AC89=0,0,IF(AD$2=\"Year\",IF(_xlfn.MAXIFS($N89:AC89,$N$2:AC$2,\"Year\")+$E89<=$E$1,AA89+$E89,0),IF(AD$2=\"Repair %\",IF(AA89>0,$C89,0),IF(AD$2=\"Spares %\",IF(IF(AA89>0,$C89,0)*100>50%,50%,IF(AA89>0,$C89,0)*100),0))))","v":0},{"$f":"IF(AD89=0,0,IF(AE$2=\"Year\",IF(_xlfn.MAXIFS($N89:AD89,$N$2:AD$2,\"Year\")+$E89<=$E$1,AB89+$E89,0),IF(AE$2=\"Repair %\",IF(AB89>0,$C89,0),IF(AE$2=\"Spares %\",IF(IF(Z89>0,$C89,0)*5>80%,50%,IF(Z89>0,$C89,0)*5),0))))","v":0},{"$f":"IF(AE89=0,0,IF(AF$2=\"Year\",IF(_xlfn.MAXIFS($N89:AE89,$N$2:AE$2,\"Year\")+$E89<=$E$1,AC89+$E89,0),IF(AF$2=\"Repair %\",IF(AC89>0,$C$3,0),IF(AF$2=\"Spares %\",IF(IF(AC89>0,$C89,0)*100>50%,50%,IF(AC89>0,$C89,0)*100),0))))","v":0},{"$f":"IF(AF89=0,0,IF(AG$2=\"Year\",IF(_xlfn.MAXIFS($N89:AF89,$N$2:AF$2,\"Year\")+$E89<=$E$1,AD89+$E89,0),IF(AG$2=\"Repair %\",IF(AD89>0,$C89,0),IF(AG$2=\"Spares %\",IF(IF(AD89>0,$C89,0)*100>50%,50%,IF(AD89>0,$C89,0)*100),0))))","v":0},{"$f":"IF(AG89=0,0,IF(AH$2=\"Year\",IF(_xlfn.MAXIFS($N89:AG89,$N$2:AG$2,\"Year\")+$E89<=$E$1,AE89+$E89,0),IF(AH$2=\"Repair %\",IF(AE89>0,$C89,0),IF(AH$2=\"Spares %\",IF(IF(AC89>0,$C89,0)*5>80%,50%,IF(AC89>0,$C89,0)*5),0))))","v":0},{"$f":"IF(AH89=0,0,IF(AI$2=\"Year\",IF(_xlfn.MAXIFS($N89:AH89,$N$2:AH$2,\"Year\")+$E89<=$E$1,AF89+$E89,0),IF(AI$2=\"Repair %\",IF(AF89>0,$C$3,0),IF(AI$2=\"Spares %\",IF(IF(AF89>0,$C89,0)*100>50%,50%,IF(AF89>0,$C89,0)*100),0))))","v":0},{"$f":"IF(AI89=0,0,IF(AJ$2=\"Year\",IF(_xlfn.MAXIFS($N89:AI89,$N$2:AI$2,\"Year\")+$E89<=$E$1,AG89+$E89,0),IF(AJ$2=\"Repair %\",IF(AG89>0,$C89,0),IF(AJ$2=\"Spares %\",IF(IF(AG89>0,$C89,0)*100>50%,50%,IF(AG89>0,$C89,0)*100),0))))","v":0},{"$f":"IF(AJ89=0,0,IF(AK$2=\"Year\",IF(_xlfn.MAXIFS($N89:AJ89,$N$2:AJ$2,\"Year\")+$E89<=$E$1,AH89+$E89,0),IF(AK$2=\"Repair %\",IF(AH89>0,$C89,0),IF(AK$2=\"Spares %\",IF(IF(AF89>0,$C89,0)*5>80%,50%,IF(AF89>0,$C89,0)*5),0))))","v":0},{"$f":"IF(AK89=0,0,IF(AL$2=\"Year\",IF(_xlfn.MAXIFS($N89:AK89,$N$2:AK$2,\"Year\")+$E89<=$E$1,AI89+$E89,0),IF(AL$2=\"Repair %\",IF(AI89>0,$C$3,0),IF(AL$2=\"Spares %\",IF(IF(AI89>0,$C89,0)*100>50%,50%,IF(AI89>0,$C89,0)*100),0))))","v":0},{"$f":"IF(AL89=0,0,IF(AM$2=\"Year\",IF(_xlfn.MAXIFS($N89:AL89,$N$2:AL$2,\"Year\")+$E89<=$E$1,AJ89+$E89,0),IF(AM$2=\"Repair %\",IF(AJ89>0,$C89,0),IF(AM$2=\"Spares %\",IF(IF(AJ89>0,$C89,0)*100>50%,50%,IF(AJ89>0,$C89,0)*100),0))))","v":0},{"$f":"IF(AM89=0,0,IF(AN$2=\"Year\",IF(_xlfn.MAXIFS($N89:AM89,$N$2:AM$2,\"Year\")+$E89<=$E$1,AK89+$E89,0),IF(AN$2=\"Repair %\",IF(AK89>0,$C89,0),IF(AN$2=\"Spares %\",IF(IF(AI89>0,$C89,0)*5>80%,50%,IF(AI89>0,$C89,0)*5),0))))","v":0},{"$f":"IF(AN89=0,0,IF(AO$2=\"Year\",IF(_xlfn.MAXIFS($N89:AN89,$N$2:AN$2,\"Year\")+$E89<=$E$1,AL89+$E89,0),IF(AO$2=\"Repair %\",IF(AL89>0,$C$3,0),IF(AO$2=\"Spares %\",IF(IF(AL89>0,$C89,0)*100>50%,50%,IF(AL89>0,$C89,0)*100),0))))","v":0},{"$f":"IF(AO89=0,0,IF(AP$2=\"Year\",IF(_xlfn.MAXIFS($N89:AO89,$N$2:AO$2,\"Year\")+$E89<=$E$1,AM89+$E89,0),IF(AP$2=\"Repair %\",IF(AM89>0,$C89,0),IF(AP$2=\"Spares %\",IF(IF(AM89>0,$C89,0)*100>50%,50%,IF(AM89>0,$C89,0)*100),0))))","v":0},{"$f":"IF(AP89=0,0,IF(AQ$2=\"Year\",IF(_xlfn.MAXIFS($N89:AP89,$N$2:AP$2,\"Year\")+$E89<=$E$1,AN89+$E89,0),IF(AQ$2=\"Repair %\",IF(AN89>0,$C89,0),IF(AQ$2=\"Spares %\",IF(IF(AL89>0,$C89,0)*5>80%,50%,IF(AL89>0,$C89,0)*5),0))))","v":0}]
[{"$f":"INDEX('Avionics ID'!A:E,MATCH(B90,'Avionics ID'!E:E,0),1)","v":835},"Flight Management System",0.2,0.06,5,"Technology / regulatory",{"$f":"SUBSTITUTE(ADDRESS(1,MATCH(A90,'Pt1-AvionicsComponentCosts'!$A$6:$NC$6,0)+1),\"$1\",\"\")","v":"$GN"},{"$f":"_xlfn.TEXTJOIN(\", \",TRUE,_xlfn.UNIQUE(_xlfn._xlws.SORT(_xlfn._xlws.FILTER('Pt1-AvionicsComponentCosts'!$NF$12:$NF$384,ISNUMBER(INDIRECT(\"'Pt1-AvionicsComponentCosts'!\"&G90&\"$12:\"&G90&\"$384\"))))))","v":"A330 LMXT, A330 MRTT, Mil Transport, Military Jet, Military TP"},null,0.06,0.2,0.371,1.2310000000000001,{"$f":"COUNTIF($N$2:N$2,\"Year\")*$G$1","v":10},null,1,{"$f":"COUNTIF($N$2:Q$2,\"Year\")*$G$1","v":20},{"$f":"IF(Q90=0,0,IF(R$2=\"Year\",IF(_xlfn.MAXIFS($N90:Q90,$N$2:Q$2,\"Year\")+$E90<=$E$1,O90+$E90,0),IF(R$2=\"Repair %\",IF(O90>0,$C90,0),IF(R$2=\"Spares %\",IF(IF(O90>0,$C90,0)*100>50%,50%,IF(O90>0,$C90,0)*100),0))))","v":0},1,{"$f":"COUNTIF($N$2:T$2,\"Year\")*$G$1","v":30},{"$f":"IF(T90=0,0,IF(U$2=\"Year\",IF(_xlfn.MAXIFS($N90:T90,$N$2:T$2,\"Year\")+$E90<=$E$1,R90+$E90,0),IF(U$2=\"Repair %\",IF(R90>0,$C90,0),IF(U$2=\"Spares %\",IF(IF(R90>0,$C90,0)*100>50%,50%,IF(R90>0,$C90,0)*100),0))))","v":0},1,{"$f":"COUNTIF($N$2:W$2,\"Year\")*$G$1","v":40},{"$f":"IF(W90=0,0,IF(X$2=\"Year\",IF(_xlfn.MAXIFS($N90:W90,$N$2:W$2,\"Year\")+$E90<=$E$1,U90+$E90,0),IF(X$2=\"Repair %\",IF(U90>0,$C90,0),IF(X$2=\"Spares %\",IF(IF(U90>0,$C90,0)*100>50%,50%,IF(U90>0,$C90,0)*100),0))))","v":0},1,{"$f":"IF(Y90=0,0,IF(Z$2=\"Year\",IF(_xlfn.MAXIFS($N90:Y90,$N$2:Y$2,\"Year\")+$E90<=$E$1,W90+$E90,0),IF(Z$2=\"Repair %\",IF(W90>0,$C$3,0),IF(Z$2=\"Spares %\",IF(IF(W90>0,$C90,0)*100>50%,50%,IF(W90>0,$C90,0)*100),0))))","v":0},{"$f":"IF(Z90=0,0,IF(AA$2=\"Year\",IF(_xlfn.MAXIFS($N90:Z90,$N$2:Z$2,\"Year\")+$E90<=$E$1,X90+$E90,0),IF(AA$2=\"Repair %\",IF(X90>0,$C90,0),IF(AA$2=\"Spares %\",IF(IF(X90>0,$C90,0)*100>50%,50%,IF(X90>0,$C90,0)*100),0))))","v":0},{"$f":"IF(AA90=0,0,IF(AB$2=\"Year\",IF(_xlfn.MAXIFS($N90:AA90,$N$2:AA$2,\"Year\")+$E90<=$E$1,Y90+$E90,0),IF(AB$2=\"Repair %\",IF(Y90>0,$C90,0),IF(AB$2=\"Spares %\",IF(IF(W90>0,$C90,0)*5>80%,50%,IF(W90>0,$C90,0)*5),0))))","v":0},{"$f":"IF(AB90=0,0,IF(AC$2=\"Year\",IF(_xlfn.MAXIFS($N90:AB90,$N$2:AB$2,\"Year\")+$E90<=$E$1,Z90+$E90,0),IF(AC$2=\"Repair %\",IF(Z90>0,$C$3,0),IF(AC$2=\"Spares %\",IF(IF(Z90>0,$C90,0)*100>50%,50%,IF(Z90>0,$C90,0)*100),0))))","v":0},{"$f":"IF(AC90=0,0,IF(AD$2=\"Year\",IF(_xlfn.MAXIFS($N90:AC90,$N$2:AC$2,\"Year\")+$E90<=$E$1,AA90+$E90,0),IF(AD$2=\"Repair %\",IF(AA90>0,$C90,0),IF(AD$2=\"Spares %\",IF(IF(AA90>0,$C90,0)*100>50%,50%,IF(AA90>0,$C90,0)*100),0))))","v":0},{"$f":"IF(AD90=0,0,IF(AE$2=\"Year\",IF(_xlfn.MAXIFS($N90:AD90,$N$2:AD$2,\"Year\")+$E90<=$E$1,AB90+$E90,0),IF(AE$2=\"Repair %\",IF(AB90>0,$C90,0),IF(AE$2=\"Spares %\",IF(IF(Z90>0,$C90,0)*5>80%,50%,IF(Z90>0,$C90,0)*5),0))))","v":0},{"$f":"IF(AE90=0,0,IF(AF$2=\"Year\",IF(_xlfn.MAXIFS($N90:AE90,$N$2:AE$2,\"Year\")+$E90<=$E$1,AC90+$E90,0),IF(AF$2=\"Repair %\",IF(AC90>0,$C$3,0),IF(AF$2=\"Spares %\",IF(IF(AC90>0,$C90,0)*100>50%,50%,IF(AC90>0,$C90,0)*100),0))))","v":0},{"$f":"IF(AF90=0,0,IF(AG$2=\"Year\",IF(_xlfn.MAXIFS($N90:AF90,$N$2:AF$2,\"Year\")+$E90<=$E$1,AD90+$E90,0),IF(AG$2=\"Repair %\",IF(AD90>0,$C90,0),IF(AG$2=\"Spares %\",IF(IF(AD90>0,$C90,0)*100>50%,50%,IF(AD90>0,$C90,0)*100),0))))","v":0},{"$f":"IF(AG90=0,0,IF(AH$2=\"Year\",IF(_xlfn.MAXIFS($N90:AG90,$N$2:AG$2,\"Year\")+$E90<=$E$1,AE90+$E90,0),IF(AH$2=\"Repair %\",IF(AE90>0,$C90,0),IF(AH$2=\"Spares %\",IF(IF(AC90>0,$C90,0)*5>80%,50%,IF(AC90>0,$C90,0)*5),0))))","v":0},{"$f":"IF(AH90=0,0,IF(AI$2=\"Year\",IF(_xlfn.MAXIFS($N90:AH90,$N$2:AH$2,\"Year\")+$E90<=$E$1,AF90+$E90,0),IF(AI$2=\"Repair %\",IF(AF90>0,$C$3,0),IF(AI$2=\"Spares %\",IF(IF(AF90>0,$C90,0)*100>50%,50%,IF(AF90>0,$C90,0)*100),0))))","v":0},{"$f":"IF(AI90=0,0,IF(AJ$2=\"Year\",IF(_xlfn.MAXIFS($N90:AI90,$N$2:AI$2,\"Year\")+$E90<=$E$1,AG90+$E90,0),IF(AJ$2=\"Repair %\",IF(AG90>0,$C90,0),IF(AJ$2=\"Spares %\",IF(IF(AG90>0,$C90,0)*100>50%,50%,IF(AG90>0,$C90,0)*100),0))))","v":0},{"$f":"IF(AJ90=0,0,IF(AK$2=\"Year\",IF(_xlfn.MAXIFS($N90:AJ90,$N$2:AJ$2,\"Year\")+$E90<=$E$1,AH90+$E90,0),IF(AK$2=\"Repair %\",IF(AH90>0,$C90,0),IF(AK$2=\"Spares %\",IF(IF(AF90>0,$C90,0)*5>80%,50%,IF(AF90>0,$C90,0)*5),0))))","v":0},{"$f":"IF(AK90=0,0,IF(AL$2=\"Year\",IF(_xlfn.MAXIFS($N90:AK90,$N$2:AK$2,\"Year\")+$E90<=$E$1,AI90+$E90,0),IF(AL$2=\"Repair %\",IF(AI90>0,$C$3,0),IF(AL$2=\"Spares %\",IF(IF(AI90>0,$C90,0)*100>50%,50%,IF(AI90>0,$C90,0)*100),0))))","v":0},{"$f":"IF(AL90=0,0,IF(AM$2=\"Year\",IF(_xlfn.MAXIFS($N90:AL90,$N$2:AL$2,\"Year\")+$E90<=$E$1,AJ90+$E90,0),IF(AM$2=\"Repair %\",IF(AJ90>0,$C90,0),IF(AM$2=\"Spares %\",IF(IF(AJ90>0,$C90,0)*100>50%,50%,IF(AJ90>0,$C90,0)*100),0))))","v":0},{"$f":"IF(AM90=0,0,IF(AN$2=\"Year\",IF(_xlfn.MAXIFS($N90:AM90,$N$2:AM$2,\"Year\")+$E90<=$E$1,AK90+$E90,0),IF(AN$2=\"Repair %\",IF(AK90>0,$C90,0),IF(AN$2=\"Spares %\",IF(IF(AI90>0,$C90,0)*5>80%,50%,IF(AI90>0,$C90,0)*5),0))))","v":0},{"$f":"IF(AN90=0,0,IF(AO$2=\"Year\",IF(_xlfn.MAXIFS($N90:AN90,$N$2:AN$2,\"Year\")+$E90<=$E$1,AL90+$E90,0),IF(AO$2=\"Repair %\",IF(AL90>0,$C$3,0),IF(AO$2=\"Spares %\",IF(IF(AL90>0,$C90,0)*100>50%,50%,IF(AL90>0,$C90,0)*100),0))))","v":0},{"$f":"IF(AO90=0,0,IF(AP$2=\"Year\",IF(_xlfn.MAXIFS($N90:AO90,$N$2:AO$2,\"Year\")+$E90<=$E$1,AM90+$E90,0),IF(AP$2=\"Repair %\",IF(AM90>0,$C90,0),IF(AP$2=\"Spares %\",IF(IF(AM90>0,$C90,0)*100>50%,50%,IF(AM90>0,$C90,0)*100),0))))","v":0},{"$f":"IF(AP90=0,0,IF(AQ$2=\"Year\",IF(_xlfn.MAXIFS($N90:AP90,$N$2:AP$2,\"Year\")+$E90<=$E$1,AN90+$E90,0),IF(AQ$2=\"Repair %\",IF(AN90>0,$C90,0),IF(AQ$2=\"Spares %\",IF(IF(AL90>0,$C90,0)*5>80%,50%,IF(AL90>0,$C90,0)*5),0))))","v":0}]
[{"$f":"INDEX('Avionics ID'!A:E,MATCH(B91,'Avionics ID'!E:E,0),1)","v":716},"Flight Warning Computer (FWC)",0.1,0.06,10,"Obsolecence",{"$f":"SUBSTITUTE(ADDRESS(1,MATCH(A91,'Pt1-AvionicsComponentCosts'!$A$6:$NC$6,0)+1),\"$1\",\"\")","v":"$GP"},{"$f":"_xlfn.TEXTJOIN(\", \",TRUE,_xlfn.UNIQUE(_xlfn._xlws.SORT(_xlfn._xlws.FILTER('Pt1-AvionicsComponentCosts'!$NF$12:$NF$384,ISNUMBER(INDIRECT(\"'Pt1-AvionicsComponentCosts'!\"&G91&\"$12:\"&G91&\"$384\"))))))","v":"A220, A300, A320, A321, A330, A340, A350, A380, ATR, B717, B737, B747, B757, B767, B777, C919, EMB Regional, MC-21, MD-11, Mil Transport, Military Jet, NSA"},null,0.06,0.1,0.371,1.2310000000000001,{"$f":"COUNTIF($N$2:N$2,\"Year\")*$G$1","v":10},null,1,{"$f":"COUNTIF($N$2:Q$2,\"Year\")*$G$1","v":20},{"$f":"IF(Q91=0,0,IF(R$2=\"Year\",IF(_xlfn.MAXIFS($N91:Q91,$N$2:Q$2,\"Year\")+$E91<=$E$1,O91+$E91,0),IF(R$2=\"Repair %\",IF(O91>0,$C91,0),IF(R$2=\"Spares %\",IF(IF(O91>0,$C91,0)*100>50%,50%,IF(O91>0,$C91,0)*100),0))))","v":0},1,{"$f":"COUNTIF($N$2:T$2,\"Year\")*$G$1","v":30},{"$f":"IF(T91=0,0,IF(U$2=\"Year\",IF(_xlfn.MAXIFS($N91:T91,$N$2:T$2,\"Year\")+$E91<=$E$1,R91+$E91,0),IF(U$2=\"Repair %\",IF(R91>0,$C91,0),IF(U$2=\"Spares %\",IF(IF(R91>0,$C91,0)*100>50%,50%,IF(R91>0,$C91,0)*100),0))))","v":0},1,{"$f":"COUNTIF($N$2:W$2,\"Year\")*$G$1","v":40},{"$f":"IF(W91=0,0,IF(X$2=\"Year\",IF(_xlfn.MAXIFS($N91:W91,$N$2:W$2,\"Year\")+$E91<=$E$1,U91+$E91,0),IF(X$2=\"Repair %\",IF(U91>0,$C91,0),IF(X$2=\"Spares %\",IF(IF(U91>0,$C91,0)*100>50%,50%,IF(U91>0,$C91,0)*100),0))))","v":0},1,{"$f":"IF(Y91=0,0,IF(Z$2=\"Year\",IF(_xlfn.MAXIFS($N91:Y91,$N$2:Y$2,\"Year\")+$E91<=$E$1,W91+$E91,0),IF(Z$2=\"Repair %\",IF(W91>0,$C$3,0),IF(Z$2=\"Spares %\",IF(IF(W91>0,$C91,0)*100>50%,50%,IF(W91>0,$C91,0)*100),0))))","v":0},{"$f":"IF(Z91=0,0,IF(AA$2=\"Year\",IF(_xlfn.MAXIFS($N91:Z91,$N$2:Z$2,\"Year\")+$E91<=$E$1,X91+$E91,0),IF(AA$2=\"Repair %\",IF(X91>0,$C91,0),IF(AA$2=\"Spares %\",IF(IF(X91>0,$C91,0)*100>50%,50%,IF(X91>0,$C91,0)*100),0))))","v":0},{"$f":"IF(AA91=0,0,IF(AB$2=\"Year\",IF(_xlfn.MAXIFS($N91:AA91,$N$2:AA$2,\"Year\")+$E91<=$E$1,Y91+$E91,0),IF(AB$2=\"Repair %\",IF(Y91>0,$C91,0),IF(AB$2=\"Spares %\",IF(IF(W91>0,$C91,0)*5>80%,50%,IF(W91>0,$C91,0)*5),0))))","v":0},{"$f":"IF(AB91=0,0,IF(AC$2=\"Year\",IF(_xlfn.MAXIFS($N91:AB91,$N$2:AB$2,\"Year\")+$E91<=$E$1,Z91+$E91,0),IF(AC$2=\"Repair %\",IF(Z91>0,$C$3,0),IF(AC$2=\"Spares %\",IF(IF(Z91>0,$C91,0)*100>50%,50%,IF(Z91>0,$C91,0)*100),0))))","v":0},{"$f":"IF(AC91=0,0,IF(AD$2=\"Year\",IF(_xlfn.MAXIFS($N91:AC91,$N$2:AC$2,\"Year\")+$E91<=$E$1,AA91+$E91,0),IF(AD$2=\"Repair %\",IF(AA91>0,$C91,0),IF(AD$2=\"Spares %\",IF(IF(AA91>0,$C91,0)*100>50%,50%,IF(AA91>0,$C91,0)*100),0))))","v":0},{"$f":"IF(AD91=0,0,IF(AE$2=\"Year\",IF(_xlfn.MAXIFS($N91:AD91,$N$2:AD$2,\"Year\")+$E91<=$E$1,AB91+$E91,0),IF(AE$2=\"Repair %\",IF(AB91>0,$C91,0),IF(AE$2=\"Spares %\",IF(IF(Z91>0,$C91,0)*5>80%,50%,IF(Z91>0,$C91,0)*5),0))))","v":0},{"$f":"IF(AE91=0,0,IF(AF$2=\"Year\",IF(_xlfn.MAXIFS($N91:AE91,$N$2:AE$2,\"Year\")+$E91<=$E$1,AC91+$E91,0),IF(AF$2=\"Repair %\",IF(AC91>0,$C$3,0),IF(AF$2=\"Spares %\",IF(IF(AC91>0,$C91,0)*100>50%,50%,IF(AC91>0,$C91,0)*100),0))))","v":0},{"$f":"IF(AF91=0,0,IF(AG$2=\"Year\",IF(_xlfn.MAXIFS($N91:AF91,$N$2:AF$2,\"Year\")+$E91<=$E$1,AD91+$E91,0),IF(AG$2=\"Repair %\",IF(AD91>0,$C91,0),IF(AG$2=\"Spares %\",IF(IF(AD91>0,$C91,0)*100>50%,50%,IF(AD91>0,$C91,0)*100),0))))","v":0},{"$f":"IF(AG91=0,0,IF(AH$2=\"Year\",IF(_xlfn.MAXIFS($N91:AG91,$N$2:AG$2,\"Year\")+$E91<=$E$1,AE91+$E91,0),IF(AH$2=\"Repair %\",IF(AE91>0,$C91,0),IF(AH$2=\"Spares %\",IF(IF(AC91>0,$C91,0)*5>80%,50%,IF(AC91>0,$C91,0)*5),0))))","v":0},{"$f":"IF(AH91=0,0,IF(AI$2=\"Year\",IF(_xlfn.MAXIFS($N91:AH91,$N$2:AH$2,\"Year\")+$E91<=$E$1,AF91+$E91,0),IF(AI$2=\"Repair %\",IF(AF91>0,$C$3,0),IF(AI$2=\"Spares %\",IF(IF(AF91>0,$C91,0)*100>50%,50%,IF(AF91>0,$C91,0)*100),0))))","v":0},{"$f":"IF(AI91=0,0,IF(AJ$2=\"Year\",IF(_xlfn.MAXIFS($N91:AI91,$N$2:AI$2,\"Year\")+$E91<=$E$1,AG91+$E91,0),IF(AJ$2=\"Repair %\",IF(AG91>0,$C91,0),IF(AJ$2=\"Spares %\",IF(IF(AG91>0,$C91,0)*100>50%,50%,IF(AG91>0,$C91,0)*100),0))))","v":0},{"$f":"IF(AJ91=0,0,IF(AK$2=\"Year\",IF(_xlfn.MAXIFS($N91:AJ91,$N$2:AJ$2,\"Year\")+$E91<=$E$1,AH91+$E91,0),IF(AK$2=\"Repair %\",IF(AH91>0,$C91,0),IF(AK$2=\"Spares %\",IF(IF(AF91>0,$C91,0)*5>80%,50%,IF(AF91>0,$C91,0)*5),0))))","v":0},{"$f":"IF(AK91=0,0,IF(AL$2=\"Year\",IF(_xlfn.MAXIFS($N91:AK91,$N$2:AK$2,\"Year\")+$E91<=$E$1,AI91+$E91,0),IF(AL$2=\"Repair %\",IF(AI91>0,$C$3,0),IF(AL$2=\"Spares %\",IF(IF(AI91>0,$C91,0)*100>50%,50%,IF(AI91>0,$C91,0)*100),0))))","v":0},{"$f":"IF(AL91=0,0,IF(AM$2=\"Year\",IF(_xlfn.MAXIFS($N91:AL91,$N$2:AL$2,\"Year\")+$E91<=$E$1,AJ91+$E91,0),IF(AM$2=\"Repair %\",IF(AJ91>0,$C91,0),IF(AM$2=\"Spares %\",IF(IF(AJ91>0,$C91,0)*100>50%,50%,IF(AJ91>0,$C91,0)*100),0))))","v":0},{"$f":"IF(AM91=0,0,IF(AN$2=\"Year\",IF(_xlfn.MAXIFS($N91:AM91,$N$2:AM$2,\"Year\")+$E91<=$E$1,AK91+$E91,0),IF(AN$2=\"Repair %\",IF(AK91>0,$C91,0),IF(AN$2=\"Spares %\",IF(IF(AI91>0,$C91,0)*5>80%,50%,IF(AI91>0,$C91,0)*5),0))))","v":0},{"$f":"IF(AN91=0,0,IF(AO$2=\"Year\",IF(_xlfn.MAXIFS($N91:AN91,$N$2:AN$2,\"Year\")+$E91<=$E$1,AL91+$E91,0),IF(AO$2=\"Repair %\",IF(AL91>0,$C$3,0),IF(AO$2=\"Spares %\",IF(IF(AL91>0,$C91,0)*100>50%,50%,IF(AL91>0,$C91,0)*100),0))))","v":0},{"$f":"IF(AO91=0,0,IF(AP$2=\"Year\",IF(_xlfn.MAXIFS($N91:AO91,$N$2:AO$2,\"Year\")+$E91<=$E$1,AM91+$E91,0),IF(AP$2=\"Repair %\",IF(AM91>0,$C91,0),IF(AP$2=\"Spares %\",IF(IF(AM91>0,$C91,0)*100>50%,50%,IF(AM91>0,$C91,0)*100),0))))","v":0},{"$f":"IF(AP91=0,0,IF(AQ$2=\"Year\",IF(_xlfn.MAXIFS($N91:AP91,$N$2:AP$2,\"Year\")+$E91<=$E$1,AN91+$E91,0),IF(AQ$2=\"Repair %\",IF(AN91>0,$C91,0),IF(AQ$2=\"Spares %\",IF(IF(AL91>0,$C91,0)*5>80%,50%,IF(AL91>0,$C91,0)*5),0))))","v":0}]
[{"$f":"INDEX('Avionics ID'!A:E,MATCH(B92,'Avionics ID'!E:E,0),1)","v":816},"FLIR sensors",0.05,0.06,20,"Obsolecence",{"$f":"SUBSTITUTE(ADDRESS(1,MATCH(A92,'Pt1-AvionicsComponentCosts'!$A$6:$NC$6,0)+1),\"$1\",\"\")","v":"$LB"},{"$f":"_xlfn.TEXTJOIN(\", \",TRUE,_xlfn.UNIQUE(_xlfn._xlws.SORT(_xlfn._xlws.FILTER('Pt1-AvionicsComponentCosts'!$NF$12:$NF$384,ISNUMBER(INDIRECT(\"'Pt1-AvionicsComponentCosts'!\"&G92&\"$12:\"&G92&\"$384\"))))))","v":"Mil Fighter"},null,0.06,0.05,0.33500000000000002,1.6830000000000001,{"$f":"COUNTIF($N$2:N$2,\"Year\")*$G$1","v":10},null,0,{"$f":"COUNTIF($N$2:Q$2,\"Year\")*$G$1","v":20},{"$f":"IF(Q92=0,0,IF(R$2=\"Year\",IF(_xlfn.MAXIFS($N92:Q92,$N$2:Q$2,\"Year\")+$E92<=$E$1,O92+$E92,0),IF(R$2=\"Repair %\",IF(O92>0,$C92,0),IF(R$2=\"Spares %\",IF(IF(O92>0,$C92,0)*100>50%,50%,IF(O92>0,$C92,0)*100),0))))","v":0},1,{"$f":"COUNTIF($N$2:T$2,\"Year\")*$G$1","v":30},{"$f":"IF(T92=0,0,IF(U$2=\"Year\",IF(_xlfn.MAXIFS($N92:T92,$N$2:T$2,\"Year\")+$E92<=$E$1,R92+$E92,0),IF(U$2=\"Repair %\",IF(R92>0,$C92,0),IF(U$2=\"Spares %\",IF(IF(R92>0,$C92,0)*100>50%,50%,IF(R92>0,$C92,0)*100),0))))","v":0},0,{"$f":"COUNTIF($N$2:W$2,\"Year\")*$G$1","v":40},{"$f":"IF(W92=0,0,IF(X$2=\"Year\",IF(_xlfn.MAXIFS($N92:W92,$N$2:W$2,\"Year\")+$E92<=$E$1,U92+$E92,0),IF(X$2=\"Repair %\",IF(U92>0,$C92,0),IF(X$2=\"Spares %\",IF(IF(U92>0,$C92,0)*100>50%,50%,IF(U92>0,$C92,0)*100),0))))","v":0},1,{"$f":"IF(Y92=0,0,IF(Z$2=\"Year\",IF(_xlfn.MAXIFS($N92:Y92,$N$2:Y$2,\"Year\")+$E92<=$E$1,W92+$E92,0),IF(Z$2=\"Repair %\",IF(W92>0,$C$3,0),IF(Z$2=\"Spares %\",IF(IF(W92>0,$C92,0)*100>50%,50%,IF(W92>0,$C92,0)*100),0))))","v":0},{"$f":"IF(Z92=0,0,IF(AA$2=\"Year\",IF(_xlfn.MAXIFS($N92:Z92,$N$2:Z$2,\"Year\")+$E92<=$E$1,X92+$E92,0),IF(AA$2=\"Repair %\",IF(X92>0,$C92,0),IF(AA$2=\"Spares %\",IF(IF(X92>0,$C92,0)*100>50%,50%,IF(X92>0,$C92,0)*100),0))))","v":0},{"$f":"IF(AA92=0,0,IF(AB$2=\"Year\",IF(_xlfn.MAXIFS($N92:AA92,$N$2:AA$2,\"Year\")+$E92<=$E$1,Y92+$E92,0),IF(AB$2=\"Repair %\",IF(Y92>0,$C92,0),IF(AB$2=\"Spares %\",IF(IF(W92>0,$C92,0)*5>80%,50%,IF(W92>0,$C92,0)*5),0))))","v":0},{"$f":"IF(AB92=0,0,IF(AC$2=\"Year\",IF(_xlfn.MAXIFS($N92:AB92,$N$2:AB$2,\"Year\")+$E92<=$E$1,Z92+$E92,0),IF(AC$2=\"Repair %\",IF(Z92>0,$C$3,0),IF(AC$2=\"Spares %\",IF(IF(Z92>0,$C92,0)*100>50%,50%,IF(Z92>0,$C92,0)*100),0))))","v":0},{"$f":"IF(AC92=0,0,IF(AD$2=\"Year\",IF(_xlfn.MAXIFS($N92:AC92,$N$2:AC$2,\"Year\")+$E92<=$E$1,AA92+$E92,0),IF(AD$2=\"Repair %\",IF(AA92>0,$C92,0),IF(AD$2=\"Spares %\",IF(IF(AA92>0,$C92,0)*100>50%,50%,IF(AA92>0,$C92,0)*100),0))))","v":0},{"$f":"IF(AD92=0,0,IF(AE$2=\"Year\",IF(_xlfn.MAXIFS($N92:AD92,$N$2:AD$2,\"Year\")+$E92<=$E$1,AB92+$E92,0),IF(AE$2=\"Repair %\",IF(AB92>0,$C92,0),IF(AE$2=\"Spares %\",IF(IF(Z92>0,$C92,0)*5>80%,50%,IF(Z92>0,$C92,0)*5),0))))","v":0},{"$f":"IF(AE92=0,0,IF(AF$2=\"Year\",IF(_xlfn.MAXIFS($N92:AE92,$N$2:AE$2,\"Year\")+$E92<=$E$1,AC92+$E92,0),IF(AF$2=\"Repair %\",IF(AC92>0,$C$3,0),IF(AF$2=\"Spares %\",IF(IF(AC92>0,$C92,0)*100>50%,50%,IF(AC92>0,$C92,0)*100),0))))","v":0},{"$f":"IF(AF92=0,0,IF(AG$2=\"Year\",IF(_xlfn.MAXIFS($N92:AF92,$N$2:AF$2,\"Year\")+$E92<=$E$1,AD92+$E92,0),IF(AG$2=\"Repair %\",IF(AD92>0,$C92,0),IF(AG$2=\"Spares %\",IF(IF(AD92>0,$C92,0)*100>50%,50%,IF(AD92>0,$C92,0)*100),0))))","v":0},{"$f":"IF(AG92=0,0,IF(AH$2=\"Year\",IF(_xlfn.MAXIFS($N92:AG92,$N$2:AG$2,\"Year\")+$E92<=$E$1,AE92+$E92,0),IF(AH$2=\"Repair %\",IF(AE92>0,$C92,0),IF(AH$2=\"Spares %\",IF(IF(AC92>0,$C92,0)*5>80%,50%,IF(AC92>0,$C92,0)*5),0))))","v":0},{"$f":"IF(AH92=0,0,IF(AI$2=\"Year\",IF(_xlfn.MAXIFS($N92:AH92,$N$2:AH$2,\"Year\")+$E92<=$E$1,AF92+$E92,0),IF(AI$2=\"Repair %\",IF(AF92>0,$C$3,0),IF(AI$2=\"Spares %\",IF(IF(AF92>0,$C92,0)*100>50%,50%,IF(AF92>0,$C92,0)*100),0))))","v":0},{"$f":"IF(AI92=0,0,IF(AJ$2=\"Year\",IF(_xlfn.MAXIFS($N92:AI92,$N$2:AI$2,\"Year\")+$E92<=$E$1,AG92+$E92,0),IF(AJ$2=\"Repair %\",IF(AG92>0,$C92,0),IF(AJ$2=\"Spares %\",IF(IF(AG92>0,$C92,0)*100>50%,50%,IF(AG92>0,$C92,0)*100),0))))","v":0},{"$f":"IF(AJ92=0,0,IF(AK$2=\"Year\",IF(_xlfn.MAXIFS($N92:AJ92,$N$2:AJ$2,\"Year\")+$E92<=$E$1,AH92+$E92,0),IF(AK$2=\"Repair %\",IF(AH92>0,$C92,0),IF(AK$2=\"Spares %\",IF(IF(AF92>0,$C92,0)*5>80%,50%,IF(AF92>0,$C92,0)*5),0))))","v":0},{"$f":"IF(AK92=0,0,IF(AL$2=\"Year\",IF(_xlfn.MAXIFS($N92:AK92,$N$2:AK$2,\"Year\")+$E92<=$E$1,AI92+$E92,0),IF(AL$2=\"Repair %\",IF(AI92>0,$C$3,0),IF(AL$2=\"Spares %\",IF(IF(AI92>0,$C92,0)*100>50%,50%,IF(AI92>0,$C92,0)*100),0))))","v":0},{"$f":"IF(AL92=0,0,IF(AM$2=\"Year\",IF(_xlfn.MAXIFS($N92:AL92,$N$2:AL$2,\"Year\")+$E92<=$E$1,AJ92+$E92,0),IF(AM$2=\"Repair %\",IF(AJ92>0,$C92,0),IF(AM$2=\"Spares %\",IF(IF(AJ92>0,$C92,0)*100>50%,50%,IF(AJ92>0,$C92,0)*100),0))))","v":0},{"$f":"IF(AM92=0,0,IF(AN$2=\"Year\",IF(_xlfn.MAXIFS($N92:AM92,$N$2:AM$2,\"Year\")+$E92<=$E$1,AK92+$E92,0),IF(AN$2=\"Repair %\",IF(AK92>0,$C92,0),IF(AN$2=\"Spares %\",IF(IF(AI92>0,$C92,0)*5>80%,50%,IF(AI92>0,$C92,0)*5),0))))","v":0},{"$f":"IF(AN92=0,0,IF(AO$2=\"Year\",IF(_xlfn.MAXIFS($N92:AN92,$N$2:AN$2,\"Year\")+$E92<=$E$1,AL92+$E92,0),IF(AO$2=\"Repair %\",IF(AL92>0,$C$3,0),IF(AO$2=\"Spares %\",IF(IF(AL92>0,$C92,0)*100>50%,50%,IF(AL92>0,$C92,0)*100),0))))","v":0},{"$f":"IF(AO92=0,0,IF(AP$2=\"Year\",IF(_xlfn.MAXIFS($N92:AO92,$N$2:AO$2,\"Year\")+$E92<=$E$1,AM92+$E92,0),IF(AP$2=\"Repair %\",IF(AM92>0,$C92,0),IF(AP$2=\"Spares %\",IF(IF(AM92>0,$C92,0)*100>50%,50%,IF(AM92>0,$C92,0)*100),0))))","v":0},{"$f":"IF(AP92=0,0,IF(AQ$2=\"Year\",IF(_xlfn.MAXIFS($N92:AP92,$N$2:AP$2,\"Year\")+$E92<=$E$1,AN92+$E92,0),IF(AQ$2=\"Repair %\",IF(AN92>0,$C92,0),IF(AQ$2=\"Spares %\",IF(IF(AL92>0,$C92,0)*5>80%,50%,IF(AL92>0,$C92,0)*5),0))))","v":0}]
[{"$f":"INDEX('Avionics ID'!A:E,MATCH(B93,'Avionics ID'!E:E,0),1)","v":709},"FMGC",0.2,0.06,5,"Technology / regulatory",{"$f":"SUBSTITUTE(ADDRESS(1,MATCH(A93,'Pt1-AvionicsComponentCosts'!$A$6:$NC$6,0)+1),\"$1\",\"\")","v":"$GR"},{"$f":"_xlfn.TEXTJOIN(\", \",TRUE,_xlfn.UNIQUE(_xlfn._xlws.SORT(_xlfn._xlws.FILTER('Pt1-AvionicsComponentCosts'!$NF$12:$NF$384,ISNUMBER(INDIRECT(\"'Pt1-AvionicsComponentCosts'!\"&G93&\"$12:\"&G93&\"$384\"))))))","v":"A220, A300, A320, A321, A330, A340, A350, A380, ARJ, ATR, B717, B737, B747, B757, B767, B777, B787, C919, Challenger, Citation, CRJ, E550, EMB Bizjet, EMB Regional, Falcon, Global, Gulfstream, Hawker, Hondajet, Learjet, MC-21, MD-11, Mil Transport, Military Jet, Nextant 400XT, NSA, PC-24, Phenom, Praetor, Reg TP, SF50, Superjet 100, Turbine GA"},null,0.06,0.2,0.371,1.2310000000000001,{"$f":"COUNTIF($N$2:N$2,\"Year\")*$G$1","v":10},null,1,{"$f":"COUNTIF($N$2:Q$2,\"Year\")*$G$1","v":20},{"$f":"IF(Q93=0,0,IF(R$2=\"Year\",IF(_xlfn.MAXIFS($N93:Q93,$N$2:Q$2,\"Year\")+$E93<=$E$1,O93+$E93,0),IF(R$2=\"Repair %\",IF(O93>0,$C93,0),IF(R$2=\"Spares %\",IF(IF(O93>0,$C93,0)*100>50%,50%,IF(O93>0,$C93,0)*100),0))))","v":0},1,{"$f":"COUNTIF($N$2:T$2,\"Year\")*$G$1","v":30},{"$f":"IF(T93=0,0,IF(U$2=\"Year\",IF(_xlfn.MAXIFS($N93:T93,$N$2:T$2,\"Year\")+$E93<=$E$1,R93+$E93,0),IF(U$2=\"Repair %\",IF(R93>0,$C93,0),IF(U$2=\"Spares %\",IF(IF(R93>0,$C93,0)*100>50%,50%,IF(R93>0,$C93,0)*100),0))))","v":0},1,{"$f":"COUNTIF($N$2:W$2,\"Year\")*$G$1","v":40},{"$f":"IF(W93=0,0,IF(X$2=\"Year\",IF(_xlfn.MAXIFS($N93:W93,$N$2:W$2,\"Year\")+$E93<=$E$1,U93+$E93,0),IF(X$2=\"Repair %\",IF(U93>0,$C93,0),IF(X$2=\"Spares %\",IF(IF(U93>0,$C93,0)*100>50%,50%,IF(U93>0,$C93,0)*100),0))))","v":0},1,{"$f":"IF(Y93=0,0,IF(Z$2=\"Year\",IF(_xlfn.MAXIFS($N93:Y93,$N$2:Y$2,\"Year\")+$E93<=$E$1,W93+$E93,0),IF(Z$2=\"Repair %\",IF(W93>0,$C$3,0),IF(Z$2=\"Spares %\",IF(IF(W93>0,$C93,0)*100>50%,50%,IF(W93>0,$C93,0)*100),0))))","v":0},{"$f":"IF(Z93=0,0,IF(AA$2=\"Year\",IF(_xlfn.MAXIFS($N93:Z93,$N$2:Z$2,\"Year\")+$E93<=$E$1,X93+$E93,0),IF(AA$2=\"Repair %\",IF(X93>0,$C93,0),IF(AA$2=\"Spares %\",IF(IF(X93>0,$C93,0)*100>50%,50%,IF(X93>0,$C93,0)*100),0))))","v":0},{"$f":"IF(AA93=0,0,IF(AB$2=\"Year\",IF(_xlfn.MAXIFS($N93:AA93,$N$2:AA$2,\"Year\")+$E93<=$E$1,Y93+$E93,0),IF(AB$2=\"Repair %\",IF(Y93>0,$C93,0),IF(AB$2=\"Spares %\",IF(IF(W93>0,$C93,0)*5>80%,50%,IF(W93>0,$C93,0)*5),0))))","v":0},{"$f":"IF(AB93=0,0,IF(AC$2=\"Year\",IF(_xlfn.MAXIFS($N93:AB93,$N$2:AB$2,\"Year\")+$E93<=$E$1,Z93+$E93,0),IF(AC$2=\"Repair %\",IF(Z93>0,$C$3,0),IF(AC$2=\"Spares %\",IF(IF(Z93>0,$C93,0)*100>50%,50%,IF(Z93>0,$C93,0)*100),0))))","v":0},{"$f":"IF(AC93=0,0,IF(AD$2=\"Year\",IF(_xlfn.MAXIFS($N93:AC93,$N$2:AC$2,\"Year\")+$E93<=$E$1,AA93+$E93,0),IF(AD$2=\"Repair %\",IF(AA93>0,$C93,0),IF(AD$2=\"Spares %\",IF(IF(AA93>0,$C93,0)*100>50%,50%,IF(AA93>0,$C93,0)*100),0))))","v":0},{"$f":"IF(AD93=0,0,IF(AE$2=\"Year\",IF(_xlfn.MAXIFS($N93:AD93,$N$2:AD$2,\"Year\")+$E93<=$E$1,AB93+$E93,0),IF(AE$2=\"Repair %\",IF(AB93>0,$C93,0),IF(AE$2=\"Spares %\",IF(IF(Z93>0,$C93,0)*5>80%,50%,IF(Z93>0,$C93,0)*5),0))))","v":0},{"$f":"IF(AE93=0,0,IF(AF$2=\"Year\",IF(_xlfn.MAXIFS($N93:AE93,$N$2:AE$2,\"Year\")+$E93<=$E$1,AC93+$E93,0),IF(AF$2=\"Repair %\",IF(AC93>0,$C$3,0),IF(AF$2=\"Spares %\",IF(IF(AC93>0,$C93,0)*100>50%,50%,IF(AC93>0,$C93,0)*100),0))))","v":0},{"$f":"IF(AF93=0,0,IF(AG$2=\"Year\",IF(_xlfn.MAXIFS($N93:AF93,$N$2:AF$2,\"Year\")+$E93<=$E$1,AD93+$E93,0),IF(AG$2=\"Repair %\",IF(AD93>0,$C93,0),IF(AG$2=\"Spares %\",IF(IF(AD93>0,$C93,0)*100>50%,50%,IF(AD93>0,$C93,0)*100),0))))","v":0},{"$f":"IF(AG93=0,0,IF(AH$2=\"Year\",IF(_xlfn.MAXIFS($N93:AG93,$N$2:AG$2,\"Year\")+$E93<=$E$1,AE93+$E93,0),IF(AH$2=\"Repair %\",IF(AE93>0,$C93,0),IF(AH$2=\"Spares %\",IF(IF(AC93>0,$C93,0)*5>80%,50%,IF(AC93>0,$C93,0)*5),0))))","v":0},{"$f":"IF(AH93=0,0,IF(AI$2=\"Year\",IF(_xlfn.MAXIFS($N93:AH93,$N$2:AH$2,\"Year\")+$E93<=$E$1,AF93+$E93,0),IF(AI$2=\"Repair %\",IF(AF93>0,$C$3,0),IF(AI$2=\"Spares %\",IF(IF(AF93>0,$C93,0)*100>50%,50%,IF(AF93>0,$C93,0)*100),0))))","v":0},{"$f":"IF(AI93=0,0,IF(AJ$2=\"Year\",IF(_xlfn.MAXIFS($N93:AI93,$N$2:AI$2,\"Year\")+$E93<=$E$1,AG93+$E93,0),IF(AJ$2=\"Repair %\",IF(AG93>0,$C93,0),IF(AJ$2=\"Spares %\",IF(IF(AG93>0,$C93,0)*100>50%,50%,IF(AG93>0,$C93,0)*100),0))))","v":0},{"$f":"IF(AJ93=0,0,IF(AK$2=\"Year\",IF(_xlfn.MAXIFS($N93:AJ93,$N$2:AJ$2,\"Year\")+$E93<=$E$1,AH93+$E93,0),IF(AK$2=\"Repair %\",IF(AH93>0,$C93,0),IF(AK$2=\"Spares %\",IF(IF(AF93>0,$C93,0)*5>80%,50%,IF(AF93>0,$C93,0)*5),0))))","v":0},{"$f":"IF(AK93=0,0,IF(AL$2=\"Year\",IF(_xlfn.MAXIFS($N93:AK93,$N$2:AK$2,\"Year\")+$E93<=$E$1,AI93+$E93,0),IF(AL$2=\"Repair %\",IF(AI93>0,$C$3,0),IF(AL$2=\"Spares %\",IF(IF(AI93>0,$C93,0)*100>50%,50%,IF(AI93>0,$C93,0)*100),0))))","v":0},{"$f":"IF(AL93=0,0,IF(AM$2=\"Year\",IF(_xlfn.MAXIFS($N93:AL93,$N$2:AL$2,\"Year\")+$E93<=$E$1,AJ93+$E93,0),IF(AM$2=\"Repair %\",IF(AJ93>0,$C93,0),IF(AM$2=\"Spares %\",IF(IF(AJ93>0,$C93,0)*100>50%,50%,IF(AJ93>0,$C93,0)*100),0))))","v":0},{"$f":"IF(AM93=0,0,IF(AN$2=\"Year\",IF(_xlfn.MAXIFS($N93:AM93,$N$2:AM$2,\"Year\")+$E93<=$E$1,AK93+$E93,0),IF(AN$2=\"Repair %\",IF(AK93>0,$C93,0),IF(AN$2=\"Spares %\",IF(IF(AI93>0,$C93,0)*5>80%,50%,IF(AI93>0,$C93,0)*5),0))))","v":0},{"$f":"IF(AN93=0,0,IF(AO$2=\"Year\",IF(_xlfn.MAXIFS($N93:AN93,$N$2:AN$2,\"Year\")+$E93<=$E$1,AL93+$E93,0),IF(AO$2=\"Repair %\",IF(AL93>0,$C$3,0),IF(AO$2=\"Spares %\",IF(IF(AL93>0,$C93,0)*100>50%,50%,IF(AL93>0,$C93,0)*100),0))))","v":0},{"$f":"IF(AO93=0,0,IF(AP$2=\"Year\",IF(_xlfn.MAXIFS($N93:AO93,$N$2:AO$2,\"Year\")+$E93<=$E$1,AM93+$E93,0),IF(AP$2=\"Repair %\",IF(AM93>0,$C93,0),IF(AP$2=\"Spares %\",IF(IF(AM93>0,$C93,0)*100>50%,50%,IF(AM93>0,$C93,0)*100),0))))","v":0},{"$f":"IF(AP93=0,0,IF(AQ$2=\"Year\",IF(_xlfn.MAXIFS($N93:AP93,$N$2:AP$2,\"Year\")+$E93<=$E$1,AN93+$E93,0),IF(AQ$2=\"Repair %\",IF(AN93>0,$C93,0),IF(AQ$2=\"Spares %\",IF(IF(AL93>0,$C93,0)*5>80%,50%,IF(AL93>0,$C93,0)*5),0))))","v":0}]
[{"$f":"INDEX('Avionics ID'!A:E,MATCH(B94,'Avionics ID'!E:E,0),1)","v":873},"GPS antenna",0.05,0.06,20,"Obsolecence",{"$f":"SUBSTITUTE(ADDRESS(1,MATCH(A94,'Pt1-AvionicsComponentCosts'!$A$6:$NC$6,0)+1),\"$1\",\"\")","v":"$JH"},{"$f":"_xlfn.TEXTJOIN(\", \",TRUE,_xlfn.UNIQUE(_xlfn._xlws.SORT(_xlfn._xlws.FILTER('Pt1-AvionicsComponentCosts'!$NF$12:$NF$384,ISNUMBER(INDIRECT(\"'Pt1-AvionicsComponentCosts'!\"&G94&\"$12:\"&G94&\"$384\"))))))","v":"UAV"},null,0.06,0.05,0.35399999999999998,1.829,{"$f":"COUNTIF($N$2:N$2,\"Year\")*$G$1","v":10},null,0,{"$f":"COUNTIF($N$2:Q$2,\"Year\")*$G$1","v":20},{"$f":"IF(Q94=0,0,IF(R$2=\"Year\",IF(_xlfn.MAXIFS($N94:Q94,$N$2:Q$2,\"Year\")+$E94<=$E$1,O94+$E94,0),IF(R$2=\"Repair %\",IF(O94>0,$C94,0),IF(R$2=\"Spares %\",IF(IF(O94>0,$C94,0)*100>50%,50%,IF(O94>0,$C94,0)*100),0))))","v":0},1,{"$f":"COUNTIF($N$2:T$2,\"Year\")*$G$1","v":30},{"$f":"IF(T94=0,0,IF(U$2=\"Year\",IF(_xlfn.MAXIFS($N94:T94,$N$2:T$2,\"Year\")+$E94<=$E$1,R94+$E94,0),IF(U$2=\"Repair %\",IF(R94>0,$C94,0),IF(U$2=\"Spares %\",IF(IF(R94>0,$C94,0)*100>50%,50%,IF(R94>0,$C94,0)*100),0))))","v":0},0,{"$f":"COUNTIF($N$2:W$2,\"Year\")*$G$1","v":40},{"$f":"IF(W94=0,0,IF(X$2=\"Year\",IF(_xlfn.MAXIFS($N94:W94,$N$2:W$2,\"Year\")+$E94<=$E$1,U94+$E94,0),IF(X$2=\"Repair %\",IF(U94>0,$C94,0),IF(X$2=\"Spares %\",IF(IF(U94>0,$C94,0)*100>50%,50%,IF(U94>0,$C94,0)*100),0))))","v":0},1,{"$f":"IF(Y94=0,0,IF(Z$2=\"Year\",IF(_xlfn.MAXIFS($N94:Y94,$N$2:Y$2,\"Year\")+$E94<=$E$1,W94+$E94,0),IF(Z$2=\"Repair %\",IF(W94>0,$C$3,0),IF(Z$2=\"Spares %\",IF(IF(W94>0,$C94,0)*100>50%,50%,IF(W94>0,$C94,0)*100),0))))","v":0},{"$f":"IF(Z94=0,0,IF(AA$2=\"Year\",IF(_xlfn.MAXIFS($N94:Z94,$N$2:Z$2,\"Year\")+$E94<=$E$1,X94+$E94,0),IF(AA$2=\"Repair %\",IF(X94>0,$C94,0),IF(AA$2=\"Spares %\",IF(IF(X94>0,$C94,0)*100>50%,50%,IF(X94>0,$C94,0)*100),0))))","v":0},{"$f":"IF(AA94=0,0,IF(AB$2=\"Year\",IF(_xlfn.MAXIFS($N94:AA94,$N$2:AA$2,\"Year\")+$E94<=$E$1,Y94+$E94,0),IF(AB$2=\"Repair %\",IF(Y94>0,$C94,0),IF(AB$2=\"Spares %\",IF(IF(W94>0,$C94,0)*5>80%,50%,IF(W94>0,$C94,0)*5),0))))","v":0},{"$f":"IF(AB94=0,0,IF(AC$2=\"Year\",IF(_xlfn.MAXIFS($N94:AB94,$N$2:AB$2,\"Year\")+$E94<=$E$1,Z94+$E94,0),IF(AC$2=\"Repair %\",IF(Z94>0,$C$3,0),IF(AC$2=\"Spares %\",IF(IF(Z94>0,$C94,0)*100>50%,50%,IF(Z94>0,$C94,0)*100),0))))","v":0},{"$f":"IF(AC94=0,0,IF(AD$2=\"Year\",IF(_xlfn.MAXIFS($N94:AC94,$N$2:AC$2,\"Year\")+$E94<=$E$1,AA94+$E94,0),IF(AD$2=\"Repair %\",IF(AA94>0,$C94,0),IF(AD$2=\"Spares %\",IF(IF(AA94>0,$C94,0)*100>50%,50%,IF(AA94>0,$C94,0)*100),0))))","v":0},{"$f":"IF(AD94=0,0,IF(AE$2=\"Year\",IF(_xlfn.MAXIFS($N94:AD94,$N$2:AD$2,\"Year\")+$E94<=$E$1,AB94+$E94,0),IF(AE$2=\"Repair %\",IF(AB94>0,$C94,0),IF(AE$2=\"Spares %\",IF(IF(Z94>0,$C94,0)*5>80%,50%,IF(Z94>0,$C94,0)*5),0))))","v":0},{"$f":"IF(AE94=0,0,IF(AF$2=\"Year\",IF(_xlfn.MAXIFS($N94:AE94,$N$2:AE$2,\"Year\")+$E94<=$E$1,AC94+$E94,0),IF(AF$2=\"Repair %\",IF(AC94>0,$C$3,0),IF(AF$2=\"Spares %\",IF(IF(AC94>0,$C94,0)*100>50%,50%,IF(AC94>0,$C94,0)*100),0))))","v":0},{"$f":"IF(AF94=0,0,IF(AG$2=\"Year\",IF(_xlfn.MAXIFS($N94:AF94,$N$2:AF$2,\"Year\")+$E94<=$E$1,AD94+$E94,0),IF(AG$2=\"Repair %\",IF(AD94>0,$C94,0),IF(AG$2=\"Spares %\",IF(IF(AD94>0,$C94,0)*100>50%,50%,IF(AD94>0,$C94,0)*100),0))))","v":0},{"$f":"IF(AG94=0,0,IF(AH$2=\"Year\",IF(_xlfn.MAXIFS($N94:AG94,$N$2:AG$2,\"Year\")+$E94<=$E$1,AE94+$E94,0),IF(AH$2=\"Repair %\",IF(AE94>0,$C94,0),IF(AH$2=\"Spares %\",IF(IF(AC94>0,$C94,0)*5>80%,50%,IF(AC94>0,$C94,0)*5),0))))","v":0},{"$f":"IF(AH94=0,0,IF(AI$2=\"Year\",IF(_xlfn.MAXIFS($N94:AH94,$N$2:AH$2,\"Year\")+$E94<=$E$1,AF94+$E94,0),IF(AI$2=\"Repair %\",IF(AF94>0,$C$3,0),IF(AI$2=\"Spares %\",IF(IF(AF94>0,$C94,0)*100>50%,50%,IF(AF94>0,$C94,0)*100),0))))","v":0},{"$f":"IF(AI94=0,0,IF(AJ$2=\"Year\",IF(_xlfn.MAXIFS($N94:AI94,$N$2:AI$2,\"Year\")+$E94<=$E$1,AG94+$E94,0),IF(AJ$2=\"Repair %\",IF(AG94>0,$C94,0),IF(AJ$2=\"Spares %\",IF(IF(AG94>0,$C94,0)*100>50%,50%,IF(AG94>0,$C94,0)*100),0))))","v":0},{"$f":"IF(AJ94=0,0,IF(AK$2=\"Year\",IF(_xlfn.MAXIFS($N94:AJ94,$N$2:AJ$2,\"Year\")+$E94<=$E$1,AH94+$E94,0),IF(AK$2=\"Repair %\",IF(AH94>0,$C94,0),IF(AK$2=\"Spares %\",IF(IF(AF94>0,$C94,0)*5>80%,50%,IF(AF94>0,$C94,0)*5),0))))","v":0},{"$f":"IF(AK94=0,0,IF(AL$2=\"Year\",IF(_xlfn.MAXIFS($N94:AK94,$N$2:AK$2,\"Year\")+$E94<=$E$1,AI94+$E94,0),IF(AL$2=\"Repair %\",IF(AI94>0,$C$3,0),IF(AL$2=\"Spares %\",IF(IF(AI94>0,$C94,0)*100>50%,50%,IF(AI94>0,$C94,0)*100),0))))","v":0},{"$f":"IF(AL94=0,0,IF(AM$2=\"Year\",IF(_xlfn.MAXIFS($N94:AL94,$N$2:AL$2,\"Year\")+$E94<=$E$1,AJ94+$E94,0),IF(AM$2=\"Repair %\",IF(AJ94>0,$C94,0),IF(AM$2=\"Spares %\",IF(IF(AJ94>0,$C94,0)*100>50%,50%,IF(AJ94>0,$C94,0)*100),0))))","v":0},{"$f":"IF(AM94=0,0,IF(AN$2=\"Year\",IF(_xlfn.MAXIFS($N94:AM94,$N$2:AM$2,\"Year\")+$E94<=$E$1,AK94+$E94,0),IF(AN$2=\"Repair %\",IF(AK94>0,$C94,0),IF(AN$2=\"Spares %\",IF(IF(AI94>0,$C94,0)*5>80%,50%,IF(AI94>0,$C94,0)*5),0))))","v":0},{"$f":"IF(AN94=0,0,IF(AO$2=\"Year\",IF(_xlfn.MAXIFS($N94:AN94,$N$2:AN$2,\"Year\")+$E94<=$E$1,AL94+$E94,0),IF(AO$2=\"Repair %\",IF(AL94>0,$C$3,0),IF(AO$2=\"Spares %\",IF(IF(AL94>0,$C94,0)*100>50%,50%,IF(AL94>0,$C94,0)*100),0))))","v":0},{"$f":"IF(AO94=0,0,IF(AP$2=\"Year\",IF(_xlfn.MAXIFS($N94:AO94,$N$2:AO$2,\"Year\")+$E94<=$E$1,AM94+$E94,0),IF(AP$2=\"Repair %\",IF(AM94>0,$C94,0),IF(AP$2=\"Spares %\",IF(IF(AM94>0,$C94,0)*100>50%,50%,IF(AM94>0,$C94,0)*100),0))))","v":0},{"$f":"IF(AP94=0,0,IF(AQ$2=\"Year\",IF(_xlfn.MAXIFS($N94:AP94,$N$2:AP$2,\"Year\")+$E94<=$E$1,AN94+$E94,0),IF(AQ$2=\"Repair %\",IF(AN94>0,$C94,0),IF(AQ$2=\"Spares %\",IF(IF(AL94>0,$C94,0)*5>80%,50%,IF(AL94>0,$C94,0)*5),0))))","v":0}]
[{"$f":"INDEX('Avionics ID'!A:E,MATCH(B95,'Avionics ID'!E:E,0),1)","v":748},"Ground Proximity Warning System (GPWS/EGPWS)",0.1,0.06,10,"Obsolecence",{"$f":"SUBSTITUTE(ADDRESS(1,MATCH(A95,'Pt1-AvionicsComponentCosts'!$A$6:$NC$6,0)+1),\"$1\",\"\")","v":"$ML"},{"$f":"_xlfn.TEXTJOIN(\", \",TRUE,_xlfn.UNIQUE(_xlfn._xlws.SORT(_xlfn._xlws.FILTER('Pt1-AvionicsComponentCosts'!$NF$12:$NF$384,ISNUMBER(INDIRECT(\"'Pt1-AvionicsComponentCosts'!\"&G95&\"$12:\"&G95&\"$384\"))))))","v":"A220, A300, A320, A321, A330, A340, A350, A380, ARJ, ATR, B717, B737, B747, B757, B767, B777, B787, C919, CRJ, EMB Regional, Helo, MC-21, MD-11, Mil Fighter, Mil Transport, Military Jet, NSA, Reg TP, Superjet 100, TP Trainer, Turbine GA"},null,0.06,0.1,0.44800000000000001,1.298,{"$f":"COUNTIF($N$2:N$2,\"Year\")*$G$1","v":10},null,1,{"$f":"COUNTIF($N$2:Q$2,\"Year\")*$G$1","v":20},{"$f":"IF(Q95=0,0,IF(R$2=\"Year\",IF(_xlfn.MAXIFS($N95:Q95,$N$2:Q$2,\"Year\")+$E95<=$E$1,O95+$E95,0),IF(R$2=\"Repair %\",IF(O95>0,$C95,0),IF(R$2=\"Spares %\",IF(IF(O95>0,$C95,0)*100>50%,50%,IF(O95>0,$C95,0)*100),0))))","v":0},1,{"$f":"COUNTIF($N$2:T$2,\"Year\")*$G$1","v":30},{"$f":"IF(T95=0,0,IF(U$2=\"Year\",IF(_xlfn.MAXIFS($N95:T95,$N$2:T$2,\"Year\")+$E95<=$E$1,R95+$E95,0),IF(U$2=\"Repair %\",IF(R95>0,$C95,0),IF(U$2=\"Spares %\",IF(IF(R95>0,$C95,0)*100>50%,50%,IF(R95>0,$C95,0)*100),0))))","v":0},1,{"$f":"COUNTIF($N$2:W$2,\"Year\")*$G$1","v":40},{"$f":"IF(W95=0,0,IF(X$2=\"Year\",IF(_xlfn.MAXIFS($N95:W95,$N$2:W$2,\"Year\")+$E95<=$E$1,U95+$E95,0),IF(X$2=\"Repair %\",IF(U95>0,$C95,0),IF(X$2=\"Spares %\",IF(IF(U95>0,$C95,0)*100>50%,50%,IF(U95>0,$C95,0)*100),0))))","v":0},1,{"$f":"IF(Y95=0,0,IF(Z$2=\"Year\",IF(_xlfn.MAXIFS($N95:Y95,$N$2:Y$2,\"Year\")+$E95<=$E$1,W95+$E95,0),IF(Z$2=\"Repair %\",IF(W95>0,$C$3,0),IF(Z$2=\"Spares %\",IF(IF(W95>0,$C95,0)*100>50%,50%,IF(W95>0,$C95,0)*100),0))))","v":0},{"$f":"IF(Z95=0,0,IF(AA$2=\"Year\",IF(_xlfn.MAXIFS($N95:Z95,$N$2:Z$2,\"Year\")+$E95<=$E$1,X95+$E95,0),IF(AA$2=\"Repair %\",IF(X95>0,$C95,0),IF(AA$2=\"Spares %\",IF(IF(X95>0,$C95,0)*100>50%,50%,IF(X95>0,$C95,0)*100),0))))","v":0},{"$f":"IF(AA95=0,0,IF(AB$2=\"Year\",IF(_xlfn.MAXIFS($N95:AA95,$N$2:AA$2,\"Year\")+$E95<=$E$1,Y95+$E95,0),IF(AB$2=\"Repair %\",IF(Y95>0,$C95,0),IF(AB$2=\"Spares %\",IF(IF(W95>0,$C95,0)*5>80%,50%,IF(W95>0,$C95,0)*5),0))))","v":0},{"$f":"IF(AB95=0,0,IF(AC$2=\"Year\",IF(_xlfn.MAXIFS($N95:AB95,$N$2:AB$2,\"Year\")+$E95<=$E$1,Z95+$E95,0),IF(AC$2=\"Repair %\",IF(Z95>0,$C$3,0),IF(AC$2=\"Spares %\",IF(IF(Z95>0,$C95,0)*100>50%,50%,IF(Z95>0,$C95,0)*100),0))))","v":0},{"$f":"IF(AC95=0,0,IF(AD$2=\"Year\",IF(_xlfn.MAXIFS($N95:AC95,$N$2:AC$2,\"Year\")+$E95<=$E$1,AA95+$E95,0),IF(AD$2=\"Repair %\",IF(AA95>0,$C95,0),IF(AD$2=\"Spares %\",IF(IF(AA95>0,$C95,0)*100>50%,50%,IF(AA95>0,$C95,0)*100),0))))","v":0},{"$f":"IF(AD95=0,0,IF(AE$2=\"Year\",IF(_xlfn.MAXIFS($N95:AD95,$N$2:AD$2,\"Year\")+$E95<=$E$1,AB95+$E95,0),IF(AE$2=\"Repair %\",IF(AB95>0,$C95,0),IF(AE$2=\"Spares %\",IF(IF(Z95>0,$C95,0)*5>80%,50%,IF(Z95>0,$C95,0)*5),0))))","v":0},{"$f":"IF(AE95=0,0,IF(AF$2=\"Year\",IF(_xlfn.MAXIFS($N95:AE95,$N$2:AE$2,\"Year\")+$E95<=$E$1,AC95+$E95,0),IF(AF$2=\"Repair %\",IF(AC95>0,$C$3,0),IF(AF$2=\"Spares %\",IF(IF(AC95>0,$C95,0)*100>50%,50%,IF(AC95>0,$C95,0)*100),0))))","v":0},{"$f":"IF(AF95=0,0,IF(AG$2=\"Year\",IF(_xlfn.MAXIFS($N95:AF95,$N$2:AF$2,\"Year\")+$E95<=$E$1,AD95+$E95,0),IF(AG$2=\"Repair %\",IF(AD95>0,$C95,0),IF(AG$2=\"Spares %\",IF(IF(AD95>0,$C95,0)*100>50%,50%,IF(AD95>0,$C95,0)*100),0))))","v":0},{"$f":"IF(AG95=0,0,IF(AH$2=\"Year\",IF(_xlfn.MAXIFS($N95:AG95,$N$2:AG$2,\"Year\")+$E95<=$E$1,AE95+$E95,0),IF(AH$2=\"Repair %\",IF(AE95>0,$C95,0),IF(AH$2=\"Spares %\",IF(IF(AC95>0,$C95,0)*5>80%,50%,IF(AC95>0,$C95,0)*5),0))))","v":0},{"$f":"IF(AH95=0,0,IF(AI$2=\"Year\",IF(_xlfn.MAXIFS($N95:AH95,$N$2:AH$2,\"Year\")+$E95<=$E$1,AF95+$E95,0),IF(AI$2=\"Repair %\",IF(AF95>0,$C$3,0),IF(AI$2=\"Spares %\",IF(IF(AF95>0,$C95,0)*100>50%,50%,IF(AF95>0,$C95,0)*100),0))))","v":0},{"$f":"IF(AI95=0,0,IF(AJ$2=\"Year\",IF(_xlfn.MAXIFS($N95:AI95,$N$2:AI$2,\"Year\")+$E95<=$E$1,AG95+$E95,0),IF(AJ$2=\"Repair %\",IF(AG95>0,$C95,0),IF(AJ$2=\"Spares %\",IF(IF(AG95>0,$C95,0)*100>50%,50%,IF(AG95>0,$C95,0)*100),0))))","v":0},{"$f":"IF(AJ95=0,0,IF(AK$2=\"Year\",IF(_xlfn.MAXIFS($N95:AJ95,$N$2:AJ$2,\"Year\")+$E95<=$E$1,AH95+$E95,0),IF(AK$2=\"Repair %\",IF(AH95>0,$C95,0),IF(AK$2=\"Spares %\",IF(IF(AF95>0,$C95,0)*5>80%,50%,IF(AF95>0,$C95,0)*5),0))))","v":0},{"$f":"IF(AK95=0,0,IF(AL$2=\"Year\",IF(_xlfn.MAXIFS($N95:AK95,$N$2:AK$2,\"Year\")+$E95<=$E$1,AI95+$E95,0),IF(AL$2=\"Repair %\",IF(AI95>0,$C$3,0),IF(AL$2=\"Spares %\",IF(IF(AI95>0,$C95,0)*100>50%,50%,IF(AI95>0,$C95,0)*100),0))))","v":0},{"$f":"IF(AL95=0,0,IF(AM$2=\"Year\",IF(_xlfn.MAXIFS($N95:AL95,$N$2:AL$2,\"Year\")+$E95<=$E$1,AJ95+$E95,0),IF(AM$2=\"Repair %\",IF(AJ95>0,$C95,0),IF(AM$2=\"Spares %\",IF(IF(AJ95>0,$C95,0)*100>50%,50%,IF(AJ95>0,$C95,0)*100),0))))","v":0},{"$f":"IF(AM95=0,0,IF(AN$2=\"Year\",IF(_xlfn.MAXIFS($N95:AM95,$N$2:AM$2,\"Year\")+$E95<=$E$1,AK95+$E95,0),IF(AN$2=\"Repair %\",IF(AK95>0,$C95,0),IF(AN$2=\"Spares %\",IF(IF(AI95>0,$C95,0)*5>80%,50%,IF(AI95>0,$C95,0)*5),0))))","v":0},{"$f":"IF(AN95=0,0,IF(AO$2=\"Year\",IF(_xlfn.MAXIFS($N95:AN95,$N$2:AN$2,\"Year\")+$E95<=$E$1,AL95+$E95,0),IF(AO$2=\"Repair %\",IF(AL95>0,$C$3,0),IF(AO$2=\"Spares %\",IF(IF(AL95>0,$C95,0)*100>50%,50%,IF(AL95>0,$C95,0)*100),0))))","v":0},{"$f":"IF(AO95=0,0,IF(AP$2=\"Year\",IF(_xlfn.MAXIFS($N95:AO95,$N$2:AO$2,\"Year\")+$E95<=$E$1,AM95+$E95,0),IF(AP$2=\"Repair %\",IF(AM95>0,$C95,0),IF(AP$2=\"Spares %\",IF(IF(AM95>0,$C95,0)*100>50%,50%,IF(AM95>0,$C95,0)*100),0))))","v":0},{"$f":"IF(AP95=0,0,IF(AQ$2=\"Year\",IF(_xlfn.MAXIFS($N95:AP95,$N$2:AP$2,\"Year\")+$E95<=$E$1,AN95+$E95,0),IF(AQ$2=\"Repair %\",IF(AN95>0,$C95,0),IF(AQ$2=\"Spares %\",IF(IF(AL95>0,$C95,0)*5>80%,50%,IF(AL95>0,$C95,0)*5),0))))","v":0}]
[{"$f":"INDEX('Avionics ID'!A:E,MATCH(B96,'Avionics ID'!E:E,0),1)","v":768},"HF Radio",0,0.06,null,"",{"$f":"SUBSTITUTE(ADDRESS(1,MATCH(A96,'Pt1-AvionicsComponentCosts'!$A$6:$NC$6,0)+1),\"$1\",\"\")","v":"$AX"},{"$f":"_xlfn.TEXTJOIN(\", \",TRUE,_xlfn.UNIQUE(_xlfn._xlws.SORT(_xlfn._xlws.FILTER('Pt1-AvionicsComponentCosts'!$NF$12:$NF$384,ISNUMBER(INDIRECT(\"'Pt1-AvionicsComponentCosts'!\"&G96&\"$12:\"&G96&\"$384\"))))))","v":"A300, A320, A330, A340, A350, A380, B747, B767, B777, B787, MD-11"},null,0.06,0,0.501,1.2969999999999999,{"$f":"COUNTIF($N$2:N$2,\"Year\")*$G$1","v":10},null,0,{"$f":"COUNTIF($N$2:Q$2,\"Year\")*$G$1","v":20},{"$f":"IF(Q96=0,0,IF(R$2=\"Year\",IF(_xlfn.MAXIFS($N96:Q96,$N$2:Q$2,\"Year\")+$E96<=$E$1,O96+$E96,0),IF(R$2=\"Repair %\",IF(O96>0,$C96,0),IF(R$2=\"Spares %\",IF(IF(O96>0,$C96,0)*100>50%,50%,IF(O96>0,$C96,0)*100),0))))","v":0},0,{"$f":"COUNTIF($N$2:T$2,\"Year\")*$G$1","v":30},{"$f":"IF(T96=0,0,IF(U$2=\"Year\",IF(_xlfn.MAXIFS($N96:T96,$N$2:T$2,\"Year\")+$E96<=$E$1,R96+$E96,0),IF(U$2=\"Repair %\",IF(R96>0,$C96,0),IF(U$2=\"Spares %\",IF(IF(R96>0,$C96,0)*100>50%,50%,IF(R96>0,$C96,0)*100),0))))","v":0},0,{"$f":"COUNTIF($N$2:W$2,\"Year\")*$G$1","v":40},{"$f":"IF(W96=0,0,IF(X$2=\"Year\",IF(_xlfn.MAXIFS($N96:W96,$N$2:W$2,\"Year\")+$E96<=$E$1,U96+$E96,0),IF(X$2=\"Repair %\",IF(U96>0,$C96,0),IF(X$2=\"Spares %\",IF(IF(U96>0,$C96,0)*100>50%,50%,IF(U96>0,$C96,0)*100),0))))","v":0},0,{"$f":"IF(Y96=0,0,IF(Z$2=\"Year\",IF(_xlfn.MAXIFS($N96:Y96,$N$2:Y$2,\"Year\")+$E96<=$E$1,W96+$E96,0),IF(Z$2=\"Repair %\",IF(W96>0,$C$3,0),IF(Z$2=\"Spares %\",IF(IF(W96>0,$C96,0)*100>50%,50%,IF(W96>0,$C96,0)*100),0))))","v":0},{"$f":"IF(Z96=0,0,IF(AA$2=\"Year\",IF(_xlfn.MAXIFS($N96:Z96,$N$2:Z$2,\"Year\")+$E96<=$E$1,X96+$E96,0),IF(AA$2=\"Repair %\",IF(X96>0,$C96,0),IF(AA$2=\"Spares %\",IF(IF(X96>0,$C96,0)*100>50%,50%,IF(X96>0,$C96,0)*100),0))))","v":0},{"$f":"IF(AA96=0,0,IF(AB$2=\"Year\",IF(_xlfn.MAXIFS($N96:AA96,$N$2:AA$2,\"Year\")+$E96<=$E$1,Y96+$E96,0),IF(AB$2=\"Repair %\",IF(Y96>0,$C96,0),IF(AB$2=\"Spares %\",IF(IF(W96>0,$C96,0)*5>80%,50%,IF(W96>0,$C96,0)*5),0))))","v":0},{"$f":"IF(AB96=0,0,IF(AC$2=\"Year\",IF(_xlfn.MAXIFS($N96:AB96,$N$2:AB$2,\"Year\")+$E96<=$E$1,Z96+$E96,0),IF(AC$2=\"Repair %\",IF(Z96>0,$C$3,0),IF(AC$2=\"Spares %\",IF(IF(Z96>0,$C96,0)*100>50%,50%,IF(Z96>0,$C96,0)*100),0))))","v":0},{"$f":"IF(AC96=0,0,IF(AD$2=\"Year\",IF(_xlfn.MAXIFS($N96:AC96,$N$2:AC$2,\"Year\")+$E96<=$E$1,AA96+$E96,0),IF(AD$2=\"Repair %\",IF(AA96>0,$C96,0),IF(AD$2=\"Spares %\",IF(IF(AA96>0,$C96,0)*100>50%,50%,IF(AA96>0,$C96,0)*100),0))))","v":0},{"$f":"IF(AD96=0,0,IF(AE$2=\"Year\",IF(_xlfn.MAXIFS($N96:AD96,$N$2:AD$2,\"Year\")+$E96<=$E$1,AB96+$E96,0),IF(AE$2=\"Repair %\",IF(AB96>0,$C96,0),IF(AE$2=\"Spares %\",IF(IF(Z96>0,$C96,0)*5>80%,50%,IF(Z96>0,$C96,0)*5),0))))","v":0},{"$f":"IF(AE96=0,0,IF(AF$2=\"Year\",IF(_xlfn.MAXIFS($N96:AE96,$N$2:AE$2,\"Year\")+$E96<=$E$1,AC96+$E96,0),IF(AF$2=\"Repair %\",IF(AC96>0,$C$3,0),IF(AF$2=\"Spares %\",IF(IF(AC96>0,$C96,0)*100>50%,50%,IF(AC96>0,$C96,0)*100),0))))","v":0},{"$f":"IF(AF96=0,0,IF(AG$2=\"Year\",IF(_xlfn.MAXIFS($N96:AF96,$N$2:AF$2,\"Year\")+$E96<=$E$1,AD96+$E96,0),IF(AG$2=\"Repair %\",IF(AD96>0,$C96,0),IF(AG$2=\"Spares %\",IF(IF(AD96>0,$C96,0)*100>50%,50%,IF(AD96>0,$C96,0)*100),0))))","v":0},{"$f":"IF(AG96=0,0,IF(AH$2=\"Year\",IF(_xlfn.MAXIFS($N96:AG96,$N$2:AG$2,\"Year\")+$E96<=$E$1,AE96+$E96,0),IF(AH$2=\"Repair %\",IF(AE96>0,$C96,0),IF(AH$2=\"Spares %\",IF(IF(AC96>0,$C96,0)*5>80%,50%,IF(AC96>0,$C96,0)*5),0))))","v":0},{"$f":"IF(AH96=0,0,IF(AI$2=\"Year\",IF(_xlfn.MAXIFS($N96:AH96,$N$2:AH$2,\"Year\")+$E96<=$E$1,AF96+$E96,0),IF(AI$2=\"Repair %\",IF(AF96>0,$C$3,0),IF(AI$2=\"Spares %\",IF(IF(AF96>0,$C96,0)*100>50%,50%,IF(AF96>0,$C96,0)*100),0))))","v":0},{"$f":"IF(AI96=0,0,IF(AJ$2=\"Year\",IF(_xlfn.MAXIFS($N96:AI96,$N$2:AI$2,\"Year\")+$E96<=$E$1,AG96+$E96,0),IF(AJ$2=\"Repair %\",IF(AG96>0,$C96,0),IF(AJ$2=\"Spares %\",IF(IF(AG96>0,$C96,0)*100>50%,50%,IF(AG96>0,$C96,0)*100),0))))","v":0},{"$f":"IF(AJ96=0,0,IF(AK$2=\"Year\",IF(_xlfn.MAXIFS($N96:AJ96,$N$2:AJ$2,\"Year\")+$E96<=$E$1,AH96+$E96,0),IF(AK$2=\"Repair %\",IF(AH96>0,$C96,0),IF(AK$2=\"Spares %\",IF(IF(AF96>0,$C96,0)*5>80%,50%,IF(AF96>0,$C96,0)*5),0))))","v":0},{"$f":"IF(AK96=0,0,IF(AL$2=\"Year\",IF(_xlfn.MAXIFS($N96:AK96,$N$2:AK$2,\"Year\")+$E96<=$E$1,AI96+$E96,0),IF(AL$2=\"Repair %\",IF(AI96>0,$C$3,0),IF(AL$2=\"Spares %\",IF(IF(AI96>0,$C96,0)*100>50%,50%,IF(AI96>0,$C96,0)*100),0))))","v":0},{"$f":"IF(AL96=0,0,IF(AM$2=\"Year\",IF(_xlfn.MAXIFS($N96:AL96,$N$2:AL$2,\"Year\")+$E96<=$E$1,AJ96+$E96,0),IF(AM$2=\"Repair %\",IF(AJ96>0,$C96,0),IF(AM$2=\"Spares %\",IF(IF(AJ96>0,$C96,0)*100>50%,50%,IF(AJ96>0,$C96,0)*100),0))))","v":0},{"$f":"IF(AM96=0,0,IF(AN$2=\"Year\",IF(_xlfn.MAXIFS($N96:AM96,$N$2:AM$2,\"Year\")+$E96<=$E$1,AK96+$E96,0),IF(AN$2=\"Repair %\",IF(AK96>0,$C96,0),IF(AN$2=\"Spares %\",IF(IF(AI96>0,$C96,0)*5>80%,50%,IF(AI96>0,$C96,0)*5),0))))","v":0},{"$f":"IF(AN96=0,0,IF(AO$2=\"Year\",IF(_xlfn.MAXIFS($N96:AN96,$N$2:AN$2,\"Year\")+$E96<=$E$1,AL96+$E96,0),IF(AO$2=\"Repair %\",IF(AL96>0,$C$3,0),IF(AO$2=\"Spares %\",IF(IF(AL96>0,$C96,0)*100>50%,50%,IF(AL96>0,$C96,0)*100),0))))","v":0},{"$f":"IF(AO96=0,0,IF(AP$2=\"Year\",IF(_xlfn.MAXIFS($N96:AO96,$N$2:AO$2,\"Year\")+$E96<=$E$1,AM96+$E96,0),IF(AP$2=\"Repair %\",IF(AM96>0,$C96,0),IF(AP$2=\"Spares %\",IF(IF(AM96>0,$C96,0)*100>50%,50%,IF(AM96>0,$C96,0)*100),0))))","v":0},{"$f":"IF(AP96=0,0,IF(AQ$2=\"Year\",IF(_xlfn.MAXIFS($N96:AP96,$N$2:AP$2,\"Year\")+$E96<=$E$1,AN96+$E96,0),IF(AQ$2=\"Repair %\",IF(AN96>0,$C96,0),IF(AQ$2=\"Spares %\",IF(IF(AL96>0,$C96,0)*5>80%,50%,IF(AL96>0,$C96,0)*5),0))))","v":0}]
[{"$f":"INDEX('Avionics ID'!A:E,MATCH(B97,'Avionics ID'!E:E,0),1)","v":840},"HF-9500 High Frequency Communications System",0,0.06,null,"",{"$f":"SUBSTITUTE(ADDRESS(1,MATCH(A97,'Pt1-AvionicsComponentCosts'!$A$6:$NC$6,0)+1),\"$1\",\"\")","v":"$AZ"},{"$f":"_xlfn.TEXTJOIN(\", \",TRUE,_xlfn.UNIQUE(_xlfn._xlws.SORT(_xlfn._xlws.FILTER('Pt1-AvionicsComponentCosts'!$NF$12:$NF$384,ISNUMBER(INDIRECT(\"'Pt1-AvionicsComponentCosts'!\"&G97&\"$12:\"&G97&\"$384\"))))))","v":"A330 LMXT, A330 MRTT, Mil Transport, Military Jet, Military TP"},null,0.06,0,0.501,1.2969999999999999,{"$f":"COUNTIF($N$2:N$2,\"Year\")*$G$1","v":10},null,0,{"$f":"COUNTIF($N$2:Q$2,\"Year\")*$G$1","v":20},{"$f":"IF(Q97=0,0,IF(R$2=\"Year\",IF(_xlfn.MAXIFS($N97:Q97,$N$2:Q$2,\"Year\")+$E97<=$E$1,O97+$E97,0),IF(R$2=\"Repair %\",IF(O97>0,$C97,0),IF(R$2=\"Spares %\",IF(IF(O97>0,$C97,0)*100>50%,50%,IF(O97>0,$C97,0)*100),0))))","v":0},0,{"$f":"COUNTIF($N$2:T$2,\"Year\")*$G$1","v":30},{"$f":"IF(T97=0,0,IF(U$2=\"Year\",IF(_xlfn.MAXIFS($N97:T97,$N$2:T$2,\"Year\")+$E97<=$E$1,R97+$E97,0),IF(U$2=\"Repair %\",IF(R97>0,$C97,0),IF(U$2=\"Spares %\",IF(IF(R97>0,$C97,0)*100>50%,50%,IF(R97>0,$C97,0)*100),0))))","v":0},0,{"$f":"COUNTIF($N$2:W$2,\"Year\")*$G$1","v":40},{"$f":"IF(W97=0,0,IF(X$2=\"Year\",IF(_xlfn.MAXIFS($N97:W97,$N$2:W$2,\"Year\")+$E97<=$E$1,U97+$E97,0),IF(X$2=\"Repair %\",IF(U97>0,$C97,0),IF(X$2=\"Spares %\",IF(IF(U97>0,$C97,0)*100>50%,50%,IF(U97>0,$C97,0)*100),0))))","v":0},0,{"$f":"IF(Y97=0,0,IF(Z$2=\"Year\",IF(_xlfn.MAXIFS($N97:Y97,$N$2:Y$2,\"Year\")+$E97<=$E$1,W97+$E97,0),IF(Z$2=\"Repair %\",IF(W97>0,$C$3,0),IF(Z$2=\"Spares %\",IF(IF(W97>0,$C97,0)*100>50%,50%,IF(W97>0,$C97,0)*100),0))))","v":0},{"$f":"IF(Z97=0,0,IF(AA$2=\"Year\",IF(_xlfn.MAXIFS($N97:Z97,$N$2:Z$2,\"Year\")+$E97<=$E$1,X97+$E97,0),IF(AA$2=\"Repair %\",IF(X97>0,$C97,0),IF(AA$2=\"Spares %\",IF(IF(X97>0,$C97,0)*100>50%,50%,IF(X97>0,$C97,0)*100),0))))","v":0},{"$f":"IF(AA97=0,0,IF(AB$2=\"Year\",IF(_xlfn.MAXIFS($N97:AA97,$N$2:AA$2,\"Year\")+$E97<=$E$1,Y97+$E97,0),IF(AB$2=\"Repair %\",IF(Y97>0,$C97,0),IF(AB$2=\"Spares %\",IF(IF(W97>0,$C97,0)*5>80%,50%,IF(W97>0,$C97,0)*5),0))))","v":0},{"$f":"IF(AB97=0,0,IF(AC$2=\"Year\",IF(_xlfn.MAXIFS($N97:AB97,$N$2:AB$2,\"Year\")+$E97<=$E$1,Z97+$E97,0),IF(AC$2=\"Repair %\",IF(Z97>0,$C$3,0),IF(AC$2=\"Spares %\",IF(IF(Z97>0,$C97,0)*100>50%,50%,IF(Z97>0,$C97,0)*100),0))))","v":0},{"$f":"IF(AC97=0,0,IF(AD$2=\"Year\",IF(_xlfn.MAXIFS($N97:AC97,$N$2:AC$2,\"Year\")+$E97<=$E$1,AA97+$E97,0),IF(AD$2=\"Repair %\",IF(AA97>0,$C97,0),IF(AD$2=\"Spares %\",IF(IF(AA97>0,$C97,0)*100>50%,50%,IF(AA97>0,$C97,0)*100),0))))","v":0},{"$f":"IF(AD97=0,0,IF(AE$2=\"Year\",IF(_xlfn.MAXIFS($N97:AD97,$N$2:AD$2,\"Year\")+$E97<=$E$1,AB97+$E97,0),IF(AE$2=\"Repair %\",IF(AB97>0,$C97,0),IF(AE$2=\"Spares %\",IF(IF(Z97>0,$C97,0)*5>80%,50%,IF(Z97>0,$C97,0)*5),0))))","v":0},{"$f":"IF(AE97=0,0,IF(AF$2=\"Year\",IF(_xlfn.MAXIFS($N97:AE97,$N$2:AE$2,\"Year\")+$E97<=$E$1,AC97+$E97,0),IF(AF$2=\"Repair %\",IF(AC97>0,$C$3,0),IF(AF$2=\"Spares %\",IF(IF(AC97>0,$C97,0)*100>50%,50%,IF(AC97>0,$C97,0)*100),0))))","v":0},{"$f":"IF(AF97=0,0,IF(AG$2=\"Year\",IF(_xlfn.MAXIFS($N97:AF97,$N$2:AF$2,\"Year\")+$E97<=$E$1,AD97+$E97,0),IF(AG$2=\"Repair %\",IF(AD97>0,$C97,0),IF(AG$2=\"Spares %\",IF(IF(AD97>0,$C97,0)*100>50%,50%,IF(AD97>0,$C97,0)*100),0))))","v":0},{"$f":"IF(AG97=0,0,IF(AH$2=\"Year\",IF(_xlfn.MAXIFS($N97:AG97,$N$2:AG$2,\"Year\")+$E97<=$E$1,AE97+$E97,0),IF(AH$2=\"Repair %\",IF(AE97>0,$C97,0),IF(AH$2=\"Spares %\",IF(IF(AC97>0,$C97,0)*5>80%,50%,IF(AC97>0,$C97,0)*5),0))))","v":0},{"$f":"IF(AH97=0,0,IF(AI$2=\"Year\",IF(_xlfn.MAXIFS($N97:AH97,$N$2:AH$2,\"Year\")+$E97<=$E$1,AF97+$E97,0),IF(AI$2=\"Repair %\",IF(AF97>0,$C$3,0),IF(AI$2=\"Spares %\",IF(IF(AF97>0,$C97,0)*100>50%,50%,IF(AF97>0,$C97,0)*100),0))))","v":0},{"$f":"IF(AI97=0,0,IF(AJ$2=\"Year\",IF(_xlfn.MAXIFS($N97:AI97,$N$2:AI$2,\"Year\")+$E97<=$E$1,AG97+$E97,0),IF(AJ$2=\"Repair %\",IF(AG97>0,$C97,0),IF(AJ$2=\"Spares %\",IF(IF(AG97>0,$C97,0)*100>50%,50%,IF(AG97>0,$C97,0)*100),0))))","v":0},{"$f":"IF(AJ97=0,0,IF(AK$2=\"Year\",IF(_xlfn.MAXIFS($N97:AJ97,$N$2:AJ$2,\"Year\")+$E97<=$E$1,AH97+$E97,0),IF(AK$2=\"Repair %\",IF(AH97>0,$C97,0),IF(AK$2=\"Spares %\",IF(IF(AF97>0,$C97,0)*5>80%,50%,IF(AF97>0,$C97,0)*5),0))))","v":0},{"$f":"IF(AK97=0,0,IF(AL$2=\"Year\",IF(_xlfn.MAXIFS($N97:AK97,$N$2:AK$2,\"Year\")+$E97<=$E$1,AI97+$E97,0),IF(AL$2=\"Repair %\",IF(AI97>0,$C$3,0),IF(AL$2=\"Spares %\",IF(IF(AI97>0,$C97,0)*100>50%,50%,IF(AI97>0,$C97,0)*100),0))))","v":0},{"$f":"IF(AL97=0,0,IF(AM$2=\"Year\",IF(_xlfn.MAXIFS($N97:AL97,$N$2:AL$2,\"Year\")+$E97<=$E$1,AJ97+$E97,0),IF(AM$2=\"Repair %\",IF(AJ97>0,$C97,0),IF(AM$2=\"Spares %\",IF(IF(AJ97>0,$C97,0)*100>50%,50%,IF(AJ97>0,$C97,0)*100),0))))","v":0},{"$f":"IF(AM97=0,0,IF(AN$2=\"Year\",IF(_xlfn.MAXIFS($N97:AM97,$N$2:AM$2,\"Year\")+$E97<=$E$1,AK97+$E97,0),IF(AN$2=\"Repair %\",IF(AK97>0,$C97,0),IF(AN$2=\"Spares %\",IF(IF(AI97>0,$C97,0)*5>80%,50%,IF(AI97>0,$C97,0)*5),0))))","v":0},{"$f":"IF(AN97=0,0,IF(AO$2=\"Year\",IF(_xlfn.MAXIFS($N97:AN97,$N$2:AN$2,\"Year\")+$E97<=$E$1,AL97+$E97,0),IF(AO$2=\"Repair %\",IF(AL97>0,$C$3,0),IF(AO$2=\"Spares %\",IF(IF(AL97>0,$C97,0)*100>50%,50%,IF(AL97>0,$C97,0)*100),0))))","v":0},{"$f":"IF(AO97=0,0,IF(AP$2=\"Year\",IF(_xlfn.MAXIFS($N97:AO97,$N$2:AO$2,\"Year\")+$E97<=$E$1,AM97+$E97,0),IF(AP$2=\"Repair %\",IF(AM97>0,$C97,0),IF(AP$2=\"Spares %\",IF(IF(AM97>0,$C97,0)*100>50%,50%,IF(AM97>0,$C97,0)*100),0))))","v":0},{"$f":"IF(AP97=0,0,IF(AQ$2=\"Year\",IF(_xlfn.MAXIFS($N97:AP97,$N$2:AP$2,\"Year\")+$E97<=$E$1,AN97+$E97,0),IF(AQ$2=\"Repair %\",IF(AN97>0,$C97,0),IF(AQ$2=\"Spares %\",IF(IF(AL97>0,$C97,0)*5>80%,50%,IF(AL97>0,$C97,0)*5),0))))","v":0}]
[{"$f":"INDEX('Avionics ID'!A:E,MATCH(B98,'Avionics ID'!E:E,0),1)","v":800},"High speed and fibre optics data/signalling network databuses",0.05,0.06,20,"Obsolecence",{"$f":"SUBSTITUTE(ADDRESS(1,MATCH(A98,'Pt1-AvionicsComponentCosts'!$A$6:$NC$6,0)+1),\"$1\",\"\")","v":"$DD"},{"$f":"_xlfn.TEXTJOIN(\", \",TRUE,_xlfn.UNIQUE(_xlfn._xlws.SORT(_xlfn._xlws.FILTER('Pt1-AvionicsComponentCosts'!$NF$12:$NF$384,ISNUMBER(INDIRECT(\"'Pt1-AvionicsComponentCosts'!\"&G98&\"$12:\"&G98&\"$384\"))))))","v":"Attack, Stealth"},null,0.06,0.05,0.68300000000000005,1.931,{"$f":"COUNTIF($N$2:N$2,\"Year\")*$G$1","v":10},null,0,{"$f":"COUNTIF($N$2:Q$2,\"Year\")*$G$1","v":20},{"$f":"IF(Q98=0,0,IF(R$2=\"Year\",IF(_xlfn.MAXIFS($N98:Q98,$N$2:Q$2,\"Year\")+$E98<=$E$1,O98+$E98,0),IF(R$2=\"Repair %\",IF(O98>0,$C98,0),IF(R$2=\"Spares %\",IF(IF(O98>0,$C98,0)*100>50%,50%,IF(O98>0,$C98,0)*100),0))))","v":0},1,{"$f":"COUNTIF($N$2:T$2,\"Year\")*$G$1","v":30},{"$f":"IF(T98=0,0,IF(U$2=\"Year\",IF(_xlfn.MAXIFS($N98:T98,$N$2:T$2,\"Year\")+$E98<=$E$1,R98+$E98,0),IF(U$2=\"Repair %\",IF(R98>0,$C98,0),IF(U$2=\"Spares %\",IF(IF(R98>0,$C98,0)*100>50%,50%,IF(R98>0,$C98,0)*100),0))))","v":0},0,{"$f":"COUNTIF($N$2:W$2,\"Year\")*$G$1","v":40},{"$f":"IF(W98=0,0,IF(X$2=\"Year\",IF(_xlfn.MAXIFS($N98:W98,$N$2:W$2,\"Year\")+$E98<=$E$1,U98+$E98,0),IF(X$2=\"Repair %\",IF(U98>0,$C98,0),IF(X$2=\"Spares %\",IF(IF(U98>0,$C98,0)*100>50%,50%,IF(U98>0,$C98,0)*100),0))))","v":0},1,{"$f":"IF(Y98=0,0,IF(Z$2=\"Year\",IF(_xlfn.MAXIFS($N98:Y98,$N$2:Y$2,\"Year\")+$E98<=$E$1,W98+$E98,0),IF(Z$2=\"Repair %\",IF(W98>0,$C$3,0),IF(Z$2=\"Spares %\",IF(IF(W98>0,$C98,0)*100>50%,50%,IF(W98>0,$C98,0)*100),0))))","v":0},{"$f":"IF(Z98=0,0,IF(AA$2=\"Year\",IF(_xlfn.MAXIFS($N98:Z98,$N$2:Z$2,\"Year\")+$E98<=$E$1,X98+$E98,0),IF(AA$2=\"Repair %\",IF(X98>0,$C98,0),IF(AA$2=\"Spares %\",IF(IF(X98>0,$C98,0)*100>50%,50%,IF(X98>0,$C98,0)*100),0))))","v":0},{"$f":"IF(AA98=0,0,IF(AB$2=\"Year\",IF(_xlfn.MAXIFS($N98:AA98,$N$2:AA$2,\"Year\")+$E98<=$E$1,Y98+$E98,0),IF(AB$2=\"Repair %\",IF(Y98>0,$C98,0),IF(AB$2=\"Spares %\",IF(IF(W98>0,$C98,0)*5>80%,50%,IF(W98>0,$C98,0)*5),0))))","v":0},{"$f":"IF(AB98=0,0,IF(AC$2=\"Year\",IF(_xlfn.MAXIFS($N98:AB98,$N$2:AB$2,\"Year\")+$E98<=$E$1,Z98+$E98,0),IF(AC$2=\"Repair %\",IF(Z98>0,$C$3,0),IF(AC$2=\"Spares %\",IF(IF(Z98>0,$C98,0)*100>50%,50%,IF(Z98>0,$C98,0)*100),0))))","v":0},{"$f":"IF(AC98=0,0,IF(AD$2=\"Year\",IF(_xlfn.MAXIFS($N98:AC98,$N$2:AC$2,\"Year\")+$E98<=$E$1,AA98+$E98,0),IF(AD$2=\"Repair %\",IF(AA98>0,$C98,0),IF(AD$2=\"Spares %\",IF(IF(AA98>0,$C98,0)*100>50%,50%,IF(AA98>0,$C98,0)*100),0))))","v":0},{"$f":"IF(AD98=0,0,IF(AE$2=\"Year\",IF(_xlfn.MAXIFS($N98:AD98,$N$2:AD$2,\"Year\")+$E98<=$E$1,AB98+$E98,0),IF(AE$2=\"Repair %\",IF(AB98>0,$C98,0),IF(AE$2=\"Spares %\",IF(IF(Z98>0,$C98,0)*5>80%,50%,IF(Z98>0,$C98,0)*5),0))))","v":0},{"$f":"IF(AE98=0,0,IF(AF$2=\"Year\",IF(_xlfn.MAXIFS($N98:AE98,$N$2:AE$2,\"Year\")+$E98<=$E$1,AC98+$E98,0),IF(AF$2=\"Repair %\",IF(AC98>0,$C$3,0),IF(AF$2=\"Spares %\",IF(IF(AC98>0,$C98,0)*100>50%,50%,IF(AC98>0,$C98,0)*100),0))))","v":0},{"$f":"IF(AF98=0,0,IF(AG$2=\"Year\",IF(_xlfn.MAXIFS($N98:AF98,$N$2:AF$2,\"Year\")+$E98<=$E$1,AD98+$E98,0),IF(AG$2=\"Repair %\",IF(AD98>0,$C98,0),IF(AG$2=\"Spares %\",IF(IF(AD98>0,$C98,0)*100>50%,50%,IF(AD98>0,$C98,0)*100),0))))","v":0},{"$f":"IF(AG98=0,0,IF(AH$2=\"Year\",IF(_xlfn.MAXIFS($N98:AG98,$N$2:AG$2,\"Year\")+$E98<=$E$1,AE98+$E98,0),IF(AH$2=\"Repair %\",IF(AE98>0,$C98,0),IF(AH$2=\"Spares %\",IF(IF(AC98>0,$C98,0)*5>80%,50%,IF(AC98>0,$C98,0)*5),0))))","v":0},{"$f":"IF(AH98=0,0,IF(AI$2=\"Year\",IF(_xlfn.MAXIFS($N98:AH98,$N$2:AH$2,\"Year\")+$E98<=$E$1,AF98+$E98,0),IF(AI$2=\"Repair %\",IF(AF98>0,$C$3,0),IF(AI$2=\"Spares %\",IF(IF(AF98>0,$C98,0)*100>50%,50%,IF(AF98>0,$C98,0)*100),0))))","v":0},{"$f":"IF(AI98=0,0,IF(AJ$2=\"Year\",IF(_xlfn.MAXIFS($N98:AI98,$N$2:AI$2,\"Year\")+$E98<=$E$1,AG98+$E98,0),IF(AJ$2=\"Repair %\",IF(AG98>0,$C98,0),IF(AJ$2=\"Spares %\",IF(IF(AG98>0,$C98,0)*100>50%,50%,IF(AG98>0,$C98,0)*100),0))))","v":0},{"$f":"IF(AJ98=0,0,IF(AK$2=\"Year\",IF(_xlfn.MAXIFS($N98:AJ98,$N$2:AJ$2,\"Year\")+$E98<=$E$1,AH98+$E98,0),IF(AK$2=\"Repair %\",IF(AH98>0,$C98,0),IF(AK$2=\"Spares %\",IF(IF(AF98>0,$C98,0)*5>80%,50%,IF(AF98>0,$C98,0)*5),0))))","v":0},{"$f":"IF(AK98=0,0,IF(AL$2=\"Year\",IF(_xlfn.MAXIFS($N98:AK98,$N$2:AK$2,\"Year\")+$E98<=$E$1,AI98+$E98,0),IF(AL$2=\"Repair %\",IF(AI98>0,$C$3,0),IF(AL$2=\"Spares %\",IF(IF(AI98>0,$C98,0)*100>50%,50%,IF(AI98>0,$C98,0)*100),0))))","v":0},{"$f":"IF(AL98=0,0,IF(AM$2=\"Year\",IF(_xlfn.MAXIFS($N98:AL98,$N$2:AL$2,\"Year\")+$E98<=$E$1,AJ98+$E98,0),IF(AM$2=\"Repair %\",IF(AJ98>0,$C98,0),IF(AM$2=\"Spares %\",IF(IF(AJ98>0,$C98,0)*100>50%,50%,IF(AJ98>0,$C98,0)*100),0))))","v":0},{"$f":"IF(AM98=0,0,IF(AN$2=\"Year\",IF(_xlfn.MAXIFS($N98:AM98,$N$2:AM$2,\"Year\")+$E98<=$E$1,AK98+$E98,0),IF(AN$2=\"Repair %\",IF(AK98>0,$C98,0),IF(AN$2=\"Spares %\",IF(IF(AI98>0,$C98,0)*5>80%,50%,IF(AI98>0,$C98,0)*5),0))))","v":0},{"$f":"IF(AN98=0,0,IF(AO$2=\"Year\",IF(_xlfn.MAXIFS($N98:AN98,$N$2:AN$2,\"Year\")+$E98<=$E$1,AL98+$E98,0),IF(AO$2=\"Repair %\",IF(AL98>0,$C$3,0),IF(AO$2=\"Spares %\",IF(IF(AL98>0,$C98,0)*100>50%,50%,IF(AL98>0,$C98,0)*100),0))))","v":0},{"$f":"IF(AO98=0,0,IF(AP$2=\"Year\",IF(_xlfn.MAXIFS($N98:AO98,$N$2:AO$2,\"Year\")+$E98<=$E$1,AM98+$E98,0),IF(AP$2=\"Repair %\",IF(AM98>0,$C98,0),IF(AP$2=\"Spares %\",IF(IF(AM98>0,$C98,0)*100>50%,50%,IF(AM98>0,$C98,0)*100),0))))","v":0},{"$f":"IF(AP98=0,0,IF(AQ$2=\"Year\",IF(_xlfn.MAXIFS($N98:AP98,$N$2:AP$2,\"Year\")+$E98<=$E$1,AN98+$E98,0),IF(AQ$2=\"Repair %\",IF(AN98>0,$C98,0),IF(AQ$2=\"Spares %\",IF(IF(AL98>0,$C98,0)*5>80%,50%,IF(AL98>0,$C98,0)*5),0))))","v":0}]
[{"$f":"INDEX('Avionics ID'!A:E,MATCH(B99,'Avionics ID'!E:E,0),1)","v":781},"HST 2100 ",0.1,0.06,10,"Obsolecence",{"$f":"SUBSTITUTE(ADDRESS(1,MATCH(A99,'Pt1-AvionicsComponentCosts'!$A$6:$NC$6,0)+1),\"$1\",\"\")","v":"$BB"},{"$f":"_xlfn.TEXTJOIN(\", \",TRUE,_xlfn.UNIQUE(_xlfn._xlws.SORT(_xlfn._xlws.FILTER('Pt1-AvionicsComponentCosts'!$NF$12:$NF$384,ISNUMBER(INDIRECT(\"'Pt1-AvionicsComponentCosts'!\"&G99&\"$12:\"&G99&\"$384\"))))))","v":"A350, B747, B777, B787"},null,0.06,0.1,0.501,1.2969999999999999,{"$f":"COUNTIF($N$2:N$2,\"Year\")*$G$1","v":10},null,1,{"$f":"COUNTIF($N$2:Q$2,\"Year\")*$G$1","v":20},{"$f":"IF(Q99=0,0,IF(R$2=\"Year\",IF(_xlfn.MAXIFS($N99:Q99,$N$2:Q$2,\"Year\")+$E99<=$E$1,O99+$E99,0),IF(R$2=\"Repair %\",IF(O99>0,$C99,0),IF(R$2=\"Spares %\",IF(IF(O99>0,$C99,0)*100>50%,50%,IF(O99>0,$C99,0)*100),0))))","v":0},1,{"$f":"COUNTIF($N$2:T$2,\"Year\")*$G$1","v":30},{"$f":"IF(T99=0,0,IF(U$2=\"Year\",IF(_xlfn.MAXIFS($N99:T99,$N$2:T$2,\"Year\")+$E99<=$E$1,R99+$E99,0),IF(U$2=\"Repair %\",IF(R99>0,$C99,0),IF(U$2=\"Spares %\",IF(IF(R99>0,$C99,0)*100>50%,50%,IF(R99>0,$C99,0)*100),0))))","v":0},1,{"$f":"COUNTIF($N$2:W$2,\"Year\")*$G$1","v":40},{"$f":"IF(W99=0,0,IF(X$2=\"Year\",IF(_xlfn.MAXIFS($N99:W99,$N$2:W$2,\"Year\")+$E99<=$E$1,U99+$E99,0),IF(X$2=\"Repair %\",IF(U99>0,$C99,0),IF(X$2=\"Spares %\",IF(IF(U99>0,$C99,0)*100>50%,50%,IF(U99>0,$C99,0)*100),0))))","v":0},1,{"$f":"IF(Y99=0,0,IF(Z$2=\"Year\",IF(_xlfn.MAXIFS($N99:Y99,$N$2:Y$2,\"Year\")+$E99<=$E$1,W99+$E99,0),IF(Z$2=\"Repair %\",IF(W99>0,$C$3,0),IF(Z$2=\"Spares %\",IF(IF(W99>0,$C99,0)*100>50%,50%,IF(W99>0,$C99,0)*100),0))))","v":0},{"$f":"IF(Z99=0,0,IF(AA$2=\"Year\",IF(_xlfn.MAXIFS($N99:Z99,$N$2:Z$2,\"Year\")+$E99<=$E$1,X99+$E99,0),IF(AA$2=\"Repair %\",IF(X99>0,$C99,0),IF(AA$2=\"Spares %\",IF(IF(X99>0,$C99,0)*100>50%,50%,IF(X99>0,$C99,0)*100),0))))","v":0},{"$f":"IF(AA99=0,0,IF(AB$2=\"Year\",IF(_xlfn.MAXIFS($N99:AA99,$N$2:AA$2,\"Year\")+$E99<=$E$1,Y99+$E99,0),IF(AB$2=\"Repair %\",IF(Y99>0,$C99,0),IF(AB$2=\"Spares %\",IF(IF(W99>0,$C99,0)*5>80%,50%,IF(W99>0,$C99,0)*5),0))))","v":0},{"$f":"IF(AB99=0,0,IF(AC$2=\"Year\",IF(_xlfn.MAXIFS($N99:AB99,$N$2:AB$2,\"Year\")+$E99<=$E$1,Z99+$E99,0),IF(AC$2=\"Repair %\",IF(Z99>0,$C$3,0),IF(AC$2=\"Spares %\",IF(IF(Z99>0,$C99,0)*100>50%,50%,IF(Z99>0,$C99,0)*100),0))))","v":0},{"$f":"IF(AC99=0,0,IF(AD$2=\"Year\",IF(_xlfn.MAXIFS($N99:AC99,$N$2:AC$2,\"Year\")+$E99<=$E$1,AA99+$E99,0),IF(AD$2=\"Repair %\",IF(AA99>0,$C99,0),IF(AD$2=\"Spares %\",IF(IF(AA99>0,$C99,0)*100>50%,50%,IF(AA99>0,$C99,0)*100),0))))","v":0},{"$f":"IF(AD99=0,0,IF(AE$2=\"Year\",IF(_xlfn.MAXIFS($N99:AD99,$N$2:AD$2,\"Year\")+$E99<=$E$1,AB99+$E99,0),IF(AE$2=\"Repair %\",IF(AB99>0,$C99,0),IF(AE$2=\"Spares %\",IF(IF(Z99>0,$C99,0)*5>80%,50%,IF(Z99>0,$C99,0)*5),0))))","v":0},{"$f":"IF(AE99=0,0,IF(AF$2=\"Year\",IF(_xlfn.MAXIFS($N99:AE99,$N$2:AE$2,\"Year\")+$E99<=$E$1,AC99+$E99,0),IF(AF$2=\"Repair %\",IF(AC99>0,$C$3,0),IF(AF$2=\"Spares %\",IF(IF(AC99>0,$C99,0)*100>50%,50%,IF(AC99>0,$C99,0)*100),0))))","v":0},{"$f":"IF(AF99=0,0,IF(AG$2=\"Year\",IF(_xlfn.MAXIFS($N99:AF99,$N$2:AF$2,\"Year\")+$E99<=$E$1,AD99+$E99,0),IF(AG$2=\"Repair %\",IF(AD99>0,$C99,0),IF(AG$2=\"Spares %\",IF(IF(AD99>0,$C99,0)*100>50%,50%,IF(AD99>0,$C99,0)*100),0))))","v":0},{"$f":"IF(AG99=0,0,IF(AH$2=\"Year\",IF(_xlfn.MAXIFS($N99:AG99,$N$2:AG$2,\"Year\")+$E99<=$E$1,AE99+$E99,0),IF(AH$2=\"Repair %\",IF(AE99>0,$C99,0),IF(AH$2=\"Spares %\",IF(IF(AC99>0,$C99,0)*5>80%,50%,IF(AC99>0,$C99,0)*5),0))))","v":0},{"$f":"IF(AH99=0,0,IF(AI$2=\"Year\",IF(_xlfn.MAXIFS($N99:AH99,$N$2:AH$2,\"Year\")+$E99<=$E$1,AF99+$E99,0),IF(AI$2=\"Repair %\",IF(AF99>0,$C$3,0),IF(AI$2=\"Spares %\",IF(IF(AF99>0,$C99,0)*100>50%,50%,IF(AF99>0,$C99,0)*100),0))))","v":0},{"$f":"IF(AI99=0,0,IF(AJ$2=\"Year\",IF(_xlfn.MAXIFS($N99:AI99,$N$2:AI$2,\"Year\")+$E99<=$E$1,AG99+$E99,0),IF(AJ$2=\"Repair %\",IF(AG99>0,$C99,0),IF(AJ$2=\"Spares %\",IF(IF(AG99>0,$C99,0)*100>50%,50%,IF(AG99>0,$C99,0)*100),0))))","v":0},{"$f":"IF(AJ99=0,0,IF(AK$2=\"Year\",IF(_xlfn.MAXIFS($N99:AJ99,$N$2:AJ$2,\"Year\")+$E99<=$E$1,AH99+$E99,0),IF(AK$2=\"Repair %\",IF(AH99>0,$C99,0),IF(AK$2=\"Spares %\",IF(IF(AF99>0,$C99,0)*5>80%,50%,IF(AF99>0,$C99,0)*5),0))))","v":0},{"$f":"IF(AK99=0,0,IF(AL$2=\"Year\",IF(_xlfn.MAXIFS($N99:AK99,$N$2:AK$2,\"Year\")+$E99<=$E$1,AI99+$E99,0),IF(AL$2=\"Repair %\",IF(AI99>0,$C$3,0),IF(AL$2=\"Spares %\",IF(IF(AI99>0,$C99,0)*100>50%,50%,IF(AI99>0,$C99,0)*100),0))))","v":0},{"$f":"IF(AL99=0,0,IF(AM$2=\"Year\",IF(_xlfn.MAXIFS($N99:AL99,$N$2:AL$2,\"Year\")+$E99<=$E$1,AJ99+$E99,0),IF(AM$2=\"Repair %\",IF(AJ99>0,$C99,0),IF(AM$2=\"Spares %\",IF(IF(AJ99>0,$C99,0)*100>50%,50%,IF(AJ99>0,$C99,0)*100),0))))","v":0},{"$f":"IF(AM99=0,0,IF(AN$2=\"Year\",IF(_xlfn.MAXIFS($N99:AM99,$N$2:AM$2,\"Year\")+$E99<=$E$1,AK99+$E99,0),IF(AN$2=\"Repair %\",IF(AK99>0,$C99,0),IF(AN$2=\"Spares %\",IF(IF(AI99>0,$C99,0)*5>80%,50%,IF(AI99>0,$C99,0)*5),0))))","v":0},{"$f":"IF(AN99=0,0,IF(AO$2=\"Year\",IF(_xlfn.MAXIFS($N99:AN99,$N$2:AN$2,\"Year\")+$E99<=$E$1,AL99+$E99,0),IF(AO$2=\"Repair %\",IF(AL99>0,$C$3,0),IF(AO$2=\"Spares %\",IF(IF(AL99>0,$C99,0)*100>50%,50%,IF(AL99>0,$C99,0)*100),0))))","v":0},{"$f":"IF(AO99=0,0,IF(AP$2=\"Year\",IF(_xlfn.MAXIFS($N99:AO99,$N$2:AO$2,\"Year\")+$E99<=$E$1,AM99+$E99,0),IF(AP$2=\"Repair %\",IF(AM99>0,$C99,0),IF(AP$2=\"Spares %\",IF(IF(AM99>0,$C99,0)*100>50%,50%,IF(AM99>0,$C99,0)*100),0))))","v":0},{"$f":"IF(AP99=0,0,IF(AQ$2=\"Year\",IF(_xlfn.MAXIFS($N99:AP99,$N$2:AP$2,\"Year\")+$E99<=$E$1,AN99+$E99,0),IF(AQ$2=\"Repair %\",IF(AN99>0,$C99,0),IF(AQ$2=\"Spares %\",IF(IF(AL99>0,$C99,0)*5>80%,50%,IF(AL99>0,$C99,0)*5),0))))","v":0}]
[{"$f":"INDEX('Avionics ID'!A:E,MATCH(B100,'Avionics ID'!E:E,0),1)","v":730},"HUD display system",0.05,0.06,20,"Obsolecence",{"$f":"SUBSTITUTE(ADDRESS(1,MATCH(A100,'Pt1-AvionicsComponentCosts'!$A$6:$NC$6,0)+1),\"$1\",\"\")","v":"$FB"},{"$f":"_xlfn.TEXTJOIN(\", \",TRUE,_xlfn.UNIQUE(_xlfn._xlws.SORT(_xlfn._xlws.FILTER('Pt1-AvionicsComponentCosts'!$NF$12:$NF$384,ISNUMBER(INDIRECT(\"'Pt1-AvionicsComponentCosts'!\"&G100&\"$12:\"&G100&\"$384\"))))))","v":"A220, A320, A321, A330 LMXT, A330 MRTT, A350, ARJ, ATR, B717, B737, B747, B757, B777, B787, C919, CRJ, EMB Regional, MC-21, Mil Fighter, Mil Transport, Military Jet, Military TP, NSA, Reg TP, Superjet 100, Turbine GA"},null,0.06,0.05,0.35299999999999998,1.8460000000000001,{"$f":"COUNTIF($N$2:N$2,\"Year\")*$G$1","v":10},null,0,{"$f":"COUNTIF($N$2:Q$2,\"Year\")*$G$1","v":20},{"$f":"IF(Q100=0,0,IF(R$2=\"Year\",IF(_xlfn.MAXIFS($N100:Q100,$N$2:Q$2,\"Year\")+$E100<=$E$1,O100+$E100,0),IF(R$2=\"Repair %\",IF(O100>0,$C100,0),IF(R$2=\"Spares %\",IF(IF(O100>0,$C100,0)*100>50%,50%,IF(O100>0,$C100,0)*100),0))))","v":0},1,{"$f":"COUNTIF($N$2:T$2,\"Year\")*$G$1","v":30},{"$f":"IF(T100=0,0,IF(U$2=\"Year\",IF(_xlfn.MAXIFS($N100:T100,$N$2:T$2,\"Year\")+$E100<=$E$1,R100+$E100,0),IF(U$2=\"Repair %\",IF(R100>0,$C100,0),IF(U$2=\"Spares %\",IF(IF(R100>0,$C100,0)*100>50%,50%,IF(R100>0,$C100,0)*100),0))))","v":0},0,{"$f":"COUNTIF($N$2:W$2,\"Year\")*$G$1","v":40},{"$f":"IF(W100=0,0,IF(X$2=\"Year\",IF(_xlfn.MAXIFS($N100:W100,$N$2:W$2,\"Year\")+$E100<=$E$1,U100+$E100,0),IF(X$2=\"Repair %\",IF(U100>0,$C100,0),IF(X$2=\"Spares %\",IF(IF(U100>0,$C100,0)*100>50%,50%,IF(U100>0,$C100,0)*100),0))))","v":0},1,{"$f":"IF(Y100=0,0,IF(Z$2=\"Year\",IF(_xlfn.MAXIFS($N100:Y100,$N$2:Y$2,\"Year\")+$E100<=$E$1,W100+$E100,0),IF(Z$2=\"Repair %\",IF(W100>0,$C$3,0),IF(Z$2=\"Spares %\",IF(IF(W100>0,$C100,0)*100>50%,50%,IF(W100>0,$C100,0)*100),0))))","v":0},{"$f":"IF(Z100=0,0,IF(AA$2=\"Year\",IF(_xlfn.MAXIFS($N100:Z100,$N$2:Z$2,\"Year\")+$E100<=$E$1,X100+$E100,0),IF(AA$2=\"Repair %\",IF(X100>0,$C100,0),IF(AA$2=\"Spares %\",IF(IF(X100>0,$C100,0)*100>50%,50%,IF(X100>0,$C100,0)*100),0))))","v":0},{"$f":"IF(AA100=0,0,IF(AB$2=\"Year\",IF(_xlfn.MAXIFS($N100:AA100,$N$2:AA$2,\"Year\")+$E100<=$E$1,Y100+$E100,0),IF(AB$2=\"Repair %\",IF(Y100>0,$C100,0),IF(AB$2=\"Spares %\",IF(IF(W100>0,$C100,0)*5>80%,50%,IF(W100>0,$C100,0)*5),0))))","v":0},{"$f":"IF(AB100=0,0,IF(AC$2=\"Year\",IF(_xlfn.MAXIFS($N100:AB100,$N$2:AB$2,\"Year\")+$E100<=$E$1,Z100+$E100,0),IF(AC$2=\"Repair %\",IF(Z100>0,$C$3,0),IF(AC$2=\"Spares %\",IF(IF(Z100>0,$C100,0)*100>50%,50%,IF(Z100>0,$C100,0)*100),0))))","v":0},{"$f":"IF(AC100=0,0,IF(AD$2=\"Year\",IF(_xlfn.MAXIFS($N100:AC100,$N$2:AC$2,\"Year\")+$E100<=$E$1,AA100+$E100,0),IF(AD$2=\"Repair %\",IF(AA100>0,$C100,0),IF(AD$2=\"Spares %\",IF(IF(AA100>0,$C100,0)*100>50%,50%,IF(AA100>0,$C100,0)*100),0))))","v":0},{"$f":"IF(AD100=0,0,IF(AE$2=\"Year\",IF(_xlfn.MAXIFS($N100:AD100,$N$2:AD$2,\"Year\")+$E100<=$E$1,AB100+$E100,0),IF(AE$2=\"Repair %\",IF(AB100>0,$C100,0),IF(AE$2=\"Spares %\",IF(IF(Z100>0,$C100,0)*5>80%,50%,IF(Z100>0,$C100,0)*5),0))))","v":0},{"$f":"IF(AE100=0,0,IF(AF$2=\"Year\",IF(_xlfn.MAXIFS($N100:AE100,$N$2:AE$2,\"Year\")+$E100<=$E$1,AC100+$E100,0),IF(AF$2=\"Repair %\",IF(AC100>0,$C$3,0),IF(AF$2=\"Spares %\",IF(IF(AC100>0,$C100,0)*100>50%,50%,IF(AC100>0,$C100,0)*100),0))))","v":0},{"$f":"IF(AF100=0,0,IF(AG$2=\"Year\",IF(_xlfn.MAXIFS($N100:AF100,$N$2:AF$2,\"Year\")+$E100<=$E$1,AD100+$E100,0),IF(AG$2=\"Repair %\",IF(AD100>0,$C100,0),IF(AG$2=\"Spares %\",IF(IF(AD100>0,$C100,0)*100>50%,50%,IF(AD100>0,$C100,0)*100),0))))","v":0},{"$f":"IF(AG100=0,0,IF(AH$2=\"Year\",IF(_xlfn.MAXIFS($N100:AG100,$N$2:AG$2,\"Year\")+$E100<=$E$1,AE100+$E100,0),IF(AH$2=\"Repair %\",IF(AE100>0,$C100,0),IF(AH$2=\"Spares %\",IF(IF(AC100>0,$C100,0)*5>80%,50%,IF(AC100>0,$C100,0)*5),0))))","v":0},{"$f":"IF(AH100=0,0,IF(AI$2=\"Year\",IF(_xlfn.MAXIFS($N100:AH100,$N$2:AH$2,\"Year\")+$E100<=$E$1,AF100+$E100,0),IF(AI$2=\"Repair %\",IF(AF100>0,$C$3,0),IF(AI$2=\"Spares %\",IF(IF(AF100>0,$C100,0)*100>50%,50%,IF(AF100>0,$C100,0)*100),0))))","v":0},{"$f":"IF(AI100=0,0,IF(AJ$2=\"Year\",IF(_xlfn.MAXIFS($N100:AI100,$N$2:AI$2,\"Year\")+$E100<=$E$1,AG100+$E100,0),IF(AJ$2=\"Repair %\",IF(AG100>0,$C100,0),IF(AJ$2=\"Spares %\",IF(IF(AG100>0,$C100,0)*100>50%,50%,IF(AG100>0,$C100,0)*100),0))))","v":0},{"$f":"IF(AJ100=0,0,IF(AK$2=\"Year\",IF(_xlfn.MAXIFS($N100:AJ100,$N$2:AJ$2,\"Year\")+$E100<=$E$1,AH100+$E100,0),IF(AK$2=\"Repair %\",IF(AH100>0,$C100,0),IF(AK$2=\"Spares %\",IF(IF(AF100>0,$C100,0)*5>80%,50%,IF(AF100>0,$C100,0)*5),0))))","v":0},{"$f":"IF(AK100=0,0,IF(AL$2=\"Year\",IF(_xlfn.MAXIFS($N100:AK100,$N$2:AK$2,\"Year\")+$E100<=$E$1,AI100+$E100,0),IF(AL$2=\"Repair %\",IF(AI100>0,$C$3,0),IF(AL$2=\"Spares %\",IF(IF(AI100>0,$C100,0)*100>50%,50%,IF(AI100>0,$C100,0)*100),0))))","v":0},{"$f":"IF(AL100=0,0,IF(AM$2=\"Year\",IF(_xlfn.MAXIFS($N100:AL100,$N$2:AL$2,\"Year\")+$E100<=$E$1,AJ100+$E100,0),IF(AM$2=\"Repair %\",IF(AJ100>0,$C100,0),IF(AM$2=\"Spares %\",IF(IF(AJ100>0,$C100,0)*100>50%,50%,IF(AJ100>0,$C100,0)*100),0))))","v":0},{"$f":"IF(AM100=0,0,IF(AN$2=\"Year\",IF(_xlfn.MAXIFS($N100:AM100,$N$2:AM$2,\"Year\")+$E100<=$E$1,AK100+$E100,0),IF(AN$2=\"Repair %\",IF(AK100>0,$C100,0),IF(AN$2=\"Spares %\",IF(IF(AI100>0,$C100,0)*5>80%,50%,IF(AI100>0,$C100,0)*5),0))))","v":0},{"$f":"IF(AN100=0,0,IF(AO$2=\"Year\",IF(_xlfn.MAXIFS($N100:AN100,$N$2:AN$2,\"Year\")+$E100<=$E$1,AL100+$E100,0),IF(AO$2=\"Repair %\",IF(AL100>0,$C$3,0),IF(AO$2=\"Spares %\",IF(IF(AL100>0,$C100,0)*100>50%,50%,IF(AL100>0,$C100,0)*100),0))))","v":0},{"$f":"IF(AO100=0,0,IF(AP$2=\"Year\",IF(_xlfn.MAXIFS($N100:AO100,$N$2:AO$2,\"Year\")+$E100<=$E$1,AM100+$E100,0),IF(AP$2=\"Repair %\",IF(AM100>0,$C100,0),IF(AP$2=\"Spares %\",IF(IF(AM100>0,$C100,0)*100>50%,50%,IF(AM100>0,$C100,0)*100),0))))","v":0},{"$f":"IF(AP100=0,0,IF(AQ$2=\"Year\",IF(_xlfn.MAXIFS($N100:AP100,$N$2:AP$2,\"Year\")+$E100<=$E$1,AN100+$E100,0),IF(AQ$2=\"Repair %\",IF(AN100>0,$C100,0),IF(AQ$2=\"Spares %\",IF(IF(AL100>0,$C100,0)*5>80%,50%,IF(AL100>0,$C100,0)*5),0))))","v":0}]
[{"$f":"INDEX('Avionics ID'!A:E,MATCH(B101,'Avionics ID'!E:E,0),1)","v":833},"IMA",0,0.06,null,"",{"$f":"SUBSTITUTE(ADDRESS(1,MATCH(A101,'Pt1-AvionicsComponentCosts'!$A$6:$NC$6,0)+1),\"$1\",\"\")","v":"$HL"},{"$f":"_xlfn.TEXTJOIN(\", \",TRUE,_xlfn.UNIQUE(_xlfn._xlws.SORT(_xlfn._xlws.FILTER('Pt1-AvionicsComponentCosts'!$NF$12:$NF$384,ISNUMBER(INDIRECT(\"'Pt1-AvionicsComponentCosts'!\"&G101&\"$12:\"&G101&\"$384\"))))))","v":"A330 LMXT, A330 MRTT, Attack Helo, Helo, Mil Transport, Military Jet, Military TP"},null,0.06,0,0.35499999999999998,1.0509999999999999,{"$f":"COUNTIF($N$2:N$2,\"Year\")*$G$1","v":10},null,0,{"$f":"COUNTIF($N$2:Q$2,\"Year\")*$G$1","v":20},{"$f":"IF(Q101=0,0,IF(R$2=\"Year\",IF(_xlfn.MAXIFS($N101:Q101,$N$2:Q$2,\"Year\")+$E101<=$E$1,O101+$E101,0),IF(R$2=\"Repair %\",IF(O101>0,$C101,0),IF(R$2=\"Spares %\",IF(IF(O101>0,$C101,0)*100>50%,50%,IF(O101>0,$C101,0)*100),0))))","v":0},0,{"$f":"COUNTIF($N$2:T$2,\"Year\")*$G$1","v":30},{"$f":"IF(T101=0,0,IF(U$2=\"Year\",IF(_xlfn.MAXIFS($N101:T101,$N$2:T$2,\"Year\")+$E101<=$E$1,R101+$E101,0),IF(U$2=\"Repair %\",IF(R101>0,$C101,0),IF(U$2=\"Spares %\",IF(IF(R101>0,$C101,0)*100>50%,50%,IF(R101>0,$C101,0)*100),0))))","v":0},0,{"$f":"COUNTIF($N$2:W$2,\"Year\")*$G$1","v":40},{"$f":"IF(W101=0,0,IF(X$2=\"Year\",IF(_xlfn.MAXIFS($N101:W101,$N$2:W$2,\"Year\")+$E101<=$E$1,U101+$E101,0),IF(X$2=\"Repair %\",IF(U101>0,$C101,0),IF(X$2=\"Spares %\",IF(IF(U101>0,$C101,0)*100>50%,50%,IF(U101>0,$C101,0)*100),0))))","v":0},0,{"$f":"IF(Y101=0,0,IF(Z$2=\"Year\",IF(_xlfn.MAXIFS($N101:Y101,$N$2:Y$2,\"Year\")+$E101<=$E$1,W101+$E101,0),IF(Z$2=\"Repair %\",IF(W101>0,$C$3,0),IF(Z$2=\"Spares %\",IF(IF(W101>0,$C101,0)*100>50%,50%,IF(W101>0,$C101,0)*100),0))))","v":0},{"$f":"IF(Z101=0,0,IF(AA$2=\"Year\",IF(_xlfn.MAXIFS($N101:Z101,$N$2:Z$2,\"Year\")+$E101<=$E$1,X101+$E101,0),IF(AA$2=\"Repair %\",IF(X101>0,$C101,0),IF(AA$2=\"Spares %\",IF(IF(X101>0,$C101,0)*100>50%,50%,IF(X101>0,$C101,0)*100),0))))","v":0},{"$f":"IF(AA101=0,0,IF(AB$2=\"Year\",IF(_xlfn.MAXIFS($N101:AA101,$N$2:AA$2,\"Year\")+$E101<=$E$1,Y101+$E101,0),IF(AB$2=\"Repair %\",IF(Y101>0,$C101,0),IF(AB$2=\"Spares %\",IF(IF(W101>0,$C101,0)*5>80%,50%,IF(W101>0,$C101,0)*5),0))))","v":0},{"$f":"IF(AB101=0,0,IF(AC$2=\"Year\",IF(_xlfn.MAXIFS($N101:AB101,$N$2:AB$2,\"Year\")+$E101<=$E$1,Z101+$E101,0),IF(AC$2=\"Repair %\",IF(Z101>0,$C$3,0),IF(AC$2=\"Spares %\",IF(IF(Z101>0,$C101,0)*100>50%,50%,IF(Z101>0,$C101,0)*100),0))))","v":0},{"$f":"IF(AC101=0,0,IF(AD$2=\"Year\",IF(_xlfn.MAXIFS($N101:AC101,$N$2:AC$2,\"Year\")+$E101<=$E$1,AA101+$E101,0),IF(AD$2=\"Repair %\",IF(AA101>0,$C101,0),IF(AD$2=\"Spares %\",IF(IF(AA101>0,$C101,0)*100>50%,50%,IF(AA101>0,$C101,0)*100),0))))","v":0},{"$f":"IF(AD101=0,0,IF(AE$2=\"Year\",IF(_xlfn.MAXIFS($N101:AD101,$N$2:AD$2,\"Year\")+$E101<=$E$1,AB101+$E101,0),IF(AE$2=\"Repair %\",IF(AB101>0,$C101,0),IF(AE$2=\"Spares %\",IF(IF(Z101>0,$C101,0)*5>80%,50%,IF(Z101>0,$C101,0)*5),0))))","v":0},{"$f":"IF(AE101=0,0,IF(AF$2=\"Year\",IF(_xlfn.MAXIFS($N101:AE101,$N$2:AE$2,\"Year\")+$E101<=$E$1,AC101+$E101,0),IF(AF$2=\"Repair %\",IF(AC101>0,$C$3,0),IF(AF$2=\"Spares %\",IF(IF(AC101>0,$C101,0)*100>50%,50%,IF(AC101>0,$C101,0)*100),0))))","v":0},{"$f":"IF(AF101=0,0,IF(AG$2=\"Year\",IF(_xlfn.MAXIFS($N101:AF101,$N$2:AF$2,\"Year\")+$E101<=$E$1,AD101+$E101,0),IF(AG$2=\"Repair %\",IF(AD101>0,$C101,0),IF(AG$2=\"Spares %\",IF(IF(AD101>0,$C101,0)*100>50%,50%,IF(AD101>0,$C101,0)*100),0))))","v":0},{"$f":"IF(AG101=0,0,IF(AH$2=\"Year\",IF(_xlfn.MAXIFS($N101:AG101,$N$2:AG$2,\"Year\")+$E101<=$E$1,AE101+$E101,0),IF(AH$2=\"Repair %\",IF(AE101>0,$C101,0),IF(AH$2=\"Spares %\",IF(IF(AC101>0,$C101,0)*5>80%,50%,IF(AC101>0,$C101,0)*5),0))))","v":0},{"$f":"IF(AH101=0,0,IF(AI$2=\"Year\",IF(_xlfn.MAXIFS($N101:AH101,$N$2:AH$2,\"Year\")+$E101<=$E$1,AF101+$E101,0),IF(AI$2=\"Repair %\",IF(AF101>0,$C$3,0),IF(AI$2=\"Spares %\",IF(IF(AF101>0,$C101,0)*100>50%,50%,IF(AF101>0,$C101,0)*100),0))))","v":0},{"$f":"IF(AI101=0,0,IF(AJ$2=\"Year\",IF(_xlfn.MAXIFS($N101:AI101,$N$2:AI$2,\"Year\")+$E101<=$E$1,AG101+$E101,0),IF(AJ$2=\"Repair %\",IF(AG101>0,$C101,0),IF(AJ$2=\"Spares %\",IF(IF(AG101>0,$C101,0)*100>50%,50%,IF(AG101>0,$C101,0)*100),0))))","v":0},{"$f":"IF(AJ101=0,0,IF(AK$2=\"Year\",IF(_xlfn.MAXIFS($N101:AJ101,$N$2:AJ$2,\"Year\")+$E101<=$E$1,AH101+$E101,0),IF(AK$2=\"Repair %\",IF(AH101>0,$C101,0),IF(AK$2=\"Spares %\",IF(IF(AF101>0,$C101,0)*5>80%,50%,IF(AF101>0,$C101,0)*5),0))))","v":0},{"$f":"IF(AK101=0,0,IF(AL$2=\"Year\",IF(_xlfn.MAXIFS($N101:AK101,$N$2:AK$2,\"Year\")+$E101<=$E$1,AI101+$E101,0),IF(AL$2=\"Repair %\",IF(AI101>0,$C$3,0),IF(AL$2=\"Spares %\",IF(IF(AI101>0,$C101,0)*100>50%,50%,IF(AI101>0,$C101,0)*100),0))))","v":0},{"$f":"IF(AL101=0,0,IF(AM$2=\"Year\",IF(_xlfn.MAXIFS($N101:AL101,$N$2:AL$2,\"Year\")+$E101<=$E$1,AJ101+$E101,0),IF(AM$2=\"Repair %\",IF(AJ101>0,$C101,0),IF(AM$2=\"Spares %\",IF(IF(AJ101>0,$C101,0)*100>50%,50%,IF(AJ101>0,$C101,0)*100),0))))","v":0},{"$f":"IF(AM101=0,0,IF(AN$2=\"Year\",IF(_xlfn.MAXIFS($N101:AM101,$N$2:AM$2,\"Year\")+$E101<=$E$1,AK101+$E101,0),IF(AN$2=\"Repair %\",IF(AK101>0,$C101,0),IF(AN$2=\"Spares %\",IF(IF(AI101>0,$C101,0)*5>80%,50%,IF(AI101>0,$C101,0)*5),0))))","v":0},{"$f":"IF(AN101=0,0,IF(AO$2=\"Year\",IF(_xlfn.MAXIFS($N101:AN101,$N$2:AN$2,\"Year\")+$E101<=$E$1,AL101+$E101,0),IF(AO$2=\"Repair %\",IF(AL101>0,$C$3,0),IF(AO$2=\"Spares %\",IF(IF(AL101>0,$C101,0)*100>50%,50%,IF(AL101>0,$C101,0)*100),0))))","v":0},{"$f":"IF(AO101=0,0,IF(AP$2=\"Year\",IF(_xlfn.MAXIFS($N101:AO101,$N$2:AO$2,\"Year\")+$E101<=$E$1,AM101+$E101,0),IF(AP$2=\"Repair %\",IF(AM101>0,$C101,0),IF(AP$2=\"Spares %\",IF(IF(AM101>0,$C101,0)*100>50%,50%,IF(AM101>0,$C101,0)*100),0))))","v":0},{"$f":"IF(AP101=0,0,IF(AQ$2=\"Year\",IF(_xlfn.MAXIFS($N101:AP101,$N$2:AP$2,\"Year\")+$E101<=$E$1,AN101+$E101,0),IF(AQ$2=\"Repair %\",IF(AN101>0,$C101,0),IF(AQ$2=\"Spares %\",IF(IF(AL101>0,$C101,0)*5>80%,50%,IF(AL101>0,$C101,0)*5),0))))","v":0}]
[{"$f":"INDEX('Avionics ID'!A:E,MATCH(B102,'Avionics ID'!E:E,0),1)","v":813},"IN/GPS system ",0.05,0.06,20,"Obsolecence",{"$f":"SUBSTITUTE(ADDRESS(1,MATCH(A102,'Pt1-AvionicsComponentCosts'!$A$6:$NC$6,0)+1),\"$1\",\"\")","v":"$JJ"},{"$f":"_xlfn.TEXTJOIN(\", \",TRUE,_xlfn.UNIQUE(_xlfn._xlws.SORT(_xlfn._xlws.FILTER('Pt1-AvionicsComponentCosts'!$NF$12:$NF$384,ISNUMBER(INDIRECT(\"'Pt1-AvionicsComponentCosts'!\"&G102&\"$12:\"&G102&\"$384\"))))))","v":"Mil Fighter"},null,0.06,0.05,0.35399999999999998,1.829,{"$f":"COUNTIF($N$2:N$2,\"Year\")*$G$1","v":10},null,0,{"$f":"COUNTIF($N$2:Q$2,\"Year\")*$G$1","v":20},{"$f":"IF(Q102=0,0,IF(R$2=\"Year\",IF(_xlfn.MAXIFS($N102:Q102,$N$2:Q$2,\"Year\")+$E102<=$E$1,O102+$E102,0),IF(R$2=\"Repair %\",IF(O102>0,$C102,0),IF(R$2=\"Spares %\",IF(IF(O102>0,$C102,0)*100>50%,50%,IF(O102>0,$C102,0)*100),0))))","v":0},1,{"$f":"COUNTIF($N$2:T$2,\"Year\")*$G$1","v":30},{"$f":"IF(T102=0,0,IF(U$2=\"Year\",IF(_xlfn.MAXIFS($N102:T102,$N$2:T$2,\"Year\")+$E102<=$E$1,R102+$E102,0),IF(U$2=\"Repair %\",IF(R102>0,$C102,0),IF(U$2=\"Spares %\",IF(IF(R102>0,$C102,0)*100>50%,50%,IF(R102>0,$C102,0)*100),0))))","v":0},0,{"$f":"COUNTIF($N$2:W$2,\"Year\")*$G$1","v":40},{"$f":"IF(W102=0,0,IF(X$2=\"Year\",IF(_xlfn.MAXIFS($N102:W102,$N$2:W$2,\"Year\")+$E102<=$E$1,U102+$E102,0),IF(X$2=\"Repair %\",IF(U102>0,$C102,0),IF(X$2=\"Spares %\",IF(IF(U102>0,$C102,0)*100>50%,50%,IF(U102>0,$C102,0)*100),0))))","v":0},1,{"$f":"IF(Y102=0,0,IF(Z$2=\"Year\",IF(_xlfn.MAXIFS($N102:Y102,$N$2:Y$2,\"Year\")+$E102<=$E$1,W102+$E102,0),IF(Z$2=\"Repair %\",IF(W102>0,$C$3,0),IF(Z$2=\"Spares %\",IF(IF(W102>0,$C102,0)*100>50%,50%,IF(W102>0,$C102,0)*100),0))))","v":0},{"$f":"IF(Z102=0,0,IF(AA$2=\"Year\",IF(_xlfn.MAXIFS($N102:Z102,$N$2:Z$2,\"Year\")+$E102<=$E$1,X102+$E102,0),IF(AA$2=\"Repair %\",IF(X102>0,$C102,0),IF(AA$2=\"Spares %\",IF(IF(X102>0,$C102,0)*100>50%,50%,IF(X102>0,$C102,0)*100),0))))","v":0},{"$f":"IF(AA102=0,0,IF(AB$2=\"Year\",IF(_xlfn.MAXIFS($N102:AA102,$N$2:AA$2,\"Year\")+$E102<=$E$1,Y102+$E102,0),IF(AB$2=\"Repair %\",IF(Y102>0,$C102,0),IF(AB$2=\"Spares %\",IF(IF(W102>0,$C102,0)*5>80%,50%,IF(W102>0,$C102,0)*5),0))))","v":0},{"$f":"IF(AB102=0,0,IF(AC$2=\"Year\",IF(_xlfn.MAXIFS($N102:AB102,$N$2:AB$2,\"Year\")+$E102<=$E$1,Z102+$E102,0),IF(AC$2=\"Repair %\",IF(Z102>0,$C$3,0),IF(AC$2=\"Spares %\",IF(IF(Z102>0,$C102,0)*100>50%,50%,IF(Z102>0,$C102,0)*100),0))))","v":0},{"$f":"IF(AC102=0,0,IF(AD$2=\"Year\",IF(_xlfn.MAXIFS($N102:AC102,$N$2:AC$2,\"Year\")+$E102<=$E$1,AA102+$E102,0),IF(AD$2=\"Repair %\",IF(AA102>0,$C102,0),IF(AD$2=\"Spares %\",IF(IF(AA102>0,$C102,0)*100>50%,50%,IF(AA102>0,$C102,0)*100),0))))","v":0},{"$f":"IF(AD102=0,0,IF(AE$2=\"Year\",IF(_xlfn.MAXIFS($N102:AD102,$N$2:AD$2,\"Year\")+$E102<=$E$1,AB102+$E102,0),IF(AE$2=\"Repair %\",IF(AB102>0,$C102,0),IF(AE$2=\"Spares %\",IF(IF(Z102>0,$C102,0)*5>80%,50%,IF(Z102>0,$C102,0)*5),0))))","v":0},{"$f":"IF(AE102=0,0,IF(AF$2=\"Year\",IF(_xlfn.MAXIFS($N102:AE102,$N$2:AE$2,\"Year\")+$E102<=$E$1,AC102+$E102,0),IF(AF$2=\"Repair %\",IF(AC102>0,$C$3,0),IF(AF$2=\"Spares %\",IF(IF(AC102>0,$C102,0)*100>50%,50%,IF(AC102>0,$C102,0)*100),0))))","v":0},{"$f":"IF(AF102=0,0,IF(AG$2=\"Year\",IF(_xlfn.MAXIFS($N102:AF102,$N$2:AF$2,\"Year\")+$E102<=$E$1,AD102+$E102,0),IF(AG$2=\"Repair %\",IF(AD102>0,$C102,0),IF(AG$2=\"Spares %\",IF(IF(AD102>0,$C102,0)*100>50%,50%,IF(AD102>0,$C102,0)*100),0))))","v":0},{"$f":"IF(AG102=0,0,IF(AH$2=\"Year\",IF(_xlfn.MAXIFS($N102:AG102,$N$2:AG$2,\"Year\")+$E102<=$E$1,AE102+$E102,0),IF(AH$2=\"Repair %\",IF(AE102>0,$C102,0),IF(AH$2=\"Spares %\",IF(IF(AC102>0,$C102,0)*5>80%,50%,IF(AC102>0,$C102,0)*5),0))))","v":0},{"$f":"IF(AH102=0,0,IF(AI$2=\"Year\",IF(_xlfn.MAXIFS($N102:AH102,$N$2:AH$2,\"Year\")+$E102<=$E$1,AF102+$E102,0),IF(AI$2=\"Repair %\",IF(AF102>0,$C$3,0),IF(AI$2=\"Spares %\",IF(IF(AF102>0,$C102,0)*100>50%,50%,IF(AF102>0,$C102,0)*100),0))))","v":0},{"$f":"IF(AI102=0,0,IF(AJ$2=\"Year\",IF(_xlfn.MAXIFS($N102:AI102,$N$2:AI$2,\"Year\")+$E102<=$E$1,AG102+$E102,0),IF(AJ$2=\"Repair %\",IF(AG102>0,$C102,0),IF(AJ$2=\"Spares %\",IF(IF(AG102>0,$C102,0)*100>50%,50%,IF(AG102>0,$C102,0)*100),0))))","v":0},{"$f":"IF(AJ102=0,0,IF(AK$2=\"Year\",IF(_xlfn.MAXIFS($N102:AJ102,$N$2:AJ$2,\"Year\")+$E102<=$E$1,AH102+$E102,0),IF(AK$2=\"Repair %\",IF(AH102>0,$C102,0),IF(AK$2=\"Spares %\",IF(IF(AF102>0,$C102,0)*5>80%,50%,IF(AF102>0,$C102,0)*5),0))))","v":0},{"$f":"IF(AK102=0,0,IF(AL$2=\"Year\",IF(_xlfn.MAXIFS($N102:AK102,$N$2:AK$2,\"Year\")+$E102<=$E$1,AI102+$E102,0),IF(AL$2=\"Repair %\",IF(AI102>0,$C$3,0),IF(AL$2=\"Spares %\",IF(IF(AI102>0,$C102,0)*100>50%,50%,IF(AI102>0,$C102,0)*100),0))))","v":0},{"$f":"IF(AL102=0,0,IF(AM$2=\"Year\",IF(_xlfn.MAXIFS($N102:AL102,$N$2:AL$2,\"Year\")+$E102<=$E$1,AJ102+$E102,0),IF(AM$2=\"Repair %\",IF(AJ102>0,$C102,0),IF(AM$2=\"Spares %\",IF(IF(AJ102>0,$C102,0)*100>50%,50%,IF(AJ102>0,$C102,0)*100),0))))","v":0},{"$f":"IF(AM102=0,0,IF(AN$2=\"Year\",IF(_xlfn.MAXIFS($N102:AM102,$N$2:AM$2,\"Year\")+$E102<=$E$1,AK102+$E102,0),IF(AN$2=\"Repair %\",IF(AK102>0,$C102,0),IF(AN$2=\"Spares %\",IF(IF(AI102>0,$C102,0)*5>80%,50%,IF(AI102>0,$C102,0)*5),0))))","v":0},{"$f":"IF(AN102=0,0,IF(AO$2=\"Year\",IF(_xlfn.MAXIFS($N102:AN102,$N$2:AN$2,\"Year\")+$E102<=$E$1,AL102+$E102,0),IF(AO$2=\"Repair %\",IF(AL102>0,$C$3,0),IF(AO$2=\"Spares %\",IF(IF(AL102>0,$C102,0)*100>50%,50%,IF(AL102>0,$C102,0)*100),0))))","v":0},{"$f":"IF(AO102=0,0,IF(AP$2=\"Year\",IF(_xlfn.MAXIFS($N102:AO102,$N$2:AO$2,\"Year\")+$E102<=$E$1,AM102+$E102,0),IF(AP$2=\"Repair %\",IF(AM102>0,$C102,0),IF(AP$2=\"Spares %\",IF(IF(AM102>0,$C102,0)*100>50%,50%,IF(AM102>0,$C102,0)*100),0))))","v":0},{"$f":"IF(AP102=0,0,IF(AQ$2=\"Year\",IF(_xlfn.MAXIFS($N102:AP102,$N$2:AP$2,\"Year\")+$E102<=$E$1,AN102+$E102,0),IF(AQ$2=\"Repair %\",IF(AN102>0,$C102,0),IF(AQ$2=\"Spares %\",IF(IF(AL102>0,$C102,0)*5>80%,50%,IF(AL102>0,$C102,0)*5),0))))","v":0}]
[{"$f":"INDEX('Avionics ID'!A:E,MATCH(B103,'Avionics ID'!E:E,0),1)","v":826},"Inertial Ref Unit (IRU)",0.1,0.06,10,"Obsolecence",{"$f":"SUBSTITUTE(ADDRESS(1,MATCH(A103,'Pt1-AvionicsComponentCosts'!$A$6:$NC$6,0)+1),\"$1\",\"\")","v":"$JL"},{"$f":"_xlfn.TEXTJOIN(\", \",TRUE,_xlfn.UNIQUE(_xlfn._xlws.SORT(_xlfn._xlws.FILTER('Pt1-AvionicsComponentCosts'!$NF$12:$NF$384,ISNUMBER(INDIRECT(\"'Pt1-AvionicsComponentCosts'!\"&G103&\"$12:\"&G103&\"$384\"))))))","v":"Challenger, Citation, E550, EMB Bizjet, Falcon, Global, Gulfstream, Hawker, Hondajet, Learjet, Nextant 400XT, PC-24, Phenom, Praetor, SF50"},null,0.06,0.1,0.35399999999999998,1.829,{"$f":"COUNTIF($N$2:N$2,\"Year\")*$G$1","v":10},null,1,{"$f":"COUNTIF($N$2:Q$2,\"Year\")*$G$1","v":20},{"$f":"IF(Q103=0,0,IF(R$2=\"Year\",IF(_xlfn.MAXIFS($N103:Q103,$N$2:Q$2,\"Year\")+$E103<=$E$1,O103+$E103,0),IF(R$2=\"Repair %\",IF(O103>0,$C103,0),IF(R$2=\"Spares %\",IF(IF(O103>0,$C103,0)*100>50%,50%,IF(O103>0,$C103,0)*100),0))))","v":0},1,{"$f":"COUNTIF($N$2:T$2,\"Year\")*$G$1","v":30},{"$f":"IF(T103=0,0,IF(U$2=\"Year\",IF(_xlfn.MAXIFS($N103:T103,$N$2:T$2,\"Year\")+$E103<=$E$1,R103+$E103,0),IF(U$2=\"Repair %\",IF(R103>0,$C103,0),IF(U$2=\"Spares %\",IF(IF(R103>0,$C103,0)*100>50%,50%,IF(R103>0,$C103,0)*100),0))))","v":0},1,{"$f":"COUNTIF($N$2:W$2,\"Year\")*$G$1","v":40},{"$f":"IF(W103=0,0,IF(X$2=\"Year\",IF(_xlfn.MAXIFS($N103:W103,$N$2:W$2,\"Year\")+$E103<=$E$1,U103+$E103,0),IF(X$2=\"Repair %\",IF(U103>0,$C103,0),IF(X$2=\"Spares %\",IF(IF(U103>0,$C103,0)*100>50%,50%,IF(U103>0,$C103,0)*100),0))))","v":0},1,{"$f":"IF(Y103=0,0,IF(Z$2=\"Year\",IF(_xlfn.MAXIFS($N103:Y103,$N$2:Y$2,\"Year\")+$E103<=$E$1,W103+$E103,0),IF(Z$2=\"Repair %\",IF(W103>0,$C$3,0),IF(Z$2=\"Spares %\",IF(IF(W103>0,$C103,0)*100>50%,50%,IF(W103>0,$C103,0)*100),0))))","v":0},{"$f":"IF(Z103=0,0,IF(AA$2=\"Year\",IF(_xlfn.MAXIFS($N103:Z103,$N$2:Z$2,\"Year\")+$E103<=$E$1,X103+$E103,0),IF(AA$2=\"Repair %\",IF(X103>0,$C103,0),IF(AA$2=\"Spares %\",IF(IF(X103>0,$C103,0)*100>50%,50%,IF(X103>0,$C103,0)*100),0))))","v":0},{"$f":"IF(AA103=0,0,IF(AB$2=\"Year\",IF(_xlfn.MAXIFS($N103:AA103,$N$2:AA$2,\"Year\")+$E103<=$E$1,Y103+$E103,0),IF(AB$2=\"Repair %\",IF(Y103>0,$C103,0),IF(AB$2=\"Spares %\",IF(IF(W103>0,$C103,0)*5>80%,50%,IF(W103>0,$C103,0)*5),0))))","v":0},{"$f":"IF(AB103=0,0,IF(AC$2=\"Year\",IF(_xlfn.MAXIFS($N103:AB103,$N$2:AB$2,\"Year\")+$E103<=$E$1,Z103+$E103,0),IF(AC$2=\"Repair %\",IF(Z103>0,$C$3,0),IF(AC$2=\"Spares %\",IF(IF(Z103>0,$C103,0)*100>50%,50%,IF(Z103>0,$C103,0)*100),0))))","v":0},{"$f":"IF(AC103=0,0,IF(AD$2=\"Year\",IF(_xlfn.MAXIFS($N103:AC103,$N$2:AC$2,\"Year\")+$E103<=$E$1,AA103+$E103,0),IF(AD$2=\"Repair %\",IF(AA103>0,$C103,0),IF(AD$2=\"Spares %\",IF(IF(AA103>0,$C103,0)*100>50%,50%,IF(AA103>0,$C103,0)*100),0))))","v":0},{"$f":"IF(AD103=0,0,IF(AE$2=\"Year\",IF(_xlfn.MAXIFS($N103:AD103,$N$2:AD$2,\"Year\")+$E103<=$E$1,AB103+$E103,0),IF(AE$2=\"Repair %\",IF(AB103>0,$C103,0),IF(AE$2=\"Spares %\",IF(IF(Z103>0,$C103,0)*5>80%,50%,IF(Z103>0,$C103,0)*5),0))))","v":0},{"$f":"IF(AE103=0,0,IF(AF$2=\"Year\",IF(_xlfn.MAXIFS($N103:AE103,$N$2:AE$2,\"Year\")+$E103<=$E$1,AC103+$E103,0),IF(AF$2=\"Repair %\",IF(AC103>0,$C$3,0),IF(AF$2=\"Spares %\",IF(IF(AC103>0,$C103,0)*100>50%,50%,IF(AC103>0,$C103,0)*100),0))))","v":0},{"$f":"IF(AF103=0,0,IF(AG$2=\"Year\",IF(_xlfn.MAXIFS($N103:AF103,$N$2:AF$2,\"Year\")+$E103<=$E$1,AD103+$E103,0),IF(AG$2=\"Repair %\",IF(AD103>0,$C103,0),IF(AG$2=\"Spares %\",IF(IF(AD103>0,$C103,0)*100>50%,50%,IF(AD103>0,$C103,0)*100),0))))","v":0},{"$f":"IF(AG103=0,0,IF(AH$2=\"Year\",IF(_xlfn.MAXIFS($N103:AG103,$N$2:AG$2,\"Year\")+$E103<=$E$1,AE103+$E103,0),IF(AH$2=\"Repair %\",IF(AE103>0,$C103,0),IF(AH$2=\"Spares %\",IF(IF(AC103>0,$C103,0)*5>80%,50%,IF(AC103>0,$C103,0)*5),0))))","v":0},{"$f":"IF(AH103=0,0,IF(AI$2=\"Year\",IF(_xlfn.MAXIFS($N103:AH103,$N$2:AH$2,\"Year\")+$E103<=$E$1,AF103+$E103,0),IF(AI$2=\"Repair %\",IF(AF103>0,$C$3,0),IF(AI$2=\"Spares %\",IF(IF(AF103>0,$C103,0)*100>50%,50%,IF(AF103>0,$C103,0)*100),0))))","v":0},{"$f":"IF(AI103=0,0,IF(AJ$2=\"Year\",IF(_xlfn.MAXIFS($N103:AI103,$N$2:AI$2,\"Year\")+$E103<=$E$1,AG103+$E103,0),IF(AJ$2=\"Repair %\",IF(AG103>0,$C103,0),IF(AJ$2=\"Spares %\",IF(IF(AG103>0,$C103,0)*100>50%,50%,IF(AG103>0,$C103,0)*100),0))))","v":0},{"$f":"IF(AJ103=0,0,IF(AK$2=\"Year\",IF(_xlfn.MAXIFS($N103:AJ103,$N$2:AJ$2,\"Year\")+$E103<=$E$1,AH103+$E103,0),IF(AK$2=\"Repair %\",IF(AH103>0,$C103,0),IF(AK$2=\"Spares %\",IF(IF(AF103>0,$C103,0)*5>80%,50%,IF(AF103>0,$C103,0)*5),0))))","v":0},{"$f":"IF(AK103=0,0,IF(AL$2=\"Year\",IF(_xlfn.MAXIFS($N103:AK103,$N$2:AK$2,\"Year\")+$E103<=$E$1,AI103+$E103,0),IF(AL$2=\"Repair %\",IF(AI103>0,$C$3,0),IF(AL$2=\"Spares %\",IF(IF(AI103>0,$C103,0)*100>50%,50%,IF(AI103>0,$C103,0)*100),0))))","v":0},{"$f":"IF(AL103=0,0,IF(AM$2=\"Year\",IF(_xlfn.MAXIFS($N103:AL103,$N$2:AL$2,\"Year\")+$E103<=$E$1,AJ103+$E103,0),IF(AM$2=\"Repair %\",IF(AJ103>0,$C103,0),IF(AM$2=\"Spares %\",IF(IF(AJ103>0,$C103,0)*100>50%,50%,IF(AJ103>0,$C103,0)*100),0))))","v":0},{"$f":"IF(AM103=0,0,IF(AN$2=\"Year\",IF(_xlfn.MAXIFS($N103:AM103,$N$2:AM$2,\"Year\")+$E103<=$E$1,AK103+$E103,0),IF(AN$2=\"Repair %\",IF(AK103>0,$C103,0),IF(AN$2=\"Spares %\",IF(IF(AI103>0,$C103,0)*5>80%,50%,IF(AI103>0,$C103,0)*5),0))))","v":0},{"$f":"IF(AN103=0,0,IF(AO$2=\"Year\",IF(_xlfn.MAXIFS($N103:AN103,$N$2:AN$2,\"Year\")+$E103<=$E$1,AL103+$E103,0),IF(AO$2=\"Repair %\",IF(AL103>0,$C$3,0),IF(AO$2=\"Spares %\",IF(IF(AL103>0,$C103,0)*100>50%,50%,IF(AL103>0,$C103,0)*100),0))))","v":0},{"$f":"IF(AO103=0,0,IF(AP$2=\"Year\",IF(_xlfn.MAXIFS($N103:AO103,$N$2:AO$2,\"Year\")+$E103<=$E$1,AM103+$E103,0),IF(AP$2=\"Repair %\",IF(AM103>0,$C103,0),IF(AP$2=\"Spares %\",IF(IF(AM103>0,$C103,0)*100>50%,50%,IF(AM103>0,$C103,0)*100),0))))","v":0},{"$f":"IF(AP103=0,0,IF(AQ$2=\"Year\",IF(_xlfn.MAXIFS($N103:AP103,$N$2:AP$2,\"Year\")+$E103<=$E$1,AN103+$E103,0),IF(AQ$2=\"Repair %\",IF(AN103>0,$C103,0),IF(AQ$2=\"Spares %\",IF(IF(AL103>0,$C103,0)*5>80%,50%,IF(AL103>0,$C103,0)*5),0))))","v":0}]
[{"$f":"INDEX('Avionics ID'!A:E,MATCH(B104,'Avionics ID'!E:E,0),1)","v":834},"Inertial Reference System",0.1,0.06,10,"Obsolecence",{"$f":"SUBSTITUTE(ADDRESS(1,MATCH(A104,'Pt1-AvionicsComponentCosts'!$A$6:$NC$6,0)+1),\"$1\",\"\")","v":"$JN"},{"$f":"_xlfn.TEXTJOIN(\", \",TRUE,_xlfn.UNIQUE(_xlfn._xlws.SORT(_xlfn._xlws.FILTER('Pt1-AvionicsComponentCosts'!$NF$12:$NF$384,ISNUMBER(INDIRECT(\"'Pt1-AvionicsComponentCosts'!\"&G104&\"$12:\"&G104&\"$384\"))))))","v":"A330 LMXT, A330 MRTT, Mil Transport, Military Jet, Military TP"},null,0.06,0.1,0.35399999999999998,1.829,{"$f":"COUNTIF($N$2:N$2,\"Year\")*$G$1","v":10},null,1,{"$f":"COUNTIF($N$2:Q$2,\"Year\")*$G$1","v":20},{"$f":"IF(Q104=0,0,IF(R$2=\"Year\",IF(_xlfn.MAXIFS($N104:Q104,$N$2:Q$2,\"Year\")+$E104<=$E$1,O104+$E104,0),IF(R$2=\"Repair %\",IF(O104>0,$C104,0),IF(R$2=\"Spares %\",IF(IF(O104>0,$C104,0)*100>50%,50%,IF(O104>0,$C104,0)*100),0))))","v":0},1,{"$f":"COUNTIF($N$2:T$2,\"Year\")*$G$1","v":30},{"$f":"IF(T104=0,0,IF(U$2=\"Year\",IF(_xlfn.MAXIFS($N104:T104,$N$2:T$2,\"Year\")+$E104<=$E$1,R104+$E104,0),IF(U$2=\"Repair %\",IF(R104>0,$C104,0),IF(U$2=\"Spares %\",IF(IF(R104>0,$C104,0)*100>50%,50%,IF(R104>0,$C104,0)*100),0))))","v":0},1,{"$f":"COUNTIF($N$2:W$2,\"Year\")*$G$1","v":40},{"$f":"IF(W104=0,0,IF(X$2=\"Year\",IF(_xlfn.MAXIFS($N104:W104,$N$2:W$2,\"Year\")+$E104<=$E$1,U104+$E104,0),IF(X$2=\"Repair %\",IF(U104>0,$C104,0),IF(X$2=\"Spares %\",IF(IF(U104>0,$C104,0)*100>50%,50%,IF(U104>0,$C104,0)*100),0))))","v":0},1,{"$f":"IF(Y104=0,0,IF(Z$2=\"Year\",IF(_xlfn.MAXIFS($N104:Y104,$N$2:Y$2,\"Year\")+$E104<=$E$1,W104+$E104,0),IF(Z$2=\"Repair %\",IF(W104>0,$C$3,0),IF(Z$2=\"Spares %\",IF(IF(W104>0,$C104,0)*100>50%,50%,IF(W104>0,$C104,0)*100),0))))","v":0},{"$f":"IF(Z104=0,0,IF(AA$2=\"Year\",IF(_xlfn.MAXIFS($N104:Z104,$N$2:Z$2,\"Year\")+$E104<=$E$1,X104+$E104,0),IF(AA$2=\"Repair %\",IF(X104>0,$C104,0),IF(AA$2=\"Spares %\",IF(IF(X104>0,$C104,0)*100>50%,50%,IF(X104>0,$C104,0)*100),0))))","v":0},{"$f":"IF(AA104=0,0,IF(AB$2=\"Year\",IF(_xlfn.MAXIFS($N104:AA104,$N$2:AA$2,\"Year\")+$E104<=$E$1,Y104+$E104,0),IF(AB$2=\"Repair %\",IF(Y104>0,$C104,0),IF(AB$2=\"Spares %\",IF(IF(W104>0,$C104,0)*5>80%,50%,IF(W104>0,$C104,0)*5),0))))","v":0},{"$f":"IF(AB104=0,0,IF(AC$2=\"Year\",IF(_xlfn.MAXIFS($N104:AB104,$N$2:AB$2,\"Year\")+$E104<=$E$1,Z104+$E104,0),IF(AC$2=\"Repair %\",IF(Z104>0,$C$3,0),IF(AC$2=\"Spares %\",IF(IF(Z104>0,$C104,0)*100>50%,50%,IF(Z104>0,$C104,0)*100),0))))","v":0},{"$f":"IF(AC104=0,0,IF(AD$2=\"Year\",IF(_xlfn.MAXIFS($N104:AC104,$N$2:AC$2,\"Year\")+$E104<=$E$1,AA104+$E104,0),IF(AD$2=\"Repair %\",IF(AA104>0,$C104,0),IF(AD$2=\"Spares %\",IF(IF(AA104>0,$C104,0)*100>50%,50%,IF(AA104>0,$C104,0)*100),0))))","v":0},{"$f":"IF(AD104=0,0,IF(AE$2=\"Year\",IF(_xlfn.MAXIFS($N104:AD104,$N$2:AD$2,\"Year\")+$E104<=$E$1,AB104+$E104,0),IF(AE$2=\"Repair %\",IF(AB104>0,$C104,0),IF(AE$2=\"Spares %\",IF(IF(Z104>0,$C104,0)*5>80%,50%,IF(Z104>0,$C104,0)*5),0))))","v":0},{"$f":"IF(AE104=0,0,IF(AF$2=\"Year\",IF(_xlfn.MAXIFS($N104:AE104,$N$2:AE$2,\"Year\")+$E104<=$E$1,AC104+$E104,0),IF(AF$2=\"Repair %\",IF(AC104>0,$C$3,0),IF(AF$2=\"Spares %\",IF(IF(AC104>0,$C104,0)*100>50%,50%,IF(AC104>0,$C104,0)*100),0))))","v":0},{"$f":"IF(AF104=0,0,IF(AG$2=\"Year\",IF(_xlfn.MAXIFS($N104:AF104,$N$2:AF$2,\"Year\")+$E104<=$E$1,AD104+$E104,0),IF(AG$2=\"Repair %\",IF(AD104>0,$C104,0),IF(AG$2=\"Spares %\",IF(IF(AD104>0,$C104,0)*100>50%,50%,IF(AD104>0,$C104,0)*100),0))))","v":0},{"$f":"IF(AG104=0,0,IF(AH$2=\"Year\",IF(_xlfn.MAXIFS($N104:AG104,$N$2:AG$2,\"Year\")+$E104<=$E$1,AE104+$E104,0),IF(AH$2=\"Repair %\",IF(AE104>0,$C104,0),IF(AH$2=\"Spares %\",IF(IF(AC104>0,$C104,0)*5>80%,50%,IF(AC104>0,$C104,0)*5),0))))","v":0},{"$f":"IF(AH104=0,0,IF(AI$2=\"Year\",IF(_xlfn.MAXIFS($N104:AH104,$N$2:AH$2,\"Year\")+$E104<=$E$1,AF104+$E104,0),IF(AI$2=\"Repair %\",IF(AF104>0,$C$3,0),IF(AI$2=\"Spares %\",IF(IF(AF104>0,$C104,0)*100>50%,50%,IF(AF104>0,$C104,0)*100),0))))","v":0},{"$f":"IF(AI104=0,0,IF(AJ$2=\"Year\",IF(_xlfn.MAXIFS($N104:AI104,$N$2:AI$2,\"Year\")+$E104<=$E$1,AG104+$E104,0),IF(AJ$2=\"Repair %\",IF(AG104>0,$C104,0),IF(AJ$2=\"Spares %\",IF(IF(AG104>0,$C104,0)*100>50%,50%,IF(AG104>0,$C104,0)*100),0))))","v":0},{"$f":"IF(AJ104=0,0,IF(AK$2=\"Year\",IF(_xlfn.MAXIFS($N104:AJ104,$N$2:AJ$2,\"Year\")+$E104<=$E$1,AH104+$E104,0),IF(AK$2=\"Repair %\",IF(AH104>0,$C104,0),IF(AK$2=\"Spares %\",IF(IF(AF104>0,$C104,0)*5>80%,50%,IF(AF104>0,$C104,0)*5),0))))","v":0},{"$f":"IF(AK104=0,0,IF(AL$2=\"Year\",IF(_xlfn.MAXIFS($N104:AK104,$N$2:AK$2,\"Year\")+$E104<=$E$1,AI104+$E104,0),IF(AL$2=\"Repair %\",IF(AI104>0,$C$3,0),IF(AL$2=\"Spares %\",IF(IF(AI104>0,$C104,0)*100>50%,50%,IF(AI104>0,$C104,0)*100),0))))","v":0},{"$f":"IF(AL104=0,0,IF(AM$2=\"Year\",IF(_xlfn.MAXIFS($N104:AL104,$N$2:AL$2,\"Year\")+$E104<=$E$1,AJ104+$E104,0),IF(AM$2=\"Repair %\",IF(AJ104>0,$C104,0),IF(AM$2=\"Spares %\",IF(IF(AJ104>0,$C104,0)*100>50%,50%,IF(AJ104>0,$C104,0)*100),0))))","v":0},{"$f":"IF(AM104=0,0,IF(AN$2=\"Year\",IF(_xlfn.MAXIFS($N104:AM104,$N$2:AM$2,\"Year\")+$E104<=$E$1,AK104+$E104,0),IF(AN$2=\"Repair %\",IF(AK104>0,$C104,0),IF(AN$2=\"Spares %\",IF(IF(AI104>0,$C104,0)*5>80%,50%,IF(AI104>0,$C104,0)*5),0))))","v":0},{"$f":"IF(AN104=0,0,IF(AO$2=\"Year\",IF(_xlfn.MAXIFS($N104:AN104,$N$2:AN$2,\"Year\")+$E104<=$E$1,AL104+$E104,0),IF(AO$2=\"Repair %\",IF(AL104>0,$C$3,0),IF(AO$2=\"Spares %\",IF(IF(AL104>0,$C104,0)*100>50%,50%,IF(AL104>0,$C104,0)*100),0))))","v":0},{"$f":"IF(AO104=0,0,IF(AP$2=\"Year\",IF(_xlfn.MAXIFS($N104:AO104,$N$2:AO$2,\"Year\")+$E104<=$E$1,AM104+$E104,0),IF(AP$2=\"Repair %\",IF(AM104>0,$C104,0),IF(AP$2=\"Spares %\",IF(IF(AM104>0,$C104,0)*100>50%,50%,IF(AM104>0,$C104,0)*100),0))))","v":0},{"$f":"IF(AP104=0,0,IF(AQ$2=\"Year\",IF(_xlfn.MAXIFS($N104:AP104,$N$2:AP$2,\"Year\")+$E104<=$E$1,AN104+$E104,0),IF(AQ$2=\"Repair %\",IF(AN104>0,$C104,0),IF(AQ$2=\"Spares %\",IF(IF(AL104>0,$C104,0)*5>80%,50%,IF(AL104>0,$C104,0)*5),0))))","v":0}]
[{"$f":"INDEX('Avionics ID'!A:E,MATCH(B105,'Avionics ID'!E:E,0),1)","v":857},"Infra-red countermeasure",0.05,0.06,20,"Obsolecence",{"$f":"SUBSTITUTE(ADDRESS(1,MATCH(A105,'Pt1-AvionicsComponentCosts'!$A$6:$NC$6,0)+1),\"$1\",\"\")","v":"$IF"},{"$f":"_xlfn.TEXTJOIN(\", \",TRUE,_xlfn.UNIQUE(_xlfn._xlws.SORT(_xlfn._xlws.FILTER('Pt1-AvionicsComponentCosts'!$NF$12:$NF$384,ISNUMBER(INDIRECT(\"'Pt1-AvionicsComponentCosts'!\"&G105&\"$12:\"&G105&\"$384\"))))))","v":"Attack Helo, Helo"},null,0.06,0.05,0.36,1.87,{"$f":"COUNTIF($N$2:N$2,\"Year\")*$G$1","v":10},null,0,{"$f":"COUNTIF($N$2:Q$2,\"Year\")*$G$1","v":20},{"$f":"IF(Q105=0,0,IF(R$2=\"Year\",IF(_xlfn.MAXIFS($N105:Q105,$N$2:Q$2,\"Year\")+$E105<=$E$1,O105+$E105,0),IF(R$2=\"Repair %\",IF(O105>0,$C105,0),IF(R$2=\"Spares %\",IF(IF(O105>0,$C105,0)*100>50%,50%,IF(O105>0,$C105,0)*100),0))))","v":0},1,{"$f":"COUNTIF($N$2:T$2,\"Year\")*$G$1","v":30},{"$f":"IF(T105=0,0,IF(U$2=\"Year\",IF(_xlfn.MAXIFS($N105:T105,$N$2:T$2,\"Year\")+$E105<=$E$1,R105+$E105,0),IF(U$2=\"Repair %\",IF(R105>0,$C105,0),IF(U$2=\"Spares %\",IF(IF(R105>0,$C105,0)*100>50%,50%,IF(R105>0,$C105,0)*100),0))))","v":0},0,{"$f":"COUNTIF($N$2:W$2,\"Year\")*$G$1","v":40},{"$f":"IF(W105=0,0,IF(X$2=\"Year\",IF(_xlfn.MAXIFS($N105:W105,$N$2:W$2,\"Year\")+$E105<=$E$1,U105+$E105,0),IF(X$2=\"Repair %\",IF(U105>0,$C105,0),IF(X$2=\"Spares %\",IF(IF(U105>0,$C105,0)*100>50%,50%,IF(U105>0,$C105,0)*100),0))))","v":0},1,{"$f":"IF(Y105=0,0,IF(Z$2=\"Year\",IF(_xlfn.MAXIFS($N105:Y105,$N$2:Y$2,\"Year\")+$E105<=$E$1,W105+$E105,0),IF(Z$2=\"Repair %\",IF(W105>0,$C$3,0),IF(Z$2=\"Spares %\",IF(IF(W105>0,$C105,0)*100>50%,50%,IF(W105>0,$C105,0)*100),0))))","v":0},{"$f":"IF(Z105=0,0,IF(AA$2=\"Year\",IF(_xlfn.MAXIFS($N105:Z105,$N$2:Z$2,\"Year\")+$E105<=$E$1,X105+$E105,0),IF(AA$2=\"Repair %\",IF(X105>0,$C105,0),IF(AA$2=\"Spares %\",IF(IF(X105>0,$C105,0)*100>50%,50%,IF(X105>0,$C105,0)*100),0))))","v":0},{"$f":"IF(AA105=0,0,IF(AB$2=\"Year\",IF(_xlfn.MAXIFS($N105:AA105,$N$2:AA$2,\"Year\")+$E105<=$E$1,Y105+$E105,0),IF(AB$2=\"Repair %\",IF(Y105>0,$C105,0),IF(AB$2=\"Spares %\",IF(IF(W105>0,$C105,0)*5>80%,50%,IF(W105>0,$C105,0)*5),0))))","v":0},{"$f":"IF(AB105=0,0,IF(AC$2=\"Year\",IF(_xlfn.MAXIFS($N105:AB105,$N$2:AB$2,\"Year\")+$E105<=$E$1,Z105+$E105,0),IF(AC$2=\"Repair %\",IF(Z105>0,$C$3,0),IF(AC$2=\"Spares %\",IF(IF(Z105>0,$C105,0)*100>50%,50%,IF(Z105>0,$C105,0)*100),0))))","v":0},{"$f":"IF(AC105=0,0,IF(AD$2=\"Year\",IF(_xlfn.MAXIFS($N105:AC105,$N$2:AC$2,\"Year\")+$E105<=$E$1,AA105+$E105,0),IF(AD$2=\"Repair %\",IF(AA105>0,$C105,0),IF(AD$2=\"Spares %\",IF(IF(AA105>0,$C105,0)*100>50%,50%,IF(AA105>0,$C105,0)*100),0))))","v":0},{"$f":"IF(AD105=0,0,IF(AE$2=\"Year\",IF(_xlfn.MAXIFS($N105:AD105,$N$2:AD$2,\"Year\")+$E105<=$E$1,AB105+$E105,0),IF(AE$2=\"Repair %\",IF(AB105>0,$C105,0),IF(AE$2=\"Spares %\",IF(IF(Z105>0,$C105,0)*5>80%,50%,IF(Z105>0,$C105,0)*5),0))))","v":0},{"$f":"IF(AE105=0,0,IF(AF$2=\"Year\",IF(_xlfn.MAXIFS($N105:AE105,$N$2:AE$2,\"Year\")+$E105<=$E$1,AC105+$E105,0),IF(AF$2=\"Repair %\",IF(AC105>0,$C$3,0),IF(AF$2=\"Spares %\",IF(IF(AC105>0,$C105,0)*100>50%,50%,IF(AC105>0,$C105,0)*100),0))))","v":0},{"$f":"IF(AF105=0,0,IF(AG$2=\"Year\",IF(_xlfn.MAXIFS($N105:AF105,$N$2:AF$2,\"Year\")+$E105<=$E$1,AD105+$E105,0),IF(AG$2=\"Repair %\",IF(AD105>0,$C105,0),IF(AG$2=\"Spares %\",IF(IF(AD105>0,$C105,0)*100>50%,50%,IF(AD105>0,$C105,0)*100),0))))","v":0},{"$f":"IF(AG105=0,0,IF(AH$2=\"Year\",IF(_xlfn.MAXIFS($N105:AG105,$N$2:AG$2,\"Year\")+$E105<=$E$1,AE105+$E105,0),IF(AH$2=\"Repair %\",IF(AE105>0,$C105,0),IF(AH$2=\"Spares %\",IF(IF(AC105>0,$C105,0)*5>80%,50%,IF(AC105>0,$C105,0)*5),0))))","v":0},{"$f":"IF(AH105=0,0,IF(AI$2=\"Year\",IF(_xlfn.MAXIFS($N105:AH105,$N$2:AH$2,\"Year\")+$E105<=$E$1,AF105+$E105,0),IF(AI$2=\"Repair %\",IF(AF105>0,$C$3,0),IF(AI$2=\"Spares %\",IF(IF(AF105>0,$C105,0)*100>50%,50%,IF(AF105>0,$C105,0)*100),0))))","v":0},{"$f":"IF(AI105=0,0,IF(AJ$2=\"Year\",IF(_xlfn.MAXIFS($N105:AI105,$N$2:AI$2,\"Year\")+$E105<=$E$1,AG105+$E105,0),IF(AJ$2=\"Repair %\",IF(AG105>0,$C105,0),IF(AJ$2=\"Spares %\",IF(IF(AG105>0,$C105,0)*100>50%,50%,IF(AG105>0,$C105,0)*100),0))))","v":0},{"$f":"IF(AJ105=0,0,IF(AK$2=\"Year\",IF(_xlfn.MAXIFS($N105:AJ105,$N$2:AJ$2,\"Year\")+$E105<=$E$1,AH105+$E105,0),IF(AK$2=\"Repair %\",IF(AH105>0,$C105,0),IF(AK$2=\"Spares %\",IF(IF(AF105>0,$C105,0)*5>80%,50%,IF(AF105>0,$C105,0)*5),0))))","v":0},{"$f":"IF(AK105=0,0,IF(AL$2=\"Year\",IF(_xlfn.MAXIFS($N105:AK105,$N$2:AK$2,\"Year\")+$E105<=$E$1,AI105+$E105,0),IF(AL$2=\"Repair %\",IF(AI105>0,$C$3,0),IF(AL$2=\"Spares %\",IF(IF(AI105>0,$C105,0)*100>50%,50%,IF(AI105>0,$C105,0)*100),0))))","v":0},{"$f":"IF(AL105=0,0,IF(AM$2=\"Year\",IF(_xlfn.MAXIFS($N105:AL105,$N$2:AL$2,\"Year\")+$E105<=$E$1,AJ105+$E105,0),IF(AM$2=\"Repair %\",IF(AJ105>0,$C105,0),IF(AM$2=\"Spares %\",IF(IF(AJ105>0,$C105,0)*100>50%,50%,IF(AJ105>0,$C105,0)*100),0))))","v":0},{"$f":"IF(AM105=0,0,IF(AN$2=\"Year\",IF(_xlfn.MAXIFS($N105:AM105,$N$2:AM$2,\"Year\")+$E105<=$E$1,AK105+$E105,0),IF(AN$2=\"Repair %\",IF(AK105>0,$C105,0),IF(AN$2=\"Spares %\",IF(IF(AI105>0,$C105,0)*5>80%,50%,IF(AI105>0,$C105,0)*5),0))))","v":0},{"$f":"IF(AN105=0,0,IF(AO$2=\"Year\",IF(_xlfn.MAXIFS($N105:AN105,$N$2:AN$2,\"Year\")+$E105<=$E$1,AL105+$E105,0),IF(AO$2=\"Repair %\",IF(AL105>0,$C$3,0),IF(AO$2=\"Spares %\",IF(IF(AL105>0,$C105,0)*100>50%,50%,IF(AL105>0,$C105,0)*100),0))))","v":0},{"$f":"IF(AO105=0,0,IF(AP$2=\"Year\",IF(_xlfn.MAXIFS($N105:AO105,$N$2:AO$2,\"Year\")+$E105<=$E$1,AM105+$E105,0),IF(AP$2=\"Repair %\",IF(AM105>0,$C105,0),IF(AP$2=\"Spares %\",IF(IF(AM105>0,$C105,0)*100>50%,50%,IF(AM105>0,$C105,0)*100),0))))","v":0},{"$f":"IF(AP105=0,0,IF(AQ$2=\"Year\",IF(_xlfn.MAXIFS($N105:AP105,$N$2:AP$2,\"Year\")+$E105<=$E$1,AN105+$E105,0),IF(AQ$2=\"Repair %\",IF(AN105>0,$C105,0),IF(AQ$2=\"Spares %\",IF(IF(AL105>0,$C105,0)*5>80%,50%,IF(AL105>0,$C105,0)*5),0))))","v":0}]
[{"$f":"INDEX('Avionics ID'!A:E,MATCH(B106,'Avionics ID'!E:E,0),1)","v":822},"Integrated Avionics computers (IACs)",0,0.06,null,"",{"$f":"SUBSTITUTE(ADDRESS(1,MATCH(A106,'Pt1-AvionicsComponentCosts'!$A$6:$NC$6,0)+1),\"$1\",\"\")","v":"$HN"},{"$f":"_xlfn.TEXTJOIN(\", \",TRUE,_xlfn.UNIQUE(_xlfn._xlws.SORT(_xlfn._xlws.FILTER('Pt1-AvionicsComponentCosts'!$NF$12:$NF$384,ISNUMBER(INDIRECT(\"'Pt1-AvionicsComponentCosts'!\"&G106&\"$12:\"&G106&\"$384\"))))))","v":"Challenger, Citation, E550, EMB Bizjet, Falcon, Global, Gulfstream, Hawker, Hondajet, Learjet, Nextant 400XT, PC-24, Phenom, Praetor, SF50"},null,0.06,0,0.35499999999999998,1.0509999999999999,{"$f":"COUNTIF($N$2:N$2,\"Year\")*$G$1","v":10},null,0,{"$f":"COUNTIF($N$2:Q$2,\"Year\")*$G$1","v":20},{"$f":"IF(Q106=0,0,IF(R$2=\"Year\",IF(_xlfn.MAXIFS($N106:Q106,$N$2:Q$2,\"Year\")+$E106<=$E$1,O106+$E106,0),IF(R$2=\"Repair %\",IF(O106>0,$C106,0),IF(R$2=\"Spares %\",IF(IF(O106>0,$C106,0)*100>50%,50%,IF(O106>0,$C106,0)*100),0))))","v":0},0,{"$f":"COUNTIF($N$2:T$2,\"Year\")*$G$1","v":30},{"$f":"IF(T106=0,0,IF(U$2=\"Year\",IF(_xlfn.MAXIFS($N106:T106,$N$2:T$2,\"Year\")+$E106<=$E$1,R106+$E106,0),IF(U$2=\"Repair %\",IF(R106>0,$C106,0),IF(U$2=\"Spares %\",IF(IF(R106>0,$C106,0)*100>50%,50%,IF(R106>0,$C106,0)*100),0))))","v":0},0,{"$f":"COUNTIF($N$2:W$2,\"Year\")*$G$1","v":40},{"$f":"IF(W106=0,0,IF(X$2=\"Year\",IF(_xlfn.MAXIFS($N106:W106,$N$2:W$2,\"Year\")+$E106<=$E$1,U106+$E106,0),IF(X$2=\"Repair %\",IF(U106>0,$C106,0),IF(X$2=\"Spares %\",IF(IF(U106>0,$C106,0)*100>50%,50%,IF(U106>0,$C106,0)*100),0))))","v":0},0,{"$f":"IF(Y106=0,0,IF(Z$2=\"Year\",IF(_xlfn.MAXIFS($N106:Y106,$N$2:Y$2,\"Year\")+$E106<=$E$1,W106+$E106,0),IF(Z$2=\"Repair %\",IF(W106>0,$C$3,0),IF(Z$2=\"Spares %\",IF(IF(W106>0,$C106,0)*100>50%,50%,IF(W106>0,$C106,0)*100),0))))","v":0},{"$f":"IF(Z106=0,0,IF(AA$2=\"Year\",IF(_xlfn.MAXIFS($N106:Z106,$N$2:Z$2,\"Year\")+$E106<=$E$1,X106+$E106,0),IF(AA$2=\"Repair %\",IF(X106>0,$C106,0),IF(AA$2=\"Spares %\",IF(IF(X106>0,$C106,0)*100>50%,50%,IF(X106>0,$C106,0)*100),0))))","v":0},{"$f":"IF(AA106=0,0,IF(AB$2=\"Year\",IF(_xlfn.MAXIFS($N106:AA106,$N$2:AA$2,\"Year\")+$E106<=$E$1,Y106+$E106,0),IF(AB$2=\"Repair %\",IF(Y106>0,$C106,0),IF(AB$2=\"Spares %\",IF(IF(W106>0,$C106,0)*5>80%,50%,IF(W106>0,$C106,0)*5),0))))","v":0},{"$f":"IF(AB106=0,0,IF(AC$2=\"Year\",IF(_xlfn.MAXIFS($N106:AB106,$N$2:AB$2,\"Year\")+$E106<=$E$1,Z106+$E106,0),IF(AC$2=\"Repair %\",IF(Z106>0,$C$3,0),IF(AC$2=\"Spares %\",IF(IF(Z106>0,$C106,0)*100>50%,50%,IF(Z106>0,$C106,0)*100),0))))","v":0},{"$f":"IF(AC106=0,0,IF(AD$2=\"Year\",IF(_xlfn.MAXIFS($N106:AC106,$N$2:AC$2,\"Year\")+$E106<=$E$1,AA106+$E106,0),IF(AD$2=\"Repair %\",IF(AA106>0,$C106,0),IF(AD$2=\"Spares %\",IF(IF(AA106>0,$C106,0)*100>50%,50%,IF(AA106>0,$C106,0)*100),0))))","v":0},{"$f":"IF(AD106=0,0,IF(AE$2=\"Year\",IF(_xlfn.MAXIFS($N106:AD106,$N$2:AD$2,\"Year\")+$E106<=$E$1,AB106+$E106,0),IF(AE$2=\"Repair %\",IF(AB106>0,$C106,0),IF(AE$2=\"Spares %\",IF(IF(Z106>0,$C106,0)*5>80%,50%,IF(Z106>0,$C106,0)*5),0))))","v":0},{"$f":"IF(AE106=0,0,IF(AF$2=\"Year\",IF(_xlfn.MAXIFS($N106:AE106,$N$2:AE$2,\"Year\")+$E106<=$E$1,AC106+$E106,0),IF(AF$2=\"Repair %\",IF(AC106>0,$C$3,0),IF(AF$2=\"Spares %\",IF(IF(AC106>0,$C106,0)*100>50%,50%,IF(AC106>0,$C106,0)*100),0))))","v":0},{"$f":"IF(AF106=0,0,IF(AG$2=\"Year\",IF(_xlfn.MAXIFS($N106:AF106,$N$2:AF$2,\"Year\")+$E106<=$E$1,AD106+$E106,0),IF(AG$2=\"Repair %\",IF(AD106>0,$C106,0),IF(AG$2=\"Spares %\",IF(IF(AD106>0,$C106,0)*100>50%,50%,IF(AD106>0,$C106,0)*100),0))))","v":0},{"$f":"IF(AG106=0,0,IF(AH$2=\"Year\",IF(_xlfn.MAXIFS($N106:AG106,$N$2:AG$2,\"Year\")+$E106<=$E$1,AE106+$E106,0),IF(AH$2=\"Repair %\",IF(AE106>0,$C106,0),IF(AH$2=\"Spares %\",IF(IF(AC106>0,$C106,0)*5>80%,50%,IF(AC106>0,$C106,0)*5),0))))","v":0},{"$f":"IF(AH106=0,0,IF(AI$2=\"Year\",IF(_xlfn.MAXIFS($N106:AH106,$N$2:AH$2,\"Year\")+$E106<=$E$1,AF106+$E106,0),IF(AI$2=\"Repair %\",IF(AF106>0,$C$3,0),IF(AI$2=\"Spares %\",IF(IF(AF106>0,$C106,0)*100>50%,50%,IF(AF106>0,$C106,0)*100),0))))","v":0},{"$f":"IF(AI106=0,0,IF(AJ$2=\"Year\",IF(_xlfn.MAXIFS($N106:AI106,$N$2:AI$2,\"Year\")+$E106<=$E$1,AG106+$E106,0),IF(AJ$2=\"Repair %\",IF(AG106>0,$C106,0),IF(AJ$2=\"Spares %\",IF(IF(AG106>0,$C106,0)*100>50%,50%,IF(AG106>0,$C106,0)*100),0))))","v":0},{"$f":"IF(AJ106=0,0,IF(AK$2=\"Year\",IF(_xlfn.MAXIFS($N106:AJ106,$N$2:AJ$2,\"Year\")+$E106<=$E$1,AH106+$E106,0),IF(AK$2=\"Repair %\",IF(AH106>0,$C106,0),IF(AK$2=\"Spares %\",IF(IF(AF106>0,$C106,0)*5>80%,50%,IF(AF106>0,$C106,0)*5),0))))","v":0},{"$f":"IF(AK106=0,0,IF(AL$2=\"Year\",IF(_xlfn.MAXIFS($N106:AK106,$N$2:AK$2,\"Year\")+$E106<=$E$1,AI106+$E106,0),IF(AL$2=\"Repair %\",IF(AI106>0,$C$3,0),IF(AL$2=\"Spares %\",IF(IF(AI106>0,$C106,0)*100>50%,50%,IF(AI106>0,$C106,0)*100),0))))","v":0},{"$f":"IF(AL106=0,0,IF(AM$2=\"Year\",IF(_xlfn.MAXIFS($N106:AL106,$N$2:AL$2,\"Year\")+$E106<=$E$1,AJ106+$E106,0),IF(AM$2=\"Repair %\",IF(AJ106>0,$C106,0),IF(AM$2=\"Spares %\",IF(IF(AJ106>0,$C106,0)*100>50%,50%,IF(AJ106>0,$C106,0)*100),0))))","v":0},{"$f":"IF(AM106=0,0,IF(AN$2=\"Year\",IF(_xlfn.MAXIFS($N106:AM106,$N$2:AM$2,\"Year\")+$E106<=$E$1,AK106+$E106,0),IF(AN$2=\"Repair %\",IF(AK106>0,$C106,0),IF(AN$2=\"Spares %\",IF(IF(AI106>0,$C106,0)*5>80%,50%,IF(AI106>0,$C106,0)*5),0))))","v":0},{"$f":"IF(AN106=0,0,IF(AO$2=\"Year\",IF(_xlfn.MAXIFS($N106:AN106,$N$2:AN$2,\"Year\")+$E106<=$E$1,AL106+$E106,0),IF(AO$2=\"Repair %\",IF(AL106>0,$C$3,0),IF(AO$2=\"Spares %\",IF(IF(AL106>0,$C106,0)*100>50%,50%,IF(AL106>0,$C106,0)*100),0))))","v":0},{"$f":"IF(AO106=0,0,IF(AP$2=\"Year\",IF(_xlfn.MAXIFS($N106:AO106,$N$2:AO$2,\"Year\")+$E106<=$E$1,AM106+$E106,0),IF(AP$2=\"Repair %\",IF(AM106>0,$C106,0),IF(AP$2=\"Spares %\",IF(IF(AM106>0,$C106,0)*100>50%,50%,IF(AM106>0,$C106,0)*100),0))))","v":0},{"$f":"IF(AP106=0,0,IF(AQ$2=\"Year\",IF(_xlfn.MAXIFS($N106:AP106,$N$2:AP$2,\"Year\")+$E106<=$E$1,AN106+$E106,0),IF(AQ$2=\"Repair %\",IF(AN106>0,$C106,0),IF(AQ$2=\"Spares %\",IF(IF(AL106>0,$C106,0)*5>80%,50%,IF(AL106>0,$C106,0)*5),0))))","v":0}]
[{"$f":"INDEX('Avionics ID'!A:E,MATCH(B107,'Avionics ID'!E:E,0),1)","v":785},"Integrated Core Processor (ICP)",0.05,0.06,20,"Obsolecence",{"$f":"SUBSTITUTE(ADDRESS(1,MATCH(A107,'Pt1-AvionicsComponentCosts'!$A$6:$NC$6,0)+1),\"$1\",\"\")","v":"$HP"},{"$f":"_xlfn.TEXTJOIN(\", \",TRUE,_xlfn.UNIQUE(_xlfn._xlws.SORT(_xlfn._xlws.FILTER('Pt1-AvionicsComponentCosts'!$NF$12:$NF$384,ISNUMBER(INDIRECT(\"'Pt1-AvionicsComponentCosts'!\"&G107&\"$12:\"&G107&\"$384\"))))))","v":"Attack, Stealth"},null,0.06,0.05,0.35499999999999998,1.0509999999999999,{"$f":"COUNTIF($N$2:N$2,\"Year\")*$G$1","v":10},null,0,{"$f":"COUNTIF($N$2:Q$2,\"Year\")*$G$1","v":20},{"$f":"IF(Q107=0,0,IF(R$2=\"Year\",IF(_xlfn.MAXIFS($N107:Q107,$N$2:Q$2,\"Year\")+$E107<=$E$1,O107+$E107,0),IF(R$2=\"Repair %\",IF(O107>0,$C107,0),IF(R$2=\"Spares %\",IF(IF(O107>0,$C107,0)*100>50%,50%,IF(O107>0,$C107,0)*100),0))))","v":0},1,{"$f":"COUNTIF($N$2:T$2,\"Year\")*$G$1","v":30},{"$f":"IF(T107=0,0,IF(U$2=\"Year\",IF(_xlfn.MAXIFS($N107:T107,$N$2:T$2,\"Year\")+$E107<=$E$1,R107+$E107,0),IF(U$2=\"Repair %\",IF(R107>0,$C107,0),IF(U$2=\"Spares %\",IF(IF(R107>0,$C107,0)*100>50%,50%,IF(R107>0,$C107,0)*100),0))))","v":0},0,{"$f":"COUNTIF($N$2:W$2,\"Year\")*$G$1","v":40},{"$f":"IF(W107=0,0,IF(X$2=\"Year\",IF(_xlfn.MAXIFS($N107:W107,$N$2:W$2,\"Year\")+$E107<=$E$1,U107+$E107,0),IF(X$2=\"Repair %\",IF(U107>0,$C107,0),IF(X$2=\"Spares %\",IF(IF(U107>0,$C107,0)*100>50%,50%,IF(U107>0,$C107,0)*100),0))))","v":0},1,{"$f":"IF(Y107=0,0,IF(Z$2=\"Year\",IF(_xlfn.MAXIFS($N107:Y107,$N$2:Y$2,\"Year\")+$E107<=$E$1,W107+$E107,0),IF(Z$2=\"Repair %\",IF(W107>0,$C$3,0),IF(Z$2=\"Spares %\",IF(IF(W107>0,$C107,0)*100>50%,50%,IF(W107>0,$C107,0)*100),0))))","v":0},{"$f":"IF(Z107=0,0,IF(AA$2=\"Year\",IF(_xlfn.MAXIFS($N107:Z107,$N$2:Z$2,\"Year\")+$E107<=$E$1,X107+$E107,0),IF(AA$2=\"Repair %\",IF(X107>0,$C107,0),IF(AA$2=\"Spares %\",IF(IF(X107>0,$C107,0)*100>50%,50%,IF(X107>0,$C107,0)*100),0))))","v":0},{"$f":"IF(AA107=0,0,IF(AB$2=\"Year\",IF(_xlfn.MAXIFS($N107:AA107,$N$2:AA$2,\"Year\")+$E107<=$E$1,Y107+$E107,0),IF(AB$2=\"Repair %\",IF(Y107>0,$C107,0),IF(AB$2=\"Spares %\",IF(IF(W107>0,$C107,0)*5>80%,50%,IF(W107>0,$C107,0)*5),0))))","v":0},{"$f":"IF(AB107=0,0,IF(AC$2=\"Year\",IF(_xlfn.MAXIFS($N107:AB107,$N$2:AB$2,\"Year\")+$E107<=$E$1,Z107+$E107,0),IF(AC$2=\"Repair %\",IF(Z107>0,$C$3,0),IF(AC$2=\"Spares %\",IF(IF(Z107>0,$C107,0)*100>50%,50%,IF(Z107>0,$C107,0)*100),0))))","v":0},{"$f":"IF(AC107=0,0,IF(AD$2=\"Year\",IF(_xlfn.MAXIFS($N107:AC107,$N$2:AC$2,\"Year\")+$E107<=$E$1,AA107+$E107,0),IF(AD$2=\"Repair %\",IF(AA107>0,$C107,0),IF(AD$2=\"Spares %\",IF(IF(AA107>0,$C107,0)*100>50%,50%,IF(AA107>0,$C107,0)*100),0))))","v":0},{"$f":"IF(AD107=0,0,IF(AE$2=\"Year\",IF(_xlfn.MAXIFS($N107:AD107,$N$2:AD$2,\"Year\")+$E107<=$E$1,AB107+$E107,0),IF(AE$2=\"Repair %\",IF(AB107>0,$C107,0),IF(AE$2=\"Spares %\",IF(IF(Z107>0,$C107,0)*5>80%,50%,IF(Z107>0,$C107,0)*5),0))))","v":0},{"$f":"IF(AE107=0,0,IF(AF$2=\"Year\",IF(_xlfn.MAXIFS($N107:AE107,$N$2:AE$2,\"Year\")+$E107<=$E$1,AC107+$E107,0),IF(AF$2=\"Repair %\",IF(AC107>0,$C$3,0),IF(AF$2=\"Spares %\",IF(IF(AC107>0,$C107,0)*100>50%,50%,IF(AC107>0,$C107,0)*100),0))))","v":0},{"$f":"IF(AF107=0,0,IF(AG$2=\"Year\",IF(_xlfn.MAXIFS($N107:AF107,$N$2:AF$2,\"Year\")+$E107<=$E$1,AD107+$E107,0),IF(AG$2=\"Repair %\",IF(AD107>0,$C107,0),IF(AG$2=\"Spares %\",IF(IF(AD107>0,$C107,0)*100>50%,50%,IF(AD107>0,$C107,0)*100),0))))","v":0},{"$f":"IF(AG107=0,0,IF(AH$2=\"Year\",IF(_xlfn.MAXIFS($N107:AG107,$N$2:AG$2,\"Year\")+$E107<=$E$1,AE107+$E107,0),IF(AH$2=\"Repair %\",IF(AE107>0,$C107,0),IF(AH$2=\"Spares %\",IF(IF(AC107>0,$C107,0)*5>80%,50%,IF(AC107>0,$C107,0)*5),0))))","v":0},{"$f":"IF(AH107=0,0,IF(AI$2=\"Year\",IF(_xlfn.MAXIFS($N107:AH107,$N$2:AH$2,\"Year\")+$E107<=$E$1,AF107+$E107,0),IF(AI$2=\"Repair %\",IF(AF107>0,$C$3,0),IF(AI$2=\"Spares %\",IF(IF(AF107>0,$C107,0)*100>50%,50%,IF(AF107>0,$C107,0)*100),0))))","v":0},{"$f":"IF(AI107=0,0,IF(AJ$2=\"Year\",IF(_xlfn.MAXIFS($N107:AI107,$N$2:AI$2,\"Year\")+$E107<=$E$1,AG107+$E107,0),IF(AJ$2=\"Repair %\",IF(AG107>0,$C107,0),IF(AJ$2=\"Spares %\",IF(IF(AG107>0,$C107,0)*100>50%,50%,IF(AG107>0,$C107,0)*100),0))))","v":0},{"$f":"IF(AJ107=0,0,IF(AK$2=\"Year\",IF(_xlfn.MAXIFS($N107:AJ107,$N$2:AJ$2,\"Year\")+$E107<=$E$1,AH107+$E107,0),IF(AK$2=\"Repair %\",IF(AH107>0,$C107,0),IF(AK$2=\"Spares %\",IF(IF(AF107>0,$C107,0)*5>80%,50%,IF(AF107>0,$C107,0)*5),0))))","v":0},{"$f":"IF(AK107=0,0,IF(AL$2=\"Year\",IF(_xlfn.MAXIFS($N107:AK107,$N$2:AK$2,\"Year\")+$E107<=$E$1,AI107+$E107,0),IF(AL$2=\"Repair %\",IF(AI107>0,$C$3,0),IF(AL$2=\"Spares %\",IF(IF(AI107>0,$C107,0)*100>50%,50%,IF(AI107>0,$C107,0)*100),0))))","v":0},{"$f":"IF(AL107=0,0,IF(AM$2=\"Year\",IF(_xlfn.MAXIFS($N107:AL107,$N$2:AL$2,\"Year\")+$E107<=$E$1,AJ107+$E107,0),IF(AM$2=\"Repair %\",IF(AJ107>0,$C107,0),IF(AM$2=\"Spares %\",IF(IF(AJ107>0,$C107,0)*100>50%,50%,IF(AJ107>0,$C107,0)*100),0))))","v":0},{"$f":"IF(AM107=0,0,IF(AN$2=\"Year\",IF(_xlfn.MAXIFS($N107:AM107,$N$2:AM$2,\"Year\")+$E107<=$E$1,AK107+$E107,0),IF(AN$2=\"Repair %\",IF(AK107>0,$C107,0),IF(AN$2=\"Spares %\",IF(IF(AI107>0,$C107,0)*5>80%,50%,IF(AI107>0,$C107,0)*5),0))))","v":0},{"$f":"IF(AN107=0,0,IF(AO$2=\"Year\",IF(_xlfn.MAXIFS($N107:AN107,$N$2:AN$2,\"Year\")+$E107<=$E$1,AL107+$E107,0),IF(AO$2=\"Repair %\",IF(AL107>0,$C$3,0),IF(AO$2=\"Spares %\",IF(IF(AL107>0,$C107,0)*100>50%,50%,IF(AL107>0,$C107,0)*100),0))))","v":0},{"$f":"IF(AO107=0,0,IF(AP$2=\"Year\",IF(_xlfn.MAXIFS($N107:AO107,$N$2:AO$2,\"Year\")+$E107<=$E$1,AM107+$E107,0),IF(AP$2=\"Repair %\",IF(AM107>0,$C107,0),IF(AP$2=\"Spares %\",IF(IF(AM107>0,$C107,0)*100>50%,50%,IF(AM107>0,$C107,0)*100),0))))","v":0},{"$f":"IF(AP107=0,0,IF(AQ$2=\"Year\",IF(_xlfn.MAXIFS($N107:AP107,$N$2:AP$2,\"Year\")+$E107<=$E$1,AN107+$E107,0),IF(AQ$2=\"Repair %\",IF(AN107>0,$C107,0),IF(AQ$2=\"Spares %\",IF(IF(AL107>0,$C107,0)*5>80%,50%,IF(AL107>0,$C107,0)*5),0))))","v":0}]
[{"$f":"INDEX('Avionics ID'!A:E,MATCH(B108,'Avionics ID'!E:E,0),1)","v":860},"Integrated data modem",0.05,0.06,20,"Obsolecence",{"$f":"SUBSTITUTE(ADDRESS(1,MATCH(A108,'Pt1-AvionicsComponentCosts'!$A$6:$NC$6,0)+1),\"$1\",\"\")","v":"$DF"},{"$f":"_xlfn.TEXTJOIN(\", \",TRUE,_xlfn.UNIQUE(_xlfn._xlws.SORT(_xlfn._xlws.FILTER('Pt1-AvionicsComponentCosts'!$NF$12:$NF$384,ISNUMBER(INDIRECT(\"'Pt1-AvionicsComponentCosts'!\"&G108&\"$12:\"&G108&\"$384\"))))))","v":"Attack Helo, Helo"},null,0.06,0.05,0.68300000000000005,1.931,{"$f":"COUNTIF($N$2:N$2,\"Year\")*$G$1","v":10},null,0,{"$f":"COUNTIF($N$2:Q$2,\"Year\")*$G$1","v":20},{"$f":"IF(Q108=0,0,IF(R$2=\"Year\",IF(_xlfn.MAXIFS($N108:Q108,$N$2:Q$2,\"Year\")+$E108<=$E$1,O108+$E108,0),IF(R$2=\"Repair %\",IF(O108>0,$C108,0),IF(R$2=\"Spares %\",IF(IF(O108>0,$C108,0)*100>50%,50%,IF(O108>0,$C108,0)*100),0))))","v":0},1,{"$f":"COUNTIF($N$2:T$2,\"Year\")*$G$1","v":30},{"$f":"IF(T108=0,0,IF(U$2=\"Year\",IF(_xlfn.MAXIFS($N108:T108,$N$2:T$2,\"Year\")+$E108<=$E$1,R108+$E108,0),IF(U$2=\"Repair %\",IF(R108>0,$C108,0),IF(U$2=\"Spares %\",IF(IF(R108>0,$C108,0)*100>50%,50%,IF(R108>0,$C108,0)*100),0))))","v":0},0,{"$f":"COUNTIF($N$2:W$2,\"Year\")*$G$1","v":40},{"$f":"IF(W108=0,0,IF(X$2=\"Year\",IF(_xlfn.MAXIFS($N108:W108,$N$2:W$2,\"Year\")+$E108<=$E$1,U108+$E108,0),IF(X$2=\"Repair %\",IF(U108>0,$C108,0),IF(X$2=\"Spares %\",IF(IF(U108>0,$C108,0)*100>50%,50%,IF(U108>0,$C108,0)*100),0))))","v":0},1,{"$f":"IF(Y108=0,0,IF(Z$2=\"Year\",IF(_xlfn.MAXIFS($N108:Y108,$N$2:Y$2,\"Year\")+$E108<=$E$1,W108+$E108,0),IF(Z$2=\"Repair %\",IF(W108>0,$C$3,0),IF(Z$2=\"Spares %\",IF(IF(W108>0,$C108,0)*100>50%,50%,IF(W108>0,$C108,0)*100),0))))","v":0},{"$f":"IF(Z108=0,0,IF(AA$2=\"Year\",IF(_xlfn.MAXIFS($N108:Z108,$N$2:Z$2,\"Year\")+$E108<=$E$1,X108+$E108,0),IF(AA$2=\"Repair %\",IF(X108>0,$C108,0),IF(AA$2=\"Spares %\",IF(IF(X108>0,$C108,0)*100>50%,50%,IF(X108>0,$C108,0)*100),0))))","v":0},{"$f":"IF(AA108=0,0,IF(AB$2=\"Year\",IF(_xlfn.MAXIFS($N108:AA108,$N$2:AA$2,\"Year\")+$E108<=$E$1,Y108+$E108,0),IF(AB$2=\"Repair %\",IF(Y108>0,$C108,0),IF(AB$2=\"Spares %\",IF(IF(W108>0,$C108,0)*5>80%,50%,IF(W108>0,$C108,0)*5),0))))","v":0},{"$f":"IF(AB108=0,0,IF(AC$2=\"Year\",IF(_xlfn.MAXIFS($N108:AB108,$N$2:AB$2,\"Year\")+$E108<=$E$1,Z108+$E108,0),IF(AC$2=\"Repair %\",IF(Z108>0,$C$3,0),IF(AC$2=\"Spares %\",IF(IF(Z108>0,$C108,0)*100>50%,50%,IF(Z108>0,$C108,0)*100),0))))","v":0},{"$f":"IF(AC108=0,0,IF(AD$2=\"Year\",IF(_xlfn.MAXIFS($N108:AC108,$N$2:AC$2,\"Year\")+$E108<=$E$1,AA108+$E108,0),IF(AD$2=\"Repair %\",IF(AA108>0,$C108,0),IF(AD$2=\"Spares %\",IF(IF(AA108>0,$C108,0)*100>50%,50%,IF(AA108>0,$C108,0)*100),0))))","v":0},{"$f":"IF(AD108=0,0,IF(AE$2=\"Year\",IF(_xlfn.MAXIFS($N108:AD108,$N$2:AD$2,\"Year\")+$E108<=$E$1,AB108+$E108,0),IF(AE$2=\"Repair %\",IF(AB108>0,$C108,0),IF(AE$2=\"Spares %\",IF(IF(Z108>0,$C108,0)*5>80%,50%,IF(Z108>0,$C108,0)*5),0))))","v":0},{"$f":"IF(AE108=0,0,IF(AF$2=\"Year\",IF(_xlfn.MAXIFS($N108:AE108,$N$2:AE$2,\"Year\")+$E108<=$E$1,AC108+$E108,0),IF(AF$2=\"Repair %\",IF(AC108>0,$C$3,0),IF(AF$2=\"Spares %\",IF(IF(AC108>0,$C108,0)*100>50%,50%,IF(AC108>0,$C108,0)*100),0))))","v":0},{"$f":"IF(AF108=0,0,IF(AG$2=\"Year\",IF(_xlfn.MAXIFS($N108:AF108,$N$2:AF$2,\"Year\")+$E108<=$E$1,AD108+$E108,0),IF(AG$2=\"Repair %\",IF(AD108>0,$C108,0),IF(AG$2=\"Spares %\",IF(IF(AD108>0,$C108,0)*100>50%,50%,IF(AD108>0,$C108,0)*100),0))))","v":0},{"$f":"IF(AG108=0,0,IF(AH$2=\"Year\",IF(_xlfn.MAXIFS($N108:AG108,$N$2:AG$2,\"Year\")+$E108<=$E$1,AE108+$E108,0),IF(AH$2=\"Repair %\",IF(AE108>0,$C108,0),IF(AH$2=\"Spares %\",IF(IF(AC108>0,$C108,0)*5>80%,50%,IF(AC108>0,$C108,0)*5),0))))","v":0},{"$f":"IF(AH108=0,0,IF(AI$2=\"Year\",IF(_xlfn.MAXIFS($N108:AH108,$N$2:AH$2,\"Year\")+$E108<=$E$1,AF108+$E108,0),IF(AI$2=\"Repair %\",IF(AF108>0,$C$3,0),IF(AI$2=\"Spares %\",IF(IF(AF108>0,$C108,0)*100>50%,50%,IF(AF108>0,$C108,0)*100),0))))","v":0},{"$f":"IF(AI108=0,0,IF(AJ$2=\"Year\",IF(_xlfn.MAXIFS($N108:AI108,$N$2:AI$2,\"Year\")+$E108<=$E$1,AG108+$E108,0),IF(AJ$2=\"Repair %\",IF(AG108>0,$C108,0),IF(AJ$2=\"Spares %\",IF(IF(AG108>0,$C108,0)*100>50%,50%,IF(AG108>0,$C108,0)*100),0))))","v":0},{"$f":"IF(AJ108=0,0,IF(AK$2=\"Year\",IF(_xlfn.MAXIFS($N108:AJ108,$N$2:AJ$2,\"Year\")+$E108<=$E$1,AH108+$E108,0),IF(AK$2=\"Repair %\",IF(AH108>0,$C108,0),IF(AK$2=\"Spares %\",IF(IF(AF108>0,$C108,0)*5>80%,50%,IF(AF108>0,$C108,0)*5),0))))","v":0},{"$f":"IF(AK108=0,0,IF(AL$2=\"Year\",IF(_xlfn.MAXIFS($N108:AK108,$N$2:AK$2,\"Year\")+$E108<=$E$1,AI108+$E108,0),IF(AL$2=\"Repair %\",IF(AI108>0,$C$3,0),IF(AL$2=\"Spares %\",IF(IF(AI108>0,$C108,0)*100>50%,50%,IF(AI108>0,$C108,0)*100),0))))","v":0},{"$f":"IF(AL108=0,0,IF(AM$2=\"Year\",IF(_xlfn.MAXIFS($N108:AL108,$N$2:AL$2,\"Year\")+$E108<=$E$1,AJ108+$E108,0),IF(AM$2=\"Repair %\",IF(AJ108>0,$C108,0),IF(AM$2=\"Spares %\",IF(IF(AJ108>0,$C108,0)*100>50%,50%,IF(AJ108>0,$C108,0)*100),0))))","v":0},{"$f":"IF(AM108=0,0,IF(AN$2=\"Year\",IF(_xlfn.MAXIFS($N108:AM108,$N$2:AM$2,\"Year\")+$E108<=$E$1,AK108+$E108,0),IF(AN$2=\"Repair %\",IF(AK108>0,$C108,0),IF(AN$2=\"Spares %\",IF(IF(AI108>0,$C108,0)*5>80%,50%,IF(AI108>0,$C108,0)*5),0))))","v":0},{"$f":"IF(AN108=0,0,IF(AO$2=\"Year\",IF(_xlfn.MAXIFS($N108:AN108,$N$2:AN$2,\"Year\")+$E108<=$E$1,AL108+$E108,0),IF(AO$2=\"Repair %\",IF(AL108>0,$C$3,0),IF(AO$2=\"Spares %\",IF(IF(AL108>0,$C108,0)*100>50%,50%,IF(AL108>0,$C108,0)*100),0))))","v":0},{"$f":"IF(AO108=0,0,IF(AP$2=\"Year\",IF(_xlfn.MAXIFS($N108:AO108,$N$2:AO$2,\"Year\")+$E108<=$E$1,AM108+$E108,0),IF(AP$2=\"Repair %\",IF(AM108>0,$C108,0),IF(AP$2=\"Spares %\",IF(IF(AM108>0,$C108,0)*100>50%,50%,IF(AM108>0,$C108,0)*100),0))))","v":0},{"$f":"IF(AP108=0,0,IF(AQ$2=\"Year\",IF(_xlfn.MAXIFS($N108:AP108,$N$2:AP$2,\"Year\")+$E108<=$E$1,AN108+$E108,0),IF(AQ$2=\"Repair %\",IF(AN108>0,$C108,0),IF(AQ$2=\"Spares %\",IF(IF(AL108>0,$C108,0)*5>80%,50%,IF(AL108>0,$C108,0)*5),0))))","v":0}]
[{"$f":"INDEX('Avionics ID'!A:E,MATCH(B109,'Avionics ID'!E:E,0),1)","v":810},"Integrated Electronic Standby System",0.1,0.06,10,"Obsolecence",{"$f":"SUBSTITUTE(ADDRESS(1,MATCH(A109,'Pt1-AvionicsComponentCosts'!$A$6:$NC$6,0)+1),\"$1\",\"\")","v":"$FD"},{"$f":"_xlfn.TEXTJOIN(\", \",TRUE,_xlfn.UNIQUE(_xlfn._xlws.SORT(_xlfn._xlws.FILTER('Pt1-AvionicsComponentCosts'!$NF$12:$NF$384,ISNUMBER(INDIRECT(\"'Pt1-AvionicsComponentCosts'!\"&G109&\"$12:\"&G109&\"$384\"))))))","v":"ARJ, CRJ, EMB Regional, Reg TP, Superjet 100, Turbine GA"},null,0.06,0.1,0.35299999999999998,1.8460000000000001,{"$f":"COUNTIF($N$2:N$2,\"Year\")*$G$1","v":10},null,1,{"$f":"COUNTIF($N$2:Q$2,\"Year\")*$G$1","v":20},{"$f":"IF(Q109=0,0,IF(R$2=\"Year\",IF(_xlfn.MAXIFS($N109:Q109,$N$2:Q$2,\"Year\")+$E109<=$E$1,O109+$E109,0),IF(R$2=\"Repair %\",IF(O109>0,$C109,0),IF(R$2=\"Spares %\",IF(IF(O109>0,$C109,0)*100>50%,50%,IF(O109>0,$C109,0)*100),0))))","v":0},1,{"$f":"COUNTIF($N$2:T$2,\"Year\")*$G$1","v":30},{"$f":"IF(T109=0,0,IF(U$2=\"Year\",IF(_xlfn.MAXIFS($N109:T109,$N$2:T$2,\"Year\")+$E109<=$E$1,R109+$E109,0),IF(U$2=\"Repair %\",IF(R109>0,$C109,0),IF(U$2=\"Spares %\",IF(IF(R109>0,$C109,0)*100>50%,50%,IF(R109>0,$C109,0)*100),0))))","v":0},1,{"$f":"COUNTIF($N$2:W$2,\"Year\")*$G$1","v":40},{"$f":"IF(W109=0,0,IF(X$2=\"Year\",IF(_xlfn.MAXIFS($N109:W109,$N$2:W$2,\"Year\")+$E109<=$E$1,U109+$E109,0),IF(X$2=\"Repair %\",IF(U109>0,$C109,0),IF(X$2=\"Spares %\",IF(IF(U109>0,$C109,0)*100>50%,50%,IF(U109>0,$C109,0)*100),0))))","v":0},1,{"$f":"IF(Y109=0,0,IF(Z$2=\"Year\",IF(_xlfn.MAXIFS($N109:Y109,$N$2:Y$2,\"Year\")+$E109<=$E$1,W109+$E109,0),IF(Z$2=\"Repair %\",IF(W109>0,$C$3,0),IF(Z$2=\"Spares %\",IF(IF(W109>0,$C109,0)*100>50%,50%,IF(W109>0,$C109,0)*100),0))))","v":0},{"$f":"IF(Z109=0,0,IF(AA$2=\"Year\",IF(_xlfn.MAXIFS($N109:Z109,$N$2:Z$2,\"Year\")+$E109<=$E$1,X109+$E109,0),IF(AA$2=\"Repair %\",IF(X109>0,$C109,0),IF(AA$2=\"Spares %\",IF(IF(X109>0,$C109,0)*100>50%,50%,IF(X109>0,$C109,0)*100),0))))","v":0},{"$f":"IF(AA109=0,0,IF(AB$2=\"Year\",IF(_xlfn.MAXIFS($N109:AA109,$N$2:AA$2,\"Year\")+$E109<=$E$1,Y109+$E109,0),IF(AB$2=\"Repair %\",IF(Y109>0,$C109,0),IF(AB$2=\"Spares %\",IF(IF(W109>0,$C109,0)*5>80%,50%,IF(W109>0,$C109,0)*5),0))))","v":0},{"$f":"IF(AB109=0,0,IF(AC$2=\"Year\",IF(_xlfn.MAXIFS($N109:AB109,$N$2:AB$2,\"Year\")+$E109<=$E$1,Z109+$E109,0),IF(AC$2=\"Repair %\",IF(Z109>0,$C$3,0),IF(AC$2=\"Spares %\",IF(IF(Z109>0,$C109,0)*100>50%,50%,IF(Z109>0,$C109,0)*100),0))))","v":0},{"$f":"IF(AC109=0,0,IF(AD$2=\"Year\",IF(_xlfn.MAXIFS($N109:AC109,$N$2:AC$2,\"Year\")+$E109<=$E$1,AA109+$E109,0),IF(AD$2=\"Repair %\",IF(AA109>0,$C109,0),IF(AD$2=\"Spares %\",IF(IF(AA109>0,$C109,0)*100>50%,50%,IF(AA109>0,$C109,0)*100),0))))","v":0},{"$f":"IF(AD109=0,0,IF(AE$2=\"Year\",IF(_xlfn.MAXIFS($N109:AD109,$N$2:AD$2,\"Year\")+$E109<=$E$1,AB109+$E109,0),IF(AE$2=\"Repair %\",IF(AB109>0,$C109,0),IF(AE$2=\"Spares %\",IF(IF(Z109>0,$C109,0)*5>80%,50%,IF(Z109>0,$C109,0)*5),0))))","v":0},{"$f":"IF(AE109=0,0,IF(AF$2=\"Year\",IF(_xlfn.MAXIFS($N109:AE109,$N$2:AE$2,\"Year\")+$E109<=$E$1,AC109+$E109,0),IF(AF$2=\"Repair %\",IF(AC109>0,$C$3,0),IF(AF$2=\"Spares %\",IF(IF(AC109>0,$C109,0)*100>50%,50%,IF(AC109>0,$C109,0)*100),0))))","v":0},{"$f":"IF(AF109=0,0,IF(AG$2=\"Year\",IF(_xlfn.MAXIFS($N109:AF109,$N$2:AF$2,\"Year\")+$E109<=$E$1,AD109+$E109,0),IF(AG$2=\"Repair %\",IF(AD109>0,$C109,0),IF(AG$2=\"Spares %\",IF(IF(AD109>0,$C109,0)*100>50%,50%,IF(AD109>0,$C109,0)*100),0))))","v":0},{"$f":"IF(AG109=0,0,IF(AH$2=\"Year\",IF(_xlfn.MAXIFS($N109:AG109,$N$2:AG$2,\"Year\")+$E109<=$E$1,AE109+$E109,0),IF(AH$2=\"Repair %\",IF(AE109>0,$C109,0),IF(AH$2=\"Spares %\",IF(IF(AC109>0,$C109,0)*5>80%,50%,IF(AC109>0,$C109,0)*5),0))))","v":0},{"$f":"IF(AH109=0,0,IF(AI$2=\"Year\",IF(_xlfn.MAXIFS($N109:AH109,$N$2:AH$2,\"Year\")+$E109<=$E$1,AF109+$E109,0),IF(AI$2=\"Repair %\",IF(AF109>0,$C$3,0),IF(AI$2=\"Spares %\",IF(IF(AF109>0,$C109,0)*100>50%,50%,IF(AF109>0,$C109,0)*100),0))))","v":0},{"$f":"IF(AI109=0,0,IF(AJ$2=\"Year\",IF(_xlfn.MAXIFS($N109:AI109,$N$2:AI$2,\"Year\")+$E109<=$E$1,AG109+$E109,0),IF(AJ$2=\"Repair %\",IF(AG109>0,$C109,0),IF(AJ$2=\"Spares %\",IF(IF(AG109>0,$C109,0)*100>50%,50%,IF(AG109>0,$C109,0)*100),0))))","v":0},{"$f":"IF(AJ109=0,0,IF(AK$2=\"Year\",IF(_xlfn.MAXIFS($N109:AJ109,$N$2:AJ$2,\"Year\")+$E109<=$E$1,AH109+$E109,0),IF(AK$2=\"Repair %\",IF(AH109>0,$C109,0),IF(AK$2=\"Spares %\",IF(IF(AF109>0,$C109,0)*5>80%,50%,IF(AF109>0,$C109,0)*5),0))))","v":0},{"$f":"IF(AK109=0,0,IF(AL$2=\"Year\",IF(_xlfn.MAXIFS($N109:AK109,$N$2:AK$2,\"Year\")+$E109<=$E$1,AI109+$E109,0),IF(AL$2=\"Repair %\",IF(AI109>0,$C$3,0),IF(AL$2=\"Spares %\",IF(IF(AI109>0,$C109,0)*100>50%,50%,IF(AI109>0,$C109,0)*100),0))))","v":0},{"$f":"IF(AL109=0,0,IF(AM$2=\"Year\",IF(_xlfn.MAXIFS($N109:AL109,$N$2:AL$2,\"Year\")+$E109<=$E$1,AJ109+$E109,0),IF(AM$2=\"Repair %\",IF(AJ109>0,$C109,0),IF(AM$2=\"Spares %\",IF(IF(AJ109>0,$C109,0)*100>50%,50%,IF(AJ109>0,$C109,0)*100),0))))","v":0},{"$f":"IF(AM109=0,0,IF(AN$2=\"Year\",IF(_xlfn.MAXIFS($N109:AM109,$N$2:AM$2,\"Year\")+$E109<=$E$1,AK109+$E109,0),IF(AN$2=\"Repair %\",IF(AK109>0,$C109,0),IF(AN$2=\"Spares %\",IF(IF(AI109>0,$C109,0)*5>80%,50%,IF(AI109>0,$C109,0)*5),0))))","v":0},{"$f":"IF(AN109=0,0,IF(AO$2=\"Year\",IF(_xlfn.MAXIFS($N109:AN109,$N$2:AN$2,\"Year\")+$E109<=$E$1,AL109+$E109,0),IF(AO$2=\"Repair %\",IF(AL109>0,$C$3,0),IF(AO$2=\"Spares %\",IF(IF(AL109>0,$C109,0)*100>50%,50%,IF(AL109>0,$C109,0)*100),0))))","v":0},{"$f":"IF(AO109=0,0,IF(AP$2=\"Year\",IF(_xlfn.MAXIFS($N109:AO109,$N$2:AO$2,\"Year\")+$E109<=$E$1,AM109+$E109,0),IF(AP$2=\"Repair %\",IF(AM109>0,$C109,0),IF(AP$2=\"Spares %\",IF(IF(AM109>0,$C109,0)*100>50%,50%,IF(AM109>0,$C109,0)*100),0))))","v":0},{"$f":"IF(AP109=0,0,IF(AQ$2=\"Year\",IF(_xlfn.MAXIFS($N109:AP109,$N$2:AP$2,\"Year\")+$E109<=$E$1,AN109+$E109,0),IF(AQ$2=\"Repair %\",IF(AN109>0,$C109,0),IF(AQ$2=\"Spares %\",IF(IF(AL109>0,$C109,0)*5>80%,50%,IF(AL109>0,$C109,0)*5),0))))","v":0}]
[{"$f":"INDEX('Avionics ID'!A:E,MATCH(B110,'Avionics ID'!E:E,0),1)","v":735},"Integrated Standby Instrument System",0.1,0.06,10,"Obsolecence",{"$f":"SUBSTITUTE(ADDRESS(1,MATCH(A110,'Pt1-AvionicsComponentCosts'!$A$6:$NC$6,0)+1),\"$1\",\"\")","v":"$FF"},{"$f":"_xlfn.TEXTJOIN(\", \",TRUE,_xlfn.UNIQUE(_xlfn._xlws.SORT(_xlfn._xlws.FILTER('Pt1-AvionicsComponentCosts'!$NF$12:$NF$384,ISNUMBER(INDIRECT(\"'Pt1-AvionicsComponentCosts'!\"&G110&\"$12:\"&G110&\"$384\"))))))","v":"A220, A300, A320, A321, A330, A340, A350, A380, ATR, Attack Helo, B717, B737, B747, B757, B767, B777, B787, C919, EMB Regional, Helo, MC-21, MD-11, Mil Transport, Military Jet, NSA"},null,0.06,0.1,0.35299999999999998,1.8460000000000001,{"$f":"COUNTIF($N$2:N$2,\"Year\")*$G$1","v":10},null,1,{"$f":"COUNTIF($N$2:Q$2,\"Year\")*$G$1","v":20},{"$f":"IF(Q110=0,0,IF(R$2=\"Year\",IF(_xlfn.MAXIFS($N110:Q110,$N$2:Q$2,\"Year\")+$E110<=$E$1,O110+$E110,0),IF(R$2=\"Repair %\",IF(O110>0,$C110,0),IF(R$2=\"Spares %\",IF(IF(O110>0,$C110,0)*100>50%,50%,IF(O110>0,$C110,0)*100),0))))","v":0},1,{"$f":"COUNTIF($N$2:T$2,\"Year\")*$G$1","v":30},{"$f":"IF(T110=0,0,IF(U$2=\"Year\",IF(_xlfn.MAXIFS($N110:T110,$N$2:T$2,\"Year\")+$E110<=$E$1,R110+$E110,0),IF(U$2=\"Repair %\",IF(R110>0,$C110,0),IF(U$2=\"Spares %\",IF(IF(R110>0,$C110,0)*100>50%,50%,IF(R110>0,$C110,0)*100),0))))","v":0},1,{"$f":"COUNTIF($N$2:W$2,\"Year\")*$G$1","v":40},{"$f":"IF(W110=0,0,IF(X$2=\"Year\",IF(_xlfn.MAXIFS($N110:W110,$N$2:W$2,\"Year\")+$E110<=$E$1,U110+$E110,0),IF(X$2=\"Repair %\",IF(U110>0,$C110,0),IF(X$2=\"Spares %\",IF(IF(U110>0,$C110,0)*100>50%,50%,IF(U110>0,$C110,0)*100),0))))","v":0},1,{"$f":"IF(Y110=0,0,IF(Z$2=\"Year\",IF(_xlfn.MAXIFS($N110:Y110,$N$2:Y$2,\"Year\")+$E110<=$E$1,W110+$E110,0),IF(Z$2=\"Repair %\",IF(W110>0,$C$3,0),IF(Z$2=\"Spares %\",IF(IF(W110>0,$C110,0)*100>50%,50%,IF(W110>0,$C110,0)*100),0))))","v":0},{"$f":"IF(Z110=0,0,IF(AA$2=\"Year\",IF(_xlfn.MAXIFS($N110:Z110,$N$2:Z$2,\"Year\")+$E110<=$E$1,X110+$E110,0),IF(AA$2=\"Repair %\",IF(X110>0,$C110,0),IF(AA$2=\"Spares %\",IF(IF(X110>0,$C110,0)*100>50%,50%,IF(X110>0,$C110,0)*100),0))))","v":0},{"$f":"IF(AA110=0,0,IF(AB$2=\"Year\",IF(_xlfn.MAXIFS($N110:AA110,$N$2:AA$2,\"Year\")+$E110<=$E$1,Y110+$E110,0),IF(AB$2=\"Repair %\",IF(Y110>0,$C110,0),IF(AB$2=\"Spares %\",IF(IF(W110>0,$C110,0)*5>80%,50%,IF(W110>0,$C110,0)*5),0))))","v":0},{"$f":"IF(AB110=0,0,IF(AC$2=\"Year\",IF(_xlfn.MAXIFS($N110:AB110,$N$2:AB$2,\"Year\")+$E110<=$E$1,Z110+$E110,0),IF(AC$2=\"Repair %\",IF(Z110>0,$C$3,0),IF(AC$2=\"Spares %\",IF(IF(Z110>0,$C110,0)*100>50%,50%,IF(Z110>0,$C110,0)*100),0))))","v":0},{"$f":"IF(AC110=0,0,IF(AD$2=\"Year\",IF(_xlfn.MAXIFS($N110:AC110,$N$2:AC$2,\"Year\")+$E110<=$E$1,AA110+$E110,0),IF(AD$2=\"Repair %\",IF(AA110>0,$C110,0),IF(AD$2=\"Spares %\",IF(IF(AA110>0,$C110,0)*100>50%,50%,IF(AA110>0,$C110,0)*100),0))))","v":0},{"$f":"IF(AD110=0,0,IF(AE$2=\"Year\",IF(_xlfn.MAXIFS($N110:AD110,$N$2:AD$2,\"Year\")+$E110<=$E$1,AB110+$E110,0),IF(AE$2=\"Repair %\",IF(AB110>0,$C110,0),IF(AE$2=\"Spares %\",IF(IF(Z110>0,$C110,0)*5>80%,50%,IF(Z110>0,$C110,0)*5),0))))","v":0},{"$f":"IF(AE110=0,0,IF(AF$2=\"Year\",IF(_xlfn.MAXIFS($N110:AE110,$N$2:AE$2,\"Year\")+$E110<=$E$1,AC110+$E110,0),IF(AF$2=\"Repair %\",IF(AC110>0,$C$3,0),IF(AF$2=\"Spares %\",IF(IF(AC110>0,$C110,0)*100>50%,50%,IF(AC110>0,$C110,0)*100),0))))","v":0},{"$f":"IF(AF110=0,0,IF(AG$2=\"Year\",IF(_xlfn.MAXIFS($N110:AF110,$N$2:AF$2,\"Year\")+$E110<=$E$1,AD110+$E110,0),IF(AG$2=\"Repair %\",IF(AD110>0,$C110,0),IF(AG$2=\"Spares %\",IF(IF(AD110>0,$C110,0)*100>50%,50%,IF(AD110>0,$C110,0)*100),0))))","v":0},{"$f":"IF(AG110=0,0,IF(AH$2=\"Year\",IF(_xlfn.MAXIFS($N110:AG110,$N$2:AG$2,\"Year\")+$E110<=$E$1,AE110+$E110,0),IF(AH$2=\"Repair %\",IF(AE110>0,$C110,0),IF(AH$2=\"Spares %\",IF(IF(AC110>0,$C110,0)*5>80%,50%,IF(AC110>0,$C110,0)*5),0))))","v":0},{"$f":"IF(AH110=0,0,IF(AI$2=\"Year\",IF(_xlfn.MAXIFS($N110:AH110,$N$2:AH$2,\"Year\")+$E110<=$E$1,AF110+$E110,0),IF(AI$2=\"Repair %\",IF(AF110>0,$C$3,0),IF(AI$2=\"Spares %\",IF(IF(AF110>0,$C110,0)*100>50%,50%,IF(AF110>0,$C110,0)*100),0))))","v":0},{"$f":"IF(AI110=0,0,IF(AJ$2=\"Year\",IF(_xlfn.MAXIFS($N110:AI110,$N$2:AI$2,\"Year\")+$E110<=$E$1,AG110+$E110,0),IF(AJ$2=\"Repair %\",IF(AG110>0,$C110,0),IF(AJ$2=\"Spares %\",IF(IF(AG110>0,$C110,0)*100>50%,50%,IF(AG110>0,$C110,0)*100),0))))","v":0},{"$f":"IF(AJ110=0,0,IF(AK$2=\"Year\",IF(_xlfn.MAXIFS($N110:AJ110,$N$2:AJ$2,\"Year\")+$E110<=$E$1,AH110+$E110,0),IF(AK$2=\"Repair %\",IF(AH110>0,$C110,0),IF(AK$2=\"Spares %\",IF(IF(AF110>0,$C110,0)*5>80%,50%,IF(AF110>0,$C110,0)*5),0))))","v":0},{"$f":"IF(AK110=0,0,IF(AL$2=\"Year\",IF(_xlfn.MAXIFS($N110:AK110,$N$2:AK$2,\"Year\")+$E110<=$E$1,AI110+$E110,0),IF(AL$2=\"Repair %\",IF(AI110>0,$C$3,0),IF(AL$2=\"Spares %\",IF(IF(AI110>0,$C110,0)*100>50%,50%,IF(AI110>0,$C110,0)*100),0))))","v":0},{"$f":"IF(AL110=0,0,IF(AM$2=\"Year\",IF(_xlfn.MAXIFS($N110:AL110,$N$2:AL$2,\"Year\")+$E110<=$E$1,AJ110+$E110,0),IF(AM$2=\"Repair %\",IF(AJ110>0,$C110,0),IF(AM$2=\"Spares %\",IF(IF(AJ110>0,$C110,0)*100>50%,50%,IF(AJ110>0,$C110,0)*100),0))))","v":0},{"$f":"IF(AM110=0,0,IF(AN$2=\"Year\",IF(_xlfn.MAXIFS($N110:AM110,$N$2:AM$2,\"Year\")+$E110<=$E$1,AK110+$E110,0),IF(AN$2=\"Repair %\",IF(AK110>0,$C110,0),IF(AN$2=\"Spares %\",IF(IF(AI110>0,$C110,0)*5>80%,50%,IF(AI110>0,$C110,0)*5),0))))","v":0},{"$f":"IF(AN110=0,0,IF(AO$2=\"Year\",IF(_xlfn.MAXIFS($N110:AN110,$N$2:AN$2,\"Year\")+$E110<=$E$1,AL110+$E110,0),IF(AO$2=\"Repair %\",IF(AL110>0,$C$3,0),IF(AO$2=\"Spares %\",IF(IF(AL110>0,$C110,0)*100>50%,50%,IF(AL110>0,$C110,0)*100),0))))","v":0},{"$f":"IF(AO110=0,0,IF(AP$2=\"Year\",IF(_xlfn.MAXIFS($N110:AO110,$N$2:AO$2,\"Year\")+$E110<=$E$1,AM110+$E110,0),IF(AP$2=\"Repair %\",IF(AM110>0,$C110,0),IF(AP$2=\"Spares %\",IF(IF(AM110>0,$C110,0)*100>50%,50%,IF(AM110>0,$C110,0)*100),0))))","v":0},{"$f":"IF(AP110=0,0,IF(AQ$2=\"Year\",IF(_xlfn.MAXIFS($N110:AP110,$N$2:AP$2,\"Year\")+$E110<=$E$1,AN110+$E110,0),IF(AQ$2=\"Repair %\",IF(AN110>0,$C110,0),IF(AQ$2=\"Spares %\",IF(IF(AL110>0,$C110,0)*5>80%,50%,IF(AL110>0,$C110,0)*5),0))))","v":0}]
[{"$f":"INDEX('Avionics ID'!A:E,MATCH(B111,'Avionics ID'!E:E,0),1)","v":853},"Interface maintenance data recorders",0.1,0.06,10,"Obsolecence",{"$f":"SUBSTITUTE(ADDRESS(1,MATCH(A111,'Pt1-AvionicsComponentCosts'!$A$6:$NC$6,0)+1),\"$1\",\"\")","v":"$DH"},{"$f":"_xlfn.TEXTJOIN(\", \",TRUE,_xlfn.UNIQUE(_xlfn._xlws.SORT(_xlfn._xlws.FILTER('Pt1-AvionicsComponentCosts'!$NF$12:$NF$384,ISNUMBER(INDIRECT(\"'Pt1-AvionicsComponentCosts'!\"&G111&\"$12:\"&G111&\"$384\"))))))","v":"Attack Helo, Helo"},null,0.06,0.1,0.68300000000000005,1.931,{"$f":"COUNTIF($N$2:N$2,\"Year\")*$G$1","v":10},null,1,{"$f":"COUNTIF($N$2:Q$2,\"Year\")*$G$1","v":20},{"$f":"IF(Q111=0,0,IF(R$2=\"Year\",IF(_xlfn.MAXIFS($N111:Q111,$N$2:Q$2,\"Year\")+$E111<=$E$1,O111+$E111,0),IF(R$2=\"Repair %\",IF(O111>0,$C111,0),IF(R$2=\"Spares %\",IF(IF(O111>0,$C111,0)*100>50%,50%,IF(O111>0,$C111,0)*100),0))))","v":0},1,{"$f":"COUNTIF($N$2:T$2,\"Year\")*$G$1","v":30},{"$f":"IF(T111=0,0,IF(U$2=\"Year\",IF(_xlfn.MAXIFS($N111:T111,$N$2:T$2,\"Year\")+$E111<=$E$1,R111+$E111,0),IF(U$2=\"Repair %\",IF(R111>0,$C111,0),IF(U$2=\"Spares %\",IF(IF(R111>0,$C111,0)*100>50%,50%,IF(R111>0,$C111,0)*100),0))))","v":0},1,{"$f":"COUNTIF($N$2:W$2,\"Year\")*$G$1","v":40},{"$f":"IF(W111=0,0,IF(X$2=\"Year\",IF(_xlfn.MAXIFS($N111:W111,$N$2:W$2,\"Year\")+$E111<=$E$1,U111+$E111,0),IF(X$2=\"Repair %\",IF(U111>0,$C111,0),IF(X$2=\"Spares %\",IF(IF(U111>0,$C111,0)*100>50%,50%,IF(U111>0,$C111,0)*100),0))))","v":0},1,{"$f":"IF(Y111=0,0,IF(Z$2=\"Year\",IF(_xlfn.MAXIFS($N111:Y111,$N$2:Y$2,\"Year\")+$E111<=$E$1,W111+$E111,0),IF(Z$2=\"Repair %\",IF(W111>0,$C$3,0),IF(Z$2=\"Spares %\",IF(IF(W111>0,$C111,0)*100>50%,50%,IF(W111>0,$C111,0)*100),0))))","v":0},{"$f":"IF(Z111=0,0,IF(AA$2=\"Year\",IF(_xlfn.MAXIFS($N111:Z111,$N$2:Z$2,\"Year\")+$E111<=$E$1,X111+$E111,0),IF(AA$2=\"Repair %\",IF(X111>0,$C111,0),IF(AA$2=\"Spares %\",IF(IF(X111>0,$C111,0)*100>50%,50%,IF(X111>0,$C111,0)*100),0))))","v":0},{"$f":"IF(AA111=0,0,IF(AB$2=\"Year\",IF(_xlfn.MAXIFS($N111:AA111,$N$2:AA$2,\"Year\")+$E111<=$E$1,Y111+$E111,0),IF(AB$2=\"Repair %\",IF(Y111>0,$C111,0),IF(AB$2=\"Spares %\",IF(IF(W111>0,$C111,0)*5>80%,50%,IF(W111>0,$C111,0)*5),0))))","v":0},{"$f":"IF(AB111=0,0,IF(AC$2=\"Year\",IF(_xlfn.MAXIFS($N111:AB111,$N$2:AB$2,\"Year\")+$E111<=$E$1,Z111+$E111,0),IF(AC$2=\"Repair %\",IF(Z111>0,$C$3,0),IF(AC$2=\"Spares %\",IF(IF(Z111>0,$C111,0)*100>50%,50%,IF(Z111>0,$C111,0)*100),0))))","v":0},{"$f":"IF(AC111=0,0,IF(AD$2=\"Year\",IF(_xlfn.MAXIFS($N111:AC111,$N$2:AC$2,\"Year\")+$E111<=$E$1,AA111+$E111,0),IF(AD$2=\"Repair %\",IF(AA111>0,$C111,0),IF(AD$2=\"Spares %\",IF(IF(AA111>0,$C111,0)*100>50%,50%,IF(AA111>0,$C111,0)*100),0))))","v":0},{"$f":"IF(AD111=0,0,IF(AE$2=\"Year\",IF(_xlfn.MAXIFS($N111:AD111,$N$2:AD$2,\"Year\")+$E111<=$E$1,AB111+$E111,0),IF(AE$2=\"Repair %\",IF(AB111>0,$C111,0),IF(AE$2=\"Spares %\",IF(IF(Z111>0,$C111,0)*5>80%,50%,IF(Z111>0,$C111,0)*5),0))))","v":0},{"$f":"IF(AE111=0,0,IF(AF$2=\"Year\",IF(_xlfn.MAXIFS($N111:AE111,$N$2:AE$2,\"Year\")+$E111<=$E$1,AC111+$E111,0),IF(AF$2=\"Repair %\",IF(AC111>0,$C$3,0),IF(AF$2=\"Spares %\",IF(IF(AC111>0,$C111,0)*100>50%,50%,IF(AC111>0,$C111,0)*100),0))))","v":0},{"$f":"IF(AF111=0,0,IF(AG$2=\"Year\",IF(_xlfn.MAXIFS($N111:AF111,$N$2:AF$2,\"Year\")+$E111<=$E$1,AD111+$E111,0),IF(AG$2=\"Repair %\",IF(AD111>0,$C111,0),IF(AG$2=\"Spares %\",IF(IF(AD111>0,$C111,0)*100>50%,50%,IF(AD111>0,$C111,0)*100),0))))","v":0},{"$f":"IF(AG111=0,0,IF(AH$2=\"Year\",IF(_xlfn.MAXIFS($N111:AG111,$N$2:AG$2,\"Year\")+$E111<=$E$1,AE111+$E111,0),IF(AH$2=\"Repair %\",IF(AE111>0,$C111,0),IF(AH$2=\"Spares %\",IF(IF(AC111>0,$C111,0)*5>80%,50%,IF(AC111>0,$C111,0)*5),0))))","v":0},{"$f":"IF(AH111=0,0,IF(AI$2=\"Year\",IF(_xlfn.MAXIFS($N111:AH111,$N$2:AH$2,\"Year\")+$E111<=$E$1,AF111+$E111,0),IF(AI$2=\"Repair %\",IF(AF111>0,$C$3,0),IF(AI$2=\"Spares %\",IF(IF(AF111>0,$C111,0)*100>50%,50%,IF(AF111>0,$C111,0)*100),0))))","v":0},{"$f":"IF(AI111=0,0,IF(AJ$2=\"Year\",IF(_xlfn.MAXIFS($N111:AI111,$N$2:AI$2,\"Year\")+$E111<=$E$1,AG111+$E111,0),IF(AJ$2=\"Repair %\",IF(AG111>0,$C111,0),IF(AJ$2=\"Spares %\",IF(IF(AG111>0,$C111,0)*100>50%,50%,IF(AG111>0,$C111,0)*100),0))))","v":0},{"$f":"IF(AJ111=0,0,IF(AK$2=\"Year\",IF(_xlfn.MAXIFS($N111:AJ111,$N$2:AJ$2,\"Year\")+$E111<=$E$1,AH111+$E111,0),IF(AK$2=\"Repair %\",IF(AH111>0,$C111,0),IF(AK$2=\"Spares %\",IF(IF(AF111>0,$C111,0)*5>80%,50%,IF(AF111>0,$C111,0)*5),0))))","v":0},{"$f":"IF(AK111=0,0,IF(AL$2=\"Year\",IF(_xlfn.MAXIFS($N111:AK111,$N$2:AK$2,\"Year\")+$E111<=$E$1,AI111+$E111,0),IF(AL$2=\"Repair %\",IF(AI111>0,$C$3,0),IF(AL$2=\"Spares %\",IF(IF(AI111>0,$C111,0)*100>50%,50%,IF(AI111>0,$C111,0)*100),0))))","v":0},{"$f":"IF(AL111=0,0,IF(AM$2=\"Year\",IF(_xlfn.MAXIFS($N111:AL111,$N$2:AL$2,\"Year\")+$E111<=$E$1,AJ111+$E111,0),IF(AM$2=\"Repair %\",IF(AJ111>0,$C111,0),IF(AM$2=\"Spares %\",IF(IF(AJ111>0,$C111,0)*100>50%,50%,IF(AJ111>0,$C111,0)*100),0))))","v":0},{"$f":"IF(AM111=0,0,IF(AN$2=\"Year\",IF(_xlfn.MAXIFS($N111:AM111,$N$2:AM$2,\"Year\")+$E111<=$E$1,AK111+$E111,0),IF(AN$2=\"Repair %\",IF(AK111>0,$C111,0),IF(AN$2=\"Spares %\",IF(IF(AI111>0,$C111,0)*5>80%,50%,IF(AI111>0,$C111,0)*5),0))))","v":0},{"$f":"IF(AN111=0,0,IF(AO$2=\"Year\",IF(_xlfn.MAXIFS($N111:AN111,$N$2:AN$2,\"Year\")+$E111<=$E$1,AL111+$E111,0),IF(AO$2=\"Repair %\",IF(AL111>0,$C$3,0),IF(AO$2=\"Spares %\",IF(IF(AL111>0,$C111,0)*100>50%,50%,IF(AL111>0,$C111,0)*100),0))))","v":0},{"$f":"IF(AO111=0,0,IF(AP$2=\"Year\",IF(_xlfn.MAXIFS($N111:AO111,$N$2:AO$2,\"Year\")+$E111<=$E$1,AM111+$E111,0),IF(AP$2=\"Repair %\",IF(AM111>0,$C111,0),IF(AP$2=\"Spares %\",IF(IF(AM111>0,$C111,0)*100>50%,50%,IF(AM111>0,$C111,0)*100),0))))","v":0},{"$f":"IF(AP111=0,0,IF(AQ$2=\"Year\",IF(_xlfn.MAXIFS($N111:AP111,$N$2:AP$2,\"Year\")+$E111<=$E$1,AN111+$E111,0),IF(AQ$2=\"Repair %\",IF(AN111>0,$C111,0),IF(AQ$2=\"Spares %\",IF(IF(AL111>0,$C111,0)*5>80%,50%,IF(AL111>0,$C111,0)*5),0))))","v":0}]
[{"$f":"INDEX('Avionics ID'!A:E,MATCH(B112,'Avionics ID'!E:E,0),1)","v":778},"Intergated Nav Receivers (INRs)",0.1,0.06,10,"Obsolecence",{"$f":"SUBSTITUTE(ADDRESS(1,MATCH(A112,'Pt1-AvionicsComponentCosts'!$A$6:$NC$6,0)+1),\"$1\",\"\")","v":"$JP"},{"$f":"_xlfn.TEXTJOIN(\", \",TRUE,_xlfn.UNIQUE(_xlfn._xlws.SORT(_xlfn._xlws.FILTER('Pt1-AvionicsComponentCosts'!$NF$12:$NF$384,ISNUMBER(INDIRECT(\"'Pt1-AvionicsComponentCosts'!\"&G112&\"$12:\"&G112&\"$384\"))))))","v":"A350, B747, B777, B787"},null,0.06,0.1,0.35399999999999998,1.829,{"$f":"COUNTIF($N$2:N$2,\"Year\")*$G$1","v":10},null,1,{"$f":"COUNTIF($N$2:Q$2,\"Year\")*$G$1","v":20},{"$f":"IF(Q112=0,0,IF(R$2=\"Year\",IF(_xlfn.MAXIFS($N112:Q112,$N$2:Q$2,\"Year\")+$E112<=$E$1,O112+$E112,0),IF(R$2=\"Repair %\",IF(O112>0,$C112,0),IF(R$2=\"Spares %\",IF(IF(O112>0,$C112,0)*100>50%,50%,IF(O112>0,$C112,0)*100),0))))","v":0},1,{"$f":"COUNTIF($N$2:T$2,\"Year\")*$G$1","v":30},{"$f":"IF(T112=0,0,IF(U$2=\"Year\",IF(_xlfn.MAXIFS($N112:T112,$N$2:T$2,\"Year\")+$E112<=$E$1,R112+$E112,0),IF(U$2=\"Repair %\",IF(R112>0,$C112,0),IF(U$2=\"Spares %\",IF(IF(R112>0,$C112,0)*100>50%,50%,IF(R112>0,$C112,0)*100),0))))","v":0},1,{"$f":"COUNTIF($N$2:W$2,\"Year\")*$G$1","v":40},{"$f":"IF(W112=0,0,IF(X$2=\"Year\",IF(_xlfn.MAXIFS($N112:W112,$N$2:W$2,\"Year\")+$E112<=$E$1,U112+$E112,0),IF(X$2=\"Repair %\",IF(U112>0,$C112,0),IF(X$2=\"Spares %\",IF(IF(U112>0,$C112,0)*100>50%,50%,IF(U112>0,$C112,0)*100),0))))","v":0},1,{"$f":"IF(Y112=0,0,IF(Z$2=\"Year\",IF(_xlfn.MAXIFS($N112:Y112,$N$2:Y$2,\"Year\")+$E112<=$E$1,W112+$E112,0),IF(Z$2=\"Repair %\",IF(W112>0,$C$3,0),IF(Z$2=\"Spares %\",IF(IF(W112>0,$C112,0)*100>50%,50%,IF(W112>0,$C112,0)*100),0))))","v":0},{"$f":"IF(Z112=0,0,IF(AA$2=\"Year\",IF(_xlfn.MAXIFS($N112:Z112,$N$2:Z$2,\"Year\")+$E112<=$E$1,X112+$E112,0),IF(AA$2=\"Repair %\",IF(X112>0,$C112,0),IF(AA$2=\"Spares %\",IF(IF(X112>0,$C112,0)*100>50%,50%,IF(X112>0,$C112,0)*100),0))))","v":0},{"$f":"IF(AA112=0,0,IF(AB$2=\"Year\",IF(_xlfn.MAXIFS($N112:AA112,$N$2:AA$2,\"Year\")+$E112<=$E$1,Y112+$E112,0),IF(AB$2=\"Repair %\",IF(Y112>0,$C112,0),IF(AB$2=\"Spares %\",IF(IF(W112>0,$C112,0)*5>80%,50%,IF(W112>0,$C112,0)*5),0))))","v":0},{"$f":"IF(AB112=0,0,IF(AC$2=\"Year\",IF(_xlfn.MAXIFS($N112:AB112,$N$2:AB$2,\"Year\")+$E112<=$E$1,Z112+$E112,0),IF(AC$2=\"Repair %\",IF(Z112>0,$C$3,0),IF(AC$2=\"Spares %\",IF(IF(Z112>0,$C112,0)*100>50%,50%,IF(Z112>0,$C112,0)*100),0))))","v":0},{"$f":"IF(AC112=0,0,IF(AD$2=\"Year\",IF(_xlfn.MAXIFS($N112:AC112,$N$2:AC$2,\"Year\")+$E112<=$E$1,AA112+$E112,0),IF(AD$2=\"Repair %\",IF(AA112>0,$C112,0),IF(AD$2=\"Spares %\",IF(IF(AA112>0,$C112,0)*100>50%,50%,IF(AA112>0,$C112,0)*100),0))))","v":0},{"$f":"IF(AD112=0,0,IF(AE$2=\"Year\",IF(_xlfn.MAXIFS($N112:AD112,$N$2:AD$2,\"Year\")+$E112<=$E$1,AB112+$E112,0),IF(AE$2=\"Repair %\",IF(AB112>0,$C112,0),IF(AE$2=\"Spares %\",IF(IF(Z112>0,$C112,0)*5>80%,50%,IF(Z112>0,$C112,0)*5),0))))","v":0},{"$f":"IF(AE112=0,0,IF(AF$2=\"Year\",IF(_xlfn.MAXIFS($N112:AE112,$N$2:AE$2,\"Year\")+$E112<=$E$1,AC112+$E112,0),IF(AF$2=\"Repair %\",IF(AC112>0,$C$3,0),IF(AF$2=\"Spares %\",IF(IF(AC112>0,$C112,0)*100>50%,50%,IF(AC112>0,$C112,0)*100),0))))","v":0},{"$f":"IF(AF112=0,0,IF(AG$2=\"Year\",IF(_xlfn.MAXIFS($N112:AF112,$N$2:AF$2,\"Year\")+$E112<=$E$1,AD112+$E112,0),IF(AG$2=\"Repair %\",IF(AD112>0,$C112,0),IF(AG$2=\"Spares %\",IF(IF(AD112>0,$C112,0)*100>50%,50%,IF(AD112>0,$C112,0)*100),0))))","v":0},{"$f":"IF(AG112=0,0,IF(AH$2=\"Year\",IF(_xlfn.MAXIFS($N112:AG112,$N$2:AG$2,\"Year\")+$E112<=$E$1,AE112+$E112,0),IF(AH$2=\"Repair %\",IF(AE112>0,$C112,0),IF(AH$2=\"Spares %\",IF(IF(AC112>0,$C112,0)*5>80%,50%,IF(AC112>0,$C112,0)*5),0))))","v":0},{"$f":"IF(AH112=0,0,IF(AI$2=\"Year\",IF(_xlfn.MAXIFS($N112:AH112,$N$2:AH$2,\"Year\")+$E112<=$E$1,AF112+$E112,0),IF(AI$2=\"Repair %\",IF(AF112>0,$C$3,0),IF(AI$2=\"Spares %\",IF(IF(AF112>0,$C112,0)*100>50%,50%,IF(AF112>0,$C112,0)*100),0))))","v":0},{"$f":"IF(AI112=0,0,IF(AJ$2=\"Year\",IF(_xlfn.MAXIFS($N112:AI112,$N$2:AI$2,\"Year\")+$E112<=$E$1,AG112+$E112,0),IF(AJ$2=\"Repair %\",IF(AG112>0,$C112,0),IF(AJ$2=\"Spares %\",IF(IF(AG112>0,$C112,0)*100>50%,50%,IF(AG112>0,$C112,0)*100),0))))","v":0},{"$f":"IF(AJ112=0,0,IF(AK$2=\"Year\",IF(_xlfn.MAXIFS($N112:AJ112,$N$2:AJ$2,\"Year\")+$E112<=$E$1,AH112+$E112,0),IF(AK$2=\"Repair %\",IF(AH112>0,$C112,0),IF(AK$2=\"Spares %\",IF(IF(AF112>0,$C112,0)*5>80%,50%,IF(AF112>0,$C112,0)*5),0))))","v":0},{"$f":"IF(AK112=0,0,IF(AL$2=\"Year\",IF(_xlfn.MAXIFS($N112:AK112,$N$2:AK$2,\"Year\")+$E112<=$E$1,AI112+$E112,0),IF(AL$2=\"Repair %\",IF(AI112>0,$C$3,0),IF(AL$2=\"Spares %\",IF(IF(AI112>0,$C112,0)*100>50%,50%,IF(AI112>0,$C112,0)*100),0))))","v":0},{"$f":"IF(AL112=0,0,IF(AM$2=\"Year\",IF(_xlfn.MAXIFS($N112:AL112,$N$2:AL$2,\"Year\")+$E112<=$E$1,AJ112+$E112,0),IF(AM$2=\"Repair %\",IF(AJ112>0,$C112,0),IF(AM$2=\"Spares %\",IF(IF(AJ112>0,$C112,0)*100>50%,50%,IF(AJ112>0,$C112,0)*100),0))))","v":0},{"$f":"IF(AM112=0,0,IF(AN$2=\"Year\",IF(_xlfn.MAXIFS($N112:AM112,$N$2:AM$2,\"Year\")+$E112<=$E$1,AK112+$E112,0),IF(AN$2=\"Repair %\",IF(AK112>0,$C112,0),IF(AN$2=\"Spares %\",IF(IF(AI112>0,$C112,0)*5>80%,50%,IF(AI112>0,$C112,0)*5),0))))","v":0},{"$f":"IF(AN112=0,0,IF(AO$2=\"Year\",IF(_xlfn.MAXIFS($N112:AN112,$N$2:AN$2,\"Year\")+$E112<=$E$1,AL112+$E112,0),IF(AO$2=\"Repair %\",IF(AL112>0,$C$3,0),IF(AO$2=\"Spares %\",IF(IF(AL112>0,$C112,0)*100>50%,50%,IF(AL112>0,$C112,0)*100),0))))","v":0},{"$f":"IF(AO112=0,0,IF(AP$2=\"Year\",IF(_xlfn.MAXIFS($N112:AO112,$N$2:AO$2,\"Year\")+$E112<=$E$1,AM112+$E112,0),IF(AP$2=\"Repair %\",IF(AM112>0,$C112,0),IF(AP$2=\"Spares %\",IF(IF(AM112>0,$C112,0)*100>50%,50%,IF(AM112>0,$C112,0)*100),0))))","v":0},{"$f":"IF(AP112=0,0,IF(AQ$2=\"Year\",IF(_xlfn.MAXIFS($N112:AP112,$N$2:AP$2,\"Year\")+$E112<=$E$1,AN112+$E112,0),IF(AQ$2=\"Repair %\",IF(AN112>0,$C112,0),IF(AQ$2=\"Spares %\",IF(IF(AL112>0,$C112,0)*5>80%,50%,IF(AL112>0,$C112,0)*5),0))))","v":0}]
[{"$f":"INDEX('Avionics ID'!A:E,MATCH(B113,'Avionics ID'!E:E,0),1)","v":803},"IRS Gyroscope System",0.1,0.06,10,"Obsolecence",{"$f":"SUBSTITUTE(ADDRESS(1,MATCH(A113,'Pt1-AvionicsComponentCosts'!$A$6:$NC$6,0)+1),\"$1\",\"\")","v":"$JR"},{"$f":"_xlfn.TEXTJOIN(\", \",TRUE,_xlfn.UNIQUE(_xlfn._xlws.SORT(_xlfn._xlws.FILTER('Pt1-AvionicsComponentCosts'!$NF$12:$NF$384,ISNUMBER(INDIRECT(\"'Pt1-AvionicsComponentCosts'!\"&G113&\"$12:\"&G113&\"$384\"))))))","v":"ARJ, CRJ, EMB Regional, Reg TP, Superjet 100, Turbine GA"},null,0.06,0.1,0.35399999999999998,1.829,{"$f":"COUNTIF($N$2:N$2,\"Year\")*$G$1","v":10},null,1,{"$f":"COUNTIF($N$2:Q$2,\"Year\")*$G$1","v":20},{"$f":"IF(Q113=0,0,IF(R$2=\"Year\",IF(_xlfn.MAXIFS($N113:Q113,$N$2:Q$2,\"Year\")+$E113<=$E$1,O113+$E113,0),IF(R$2=\"Repair %\",IF(O113>0,$C113,0),IF(R$2=\"Spares %\",IF(IF(O113>0,$C113,0)*100>50%,50%,IF(O113>0,$C113,0)*100),0))))","v":0},1,{"$f":"COUNTIF($N$2:T$2,\"Year\")*$G$1","v":30},{"$f":"IF(T113=0,0,IF(U$2=\"Year\",IF(_xlfn.MAXIFS($N113:T113,$N$2:T$2,\"Year\")+$E113<=$E$1,R113+$E113,0),IF(U$2=\"Repair %\",IF(R113>0,$C113,0),IF(U$2=\"Spares %\",IF(IF(R113>0,$C113,0)*100>50%,50%,IF(R113>0,$C113,0)*100),0))))","v":0},1,{"$f":"COUNTIF($N$2:W$2,\"Year\")*$G$1","v":40},{"$f":"IF(W113=0,0,IF(X$2=\"Year\",IF(_xlfn.MAXIFS($N113:W113,$N$2:W$2,\"Year\")+$E113<=$E$1,U113+$E113,0),IF(X$2=\"Repair %\",IF(U113>0,$C113,0),IF(X$2=\"Spares %\",IF(IF(U113>0,$C113,0)*100>50%,50%,IF(U113>0,$C113,0)*100),0))))","v":0},1,{"$f":"IF(Y113=0,0,IF(Z$2=\"Year\",IF(_xlfn.MAXIFS($N113:Y113,$N$2:Y$2,\"Year\")+$E113<=$E$1,W113+$E113,0),IF(Z$2=\"Repair %\",IF(W113>0,$C$3,0),IF(Z$2=\"Spares %\",IF(IF(W113>0,$C113,0)*100>50%,50%,IF(W113>0,$C113,0)*100),0))))","v":0},{"$f":"IF(Z113=0,0,IF(AA$2=\"Year\",IF(_xlfn.MAXIFS($N113:Z113,$N$2:Z$2,\"Year\")+$E113<=$E$1,X113+$E113,0),IF(AA$2=\"Repair %\",IF(X113>0,$C113,0),IF(AA$2=\"Spares %\",IF(IF(X113>0,$C113,0)*100>50%,50%,IF(X113>0,$C113,0)*100),0))))","v":0},{"$f":"IF(AA113=0,0,IF(AB$2=\"Year\",IF(_xlfn.MAXIFS($N113:AA113,$N$2:AA$2,\"Year\")+$E113<=$E$1,Y113+$E113,0),IF(AB$2=\"Repair %\",IF(Y113>0,$C113,0),IF(AB$2=\"Spares %\",IF(IF(W113>0,$C113,0)*5>80%,50%,IF(W113>0,$C113,0)*5),0))))","v":0},{"$f":"IF(AB113=0,0,IF(AC$2=\"Year\",IF(_xlfn.MAXIFS($N113:AB113,$N$2:AB$2,\"Year\")+$E113<=$E$1,Z113+$E113,0),IF(AC$2=\"Repair %\",IF(Z113>0,$C$3,0),IF(AC$2=\"Spares %\",IF(IF(Z113>0,$C113,0)*100>50%,50%,IF(Z113>0,$C113,0)*100),0))))","v":0},{"$f":"IF(AC113=0,0,IF(AD$2=\"Year\",IF(_xlfn.MAXIFS($N113:AC113,$N$2:AC$2,\"Year\")+$E113<=$E$1,AA113+$E113,0),IF(AD$2=\"Repair %\",IF(AA113>0,$C113,0),IF(AD$2=\"Spares %\",IF(IF(AA113>0,$C113,0)*100>50%,50%,IF(AA113>0,$C113,0)*100),0))))","v":0},{"$f":"IF(AD113=0,0,IF(AE$2=\"Year\",IF(_xlfn.MAXIFS($N113:AD113,$N$2:AD$2,\"Year\")+$E113<=$E$1,AB113+$E113,0),IF(AE$2=\"Repair %\",IF(AB113>0,$C113,0),IF(AE$2=\"Spares %\",IF(IF(Z113>0,$C113,0)*5>80%,50%,IF(Z113>0,$C113,0)*5),0))))","v":0},{"$f":"IF(AE113=0,0,IF(AF$2=\"Year\",IF(_xlfn.MAXIFS($N113:AE113,$N$2:AE$2,\"Year\")+$E113<=$E$1,AC113+$E113,0),IF(AF$2=\"Repair %\",IF(AC113>0,$C$3,0),IF(AF$2=\"Spares %\",IF(IF(AC113>0,$C113,0)*100>50%,50%,IF(AC113>0,$C113,0)*100),0))))","v":0},{"$f":"IF(AF113=0,0,IF(AG$2=\"Year\",IF(_xlfn.MAXIFS($N113:AF113,$N$2:AF$2,\"Year\")+$E113<=$E$1,AD113+$E113,0),IF(AG$2=\"Repair %\",IF(AD113>0,$C113,0),IF(AG$2=\"Spares %\",IF(IF(AD113>0,$C113,0)*100>50%,50%,IF(AD113>0,$C113,0)*100),0))))","v":0},{"$f":"IF(AG113=0,0,IF(AH$2=\"Year\",IF(_xlfn.MAXIFS($N113:AG113,$N$2:AG$2,\"Year\")+$E113<=$E$1,AE113+$E113,0),IF(AH$2=\"Repair %\",IF(AE113>0,$C113,0),IF(AH$2=\"Spares %\",IF(IF(AC113>0,$C113,0)*5>80%,50%,IF(AC113>0,$C113,0)*5),0))))","v":0},{"$f":"IF(AH113=0,0,IF(AI$2=\"Year\",IF(_xlfn.MAXIFS($N113:AH113,$N$2:AH$2,\"Year\")+$E113<=$E$1,AF113+$E113,0),IF(AI$2=\"Repair %\",IF(AF113>0,$C$3,0),IF(AI$2=\"Spares %\",IF(IF(AF113>0,$C113,0)*100>50%,50%,IF(AF113>0,$C113,0)*100),0))))","v":0},{"$f":"IF(AI113=0,0,IF(AJ$2=\"Year\",IF(_xlfn.MAXIFS($N113:AI113,$N$2:AI$2,\"Year\")+$E113<=$E$1,AG113+$E113,0),IF(AJ$2=\"Repair %\",IF(AG113>0,$C113,0),IF(AJ$2=\"Spares %\",IF(IF(AG113>0,$C113,0)*100>50%,50%,IF(AG113>0,$C113,0)*100),0))))","v":0},{"$f":"IF(AJ113=0,0,IF(AK$2=\"Year\",IF(_xlfn.MAXIFS($N113:AJ113,$N$2:AJ$2,\"Year\")+$E113<=$E$1,AH113+$E113,0),IF(AK$2=\"Repair %\",IF(AH113>0,$C113,0),IF(AK$2=\"Spares %\",IF(IF(AF113>0,$C113,0)*5>80%,50%,IF(AF113>0,$C113,0)*5),0))))","v":0},{"$f":"IF(AK113=0,0,IF(AL$2=\"Year\",IF(_xlfn.MAXIFS($N113:AK113,$N$2:AK$2,\"Year\")+$E113<=$E$1,AI113+$E113,0),IF(AL$2=\"Repair %\",IF(AI113>0,$C$3,0),IF(AL$2=\"Spares %\",IF(IF(AI113>0,$C113,0)*100>50%,50%,IF(AI113>0,$C113,0)*100),0))))","v":0},{"$f":"IF(AL113=0,0,IF(AM$2=\"Year\",IF(_xlfn.MAXIFS($N113:AL113,$N$2:AL$2,\"Year\")+$E113<=$E$1,AJ113+$E113,0),IF(AM$2=\"Repair %\",IF(AJ113>0,$C113,0),IF(AM$2=\"Spares %\",IF(IF(AJ113>0,$C113,0)*100>50%,50%,IF(AJ113>0,$C113,0)*100),0))))","v":0},{"$f":"IF(AM113=0,0,IF(AN$2=\"Year\",IF(_xlfn.MAXIFS($N113:AM113,$N$2:AM$2,\"Year\")+$E113<=$E$1,AK113+$E113,0),IF(AN$2=\"Repair %\",IF(AK113>0,$C113,0),IF(AN$2=\"Spares %\",IF(IF(AI113>0,$C113,0)*5>80%,50%,IF(AI113>0,$C113,0)*5),0))))","v":0},{"$f":"IF(AN113=0,0,IF(AO$2=\"Year\",IF(_xlfn.MAXIFS($N113:AN113,$N$2:AN$2,\"Year\")+$E113<=$E$1,AL113+$E113,0),IF(AO$2=\"Repair %\",IF(AL113>0,$C$3,0),IF(AO$2=\"Spares %\",IF(IF(AL113>0,$C113,0)*100>50%,50%,IF(AL113>0,$C113,0)*100),0))))","v":0},{"$f":"IF(AO113=0,0,IF(AP$2=\"Year\",IF(_xlfn.MAXIFS($N113:AO113,$N$2:AO$2,\"Year\")+$E113<=$E$1,AM113+$E113,0),IF(AP$2=\"Repair %\",IF(AM113>0,$C113,0),IF(AP$2=\"Spares %\",IF(IF(AM113>0,$C113,0)*100>50%,50%,IF(AM113>0,$C113,0)*100),0))))","v":0},{"$f":"IF(AP113=0,0,IF(AQ$2=\"Year\",IF(_xlfn.MAXIFS($N113:AP113,$N$2:AP$2,\"Year\")+$E113<=$E$1,AN113+$E113,0),IF(AQ$2=\"Repair %\",IF(AN113>0,$C113,0),IF(AQ$2=\"Spares %\",IF(IF(AL113>0,$C113,0)*5>80%,50%,IF(AL113>0,$C113,0)*5),0))))","v":0}]
[{"$f":"INDEX('Avionics ID'!A:E,MATCH(B114,'Avionics ID'!E:E,0),1)","v":776},"IRU package",0.1,0.06,10,"Obsolecence",{"$f":"SUBSTITUTE(ADDRESS(1,MATCH(A114,'Pt1-AvionicsComponentCosts'!$A$6:$NC$6,0)+1),\"$1\",\"\")","v":"$JT"},{"$f":"_xlfn.TEXTJOIN(\", \",TRUE,_xlfn.UNIQUE(_xlfn._xlws.SORT(_xlfn._xlws.FILTER('Pt1-AvionicsComponentCosts'!$NF$12:$NF$384,ISNUMBER(INDIRECT(\"'Pt1-AvionicsComponentCosts'!\"&G114&\"$12:\"&G114&\"$384\"))))))","v":"A350, B747, B777, B787"},null,0.06,0.1,0.35399999999999998,1.829,{"$f":"COUNTIF($N$2:N$2,\"Year\")*$G$1","v":10},null,1,{"$f":"COUNTIF($N$2:Q$2,\"Year\")*$G$1","v":20},{"$f":"IF(Q114=0,0,IF(R$2=\"Year\",IF(_xlfn.MAXIFS($N114:Q114,$N$2:Q$2,\"Year\")+$E114<=$E$1,O114+$E114,0),IF(R$2=\"Repair %\",IF(O114>0,$C114,0),IF(R$2=\"Spares %\",IF(IF(O114>0,$C114,0)*100>50%,50%,IF(O114>0,$C114,0)*100),0))))","v":0},1,{"$f":"COUNTIF($N$2:T$2,\"Year\")*$G$1","v":30},{"$f":"IF(T114=0,0,IF(U$2=\"Year\",IF(_xlfn.MAXIFS($N114:T114,$N$2:T$2,\"Year\")+$E114<=$E$1,R114+$E114,0),IF(U$2=\"Repair %\",IF(R114>0,$C114,0),IF(U$2=\"Spares %\",IF(IF(R114>0,$C114,0)*100>50%,50%,IF(R114>0,$C114,0)*100),0))))","v":0},1,{"$f":"COUNTIF($N$2:W$2,\"Year\")*$G$1","v":40},{"$f":"IF(W114=0,0,IF(X$2=\"Year\",IF(_xlfn.MAXIFS($N114:W114,$N$2:W$2,\"Year\")+$E114<=$E$1,U114+$E114,0),IF(X$2=\"Repair %\",IF(U114>0,$C114,0),IF(X$2=\"Spares %\",IF(IF(U114>0,$C114,0)*100>50%,50%,IF(U114>0,$C114,0)*100),0))))","v":0},1,{"$f":"IF(Y114=0,0,IF(Z$2=\"Year\",IF(_xlfn.MAXIFS($N114:Y114,$N$2:Y$2,\"Year\")+$E114<=$E$1,W114+$E114,0),IF(Z$2=\"Repair %\",IF(W114>0,$C$3,0),IF(Z$2=\"Spares %\",IF(IF(W114>0,$C114,0)*100>50%,50%,IF(W114>0,$C114,0)*100),0))))","v":0},{"$f":"IF(Z114=0,0,IF(AA$2=\"Year\",IF(_xlfn.MAXIFS($N114:Z114,$N$2:Z$2,\"Year\")+$E114<=$E$1,X114+$E114,0),IF(AA$2=\"Repair %\",IF(X114>0,$C114,0),IF(AA$2=\"Spares %\",IF(IF(X114>0,$C114,0)*100>50%,50%,IF(X114>0,$C114,0)*100),0))))","v":0},{"$f":"IF(AA114=0,0,IF(AB$2=\"Year\",IF(_xlfn.MAXIFS($N114:AA114,$N$2:AA$2,\"Year\")+$E114<=$E$1,Y114+$E114,0),IF(AB$2=\"Repair %\",IF(Y114>0,$C114,0),IF(AB$2=\"Spares %\",IF(IF(W114>0,$C114,0)*5>80%,50%,IF(W114>0,$C114,0)*5),0))))","v":0},{"$f":"IF(AB114=0,0,IF(AC$2=\"Year\",IF(_xlfn.MAXIFS($N114:AB114,$N$2:AB$2,\"Year\")+$E114<=$E$1,Z114+$E114,0),IF(AC$2=\"Repair %\",IF(Z114>0,$C$3,0),IF(AC$2=\"Spares %\",IF(IF(Z114>0,$C114,0)*100>50%,50%,IF(Z114>0,$C114,0)*100),0))))","v":0},{"$f":"IF(AC114=0,0,IF(AD$2=\"Year\",IF(_xlfn.MAXIFS($N114:AC114,$N$2:AC$2,\"Year\")+$E114<=$E$1,AA114+$E114,0),IF(AD$2=\"Repair %\",IF(AA114>0,$C114,0),IF(AD$2=\"Spares %\",IF(IF(AA114>0,$C114,0)*100>50%,50%,IF(AA114>0,$C114,0)*100),0))))","v":0},{"$f":"IF(AD114=0,0,IF(AE$2=\"Year\",IF(_xlfn.MAXIFS($N114:AD114,$N$2:AD$2,\"Year\")+$E114<=$E$1,AB114+$E114,0),IF(AE$2=\"Repair %\",IF(AB114>0,$C114,0),IF(AE$2=\"Spares %\",IF(IF(Z114>0,$C114,0)*5>80%,50%,IF(Z114>0,$C114,0)*5),0))))","v":0},{"$f":"IF(AE114=0,0,IF(AF$2=\"Year\",IF(_xlfn.MAXIFS($N114:AE114,$N$2:AE$2,\"Year\")+$E114<=$E$1,AC114+$E114,0),IF(AF$2=\"Repair %\",IF(AC114>0,$C$3,0),IF(AF$2=\"Spares %\",IF(IF(AC114>0,$C114,0)*100>50%,50%,IF(AC114>0,$C114,0)*100),0))))","v":0},{"$f":"IF(AF114=0,0,IF(AG$2=\"Year\",IF(_xlfn.MAXIFS($N114:AF114,$N$2:AF$2,\"Year\")+$E114<=$E$1,AD114+$E114,0),IF(AG$2=\"Repair %\",IF(AD114>0,$C114,0),IF(AG$2=\"Spares %\",IF(IF(AD114>0,$C114,0)*100>50%,50%,IF(AD114>0,$C114,0)*100),0))))","v":0},{"$f":"IF(AG114=0,0,IF(AH$2=\"Year\",IF(_xlfn.MAXIFS($N114:AG114,$N$2:AG$2,\"Year\")+$E114<=$E$1,AE114+$E114,0),IF(AH$2=\"Repair %\",IF(AE114>0,$C114,0),IF(AH$2=\"Spares %\",IF(IF(AC114>0,$C114,0)*5>80%,50%,IF(AC114>0,$C114,0)*5),0))))","v":0},{"$f":"IF(AH114=0,0,IF(AI$2=\"Year\",IF(_xlfn.MAXIFS($N114:AH114,$N$2:AH$2,\"Year\")+$E114<=$E$1,AF114+$E114,0),IF(AI$2=\"Repair %\",IF(AF114>0,$C$3,0),IF(AI$2=\"Spares %\",IF(IF(AF114>0,$C114,0)*100>50%,50%,IF(AF114>0,$C114,0)*100),0))))","v":0},{"$f":"IF(AI114=0,0,IF(AJ$2=\"Year\",IF(_xlfn.MAXIFS($N114:AI114,$N$2:AI$2,\"Year\")+$E114<=$E$1,AG114+$E114,0),IF(AJ$2=\"Repair %\",IF(AG114>0,$C114,0),IF(AJ$2=\"Spares %\",IF(IF(AG114>0,$C114,0)*100>50%,50%,IF(AG114>0,$C114,0)*100),0))))","v":0},{"$f":"IF(AJ114=0,0,IF(AK$2=\"Year\",IF(_xlfn.MAXIFS($N114:AJ114,$N$2:AJ$2,\"Year\")+$E114<=$E$1,AH114+$E114,0),IF(AK$2=\"Repair %\",IF(AH114>0,$C114,0),IF(AK$2=\"Spares %\",IF(IF(AF114>0,$C114,0)*5>80%,50%,IF(AF114>0,$C114,0)*5),0))))","v":0},{"$f":"IF(AK114=0,0,IF(AL$2=\"Year\",IF(_xlfn.MAXIFS($N114:AK114,$N$2:AK$2,\"Year\")+$E114<=$E$1,AI114+$E114,0),IF(AL$2=\"Repair %\",IF(AI114>0,$C$3,0),IF(AL$2=\"Spares %\",IF(IF(AI114>0,$C114,0)*100>50%,50%,IF(AI114>0,$C114,0)*100),0))))","v":0},{"$f":"IF(AL114=0,0,IF(AM$2=\"Year\",IF(_xlfn.MAXIFS($N114:AL114,$N$2:AL$2,\"Year\")+$E114<=$E$1,AJ114+$E114,0),IF(AM$2=\"Repair %\",IF(AJ114>0,$C114,0),IF(AM$2=\"Spares %\",IF(IF(AJ114>0,$C114,0)*100>50%,50%,IF(AJ114>0,$C114,0)*100),0))))","v":0},{"$f":"IF(AM114=0,0,IF(AN$2=\"Year\",IF(_xlfn.MAXIFS($N114:AM114,$N$2:AM$2,\"Year\")+$E114<=$E$1,AK114+$E114,0),IF(AN$2=\"Repair %\",IF(AK114>0,$C114,0),IF(AN$2=\"Spares %\",IF(IF(AI114>0,$C114,0)*5>80%,50%,IF(AI114>0,$C114,0)*5),0))))","v":0},{"$f":"IF(AN114=0,0,IF(AO$2=\"Year\",IF(_xlfn.MAXIFS($N114:AN114,$N$2:AN$2,\"Year\")+$E114<=$E$1,AL114+$E114,0),IF(AO$2=\"Repair %\",IF(AL114>0,$C$3,0),IF(AO$2=\"Spares %\",IF(IF(AL114>0,$C114,0)*100>50%,50%,IF(AL114>0,$C114,0)*100),0))))","v":0},{"$f":"IF(AO114=0,0,IF(AP$2=\"Year\",IF(_xlfn.MAXIFS($N114:AO114,$N$2:AO$2,\"Year\")+$E114<=$E$1,AM114+$E114,0),IF(AP$2=\"Repair %\",IF(AM114>0,$C114,0),IF(AP$2=\"Spares %\",IF(IF(AM114>0,$C114,0)*100>50%,50%,IF(AM114>0,$C114,0)*100),0))))","v":0},{"$f":"IF(AP114=0,0,IF(AQ$2=\"Year\",IF(_xlfn.MAXIFS($N114:AP114,$N$2:AP$2,\"Year\")+$E114<=$E$1,AN114+$E114,0),IF(AQ$2=\"Repair %\",IF(AN114>0,$C114,0),IF(AQ$2=\"Spares %\",IF(IF(AL114>0,$C114,0)*5>80%,50%,IF(AL114>0,$C114,0)*5),0))))","v":0}]
[{"$f":"INDEX('Avionics ID'!A:E,MATCH(B115,'Avionics ID'!E:E,0),1)","v":849},"Joint tactical radio system (JTRS),",0.05,0.06,20,"Obsolecence",{"$f":"SUBSTITUTE(ADDRESS(1,MATCH(A115,'Pt1-AvionicsComponentCosts'!$A$6:$NC$6,0)+1),\"$1\",\"\")","v":"$BD"},{"$f":"_xlfn.TEXTJOIN(\", \",TRUE,_xlfn.UNIQUE(_xlfn._xlws.SORT(_xlfn._xlws.FILTER('Pt1-AvionicsComponentCosts'!$NF$12:$NF$384,ISNUMBER(INDIRECT(\"'Pt1-AvionicsComponentCosts'!\"&G115&\"$12:\"&G115&\"$384\"))))))","v":"Attack Helo, Helo"},null,0.06,0.05,0.501,1.2969999999999999,{"$f":"COUNTIF($N$2:N$2,\"Year\")*$G$1","v":10},null,0,{"$f":"COUNTIF($N$2:Q$2,\"Year\")*$G$1","v":20},{"$f":"IF(Q115=0,0,IF(R$2=\"Year\",IF(_xlfn.MAXIFS($N115:Q115,$N$2:Q$2,\"Year\")+$E115<=$E$1,O115+$E115,0),IF(R$2=\"Repair %\",IF(O115>0,$C115,0),IF(R$2=\"Spares %\",IF(IF(O115>0,$C115,0)*100>50%,50%,IF(O115>0,$C115,0)*100),0))))","v":0},1,{"$f":"COUNTIF($N$2:T$2,\"Year\")*$G$1","v":30},{"$f":"IF(T115=0,0,IF(U$2=\"Year\",IF(_xlfn.MAXIFS($N115:T115,$N$2:T$2,\"Year\")+$E115<=$E$1,R115+$E115,0),IF(U$2=\"Repair %\",IF(R115>0,$C115,0),IF(U$2=\"Spares %\",IF(IF(R115>0,$C115,0)*100>50%,50%,IF(R115>0,$C115,0)*100),0))))","v":0},0,{"$f":"COUNTIF($N$2:W$2,\"Year\")*$G$1","v":40},{"$f":"IF(W115=0,0,IF(X$2=\"Year\",IF(_xlfn.MAXIFS($N115:W115,$N$2:W$2,\"Year\")+$E115<=$E$1,U115+$E115,0),IF(X$2=\"Repair %\",IF(U115>0,$C115,0),IF(X$2=\"Spares %\",IF(IF(U115>0,$C115,0)*100>50%,50%,IF(U115>0,$C115,0)*100),0))))","v":0},1,{"$f":"IF(Y115=0,0,IF(Z$2=\"Year\",IF(_xlfn.MAXIFS($N115:Y115,$N$2:Y$2,\"Year\")+$E115<=$E$1,W115+$E115,0),IF(Z$2=\"Repair %\",IF(W115>0,$C$3,0),IF(Z$2=\"Spares %\",IF(IF(W115>0,$C115,0)*100>50%,50%,IF(W115>0,$C115,0)*100),0))))","v":0},{"$f":"IF(Z115=0,0,IF(AA$2=\"Year\",IF(_xlfn.MAXIFS($N115:Z115,$N$2:Z$2,\"Year\")+$E115<=$E$1,X115+$E115,0),IF(AA$2=\"Repair %\",IF(X115>0,$C115,0),IF(AA$2=\"Spares %\",IF(IF(X115>0,$C115,0)*100>50%,50%,IF(X115>0,$C115,0)*100),0))))","v":0},{"$f":"IF(AA115=0,0,IF(AB$2=\"Year\",IF(_xlfn.MAXIFS($N115:AA115,$N$2:AA$2,\"Year\")+$E115<=$E$1,Y115+$E115,0),IF(AB$2=\"Repair %\",IF(Y115>0,$C115,0),IF(AB$2=\"Spares %\",IF(IF(W115>0,$C115,0)*5>80%,50%,IF(W115>0,$C115,0)*5),0))))","v":0},{"$f":"IF(AB115=0,0,IF(AC$2=\"Year\",IF(_xlfn.MAXIFS($N115:AB115,$N$2:AB$2,\"Year\")+$E115<=$E$1,Z115+$E115,0),IF(AC$2=\"Repair %\",IF(Z115>0,$C$3,0),IF(AC$2=\"Spares %\",IF(IF(Z115>0,$C115,0)*100>50%,50%,IF(Z115>0,$C115,0)*100),0))))","v":0},{"$f":"IF(AC115=0,0,IF(AD$2=\"Year\",IF(_xlfn.MAXIFS($N115:AC115,$N$2:AC$2,\"Year\")+$E115<=$E$1,AA115+$E115,0),IF(AD$2=\"Repair %\",IF(AA115>0,$C115,0),IF(AD$2=\"Spares %\",IF(IF(AA115>0,$C115,0)*100>50%,50%,IF(AA115>0,$C115,0)*100),0))))","v":0},{"$f":"IF(AD115=0,0,IF(AE$2=\"Year\",IF(_xlfn.MAXIFS($N115:AD115,$N$2:AD$2,\"Year\")+$E115<=$E$1,AB115+$E115,0),IF(AE$2=\"Repair %\",IF(AB115>0,$C115,0),IF(AE$2=\"Spares %\",IF(IF(Z115>0,$C115,0)*5>80%,50%,IF(Z115>0,$C115,0)*5),0))))","v":0},{"$f":"IF(AE115=0,0,IF(AF$2=\"Year\",IF(_xlfn.MAXIFS($N115:AE115,$N$2:AE$2,\"Year\")+$E115<=$E$1,AC115+$E115,0),IF(AF$2=\"Repair %\",IF(AC115>0,$C$3,0),IF(AF$2=\"Spares %\",IF(IF(AC115>0,$C115,0)*100>50%,50%,IF(AC115>0,$C115,0)*100),0))))","v":0},{"$f":"IF(AF115=0,0,IF(AG$2=\"Year\",IF(_xlfn.MAXIFS($N115:AF115,$N$2:AF$2,\"Year\")+$E115<=$E$1,AD115+$E115,0),IF(AG$2=\"Repair %\",IF(AD115>0,$C115,0),IF(AG$2=\"Spares %\",IF(IF(AD115>0,$C115,0)*100>50%,50%,IF(AD115>0,$C115,0)*100),0))))","v":0},{"$f":"IF(AG115=0,0,IF(AH$2=\"Year\",IF(_xlfn.MAXIFS($N115:AG115,$N$2:AG$2,\"Year\")+$E115<=$E$1,AE115+$E115,0),IF(AH$2=\"Repair %\",IF(AE115>0,$C115,0),IF(AH$2=\"Spares %\",IF(IF(AC115>0,$C115,0)*5>80%,50%,IF(AC115>0,$C115,0)*5),0))))","v":0},{"$f":"IF(AH115=0,0,IF(AI$2=\"Year\",IF(_xlfn.MAXIFS($N115:AH115,$N$2:AH$2,\"Year\")+$E115<=$E$1,AF115+$E115,0),IF(AI$2=\"Repair %\",IF(AF115>0,$C$3,0),IF(AI$2=\"Spares %\",IF(IF(AF115>0,$C115,0)*100>50%,50%,IF(AF115>0,$C115,0)*100),0))))","v":0},{"$f":"IF(AI115=0,0,IF(AJ$2=\"Year\",IF(_xlfn.MAXIFS($N115:AI115,$N$2:AI$2,\"Year\")+$E115<=$E$1,AG115+$E115,0),IF(AJ$2=\"Repair %\",IF(AG115>0,$C115,0),IF(AJ$2=\"Spares %\",IF(IF(AG115>0,$C115,0)*100>50%,50%,IF(AG115>0,$C115,0)*100),0))))","v":0},{"$f":"IF(AJ115=0,0,IF(AK$2=\"Year\",IF(_xlfn.MAXIFS($N115:AJ115,$N$2:AJ$2,\"Year\")+$E115<=$E$1,AH115+$E115,0),IF(AK$2=\"Repair %\",IF(AH115>0,$C115,0),IF(AK$2=\"Spares %\",IF(IF(AF115>0,$C115,0)*5>80%,50%,IF(AF115>0,$C115,0)*5),0))))","v":0},{"$f":"IF(AK115=0,0,IF(AL$2=\"Year\",IF(_xlfn.MAXIFS($N115:AK115,$N$2:AK$2,\"Year\")+$E115<=$E$1,AI115+$E115,0),IF(AL$2=\"Repair %\",IF(AI115>0,$C$3,0),IF(AL$2=\"Spares %\",IF(IF(AI115>0,$C115,0)*100>50%,50%,IF(AI115>0,$C115,0)*100),0))))","v":0},{"$f":"IF(AL115=0,0,IF(AM$2=\"Year\",IF(_xlfn.MAXIFS($N115:AL115,$N$2:AL$2,\"Year\")+$E115<=$E$1,AJ115+$E115,0),IF(AM$2=\"Repair %\",IF(AJ115>0,$C115,0),IF(AM$2=\"Spares %\",IF(IF(AJ115>0,$C115,0)*100>50%,50%,IF(AJ115>0,$C115,0)*100),0))))","v":0},{"$f":"IF(AM115=0,0,IF(AN$2=\"Year\",IF(_xlfn.MAXIFS($N115:AM115,$N$2:AM$2,\"Year\")+$E115<=$E$1,AK115+$E115,0),IF(AN$2=\"Repair %\",IF(AK115>0,$C115,0),IF(AN$2=\"Spares %\",IF(IF(AI115>0,$C115,0)*5>80%,50%,IF(AI115>0,$C115,0)*5),0))))","v":0},{"$f":"IF(AN115=0,0,IF(AO$2=\"Year\",IF(_xlfn.MAXIFS($N115:AN115,$N$2:AN$2,\"Year\")+$E115<=$E$1,AL115+$E115,0),IF(AO$2=\"Repair %\",IF(AL115>0,$C$3,0),IF(AO$2=\"Spares %\",IF(IF(AL115>0,$C115,0)*100>50%,50%,IF(AL115>0,$C115,0)*100),0))))","v":0},{"$f":"IF(AO115=0,0,IF(AP$2=\"Year\",IF(_xlfn.MAXIFS($N115:AO115,$N$2:AO$2,\"Year\")+$E115<=$E$1,AM115+$E115,0),IF(AP$2=\"Repair %\",IF(AM115>0,$C115,0),IF(AP$2=\"Spares %\",IF(IF(AM115>0,$C115,0)*100>50%,50%,IF(AM115>0,$C115,0)*100),0))))","v":0},{"$f":"IF(AP115=0,0,IF(AQ$2=\"Year\",IF(_xlfn.MAXIFS($N115:AP115,$N$2:AP$2,\"Year\")+$E115<=$E$1,AN115+$E115,0),IF(AQ$2=\"Repair %\",IF(AN115>0,$C115,0),IF(AQ$2=\"Spares %\",IF(IF(AL115>0,$C115,0)*5>80%,50%,IF(AL115>0,$C115,0)*5),0))))","v":0}]
[{"$f":"INDEX('Avionics ID'!A:E,MATCH(B116,'Avionics ID'!E:E,0),1)","v":836},"Keyboard cursor Control Units (KCCU)",0,0.06,null,"",{"$f":"SUBSTITUTE(ADDRESS(1,MATCH(A116,'Pt1-AvionicsComponentCosts'!$A$6:$NC$6,0)+1),\"$1\",\"\")","v":"$FH"},{"$f":"_xlfn.TEXTJOIN(\", \",TRUE,_xlfn.UNIQUE(_xlfn._xlws.SORT(_xlfn._xlws.FILTER('Pt1-AvionicsComponentCosts'!$NF$12:$NF$384,ISNUMBER(INDIRECT(\"'Pt1-AvionicsComponentCosts'!\"&G116&\"$12:\"&G116&\"$384\"))))))","v":"A330 LMXT, A330 MRTT, Mil Transport, Military Jet, Military TP"},null,0.06,0,0.35299999999999998,1.8460000000000001,{"$f":"COUNTIF($N$2:N$2,\"Year\")*$G$1","v":10},null,0,{"$f":"COUNTIF($N$2:Q$2,\"Year\")*$G$1","v":20},{"$f":"IF(Q116=0,0,IF(R$2=\"Year\",IF(_xlfn.MAXIFS($N116:Q116,$N$2:Q$2,\"Year\")+$E116<=$E$1,O116+$E116,0),IF(R$2=\"Repair %\",IF(O116>0,$C116,0),IF(R$2=\"Spares %\",IF(IF(O116>0,$C116,0)*100>50%,50%,IF(O116>0,$C116,0)*100),0))))","v":0},0,{"$f":"COUNTIF($N$2:T$2,\"Year\")*$G$1","v":30},{"$f":"IF(T116=0,0,IF(U$2=\"Year\",IF(_xlfn.MAXIFS($N116:T116,$N$2:T$2,\"Year\")+$E116<=$E$1,R116+$E116,0),IF(U$2=\"Repair %\",IF(R116>0,$C116,0),IF(U$2=\"Spares %\",IF(IF(R116>0,$C116,0)*100>50%,50%,IF(R116>0,$C116,0)*100),0))))","v":0},0,{"$f":"COUNTIF($N$2:W$2,\"Year\")*$G$1","v":40},{"$f":"IF(W116=0,0,IF(X$2=\"Year\",IF(_xlfn.MAXIFS($N116:W116,$N$2:W$2,\"Year\")+$E116<=$E$1,U116+$E116,0),IF(X$2=\"Repair %\",IF(U116>0,$C116,0),IF(X$2=\"Spares %\",IF(IF(U116>0,$C116,0)*100>50%,50%,IF(U116>0,$C116,0)*100),0))))","v":0},0,{"$f":"IF(Y116=0,0,IF(Z$2=\"Year\",IF(_xlfn.MAXIFS($N116:Y116,$N$2:Y$2,\"Year\")+$E116<=$E$1,W116+$E116,0),IF(Z$2=\"Repair %\",IF(W116>0,$C$3,0),IF(Z$2=\"Spares %\",IF(IF(W116>0,$C116,0)*100>50%,50%,IF(W116>0,$C116,0)*100),0))))","v":0},{"$f":"IF(Z116=0,0,IF(AA$2=\"Year\",IF(_xlfn.MAXIFS($N116:Z116,$N$2:Z$2,\"Year\")+$E116<=$E$1,X116+$E116,0),IF(AA$2=\"Repair %\",IF(X116>0,$C116,0),IF(AA$2=\"Spares %\",IF(IF(X116>0,$C116,0)*100>50%,50%,IF(X116>0,$C116,0)*100),0))))","v":0},{"$f":"IF(AA116=0,0,IF(AB$2=\"Year\",IF(_xlfn.MAXIFS($N116:AA116,$N$2:AA$2,\"Year\")+$E116<=$E$1,Y116+$E116,0),IF(AB$2=\"Repair %\",IF(Y116>0,$C116,0),IF(AB$2=\"Spares %\",IF(IF(W116>0,$C116,0)*5>80%,50%,IF(W116>0,$C116,0)*5),0))))","v":0},{"$f":"IF(AB116=0,0,IF(AC$2=\"Year\",IF(_xlfn.MAXIFS($N116:AB116,$N$2:AB$2,\"Year\")+$E116<=$E$1,Z116+$E116,0),IF(AC$2=\"Repair %\",IF(Z116>0,$C$3,0),IF(AC$2=\"Spares %\",IF(IF(Z116>0,$C116,0)*100>50%,50%,IF(Z116>0,$C116,0)*100),0))))","v":0},{"$f":"IF(AC116=0,0,IF(AD$2=\"Year\",IF(_xlfn.MAXIFS($N116:AC116,$N$2:AC$2,\"Year\")+$E116<=$E$1,AA116+$E116,0),IF(AD$2=\"Repair %\",IF(AA116>0,$C116,0),IF(AD$2=\"Spares %\",IF(IF(AA116>0,$C116,0)*100>50%,50%,IF(AA116>0,$C116,0)*100),0))))","v":0},{"$f":"IF(AD116=0,0,IF(AE$2=\"Year\",IF(_xlfn.MAXIFS($N116:AD116,$N$2:AD$2,\"Year\")+$E116<=$E$1,AB116+$E116,0),IF(AE$2=\"Repair %\",IF(AB116>0,$C116,0),IF(AE$2=\"Spares %\",IF(IF(Z116>0,$C116,0)*5>80%,50%,IF(Z116>0,$C116,0)*5),0))))","v":0},{"$f":"IF(AE116=0,0,IF(AF$2=\"Year\",IF(_xlfn.MAXIFS($N116:AE116,$N$2:AE$2,\"Year\")+$E116<=$E$1,AC116+$E116,0),IF(AF$2=\"Repair %\",IF(AC116>0,$C$3,0),IF(AF$2=\"Spares %\",IF(IF(AC116>0,$C116,0)*100>50%,50%,IF(AC116>0,$C116,0)*100),0))))","v":0},{"$f":"IF(AF116=0,0,IF(AG$2=\"Year\",IF(_xlfn.MAXIFS($N116:AF116,$N$2:AF$2,\"Year\")+$E116<=$E$1,AD116+$E116,0),IF(AG$2=\"Repair %\",IF(AD116>0,$C116,0),IF(AG$2=\"Spares %\",IF(IF(AD116>0,$C116,0)*100>50%,50%,IF(AD116>0,$C116,0)*100),0))))","v":0},{"$f":"IF(AG116=0,0,IF(AH$2=\"Year\",IF(_xlfn.MAXIFS($N116:AG116,$N$2:AG$2,\"Year\")+$E116<=$E$1,AE116+$E116,0),IF(AH$2=\"Repair %\",IF(AE116>0,$C116,0),IF(AH$2=\"Spares %\",IF(IF(AC116>0,$C116,0)*5>80%,50%,IF(AC116>0,$C116,0)*5),0))))","v":0},{"$f":"IF(AH116=0,0,IF(AI$2=\"Year\",IF(_xlfn.MAXIFS($N116:AH116,$N$2:AH$2,\"Year\")+$E116<=$E$1,AF116+$E116,0),IF(AI$2=\"Repair %\",IF(AF116>0,$C$3,0),IF(AI$2=\"Spares %\",IF(IF(AF116>0,$C116,0)*100>50%,50%,IF(AF116>0,$C116,0)*100),0))))","v":0},{"$f":"IF(AI116=0,0,IF(AJ$2=\"Year\",IF(_xlfn.MAXIFS($N116:AI116,$N$2:AI$2,\"Year\")+$E116<=$E$1,AG116+$E116,0),IF(AJ$2=\"Repair %\",IF(AG116>0,$C116,0),IF(AJ$2=\"Spares %\",IF(IF(AG116>0,$C116,0)*100>50%,50%,IF(AG116>0,$C116,0)*100),0))))","v":0},{"$f":"IF(AJ116=0,0,IF(AK$2=\"Year\",IF(_xlfn.MAXIFS($N116:AJ116,$N$2:AJ$2,\"Year\")+$E116<=$E$1,AH116+$E116,0),IF(AK$2=\"Repair %\",IF(AH116>0,$C116,0),IF(AK$2=\"Spares %\",IF(IF(AF116>0,$C116,0)*5>80%,50%,IF(AF116>0,$C116,0)*5),0))))","v":0},{"$f":"IF(AK116=0,0,IF(AL$2=\"Year\",IF(_xlfn.MAXIFS($N116:AK116,$N$2:AK$2,\"Year\")+$E116<=$E$1,AI116+$E116,0),IF(AL$2=\"Repair %\",IF(AI116>0,$C$3,0),IF(AL$2=\"Spares %\",IF(IF(AI116>0,$C116,0)*100>50%,50%,IF(AI116>0,$C116,0)*100),0))))","v":0},{"$f":"IF(AL116=0,0,IF(AM$2=\"Year\",IF(_xlfn.MAXIFS($N116:AL116,$N$2:AL$2,\"Year\")+$E116<=$E$1,AJ116+$E116,0),IF(AM$2=\"Repair %\",IF(AJ116>0,$C116,0),IF(AM$2=\"Spares %\",IF(IF(AJ116>0,$C116,0)*100>50%,50%,IF(AJ116>0,$C116,0)*100),0))))","v":0},{"$f":"IF(AM116=0,0,IF(AN$2=\"Year\",IF(_xlfn.MAXIFS($N116:AM116,$N$2:AM$2,\"Year\")+$E116<=$E$1,AK116+$E116,0),IF(AN$2=\"Repair %\",IF(AK116>0,$C116,0),IF(AN$2=\"Spares %\",IF(IF(AI116>0,$C116,0)*5>80%,50%,IF(AI116>0,$C116,0)*5),0))))","v":0},{"$f":"IF(AN116=0,0,IF(AO$2=\"Year\",IF(_xlfn.MAXIFS($N116:AN116,$N$2:AN$2,\"Year\")+$E116<=$E$1,AL116+$E116,0),IF(AO$2=\"Repair %\",IF(AL116>0,$C$3,0),IF(AO$2=\"Spares %\",IF(IF(AL116>0,$C116,0)*100>50%,50%,IF(AL116>0,$C116,0)*100),0))))","v":0},{"$f":"IF(AO116=0,0,IF(AP$2=\"Year\",IF(_xlfn.MAXIFS($N116:AO116,$N$2:AO$2,\"Year\")+$E116<=$E$1,AM116+$E116,0),IF(AP$2=\"Repair %\",IF(AM116>0,$C116,0),IF(AP$2=\"Spares %\",IF(IF(AM116>0,$C116,0)*100>50%,50%,IF(AM116>0,$C116,0)*100),0))))","v":0},{"$f":"IF(AP116=0,0,IF(AQ$2=\"Year\",IF(_xlfn.MAXIFS($N116:AP116,$N$2:AP$2,\"Year\")+$E116<=$E$1,AN116+$E116,0),IF(AQ$2=\"Repair %\",IF(AN116>0,$C116,0),IF(AQ$2=\"Spares %\",IF(IF(AL116>0,$C116,0)*5>80%,50%,IF(AL116>0,$C116,0)*5),0))))","v":0}]
[{"$f":"INDEX('Avionics ID'!A:E,MATCH(B117,'Avionics ID'!E:E,0),1)","v":858},"Laser warning receiver",0.05,0.06,20,"Obsolecence",{"$f":"SUBSTITUTE(ADDRESS(1,MATCH(A117,'Pt1-AvionicsComponentCosts'!$A$6:$NC$6,0)+1),\"$1\",\"\")","v":"$LD"},{"$f":"_xlfn.TEXTJOIN(\", \",TRUE,_xlfn.UNIQUE(_xlfn._xlws.SORT(_xlfn._xlws.FILTER('Pt1-AvionicsComponentCosts'!$NF$12:$NF$384,ISNUMBER(INDIRECT(\"'Pt1-AvionicsComponentCosts'!\"&G117&\"$12:\"&G117&\"$384\"))))))","v":"Attack Helo, Helo"},null,0.06,0.05,0.33500000000000002,1.6830000000000001,{"$f":"COUNTIF($N$2:N$2,\"Year\")*$G$1","v":10},null,0,{"$f":"COUNTIF($N$2:Q$2,\"Year\")*$G$1","v":20},{"$f":"IF(Q117=0,0,IF(R$2=\"Year\",IF(_xlfn.MAXIFS($N117:Q117,$N$2:Q$2,\"Year\")+$E117<=$E$1,O117+$E117,0),IF(R$2=\"Repair %\",IF(O117>0,$C117,0),IF(R$2=\"Spares %\",IF(IF(O117>0,$C117,0)*100>50%,50%,IF(O117>0,$C117,0)*100),0))))","v":0},1,{"$f":"COUNTIF($N$2:T$2,\"Year\")*$G$1","v":30},{"$f":"IF(T117=0,0,IF(U$2=\"Year\",IF(_xlfn.MAXIFS($N117:T117,$N$2:T$2,\"Year\")+$E117<=$E$1,R117+$E117,0),IF(U$2=\"Repair %\",IF(R117>0,$C117,0),IF(U$2=\"Spares %\",IF(IF(R117>0,$C117,0)*100>50%,50%,IF(R117>0,$C117,0)*100),0))))","v":0},0,{"$f":"COUNTIF($N$2:W$2,\"Year\")*$G$1","v":40},{"$f":"IF(W117=0,0,IF(X$2=\"Year\",IF(_xlfn.MAXIFS($N117:W117,$N$2:W$2,\"Year\")+$E117<=$E$1,U117+$E117,0),IF(X$2=\"Repair %\",IF(U117>0,$C117,0),IF(X$2=\"Spares %\",IF(IF(U117>0,$C117,0)*100>50%,50%,IF(U117>0,$C117,0)*100),0))))","v":0},1,{"$f":"IF(Y117=0,0,IF(Z$2=\"Year\",IF(_xlfn.MAXIFS($N117:Y117,$N$2:Y$2,\"Year\")+$E117<=$E$1,W117+$E117,0),IF(Z$2=\"Repair %\",IF(W117>0,$C$3,0),IF(Z$2=\"Spares %\",IF(IF(W117>0,$C117,0)*100>50%,50%,IF(W117>0,$C117,0)*100),0))))","v":0},{"$f":"IF(Z117=0,0,IF(AA$2=\"Year\",IF(_xlfn.MAXIFS($N117:Z117,$N$2:Z$2,\"Year\")+$E117<=$E$1,X117+$E117,0),IF(AA$2=\"Repair %\",IF(X117>0,$C117,0),IF(AA$2=\"Spares %\",IF(IF(X117>0,$C117,0)*100>50%,50%,IF(X117>0,$C117,0)*100),0))))","v":0},{"$f":"IF(AA117=0,0,IF(AB$2=\"Year\",IF(_xlfn.MAXIFS($N117:AA117,$N$2:AA$2,\"Year\")+$E117<=$E$1,Y117+$E117,0),IF(AB$2=\"Repair %\",IF(Y117>0,$C117,0),IF(AB$2=\"Spares %\",IF(IF(W117>0,$C117,0)*5>80%,50%,IF(W117>0,$C117,0)*5),0))))","v":0},{"$f":"IF(AB117=0,0,IF(AC$2=\"Year\",IF(_xlfn.MAXIFS($N117:AB117,$N$2:AB$2,\"Year\")+$E117<=$E$1,Z117+$E117,0),IF(AC$2=\"Repair %\",IF(Z117>0,$C$3,0),IF(AC$2=\"Spares %\",IF(IF(Z117>0,$C117,0)*100>50%,50%,IF(Z117>0,$C117,0)*100),0))))","v":0},{"$f":"IF(AC117=0,0,IF(AD$2=\"Year\",IF(_xlfn.MAXIFS($N117:AC117,$N$2:AC$2,\"Year\")+$E117<=$E$1,AA117+$E117,0),IF(AD$2=\"Repair %\",IF(AA117>0,$C117,0),IF(AD$2=\"Spares %\",IF(IF(AA117>0,$C117,0)*100>50%,50%,IF(AA117>0,$C117,0)*100),0))))","v":0},{"$f":"IF(AD117=0,0,IF(AE$2=\"Year\",IF(_xlfn.MAXIFS($N117:AD117,$N$2:AD$2,\"Year\")+$E117<=$E$1,AB117+$E117,0),IF(AE$2=\"Repair %\",IF(AB117>0,$C117,0),IF(AE$2=\"Spares %\",IF(IF(Z117>0,$C117,0)*5>80%,50%,IF(Z117>0,$C117,0)*5),0))))","v":0},{"$f":"IF(AE117=0,0,IF(AF$2=\"Year\",IF(_xlfn.MAXIFS($N117:AE117,$N$2:AE$2,\"Year\")+$E117<=$E$1,AC117+$E117,0),IF(AF$2=\"Repair %\",IF(AC117>0,$C$3,0),IF(AF$2=\"Spares %\",IF(IF(AC117>0,$C117,0)*100>50%,50%,IF(AC117>0,$C117,0)*100),0))))","v":0},{"$f":"IF(AF117=0,0,IF(AG$2=\"Year\",IF(_xlfn.MAXIFS($N117:AF117,$N$2:AF$2,\"Year\")+$E117<=$E$1,AD117+$E117,0),IF(AG$2=\"Repair %\",IF(AD117>0,$C117,0),IF(AG$2=\"Spares %\",IF(IF(AD117>0,$C117,0)*100>50%,50%,IF(AD117>0,$C117,0)*100),0))))","v":0},{"$f":"IF(AG117=0,0,IF(AH$2=\"Year\",IF(_xlfn.MAXIFS($N117:AG117,$N$2:AG$2,\"Year\")+$E117<=$E$1,AE117+$E117,0),IF(AH$2=\"Repair %\",IF(AE117>0,$C117,0),IF(AH$2=\"Spares %\",IF(IF(AC117>0,$C117,0)*5>80%,50%,IF(AC117>0,$C117,0)*5),0))))","v":0},{"$f":"IF(AH117=0,0,IF(AI$2=\"Year\",IF(_xlfn.MAXIFS($N117:AH117,$N$2:AH$2,\"Year\")+$E117<=$E$1,AF117+$E117,0),IF(AI$2=\"Repair %\",IF(AF117>0,$C$3,0),IF(AI$2=\"Spares %\",IF(IF(AF117>0,$C117,0)*100>50%,50%,IF(AF117>0,$C117,0)*100),0))))","v":0},{"$f":"IF(AI117=0,0,IF(AJ$2=\"Year\",IF(_xlfn.MAXIFS($N117:AI117,$N$2:AI$2,\"Year\")+$E117<=$E$1,AG117+$E117,0),IF(AJ$2=\"Repair %\",IF(AG117>0,$C117,0),IF(AJ$2=\"Spares %\",IF(IF(AG117>0,$C117,0)*100>50%,50%,IF(AG117>0,$C117,0)*100),0))))","v":0},{"$f":"IF(AJ117=0,0,IF(AK$2=\"Year\",IF(_xlfn.MAXIFS($N117:AJ117,$N$2:AJ$2,\"Year\")+$E117<=$E$1,AH117+$E117,0),IF(AK$2=\"Repair %\",IF(AH117>0,$C117,0),IF(AK$2=\"Spares %\",IF(IF(AF117>0,$C117,0)*5>80%,50%,IF(AF117>0,$C117,0)*5),0))))","v":0},{"$f":"IF(AK117=0,0,IF(AL$2=\"Year\",IF(_xlfn.MAXIFS($N117:AK117,$N$2:AK$2,\"Year\")+$E117<=$E$1,AI117+$E117,0),IF(AL$2=\"Repair %\",IF(AI117>0,$C$3,0),IF(AL$2=\"Spares %\",IF(IF(AI117>0,$C117,0)*100>50%,50%,IF(AI117>0,$C117,0)*100),0))))","v":0},{"$f":"IF(AL117=0,0,IF(AM$2=\"Year\",IF(_xlfn.MAXIFS($N117:AL117,$N$2:AL$2,\"Year\")+$E117<=$E$1,AJ117+$E117,0),IF(AM$2=\"Repair %\",IF(AJ117>0,$C117,0),IF(AM$2=\"Spares %\",IF(IF(AJ117>0,$C117,0)*100>50%,50%,IF(AJ117>0,$C117,0)*100),0))))","v":0},{"$f":"IF(AM117=0,0,IF(AN$2=\"Year\",IF(_xlfn.MAXIFS($N117:AM117,$N$2:AM$2,\"Year\")+$E117<=$E$1,AK117+$E117,0),IF(AN$2=\"Repair %\",IF(AK117>0,$C117,0),IF(AN$2=\"Spares %\",IF(IF(AI117>0,$C117,0)*5>80%,50%,IF(AI117>0,$C117,0)*5),0))))","v":0},{"$f":"IF(AN117=0,0,IF(AO$2=\"Year\",IF(_xlfn.MAXIFS($N117:AN117,$N$2:AN$2,\"Year\")+$E117<=$E$1,AL117+$E117,0),IF(AO$2=\"Repair %\",IF(AL117>0,$C$3,0),IF(AO$2=\"Spares %\",IF(IF(AL117>0,$C117,0)*100>50%,50%,IF(AL117>0,$C117,0)*100),0))))","v":0},{"$f":"IF(AO117=0,0,IF(AP$2=\"Year\",IF(_xlfn.MAXIFS($N117:AO117,$N$2:AO$2,\"Year\")+$E117<=$E$1,AM117+$E117,0),IF(AP$2=\"Repair %\",IF(AM117>0,$C117,0),IF(AP$2=\"Spares %\",IF(IF(AM117>0,$C117,0)*100>50%,50%,IF(AM117>0,$C117,0)*100),0))))","v":0},{"$f":"IF(AP117=0,0,IF(AQ$2=\"Year\",IF(_xlfn.MAXIFS($N117:AP117,$N$2:AP$2,\"Year\")+$E117<=$E$1,AN117+$E117,0),IF(AQ$2=\"Repair %\",IF(AN117>0,$C117,0),IF(AQ$2=\"Spares %\",IF(IF(AL117>0,$C117,0)*5>80%,50%,IF(AL117>0,$C117,0)*5),0))))","v":0}]
[{"$f":"INDEX('Avionics ID'!A:E,MATCH(B118,'Avionics ID'!E:E,0),1)","v":811},"Main displays",0.1,0.06,10,"Obsolecence",{"$f":"SUBSTITUTE(ADDRESS(1,MATCH(A118,'Pt1-AvionicsComponentCosts'!$A$6:$NC$6,0)+1),\"$1\",\"\")","v":"$FJ"},{"$f":"_xlfn.TEXTJOIN(\", \",TRUE,_xlfn.UNIQUE(_xlfn._xlws.SORT(_xlfn._xlws.FILTER('Pt1-AvionicsComponentCosts'!$NF$12:$NF$384,ISNUMBER(INDIRECT(\"'Pt1-AvionicsComponentCosts'!\"&G118&\"$12:\"&G118&\"$384\"))))))","v":"Challenger, Citation, E550, EMB Bizjet, Falcon, Global, Gulfstream, Hawker, Hondajet, Learjet, Mil Fighter, Nextant 400XT, PC-24, Phenom, Praetor, SF50"},null,0.06,0.1,0.35299999999999998,1.8460000000000001,{"$f":"COUNTIF($N$2:N$2,\"Year\")*$G$1","v":10},null,1,{"$f":"COUNTIF($N$2:Q$2,\"Year\")*$G$1","v":20},{"$f":"IF(Q118=0,0,IF(R$2=\"Year\",IF(_xlfn.MAXIFS($N118:Q118,$N$2:Q$2,\"Year\")+$E118<=$E$1,O118+$E118,0),IF(R$2=\"Repair %\",IF(O118>0,$C118,0),IF(R$2=\"Spares %\",IF(IF(O118>0,$C118,0)*100>50%,50%,IF(O118>0,$C118,0)*100),0))))","v":0},1,{"$f":"COUNTIF($N$2:T$2,\"Year\")*$G$1","v":30},{"$f":"IF(T118=0,0,IF(U$2=\"Year\",IF(_xlfn.MAXIFS($N118:T118,$N$2:T$2,\"Year\")+$E118<=$E$1,R118+$E118,0),IF(U$2=\"Repair %\",IF(R118>0,$C118,0),IF(U$2=\"Spares %\",IF(IF(R118>0,$C118,0)*100>50%,50%,IF(R118>0,$C118,0)*100),0))))","v":0},1,{"$f":"COUNTIF($N$2:W$2,\"Year\")*$G$1","v":40},{"$f":"IF(W118=0,0,IF(X$2=\"Year\",IF(_xlfn.MAXIFS($N118:W118,$N$2:W$2,\"Year\")+$E118<=$E$1,U118+$E118,0),IF(X$2=\"Repair %\",IF(U118>0,$C118,0),IF(X$2=\"Spares %\",IF(IF(U118>0,$C118,0)*100>50%,50%,IF(U118>0,$C118,0)*100),0))))","v":0},1,{"$f":"IF(Y118=0,0,IF(Z$2=\"Year\",IF(_xlfn.MAXIFS($N118:Y118,$N$2:Y$2,\"Year\")+$E118<=$E$1,W118+$E118,0),IF(Z$2=\"Repair %\",IF(W118>0,$C$3,0),IF(Z$2=\"Spares %\",IF(IF(W118>0,$C118,0)*100>50%,50%,IF(W118>0,$C118,0)*100),0))))","v":0},{"$f":"IF(Z118=0,0,IF(AA$2=\"Year\",IF(_xlfn.MAXIFS($N118:Z118,$N$2:Z$2,\"Year\")+$E118<=$E$1,X118+$E118,0),IF(AA$2=\"Repair %\",IF(X118>0,$C118,0),IF(AA$2=\"Spares %\",IF(IF(X118>0,$C118,0)*100>50%,50%,IF(X118>0,$C118,0)*100),0))))","v":0},{"$f":"IF(AA118=0,0,IF(AB$2=\"Year\",IF(_xlfn.MAXIFS($N118:AA118,$N$2:AA$2,\"Year\")+$E118<=$E$1,Y118+$E118,0),IF(AB$2=\"Repair %\",IF(Y118>0,$C118,0),IF(AB$2=\"Spares %\",IF(IF(W118>0,$C118,0)*5>80%,50%,IF(W118>0,$C118,0)*5),0))))","v":0},{"$f":"IF(AB118=0,0,IF(AC$2=\"Year\",IF(_xlfn.MAXIFS($N118:AB118,$N$2:AB$2,\"Year\")+$E118<=$E$1,Z118+$E118,0),IF(AC$2=\"Repair %\",IF(Z118>0,$C$3,0),IF(AC$2=\"Spares %\",IF(IF(Z118>0,$C118,0)*100>50%,50%,IF(Z118>0,$C118,0)*100),0))))","v":0},{"$f":"IF(AC118=0,0,IF(AD$2=\"Year\",IF(_xlfn.MAXIFS($N118:AC118,$N$2:AC$2,\"Year\")+$E118<=$E$1,AA118+$E118,0),IF(AD$2=\"Repair %\",IF(AA118>0,$C118,0),IF(AD$2=\"Spares %\",IF(IF(AA118>0,$C118,0)*100>50%,50%,IF(AA118>0,$C118,0)*100),0))))","v":0},{"$f":"IF(AD118=0,0,IF(AE$2=\"Year\",IF(_xlfn.MAXIFS($N118:AD118,$N$2:AD$2,\"Year\")+$E118<=$E$1,AB118+$E118,0),IF(AE$2=\"Repair %\",IF(AB118>0,$C118,0),IF(AE$2=\"Spares %\",IF(IF(Z118>0,$C118,0)*5>80%,50%,IF(Z118>0,$C118,0)*5),0))))","v":0},{"$f":"IF(AE118=0,0,IF(AF$2=\"Year\",IF(_xlfn.MAXIFS($N118:AE118,$N$2:AE$2,\"Year\")+$E118<=$E$1,AC118+$E118,0),IF(AF$2=\"Repair %\",IF(AC118>0,$C$3,0),IF(AF$2=\"Spares %\",IF(IF(AC118>0,$C118,0)*100>50%,50%,IF(AC118>0,$C118,0)*100),0))))","v":0},{"$f":"IF(AF118=0,0,IF(AG$2=\"Year\",IF(_xlfn.MAXIFS($N118:AF118,$N$2:AF$2,\"Year\")+$E118<=$E$1,AD118+$E118,0),IF(AG$2=\"Repair %\",IF(AD118>0,$C118,0),IF(AG$2=\"Spares %\",IF(IF(AD118>0,$C118,0)*100>50%,50%,IF(AD118>0,$C118,0)*100),0))))","v":0},{"$f":"IF(AG118=0,0,IF(AH$2=\"Year\",IF(_xlfn.MAXIFS($N118:AG118,$N$2:AG$2,\"Year\")+$E118<=$E$1,AE118+$E118,0),IF(AH$2=\"Repair %\",IF(AE118>0,$C118,0),IF(AH$2=\"Spares %\",IF(IF(AC118>0,$C118,0)*5>80%,50%,IF(AC118>0,$C118,0)*5),0))))","v":0},{"$f":"IF(AH118=0,0,IF(AI$2=\"Year\",IF(_xlfn.MAXIFS($N118:AH118,$N$2:AH$2,\"Year\")+$E118<=$E$1,AF118+$E118,0),IF(AI$2=\"Repair %\",IF(AF118>0,$C$3,0),IF(AI$2=\"Spares %\",IF(IF(AF118>0,$C118,0)*100>50%,50%,IF(AF118>0,$C118,0)*100),0))))","v":0},{"$f":"IF(AI118=0,0,IF(AJ$2=\"Year\",IF(_xlfn.MAXIFS($N118:AI118,$N$2:AI$2,\"Year\")+$E118<=$E$1,AG118+$E118,0),IF(AJ$2=\"Repair %\",IF(AG118>0,$C118,0),IF(AJ$2=\"Spares %\",IF(IF(AG118>0,$C118,0)*100>50%,50%,IF(AG118>0,$C118,0)*100),0))))","v":0},{"$f":"IF(AJ118=0,0,IF(AK$2=\"Year\",IF(_xlfn.MAXIFS($N118:AJ118,$N$2:AJ$2,\"Year\")+$E118<=$E$1,AH118+$E118,0),IF(AK$2=\"Repair %\",IF(AH118>0,$C118,0),IF(AK$2=\"Spares %\",IF(IF(AF118>0,$C118,0)*5>80%,50%,IF(AF118>0,$C118,0)*5),0))))","v":0},{"$f":"IF(AK118=0,0,IF(AL$2=\"Year\",IF(_xlfn.MAXIFS($N118:AK118,$N$2:AK$2,\"Year\")+$E118<=$E$1,AI118+$E118,0),IF(AL$2=\"Repair %\",IF(AI118>0,$C$3,0),IF(AL$2=\"Spares %\",IF(IF(AI118>0,$C118,0)*100>50%,50%,IF(AI118>0,$C118,0)*100),0))))","v":0},{"$f":"IF(AL118=0,0,IF(AM$2=\"Year\",IF(_xlfn.MAXIFS($N118:AL118,$N$2:AL$2,\"Year\")+$E118<=$E$1,AJ118+$E118,0),IF(AM$2=\"Repair %\",IF(AJ118>0,$C118,0),IF(AM$2=\"Spares %\",IF(IF(AJ118>0,$C118,0)*100>50%,50%,IF(AJ118>0,$C118,0)*100),0))))","v":0},{"$f":"IF(AM118=0,0,IF(AN$2=\"Year\",IF(_xlfn.MAXIFS($N118:AM118,$N$2:AM$2,\"Year\")+$E118<=$E$1,AK118+$E118,0),IF(AN$2=\"Repair %\",IF(AK118>0,$C118,0),IF(AN$2=\"Spares %\",IF(IF(AI118>0,$C118,0)*5>80%,50%,IF(AI118>0,$C118,0)*5),0))))","v":0},{"$f":"IF(AN118=0,0,IF(AO$2=\"Year\",IF(_xlfn.MAXIFS($N118:AN118,$N$2:AN$2,\"Year\")+$E118<=$E$1,AL118+$E118,0),IF(AO$2=\"Repair %\",IF(AL118>0,$C$3,0),IF(AO$2=\"Spares %\",IF(IF(AL118>0,$C118,0)*100>50%,50%,IF(AL118>0,$C118,0)*100),0))))","v":0},{"$f":"IF(AO118=0,0,IF(AP$2=\"Year\",IF(_xlfn.MAXIFS($N118:AO118,$N$2:AO$2,\"Year\")+$E118<=$E$1,AM118+$E118,0),IF(AP$2=\"Repair %\",IF(AM118>0,$C118,0),IF(AP$2=\"Spares %\",IF(IF(AM118>0,$C118,0)*100>50%,50%,IF(AM118>0,$C118,0)*100),0))))","v":0},{"$f":"IF(AP118=0,0,IF(AQ$2=\"Year\",IF(_xlfn.MAXIFS($N118:AP118,$N$2:AP$2,\"Year\")+$E118<=$E$1,AN118+$E118,0),IF(AQ$2=\"Repair %\",IF(AN118>0,$C118,0),IF(AQ$2=\"Spares %\",IF(IF(AL118>0,$C118,0)*5>80%,50%,IF(AL118>0,$C118,0)*5),0))))","v":0}]
[{"$f":"INDEX('Avionics ID'!A:E,MATCH(B119,'Avionics ID'!E:E,0),1)","v":710},"MCDU",0.1,0.06,10,"Obsolecence",{"$f":"SUBSTITUTE(ADDRESS(1,MATCH(A119,'Pt1-AvionicsComponentCosts'!$A$6:$NC$6,0)+1),\"$1\",\"\")","v":"$GT"},{"$f":"_xlfn.TEXTJOIN(\", \",TRUE,_xlfn.UNIQUE(_xlfn._xlws.SORT(_xlfn._xlws.FILTER('Pt1-AvionicsComponentCosts'!$NF$12:$NF$384,ISNUMBER(INDIRECT(\"'Pt1-AvionicsComponentCosts'!\"&G119&\"$12:\"&G119&\"$384\"))))))","v":"A220, A300, A320, A321, A330, A330 LMXT, A330 MRTT, A340, A350, A380, ARJ, ATR, B717, B737, B747, B757, B767, B777, B787, C919, Challenger, Citation, CRJ, E550, EMB Bizjet, EMB Regional, Falcon, Global, Gulfstream, Hawker, Hondajet, Learjet, MC-21, MD-11, Mil Transport, Military Jet, Military TP, Nextant 400XT, NSA, PC-24, Phenom, Praetor, Reg TP, SF50, Superjet 100, Turbine GA"},null,0.06,0.1,0.371,1.2310000000000001,{"$f":"COUNTIF($N$2:N$2,\"Year\")*$G$1","v":10},null,1,{"$f":"COUNTIF($N$2:Q$2,\"Year\")*$G$1","v":20},{"$f":"IF(Q119=0,0,IF(R$2=\"Year\",IF(_xlfn.MAXIFS($N119:Q119,$N$2:Q$2,\"Year\")+$E119<=$E$1,O119+$E119,0),IF(R$2=\"Repair %\",IF(O119>0,$C119,0),IF(R$2=\"Spares %\",IF(IF(O119>0,$C119,0)*100>50%,50%,IF(O119>0,$C119,0)*100),0))))","v":0},1,{"$f":"COUNTIF($N$2:T$2,\"Year\")*$G$1","v":30},{"$f":"IF(T119=0,0,IF(U$2=\"Year\",IF(_xlfn.MAXIFS($N119:T119,$N$2:T$2,\"Year\")+$E119<=$E$1,R119+$E119,0),IF(U$2=\"Repair %\",IF(R119>0,$C119,0),IF(U$2=\"Spares %\",IF(IF(R119>0,$C119,0)*100>50%,50%,IF(R119>0,$C119,0)*100),0))))","v":0},1,{"$f":"COUNTIF($N$2:W$2,\"Year\")*$G$1","v":40},{"$f":"IF(W119=0,0,IF(X$2=\"Year\",IF(_xlfn.MAXIFS($N119:W119,$N$2:W$2,\"Year\")+$E119<=$E$1,U119+$E119,0),IF(X$2=\"Repair %\",IF(U119>0,$C119,0),IF(X$2=\"Spares %\",IF(IF(U119>0,$C119,0)*100>50%,50%,IF(U119>0,$C119,0)*100),0))))","v":0},1,{"$f":"IF(Y119=0,0,IF(Z$2=\"Year\",IF(_xlfn.MAXIFS($N119:Y119,$N$2:Y$2,\"Year\")+$E119<=$E$1,W119+$E119,0),IF(Z$2=\"Repair %\",IF(W119>0,$C$3,0),IF(Z$2=\"Spares %\",IF(IF(W119>0,$C119,0)*100>50%,50%,IF(W119>0,$C119,0)*100),0))))","v":0},{"$f":"IF(Z119=0,0,IF(AA$2=\"Year\",IF(_xlfn.MAXIFS($N119:Z119,$N$2:Z$2,\"Year\")+$E119<=$E$1,X119+$E119,0),IF(AA$2=\"Repair %\",IF(X119>0,$C119,0),IF(AA$2=\"Spares %\",IF(IF(X119>0,$C119,0)*100>50%,50%,IF(X119>0,$C119,0)*100),0))))","v":0},{"$f":"IF(AA119=0,0,IF(AB$2=\"Year\",IF(_xlfn.MAXIFS($N119:AA119,$N$2:AA$2,\"Year\")+$E119<=$E$1,Y119+$E119,0),IF(AB$2=\"Repair %\",IF(Y119>0,$C119,0),IF(AB$2=\"Spares %\",IF(IF(W119>0,$C119,0)*5>80%,50%,IF(W119>0,$C119,0)*5),0))))","v":0},{"$f":"IF(AB119=0,0,IF(AC$2=\"Year\",IF(_xlfn.MAXIFS($N119:AB119,$N$2:AB$2,\"Year\")+$E119<=$E$1,Z119+$E119,0),IF(AC$2=\"Repair %\",IF(Z119>0,$C$3,0),IF(AC$2=\"Spares %\",IF(IF(Z119>0,$C119,0)*100>50%,50%,IF(Z119>0,$C119,0)*100),0))))","v":0},{"$f":"IF(AC119=0,0,IF(AD$2=\"Year\",IF(_xlfn.MAXIFS($N119:AC119,$N$2:AC$2,\"Year\")+$E119<=$E$1,AA119+$E119,0),IF(AD$2=\"Repair %\",IF(AA119>0,$C119,0),IF(AD$2=\"Spares %\",IF(IF(AA119>0,$C119,0)*100>50%,50%,IF(AA119>0,$C119,0)*100),0))))","v":0},{"$f":"IF(AD119=0,0,IF(AE$2=\"Year\",IF(_xlfn.MAXIFS($N119:AD119,$N$2:AD$2,\"Year\")+$E119<=$E$1,AB119+$E119,0),IF(AE$2=\"Repair %\",IF(AB119>0,$C119,0),IF(AE$2=\"Spares %\",IF(IF(Z119>0,$C119,0)*5>80%,50%,IF(Z119>0,$C119,0)*5),0))))","v":0},{"$f":"IF(AE119=0,0,IF(AF$2=\"Year\",IF(_xlfn.MAXIFS($N119:AE119,$N$2:AE$2,\"Year\")+$E119<=$E$1,AC119+$E119,0),IF(AF$2=\"Repair %\",IF(AC119>0,$C$3,0),IF(AF$2=\"Spares %\",IF(IF(AC119>0,$C119,0)*100>50%,50%,IF(AC119>0,$C119,0)*100),0))))","v":0},{"$f":"IF(AF119=0,0,IF(AG$2=\"Year\",IF(_xlfn.MAXIFS($N119:AF119,$N$2:AF$2,\"Year\")+$E119<=$E$1,AD119+$E119,0),IF(AG$2=\"Repair %\",IF(AD119>0,$C119,0),IF(AG$2=\"Spares %\",IF(IF(AD119>0,$C119,0)*100>50%,50%,IF(AD119>0,$C119,0)*100),0))))","v":0},{"$f":"IF(AG119=0,0,IF(AH$2=\"Year\",IF(_xlfn.MAXIFS($N119:AG119,$N$2:AG$2,\"Year\")+$E119<=$E$1,AE119+$E119,0),IF(AH$2=\"Repair %\",IF(AE119>0,$C119,0),IF(AH$2=\"Spares %\",IF(IF(AC119>0,$C119,0)*5>80%,50%,IF(AC119>0,$C119,0)*5),0))))","v":0},{"$f":"IF(AH119=0,0,IF(AI$2=\"Year\",IF(_xlfn.MAXIFS($N119:AH119,$N$2:AH$2,\"Year\")+$E119<=$E$1,AF119+$E119,0),IF(AI$2=\"Repair %\",IF(AF119>0,$C$3,0),IF(AI$2=\"Spares %\",IF(IF(AF119>0,$C119,0)*100>50%,50%,IF(AF119>0,$C119,0)*100),0))))","v":0},{"$f":"IF(AI119=0,0,IF(AJ$2=\"Year\",IF(_xlfn.MAXIFS($N119:AI119,$N$2:AI$2,\"Year\")+$E119<=$E$1,AG119+$E119,0),IF(AJ$2=\"Repair %\",IF(AG119>0,$C119,0),IF(AJ$2=\"Spares %\",IF(IF(AG119>0,$C119,0)*100>50%,50%,IF(AG119>0,$C119,0)*100),0))))","v":0},{"$f":"IF(AJ119=0,0,IF(AK$2=\"Year\",IF(_xlfn.MAXIFS($N119:AJ119,$N$2:AJ$2,\"Year\")+$E119<=$E$1,AH119+$E119,0),IF(AK$2=\"Repair %\",IF(AH119>0,$C119,0),IF(AK$2=\"Spares %\",IF(IF(AF119>0,$C119,0)*5>80%,50%,IF(AF119>0,$C119,0)*5),0))))","v":0},{"$f":"IF(AK119=0,0,IF(AL$2=\"Year\",IF(_xlfn.MAXIFS($N119:AK119,$N$2:AK$2,\"Year\")+$E119<=$E$1,AI119+$E119,0),IF(AL$2=\"Repair %\",IF(AI119>0,$C$3,0),IF(AL$2=\"Spares %\",IF(IF(AI119>0,$C119,0)*100>50%,50%,IF(AI119>0,$C119,0)*100),0))))","v":0},{"$f":"IF(AL119=0,0,IF(AM$2=\"Year\",IF(_xlfn.MAXIFS($N119:AL119,$N$2:AL$2,\"Year\")+$E119<=$E$1,AJ119+$E119,0),IF(AM$2=\"Repair %\",IF(AJ119>0,$C119,0),IF(AM$2=\"Spares %\",IF(IF(AJ119>0,$C119,0)*100>50%,50%,IF(AJ119>0,$C119,0)*100),0))))","v":0},{"$f":"IF(AM119=0,0,IF(AN$2=\"Year\",IF(_xlfn.MAXIFS($N119:AM119,$N$2:AM$2,\"Year\")+$E119<=$E$1,AK119+$E119,0),IF(AN$2=\"Repair %\",IF(AK119>0,$C119,0),IF(AN$2=\"Spares %\",IF(IF(AI119>0,$C119,0)*5>80%,50%,IF(AI119>0,$C119,0)*5),0))))","v":0},{"$f":"IF(AN119=0,0,IF(AO$2=\"Year\",IF(_xlfn.MAXIFS($N119:AN119,$N$2:AN$2,\"Year\")+$E119<=$E$1,AL119+$E119,0),IF(AO$2=\"Repair %\",IF(AL119>0,$C$3,0),IF(AO$2=\"Spares %\",IF(IF(AL119>0,$C119,0)*100>50%,50%,IF(AL119>0,$C119,0)*100),0))))","v":0},{"$f":"IF(AO119=0,0,IF(AP$2=\"Year\",IF(_xlfn.MAXIFS($N119:AO119,$N$2:AO$2,\"Year\")+$E119<=$E$1,AM119+$E119,0),IF(AP$2=\"Repair %\",IF(AM119>0,$C119,0),IF(AP$2=\"Spares %\",IF(IF(AM119>0,$C119,0)*100>50%,50%,IF(AM119>0,$C119,0)*100),0))))","v":0},{"$f":"IF(AP119=0,0,IF(AQ$2=\"Year\",IF(_xlfn.MAXIFS($N119:AP119,$N$2:AP$2,\"Year\")+$E119<=$E$1,AN119+$E119,0),IF(AQ$2=\"Repair %\",IF(AN119>0,$C119,0),IF(AQ$2=\"Spares %\",IF(IF(AL119>0,$C119,0)*5>80%,50%,IF(AL119>0,$C119,0)*5),0))))","v":0}]
[{"$f":"INDEX('Avionics ID'!A:E,MATCH(B120,'Avionics ID'!E:E,0),1)","v":837},"Military Mission Management System",0.1,0.06,10,"Obsolecence",{"$f":"SUBSTITUTE(ADDRESS(1,MATCH(A120,'Pt1-AvionicsComponentCosts'!$A$6:$NC$6,0)+1),\"$1\",\"\")","v":"$IH"},{"$f":"_xlfn.TEXTJOIN(\", \",TRUE,_xlfn.UNIQUE(_xlfn._xlws.SORT(_xlfn._xlws.FILTER('Pt1-AvionicsComponentCosts'!$NF$12:$NF$384,ISNUMBER(INDIRECT(\"'Pt1-AvionicsComponentCosts'!\"&G120&\"$12:\"&G120&\"$384\"))))))","v":"A330 LMXT, A330 MRTT, Mil Transport, Military Jet, Military TP"},null,0.06,0.1,0.36,1.87,{"$f":"COUNTIF($N$2:N$2,\"Year\")*$G$1","v":10},null,1,{"$f":"COUNTIF($N$2:Q$2,\"Year\")*$G$1","v":20},{"$f":"IF(Q120=0,0,IF(R$2=\"Year\",IF(_xlfn.MAXIFS($N120:Q120,$N$2:Q$2,\"Year\")+$E120<=$E$1,O120+$E120,0),IF(R$2=\"Repair %\",IF(O120>0,$C120,0),IF(R$2=\"Spares %\",IF(IF(O120>0,$C120,0)*100>50%,50%,IF(O120>0,$C120,0)*100),0))))","v":0},1,{"$f":"COUNTIF($N$2:T$2,\"Year\")*$G$1","v":30},{"$f":"IF(T120=0,0,IF(U$2=\"Year\",IF(_xlfn.MAXIFS($N120:T120,$N$2:T$2,\"Year\")+$E120<=$E$1,R120+$E120,0),IF(U$2=\"Repair %\",IF(R120>0,$C120,0),IF(U$2=\"Spares %\",IF(IF(R120>0,$C120,0)*100>50%,50%,IF(R120>0,$C120,0)*100),0))))","v":0},1,{"$f":"COUNTIF($N$2:W$2,\"Year\")*$G$1","v":40},{"$f":"IF(W120=0,0,IF(X$2=\"Year\",IF(_xlfn.MAXIFS($N120:W120,$N$2:W$2,\"Year\")+$E120<=$E$1,U120+$E120,0),IF(X$2=\"Repair %\",IF(U120>0,$C120,0),IF(X$2=\"Spares %\",IF(IF(U120>0,$C120,0)*100>50%,50%,IF(U120>0,$C120,0)*100),0))))","v":0},1,{"$f":"IF(Y120=0,0,IF(Z$2=\"Year\",IF(_xlfn.MAXIFS($N120:Y120,$N$2:Y$2,\"Year\")+$E120<=$E$1,W120+$E120,0),IF(Z$2=\"Repair %\",IF(W120>0,$C$3,0),IF(Z$2=\"Spares %\",IF(IF(W120>0,$C120,0)*100>50%,50%,IF(W120>0,$C120,0)*100),0))))","v":0},{"$f":"IF(Z120=0,0,IF(AA$2=\"Year\",IF(_xlfn.MAXIFS($N120:Z120,$N$2:Z$2,\"Year\")+$E120<=$E$1,X120+$E120,0),IF(AA$2=\"Repair %\",IF(X120>0,$C120,0),IF(AA$2=\"Spares %\",IF(IF(X120>0,$C120,0)*100>50%,50%,IF(X120>0,$C120,0)*100),0))))","v":0},{"$f":"IF(AA120=0,0,IF(AB$2=\"Year\",IF(_xlfn.MAXIFS($N120:AA120,$N$2:AA$2,\"Year\")+$E120<=$E$1,Y120+$E120,0),IF(AB$2=\"Repair %\",IF(Y120>0,$C120,0),IF(AB$2=\"Spares %\",IF(IF(W120>0,$C120,0)*5>80%,50%,IF(W120>0,$C120,0)*5),0))))","v":0},{"$f":"IF(AB120=0,0,IF(AC$2=\"Year\",IF(_xlfn.MAXIFS($N120:AB120,$N$2:AB$2,\"Year\")+$E120<=$E$1,Z120+$E120,0),IF(AC$2=\"Repair %\",IF(Z120>0,$C$3,0),IF(AC$2=\"Spares %\",IF(IF(Z120>0,$C120,0)*100>50%,50%,IF(Z120>0,$C120,0)*100),0))))","v":0},{"$f":"IF(AC120=0,0,IF(AD$2=\"Year\",IF(_xlfn.MAXIFS($N120:AC120,$N$2:AC$2,\"Year\")+$E120<=$E$1,AA120+$E120,0),IF(AD$2=\"Repair %\",IF(AA120>0,$C120,0),IF(AD$2=\"Spares %\",IF(IF(AA120>0,$C120,0)*100>50%,50%,IF(AA120>0,$C120,0)*100),0))))","v":0},{"$f":"IF(AD120=0,0,IF(AE$2=\"Year\",IF(_xlfn.MAXIFS($N120:AD120,$N$2:AD$2,\"Year\")+$E120<=$E$1,AB120+$E120,0),IF(AE$2=\"Repair %\",IF(AB120>0,$C120,0),IF(AE$2=\"Spares %\",IF(IF(Z120>0,$C120,0)*5>80%,50%,IF(Z120>0,$C120,0)*5),0))))","v":0},{"$f":"IF(AE120=0,0,IF(AF$2=\"Year\",IF(_xlfn.MAXIFS($N120:AE120,$N$2:AE$2,\"Year\")+$E120<=$E$1,AC120+$E120,0),IF(AF$2=\"Repair %\",IF(AC120>0,$C$3,0),IF(AF$2=\"Spares %\",IF(IF(AC120>0,$C120,0)*100>50%,50%,IF(AC120>0,$C120,0)*100),0))))","v":0},{"$f":"IF(AF120=0,0,IF(AG$2=\"Year\",IF(_xlfn.MAXIFS($N120:AF120,$N$2:AF$2,\"Year\")+$E120<=$E$1,AD120+$E120,0),IF(AG$2=\"Repair %\",IF(AD120>0,$C120,0),IF(AG$2=\"Spares %\",IF(IF(AD120>0,$C120,0)*100>50%,50%,IF(AD120>0,$C120,0)*100),0))))","v":0},{"$f":"IF(AG120=0,0,IF(AH$2=\"Year\",IF(_xlfn.MAXIFS($N120:AG120,$N$2:AG$2,\"Year\")+$E120<=$E$1,AE120+$E120,0),IF(AH$2=\"Repair %\",IF(AE120>0,$C120,0),IF(AH$2=\"Spares %\",IF(IF(AC120>0,$C120,0)*5>80%,50%,IF(AC120>0,$C120,0)*5),0))))","v":0},{"$f":"IF(AH120=0,0,IF(AI$2=\"Year\",IF(_xlfn.MAXIFS($N120:AH120,$N$2:AH$2,\"Year\")+$E120<=$E$1,AF120+$E120,0),IF(AI$2=\"Repair %\",IF(AF120>0,$C$3,0),IF(AI$2=\"Spares %\",IF(IF(AF120>0,$C120,0)*100>50%,50%,IF(AF120>0,$C120,0)*100),0))))","v":0},{"$f":"IF(AI120=0,0,IF(AJ$2=\"Year\",IF(_xlfn.MAXIFS($N120:AI120,$N$2:AI$2,\"Year\")+$E120<=$E$1,AG120+$E120,0),IF(AJ$2=\"Repair %\",IF(AG120>0,$C120,0),IF(AJ$2=\"Spares %\",IF(IF(AG120>0,$C120,0)*100>50%,50%,IF(AG120>0,$C120,0)*100),0))))","v":0},{"$f":"IF(AJ120=0,0,IF(AK$2=\"Year\",IF(_xlfn.MAXIFS($N120:AJ120,$N$2:AJ$2,\"Year\")+$E120<=$E$1,AH120+$E120,0),IF(AK$2=\"Repair %\",IF(AH120>0,$C120,0),IF(AK$2=\"Spares %\",IF(IF(AF120>0,$C120,0)*5>80%,50%,IF(AF120>0,$C120,0)*5),0))))","v":0},{"$f":"IF(AK120=0,0,IF(AL$2=\"Year\",IF(_xlfn.MAXIFS($N120:AK120,$N$2:AK$2,\"Year\")+$E120<=$E$1,AI120+$E120,0),IF(AL$2=\"Repair %\",IF(AI120>0,$C$3,0),IF(AL$2=\"Spares %\",IF(IF(AI120>0,$C120,0)*100>50%,50%,IF(AI120>0,$C120,0)*100),0))))","v":0},{"$f":"IF(AL120=0,0,IF(AM$2=\"Year\",IF(_xlfn.MAXIFS($N120:AL120,$N$2:AL$2,\"Year\")+$E120<=$E$1,AJ120+$E120,0),IF(AM$2=\"Repair %\",IF(AJ120>0,$C120,0),IF(AM$2=\"Spares %\",IF(IF(AJ120>0,$C120,0)*100>50%,50%,IF(AJ120>0,$C120,0)*100),0))))","v":0},{"$f":"IF(AM120=0,0,IF(AN$2=\"Year\",IF(_xlfn.MAXIFS($N120:AM120,$N$2:AM$2,\"Year\")+$E120<=$E$1,AK120+$E120,0),IF(AN$2=\"Repair %\",IF(AK120>0,$C120,0),IF(AN$2=\"Spares %\",IF(IF(AI120>0,$C120,0)*5>80%,50%,IF(AI120>0,$C120,0)*5),0))))","v":0},{"$f":"IF(AN120=0,0,IF(AO$2=\"Year\",IF(_xlfn.MAXIFS($N120:AN120,$N$2:AN$2,\"Year\")+$E120<=$E$1,AL120+$E120,0),IF(AO$2=\"Repair %\",IF(AL120>0,$C$3,0),IF(AO$2=\"Spares %\",IF(IF(AL120>0,$C120,0)*100>50%,50%,IF(AL120>0,$C120,0)*100),0))))","v":0},{"$f":"IF(AO120=0,0,IF(AP$2=\"Year\",IF(_xlfn.MAXIFS($N120:AO120,$N$2:AO$2,\"Year\")+$E120<=$E$1,AM120+$E120,0),IF(AP$2=\"Repair %\",IF(AM120>0,$C120,0),IF(AP$2=\"Spares %\",IF(IF(AM120>0,$C120,0)*100>50%,50%,IF(AM120>0,$C120,0)*100),0))))","v":0},{"$f":"IF(AP120=0,0,IF(AQ$2=\"Year\",IF(_xlfn.MAXIFS($N120:AP120,$N$2:AP$2,\"Year\")+$E120<=$E$1,AN120+$E120,0),IF(AQ$2=\"Repair %\",IF(AN120>0,$C120,0),IF(AQ$2=\"Spares %\",IF(IF(AL120>0,$C120,0)*5>80%,50%,IF(AL120>0,$C120,0)*5),0))))","v":0}]
[{"$f":"INDEX('Avionics ID'!A:E,MATCH(B121,'Avionics ID'!E:E,0),1)","v":851},"Millimeter wave fire-control radar, frequency interferometer, fire-and-forget radar",0.05,0.06,20,"Obsolecence",{"$f":"SUBSTITUTE(ADDRESS(1,MATCH(A121,'Pt1-AvionicsComponentCosts'!$A$6:$NC$6,0)+1),\"$1\",\"\")","v":"$LF"},{"$f":"_xlfn.TEXTJOIN(\", \",TRUE,_xlfn.UNIQUE(_xlfn._xlws.SORT(_xlfn._xlws.FILTER('Pt1-AvionicsComponentCosts'!$NF$12:$NF$384,ISNUMBER(INDIRECT(\"'Pt1-AvionicsComponentCosts'!\"&G121&\"$12:\"&G121&\"$384\"))))))","v":"Attack Helo, Helo"},null,0.06,0.05,0.33500000000000002,1.6830000000000001,{"$f":"COUNTIF($N$2:N$2,\"Year\")*$G$1","v":10},null,0,{"$f":"COUNTIF($N$2:Q$2,\"Year\")*$G$1","v":20},{"$f":"IF(Q121=0,0,IF(R$2=\"Year\",IF(_xlfn.MAXIFS($N121:Q121,$N$2:Q$2,\"Year\")+$E121<=$E$1,O121+$E121,0),IF(R$2=\"Repair %\",IF(O121>0,$C121,0),IF(R$2=\"Spares %\",IF(IF(O121>0,$C121,0)*100>50%,50%,IF(O121>0,$C121,0)*100),0))))","v":0},1,{"$f":"COUNTIF($N$2:T$2,\"Year\")*$G$1","v":30},{"$f":"IF(T121=0,0,IF(U$2=\"Year\",IF(_xlfn.MAXIFS($N121:T121,$N$2:T$2,\"Year\")+$E121<=$E$1,R121+$E121,0),IF(U$2=\"Repair %\",IF(R121>0,$C121,0),IF(U$2=\"Spares %\",IF(IF(R121>0,$C121,0)*100>50%,50%,IF(R121>0,$C121,0)*100),0))))","v":0},0,{"$f":"COUNTIF($N$2:W$2,\"Year\")*$G$1","v":40},{"$f":"IF(W121=0,0,IF(X$2=\"Year\",IF(_xlfn.MAXIFS($N121:W121,$N$2:W$2,\"Year\")+$E121<=$E$1,U121+$E121,0),IF(X$2=\"Repair %\",IF(U121>0,$C121,0),IF(X$2=\"Spares %\",IF(IF(U121>0,$C121,0)*100>50%,50%,IF(U121>0,$C121,0)*100),0))))","v":0},1,{"$f":"IF(Y121=0,0,IF(Z$2=\"Year\",IF(_xlfn.MAXIFS($N121:Y121,$N$2:Y$2,\"Year\")+$E121<=$E$1,W121+$E121,0),IF(Z$2=\"Repair %\",IF(W121>0,$C$3,0),IF(Z$2=\"Spares %\",IF(IF(W121>0,$C121,0)*100>50%,50%,IF(W121>0,$C121,0)*100),0))))","v":0},{"$f":"IF(Z121=0,0,IF(AA$2=\"Year\",IF(_xlfn.MAXIFS($N121:Z121,$N$2:Z$2,\"Year\")+$E121<=$E$1,X121+$E121,0),IF(AA$2=\"Repair %\",IF(X121>0,$C121,0),IF(AA$2=\"Spares %\",IF(IF(X121>0,$C121,0)*100>50%,50%,IF(X121>0,$C121,0)*100),0))))","v":0},{"$f":"IF(AA121=0,0,IF(AB$2=\"Year\",IF(_xlfn.MAXIFS($N121:AA121,$N$2:AA$2,\"Year\")+$E121<=$E$1,Y121+$E121,0),IF(AB$2=\"Repair %\",IF(Y121>0,$C121,0),IF(AB$2=\"Spares %\",IF(IF(W121>0,$C121,0)*5>80%,50%,IF(W121>0,$C121,0)*5),0))))","v":0},{"$f":"IF(AB121=0,0,IF(AC$2=\"Year\",IF(_xlfn.MAXIFS($N121:AB121,$N$2:AB$2,\"Year\")+$E121<=$E$1,Z121+$E121,0),IF(AC$2=\"Repair %\",IF(Z121>0,$C$3,0),IF(AC$2=\"Spares %\",IF(IF(Z121>0,$C121,0)*100>50%,50%,IF(Z121>0,$C121,0)*100),0))))","v":0},{"$f":"IF(AC121=0,0,IF(AD$2=\"Year\",IF(_xlfn.MAXIFS($N121:AC121,$N$2:AC$2,\"Year\")+$E121<=$E$1,AA121+$E121,0),IF(AD$2=\"Repair %\",IF(AA121>0,$C121,0),IF(AD$2=\"Spares %\",IF(IF(AA121>0,$C121,0)*100>50%,50%,IF(AA121>0,$C121,0)*100),0))))","v":0},{"$f":"IF(AD121=0,0,IF(AE$2=\"Year\",IF(_xlfn.MAXIFS($N121:AD121,$N$2:AD$2,\"Year\")+$E121<=$E$1,AB121+$E121,0),IF(AE$2=\"Repair %\",IF(AB121>0,$C121,0),IF(AE$2=\"Spares %\",IF(IF(Z121>0,$C121,0)*5>80%,50%,IF(Z121>0,$C121,0)*5),0))))","v":0},{"$f":"IF(AE121=0,0,IF(AF$2=\"Year\",IF(_xlfn.MAXIFS($N121:AE121,$N$2:AE$2,\"Year\")+$E121<=$E$1,AC121+$E121,0),IF(AF$2=\"Repair %\",IF(AC121>0,$C$3,0),IF(AF$2=\"Spares %\",IF(IF(AC121>0,$C121,0)*100>50%,50%,IF(AC121>0,$C121,0)*100),0))))","v":0},{"$f":"IF(AF121=0,0,IF(AG$2=\"Year\",IF(_xlfn.MAXIFS($N121:AF121,$N$2:AF$2,\"Year\")+$E121<=$E$1,AD121+$E121,0),IF(AG$2=\"Repair %\",IF(AD121>0,$C121,0),IF(AG$2=\"Spares %\",IF(IF(AD121>0,$C121,0)*100>50%,50%,IF(AD121>0,$C121,0)*100),0))))","v":0},{"$f":"IF(AG121=0,0,IF(AH$2=\"Year\",IF(_xlfn.MAXIFS($N121:AG121,$N$2:AG$2,\"Year\")+$E121<=$E$1,AE121+$E121,0),IF(AH$2=\"Repair %\",IF(AE121>0,$C121,0),IF(AH$2=\"Spares %\",IF(IF(AC121>0,$C121,0)*5>80%,50%,IF(AC121>0,$C121,0)*5),0))))","v":0},{"$f":"IF(AH121=0,0,IF(AI$2=\"Year\",IF(_xlfn.MAXIFS($N121:AH121,$N$2:AH$2,\"Year\")+$E121<=$E$1,AF121+$E121,0),IF(AI$2=\"Repair %\",IF(AF121>0,$C$3,0),IF(AI$2=\"Spares %\",IF(IF(AF121>0,$C121,0)*100>50%,50%,IF(AF121>0,$C121,0)*100),0))))","v":0},{"$f":"IF(AI121=0,0,IF(AJ$2=\"Year\",IF(_xlfn.MAXIFS($N121:AI121,$N$2:AI$2,\"Year\")+$E121<=$E$1,AG121+$E121,0),IF(AJ$2=\"Repair %\",IF(AG121>0,$C121,0),IF(AJ$2=\"Spares %\",IF(IF(AG121>0,$C121,0)*100>50%,50%,IF(AG121>0,$C121,0)*100),0))))","v":0},{"$f":"IF(AJ121=0,0,IF(AK$2=\"Year\",IF(_xlfn.MAXIFS($N121:AJ121,$N$2:AJ$2,\"Year\")+$E121<=$E$1,AH121+$E121,0),IF(AK$2=\"Repair %\",IF(AH121>0,$C121,0),IF(AK$2=\"Spares %\",IF(IF(AF121>0,$C121,0)*5>80%,50%,IF(AF121>0,$C121,0)*5),0))))","v":0},{"$f":"IF(AK121=0,0,IF(AL$2=\"Year\",IF(_xlfn.MAXIFS($N121:AK121,$N$2:AK$2,\"Year\")+$E121<=$E$1,AI121+$E121,0),IF(AL$2=\"Repair %\",IF(AI121>0,$C$3,0),IF(AL$2=\"Spares %\",IF(IF(AI121>0,$C121,0)*100>50%,50%,IF(AI121>0,$C121,0)*100),0))))","v":0},{"$f":"IF(AL121=0,0,IF(AM$2=\"Year\",IF(_xlfn.MAXIFS($N121:AL121,$N$2:AL$2,\"Year\")+$E121<=$E$1,AJ121+$E121,0),IF(AM$2=\"Repair %\",IF(AJ121>0,$C121,0),IF(AM$2=\"Spares %\",IF(IF(AJ121>0,$C121,0)*100>50%,50%,IF(AJ121>0,$C121,0)*100),0))))","v":0},{"$f":"IF(AM121=0,0,IF(AN$2=\"Year\",IF(_xlfn.MAXIFS($N121:AM121,$N$2:AM$2,\"Year\")+$E121<=$E$1,AK121+$E121,0),IF(AN$2=\"Repair %\",IF(AK121>0,$C121,0),IF(AN$2=\"Spares %\",IF(IF(AI121>0,$C121,0)*5>80%,50%,IF(AI121>0,$C121,0)*5),0))))","v":0},{"$f":"IF(AN121=0,0,IF(AO$2=\"Year\",IF(_xlfn.MAXIFS($N121:AN121,$N$2:AN$2,\"Year\")+$E121<=$E$1,AL121+$E121,0),IF(AO$2=\"Repair %\",IF(AL121>0,$C$3,0),IF(AO$2=\"Spares %\",IF(IF(AL121>0,$C121,0)*100>50%,50%,IF(AL121>0,$C121,0)*100),0))))","v":0},{"$f":"IF(AO121=0,0,IF(AP$2=\"Year\",IF(_xlfn.MAXIFS($N121:AO121,$N$2:AO$2,\"Year\")+$E121<=$E$1,AM121+$E121,0),IF(AP$2=\"Repair %\",IF(AM121>0,$C121,0),IF(AP$2=\"Spares %\",IF(IF(AM121>0,$C121,0)*100>50%,50%,IF(AM121>0,$C121,0)*100),0))))","v":0},{"$f":"IF(AP121=0,0,IF(AQ$2=\"Year\",IF(_xlfn.MAXIFS($N121:AP121,$N$2:AP$2,\"Year\")+$E121<=$E$1,AN121+$E121,0),IF(AQ$2=\"Repair %\",IF(AN121>0,$C121,0),IF(AQ$2=\"Spares %\",IF(IF(AL121>0,$C121,0)*5>80%,50%,IF(AL121>0,$C121,0)*5),0))))","v":0}]
[{"$f":"INDEX('Avionics ID'!A:E,MATCH(B122,'Avionics ID'!E:E,0),1)","v":795},"Mission computers",0.05,0.06,20,"Obsolecence",{"$f":"SUBSTITUTE(ADDRESS(1,MATCH(A122,'Pt1-AvionicsComponentCosts'!$A$6:$NC$6,0)+1),\"$1\",\"\")","v":"$IJ"},{"$f":"_xlfn.TEXTJOIN(\", \",TRUE,_xlfn.UNIQUE(_xlfn._xlws.SORT(_xlfn._xlws.FILTER('Pt1-AvionicsComponentCosts'!$NF$12:$NF$384,ISNUMBER(INDIRECT(\"'Pt1-AvionicsComponentCosts'!\"&G122&\"$12:\"&G122&\"$384\"))))))","v":"Attack, Attack Helo, Helo, Mil Fighter, Stealth, TP Trainer, UAV"},null,0.06,0.05,0.36,1.87,{"$f":"COUNTIF($N$2:N$2,\"Year\")*$G$1","v":10},null,0,{"$f":"COUNTIF($N$2:Q$2,\"Year\")*$G$1","v":20},{"$f":"IF(Q122=0,0,IF(R$2=\"Year\",IF(_xlfn.MAXIFS($N122:Q122,$N$2:Q$2,\"Year\")+$E122<=$E$1,O122+$E122,0),IF(R$2=\"Repair %\",IF(O122>0,$C122,0),IF(R$2=\"Spares %\",IF(IF(O122>0,$C122,0)*100>50%,50%,IF(O122>0,$C122,0)*100),0))))","v":0},1,{"$f":"COUNTIF($N$2:T$2,\"Year\")*$G$1","v":30},{"$f":"IF(T122=0,0,IF(U$2=\"Year\",IF(_xlfn.MAXIFS($N122:T122,$N$2:T$2,\"Year\")+$E122<=$E$1,R122+$E122,0),IF(U$2=\"Repair %\",IF(R122>0,$C122,0),IF(U$2=\"Spares %\",IF(IF(R122>0,$C122,0)*100>50%,50%,IF(R122>0,$C122,0)*100),0))))","v":0},0,{"$f":"COUNTIF($N$2:W$2,\"Year\")*$G$1","v":40},{"$f":"IF(W122=0,0,IF(X$2=\"Year\",IF(_xlfn.MAXIFS($N122:W122,$N$2:W$2,\"Year\")+$E122<=$E$1,U122+$E122,0),IF(X$2=\"Repair %\",IF(U122>0,$C122,0),IF(X$2=\"Spares %\",IF(IF(U122>0,$C122,0)*100>50%,50%,IF(U122>0,$C122,0)*100),0))))","v":0},1,{"$f":"IF(Y122=0,0,IF(Z$2=\"Year\",IF(_xlfn.MAXIFS($N122:Y122,$N$2:Y$2,\"Year\")+$E122<=$E$1,W122+$E122,0),IF(Z$2=\"Repair %\",IF(W122>0,$C$3,0),IF(Z$2=\"Spares %\",IF(IF(W122>0,$C122,0)*100>50%,50%,IF(W122>0,$C122,0)*100),0))))","v":0},{"$f":"IF(Z122=0,0,IF(AA$2=\"Year\",IF(_xlfn.MAXIFS($N122:Z122,$N$2:Z$2,\"Year\")+$E122<=$E$1,X122+$E122,0),IF(AA$2=\"Repair %\",IF(X122>0,$C122,0),IF(AA$2=\"Spares %\",IF(IF(X122>0,$C122,0)*100>50%,50%,IF(X122>0,$C122,0)*100),0))))","v":0},{"$f":"IF(AA122=0,0,IF(AB$2=\"Year\",IF(_xlfn.MAXIFS($N122:AA122,$N$2:AA$2,\"Year\")+$E122<=$E$1,Y122+$E122,0),IF(AB$2=\"Repair %\",IF(Y122>0,$C122,0),IF(AB$2=\"Spares %\",IF(IF(W122>0,$C122,0)*5>80%,50%,IF(W122>0,$C122,0)*5),0))))","v":0},{"$f":"IF(AB122=0,0,IF(AC$2=\"Year\",IF(_xlfn.MAXIFS($N122:AB122,$N$2:AB$2,\"Year\")+$E122<=$E$1,Z122+$E122,0),IF(AC$2=\"Repair %\",IF(Z122>0,$C$3,0),IF(AC$2=\"Spares %\",IF(IF(Z122>0,$C122,0)*100>50%,50%,IF(Z122>0,$C122,0)*100),0))))","v":0},{"$f":"IF(AC122=0,0,IF(AD$2=\"Year\",IF(_xlfn.MAXIFS($N122:AC122,$N$2:AC$2,\"Year\")+$E122<=$E$1,AA122+$E122,0),IF(AD$2=\"Repair %\",IF(AA122>0,$C122,0),IF(AD$2=\"Spares %\",IF(IF(AA122>0,$C122,0)*100>50%,50%,IF(AA122>0,$C122,0)*100),0))))","v":0},{"$f":"IF(AD122=0,0,IF(AE$2=\"Year\",IF(_xlfn.MAXIFS($N122:AD122,$N$2:AD$2,\"Year\")+$E122<=$E$1,AB122+$E122,0),IF(AE$2=\"Repair %\",IF(AB122>0,$C122,0),IF(AE$2=\"Spares %\",IF(IF(Z122>0,$C122,0)*5>80%,50%,IF(Z122>0,$C122,0)*5),0))))","v":0},{"$f":"IF(AE122=0,0,IF(AF$2=\"Year\",IF(_xlfn.MAXIFS($N122:AE122,$N$2:AE$2,\"Year\")+$E122<=$E$1,AC122+$E122,0),IF(AF$2=\"Repair %\",IF(AC122>0,$C$3,0),IF(AF$2=\"Spares %\",IF(IF(AC122>0,$C122,0)*100>50%,50%,IF(AC122>0,$C122,0)*100),0))))","v":0},{"$f":"IF(AF122=0,0,IF(AG$2=\"Year\",IF(_xlfn.MAXIFS($N122:AF122,$N$2:AF$2,\"Year\")+$E122<=$E$1,AD122+$E122,0),IF(AG$2=\"Repair %\",IF(AD122>0,$C122,0),IF(AG$2=\"Spares %\",IF(IF(AD122>0,$C122,0)*100>50%,50%,IF(AD122>0,$C122,0)*100),0))))","v":0},{"$f":"IF(AG122=0,0,IF(AH$2=\"Year\",IF(_xlfn.MAXIFS($N122:AG122,$N$2:AG$2,\"Year\")+$E122<=$E$1,AE122+$E122,0),IF(AH$2=\"Repair %\",IF(AE122>0,$C122,0),IF(AH$2=\"Spares %\",IF(IF(AC122>0,$C122,0)*5>80%,50%,IF(AC122>0,$C122,0)*5),0))))","v":0},{"$f":"IF(AH122=0,0,IF(AI$2=\"Year\",IF(_xlfn.MAXIFS($N122:AH122,$N$2:AH$2,\"Year\")+$E122<=$E$1,AF122+$E122,0),IF(AI$2=\"Repair %\",IF(AF122>0,$C$3,0),IF(AI$2=\"Spares %\",IF(IF(AF122>0,$C122,0)*100>50%,50%,IF(AF122>0,$C122,0)*100),0))))","v":0},{"$f":"IF(AI122=0,0,IF(AJ$2=\"Year\",IF(_xlfn.MAXIFS($N122:AI122,$N$2:AI$2,\"Year\")+$E122<=$E$1,AG122+$E122,0),IF(AJ$2=\"Repair %\",IF(AG122>0,$C122,0),IF(AJ$2=\"Spares %\",IF(IF(AG122>0,$C122,0)*100>50%,50%,IF(AG122>0,$C122,0)*100),0))))","v":0},{"$f":"IF(AJ122=0,0,IF(AK$2=\"Year\",IF(_xlfn.MAXIFS($N122:AJ122,$N$2:AJ$2,\"Year\")+$E122<=$E$1,AH122+$E122,0),IF(AK$2=\"Repair %\",IF(AH122>0,$C122,0),IF(AK$2=\"Spares %\",IF(IF(AF122>0,$C122,0)*5>80%,50%,IF(AF122>0,$C122,0)*5),0))))","v":0},{"$f":"IF(AK122=0,0,IF(AL$2=\"Year\",IF(_xlfn.MAXIFS($N122:AK122,$N$2:AK$2,\"Year\")+$E122<=$E$1,AI122+$E122,0),IF(AL$2=\"Repair %\",IF(AI122>0,$C$3,0),IF(AL$2=\"Spares %\",IF(IF(AI122>0,$C122,0)*100>50%,50%,IF(AI122>0,$C122,0)*100),0))))","v":0},{"$f":"IF(AL122=0,0,IF(AM$2=\"Year\",IF(_xlfn.MAXIFS($N122:AL122,$N$2:AL$2,\"Year\")+$E122<=$E$1,AJ122+$E122,0),IF(AM$2=\"Repair %\",IF(AJ122>0,$C122,0),IF(AM$2=\"Spares %\",IF(IF(AJ122>0,$C122,0)*100>50%,50%,IF(AJ122>0,$C122,0)*100),0))))","v":0},{"$f":"IF(AM122=0,0,IF(AN$2=\"Year\",IF(_xlfn.MAXIFS($N122:AM122,$N$2:AM$2,\"Year\")+$E122<=$E$1,AK122+$E122,0),IF(AN$2=\"Repair %\",IF(AK122>0,$C122,0),IF(AN$2=\"Spares %\",IF(IF(AI122>0,$C122,0)*5>80%,50%,IF(AI122>0,$C122,0)*5),0))))","v":0},{"$f":"IF(AN122=0,0,IF(AO$2=\"Year\",IF(_xlfn.MAXIFS($N122:AN122,$N$2:AN$2,\"Year\")+$E122<=$E$1,AL122+$E122,0),IF(AO$2=\"Repair %\",IF(AL122>0,$C$3,0),IF(AO$2=\"Spares %\",IF(IF(AL122>0,$C122,0)*100>50%,50%,IF(AL122>0,$C122,0)*100),0))))","v":0},{"$f":"IF(AO122=0,0,IF(AP$2=\"Year\",IF(_xlfn.MAXIFS($N122:AO122,$N$2:AO$2,\"Year\")+$E122<=$E$1,AM122+$E122,0),IF(AP$2=\"Repair %\",IF(AM122>0,$C122,0),IF(AP$2=\"Spares %\",IF(IF(AM122>0,$C122,0)*100>50%,50%,IF(AM122>0,$C122,0)*100),0))))","v":0},{"$f":"IF(AP122=0,0,IF(AQ$2=\"Year\",IF(_xlfn.MAXIFS($N122:AP122,$N$2:AP$2,\"Year\")+$E122<=$E$1,AN122+$E122,0),IF(AQ$2=\"Repair %\",IF(AN122>0,$C122,0),IF(AQ$2=\"Spares %\",IF(IF(AL122>0,$C122,0)*5>80%,50%,IF(AL122>0,$C122,0)*5),0))))","v":0}]
[{"$f":"INDEX('Avionics ID'!A:E,MATCH(B123,'Avionics ID'!E:E,0),1)","v":760},"Mode control Panel (Auto/Pilot control)",0,0.06,null,"",{"$f":"SUBSTITUTE(ADDRESS(1,MATCH(A123,'Pt1-AvionicsComponentCosts'!$A$6:$NC$6,0)+1),\"$1\",\"\")","v":"$GV"},{"$f":"_xlfn.TEXTJOIN(\", \",TRUE,_xlfn.UNIQUE(_xlfn._xlws.SORT(_xlfn._xlws.FILTER('Pt1-AvionicsComponentCosts'!$NF$12:$NF$384,ISNUMBER(INDIRECT(\"'Pt1-AvionicsComponentCosts'!\"&G123&\"$12:\"&G123&\"$384\"))))))","v":"A300, A320, A330, A340, A350, A380, B747, B767, B777, B787, MD-11"},null,0.06,0,0.371,1.2310000000000001,{"$f":"COUNTIF($N$2:N$2,\"Year\")*$G$1","v":10},null,0,{"$f":"COUNTIF($N$2:Q$2,\"Year\")*$G$1","v":20},{"$f":"IF(Q123=0,0,IF(R$2=\"Year\",IF(_xlfn.MAXIFS($N123:Q123,$N$2:Q$2,\"Year\")+$E123<=$E$1,O123+$E123,0),IF(R$2=\"Repair %\",IF(O123>0,$C123,0),IF(R$2=\"Spares %\",IF(IF(O123>0,$C123,0)*100>50%,50%,IF(O123>0,$C123,0)*100),0))))","v":0},0,{"$f":"COUNTIF($N$2:T$2,\"Year\")*$G$1","v":30},{"$f":"IF(T123=0,0,IF(U$2=\"Year\",IF(_xlfn.MAXIFS($N123:T123,$N$2:T$2,\"Year\")+$E123<=$E$1,R123+$E123,0),IF(U$2=\"Repair %\",IF(R123>0,$C123,0),IF(U$2=\"Spares %\",IF(IF(R123>0,$C123,0)*100>50%,50%,IF(R123>0,$C123,0)*100),0))))","v":0},0,{"$f":"COUNTIF($N$2:W$2,\"Year\")*$G$1","v":40},{"$f":"IF(W123=0,0,IF(X$2=\"Year\",IF(_xlfn.MAXIFS($N123:W123,$N$2:W$2,\"Year\")+$E123<=$E$1,U123+$E123,0),IF(X$2=\"Repair %\",IF(U123>0,$C123,0),IF(X$2=\"Spares %\",IF(IF(U123>0,$C123,0)*100>50%,50%,IF(U123>0,$C123,0)*100),0))))","v":0},0,{"$f":"IF(Y123=0,0,IF(Z$2=\"Year\",IF(_xlfn.MAXIFS($N123:Y123,$N$2:Y$2,\"Year\")+$E123<=$E$1,W123+$E123,0),IF(Z$2=\"Repair %\",IF(W123>0,$C$3,0),IF(Z$2=\"Spares %\",IF(IF(W123>0,$C123,0)*100>50%,50%,IF(W123>0,$C123,0)*100),0))))","v":0},{"$f":"IF(Z123=0,0,IF(AA$2=\"Year\",IF(_xlfn.MAXIFS($N123:Z123,$N$2:Z$2,\"Year\")+$E123<=$E$1,X123+$E123,0),IF(AA$2=\"Repair %\",IF(X123>0,$C123,0),IF(AA$2=\"Spares %\",IF(IF(X123>0,$C123,0)*100>50%,50%,IF(X123>0,$C123,0)*100),0))))","v":0},{"$f":"IF(AA123=0,0,IF(AB$2=\"Year\",IF(_xlfn.MAXIFS($N123:AA123,$N$2:AA$2,\"Year\")+$E123<=$E$1,Y123+$E123,0),IF(AB$2=\"Repair %\",IF(Y123>0,$C123,0),IF(AB$2=\"Spares %\",IF(IF(W123>0,$C123,0)*5>80%,50%,IF(W123>0,$C123,0)*5),0))))","v":0},{"$f":"IF(AB123=0,0,IF(AC$2=\"Year\",IF(_xlfn.MAXIFS($N123:AB123,$N$2:AB$2,\"Year\")+$E123<=$E$1,Z123+$E123,0),IF(AC$2=\"Repair %\",IF(Z123>0,$C$3,0),IF(AC$2=\"Spares %\",IF(IF(Z123>0,$C123,0)*100>50%,50%,IF(Z123>0,$C123,0)*100),0))))","v":0},{"$f":"IF(AC123=0,0,IF(AD$2=\"Year\",IF(_xlfn.MAXIFS($N123:AC123,$N$2:AC$2,\"Year\")+$E123<=$E$1,AA123+$E123,0),IF(AD$2=\"Repair %\",IF(AA123>0,$C123,0),IF(AD$2=\"Spares %\",IF(IF(AA123>0,$C123,0)*100>50%,50%,IF(AA123>0,$C123,0)*100),0))))","v":0},{"$f":"IF(AD123=0,0,IF(AE$2=\"Year\",IF(_xlfn.MAXIFS($N123:AD123,$N$2:AD$2,\"Year\")+$E123<=$E$1,AB123+$E123,0),IF(AE$2=\"Repair %\",IF(AB123>0,$C123,0),IF(AE$2=\"Spares %\",IF(IF(Z123>0,$C123,0)*5>80%,50%,IF(Z123>0,$C123,0)*5),0))))","v":0},{"$f":"IF(AE123=0,0,IF(AF$2=\"Year\",IF(_xlfn.MAXIFS($N123:AE123,$N$2:AE$2,\"Year\")+$E123<=$E$1,AC123+$E123,0),IF(AF$2=\"Repair %\",IF(AC123>0,$C$3,0),IF(AF$2=\"Spares %\",IF(IF(AC123>0,$C123,0)*100>50%,50%,IF(AC123>0,$C123,0)*100),0))))","v":0},{"$f":"IF(AF123=0,0,IF(AG$2=\"Year\",IF(_xlfn.MAXIFS($N123:AF123,$N$2:AF$2,\"Year\")+$E123<=$E$1,AD123+$E123,0),IF(AG$2=\"Repair %\",IF(AD123>0,$C123,0),IF(AG$2=\"Spares %\",IF(IF(AD123>0,$C123,0)*100>50%,50%,IF(AD123>0,$C123,0)*100),0))))","v":0},{"$f":"IF(AG123=0,0,IF(AH$2=\"Year\",IF(_xlfn.MAXIFS($N123:AG123,$N$2:AG$2,\"Year\")+$E123<=$E$1,AE123+$E123,0),IF(AH$2=\"Repair %\",IF(AE123>0,$C123,0),IF(AH$2=\"Spares %\",IF(IF(AC123>0,$C123,0)*5>80%,50%,IF(AC123>0,$C123,0)*5),0))))","v":0},{"$f":"IF(AH123=0,0,IF(AI$2=\"Year\",IF(_xlfn.MAXIFS($N123:AH123,$N$2:AH$2,\"Year\")+$E123<=$E$1,AF123+$E123,0),IF(AI$2=\"Repair %\",IF(AF123>0,$C$3,0),IF(AI$2=\"Spares %\",IF(IF(AF123>0,$C123,0)*100>50%,50%,IF(AF123>0,$C123,0)*100),0))))","v":0},{"$f":"IF(AI123=0,0,IF(AJ$2=\"Year\",IF(_xlfn.MAXIFS($N123:AI123,$N$2:AI$2,\"Year\")+$E123<=$E$1,AG123+$E123,0),IF(AJ$2=\"Repair %\",IF(AG123>0,$C123,0),IF(AJ$2=\"Spares %\",IF(IF(AG123>0,$C123,0)*100>50%,50%,IF(AG123>0,$C123,0)*100),0))))","v":0},{"$f":"IF(AJ123=0,0,IF(AK$2=\"Year\",IF(_xlfn.MAXIFS($N123:AJ123,$N$2:AJ$2,\"Year\")+$E123<=$E$1,AH123+$E123,0),IF(AK$2=\"Repair %\",IF(AH123>0,$C123,0),IF(AK$2=\"Spares %\",IF(IF(AF123>0,$C123,0)*5>80%,50%,IF(AF123>0,$C123,0)*5),0))))","v":0},{"$f":"IF(AK123=0,0,IF(AL$2=\"Year\",IF(_xlfn.MAXIFS($N123:AK123,$N$2:AK$2,\"Year\")+$E123<=$E$1,AI123+$E123,0),IF(AL$2=\"Repair %\",IF(AI123>0,$C$3,0),IF(AL$2=\"Spares %\",IF(IF(AI123>0,$C123,0)*100>50%,50%,IF(AI123>0,$C123,0)*100),0))))","v":0},{"$f":"IF(AL123=0,0,IF(AM$2=\"Year\",IF(_xlfn.MAXIFS($N123:AL123,$N$2:AL$2,\"Year\")+$E123<=$E$1,AJ123+$E123,0),IF(AM$2=\"Repair %\",IF(AJ123>0,$C123,0),IF(AM$2=\"Spares %\",IF(IF(AJ123>0,$C123,0)*100>50%,50%,IF(AJ123>0,$C123,0)*100),0))))","v":0},{"$f":"IF(AM123=0,0,IF(AN$2=\"Year\",IF(_xlfn.MAXIFS($N123:AM123,$N$2:AM$2,\"Year\")+$E123<=$E$1,AK123+$E123,0),IF(AN$2=\"Repair %\",IF(AK123>0,$C123,0),IF(AN$2=\"Spares %\",IF(IF(AI123>0,$C123,0)*5>80%,50%,IF(AI123>0,$C123,0)*5),0))))","v":0},{"$f":"IF(AN123=0,0,IF(AO$2=\"Year\",IF(_xlfn.MAXIFS($N123:AN123,$N$2:AN$2,\"Year\")+$E123<=$E$1,AL123+$E123,0),IF(AO$2=\"Repair %\",IF(AL123>0,$C$3,0),IF(AO$2=\"Spares %\",IF(IF(AL123>0,$C123,0)*100>50%,50%,IF(AL123>0,$C123,0)*100),0))))","v":0},{"$f":"IF(AO123=0,0,IF(AP$2=\"Year\",IF(_xlfn.MAXIFS($N123:AO123,$N$2:AO$2,\"Year\")+$E123<=$E$1,AM123+$E123,0),IF(AP$2=\"Repair %\",IF(AM123>0,$C123,0),IF(AP$2=\"Spares %\",IF(IF(AM123>0,$C123,0)*100>50%,50%,IF(AM123>0,$C123,0)*100),0))))","v":0},{"$f":"IF(AP123=0,0,IF(AQ$2=\"Year\",IF(_xlfn.MAXIFS($N123:AP123,$N$2:AP$2,\"Year\")+$E123<=$E$1,AN123+$E123,0),IF(AQ$2=\"Repair %\",IF(AN123>0,$C123,0),IF(AQ$2=\"Spares %\",IF(IF(AL123>0,$C123,0)*5>80%,50%,IF(AL123>0,$C123,0)*5),0))))","v":0}]
[{"$f":"INDEX('Avionics ID'!A:E,MATCH(B124,'Avionics ID'!E:E,0),1)","v":852},"Modernized Target Acquisition Designation Sight (M-TADS) ",0.05,0.06,20,"Obsolecence",{"$f":"SUBSTITUTE(ADDRESS(1,MATCH(A124,'Pt1-AvionicsComponentCosts'!$A$6:$NC$6,0)+1),\"$1\",\"\")","v":"$IL"},{"$f":"_xlfn.TEXTJOIN(\", \",TRUE,_xlfn.UNIQUE(_xlfn._xlws.SORT(_xlfn._xlws.FILTER('Pt1-AvionicsComponentCosts'!$NF$12:$NF$384,ISNUMBER(INDIRECT(\"'Pt1-AvionicsComponentCosts'!\"&G124&\"$12:\"&G124&\"$384\"))))))","v":"Attack Helo, Helo"},null,0.06,0.05,0.36,1.87,{"$f":"COUNTIF($N$2:N$2,\"Year\")*$G$1","v":10},null,0,{"$f":"COUNTIF($N$2:Q$2,\"Year\")*$G$1","v":20},{"$f":"IF(Q124=0,0,IF(R$2=\"Year\",IF(_xlfn.MAXIFS($N124:Q124,$N$2:Q$2,\"Year\")+$E124<=$E$1,O124+$E124,0),IF(R$2=\"Repair %\",IF(O124>0,$C124,0),IF(R$2=\"Spares %\",IF(IF(O124>0,$C124,0)*100>50%,50%,IF(O124>0,$C124,0)*100),0))))","v":0},1,{"$f":"COUNTIF($N$2:T$2,\"Year\")*$G$1","v":30},{"$f":"IF(T124=0,0,IF(U$2=\"Year\",IF(_xlfn.MAXIFS($N124:T124,$N$2:T$2,\"Year\")+$E124<=$E$1,R124+$E124,0),IF(U$2=\"Repair %\",IF(R124>0,$C124,0),IF(U$2=\"Spares %\",IF(IF(R124>0,$C124,0)*100>50%,50%,IF(R124>0,$C124,0)*100),0))))","v":0},0,{"$f":"COUNTIF($N$2:W$2,\"Year\")*$G$1","v":40},{"$f":"IF(W124=0,0,IF(X$2=\"Year\",IF(_xlfn.MAXIFS($N124:W124,$N$2:W$2,\"Year\")+$E124<=$E$1,U124+$E124,0),IF(X$2=\"Repair %\",IF(U124>0,$C124,0),IF(X$2=\"Spares %\",IF(IF(U124>0,$C124,0)*100>50%,50%,IF(U124>0,$C124,0)*100),0))))","v":0},1,{"$f":"IF(Y124=0,0,IF(Z$2=\"Year\",IF(_xlfn.MAXIFS($N124:Y124,$N$2:Y$2,\"Year\")+$E124<=$E$1,W124+$E124,0),IF(Z$2=\"Repair %\",IF(W124>0,$C$3,0),IF(Z$2=\"Spares %\",IF(IF(W124>0,$C124,0)*100>50%,50%,IF(W124>0,$C124,0)*100),0))))","v":0},{"$f":"IF(Z124=0,0,IF(AA$2=\"Year\",IF(_xlfn.MAXIFS($N124:Z124,$N$2:Z$2,\"Year\")+$E124<=$E$1,X124+$E124,0),IF(AA$2=\"Repair %\",IF(X124>0,$C124,0),IF(AA$2=\"Spares %\",IF(IF(X124>0,$C124,0)*100>50%,50%,IF(X124>0,$C124,0)*100),0))))","v":0},{"$f":"IF(AA124=0,0,IF(AB$2=\"Year\",IF(_xlfn.MAXIFS($N124:AA124,$N$2:AA$2,\"Year\")+$E124<=$E$1,Y124+$E124,0),IF(AB$2=\"Repair %\",IF(Y124>0,$C124,0),IF(AB$2=\"Spares %\",IF(IF(W124>0,$C124,0)*5>80%,50%,IF(W124>0,$C124,0)*5),0))))","v":0},{"$f":"IF(AB124=0,0,IF(AC$2=\"Year\",IF(_xlfn.MAXIFS($N124:AB124,$N$2:AB$2,\"Year\")+$E124<=$E$1,Z124+$E124,0),IF(AC$2=\"Repair %\",IF(Z124>0,$C$3,0),IF(AC$2=\"Spares %\",IF(IF(Z124>0,$C124,0)*100>50%,50%,IF(Z124>0,$C124,0)*100),0))))","v":0},{"$f":"IF(AC124=0,0,IF(AD$2=\"Year\",IF(_xlfn.MAXIFS($N124:AC124,$N$2:AC$2,\"Year\")+$E124<=$E$1,AA124+$E124,0),IF(AD$2=\"Repair %\",IF(AA124>0,$C124,0),IF(AD$2=\"Spares %\",IF(IF(AA124>0,$C124,0)*100>50%,50%,IF(AA124>0,$C124,0)*100),0))))","v":0},{"$f":"IF(AD124=0,0,IF(AE$2=\"Year\",IF(_xlfn.MAXIFS($N124:AD124,$N$2:AD$2,\"Year\")+$E124<=$E$1,AB124+$E124,0),IF(AE$2=\"Repair %\",IF(AB124>0,$C124,0),IF(AE$2=\"Spares %\",IF(IF(Z124>0,$C124,0)*5>80%,50%,IF(Z124>0,$C124,0)*5),0))))","v":0},{"$f":"IF(AE124=0,0,IF(AF$2=\"Year\",IF(_xlfn.MAXIFS($N124:AE124,$N$2:AE$2,\"Year\")+$E124<=$E$1,AC124+$E124,0),IF(AF$2=\"Repair %\",IF(AC124>0,$C$3,0),IF(AF$2=\"Spares %\",IF(IF(AC124>0,$C124,0)*100>50%,50%,IF(AC124>0,$C124,0)*100),0))))","v":0},{"$f":"IF(AF124=0,0,IF(AG$2=\"Year\",IF(_xlfn.MAXIFS($N124:AF124,$N$2:AF$2,\"Year\")+$E124<=$E$1,AD124+$E124,0),IF(AG$2=\"Repair %\",IF(AD124>0,$C124,0),IF(AG$2=\"Spares %\",IF(IF(AD124>0,$C124,0)*100>50%,50%,IF(AD124>0,$C124,0)*100),0))))","v":0},{"$f":"IF(AG124=0,0,IF(AH$2=\"Year\",IF(_xlfn.MAXIFS($N124:AG124,$N$2:AG$2,\"Year\")+$E124<=$E$1,AE124+$E124,0),IF(AH$2=\"Repair %\",IF(AE124>0,$C124,0),IF(AH$2=\"Spares %\",IF(IF(AC124>0,$C124,0)*5>80%,50%,IF(AC124>0,$C124,0)*5),0))))","v":0},{"$f":"IF(AH124=0,0,IF(AI$2=\"Year\",IF(_xlfn.MAXIFS($N124:AH124,$N$2:AH$2,\"Year\")+$E124<=$E$1,AF124+$E124,0),IF(AI$2=\"Repair %\",IF(AF124>0,$C$3,0),IF(AI$2=\"Spares %\",IF(IF(AF124>0,$C124,0)*100>50%,50%,IF(AF124>0,$C124,0)*100),0))))","v":0},{"$f":"IF(AI124=0,0,IF(AJ$2=\"Year\",IF(_xlfn.MAXIFS($N124:AI124,$N$2:AI$2,\"Year\")+$E124<=$E$1,AG124+$E124,0),IF(AJ$2=\"Repair %\",IF(AG124>0,$C124,0),IF(AJ$2=\"Spares %\",IF(IF(AG124>0,$C124,0)*100>50%,50%,IF(AG124>0,$C124,0)*100),0))))","v":0},{"$f":"IF(AJ124=0,0,IF(AK$2=\"Year\",IF(_xlfn.MAXIFS($N124:AJ124,$N$2:AJ$2,\"Year\")+$E124<=$E$1,AH124+$E124,0),IF(AK$2=\"Repair %\",IF(AH124>0,$C124,0),IF(AK$2=\"Spares %\",IF(IF(AF124>0,$C124,0)*5>80%,50%,IF(AF124>0,$C124,0)*5),0))))","v":0},{"$f":"IF(AK124=0,0,IF(AL$2=\"Year\",IF(_xlfn.MAXIFS($N124:AK124,$N$2:AK$2,\"Year\")+$E124<=$E$1,AI124+$E124,0),IF(AL$2=\"Repair %\",IF(AI124>0,$C$3,0),IF(AL$2=\"Spares %\",IF(IF(AI124>0,$C124,0)*100>50%,50%,IF(AI124>0,$C124,0)*100),0))))","v":0},{"$f":"IF(AL124=0,0,IF(AM$2=\"Year\",IF(_xlfn.MAXIFS($N124:AL124,$N$2:AL$2,\"Year\")+$E124<=$E$1,AJ124+$E124,0),IF(AM$2=\"Repair %\",IF(AJ124>0,$C124,0),IF(AM$2=\"Spares %\",IF(IF(AJ124>0,$C124,0)*100>50%,50%,IF(AJ124>0,$C124,0)*100),0))))","v":0},{"$f":"IF(AM124=0,0,IF(AN$2=\"Year\",IF(_xlfn.MAXIFS($N124:AM124,$N$2:AM$2,\"Year\")+$E124<=$E$1,AK124+$E124,0),IF(AN$2=\"Repair %\",IF(AK124>0,$C124,0),IF(AN$2=\"Spares %\",IF(IF(AI124>0,$C124,0)*5>80%,50%,IF(AI124>0,$C124,0)*5),0))))","v":0},{"$f":"IF(AN124=0,0,IF(AO$2=\"Year\",IF(_xlfn.MAXIFS($N124:AN124,$N$2:AN$2,\"Year\")+$E124<=$E$1,AL124+$E124,0),IF(AO$2=\"Repair %\",IF(AL124>0,$C$3,0),IF(AO$2=\"Spares %\",IF(IF(AL124>0,$C124,0)*100>50%,50%,IF(AL124>0,$C124,0)*100),0))))","v":0},{"$f":"IF(AO124=0,0,IF(AP$2=\"Year\",IF(_xlfn.MAXIFS($N124:AO124,$N$2:AO$2,\"Year\")+$E124<=$E$1,AM124+$E124,0),IF(AP$2=\"Repair %\",IF(AM124>0,$C124,0),IF(AP$2=\"Spares %\",IF(IF(AM124>0,$C124,0)*100>50%,50%,IF(AM124>0,$C124,0)*100),0))))","v":0},{"$f":"IF(AP124=0,0,IF(AQ$2=\"Year\",IF(_xlfn.MAXIFS($N124:AP124,$N$2:AP$2,\"Year\")+$E124<=$E$1,AN124+$E124,0),IF(AQ$2=\"Repair %\",IF(AN124>0,$C124,0),IF(AQ$2=\"Spares %\",IF(IF(AL124>0,$C124,0)*5>80%,50%,IF(AL124>0,$C124,0)*5),0))))","v":0}]
[{"$f":"INDEX('Avionics ID'!A:E,MATCH(B125,'Avionics ID'!E:E,0),1)","v":805},"Modular Avionic Unit, 1,2 and 3",0.1,0.06,10,"Obsolecence",{"$f":"SUBSTITUTE(ADDRESS(1,MATCH(A125,'Pt1-AvionicsComponentCosts'!$A$6:$NC$6,0)+1),\"$1\",\"\")","v":"$HR"},{"$f":"_xlfn.TEXTJOIN(\", \",TRUE,_xlfn.UNIQUE(_xlfn._xlws.SORT(_xlfn._xlws.FILTER('Pt1-AvionicsComponentCosts'!$NF$12:$NF$384,ISNUMBER(INDIRECT(\"'Pt1-AvionicsComponentCosts'!\"&G125&\"$12:\"&G125&\"$384\"))))))","v":"ARJ, CRJ, EMB Regional, Reg TP, Superjet 100, Turbine GA"},null,0.06,0.1,0.35499999999999998,1.0509999999999999,{"$f":"COUNTIF($N$2:N$2,\"Year\")*$G$1","v":10},null,1,{"$f":"COUNTIF($N$2:Q$2,\"Year\")*$G$1","v":20},{"$f":"IF(Q125=0,0,IF(R$2=\"Year\",IF(_xlfn.MAXIFS($N125:Q125,$N$2:Q$2,\"Year\")+$E125<=$E$1,O125+$E125,0),IF(R$2=\"Repair %\",IF(O125>0,$C125,0),IF(R$2=\"Spares %\",IF(IF(O125>0,$C125,0)*100>50%,50%,IF(O125>0,$C125,0)*100),0))))","v":0},1,{"$f":"COUNTIF($N$2:T$2,\"Year\")*$G$1","v":30},{"$f":"IF(T125=0,0,IF(U$2=\"Year\",IF(_xlfn.MAXIFS($N125:T125,$N$2:T$2,\"Year\")+$E125<=$E$1,R125+$E125,0),IF(U$2=\"Repair %\",IF(R125>0,$C125,0),IF(U$2=\"Spares %\",IF(IF(R125>0,$C125,0)*100>50%,50%,IF(R125>0,$C125,0)*100),0))))","v":0},1,{"$f":"COUNTIF($N$2:W$2,\"Year\")*$G$1","v":40},{"$f":"IF(W125=0,0,IF(X$2=\"Year\",IF(_xlfn.MAXIFS($N125:W125,$N$2:W$2,\"Year\")+$E125<=$E$1,U125+$E125,0),IF(X$2=\"Repair %\",IF(U125>0,$C125,0),IF(X$2=\"Spares %\",IF(IF(U125>0,$C125,0)*100>50%,50%,IF(U125>0,$C125,0)*100),0))))","v":0},1,{"$f":"IF(Y125=0,0,IF(Z$2=\"Year\",IF(_xlfn.MAXIFS($N125:Y125,$N$2:Y$2,\"Year\")+$E125<=$E$1,W125+$E125,0),IF(Z$2=\"Repair %\",IF(W125>0,$C$3,0),IF(Z$2=\"Spares %\",IF(IF(W125>0,$C125,0)*100>50%,50%,IF(W125>0,$C125,0)*100),0))))","v":0},{"$f":"IF(Z125=0,0,IF(AA$2=\"Year\",IF(_xlfn.MAXIFS($N125:Z125,$N$2:Z$2,\"Year\")+$E125<=$E$1,X125+$E125,0),IF(AA$2=\"Repair %\",IF(X125>0,$C125,0),IF(AA$2=\"Spares %\",IF(IF(X125>0,$C125,0)*100>50%,50%,IF(X125>0,$C125,0)*100),0))))","v":0},{"$f":"IF(AA125=0,0,IF(AB$2=\"Year\",IF(_xlfn.MAXIFS($N125:AA125,$N$2:AA$2,\"Year\")+$E125<=$E$1,Y125+$E125,0),IF(AB$2=\"Repair %\",IF(Y125>0,$C125,0),IF(AB$2=\"Spares %\",IF(IF(W125>0,$C125,0)*5>80%,50%,IF(W125>0,$C125,0)*5),0))))","v":0},{"$f":"IF(AB125=0,0,IF(AC$2=\"Year\",IF(_xlfn.MAXIFS($N125:AB125,$N$2:AB$2,\"Year\")+$E125<=$E$1,Z125+$E125,0),IF(AC$2=\"Repair %\",IF(Z125>0,$C$3,0),IF(AC$2=\"Spares %\",IF(IF(Z125>0,$C125,0)*100>50%,50%,IF(Z125>0,$C125,0)*100),0))))","v":0},{"$f":"IF(AC125=0,0,IF(AD$2=\"Year\",IF(_xlfn.MAXIFS($N125:AC125,$N$2:AC$2,\"Year\")+$E125<=$E$1,AA125+$E125,0),IF(AD$2=\"Repair %\",IF(AA125>0,$C125,0),IF(AD$2=\"Spares %\",IF(IF(AA125>0,$C125,0)*100>50%,50%,IF(AA125>0,$C125,0)*100),0))))","v":0},{"$f":"IF(AD125=0,0,IF(AE$2=\"Year\",IF(_xlfn.MAXIFS($N125:AD125,$N$2:AD$2,\"Year\")+$E125<=$E$1,AB125+$E125,0),IF(AE$2=\"Repair %\",IF(AB125>0,$C125,0),IF(AE$2=\"Spares %\",IF(IF(Z125>0,$C125,0)*5>80%,50%,IF(Z125>0,$C125,0)*5),0))))","v":0},{"$f":"IF(AE125=0,0,IF(AF$2=\"Year\",IF(_xlfn.MAXIFS($N125:AE125,$N$2:AE$2,\"Year\")+$E125<=$E$1,AC125+$E125,0),IF(AF$2=\"Repair %\",IF(AC125>0,$C$3,0),IF(AF$2=\"Spares %\",IF(IF(AC125>0,$C125,0)*100>50%,50%,IF(AC125>0,$C125,0)*100),0))))","v":0},{"$f":"IF(AF125=0,0,IF(AG$2=\"Year\",IF(_xlfn.MAXIFS($N125:AF125,$N$2:AF$2,\"Year\")+$E125<=$E$1,AD125+$E125,0),IF(AG$2=\"Repair %\",IF(AD125>0,$C125,0),IF(AG$2=\"Spares %\",IF(IF(AD125>0,$C125,0)*100>50%,50%,IF(AD125>0,$C125,0)*100),0))))","v":0},{"$f":"IF(AG125=0,0,IF(AH$2=\"Year\",IF(_xlfn.MAXIFS($N125:AG125,$N$2:AG$2,\"Year\")+$E125<=$E$1,AE125+$E125,0),IF(AH$2=\"Repair %\",IF(AE125>0,$C125,0),IF(AH$2=\"Spares %\",IF(IF(AC125>0,$C125,0)*5>80%,50%,IF(AC125>0,$C125,0)*5),0))))","v":0},{"$f":"IF(AH125=0,0,IF(AI$2=\"Year\",IF(_xlfn.MAXIFS($N125:AH125,$N$2:AH$2,\"Year\")+$E125<=$E$1,AF125+$E125,0),IF(AI$2=\"Repair %\",IF(AF125>0,$C$3,0),IF(AI$2=\"Spares %\",IF(IF(AF125>0,$C125,0)*100>50%,50%,IF(AF125>0,$C125,0)*100),0))))","v":0},{"$f":"IF(AI125=0,0,IF(AJ$2=\"Year\",IF(_xlfn.MAXIFS($N125:AI125,$N$2:AI$2,\"Year\")+$E125<=$E$1,AG125+$E125,0),IF(AJ$2=\"Repair %\",IF(AG125>0,$C125,0),IF(AJ$2=\"Spares %\",IF(IF(AG125>0,$C125,0)*100>50%,50%,IF(AG125>0,$C125,0)*100),0))))","v":0},{"$f":"IF(AJ125=0,0,IF(AK$2=\"Year\",IF(_xlfn.MAXIFS($N125:AJ125,$N$2:AJ$2,\"Year\")+$E125<=$E$1,AH125+$E125,0),IF(AK$2=\"Repair %\",IF(AH125>0,$C125,0),IF(AK$2=\"Spares %\",IF(IF(AF125>0,$C125,0)*5>80%,50%,IF(AF125>0,$C125,0)*5),0))))","v":0},{"$f":"IF(AK125=0,0,IF(AL$2=\"Year\",IF(_xlfn.MAXIFS($N125:AK125,$N$2:AK$2,\"Year\")+$E125<=$E$1,AI125+$E125,0),IF(AL$2=\"Repair %\",IF(AI125>0,$C$3,0),IF(AL$2=\"Spares %\",IF(IF(AI125>0,$C125,0)*100>50%,50%,IF(AI125>0,$C125,0)*100),0))))","v":0},{"$f":"IF(AL125=0,0,IF(AM$2=\"Year\",IF(_xlfn.MAXIFS($N125:AL125,$N$2:AL$2,\"Year\")+$E125<=$E$1,AJ125+$E125,0),IF(AM$2=\"Repair %\",IF(AJ125>0,$C125,0),IF(AM$2=\"Spares %\",IF(IF(AJ125>0,$C125,0)*100>50%,50%,IF(AJ125>0,$C125,0)*100),0))))","v":0},{"$f":"IF(AM125=0,0,IF(AN$2=\"Year\",IF(_xlfn.MAXIFS($N125:AM125,$N$2:AM$2,\"Year\")+$E125<=$E$1,AK125+$E125,0),IF(AN$2=\"Repair %\",IF(AK125>0,$C125,0),IF(AN$2=\"Spares %\",IF(IF(AI125>0,$C125,0)*5>80%,50%,IF(AI125>0,$C125,0)*5),0))))","v":0},{"$f":"IF(AN125=0,0,IF(AO$2=\"Year\",IF(_xlfn.MAXIFS($N125:AN125,$N$2:AN$2,\"Year\")+$E125<=$E$1,AL125+$E125,0),IF(AO$2=\"Repair %\",IF(AL125>0,$C$3,0),IF(AO$2=\"Spares %\",IF(IF(AL125>0,$C125,0)*100>50%,50%,IF(AL125>0,$C125,0)*100),0))))","v":0},{"$f":"IF(AO125=0,0,IF(AP$2=\"Year\",IF(_xlfn.MAXIFS($N125:AO125,$N$2:AO$2,\"Year\")+$E125<=$E$1,AM125+$E125,0),IF(AP$2=\"Repair %\",IF(AM125>0,$C125,0),IF(AP$2=\"Spares %\",IF(IF(AM125>0,$C125,0)*100>50%,50%,IF(AM125>0,$C125,0)*100),0))))","v":0},{"$f":"IF(AP125=0,0,IF(AQ$2=\"Year\",IF(_xlfn.MAXIFS($N125:AP125,$N$2:AP$2,\"Year\")+$E125<=$E$1,AN125+$E125,0),IF(AQ$2=\"Repair %\",IF(AN125>0,$C125,0),IF(AQ$2=\"Spares %\",IF(IF(AL125>0,$C125,0)*5>80%,50%,IF(AL125>0,$C125,0)*5),0))))","v":0}]
[{"$f":"INDEX('Avionics ID'!A:E,MATCH(B126,'Avionics ID'!E:E,0),1)","v":844},"Mulit InfraRed alerting System (MIRAS) Sensors",0.1,0.2,10,"Obsolecence",{"$f":"SUBSTITUTE(ADDRESS(1,MATCH(A126,'Pt1-AvionicsComponentCosts'!$A$6:$NC$6,0)+1),\"$1\",\"\")","v":"$LH"},{"$f":"_xlfn.TEXTJOIN(\", \",TRUE,_xlfn.UNIQUE(_xlfn._xlws.SORT(_xlfn._xlws.FILTER('Pt1-AvionicsComponentCosts'!$NF$12:$NF$384,ISNUMBER(INDIRECT(\"'Pt1-AvionicsComponentCosts'!\"&G126&\"$12:\"&G126&\"$384\"))))))","v":"A330 LMXT, A330 MRTT, Mil Transport, Military Jet, Military TP"},null,0.2,0.1,0.33500000000000002,1.6830000000000001,{"$f":"COUNTIF($N$2:N$2,\"Year\")*$G$1","v":10},null,1,{"$f":"COUNTIF($N$2:Q$2,\"Year\")*$G$1","v":20},{"$f":"IF(Q126=0,0,IF(R$2=\"Year\",IF(_xlfn.MAXIFS($N126:Q126,$N$2:Q$2,\"Year\")+$E126<=$E$1,O126+$E126,0),IF(R$2=\"Repair %\",IF(O126>0,$C126,0),IF(R$2=\"Spares %\",IF(IF(O126>0,$C126,0)*100>50%,50%,IF(O126>0,$C126,0)*100),0))))","v":0},1,{"$f":"COUNTIF($N$2:T$2,\"Year\")*$G$1","v":30},{"$f":"IF(T126=0,0,IF(U$2=\"Year\",IF(_xlfn.MAXIFS($N126:T126,$N$2:T$2,\"Year\")+$E126<=$E$1,R126+$E126,0),IF(U$2=\"Repair %\",IF(R126>0,$C126,0),IF(U$2=\"Spares %\",IF(IF(R126>0,$C126,0)*100>50%,50%,IF(R126>0,$C126,0)*100),0))))","v":0},1,{"$f":"COUNTIF($N$2:W$2,\"Year\")*$G$1","v":40},{"$f":"IF(W126=0,0,IF(X$2=\"Year\",IF(_xlfn.MAXIFS($N126:W126,$N$2:W$2,\"Year\")+$E126<=$E$1,U126+$E126,0),IF(X$2=\"Repair %\",IF(U126>0,$C126,0),IF(X$2=\"Spares %\",IF(IF(U126>0,$C126,0)*100>50%,50%,IF(U126>0,$C126,0)*100),0))))","v":0},1,{"$f":"IF(Y126=0,0,IF(Z$2=\"Year\",IF(_xlfn.MAXIFS($N126:Y126,$N$2:Y$2,\"Year\")+$E126<=$E$1,W126+$E126,0),IF(Z$2=\"Repair %\",IF(W126>0,$C$3,0),IF(Z$2=\"Spares %\",IF(IF(W126>0,$C126,0)*100>50%,50%,IF(W126>0,$C126,0)*100),0))))","v":0},{"$f":"IF(Z126=0,0,IF(AA$2=\"Year\",IF(_xlfn.MAXIFS($N126:Z126,$N$2:Z$2,\"Year\")+$E126<=$E$1,X126+$E126,0),IF(AA$2=\"Repair %\",IF(X126>0,$C126,0),IF(AA$2=\"Spares %\",IF(IF(X126>0,$C126,0)*100>50%,50%,IF(X126>0,$C126,0)*100),0))))","v":0},{"$f":"IF(AA126=0,0,IF(AB$2=\"Year\",IF(_xlfn.MAXIFS($N126:AA126,$N$2:AA$2,\"Year\")+$E126<=$E$1,Y126+$E126,0),IF(AB$2=\"Repair %\",IF(Y126>0,$C126,0),IF(AB$2=\"Spares %\",IF(IF(W126>0,$C126,0)*5>80%,50%,IF(W126>0,$C126,0)*5),0))))","v":0},{"$f":"IF(AB126=0,0,IF(AC$2=\"Year\",IF(_xlfn.MAXIFS($N126:AB126,$N$2:AB$2,\"Year\")+$E126<=$E$1,Z126+$E126,0),IF(AC$2=\"Repair %\",IF(Z126>0,$C$3,0),IF(AC$2=\"Spares %\",IF(IF(Z126>0,$C126,0)*100>50%,50%,IF(Z126>0,$C126,0)*100),0))))","v":0},{"$f":"IF(AC126=0,0,IF(AD$2=\"Year\",IF(_xlfn.MAXIFS($N126:AC126,$N$2:AC$2,\"Year\")+$E126<=$E$1,AA126+$E126,0),IF(AD$2=\"Repair %\",IF(AA126>0,$C126,0),IF(AD$2=\"Spares %\",IF(IF(AA126>0,$C126,0)*100>50%,50%,IF(AA126>0,$C126,0)*100),0))))","v":0},{"$f":"IF(AD126=0,0,IF(AE$2=\"Year\",IF(_xlfn.MAXIFS($N126:AD126,$N$2:AD$2,\"Year\")+$E126<=$E$1,AB126+$E126,0),IF(AE$2=\"Repair %\",IF(AB126>0,$C126,0),IF(AE$2=\"Spares %\",IF(IF(Z126>0,$C126,0)*5>80%,50%,IF(Z126>0,$C126,0)*5),0))))","v":0},{"$f":"IF(AE126=0,0,IF(AF$2=\"Year\",IF(_xlfn.MAXIFS($N126:AE126,$N$2:AE$2,\"Year\")+$E126<=$E$1,AC126+$E126,0),IF(AF$2=\"Repair %\",IF(AC126>0,$C$3,0),IF(AF$2=\"Spares %\",IF(IF(AC126>0,$C126,0)*100>50%,50%,IF(AC126>0,$C126,0)*100),0))))","v":0},{"$f":"IF(AF126=0,0,IF(AG$2=\"Year\",IF(_xlfn.MAXIFS($N126:AF126,$N$2:AF$2,\"Year\")+$E126<=$E$1,AD126+$E126,0),IF(AG$2=\"Repair %\",IF(AD126>0,$C126,0),IF(AG$2=\"Spares %\",IF(IF(AD126>0,$C126,0)*100>50%,50%,IF(AD126>0,$C126,0)*100),0))))","v":0},{"$f":"IF(AG126=0,0,IF(AH$2=\"Year\",IF(_xlfn.MAXIFS($N126:AG126,$N$2:AG$2,\"Year\")+$E126<=$E$1,AE126+$E126,0),IF(AH$2=\"Repair %\",IF(AE126>0,$C126,0),IF(AH$2=\"Spares %\",IF(IF(AC126>0,$C126,0)*5>80%,50%,IF(AC126>0,$C126,0)*5),0))))","v":0},{"$f":"IF(AH126=0,0,IF(AI$2=\"Year\",IF(_xlfn.MAXIFS($N126:AH126,$N$2:AH$2,\"Year\")+$E126<=$E$1,AF126+$E126,0),IF(AI$2=\"Repair %\",IF(AF126>0,$C$3,0),IF(AI$2=\"Spares %\",IF(IF(AF126>0,$C126,0)*100>50%,50%,IF(AF126>0,$C126,0)*100),0))))","v":0},{"$f":"IF(AI126=0,0,IF(AJ$2=\"Year\",IF(_xlfn.MAXIFS($N126:AI126,$N$2:AI$2,\"Year\")+$E126<=$E$1,AG126+$E126,0),IF(AJ$2=\"Repair %\",IF(AG126>0,$C126,0),IF(AJ$2=\"Spares %\",IF(IF(AG126>0,$C126,0)*100>50%,50%,IF(AG126>0,$C126,0)*100),0))))","v":0},{"$f":"IF(AJ126=0,0,IF(AK$2=\"Year\",IF(_xlfn.MAXIFS($N126:AJ126,$N$2:AJ$2,\"Year\")+$E126<=$E$1,AH126+$E126,0),IF(AK$2=\"Repair %\",IF(AH126>0,$C126,0),IF(AK$2=\"Spares %\",IF(IF(AF126>0,$C126,0)*5>80%,50%,IF(AF126>0,$C126,0)*5),0))))","v":0},{"$f":"IF(AK126=0,0,IF(AL$2=\"Year\",IF(_xlfn.MAXIFS($N126:AK126,$N$2:AK$2,\"Year\")+$E126<=$E$1,AI126+$E126,0),IF(AL$2=\"Repair %\",IF(AI126>0,$C$3,0),IF(AL$2=\"Spares %\",IF(IF(AI126>0,$C126,0)*100>50%,50%,IF(AI126>0,$C126,0)*100),0))))","v":0},{"$f":"IF(AL126=0,0,IF(AM$2=\"Year\",IF(_xlfn.MAXIFS($N126:AL126,$N$2:AL$2,\"Year\")+$E126<=$E$1,AJ126+$E126,0),IF(AM$2=\"Repair %\",IF(AJ126>0,$C126,0),IF(AM$2=\"Spares %\",IF(IF(AJ126>0,$C126,0)*100>50%,50%,IF(AJ126>0,$C126,0)*100),0))))","v":0},{"$f":"IF(AM126=0,0,IF(AN$2=\"Year\",IF(_xlfn.MAXIFS($N126:AM126,$N$2:AM$2,\"Year\")+$E126<=$E$1,AK126+$E126,0),IF(AN$2=\"Repair %\",IF(AK126>0,$C126,0),IF(AN$2=\"Spares %\",IF(IF(AI126>0,$C126,0)*5>80%,50%,IF(AI126>0,$C126,0)*5),0))))","v":0},{"$f":"IF(AN126=0,0,IF(AO$2=\"Year\",IF(_xlfn.MAXIFS($N126:AN126,$N$2:AN$2,\"Year\")+$E126<=$E$1,AL126+$E126,0),IF(AO$2=\"Repair %\",IF(AL126>0,$C$3,0),IF(AO$2=\"Spares %\",IF(IF(AL126>0,$C126,0)*100>50%,50%,IF(AL126>0,$C126,0)*100),0))))","v":0},{"$f":"IF(AO126=0,0,IF(AP$2=\"Year\",IF(_xlfn.MAXIFS($N126:AO126,$N$2:AO$2,\"Year\")+$E126<=$E$1,AM126+$E126,0),IF(AP$2=\"Repair %\",IF(AM126>0,$C126,0),IF(AP$2=\"Spares %\",IF(IF(AM126>0,$C126,0)*100>50%,50%,IF(AM126>0,$C126,0)*100),0))))","v":0},{"$f":"IF(AP126=0,0,IF(AQ$2=\"Year\",IF(_xlfn.MAXIFS($N126:AP126,$N$2:AP$2,\"Year\")+$E126<=$E$1,AN126+$E126,0),IF(AQ$2=\"Repair %\",IF(AN126>0,$C126,0),IF(AQ$2=\"Spares %\",IF(IF(AL126>0,$C126,0)*5>80%,50%,IF(AL126>0,$C126,0)*5),0))))","v":0}]
[{"$f":"INDEX('Avionics ID'!A:E,MATCH(B127,'Avionics ID'!E:E,0),1)","v":794},"Multi function Advanced Data link AAA Array",0.05,0.06,20,"Obsolecence",{"$f":"SUBSTITUTE(ADDRESS(1,MATCH(A127,'Pt1-AvionicsComponentCosts'!$A$6:$NC$6,0)+1),\"$1\",\"\")","v":"$DJ"},{"$f":"_xlfn.TEXTJOIN(\", \",TRUE,_xlfn.UNIQUE(_xlfn._xlws.SORT(_xlfn._xlws.FILTER('Pt1-AvionicsComponentCosts'!$NF$12:$NF$384,ISNUMBER(INDIRECT(\"'Pt1-AvionicsComponentCosts'!\"&G127&\"$12:\"&G127&\"$384\"))))))","v":"Attack, Stealth"},null,0.06,0.05,0.68300000000000005,1.931,{"$f":"COUNTIF($N$2:N$2,\"Year\")*$G$1","v":10},null,0,{"$f":"COUNTIF($N$2:Q$2,\"Year\")*$G$1","v":20},{"$f":"IF(Q127=0,0,IF(R$2=\"Year\",IF(_xlfn.MAXIFS($N127:Q127,$N$2:Q$2,\"Year\")+$E127<=$E$1,O127+$E127,0),IF(R$2=\"Repair %\",IF(O127>0,$C127,0),IF(R$2=\"Spares %\",IF(IF(O127>0,$C127,0)*100>50%,50%,IF(O127>0,$C127,0)*100),0))))","v":0},1,{"$f":"COUNTIF($N$2:T$2,\"Year\")*$G$1","v":30},{"$f":"IF(T127=0,0,IF(U$2=\"Year\",IF(_xlfn.MAXIFS($N127:T127,$N$2:T$2,\"Year\")+$E127<=$E$1,R127+$E127,0),IF(U$2=\"Repair %\",IF(R127>0,$C127,0),IF(U$2=\"Spares %\",IF(IF(R127>0,$C127,0)*100>50%,50%,IF(R127>0,$C127,0)*100),0))))","v":0},0,{"$f":"COUNTIF($N$2:W$2,\"Year\")*$G$1","v":40},{"$f":"IF(W127=0,0,IF(X$2=\"Year\",IF(_xlfn.MAXIFS($N127:W127,$N$2:W$2,\"Year\")+$E127<=$E$1,U127+$E127,0),IF(X$2=\"Repair %\",IF(U127>0,$C127,0),IF(X$2=\"Spares %\",IF(IF(U127>0,$C127,0)*100>50%,50%,IF(U127>0,$C127,0)*100),0))))","v":0},1,{"$f":"IF(Y127=0,0,IF(Z$2=\"Year\",IF(_xlfn.MAXIFS($N127:Y127,$N$2:Y$2,\"Year\")+$E127<=$E$1,W127+$E127,0),IF(Z$2=\"Repair %\",IF(W127>0,$C$3,0),IF(Z$2=\"Spares %\",IF(IF(W127>0,$C127,0)*100>50%,50%,IF(W127>0,$C127,0)*100),0))))","v":0},{"$f":"IF(Z127=0,0,IF(AA$2=\"Year\",IF(_xlfn.MAXIFS($N127:Z127,$N$2:Z$2,\"Year\")+$E127<=$E$1,X127+$E127,0),IF(AA$2=\"Repair %\",IF(X127>0,$C127,0),IF(AA$2=\"Spares %\",IF(IF(X127>0,$C127,0)*100>50%,50%,IF(X127>0,$C127,0)*100),0))))","v":0},{"$f":"IF(AA127=0,0,IF(AB$2=\"Year\",IF(_xlfn.MAXIFS($N127:AA127,$N$2:AA$2,\"Year\")+$E127<=$E$1,Y127+$E127,0),IF(AB$2=\"Repair %\",IF(Y127>0,$C127,0),IF(AB$2=\"Spares %\",IF(IF(W127>0,$C127,0)*5>80%,50%,IF(W127>0,$C127,0)*5),0))))","v":0},{"$f":"IF(AB127=0,0,IF(AC$2=\"Year\",IF(_xlfn.MAXIFS($N127:AB127,$N$2:AB$2,\"Year\")+$E127<=$E$1,Z127+$E127,0),IF(AC$2=\"Repair %\",IF(Z127>0,$C$3,0),IF(AC$2=\"Spares %\",IF(IF(Z127>0,$C127,0)*100>50%,50%,IF(Z127>0,$C127,0)*100),0))))","v":0},{"$f":"IF(AC127=0,0,IF(AD$2=\"Year\",IF(_xlfn.MAXIFS($N127:AC127,$N$2:AC$2,\"Year\")+$E127<=$E$1,AA127+$E127,0),IF(AD$2=\"Repair %\",IF(AA127>0,$C127,0),IF(AD$2=\"Spares %\",IF(IF(AA127>0,$C127,0)*100>50%,50%,IF(AA127>0,$C127,0)*100),0))))","v":0},{"$f":"IF(AD127=0,0,IF(AE$2=\"Year\",IF(_xlfn.MAXIFS($N127:AD127,$N$2:AD$2,\"Year\")+$E127<=$E$1,AB127+$E127,0),IF(AE$2=\"Repair %\",IF(AB127>0,$C127,0),IF(AE$2=\"Spares %\",IF(IF(Z127>0,$C127,0)*5>80%,50%,IF(Z127>0,$C127,0)*5),0))))","v":0},{"$f":"IF(AE127=0,0,IF(AF$2=\"Year\",IF(_xlfn.MAXIFS($N127:AE127,$N$2:AE$2,\"Year\")+$E127<=$E$1,AC127+$E127,0),IF(AF$2=\"Repair %\",IF(AC127>0,$C$3,0),IF(AF$2=\"Spares %\",IF(IF(AC127>0,$C127,0)*100>50%,50%,IF(AC127>0,$C127,0)*100),0))))","v":0},{"$f":"IF(AF127=0,0,IF(AG$2=\"Year\",IF(_xlfn.MAXIFS($N127:AF127,$N$2:AF$2,\"Year\")+$E127<=$E$1,AD127+$E127,0),IF(AG$2=\"Repair %\",IF(AD127>0,$C127,0),IF(AG$2=\"Spares %\",IF(IF(AD127>0,$C127,0)*100>50%,50%,IF(AD127>0,$C127,0)*100),0))))","v":0},{"$f":"IF(AG127=0,0,IF(AH$2=\"Year\",IF(_xlfn.MAXIFS($N127:AG127,$N$2:AG$2,\"Year\")+$E127<=$E$1,AE127+$E127,0),IF(AH$2=\"Repair %\",IF(AE127>0,$C127,0),IF(AH$2=\"Spares %\",IF(IF(AC127>0,$C127,0)*5>80%,50%,IF(AC127>0,$C127,0)*5),0))))","v":0},{"$f":"IF(AH127=0,0,IF(AI$2=\"Year\",IF(_xlfn.MAXIFS($N127:AH127,$N$2:AH$2,\"Year\")+$E127<=$E$1,AF127+$E127,0),IF(AI$2=\"Repair %\",IF(AF127>0,$C$3,0),IF(AI$2=\"Spares %\",IF(IF(AF127>0,$C127,0)*100>50%,50%,IF(AF127>0,$C127,0)*100),0))))","v":0},{"$f":"IF(AI127=0,0,IF(AJ$2=\"Year\",IF(_xlfn.MAXIFS($N127:AI127,$N$2:AI$2,\"Year\")+$E127<=$E$1,AG127+$E127,0),IF(AJ$2=\"Repair %\",IF(AG127>0,$C127,0),IF(AJ$2=\"Spares %\",IF(IF(AG127>0,$C127,0)*100>50%,50%,IF(AG127>0,$C127,0)*100),0))))","v":0},{"$f":"IF(AJ127=0,0,IF(AK$2=\"Year\",IF(_xlfn.MAXIFS($N127:AJ127,$N$2:AJ$2,\"Year\")+$E127<=$E$1,AH127+$E127,0),IF(AK$2=\"Repair %\",IF(AH127>0,$C127,0),IF(AK$2=\"Spares %\",IF(IF(AF127>0,$C127,0)*5>80%,50%,IF(AF127>0,$C127,0)*5),0))))","v":0},{"$f":"IF(AK127=0,0,IF(AL$2=\"Year\",IF(_xlfn.MAXIFS($N127:AK127,$N$2:AK$2,\"Year\")+$E127<=$E$1,AI127+$E127,0),IF(AL$2=\"Repair %\",IF(AI127>0,$C$3,0),IF(AL$2=\"Spares %\",IF(IF(AI127>0,$C127,0)*100>50%,50%,IF(AI127>0,$C127,0)*100),0))))","v":0},{"$f":"IF(AL127=0,0,IF(AM$2=\"Year\",IF(_xlfn.MAXIFS($N127:AL127,$N$2:AL$2,\"Year\")+$E127<=$E$1,AJ127+$E127,0),IF(AM$2=\"Repair %\",IF(AJ127>0,$C127,0),IF(AM$2=\"Spares %\",IF(IF(AJ127>0,$C127,0)*100>50%,50%,IF(AJ127>0,$C127,0)*100),0))))","v":0},{"$f":"IF(AM127=0,0,IF(AN$2=\"Year\",IF(_xlfn.MAXIFS($N127:AM127,$N$2:AM$2,\"Year\")+$E127<=$E$1,AK127+$E127,0),IF(AN$2=\"Repair %\",IF(AK127>0,$C127,0),IF(AN$2=\"Spares %\",IF(IF(AI127>0,$C127,0)*5>80%,50%,IF(AI127>0,$C127,0)*5),0))))","v":0},{"$f":"IF(AN127=0,0,IF(AO$2=\"Year\",IF(_xlfn.MAXIFS($N127:AN127,$N$2:AN$2,\"Year\")+$E127<=$E$1,AL127+$E127,0),IF(AO$2=\"Repair %\",IF(AL127>0,$C$3,0),IF(AO$2=\"Spares %\",IF(IF(AL127>0,$C127,0)*100>50%,50%,IF(AL127>0,$C127,0)*100),0))))","v":0},{"$f":"IF(AO127=0,0,IF(AP$2=\"Year\",IF(_xlfn.MAXIFS($N127:AO127,$N$2:AO$2,\"Year\")+$E127<=$E$1,AM127+$E127,0),IF(AP$2=\"Repair %\",IF(AM127>0,$C127,0),IF(AP$2=\"Spares %\",IF(IF(AM127>0,$C127,0)*100>50%,50%,IF(AM127>0,$C127,0)*100),0))))","v":0},{"$f":"IF(AP127=0,0,IF(AQ$2=\"Year\",IF(_xlfn.MAXIFS($N127:AP127,$N$2:AP$2,\"Year\")+$E127<=$E$1,AN127+$E127,0),IF(AQ$2=\"Repair %\",IF(AN127>0,$C127,0),IF(AQ$2=\"Spares %\",IF(IF(AL127>0,$C127,0)*5>80%,50%,IF(AL127>0,$C127,0)*5),0))))","v":0}]
[{"$f":"INDEX('Avionics ID'!A:E,MATCH(B128,'Avionics ID'!E:E,0),1)","v":765},"Multi Function Display",0.05,0.06,20,"Obsolecence",{"$f":"SUBSTITUTE(ADDRESS(1,MATCH(A128,'Pt1-AvionicsComponentCosts'!$A$6:$NC$6,0)+1),\"$1\",\"\")","v":"$FL"},{"$f":"_xlfn.TEXTJOIN(\", \",TRUE,_xlfn.UNIQUE(_xlfn._xlws.SORT(_xlfn._xlws.FILTER('Pt1-AvionicsComponentCosts'!$NF$12:$NF$384,ISNUMBER(INDIRECT(\"'Pt1-AvionicsComponentCosts'!\"&G128&\"$12:\"&G128&\"$384\"))))))","v":"A300, A320, A330, A340, A350, A380, Attack Helo, B747, B767, B777, B787, Challenger, Citation, E550, EMB Bizjet, Falcon, Global, Gulfstream, Hawker, Helo, Hondajet, Learjet, MD-11, Nextant 400XT, PC-24, Phenom, Praetor, SF50, TP Trainer, Turbine GA"},null,0.06,0.05,0.35299999999999998,1.8460000000000001,{"$f":"COUNTIF($N$2:N$2,\"Year\")*$G$1","v":10},null,0,{"$f":"COUNTIF($N$2:Q$2,\"Year\")*$G$1","v":20},{"$f":"IF(Q128=0,0,IF(R$2=\"Year\",IF(_xlfn.MAXIFS($N128:Q128,$N$2:Q$2,\"Year\")+$E128<=$E$1,O128+$E128,0),IF(R$2=\"Repair %\",IF(O128>0,$C128,0),IF(R$2=\"Spares %\",IF(IF(O128>0,$C128,0)*100>50%,50%,IF(O128>0,$C128,0)*100),0))))","v":0},1,{"$f":"COUNTIF($N$2:T$2,\"Year\")*$G$1","v":30},{"$f":"IF(T128=0,0,IF(U$2=\"Year\",IF(_xlfn.MAXIFS($N128:T128,$N$2:T$2,\"Year\")+$E128<=$E$1,R128+$E128,0),IF(U$2=\"Repair %\",IF(R128>0,$C128,0),IF(U$2=\"Spares %\",IF(IF(R128>0,$C128,0)*100>50%,50%,IF(R128>0,$C128,0)*100),0))))","v":0},0,{"$f":"COUNTIF($N$2:W$2,\"Year\")*$G$1","v":40},{"$f":"IF(W128=0,0,IF(X$2=\"Year\",IF(_xlfn.MAXIFS($N128:W128,$N$2:W$2,\"Year\")+$E128<=$E$1,U128+$E128,0),IF(X$2=\"Repair %\",IF(U128>0,$C128,0),IF(X$2=\"Spares %\",IF(IF(U128>0,$C128,0)*100>50%,50%,IF(U128>0,$C128,0)*100),0))))","v":0},1,{"$f":"IF(Y128=0,0,IF(Z$2=\"Year\",IF(_xlfn.MAXIFS($N128:Y128,$N$2:Y$2,\"Year\")+$E128<=$E$1,W128+$E128,0),IF(Z$2=\"Repair %\",IF(W128>0,$C$3,0),IF(Z$2=\"Spares %\",IF(IF(W128>0,$C128,0)*100>50%,50%,IF(W128>0,$C128,0)*100),0))))","v":0},{"$f":"IF(Z128=0,0,IF(AA$2=\"Year\",IF(_xlfn.MAXIFS($N128:Z128,$N$2:Z$2,\"Year\")+$E128<=$E$1,X128+$E128,0),IF(AA$2=\"Repair %\",IF(X128>0,$C128,0),IF(AA$2=\"Spares %\",IF(IF(X128>0,$C128,0)*100>50%,50%,IF(X128>0,$C128,0)*100),0))))","v":0},{"$f":"IF(AA128=0,0,IF(AB$2=\"Year\",IF(_xlfn.MAXIFS($N128:AA128,$N$2:AA$2,\"Year\")+$E128<=$E$1,Y128+$E128,0),IF(AB$2=\"Repair %\",IF(Y128>0,$C128,0),IF(AB$2=\"Spares %\",IF(IF(W128>0,$C128,0)*5>80%,50%,IF(W128>0,$C128,0)*5),0))))","v":0},{"$f":"IF(AB128=0,0,IF(AC$2=\"Year\",IF(_xlfn.MAXIFS($N128:AB128,$N$2:AB$2,\"Year\")+$E128<=$E$1,Z128+$E128,0),IF(AC$2=\"Repair %\",IF(Z128>0,$C$3,0),IF(AC$2=\"Spares %\",IF(IF(Z128>0,$C128,0)*100>50%,50%,IF(Z128>0,$C128,0)*100),0))))","v":0},{"$f":"IF(AC128=0,0,IF(AD$2=\"Year\",IF(_xlfn.MAXIFS($N128:AC128,$N$2:AC$2,\"Year\")+$E128<=$E$1,AA128+$E128,0),IF(AD$2=\"Repair %\",IF(AA128>0,$C128,0),IF(AD$2=\"Spares %\",IF(IF(AA128>0,$C128,0)*100>50%,50%,IF(AA128>0,$C128,0)*100),0))))","v":0},{"$f":"IF(AD128=0,0,IF(AE$2=\"Year\",IF(_xlfn.MAXIFS($N128:AD128,$N$2:AD$2,\"Year\")+$E128<=$E$1,AB128+$E128,0),IF(AE$2=\"Repair %\",IF(AB128>0,$C128,0),IF(AE$2=\"Spares %\",IF(IF(Z128>0,$C128,0)*5>80%,50%,IF(Z128>0,$C128,0)*5),0))))","v":0},{"$f":"IF(AE128=0,0,IF(AF$2=\"Year\",IF(_xlfn.MAXIFS($N128:AE128,$N$2:AE$2,\"Year\")+$E128<=$E$1,AC128+$E128,0),IF(AF$2=\"Repair %\",IF(AC128>0,$C$3,0),IF(AF$2=\"Spares %\",IF(IF(AC128>0,$C128,0)*100>50%,50%,IF(AC128>0,$C128,0)*100),0))))","v":0},{"$f":"IF(AF128=0,0,IF(AG$2=\"Year\",IF(_xlfn.MAXIFS($N128:AF128,$N$2:AF$2,\"Year\")+$E128<=$E$1,AD128+$E128,0),IF(AG$2=\"Repair %\",IF(AD128>0,$C128,0),IF(AG$2=\"Spares %\",IF(IF(AD128>0,$C128,0)*100>50%,50%,IF(AD128>0,$C128,0)*100),0))))","v":0},{"$f":"IF(AG128=0,0,IF(AH$2=\"Year\",IF(_xlfn.MAXIFS($N128:AG128,$N$2:AG$2,\"Year\")+$E128<=$E$1,AE128+$E128,0),IF(AH$2=\"Repair %\",IF(AE128>0,$C128,0),IF(AH$2=\"Spares %\",IF(IF(AC128>0,$C128,0)*5>80%,50%,IF(AC128>0,$C128,0)*5),0))))","v":0},{"$f":"IF(AH128=0,0,IF(AI$2=\"Year\",IF(_xlfn.MAXIFS($N128:AH128,$N$2:AH$2,\"Year\")+$E128<=$E$1,AF128+$E128,0),IF(AI$2=\"Repair %\",IF(AF128>0,$C$3,0),IF(AI$2=\"Spares %\",IF(IF(AF128>0,$C128,0)*100>50%,50%,IF(AF128>0,$C128,0)*100),0))))","v":0},{"$f":"IF(AI128=0,0,IF(AJ$2=\"Year\",IF(_xlfn.MAXIFS($N128:AI128,$N$2:AI$2,\"Year\")+$E128<=$E$1,AG128+$E128,0),IF(AJ$2=\"Repair %\",IF(AG128>0,$C128,0),IF(AJ$2=\"Spares %\",IF(IF(AG128>0,$C128,0)*100>50%,50%,IF(AG128>0,$C128,0)*100),0))))","v":0},{"$f":"IF(AJ128=0,0,IF(AK$2=\"Year\",IF(_xlfn.MAXIFS($N128:AJ128,$N$2:AJ$2,\"Year\")+$E128<=$E$1,AH128+$E128,0),IF(AK$2=\"Repair %\",IF(AH128>0,$C128,0),IF(AK$2=\"Spares %\",IF(IF(AF128>0,$C128,0)*5>80%,50%,IF(AF128>0,$C128,0)*5),0))))","v":0},{"$f":"IF(AK128=0,0,IF(AL$2=\"Year\",IF(_xlfn.MAXIFS($N128:AK128,$N$2:AK$2,\"Year\")+$E128<=$E$1,AI128+$E128,0),IF(AL$2=\"Repair %\",IF(AI128>0,$C$3,0),IF(AL$2=\"Spares %\",IF(IF(AI128>0,$C128,0)*100>50%,50%,IF(AI128>0,$C128,0)*100),0))))","v":0},{"$f":"IF(AL128=0,0,IF(AM$2=\"Year\",IF(_xlfn.MAXIFS($N128:AL128,$N$2:AL$2,\"Year\")+$E128<=$E$1,AJ128+$E128,0),IF(AM$2=\"Repair %\",IF(AJ128>0,$C128,0),IF(AM$2=\"Spares %\",IF(IF(AJ128>0,$C128,0)*100>50%,50%,IF(AJ128>0,$C128,0)*100),0))))","v":0},{"$f":"IF(AM128=0,0,IF(AN$2=\"Year\",IF(_xlfn.MAXIFS($N128:AM128,$N$2:AM$2,\"Year\")+$E128<=$E$1,AK128+$E128,0),IF(AN$2=\"Repair %\",IF(AK128>0,$C128,0),IF(AN$2=\"Spares %\",IF(IF(AI128>0,$C128,0)*5>80%,50%,IF(AI128>0,$C128,0)*5),0))))","v":0},{"$f":"IF(AN128=0,0,IF(AO$2=\"Year\",IF(_xlfn.MAXIFS($N128:AN128,$N$2:AN$2,\"Year\")+$E128<=$E$1,AL128+$E128,0),IF(AO$2=\"Repair %\",IF(AL128>0,$C$3,0),IF(AO$2=\"Spares %\",IF(IF(AL128>0,$C128,0)*100>50%,50%,IF(AL128>0,$C128,0)*100),0))))","v":0},{"$f":"IF(AO128=0,0,IF(AP$2=\"Year\",IF(_xlfn.MAXIFS($N128:AO128,$N$2:AO$2,\"Year\")+$E128<=$E$1,AM128+$E128,0),IF(AP$2=\"Repair %\",IF(AM128>0,$C128,0),IF(AP$2=\"Spares %\",IF(IF(AM128>0,$C128,0)*100>50%,50%,IF(AM128>0,$C128,0)*100),0))))","v":0},{"$f":"IF(AP128=0,0,IF(AQ$2=\"Year\",IF(_xlfn.MAXIFS($N128:AP128,$N$2:AP$2,\"Year\")+$E128<=$E$1,AN128+$E128,0),IF(AQ$2=\"Repair %\",IF(AN128>0,$C128,0),IF(AQ$2=\"Spares %\",IF(IF(AL128>0,$C128,0)*5>80%,50%,IF(AL128>0,$C128,0)*5),0))))","v":0}]
[{"$f":"INDEX('Avionics ID'!A:E,MATCH(B129,'Avionics ID'!E:E,0),1)","v":814},"Multi mode radar",0.05,0.06,20,"Obsolecence",{"$f":"SUBSTITUTE(ADDRESS(1,MATCH(A129,'Pt1-AvionicsComponentCosts'!$A$6:$NC$6,0)+1),\"$1\",\"\")","v":"$MN"},{"$f":"_xlfn.TEXTJOIN(\", \",TRUE,_xlfn.UNIQUE(_xlfn._xlws.SORT(_xlfn._xlws.FILTER('Pt1-AvionicsComponentCosts'!$NF$12:$NF$384,ISNUMBER(INDIRECT(\"'Pt1-AvionicsComponentCosts'!\"&G129&\"$12:\"&G129&\"$384\"))))))","v":"A330 LMXT, A330 MRTT, Mil Fighter, Mil Transport, Military Jet, Military TP"},null,0.06,0.05,0.44800000000000001,1.298,{"$f":"COUNTIF($N$2:N$2,\"Year\")*$G$1","v":10},null,0,{"$f":"COUNTIF($N$2:Q$2,\"Year\")*$G$1","v":20},{"$f":"IF(Q129=0,0,IF(R$2=\"Year\",IF(_xlfn.MAXIFS($N129:Q129,$N$2:Q$2,\"Year\")+$E129<=$E$1,O129+$E129,0),IF(R$2=\"Repair %\",IF(O129>0,$C129,0),IF(R$2=\"Spares %\",IF(IF(O129>0,$C129,0)*100>50%,50%,IF(O129>0,$C129,0)*100),0))))","v":0},1,{"$f":"COUNTIF($N$2:T$2,\"Year\")*$G$1","v":30},{"$f":"IF(T129=0,0,IF(U$2=\"Year\",IF(_xlfn.MAXIFS($N129:T129,$N$2:T$2,\"Year\")+$E129<=$E$1,R129+$E129,0),IF(U$2=\"Repair %\",IF(R129>0,$C129,0),IF(U$2=\"Spares %\",IF(IF(R129>0,$C129,0)*100>50%,50%,IF(R129>0,$C129,0)*100),0))))","v":0},0,{"$f":"COUNTIF($N$2:W$2,\"Year\")*$G$1","v":40},{"$f":"IF(W129=0,0,IF(X$2=\"Year\",IF(_xlfn.MAXIFS($N129:W129,$N$2:W$2,\"Year\")+$E129<=$E$1,U129+$E129,0),IF(X$2=\"Repair %\",IF(U129>0,$C129,0),IF(X$2=\"Spares %\",IF(IF(U129>0,$C129,0)*100>50%,50%,IF(U129>0,$C129,0)*100),0))))","v":0},1,{"$f":"IF(Y129=0,0,IF(Z$2=\"Year\",IF(_xlfn.MAXIFS($N129:Y129,$N$2:Y$2,\"Year\")+$E129<=$E$1,W129+$E129,0),IF(Z$2=\"Repair %\",IF(W129>0,$C$3,0),IF(Z$2=\"Spares %\",IF(IF(W129>0,$C129,0)*100>50%,50%,IF(W129>0,$C129,0)*100),0))))","v":0},{"$f":"IF(Z129=0,0,IF(AA$2=\"Year\",IF(_xlfn.MAXIFS($N129:Z129,$N$2:Z$2,\"Year\")+$E129<=$E$1,X129+$E129,0),IF(AA$2=\"Repair %\",IF(X129>0,$C129,0),IF(AA$2=\"Spares %\",IF(IF(X129>0,$C129,0)*100>50%,50%,IF(X129>0,$C129,0)*100),0))))","v":0},{"$f":"IF(AA129=0,0,IF(AB$2=\"Year\",IF(_xlfn.MAXIFS($N129:AA129,$N$2:AA$2,\"Year\")+$E129<=$E$1,Y129+$E129,0),IF(AB$2=\"Repair %\",IF(Y129>0,$C129,0),IF(AB$2=\"Spares %\",IF(IF(W129>0,$C129,0)*5>80%,50%,IF(W129>0,$C129,0)*5),0))))","v":0},{"$f":"IF(AB129=0,0,IF(AC$2=\"Year\",IF(_xlfn.MAXIFS($N129:AB129,$N$2:AB$2,\"Year\")+$E129<=$E$1,Z129+$E129,0),IF(AC$2=\"Repair %\",IF(Z129>0,$C$3,0),IF(AC$2=\"Spares %\",IF(IF(Z129>0,$C129,0)*100>50%,50%,IF(Z129>0,$C129,0)*100),0))))","v":0},{"$f":"IF(AC129=0,0,IF(AD$2=\"Year\",IF(_xlfn.MAXIFS($N129:AC129,$N$2:AC$2,\"Year\")+$E129<=$E$1,AA129+$E129,0),IF(AD$2=\"Repair %\",IF(AA129>0,$C129,0),IF(AD$2=\"Spares %\",IF(IF(AA129>0,$C129,0)*100>50%,50%,IF(AA129>0,$C129,0)*100),0))))","v":0},{"$f":"IF(AD129=0,0,IF(AE$2=\"Year\",IF(_xlfn.MAXIFS($N129:AD129,$N$2:AD$2,\"Year\")+$E129<=$E$1,AB129+$E129,0),IF(AE$2=\"Repair %\",IF(AB129>0,$C129,0),IF(AE$2=\"Spares %\",IF(IF(Z129>0,$C129,0)*5>80%,50%,IF(Z129>0,$C129,0)*5),0))))","v":0},{"$f":"IF(AE129=0,0,IF(AF$2=\"Year\",IF(_xlfn.MAXIFS($N129:AE129,$N$2:AE$2,\"Year\")+$E129<=$E$1,AC129+$E129,0),IF(AF$2=\"Repair %\",IF(AC129>0,$C$3,0),IF(AF$2=\"Spares %\",IF(IF(AC129>0,$C129,0)*100>50%,50%,IF(AC129>0,$C129,0)*100),0))))","v":0},{"$f":"IF(AF129=0,0,IF(AG$2=\"Year\",IF(_xlfn.MAXIFS($N129:AF129,$N$2:AF$2,\"Year\")+$E129<=$E$1,AD129+$E129,0),IF(AG$2=\"Repair %\",IF(AD129>0,$C129,0),IF(AG$2=\"Spares %\",IF(IF(AD129>0,$C129,0)*100>50%,50%,IF(AD129>0,$C129,0)*100),0))))","v":0},{"$f":"IF(AG129=0,0,IF(AH$2=\"Year\",IF(_xlfn.MAXIFS($N129:AG129,$N$2:AG$2,\"Year\")+$E129<=$E$1,AE129+$E129,0),IF(AH$2=\"Repair %\",IF(AE129>0,$C129,0),IF(AH$2=\"Spares %\",IF(IF(AC129>0,$C129,0)*5>80%,50%,IF(AC129>0,$C129,0)*5),0))))","v":0},{"$f":"IF(AH129=0,0,IF(AI$2=\"Year\",IF(_xlfn.MAXIFS($N129:AH129,$N$2:AH$2,\"Year\")+$E129<=$E$1,AF129+$E129,0),IF(AI$2=\"Repair %\",IF(AF129>0,$C$3,0),IF(AI$2=\"Spares %\",IF(IF(AF129>0,$C129,0)*100>50%,50%,IF(AF129>0,$C129,0)*100),0))))","v":0},{"$f":"IF(AI129=0,0,IF(AJ$2=\"Year\",IF(_xlfn.MAXIFS($N129:AI129,$N$2:AI$2,\"Year\")+$E129<=$E$1,AG129+$E129,0),IF(AJ$2=\"Repair %\",IF(AG129>0,$C129,0),IF(AJ$2=\"Spares %\",IF(IF(AG129>0,$C129,0)*100>50%,50%,IF(AG129>0,$C129,0)*100),0))))","v":0},{"$f":"IF(AJ129=0,0,IF(AK$2=\"Year\",IF(_xlfn.MAXIFS($N129:AJ129,$N$2:AJ$2,\"Year\")+$E129<=$E$1,AH129+$E129,0),IF(AK$2=\"Repair %\",IF(AH129>0,$C129,0),IF(AK$2=\"Spares %\",IF(IF(AF129>0,$C129,0)*5>80%,50%,IF(AF129>0,$C129,0)*5),0))))","v":0},{"$f":"IF(AK129=0,0,IF(AL$2=\"Year\",IF(_xlfn.MAXIFS($N129:AK129,$N$2:AK$2,\"Year\")+$E129<=$E$1,AI129+$E129,0),IF(AL$2=\"Repair %\",IF(AI129>0,$C$3,0),IF(AL$2=\"Spares %\",IF(IF(AI129>0,$C129,0)*100>50%,50%,IF(AI129>0,$C129,0)*100),0))))","v":0},{"$f":"IF(AL129=0,0,IF(AM$2=\"Year\",IF(_xlfn.MAXIFS($N129:AL129,$N$2:AL$2,\"Year\")+$E129<=$E$1,AJ129+$E129,0),IF(AM$2=\"Repair %\",IF(AJ129>0,$C129,0),IF(AM$2=\"Spares %\",IF(IF(AJ129>0,$C129,0)*100>50%,50%,IF(AJ129>0,$C129,0)*100),0))))","v":0},{"$f":"IF(AM129=0,0,IF(AN$2=\"Year\",IF(_xlfn.MAXIFS($N129:AM129,$N$2:AM$2,\"Year\")+$E129<=$E$1,AK129+$E129,0),IF(AN$2=\"Repair %\",IF(AK129>0,$C129,0),IF(AN$2=\"Spares %\",IF(IF(AI129>0,$C129,0)*5>80%,50%,IF(AI129>0,$C129,0)*5),0))))","v":0},{"$f":"IF(AN129=0,0,IF(AO$2=\"Year\",IF(_xlfn.MAXIFS($N129:AN129,$N$2:AN$2,\"Year\")+$E129<=$E$1,AL129+$E129,0),IF(AO$2=\"Repair %\",IF(AL129>0,$C$3,0),IF(AO$2=\"Spares %\",IF(IF(AL129>0,$C129,0)*100>50%,50%,IF(AL129>0,$C129,0)*100),0))))","v":0},{"$f":"IF(AO129=0,0,IF(AP$2=\"Year\",IF(_xlfn.MAXIFS($N129:AO129,$N$2:AO$2,\"Year\")+$E129<=$E$1,AM129+$E129,0),IF(AP$2=\"Repair %\",IF(AM129>0,$C129,0),IF(AP$2=\"Spares %\",IF(IF(AM129>0,$C129,0)*100>50%,50%,IF(AM129>0,$C129,0)*100),0))))","v":0},{"$f":"IF(AP129=0,0,IF(AQ$2=\"Year\",IF(_xlfn.MAXIFS($N129:AP129,$N$2:AP$2,\"Year\")+$E129<=$E$1,AN129+$E129,0),IF(AQ$2=\"Repair %\",IF(AN129>0,$C129,0),IF(AQ$2=\"Spares %\",IF(IF(AL129>0,$C129,0)*5>80%,50%,IF(AL129>0,$C129,0)*5),0))))","v":0}]
[{"$f":"INDEX('Avionics ID'!A:E,MATCH(B130,'Avionics ID'!E:E,0),1)","v":723},"Multi Mode Receiver (MMR)",0.1,0.06,10,"Obsolecence",{"$f":"SUBSTITUTE(ADDRESS(1,MATCH(A130,'Pt1-AvionicsComponentCosts'!$A$6:$NC$6,0)+1),\"$1\",\"\")","v":"$JV"},{"$f":"_xlfn.TEXTJOIN(\", \",TRUE,_xlfn.UNIQUE(_xlfn._xlws.SORT(_xlfn._xlws.FILTER('Pt1-AvionicsComponentCosts'!$NF$12:$NF$384,ISNUMBER(INDIRECT(\"'Pt1-AvionicsComponentCosts'!\"&G130&\"$12:\"&G130&\"$384\"))))))","v":"A220, A300, A320, A321, A330, A330 LMXT, A330 MRTT, A340, A350, A380, ATR, B717, B737, B747, B757, B767, B777, B787, C919, EMB Regional, MC-21, MD-11, Mil Transport, Military Jet, Military TP, NSA"},null,0.06,0.1,0.35399999999999998,1.829,{"$f":"COUNTIF($N$2:N$2,\"Year\")*$G$1","v":10},null,1,{"$f":"COUNTIF($N$2:Q$2,\"Year\")*$G$1","v":20},{"$f":"IF(Q130=0,0,IF(R$2=\"Year\",IF(_xlfn.MAXIFS($N130:Q130,$N$2:Q$2,\"Year\")+$E130<=$E$1,O130+$E130,0),IF(R$2=\"Repair %\",IF(O130>0,$C130,0),IF(R$2=\"Spares %\",IF(IF(O130>0,$C130,0)*100>50%,50%,IF(O130>0,$C130,0)*100),0))))","v":0},1,{"$f":"COUNTIF($N$2:T$2,\"Year\")*$G$1","v":30},{"$f":"IF(T130=0,0,IF(U$2=\"Year\",IF(_xlfn.MAXIFS($N130:T130,$N$2:T$2,\"Year\")+$E130<=$E$1,R130+$E130,0),IF(U$2=\"Repair %\",IF(R130>0,$C130,0),IF(U$2=\"Spares %\",IF(IF(R130>0,$C130,0)*100>50%,50%,IF(R130>0,$C130,0)*100),0))))","v":0},1,{"$f":"COUNTIF($N$2:W$2,\"Year\")*$G$1","v":40},{"$f":"IF(W130=0,0,IF(X$2=\"Year\",IF(_xlfn.MAXIFS($N130:W130,$N$2:W$2,\"Year\")+$E130<=$E$1,U130+$E130,0),IF(X$2=\"Repair %\",IF(U130>0,$C130,0),IF(X$2=\"Spares %\",IF(IF(U130>0,$C130,0)*100>50%,50%,IF(U130>0,$C130,0)*100),0))))","v":0},1,{"$f":"IF(Y130=0,0,IF(Z$2=\"Year\",IF(_xlfn.MAXIFS($N130:Y130,$N$2:Y$2,\"Year\")+$E130<=$E$1,W130+$E130,0),IF(Z$2=\"Repair %\",IF(W130>0,$C$3,0),IF(Z$2=\"Spares %\",IF(IF(W130>0,$C130,0)*100>50%,50%,IF(W130>0,$C130,0)*100),0))))","v":0},{"$f":"IF(Z130=0,0,IF(AA$2=\"Year\",IF(_xlfn.MAXIFS($N130:Z130,$N$2:Z$2,\"Year\")+$E130<=$E$1,X130+$E130,0),IF(AA$2=\"Repair %\",IF(X130>0,$C130,0),IF(AA$2=\"Spares %\",IF(IF(X130>0,$C130,0)*100>50%,50%,IF(X130>0,$C130,0)*100),0))))","v":0},{"$f":"IF(AA130=0,0,IF(AB$2=\"Year\",IF(_xlfn.MAXIFS($N130:AA130,$N$2:AA$2,\"Year\")+$E130<=$E$1,Y130+$E130,0),IF(AB$2=\"Repair %\",IF(Y130>0,$C130,0),IF(AB$2=\"Spares %\",IF(IF(W130>0,$C130,0)*5>80%,50%,IF(W130>0,$C130,0)*5),0))))","v":0},{"$f":"IF(AB130=0,0,IF(AC$2=\"Year\",IF(_xlfn.MAXIFS($N130:AB130,$N$2:AB$2,\"Year\")+$E130<=$E$1,Z130+$E130,0),IF(AC$2=\"Repair %\",IF(Z130>0,$C$3,0),IF(AC$2=\"Spares %\",IF(IF(Z130>0,$C130,0)*100>50%,50%,IF(Z130>0,$C130,0)*100),0))))","v":0},{"$f":"IF(AC130=0,0,IF(AD$2=\"Year\",IF(_xlfn.MAXIFS($N130:AC130,$N$2:AC$2,\"Year\")+$E130<=$E$1,AA130+$E130,0),IF(AD$2=\"Repair %\",IF(AA130>0,$C130,0),IF(AD$2=\"Spares %\",IF(IF(AA130>0,$C130,0)*100>50%,50%,IF(AA130>0,$C130,0)*100),0))))","v":0},{"$f":"IF(AD130=0,0,IF(AE$2=\"Year\",IF(_xlfn.MAXIFS($N130:AD130,$N$2:AD$2,\"Year\")+$E130<=$E$1,AB130+$E130,0),IF(AE$2=\"Repair %\",IF(AB130>0,$C130,0),IF(AE$2=\"Spares %\",IF(IF(Z130>0,$C130,0)*5>80%,50%,IF(Z130>0,$C130,0)*5),0))))","v":0},{"$f":"IF(AE130=0,0,IF(AF$2=\"Year\",IF(_xlfn.MAXIFS($N130:AE130,$N$2:AE$2,\"Year\")+$E130<=$E$1,AC130+$E130,0),IF(AF$2=\"Repair %\",IF(AC130>0,$C$3,0),IF(AF$2=\"Spares %\",IF(IF(AC130>0,$C130,0)*100>50%,50%,IF(AC130>0,$C130,0)*100),0))))","v":0},{"$f":"IF(AF130=0,0,IF(AG$2=\"Year\",IF(_xlfn.MAXIFS($N130:AF130,$N$2:AF$2,\"Year\")+$E130<=$E$1,AD130+$E130,0),IF(AG$2=\"Repair %\",IF(AD130>0,$C130,0),IF(AG$2=\"Spares %\",IF(IF(AD130>0,$C130,0)*100>50%,50%,IF(AD130>0,$C130,0)*100),0))))","v":0},{"$f":"IF(AG130=0,0,IF(AH$2=\"Year\",IF(_xlfn.MAXIFS($N130:AG130,$N$2:AG$2,\"Year\")+$E130<=$E$1,AE130+$E130,0),IF(AH$2=\"Repair %\",IF(AE130>0,$C130,0),IF(AH$2=\"Spares %\",IF(IF(AC130>0,$C130,0)*5>80%,50%,IF(AC130>0,$C130,0)*5),0))))","v":0},{"$f":"IF(AH130=0,0,IF(AI$2=\"Year\",IF(_xlfn.MAXIFS($N130:AH130,$N$2:AH$2,\"Year\")+$E130<=$E$1,AF130+$E130,0),IF(AI$2=\"Repair %\",IF(AF130>0,$C$3,0),IF(AI$2=\"Spares %\",IF(IF(AF130>0,$C130,0)*100>50%,50%,IF(AF130>0,$C130,0)*100),0))))","v":0},{"$f":"IF(AI130=0,0,IF(AJ$2=\"Year\",IF(_xlfn.MAXIFS($N130:AI130,$N$2:AI$2,\"Year\")+$E130<=$E$1,AG130+$E130,0),IF(AJ$2=\"Repair %\",IF(AG130>0,$C130,0),IF(AJ$2=\"Spares %\",IF(IF(AG130>0,$C130,0)*100>50%,50%,IF(AG130>0,$C130,0)*100),0))))","v":0},{"$f":"IF(AJ130=0,0,IF(AK$2=\"Year\",IF(_xlfn.MAXIFS($N130:AJ130,$N$2:AJ$2,\"Year\")+$E130<=$E$1,AH130+$E130,0),IF(AK$2=\"Repair %\",IF(AH130>0,$C130,0),IF(AK$2=\"Spares %\",IF(IF(AF130>0,$C130,0)*5>80%,50%,IF(AF130>0,$C130,0)*5),0))))","v":0},{"$f":"IF(AK130=0,0,IF(AL$2=\"Year\",IF(_xlfn.MAXIFS($N130:AK130,$N$2:AK$2,\"Year\")+$E130<=$E$1,AI130+$E130,0),IF(AL$2=\"Repair %\",IF(AI130>0,$C$3,0),IF(AL$2=\"Spares %\",IF(IF(AI130>0,$C130,0)*100>50%,50%,IF(AI130>0,$C130,0)*100),0))))","v":0},{"$f":"IF(AL130=0,0,IF(AM$2=\"Year\",IF(_xlfn.MAXIFS($N130:AL130,$N$2:AL$2,\"Year\")+$E130<=$E$1,AJ130+$E130,0),IF(AM$2=\"Repair %\",IF(AJ130>0,$C130,0),IF(AM$2=\"Spares %\",IF(IF(AJ130>0,$C130,0)*100>50%,50%,IF(AJ130>0,$C130,0)*100),0))))","v":0},{"$f":"IF(AM130=0,0,IF(AN$2=\"Year\",IF(_xlfn.MAXIFS($N130:AM130,$N$2:AM$2,\"Year\")+$E130<=$E$1,AK130+$E130,0),IF(AN$2=\"Repair %\",IF(AK130>0,$C130,0),IF(AN$2=\"Spares %\",IF(IF(AI130>0,$C130,0)*5>80%,50%,IF(AI130>0,$C130,0)*5),0))))","v":0},{"$f":"IF(AN130=0,0,IF(AO$2=\"Year\",IF(_xlfn.MAXIFS($N130:AN130,$N$2:AN$2,\"Year\")+$E130<=$E$1,AL130+$E130,0),IF(AO$2=\"Repair %\",IF(AL130>0,$C$3,0),IF(AO$2=\"Spares %\",IF(IF(AL130>0,$C130,0)*100>50%,50%,IF(AL130>0,$C130,0)*100),0))))","v":0},{"$f":"IF(AO130=0,0,IF(AP$2=\"Year\",IF(_xlfn.MAXIFS($N130:AO130,$N$2:AO$2,\"Year\")+$E130<=$E$1,AM130+$E130,0),IF(AP$2=\"Repair %\",IF(AM130>0,$C130,0),IF(AP$2=\"Spares %\",IF(IF(AM130>0,$C130,0)*100>50%,50%,IF(AM130>0,$C130,0)*100),0))))","v":0},{"$f":"IF(AP130=0,0,IF(AQ$2=\"Year\",IF(_xlfn.MAXIFS($N130:AP130,$N$2:AP$2,\"Year\")+$E130<=$E$1,AN130+$E130,0),IF(AQ$2=\"Repair %\",IF(AN130>0,$C130,0),IF(AQ$2=\"Spares %\",IF(IF(AL130>0,$C130,0)*5>80%,50%,IF(AL130>0,$C130,0)*5),0))))","v":0}]
[{"$f":"INDEX('Avionics ID'!A:E,MATCH(B131,'Avionics ID'!E:E,0),1)","v":783},"Multi Scan Hazard Detection System",0.1,0.06,10,"Obsolecence",{"$f":"SUBSTITUTE(ADDRESS(1,MATCH(A131,'Pt1-AvionicsComponentCosts'!$A$6:$NC$6,0)+1),\"$1\",\"\")","v":"$MP"},{"$f":"_xlfn.TEXTJOIN(\", \",TRUE,_xlfn.UNIQUE(_xlfn._xlws.SORT(_xlfn._xlws.FILTER('Pt1-AvionicsComponentCosts'!$NF$12:$NF$384,ISNUMBER(INDIRECT(\"'Pt1-AvionicsComponentCosts'!\"&G131&\"$12:\"&G131&\"$384\"))))))","v":"A350, B747, B777, B787"},null,{"$f":"D131","v":0.06},0.1,0.44800000000000001,1.298,{"$f":"COUNTIF($N$2:N$2,\"Year\")*$G$1","v":10},null,1,{"$f":"COUNTIF($N$2:Q$2,\"Year\")*$G$1","v":20},{"$f":"IF(Q131=0,0,IF(R$2=\"Year\",IF(_xlfn.MAXIFS($N131:Q131,$N$2:Q$2,\"Year\")+$E131<=$E$1,O131+$E131,0),IF(R$2=\"Repair %\",IF(O131>0,$C131,0),IF(R$2=\"Spares %\",IF(IF(O131>0,$C131,0)*100>50%,50%,IF(O131>0,$C131,0)*100),0))))","v":0},{"$f":"IFERROR(IF(INT(Q131/$E131)=Q131/$E131,100%,IF(Q131/$E131<0,0,MOD($E131,$G$1)/10)),0)","v":1},{"$f":"COUNTIF($N$2:T$2,\"Year\")*$G$1","v":30},{"$f":"IF(T131=0,0,IF(U$2=\"Year\",IF(_xlfn.MAXIFS($N131:T131,$N$2:T$2,\"Year\")+$E131<=$E$1,R131+$E131,0),IF(U$2=\"Repair %\",IF(R131>0,$C131,0),IF(U$2=\"Spares %\",IF(IF(R131>0,$C131,0)*100>50%,50%,IF(R131>0,$C131,0)*100),0))))","v":0},{"$f":"IFERROR(IF(INT(T131/$E131)=T131/$E131,100%,IF(T131/$E131<0,0,MOD($E131,$G$1)/10)),0)","v":1},{"$f":"COUNTIF($N$2:W$2,\"Year\")*$G$1","v":40},{"$f":"IF(W131=0,0,IF(X$2=\"Year\",IF(_xlfn.MAXIFS($N131:W131,$N$2:W$2,\"Year\")+$E131<=$E$1,U131+$E131,0),IF(X$2=\"Repair %\",IF(U131>0,$C131,0),IF(X$2=\"Spares %\",IF(IF(U131>0,$C131,0)*100>50%,50%,IF(U131>0,$C131,0)*100),0))))","v":0},{"$f":"IFERROR(IF(INT(W131/$E131)=W131/$E131,100%,IF(W131/$E131<0,0,MOD($E131,$G$1)/10)),0)","v":1},{"$f":"IF(Y131=0,0,IF(Z$2=\"Year\",IF(_xlfn.MAXIFS($N131:Y131,$N$2:Y$2,\"Year\")+$E131<=$E$1,W131+$E131,0),IF(Z$2=\"Repair %\",IF(W131>0,$C$3,0),IF(Z$2=\"Spares %\",IF(IF(W131>0,$C131,0)*100>50%,50%,IF(W131>0,$C131,0)*100),0))))","v":0},{"$f":"IF(Z131=0,0,IF(AA$2=\"Year\",IF(_xlfn.MAXIFS($N131:Z131,$N$2:Z$2,\"Year\")+$E131<=$E$1,X131+$E131,0),IF(AA$2=\"Repair %\",IF(X131>0,$C131,0),IF(AA$2=\"Spares %\",IF(IF(X131>0,$C131,0)*100>50%,50%,IF(X131>0,$C131,0)*100),0))))","v":0},{"$f":"IF(AA131=0,0,IF(AB$2=\"Year\",IF(_xlfn.MAXIFS($N131:AA131,$N$2:AA$2,\"Year\")+$E131<=$E$1,Y131+$E131,0),IF(AB$2=\"Repair %\",IF(Y131>0,$C131,0),IF(AB$2=\"Spares %\",IF(IF(W131>0,$C131,0)*5>80%,50%,IF(W131>0,$C131,0)*5),0))))","v":0},{"$f":"IF(AB131=0,0,IF(AC$2=\"Year\",IF(_xlfn.MAXIFS($N131:AB131,$N$2:AB$2,\"Year\")+$E131<=$E$1,Z131+$E131,0),IF(AC$2=\"Repair %\",IF(Z131>0,$C$3,0),IF(AC$2=\"Spares %\",IF(IF(Z131>0,$C131,0)*100>50%,50%,IF(Z131>0,$C131,0)*100),0))))","v":0},{"$f":"IF(AC131=0,0,IF(AD$2=\"Year\",IF(_xlfn.MAXIFS($N131:AC131,$N$2:AC$2,\"Year\")+$E131<=$E$1,AA131+$E131,0),IF(AD$2=\"Repair %\",IF(AA131>0,$C131,0),IF(AD$2=\"Spares %\",IF(IF(AA131>0,$C131,0)*100>50%,50%,IF(AA131>0,$C131,0)*100),0))))","v":0},{"$f":"IF(AD131=0,0,IF(AE$2=\"Year\",IF(_xlfn.MAXIFS($N131:AD131,$N$2:AD$2,\"Year\")+$E131<=$E$1,AB131+$E131,0),IF(AE$2=\"Repair %\",IF(AB131>0,$C131,0),IF(AE$2=\"Spares %\",IF(IF(Z131>0,$C131,0)*5>80%,50%,IF(Z131>0,$C131,0)*5),0))))","v":0},{"$f":"IF(AE131=0,0,IF(AF$2=\"Year\",IF(_xlfn.MAXIFS($N131:AE131,$N$2:AE$2,\"Year\")+$E131<=$E$1,AC131+$E131,0),IF(AF$2=\"Repair %\",IF(AC131>0,$C$3,0),IF(AF$2=\"Spares %\",IF(IF(AC131>0,$C131,0)*100>50%,50%,IF(AC131>0,$C131,0)*100),0))))","v":0},{"$f":"IF(AF131=0,0,IF(AG$2=\"Year\",IF(_xlfn.MAXIFS($N131:AF131,$N$2:AF$2,\"Year\")+$E131<=$E$1,AD131+$E131,0),IF(AG$2=\"Repair %\",IF(AD131>0,$C131,0),IF(AG$2=\"Spares %\",IF(IF(AD131>0,$C131,0)*100>50%,50%,IF(AD131>0,$C131,0)*100),0))))","v":0},{"$f":"IF(AG131=0,0,IF(AH$2=\"Year\",IF(_xlfn.MAXIFS($N131:AG131,$N$2:AG$2,\"Year\")+$E131<=$E$1,AE131+$E131,0),IF(AH$2=\"Repair %\",IF(AE131>0,$C131,0),IF(AH$2=\"Spares %\",IF(IF(AC131>0,$C131,0)*5>80%,50%,IF(AC131>0,$C131,0)*5),0))))","v":0},{"$f":"IF(AH131=0,0,IF(AI$2=\"Year\",IF(_xlfn.MAXIFS($N131:AH131,$N$2:AH$2,\"Year\")+$E131<=$E$1,AF131+$E131,0),IF(AI$2=\"Repair %\",IF(AF131>0,$C$3,0),IF(AI$2=\"Spares %\",IF(IF(AF131>0,$C131,0)*100>50%,50%,IF(AF131>0,$C131,0)*100),0))))","v":0},{"$f":"IF(AI131=0,0,IF(AJ$2=\"Year\",IF(_xlfn.MAXIFS($N131:AI131,$N$2:AI$2,\"Year\")+$E131<=$E$1,AG131+$E131,0),IF(AJ$2=\"Repair %\",IF(AG131>0,$C131,0),IF(AJ$2=\"Spares %\",IF(IF(AG131>0,$C131,0)*100>50%,50%,IF(AG131>0,$C131,0)*100),0))))","v":0},{"$f":"IF(AJ131=0,0,IF(AK$2=\"Year\",IF(_xlfn.MAXIFS($N131:AJ131,$N$2:AJ$2,\"Year\")+$E131<=$E$1,AH131+$E131,0),IF(AK$2=\"Repair %\",IF(AH131>0,$C131,0),IF(AK$2=\"Spares %\",IF(IF(AF131>0,$C131,0)*5>80%,50%,IF(AF131>0,$C131,0)*5),0))))","v":0},{"$f":"IF(AK131=0,0,IF(AL$2=\"Year\",IF(_xlfn.MAXIFS($N131:AK131,$N$2:AK$2,\"Year\")+$E131<=$E$1,AI131+$E131,0),IF(AL$2=\"Repair %\",IF(AI131>0,$C$3,0),IF(AL$2=\"Spares %\",IF(IF(AI131>0,$C131,0)*100>50%,50%,IF(AI131>0,$C131,0)*100),0))))","v":0},{"$f":"IF(AL131=0,0,IF(AM$2=\"Year\",IF(_xlfn.MAXIFS($N131:AL131,$N$2:AL$2,\"Year\")+$E131<=$E$1,AJ131+$E131,0),IF(AM$2=\"Repair %\",IF(AJ131>0,$C131,0),IF(AM$2=\"Spares %\",IF(IF(AJ131>0,$C131,0)*100>50%,50%,IF(AJ131>0,$C131,0)*100),0))))","v":0},{"$f":"IF(AM131=0,0,IF(AN$2=\"Year\",IF(_xlfn.MAXIFS($N131:AM131,$N$2:AM$2,\"Year\")+$E131<=$E$1,AK131+$E131,0),IF(AN$2=\"Repair %\",IF(AK131>0,$C131,0),IF(AN$2=\"Spares %\",IF(IF(AI131>0,$C131,0)*5>80%,50%,IF(AI131>0,$C131,0)*5),0))))","v":0},{"$f":"IF(AN131=0,0,IF(AO$2=\"Year\",IF(_xlfn.MAXIFS($N131:AN131,$N$2:AN$2,\"Year\")+$E131<=$E$1,AL131+$E131,0),IF(AO$2=\"Repair %\",IF(AL131>0,$C$3,0),IF(AO$2=\"Spares %\",IF(IF(AL131>0,$C131,0)*100>50%,50%,IF(AL131>0,$C131,0)*100),0))))","v":0},{"$f":"IF(AO131=0,0,IF(AP$2=\"Year\",IF(_xlfn.MAXIFS($N131:AO131,$N$2:AO$2,\"Year\")+$E131<=$E$1,AM131+$E131,0),IF(AP$2=\"Repair %\",IF(AM131>0,$C131,0),IF(AP$2=\"Spares %\",IF(IF(AM131>0,$C131,0)*100>50%,50%,IF(AM131>0,$C131,0)*100),0))))","v":0},{"$f":"IF(AP131=0,0,IF(AQ$2=\"Year\",IF(_xlfn.MAXIFS($N131:AP131,$N$2:AP$2,\"Year\")+$E131<=$E$1,AN131+$E131,0),IF(AQ$2=\"Repair %\",IF(AN131>0,$C131,0),IF(AQ$2=\"Spares %\",IF(IF(AL131>0,$C131,0)*5>80%,50%,IF(AL131>0,$C131,0)*5),0))))","v":0}]
[{"$f":"INDEX('Avionics ID'!A:E,MATCH(B132,'Avionics ID'!E:E,0),1)","v":865},"Multi spectral camera",{"$f":"IFERROR(100%/E132,0)","v":0.05},0.06,20,{"$f":"IF(E132=0,\"\",IF(E132<10,\"Technology / regulatory\",\"Obsolecence\"))","v":"Obsolecence"},{"$f":"SUBSTITUTE(ADDRESS(1,MATCH(A132,'Pt1-AvionicsComponentCosts'!$A$6:$NC$6,0)+1),\"$1\",\"\")","v":"$MR"},{"$f":"_xlfn.TEXTJOIN(\", \",TRUE,_xlfn.UNIQUE(_xlfn._xlws.SORT(_xlfn._xlws.FILTER('Pt1-AvionicsComponentCosts'!$NF$12:$NF$384,ISNUMBER(INDIRECT(\"'Pt1-AvionicsComponentCosts'!\"&G132&\"$12:\"&G132&\"$384\"))))))","v":"UAV"},null,0.06,{"$f":"ROUND(C132,2)","v":0.05},0.44800000000000001,1.298,{"$f":"COUNTIF($N$2:N$2,\"Year\")*$G$1","v":10},null,{"$f":"IFERROR(IF(INT(N132/$E132)=N132/$E132,100%,IF(N132/$E132<0,0,MOD($E132,N132)/10)),0)","v":0},{"$f":"COUNTIF($N$2:Q$2,\"Year\")*$G$1","v":20},{"$f":"IF(Q132=0,0,IF(R$2=\"Year\",IF(_xlfn.MAXIFS($N132:Q132,$N$2:Q$2,\"Year\")+$E132<=$E$1,O132+$E132,0),IF(R$2=\"Repair %\",IF(O132>0,$C132,0),IF(R$2=\"Spares %\",IF(IF(O132>0,$C132,0)*100>50%,50%,IF(O132>0,$C132,0)*100),0))))","v":0},1,{"$f":"COUNTIF($N$2:T$2,\"Year\")*$G$1","v":30},{"$f":"IF(T132=0,0,IF(U$2=\"Year\",IF(_xlfn.MAXIFS($N132:T132,$N$2:T$2,\"Year\")+$E132<=$E$1,R132+$E132,0),IF(U$2=\"Repair %\",IF(R132>0,$C132,0),IF(U$2=\"Spares %\",IF(IF(R132>0,$C132,0)*100>50%,50%,IF(R132>0,$C132,0)*100),0))))","v":0},0,{"$f":"COUNTIF($N$2:W$2,\"Year\")*$G$1","v":40},{"$f":"IF(W132=0,0,IF(X$2=\"Year\",IF(_xlfn.MAXIFS($N132:W132,$N$2:W$2,\"Year\")+$E132<=$E$1,U132+$E132,0),IF(X$2=\"Repair %\",IF(U132>0,$C132,0),IF(X$2=\"Spares %\",IF(IF(U132>0,$C132,0)*100>50%,50%,IF(U132>0,$C132,0)*100),0))))","v":0},1,{"$f":"IF(Y132=0,0,IF(Z$2=\"Year\",IF(_xlfn.MAXIFS($N132:Y132,$N$2:Y$2,\"Year\")+$E132<=$E$1,W132+$E132,0),IF(Z$2=\"Repair %\",IF(W132>0,$C$3,0),IF(Z$2=\"Spares %\",IF(IF(W132>0,$C132,0)*100>50%,50%,IF(W132>0,$C132,0)*100),0))))","v":0},{"$f":"IF(Z132=0,0,IF(AA$2=\"Year\",IF(_xlfn.MAXIFS($N132:Z132,$N$2:Z$2,\"Year\")+$E132<=$E$1,X132+$E132,0),IF(AA$2=\"Repair %\",IF(X132>0,$C132,0),IF(AA$2=\"Spares %\",IF(IF(X132>0,$C132,0)*100>50%,50%,IF(X132>0,$C132,0)*100),0))))","v":0},{"$f":"IF(AA132=0,0,IF(AB$2=\"Year\",IF(_xlfn.MAXIFS($N132:AA132,$N$2:AA$2,\"Year\")+$E132<=$E$1,Y132+$E132,0),IF(AB$2=\"Repair %\",IF(Y132>0,$C132,0),IF(AB$2=\"Spares %\",IF(IF(W132>0,$C132,0)*5>80%,50%,IF(W132>0,$C132,0)*5),0))))","v":0},{"$f":"IF(AB132=0,0,IF(AC$2=\"Year\",IF(_xlfn.MAXIFS($N132:AB132,$N$2:AB$2,\"Year\")+$E132<=$E$1,Z132+$E132,0),IF(AC$2=\"Repair %\",IF(Z132>0,$C$3,0),IF(AC$2=\"Spares %\",IF(IF(Z132>0,$C132,0)*100>50%,50%,IF(Z132>0,$C132,0)*100),0))))","v":0},{"$f":"IF(AC132=0,0,IF(AD$2=\"Year\",IF(_xlfn.MAXIFS($N132:AC132,$N$2:AC$2,\"Year\")+$E132<=$E$1,AA132+$E132,0),IF(AD$2=\"Repair %\",IF(AA132>0,$C132,0),IF(AD$2=\"Spares %\",IF(IF(AA132>0,$C132,0)*100>50%,50%,IF(AA132>0,$C132,0)*100),0))))","v":0},{"$f":"IF(AD132=0,0,IF(AE$2=\"Year\",IF(_xlfn.MAXIFS($N132:AD132,$N$2:AD$2,\"Year\")+$E132<=$E$1,AB132+$E132,0),IF(AE$2=\"Repair %\",IF(AB132>0,$C132,0),IF(AE$2=\"Spares %\",IF(IF(Z132>0,$C132,0)*5>80%,50%,IF(Z132>0,$C132,0)*5),0))))","v":0},{"$f":"IF(AE132=0,0,IF(AF$2=\"Year\",IF(_xlfn.MAXIFS($N132:AE132,$N$2:AE$2,\"Year\")+$E132<=$E$1,AC132+$E132,0),IF(AF$2=\"Repair %\",IF(AC132>0,$C$3,0),IF(AF$2=\"Spares %\",IF(IF(AC132>0,$C132,0)*100>50%,50%,IF(AC132>0,$C132,0)*100),0))))","v":0},{"$f":"IF(AF132=0,0,IF(AG$2=\"Year\",IF(_xlfn.MAXIFS($N132:AF132,$N$2:AF$2,\"Year\")+$E132<=$E$1,AD132+$E132,0),IF(AG$2=\"Repair %\",IF(AD132>0,$C132,0),IF(AG$2=\"Spares %\",IF(IF(AD132>0,$C132,0)*100>50%,50%,IF(AD132>0,$C132,0)*100),0))))","v":0},{"$f":"IF(AG132=0,0,IF(AH$2=\"Year\",IF(_xlfn.MAXIFS($N132:AG132,$N$2:AG$2,\"Year\")+$E132<=$E$1,AE132+$E132,0),IF(AH$2=\"Repair %\",IF(AE132>0,$C132,0),IF(AH$2=\"Spares %\",IF(IF(AC132>0,$C132,0)*5>80%,50%,IF(AC132>0,$C132,0)*5),0))))","v":0},{"$f":"IF(AH132=0,0,IF(AI$2=\"Year\",IF(_xlfn.MAXIFS($N132:AH132,$N$2:AH$2,\"Year\")+$E132<=$E$1,AF132+$E132,0),IF(AI$2=\"Repair %\",IF(AF132>0,$C$3,0),IF(AI$2=\"Spares %\",IF(IF(AF132>0,$C132,0)*100>50%,50%,IF(AF132>0,$C132,0)*100),0))))","v":0},{"$f":"IF(AI132=0,0,IF(AJ$2=\"Year\",IF(_xlfn.MAXIFS($N132:AI132,$N$2:AI$2,\"Year\")+$E132<=$E$1,AG132+$E132,0),IF(AJ$2=\"Repair %\",IF(AG132>0,$C132,0),IF(AJ$2=\"Spares %\",IF(IF(AG132>0,$C132,0)*100>50%,50%,IF(AG132>0,$C132,0)*100),0))))","v":0},{"$f":"IF(AJ132=0,0,IF(AK$2=\"Year\",IF(_xlfn.MAXIFS($N132:AJ132,$N$2:AJ$2,\"Year\")+$E132<=$E$1,AH132+$E132,0),IF(AK$2=\"Repair %\",IF(AH132>0,$C132,0),IF(AK$2=\"Spares %\",IF(IF(AF132>0,$C132,0)*5>80%,50%,IF(AF132>0,$C132,0)*5),0))))","v":0},{"$f":"IF(AK132=0,0,IF(AL$2=\"Year\",IF(_xlfn.MAXIFS($N132:AK132,$N$2:AK$2,\"Year\")+$E132<=$E$1,AI132+$E132,0),IF(AL$2=\"Repair %\",IF(AI132>0,$C$3,0),IF(AL$2=\"Spares %\",IF(IF(AI132>0,$C132,0)*100>50%,50%,IF(AI132>0,$C132,0)*100),0))))","v":0},{"$f":"IF(AL132=0,0,IF(AM$2=\"Year\",IF(_xlfn.MAXIFS($N132:AL132,$N$2:AL$2,\"Year\")+$E132<=$E$1,AJ132+$E132,0),IF(AM$2=\"Repair %\",IF(AJ132>0,$C132,0),IF(AM$2=\"Spares %\",IF(IF(AJ132>0,$C132,0)*100>50%,50%,IF(AJ132>0,$C132,0)*100),0))))","v":0},{"$f":"IF(AM132=0,0,IF(AN$2=\"Year\",IF(_xlfn.MAXIFS($N132:AM132,$N$2:AM$2,\"Year\")+$E132<=$E$1,AK132+$E132,0),IF(AN$2=\"Repair %\",IF(AK132>0,$C132,0),IF(AN$2=\"Spares %\",IF(IF(AI132>0,$C132,0)*5>80%,50%,IF(AI132>0,$C132,0)*5),0))))","v":0},{"$f":"IF(AN132=0,0,IF(AO$2=\"Year\",IF(_xlfn.MAXIFS($N132:AN132,$N$2:AN$2,\"Year\")+$E132<=$E$1,AL132+$E132,0),IF(AO$2=\"Repair %\",IF(AL132>0,$C$3,0),IF(AO$2=\"Spares %\",IF(IF(AL132>0,$C132,0)*100>50%,50%,IF(AL132>0,$C132,0)*100),0))))","v":0},{"$f":"IF(AO132=0,0,IF(AP$2=\"Year\",IF(_xlfn.MAXIFS($N132:AO132,$N$2:AO$2,\"Year\")+$E132<=$E$1,AM132+$E132,0),IF(AP$2=\"Repair %\",IF(AM132>0,$C132,0),IF(AP$2=\"Spares %\",IF(IF(AM132>0,$C132,0)*100>50%,50%,IF(AM132>0,$C132,0)*100),0))))","v":0},{"$f":"IF(AP132=0,0,IF(AQ$2=\"Year\",IF(_xlfn.MAXIFS($N132:AP132,$N$2:AP$2,\"Year\")+$E132<=$E$1,AN132+$E132,0),IF(AQ$2=\"Repair %\",IF(AN132>0,$C132,0),IF(AQ$2=\"Spares %\",IF(IF(AL132>0,$C132,0)*5>80%,50%,IF(AL132>0,$C132,0)*5),0))))","v":0}]
[{"$f":"INDEX('Avionics ID'!A:E,MATCH(B133,'Avionics ID'!E:E,0),1)","v":727},"Navigation display (EFIS)",0.1,0.06,10,"Obsolecence",{"$f":"SUBSTITUTE(ADDRESS(1,MATCH(A133,'Pt1-AvionicsComponentCosts'!$A$6:$NC$6,0)+1),\"$1\",\"\")","v":"$FN"},{"$f":"_xlfn.TEXTJOIN(\", \",TRUE,_xlfn.UNIQUE(_xlfn._xlws.SORT(_xlfn._xlws.FILTER('Pt1-AvionicsComponentCosts'!$NF$12:$NF$384,ISNUMBER(INDIRECT(\"'Pt1-AvionicsComponentCosts'!\"&G133&\"$12:\"&G133&\"$384\"))))))","v":"A220, A320, A321, ATR, B717, B737, B757, C919, Challenger, Citation, E550, EMB Bizjet, EMB Regional, Falcon, Global, Gulfstream, Hawker, Hondajet, Learjet, MC-21, Mil Transport, Military Jet, Nextant 400XT, NSA, PC-24, Phenom, Praetor, SF50"},null,0.06,0.1,0.35299999999999998,1.8460000000000001,{"$f":"COUNTIF($N$2:N$2,\"Year\")*$G$1","v":10},null,1,{"$f":"COUNTIF($N$2:Q$2,\"Year\")*$G$1","v":20},{"$f":"IF(Q133=0,0,IF(R$2=\"Year\",IF(_xlfn.MAXIFS($N133:Q133,$N$2:Q$2,\"Year\")+$E133<=$E$1,O133+$E133,0),IF(R$2=\"Repair %\",IF(O133>0,$C133,0),IF(R$2=\"Spares %\",IF(IF(O133>0,$C133,0)*100>50%,50%,IF(O133>0,$C133,0)*100),0))))","v":0},1,{"$f":"COUNTIF($N$2:T$2,\"Year\")*$G$1","v":30},{"$f":"IF(T133=0,0,IF(U$2=\"Year\",IF(_xlfn.MAXIFS($N133:T133,$N$2:T$2,\"Year\")+$E133<=$E$1,R133+$E133,0),IF(U$2=\"Repair %\",IF(R133>0,$C133,0),IF(U$2=\"Spares %\",IF(IF(R133>0,$C133,0)*100>50%,50%,IF(R133>0,$C133,0)*100),0))))","v":0},1,{"$f":"COUNTIF($N$2:W$2,\"Year\")*$G$1","v":40},{"$f":"IF(W133=0,0,IF(X$2=\"Year\",IF(_xlfn.MAXIFS($N133:W133,$N$2:W$2,\"Year\")+$E133<=$E$1,U133+$E133,0),IF(X$2=\"Repair %\",IF(U133>0,$C133,0),IF(X$2=\"Spares %\",IF(IF(U133>0,$C133,0)*100>50%,50%,IF(U133>0,$C133,0)*100),0))))","v":0},1,{"$f":"IF(Y133=0,0,IF(Z$2=\"Year\",IF(_xlfn.MAXIFS($N133:Y133,$N$2:Y$2,\"Year\")+$E133<=$E$1,W133+$E133,0),IF(Z$2=\"Repair %\",IF(W133>0,$C$3,0),IF(Z$2=\"Spares %\",IF(IF(W133>0,$C133,0)*100>50%,50%,IF(W133>0,$C133,0)*100),0))))","v":0},{"$f":"IF(Z133=0,0,IF(AA$2=\"Year\",IF(_xlfn.MAXIFS($N133:Z133,$N$2:Z$2,\"Year\")+$E133<=$E$1,X133+$E133,0),IF(AA$2=\"Repair %\",IF(X133>0,$C133,0),IF(AA$2=\"Spares %\",IF(IF(X133>0,$C133,0)*100>50%,50%,IF(X133>0,$C133,0)*100),0))))","v":0},{"$f":"IF(AA133=0,0,IF(AB$2=\"Year\",IF(_xlfn.MAXIFS($N133:AA133,$N$2:AA$2,\"Year\")+$E133<=$E$1,Y133+$E133,0),IF(AB$2=\"Repair %\",IF(Y133>0,$C133,0),IF(AB$2=\"Spares %\",IF(IF(W133>0,$C133,0)*5>80%,50%,IF(W133>0,$C133,0)*5),0))))","v":0},{"$f":"IF(AB133=0,0,IF(AC$2=\"Year\",IF(_xlfn.MAXIFS($N133:AB133,$N$2:AB$2,\"Year\")+$E133<=$E$1,Z133+$E133,0),IF(AC$2=\"Repair %\",IF(Z133>0,$C$3,0),IF(AC$2=\"Spares %\",IF(IF(Z133>0,$C133,0)*100>50%,50%,IF(Z133>0,$C133,0)*100),0))))","v":0},{"$f":"IF(AC133=0,0,IF(AD$2=\"Year\",IF(_xlfn.MAXIFS($N133:AC133,$N$2:AC$2,\"Year\")+$E133<=$E$1,AA133+$E133,0),IF(AD$2=\"Repair %\",IF(AA133>0,$C133,0),IF(AD$2=\"Spares %\",IF(IF(AA133>0,$C133,0)*100>50%,50%,IF(AA133>0,$C133,0)*100),0))))","v":0},{"$f":"IF(AD133=0,0,IF(AE$2=\"Year\",IF(_xlfn.MAXIFS($N133:AD133,$N$2:AD$2,\"Year\")+$E133<=$E$1,AB133+$E133,0),IF(AE$2=\"Repair %\",IF(AB133>0,$C133,0),IF(AE$2=\"Spares %\",IF(IF(Z133>0,$C133,0)*5>80%,50%,IF(Z133>0,$C133,0)*5),0))))","v":0},{"$f":"IF(AE133=0,0,IF(AF$2=\"Year\",IF(_xlfn.MAXIFS($N133:AE133,$N$2:AE$2,\"Year\")+$E133<=$E$1,AC133+$E133,0),IF(AF$2=\"Repair %\",IF(AC133>0,$C$3,0),IF(AF$2=\"Spares %\",IF(IF(AC133>0,$C133,0)*100>50%,50%,IF(AC133>0,$C133,0)*100),0))))","v":0},{"$f":"IF(AF133=0,0,IF(AG$2=\"Year\",IF(_xlfn.MAXIFS($N133:AF133,$N$2:AF$2,\"Year\")+$E133<=$E$1,AD133+$E133,0),IF(AG$2=\"Repair %\",IF(AD133>0,$C133,0),IF(AG$2=\"Spares %\",IF(IF(AD133>0,$C133,0)*100>50%,50%,IF(AD133>0,$C133,0)*100),0))))","v":0},{"$f":"IF(AG133=0,0,IF(AH$2=\"Year\",IF(_xlfn.MAXIFS($N133:AG133,$N$2:AG$2,\"Year\")+$E133<=$E$1,AE133+$E133,0),IF(AH$2=\"Repair %\",IF(AE133>0,$C133,0),IF(AH$2=\"Spares %\",IF(IF(AC133>0,$C133,0)*5>80%,50%,IF(AC133>0,$C133,0)*5),0))))","v":0},{"$f":"IF(AH133=0,0,IF(AI$2=\"Year\",IF(_xlfn.MAXIFS($N133:AH133,$N$2:AH$2,\"Year\")+$E133<=$E$1,AF133+$E133,0),IF(AI$2=\"Repair %\",IF(AF133>0,$C$3,0),IF(AI$2=\"Spares %\",IF(IF(AF133>0,$C133,0)*100>50%,50%,IF(AF133>0,$C133,0)*100),0))))","v":0},{"$f":"IF(AI133=0,0,IF(AJ$2=\"Year\",IF(_xlfn.MAXIFS($N133:AI133,$N$2:AI$2,\"Year\")+$E133<=$E$1,AG133+$E133,0),IF(AJ$2=\"Repair %\",IF(AG133>0,$C133,0),IF(AJ$2=\"Spares %\",IF(IF(AG133>0,$C133,0)*100>50%,50%,IF(AG133>0,$C133,0)*100),0))))","v":0},{"$f":"IF(AJ133=0,0,IF(AK$2=\"Year\",IF(_xlfn.MAXIFS($N133:AJ133,$N$2:AJ$2,\"Year\")+$E133<=$E$1,AH133+$E133,0),IF(AK$2=\"Repair %\",IF(AH133>0,$C133,0),IF(AK$2=\"Spares %\",IF(IF(AF133>0,$C133,0)*5>80%,50%,IF(AF133>0,$C133,0)*5),0))))","v":0},{"$f":"IF(AK133=0,0,IF(AL$2=\"Year\",IF(_xlfn.MAXIFS($N133:AK133,$N$2:AK$2,\"Year\")+$E133<=$E$1,AI133+$E133,0),IF(AL$2=\"Repair %\",IF(AI133>0,$C$3,0),IF(AL$2=\"Spares %\",IF(IF(AI133>0,$C133,0)*100>50%,50%,IF(AI133>0,$C133,0)*100),0))))","v":0},{"$f":"IF(AL133=0,0,IF(AM$2=\"Year\",IF(_xlfn.MAXIFS($N133:AL133,$N$2:AL$2,\"Year\")+$E133<=$E$1,AJ133+$E133,0),IF(AM$2=\"Repair %\",IF(AJ133>0,$C133,0),IF(AM$2=\"Spares %\",IF(IF(AJ133>0,$C133,0)*100>50%,50%,IF(AJ133>0,$C133,0)*100),0))))","v":0},{"$f":"IF(AM133=0,0,IF(AN$2=\"Year\",IF(_xlfn.MAXIFS($N133:AM133,$N$2:AM$2,\"Year\")+$E133<=$E$1,AK133+$E133,0),IF(AN$2=\"Repair %\",IF(AK133>0,$C133,0),IF(AN$2=\"Spares %\",IF(IF(AI133>0,$C133,0)*5>80%,50%,IF(AI133>0,$C133,0)*5),0))))","v":0},{"$f":"IF(AN133=0,0,IF(AO$2=\"Year\",IF(_xlfn.MAXIFS($N133:AN133,$N$2:AN$2,\"Year\")+$E133<=$E$1,AL133+$E133,0),IF(AO$2=\"Repair %\",IF(AL133>0,$C$3,0),IF(AO$2=\"Spares %\",IF(IF(AL133>0,$C133,0)*100>50%,50%,IF(AL133>0,$C133,0)*100),0))))","v":0},{"$f":"IF(AO133=0,0,IF(AP$2=\"Year\",IF(_xlfn.MAXIFS($N133:AO133,$N$2:AO$2,\"Year\")+$E133<=$E$1,AM133+$E133,0),IF(AP$2=\"Repair %\",IF(AM133>0,$C133,0),IF(AP$2=\"Spares %\",IF(IF(AM133>0,$C133,0)*100>50%,50%,IF(AM133>0,$C133,0)*100),0))))","v":0},{"$f":"IF(AP133=0,0,IF(AQ$2=\"Year\",IF(_xlfn.MAXIFS($N133:AP133,$N$2:AP$2,\"Year\")+$E133<=$E$1,AN133+$E133,0),IF(AQ$2=\"Repair %\",IF(AN133>0,$C133,0),IF(AQ$2=\"Spares %\",IF(IF(AL133>0,$C133,0)*5>80%,50%,IF(AL133>0,$C133,0)*5),0))))","v":0}]
[{"$f":"INDEX('Avionics ID'!A:E,MATCH(B134,'Avionics ID'!E:E,0),1)","v":817},"Navigation receiver",0.05,0.06,20,"Obsolecence",{"$f":"SUBSTITUTE(ADDRESS(1,MATCH(A134,'Pt1-AvionicsComponentCosts'!$A$6:$NC$6,0)+1),\"$1\",\"\")","v":"$JX"},{"$f":"_xlfn.TEXTJOIN(\", \",TRUE,_xlfn.UNIQUE(_xlfn._xlws.SORT(_xlfn._xlws.FILTER('Pt1-AvionicsComponentCosts'!$NF$12:$NF$384,ISNUMBER(INDIRECT(\"'Pt1-AvionicsComponentCosts'!\"&G134&\"$12:\"&G134&\"$384\"))))))","v":"Mil Fighter"},null,0.06,0.05,0.35399999999999998,1.829,{"$f":"COUNTIF($N$2:N$2,\"Year\")*$G$1","v":10},null,0,{"$f":"COUNTIF($N$2:Q$2,\"Year\")*$G$1","v":20},{"$f":"IF(Q134=0,0,IF(R$2=\"Year\",IF(_xlfn.MAXIFS($N134:Q134,$N$2:Q$2,\"Year\")+$E134<=$E$1,O134+$E134,0),IF(R$2=\"Repair %\",IF(O134>0,$C134,0),IF(R$2=\"Spares %\",IF(IF(O134>0,$C134,0)*100>50%,50%,IF(O134>0,$C134,0)*100),0))))","v":0},1,{"$f":"COUNTIF($N$2:T$2,\"Year\")*$G$1","v":30},{"$f":"IF(T134=0,0,IF(U$2=\"Year\",IF(_xlfn.MAXIFS($N134:T134,$N$2:T$2,\"Year\")+$E134<=$E$1,R134+$E134,0),IF(U$2=\"Repair %\",IF(R134>0,$C134,0),IF(U$2=\"Spares %\",IF(IF(R134>0,$C134,0)*100>50%,50%,IF(R134>0,$C134,0)*100),0))))","v":0},0,{"$f":"COUNTIF($N$2:W$2,\"Year\")*$G$1","v":40},{"$f":"IF(W134=0,0,IF(X$2=\"Year\",IF(_xlfn.MAXIFS($N134:W134,$N$2:W$2,\"Year\")+$E134<=$E$1,U134+$E134,0),IF(X$2=\"Repair %\",IF(U134>0,$C134,0),IF(X$2=\"Spares %\",IF(IF(U134>0,$C134,0)*100>50%,50%,IF(U134>0,$C134,0)*100),0))))","v":0},1,{"$f":"IF(Y134=0,0,IF(Z$2=\"Year\",IF(_xlfn.MAXIFS($N134:Y134,$N$2:Y$2,\"Year\")+$E134<=$E$1,W134+$E134,0),IF(Z$2=\"Repair %\",IF(W134>0,$C$3,0),IF(Z$2=\"Spares %\",IF(IF(W134>0,$C134,0)*100>50%,50%,IF(W134>0,$C134,0)*100),0))))","v":0},{"$f":"IF(Z134=0,0,IF(AA$2=\"Year\",IF(_xlfn.MAXIFS($N134:Z134,$N$2:Z$2,\"Year\")+$E134<=$E$1,X134+$E134,0),IF(AA$2=\"Repair %\",IF(X134>0,$C134,0),IF(AA$2=\"Spares %\",IF(IF(X134>0,$C134,0)*100>50%,50%,IF(X134>0,$C134,0)*100),0))))","v":0},{"$f":"IF(AA134=0,0,IF(AB$2=\"Year\",IF(_xlfn.MAXIFS($N134:AA134,$N$2:AA$2,\"Year\")+$E134<=$E$1,Y134+$E134,0),IF(AB$2=\"Repair %\",IF(Y134>0,$C134,0),IF(AB$2=\"Spares %\",IF(IF(W134>0,$C134,0)*5>80%,50%,IF(W134>0,$C134,0)*5),0))))","v":0},{"$f":"IF(AB134=0,0,IF(AC$2=\"Year\",IF(_xlfn.MAXIFS($N134:AB134,$N$2:AB$2,\"Year\")+$E134<=$E$1,Z134+$E134,0),IF(AC$2=\"Repair %\",IF(Z134>0,$C$3,0),IF(AC$2=\"Spares %\",IF(IF(Z134>0,$C134,0)*100>50%,50%,IF(Z134>0,$C134,0)*100),0))))","v":0},{"$f":"IF(AC134=0,0,IF(AD$2=\"Year\",IF(_xlfn.MAXIFS($N134:AC134,$N$2:AC$2,\"Year\")+$E134<=$E$1,AA134+$E134,0),IF(AD$2=\"Repair %\",IF(AA134>0,$C134,0),IF(AD$2=\"Spares %\",IF(IF(AA134>0,$C134,0)*100>50%,50%,IF(AA134>0,$C134,0)*100),0))))","v":0},{"$f":"IF(AD134=0,0,IF(AE$2=\"Year\",IF(_xlfn.MAXIFS($N134:AD134,$N$2:AD$2,\"Year\")+$E134<=$E$1,AB134+$E134,0),IF(AE$2=\"Repair %\",IF(AB134>0,$C134,0),IF(AE$2=\"Spares %\",IF(IF(Z134>0,$C134,0)*5>80%,50%,IF(Z134>0,$C134,0)*5),0))))","v":0},{"$f":"IF(AE134=0,0,IF(AF$2=\"Year\",IF(_xlfn.MAXIFS($N134:AE134,$N$2:AE$2,\"Year\")+$E134<=$E$1,AC134+$E134,0),IF(AF$2=\"Repair %\",IF(AC134>0,$C$3,0),IF(AF$2=\"Spares %\",IF(IF(AC134>0,$C134,0)*100>50%,50%,IF(AC134>0,$C134,0)*100),0))))","v":0},{"$f":"IF(AF134=0,0,IF(AG$2=\"Year\",IF(_xlfn.MAXIFS($N134:AF134,$N$2:AF$2,\"Year\")+$E134<=$E$1,AD134+$E134,0),IF(AG$2=\"Repair %\",IF(AD134>0,$C134,0),IF(AG$2=\"Spares %\",IF(IF(AD134>0,$C134,0)*100>50%,50%,IF(AD134>0,$C134,0)*100),0))))","v":0},{"$f":"IF(AG134=0,0,IF(AH$2=\"Year\",IF(_xlfn.MAXIFS($N134:AG134,$N$2:AG$2,\"Year\")+$E134<=$E$1,AE134+$E134,0),IF(AH$2=\"Repair %\",IF(AE134>0,$C134,0),IF(AH$2=\"Spares %\",IF(IF(AC134>0,$C134,0)*5>80%,50%,IF(AC134>0,$C134,0)*5),0))))","v":0},{"$f":"IF(AH134=0,0,IF(AI$2=\"Year\",IF(_xlfn.MAXIFS($N134:AH134,$N$2:AH$2,\"Year\")+$E134<=$E$1,AF134+$E134,0),IF(AI$2=\"Repair %\",IF(AF134>0,$C$3,0),IF(AI$2=\"Spares %\",IF(IF(AF134>0,$C134,0)*100>50%,50%,IF(AF134>0,$C134,0)*100),0))))","v":0},{"$f":"IF(AI134=0,0,IF(AJ$2=\"Year\",IF(_xlfn.MAXIFS($N134:AI134,$N$2:AI$2,\"Year\")+$E134<=$E$1,AG134+$E134,0),IF(AJ$2=\"Repair %\",IF(AG134>0,$C134,0),IF(AJ$2=\"Spares %\",IF(IF(AG134>0,$C134,0)*100>50%,50%,IF(AG134>0,$C134,0)*100),0))))","v":0},{"$f":"IF(AJ134=0,0,IF(AK$2=\"Year\",IF(_xlfn.MAXIFS($N134:AJ134,$N$2:AJ$2,\"Year\")+$E134<=$E$1,AH134+$E134,0),IF(AK$2=\"Repair %\",IF(AH134>0,$C134,0),IF(AK$2=\"Spares %\",IF(IF(AF134>0,$C134,0)*5>80%,50%,IF(AF134>0,$C134,0)*5),0))))","v":0},{"$f":"IF(AK134=0,0,IF(AL$2=\"Year\",IF(_xlfn.MAXIFS($N134:AK134,$N$2:AK$2,\"Year\")+$E134<=$E$1,AI134+$E134,0),IF(AL$2=\"Repair %\",IF(AI134>0,$C$3,0),IF(AL$2=\"Spares %\",IF(IF(AI134>0,$C134,0)*100>50%,50%,IF(AI134>0,$C134,0)*100),0))))","v":0},{"$f":"IF(AL134=0,0,IF(AM$2=\"Year\",IF(_xlfn.MAXIFS($N134:AL134,$N$2:AL$2,\"Year\")+$E134<=$E$1,AJ134+$E134,0),IF(AM$2=\"Repair %\",IF(AJ134>0,$C134,0),IF(AM$2=\"Spares %\",IF(IF(AJ134>0,$C134,0)*100>50%,50%,IF(AJ134>0,$C134,0)*100),0))))","v":0},{"$f":"IF(AM134=0,0,IF(AN$2=\"Year\",IF(_xlfn.MAXIFS($N134:AM134,$N$2:AM$2,\"Year\")+$E134<=$E$1,AK134+$E134,0),IF(AN$2=\"Repair %\",IF(AK134>0,$C134,0),IF(AN$2=\"Spares %\",IF(IF(AI134>0,$C134,0)*5>80%,50%,IF(AI134>0,$C134,0)*5),0))))","v":0},{"$f":"IF(AN134=0,0,IF(AO$2=\"Year\",IF(_xlfn.MAXIFS($N134:AN134,$N$2:AN$2,\"Year\")+$E134<=$E$1,AL134+$E134,0),IF(AO$2=\"Repair %\",IF(AL134>0,$C$3,0),IF(AO$2=\"Spares %\",IF(IF(AL134>0,$C134,0)*100>50%,50%,IF(AL134>0,$C134,0)*100),0))))","v":0},{"$f":"IF(AO134=0,0,IF(AP$2=\"Year\",IF(_xlfn.MAXIFS($N134:AO134,$N$2:AO$2,\"Year\")+$E134<=$E$1,AM134+$E134,0),IF(AP$2=\"Repair %\",IF(AM134>0,$C134,0),IF(AP$2=\"Spares %\",IF(IF(AM134>0,$C134,0)*100>50%,50%,IF(AM134>0,$C134,0)*100),0))))","v":0},{"$f":"IF(AP134=0,0,IF(AQ$2=\"Year\",IF(_xlfn.MAXIFS($N134:AP134,$N$2:AP$2,\"Year\")+$E134<=$E$1,AN134+$E134,0),IF(AQ$2=\"Repair %\",IF(AN134>0,$C134,0),IF(AQ$2=\"Spares %\",IF(IF(AL134>0,$C134,0)*5>80%,50%,IF(AL134>0,$C134,0)*5),0))))","v":0}]
[{"$f":"INDEX('Avionics ID'!A:E,MATCH(B135,'Avionics ID'!E:E,0),1)","v":789},"Panoramic Display Cockpit Electronic Unit",0.05,0.06,20,"Obsolecence",{"$f":"SUBSTITUTE(ADDRESS(1,MATCH(A135,'Pt1-AvionicsComponentCosts'!$A$6:$NC$6,0)+1),\"$1\",\"\")","v":"$FP"},{"$f":"_xlfn.TEXTJOIN(\", \",TRUE,_xlfn.UNIQUE(_xlfn._xlws.SORT(_xlfn._xlws.FILTER('Pt1-AvionicsComponentCosts'!$NF$12:$NF$384,ISNUMBER(INDIRECT(\"'Pt1-AvionicsComponentCosts'!\"&G135&\"$12:\"&G135&\"$384\"))))))","v":"Attack, Stealth"},null,0.06,0.05,0.35299999999999998,1.8460000000000001,{"$f":"COUNTIF($N$2:N$2,\"Year\")*$G$1","v":10},null,0,{"$f":"COUNTIF($N$2:Q$2,\"Year\")*$G$1","v":20},{"$f":"IF(Q135=0,0,IF(R$2=\"Year\",IF(_xlfn.MAXIFS($N135:Q135,$N$2:Q$2,\"Year\")+$E135<=$E$1,O135+$E135,0),IF(R$2=\"Repair %\",IF(O135>0,$C135,0),IF(R$2=\"Spares %\",IF(IF(O135>0,$C135,0)*100>50%,50%,IF(O135>0,$C135,0)*100),0))))","v":0},1,{"$f":"COUNTIF($N$2:T$2,\"Year\")*$G$1","v":30},{"$f":"IF(T135=0,0,IF(U$2=\"Year\",IF(_xlfn.MAXIFS($N135:T135,$N$2:T$2,\"Year\")+$E135<=$E$1,R135+$E135,0),IF(U$2=\"Repair %\",IF(R135>0,$C135,0),IF(U$2=\"Spares %\",IF(IF(R135>0,$C135,0)*100>50%,50%,IF(R135>0,$C135,0)*100),0))))","v":0},0,{"$f":"COUNTIF($N$2:W$2,\"Year\")*$G$1","v":40},{"$f":"IF(W135=0,0,IF(X$2=\"Year\",IF(_xlfn.MAXIFS($N135:W135,$N$2:W$2,\"Year\")+$E135<=$E$1,U135+$E135,0),IF(X$2=\"Repair %\",IF(U135>0,$C135,0),IF(X$2=\"Spares %\",IF(IF(U135>0,$C135,0)*100>50%,50%,IF(U135>0,$C135,0)*100),0))))","v":0},1,{"$f":"IF(Y135=0,0,IF(Z$2=\"Year\",IF(_xlfn.MAXIFS($N135:Y135,$N$2:Y$2,\"Year\")+$E135<=$E$1,W135+$E135,0),IF(Z$2=\"Repair %\",IF(W135>0,$C$3,0),IF(Z$2=\"Spares %\",IF(IF(W135>0,$C135,0)*100>50%,50%,IF(W135>0,$C135,0)*100),0))))","v":0},{"$f":"IF(Z135=0,0,IF(AA$2=\"Year\",IF(_xlfn.MAXIFS($N135:Z135,$N$2:Z$2,\"Year\")+$E135<=$E$1,X135+$E135,0),IF(AA$2=\"Repair %\",IF(X135>0,$C135,0),IF(AA$2=\"Spares %\",IF(IF(X135>0,$C135,0)*100>50%,50%,IF(X135>0,$C135,0)*100),0))))","v":0},{"$f":"IF(AA135=0,0,IF(AB$2=\"Year\",IF(_xlfn.MAXIFS($N135:AA135,$N$2:AA$2,\"Year\")+$E135<=$E$1,Y135+$E135,0),IF(AB$2=\"Repair %\",IF(Y135>0,$C135,0),IF(AB$2=\"Spares %\",IF(IF(W135>0,$C135,0)*5>80%,50%,IF(W135>0,$C135,0)*5),0))))","v":0},{"$f":"IF(AB135=0,0,IF(AC$2=\"Year\",IF(_xlfn.MAXIFS($N135:AB135,$N$2:AB$2,\"Year\")+$E135<=$E$1,Z135+$E135,0),IF(AC$2=\"Repair %\",IF(Z135>0,$C$3,0),IF(AC$2=\"Spares %\",IF(IF(Z135>0,$C135,0)*100>50%,50%,IF(Z135>0,$C135,0)*100),0))))","v":0},{"$f":"IF(AC135=0,0,IF(AD$2=\"Year\",IF(_xlfn.MAXIFS($N135:AC135,$N$2:AC$2,\"Year\")+$E135<=$E$1,AA135+$E135,0),IF(AD$2=\"Repair %\",IF(AA135>0,$C135,0),IF(AD$2=\"Spares %\",IF(IF(AA135>0,$C135,0)*100>50%,50%,IF(AA135>0,$C135,0)*100),0))))","v":0},{"$f":"IF(AD135=0,0,IF(AE$2=\"Year\",IF(_xlfn.MAXIFS($N135:AD135,$N$2:AD$2,\"Year\")+$E135<=$E$1,AB135+$E135,0),IF(AE$2=\"Repair %\",IF(AB135>0,$C135,0),IF(AE$2=\"Spares %\",IF(IF(Z135>0,$C135,0)*5>80%,50%,IF(Z135>0,$C135,0)*5),0))))","v":0},{"$f":"IF(AE135=0,0,IF(AF$2=\"Year\",IF(_xlfn.MAXIFS($N135:AE135,$N$2:AE$2,\"Year\")+$E135<=$E$1,AC135+$E135,0),IF(AF$2=\"Repair %\",IF(AC135>0,$C$3,0),IF(AF$2=\"Spares %\",IF(IF(AC135>0,$C135,0)*100>50%,50%,IF(AC135>0,$C135,0)*100),0))))","v":0},{"$f":"IF(AF135=0,0,IF(AG$2=\"Year\",IF(_xlfn.MAXIFS($N135:AF135,$N$2:AF$2,\"Year\")+$E135<=$E$1,AD135+$E135,0),IF(AG$2=\"Repair %\",IF(AD135>0,$C135,0),IF(AG$2=\"Spares %\",IF(IF(AD135>0,$C135,0)*100>50%,50%,IF(AD135>0,$C135,0)*100),0))))","v":0},{"$f":"IF(AG135=0,0,IF(AH$2=\"Year\",IF(_xlfn.MAXIFS($N135:AG135,$N$2:AG$2,\"Year\")+$E135<=$E$1,AE135+$E135,0),IF(AH$2=\"Repair %\",IF(AE135>0,$C135,0),IF(AH$2=\"Spares %\",IF(IF(AC135>0,$C135,0)*5>80%,50%,IF(AC135>0,$C135,0)*5),0))))","v":0},{"$f":"IF(AH135=0,0,IF(AI$2=\"Year\",IF(_xlfn.MAXIFS($N135:AH135,$N$2:AH$2,\"Year\")+$E135<=$E$1,AF135+$E135,0),IF(AI$2=\"Repair %\",IF(AF135>0,$C$3,0),IF(AI$2=\"Spares %\",IF(IF(AF135>0,$C135,0)*100>50%,50%,IF(AF135>0,$C135,0)*100),0))))","v":0},{"$f":"IF(AI135=0,0,IF(AJ$2=\"Year\",IF(_xlfn.MAXIFS($N135:AI135,$N$2:AI$2,\"Year\")+$E135<=$E$1,AG135+$E135,0),IF(AJ$2=\"Repair %\",IF(AG135>0,$C135,0),IF(AJ$2=\"Spares %\",IF(IF(AG135>0,$C135,0)*100>50%,50%,IF(AG135>0,$C135,0)*100),0))))","v":0},{"$f":"IF(AJ135=0,0,IF(AK$2=\"Year\",IF(_xlfn.MAXIFS($N135:AJ135,$N$2:AJ$2,\"Year\")+$E135<=$E$1,AH135+$E135,0),IF(AK$2=\"Repair %\",IF(AH135>0,$C135,0),IF(AK$2=\"Spares %\",IF(IF(AF135>0,$C135,0)*5>80%,50%,IF(AF135>0,$C135,0)*5),0))))","v":0},{"$f":"IF(AK135=0,0,IF(AL$2=\"Year\",IF(_xlfn.MAXIFS($N135:AK135,$N$2:AK$2,\"Year\")+$E135<=$E$1,AI135+$E135,0),IF(AL$2=\"Repair %\",IF(AI135>0,$C$3,0),IF(AL$2=\"Spares %\",IF(IF(AI135>0,$C135,0)*100>50%,50%,IF(AI135>0,$C135,0)*100),0))))","v":0},{"$f":"IF(AL135=0,0,IF(AM$2=\"Year\",IF(_xlfn.MAXIFS($N135:AL135,$N$2:AL$2,\"Year\")+$E135<=$E$1,AJ135+$E135,0),IF(AM$2=\"Repair %\",IF(AJ135>0,$C135,0),IF(AM$2=\"Spares %\",IF(IF(AJ135>0,$C135,0)*100>50%,50%,IF(AJ135>0,$C135,0)*100),0))))","v":0},{"$f":"IF(AM135=0,0,IF(AN$2=\"Year\",IF(_xlfn.MAXIFS($N135:AM135,$N$2:AM$2,\"Year\")+$E135<=$E$1,AK135+$E135,0),IF(AN$2=\"Repair %\",IF(AK135>0,$C135,0),IF(AN$2=\"Spares %\",IF(IF(AI135>0,$C135,0)*5>80%,50%,IF(AI135>0,$C135,0)*5),0))))","v":0},{"$f":"IF(AN135=0,0,IF(AO$2=\"Year\",IF(_xlfn.MAXIFS($N135:AN135,$N$2:AN$2,\"Year\")+$E135<=$E$1,AL135+$E135,0),IF(AO$2=\"Repair %\",IF(AL135>0,$C$3,0),IF(AO$2=\"Spares %\",IF(IF(AL135>0,$C135,0)*100>50%,50%,IF(AL135>0,$C135,0)*100),0))))","v":0},{"$f":"IF(AO135=0,0,IF(AP$2=\"Year\",IF(_xlfn.MAXIFS($N135:AO135,$N$2:AO$2,\"Year\")+$E135<=$E$1,AM135+$E135,0),IF(AP$2=\"Repair %\",IF(AM135>0,$C135,0),IF(AP$2=\"Spares %\",IF(IF(AM135>0,$C135,0)*100>50%,50%,IF(AM135>0,$C135,0)*100),0))))","v":0},{"$f":"IF(AP135=0,0,IF(AQ$2=\"Year\",IF(_xlfn.MAXIFS($N135:AP135,$N$2:AP$2,\"Year\")+$E135<=$E$1,AN135+$E135,0),IF(AQ$2=\"Repair %\",IF(AN135>0,$C135,0),IF(AQ$2=\"Spares %\",IF(IF(AL135>0,$C135,0)*5>80%,50%,IF(AL135>0,$C135,0)*5),0))))","v":0}]
[{"$f":"INDEX('Avionics ID'!A:E,MATCH(B136,'Avionics ID'!E:E,0),1)","v":790},"Panormic Cockpit Display",0.05,0.06,20,"Obsolecence",{"$f":"SUBSTITUTE(ADDRESS(1,MATCH(A136,'Pt1-AvionicsComponentCosts'!$A$6:$NC$6,0)+1),\"$1\",\"\")","v":"$FR"},{"$f":"_xlfn.TEXTJOIN(\", \",TRUE,_xlfn.UNIQUE(_xlfn._xlws.SORT(_xlfn._xlws.FILTER('Pt1-AvionicsComponentCosts'!$NF$12:$NF$384,ISNUMBER(INDIRECT(\"'Pt1-AvionicsComponentCosts'!\"&G136&\"$12:\"&G136&\"$384\"))))))","v":"Attack, Stealth"},null,0.06,0.05,0.35299999999999998,1.8460000000000001,{"$f":"COUNTIF($N$2:N$2,\"Year\")*$G$1","v":10},null,0,{"$f":"COUNTIF($N$2:Q$2,\"Year\")*$G$1","v":20},{"$f":"IF(Q136=0,0,IF(R$2=\"Year\",IF(_xlfn.MAXIFS($N136:Q136,$N$2:Q$2,\"Year\")+$E136<=$E$1,O136+$E136,0),IF(R$2=\"Repair %\",IF(O136>0,$C136,0),IF(R$2=\"Spares %\",IF(IF(O136>0,$C136,0)*100>50%,50%,IF(O136>0,$C136,0)*100),0))))","v":0},1,{"$f":"COUNTIF($N$2:T$2,\"Year\")*$G$1","v":30},{"$f":"IF(T136=0,0,IF(U$2=\"Year\",IF(_xlfn.MAXIFS($N136:T136,$N$2:T$2,\"Year\")+$E136<=$E$1,R136+$E136,0),IF(U$2=\"Repair %\",IF(R136>0,$C136,0),IF(U$2=\"Spares %\",IF(IF(R136>0,$C136,0)*100>50%,50%,IF(R136>0,$C136,0)*100),0))))","v":0},0,{"$f":"COUNTIF($N$2:W$2,\"Year\")*$G$1","v":40},{"$f":"IF(W136=0,0,IF(X$2=\"Year\",IF(_xlfn.MAXIFS($N136:W136,$N$2:W$2,\"Year\")+$E136<=$E$1,U136+$E136,0),IF(X$2=\"Repair %\",IF(U136>0,$C136,0),IF(X$2=\"Spares %\",IF(IF(U136>0,$C136,0)*100>50%,50%,IF(U136>0,$C136,0)*100),0))))","v":0},1,{"$f":"IF(Y136=0,0,IF(Z$2=\"Year\",IF(_xlfn.MAXIFS($N136:Y136,$N$2:Y$2,\"Year\")+$E136<=$E$1,W136+$E136,0),IF(Z$2=\"Repair %\",IF(W136>0,$C$3,0),IF(Z$2=\"Spares %\",IF(IF(W136>0,$C136,0)*100>50%,50%,IF(W136>0,$C136,0)*100),0))))","v":0},{"$f":"IF(Z136=0,0,IF(AA$2=\"Year\",IF(_xlfn.MAXIFS($N136:Z136,$N$2:Z$2,\"Year\")+$E136<=$E$1,X136+$E136,0),IF(AA$2=\"Repair %\",IF(X136>0,$C136,0),IF(AA$2=\"Spares %\",IF(IF(X136>0,$C136,0)*100>50%,50%,IF(X136>0,$C136,0)*100),0))))","v":0},{"$f":"IF(AA136=0,0,IF(AB$2=\"Year\",IF(_xlfn.MAXIFS($N136:AA136,$N$2:AA$2,\"Year\")+$E136<=$E$1,Y136+$E136,0),IF(AB$2=\"Repair %\",IF(Y136>0,$C136,0),IF(AB$2=\"Spares %\",IF(IF(W136>0,$C136,0)*5>80%,50%,IF(W136>0,$C136,0)*5),0))))","v":0},{"$f":"IF(AB136=0,0,IF(AC$2=\"Year\",IF(_xlfn.MAXIFS($N136:AB136,$N$2:AB$2,\"Year\")+$E136<=$E$1,Z136+$E136,0),IF(AC$2=\"Repair %\",IF(Z136>0,$C$3,0),IF(AC$2=\"Spares %\",IF(IF(Z136>0,$C136,0)*100>50%,50%,IF(Z136>0,$C136,0)*100),0))))","v":0},{"$f":"IF(AC136=0,0,IF(AD$2=\"Year\",IF(_xlfn.MAXIFS($N136:AC136,$N$2:AC$2,\"Year\")+$E136<=$E$1,AA136+$E136,0),IF(AD$2=\"Repair %\",IF(AA136>0,$C136,0),IF(AD$2=\"Spares %\",IF(IF(AA136>0,$C136,0)*100>50%,50%,IF(AA136>0,$C136,0)*100),0))))","v":0},{"$f":"IF(AD136=0,0,IF(AE$2=\"Year\",IF(_xlfn.MAXIFS($N136:AD136,$N$2:AD$2,\"Year\")+$E136<=$E$1,AB136+$E136,0),IF(AE$2=\"Repair %\",IF(AB136>0,$C136,0),IF(AE$2=\"Spares %\",IF(IF(Z136>0,$C136,0)*5>80%,50%,IF(Z136>0,$C136,0)*5),0))))","v":0},{"$f":"IF(AE136=0,0,IF(AF$2=\"Year\",IF(_xlfn.MAXIFS($N136:AE136,$N$2:AE$2,\"Year\")+$E136<=$E$1,AC136+$E136,0),IF(AF$2=\"Repair %\",IF(AC136>0,$C$3,0),IF(AF$2=\"Spares %\",IF(IF(AC136>0,$C136,0)*100>50%,50%,IF(AC136>0,$C136,0)*100),0))))","v":0},{"$f":"IF(AF136=0,0,IF(AG$2=\"Year\",IF(_xlfn.MAXIFS($N136:AF136,$N$2:AF$2,\"Year\")+$E136<=$E$1,AD136+$E136,0),IF(AG$2=\"Repair %\",IF(AD136>0,$C136,0),IF(AG$2=\"Spares %\",IF(IF(AD136>0,$C136,0)*100>50%,50%,IF(AD136>0,$C136,0)*100),0))))","v":0},{"$f":"IF(AG136=0,0,IF(AH$2=\"Year\",IF(_xlfn.MAXIFS($N136:AG136,$N$2:AG$2,\"Year\")+$E136<=$E$1,AE136+$E136,0),IF(AH$2=\"Repair %\",IF(AE136>0,$C136,0),IF(AH$2=\"Spares %\",IF(IF(AC136>0,$C136,0)*5>80%,50%,IF(AC136>0,$C136,0)*5),0))))","v":0},{"$f":"IF(AH136=0,0,IF(AI$2=\"Year\",IF(_xlfn.MAXIFS($N136:AH136,$N$2:AH$2,\"Year\")+$E136<=$E$1,AF136+$E136,0),IF(AI$2=\"Repair %\",IF(AF136>0,$C$3,0),IF(AI$2=\"Spares %\",IF(IF(AF136>0,$C136,0)*100>50%,50%,IF(AF136>0,$C136,0)*100),0))))","v":0},{"$f":"IF(AI136=0,0,IF(AJ$2=\"Year\",IF(_xlfn.MAXIFS($N136:AI136,$N$2:AI$2,\"Year\")+$E136<=$E$1,AG136+$E136,0),IF(AJ$2=\"Repair %\",IF(AG136>0,$C136,0),IF(AJ$2=\"Spares %\",IF(IF(AG136>0,$C136,0)*100>50%,50%,IF(AG136>0,$C136,0)*100),0))))","v":0},{"$f":"IF(AJ136=0,0,IF(AK$2=\"Year\",IF(_xlfn.MAXIFS($N136:AJ136,$N$2:AJ$2,\"Year\")+$E136<=$E$1,AH136+$E136,0),IF(AK$2=\"Repair %\",IF(AH136>0,$C136,0),IF(AK$2=\"Spares %\",IF(IF(AF136>0,$C136,0)*5>80%,50%,IF(AF136>0,$C136,0)*5),0))))","v":0},{"$f":"IF(AK136=0,0,IF(AL$2=\"Year\",IF(_xlfn.MAXIFS($N136:AK136,$N$2:AK$2,\"Year\")+$E136<=$E$1,AI136+$E136,0),IF(AL$2=\"Repair %\",IF(AI136>0,$C$3,0),IF(AL$2=\"Spares %\",IF(IF(AI136>0,$C136,0)*100>50%,50%,IF(AI136>0,$C136,0)*100),0))))","v":0},{"$f":"IF(AL136=0,0,IF(AM$2=\"Year\",IF(_xlfn.MAXIFS($N136:AL136,$N$2:AL$2,\"Year\")+$E136<=$E$1,AJ136+$E136,0),IF(AM$2=\"Repair %\",IF(AJ136>0,$C136,0),IF(AM$2=\"Spares %\",IF(IF(AJ136>0,$C136,0)*100>50%,50%,IF(AJ136>0,$C136,0)*100),0))))","v":0},{"$f":"IF(AM136=0,0,IF(AN$2=\"Year\",IF(_xlfn.MAXIFS($N136:AM136,$N$2:AM$2,\"Year\")+$E136<=$E$1,AK136+$E136,0),IF(AN$2=\"Repair %\",IF(AK136>0,$C136,0),IF(AN$2=\"Spares %\",IF(IF(AI136>0,$C136,0)*5>80%,50%,IF(AI136>0,$C136,0)*5),0))))","v":0},{"$f":"IF(AN136=0,0,IF(AO$2=\"Year\",IF(_xlfn.MAXIFS($N136:AN136,$N$2:AN$2,\"Year\")+$E136<=$E$1,AL136+$E136,0),IF(AO$2=\"Repair %\",IF(AL136>0,$C$3,0),IF(AO$2=\"Spares %\",IF(IF(AL136>0,$C136,0)*100>50%,50%,IF(AL136>0,$C136,0)*100),0))))","v":0},{"$f":"IF(AO136=0,0,IF(AP$2=\"Year\",IF(_xlfn.MAXIFS($N136:AO136,$N$2:AO$2,\"Year\")+$E136<=$E$1,AM136+$E136,0),IF(AP$2=\"Repair %\",IF(AM136>0,$C136,0),IF(AP$2=\"Spares %\",IF(IF(AM136>0,$C136,0)*100>50%,50%,IF(AM136>0,$C136,0)*100),0))))","v":0},{"$f":"IF(AP136=0,0,IF(AQ$2=\"Year\",IF(_xlfn.MAXIFS($N136:AP136,$N$2:AP$2,\"Year\")+$E136<=$E$1,AN136+$E136,0),IF(AQ$2=\"Repair %\",IF(AN136>0,$C136,0),IF(AQ$2=\"Spares %\",IF(IF(AL136>0,$C136,0)*5>80%,50%,IF(AL136>0,$C136,0)*5),0))))","v":0}]
[{"$f":"INDEX('Avionics ID'!A:E,MATCH(B137,'Avionics ID'!E:E,0),1)","v":824},"PFD Control panels",0.1,0.1,10,"Obsolecence",{"$f":"SUBSTITUTE(ADDRESS(1,MATCH(A137,'Pt1-AvionicsComponentCosts'!$A$6:$NC$6,0)+1),\"$1\",\"\")","v":"$FT"},{"$f":"_xlfn.TEXTJOIN(\", \",TRUE,_xlfn.UNIQUE(_xlfn._xlws.SORT(_xlfn._xlws.FILTER('Pt1-AvionicsComponentCosts'!$NF$12:$NF$384,ISNUMBER(INDIRECT(\"'Pt1-AvionicsComponentCosts'!\"&G137&\"$12:\"&G137&\"$384\"))))))","v":"Challenger, Citation, E550, EMB Bizjet, Falcon, Global, Gulfstream, Hawker, Hondajet, Learjet, Nextant 400XT, PC-24, Phenom, Praetor, SF50"},null,0.1,0.1,0.35299999999999998,1.8460000000000001,{"$f":"COUNTIF($N$2:N$2,\"Year\")*$G$1","v":10},null,1,{"$f":"COUNTIF($N$2:Q$2,\"Year\")*$G$1","v":20},{"$f":"IF(Q137=0,0,IF(R$2=\"Year\",IF(_xlfn.MAXIFS($N137:Q137,$N$2:Q$2,\"Year\")+$E137<=$E$1,O137+$E137,0),IF(R$2=\"Repair %\",IF(O137>0,$C137,0),IF(R$2=\"Spares %\",IF(IF(O137>0,$C137,0)*100>50%,50%,IF(O137>0,$C137,0)*100),0))))","v":0},1,{"$f":"COUNTIF($N$2:T$2,\"Year\")*$G$1","v":30},{"$f":"IF(T137=0,0,IF(U$2=\"Year\",IF(_xlfn.MAXIFS($N137:T137,$N$2:T$2,\"Year\")+$E137<=$E$1,R137+$E137,0),IF(U$2=\"Repair %\",IF(R137>0,$C137,0),IF(U$2=\"Spares %\",IF(IF(R137>0,$C137,0)*100>50%,50%,IF(R137>0,$C137,0)*100),0))))","v":0},1,{"$f":"COUNTIF($N$2:W$2,\"Year\")*$G$1","v":40},{"$f":"IF(W137=0,0,IF(X$2=\"Year\",IF(_xlfn.MAXIFS($N137:W137,$N$2:W$2,\"Year\")+$E137<=$E$1,U137+$E137,0),IF(X$2=\"Repair %\",IF(U137>0,$C137,0),IF(X$2=\"Spares %\",IF(IF(U137>0,$C137,0)*100>50%,50%,IF(U137>0,$C137,0)*100),0))))","v":0},1,{"$f":"IF(Y137=0,0,IF(Z$2=\"Year\",IF(_xlfn.MAXIFS($N137:Y137,$N$2:Y$2,\"Year\")+$E137<=$E$1,W137+$E137,0),IF(Z$2=\"Repair %\",IF(W137>0,$C$3,0),IF(Z$2=\"Spares %\",IF(IF(W137>0,$C137,0)*100>50%,50%,IF(W137>0,$C137,0)*100),0))))","v":0},{"$f":"IF(Z137=0,0,IF(AA$2=\"Year\",IF(_xlfn.MAXIFS($N137:Z137,$N$2:Z$2,\"Year\")+$E137<=$E$1,X137+$E137,0),IF(AA$2=\"Repair %\",IF(X137>0,$C137,0),IF(AA$2=\"Spares %\",IF(IF(X137>0,$C137,0)*100>50%,50%,IF(X137>0,$C137,0)*100),0))))","v":0},{"$f":"IF(AA137=0,0,IF(AB$2=\"Year\",IF(_xlfn.MAXIFS($N137:AA137,$N$2:AA$2,\"Year\")+$E137<=$E$1,Y137+$E137,0),IF(AB$2=\"Repair %\",IF(Y137>0,$C137,0),IF(AB$2=\"Spares %\",IF(IF(W137>0,$C137,0)*5>80%,50%,IF(W137>0,$C137,0)*5),0))))","v":0},{"$f":"IF(AB137=0,0,IF(AC$2=\"Year\",IF(_xlfn.MAXIFS($N137:AB137,$N$2:AB$2,\"Year\")+$E137<=$E$1,Z137+$E137,0),IF(AC$2=\"Repair %\",IF(Z137>0,$C$3,0),IF(AC$2=\"Spares %\",IF(IF(Z137>0,$C137,0)*100>50%,50%,IF(Z137>0,$C137,0)*100),0))))","v":0},{"$f":"IF(AC137=0,0,IF(AD$2=\"Year\",IF(_xlfn.MAXIFS($N137:AC137,$N$2:AC$2,\"Year\")+$E137<=$E$1,AA137+$E137,0),IF(AD$2=\"Repair %\",IF(AA137>0,$C137,0),IF(AD$2=\"Spares %\",IF(IF(AA137>0,$C137,0)*100>50%,50%,IF(AA137>0,$C137,0)*100),0))))","v":0},{"$f":"IF(AD137=0,0,IF(AE$2=\"Year\",IF(_xlfn.MAXIFS($N137:AD137,$N$2:AD$2,\"Year\")+$E137<=$E$1,AB137+$E137,0),IF(AE$2=\"Repair %\",IF(AB137>0,$C137,0),IF(AE$2=\"Spares %\",IF(IF(Z137>0,$C137,0)*5>80%,50%,IF(Z137>0,$C137,0)*5),0))))","v":0},{"$f":"IF(AE137=0,0,IF(AF$2=\"Year\",IF(_xlfn.MAXIFS($N137:AE137,$N$2:AE$2,\"Year\")+$E137<=$E$1,AC137+$E137,0),IF(AF$2=\"Repair %\",IF(AC137>0,$C$3,0),IF(AF$2=\"Spares %\",IF(IF(AC137>0,$C137,0)*100>50%,50%,IF(AC137>0,$C137,0)*100),0))))","v":0},{"$f":"IF(AF137=0,0,IF(AG$2=\"Year\",IF(_xlfn.MAXIFS($N137:AF137,$N$2:AF$2,\"Year\")+$E137<=$E$1,AD137+$E137,0),IF(AG$2=\"Repair %\",IF(AD137>0,$C137,0),IF(AG$2=\"Spares %\",IF(IF(AD137>0,$C137,0)*100>50%,50%,IF(AD137>0,$C137,0)*100),0))))","v":0},{"$f":"IF(AG137=0,0,IF(AH$2=\"Year\",IF(_xlfn.MAXIFS($N137:AG137,$N$2:AG$2,\"Year\")+$E137<=$E$1,AE137+$E137,0),IF(AH$2=\"Repair %\",IF(AE137>0,$C137,0),IF(AH$2=\"Spares %\",IF(IF(AC137>0,$C137,0)*5>80%,50%,IF(AC137>0,$C137,0)*5),0))))","v":0},{"$f":"IF(AH137=0,0,IF(AI$2=\"Year\",IF(_xlfn.MAXIFS($N137:AH137,$N$2:AH$2,\"Year\")+$E137<=$E$1,AF137+$E137,0),IF(AI$2=\"Repair %\",IF(AF137>0,$C$3,0),IF(AI$2=\"Spares %\",IF(IF(AF137>0,$C137,0)*100>50%,50%,IF(AF137>0,$C137,0)*100),0))))","v":0},{"$f":"IF(AI137=0,0,IF(AJ$2=\"Year\",IF(_xlfn.MAXIFS($N137:AI137,$N$2:AI$2,\"Year\")+$E137<=$E$1,AG137+$E137,0),IF(AJ$2=\"Repair %\",IF(AG137>0,$C137,0),IF(AJ$2=\"Spares %\",IF(IF(AG137>0,$C137,0)*100>50%,50%,IF(AG137>0,$C137,0)*100),0))))","v":0},{"$f":"IF(AJ137=0,0,IF(AK$2=\"Year\",IF(_xlfn.MAXIFS($N137:AJ137,$N$2:AJ$2,\"Year\")+$E137<=$E$1,AH137+$E137,0),IF(AK$2=\"Repair %\",IF(AH137>0,$C137,0),IF(AK$2=\"Spares %\",IF(IF(AF137>0,$C137,0)*5>80%,50%,IF(AF137>0,$C137,0)*5),0))))","v":0},{"$f":"IF(AK137=0,0,IF(AL$2=\"Year\",IF(_xlfn.MAXIFS($N137:AK137,$N$2:AK$2,\"Year\")+$E137<=$E$1,AI137+$E137,0),IF(AL$2=\"Repair %\",IF(AI137>0,$C$3,0),IF(AL$2=\"Spares %\",IF(IF(AI137>0,$C137,0)*100>50%,50%,IF(AI137>0,$C137,0)*100),0))))","v":0},{"$f":"IF(AL137=0,0,IF(AM$2=\"Year\",IF(_xlfn.MAXIFS($N137:AL137,$N$2:AL$2,\"Year\")+$E137<=$E$1,AJ137+$E137,0),IF(AM$2=\"Repair %\",IF(AJ137>0,$C137,0),IF(AM$2=\"Spares %\",IF(IF(AJ137>0,$C137,0)*100>50%,50%,IF(AJ137>0,$C137,0)*100),0))))","v":0},{"$f":"IF(AM137=0,0,IF(AN$2=\"Year\",IF(_xlfn.MAXIFS($N137:AM137,$N$2:AM$2,\"Year\")+$E137<=$E$1,AK137+$E137,0),IF(AN$2=\"Repair %\",IF(AK137>0,$C137,0),IF(AN$2=\"Spares %\",IF(IF(AI137>0,$C137,0)*5>80%,50%,IF(AI137>0,$C137,0)*5),0))))","v":0},{"$f":"IF(AN137=0,0,IF(AO$2=\"Year\",IF(_xlfn.MAXIFS($N137:AN137,$N$2:AN$2,\"Year\")+$E137<=$E$1,AL137+$E137,0),IF(AO$2=\"Repair %\",IF(AL137>0,$C$3,0),IF(AO$2=\"Spares %\",IF(IF(AL137>0,$C137,0)*100>50%,50%,IF(AL137>0,$C137,0)*100),0))))","v":0},{"$f":"IF(AO137=0,0,IF(AP$2=\"Year\",IF(_xlfn.MAXIFS($N137:AO137,$N$2:AO$2,\"Year\")+$E137<=$E$1,AM137+$E137,0),IF(AP$2=\"Repair %\",IF(AM137>0,$C137,0),IF(AP$2=\"Spares %\",IF(IF(AM137>0,$C137,0)*100>50%,50%,IF(AM137>0,$C137,0)*100),0))))","v":0},{"$f":"IF(AP137=0,0,IF(AQ$2=\"Year\",IF(_xlfn.MAXIFS($N137:AP137,$N$2:AP$2,\"Year\")+$E137<=$E$1,AN137+$E137,0),IF(AQ$2=\"Repair %\",IF(AN137>0,$C137,0),IF(AQ$2=\"Spares %\",IF(IF(AL137>0,$C137,0)*5>80%,50%,IF(AL137>0,$C137,0)*5),0))))","v":0}]
[{"$f":"INDEX('Avionics ID'!A:E,MATCH(B138,'Avionics ID'!E:E,0),1)","v":793},"Pilot Helmet Mounted Display System",0.05,0.06,20,"Obsolecence",{"$f":"SUBSTITUTE(ADDRESS(1,MATCH(A138,'Pt1-AvionicsComponentCosts'!$A$6:$NC$6,0)+1),\"$1\",\"\")","v":"$FV"},{"$f":"_xlfn.TEXTJOIN(\", \",TRUE,_xlfn.UNIQUE(_xlfn._xlws.SORT(_xlfn._xlws.FILTER('Pt1-AvionicsComponentCosts'!$NF$12:$NF$384,ISNUMBER(INDIRECT(\"'Pt1-AvionicsComponentCosts'!\"&G138&\"$12:\"&G138&\"$384\"))))))","v":"Attack, Attack Helo, Helo, Stealth"},null,0.06,0.05,0.35299999999999998,1.8460000000000001,{"$f":"COUNTIF($N$2:N$2,\"Year\")*$G$1","v":10},null,0,{"$f":"COUNTIF($N$2:Q$2,\"Year\")*$G$1","v":20},{"$f":"IF(Q138=0,0,IF(R$2=\"Year\",IF(_xlfn.MAXIFS($N138:Q138,$N$2:Q$2,\"Year\")+$E138<=$E$1,O138+$E138,0),IF(R$2=\"Repair %\",IF(O138>0,$C138,0),IF(R$2=\"Spares %\",IF(IF(O138>0,$C138,0)*100>50%,50%,IF(O138>0,$C138,0)*100),0))))","v":0},1,{"$f":"COUNTIF($N$2:T$2,\"Year\")*$G$1","v":30},{"$f":"IF(T138=0,0,IF(U$2=\"Year\",IF(_xlfn.MAXIFS($N138:T138,$N$2:T$2,\"Year\")+$E138<=$E$1,R138+$E138,0),IF(U$2=\"Repair %\",IF(R138>0,$C138,0),IF(U$2=\"Spares %\",IF(IF(R138>0,$C138,0)*100>50%,50%,IF(R138>0,$C138,0)*100),0))))","v":0},0,{"$f":"COUNTIF($N$2:W$2,\"Year\")*$G$1","v":40},{"$f":"IF(W138=0,0,IF(X$2=\"Year\",IF(_xlfn.MAXIFS($N138:W138,$N$2:W$2,\"Year\")+$E138<=$E$1,U138+$E138,0),IF(X$2=\"Repair %\",IF(U138>0,$C138,0),IF(X$2=\"Spares %\",IF(IF(U138>0,$C138,0)*100>50%,50%,IF(U138>0,$C138,0)*100),0))))","v":0},1,{"$f":"IF(Y138=0,0,IF(Z$2=\"Year\",IF(_xlfn.MAXIFS($N138:Y138,$N$2:Y$2,\"Year\")+$E138<=$E$1,W138+$E138,0),IF(Z$2=\"Repair %\",IF(W138>0,$C$3,0),IF(Z$2=\"Spares %\",IF(IF(W138>0,$C138,0)*100>50%,50%,IF(W138>0,$C138,0)*100),0))))","v":0},{"$f":"IF(Z138=0,0,IF(AA$2=\"Year\",IF(_xlfn.MAXIFS($N138:Z138,$N$2:Z$2,\"Year\")+$E138<=$E$1,X138+$E138,0),IF(AA$2=\"Repair %\",IF(X138>0,$C138,0),IF(AA$2=\"Spares %\",IF(IF(X138>0,$C138,0)*100>50%,50%,IF(X138>0,$C138,0)*100),0))))","v":0},{"$f":"IF(AA138=0,0,IF(AB$2=\"Year\",IF(_xlfn.MAXIFS($N138:AA138,$N$2:AA$2,\"Year\")+$E138<=$E$1,Y138+$E138,0),IF(AB$2=\"Repair %\",IF(Y138>0,$C138,0),IF(AB$2=\"Spares %\",IF(IF(W138>0,$C138,0)*5>80%,50%,IF(W138>0,$C138,0)*5),0))))","v":0},{"$f":"IF(AB138=0,0,IF(AC$2=\"Year\",IF(_xlfn.MAXIFS($N138:AB138,$N$2:AB$2,\"Year\")+$E138<=$E$1,Z138+$E138,0),IF(AC$2=\"Repair %\",IF(Z138>0,$C$3,0),IF(AC$2=\"Spares %\",IF(IF(Z138>0,$C138,0)*100>50%,50%,IF(Z138>0,$C138,0)*100),0))))","v":0},{"$f":"IF(AC138=0,0,IF(AD$2=\"Year\",IF(_xlfn.MAXIFS($N138:AC138,$N$2:AC$2,\"Year\")+$E138<=$E$1,AA138+$E138,0),IF(AD$2=\"Repair %\",IF(AA138>0,$C138,0),IF(AD$2=\"Spares %\",IF(IF(AA138>0,$C138,0)*100>50%,50%,IF(AA138>0,$C138,0)*100),0))))","v":0},{"$f":"IF(AD138=0,0,IF(AE$2=\"Year\",IF(_xlfn.MAXIFS($N138:AD138,$N$2:AD$2,\"Year\")+$E138<=$E$1,AB138+$E138,0),IF(AE$2=\"Repair %\",IF(AB138>0,$C138,0),IF(AE$2=\"Spares %\",IF(IF(Z138>0,$C138,0)*5>80%,50%,IF(Z138>0,$C138,0)*5),0))))","v":0},{"$f":"IF(AE138=0,0,IF(AF$2=\"Year\",IF(_xlfn.MAXIFS($N138:AE138,$N$2:AE$2,\"Year\")+$E138<=$E$1,AC138+$E138,0),IF(AF$2=\"Repair %\",IF(AC138>0,$C$3,0),IF(AF$2=\"Spares %\",IF(IF(AC138>0,$C138,0)*100>50%,50%,IF(AC138>0,$C138,0)*100),0))))","v":0},{"$f":"IF(AF138=0,0,IF(AG$2=\"Year\",IF(_xlfn.MAXIFS($N138:AF138,$N$2:AF$2,\"Year\")+$E138<=$E$1,AD138+$E138,0),IF(AG$2=\"Repair %\",IF(AD138>0,$C138,0),IF(AG$2=\"Spares %\",IF(IF(AD138>0,$C138,0)*100>50%,50%,IF(AD138>0,$C138,0)*100),0))))","v":0},{"$f":"IF(AG138=0,0,IF(AH$2=\"Year\",IF(_xlfn.MAXIFS($N138:AG138,$N$2:AG$2,\"Year\")+$E138<=$E$1,AE138+$E138,0),IF(AH$2=\"Repair %\",IF(AE138>0,$C138,0),IF(AH$2=\"Spares %\",IF(IF(AC138>0,$C138,0)*5>80%,50%,IF(AC138>0,$C138,0)*5),0))))","v":0},{"$f":"IF(AH138=0,0,IF(AI$2=\"Year\",IF(_xlfn.MAXIFS($N138:AH138,$N$2:AH$2,\"Year\")+$E138<=$E$1,AF138+$E138,0),IF(AI$2=\"Repair %\",IF(AF138>0,$C$3,0),IF(AI$2=\"Spares %\",IF(IF(AF138>0,$C138,0)*100>50%,50%,IF(AF138>0,$C138,0)*100),0))))","v":0},{"$f":"IF(AI138=0,0,IF(AJ$2=\"Year\",IF(_xlfn.MAXIFS($N138:AI138,$N$2:AI$2,\"Year\")+$E138<=$E$1,AG138+$E138,0),IF(AJ$2=\"Repair %\",IF(AG138>0,$C138,0),IF(AJ$2=\"Spares %\",IF(IF(AG138>0,$C138,0)*100>50%,50%,IF(AG138>0,$C138,0)*100),0))))","v":0},{"$f":"IF(AJ138=0,0,IF(AK$2=\"Year\",IF(_xlfn.MAXIFS($N138:AJ138,$N$2:AJ$2,\"Year\")+$E138<=$E$1,AH138+$E138,0),IF(AK$2=\"Repair %\",IF(AH138>0,$C138,0),IF(AK$2=\"Spares %\",IF(IF(AF138>0,$C138,0)*5>80%,50%,IF(AF138>0,$C138,0)*5),0))))","v":0},{"$f":"IF(AK138=0,0,IF(AL$2=\"Year\",IF(_xlfn.MAXIFS($N138:AK138,$N$2:AK$2,\"Year\")+$E138<=$E$1,AI138+$E138,0),IF(AL$2=\"Repair %\",IF(AI138>0,$C$3,0),IF(AL$2=\"Spares %\",IF(IF(AI138>0,$C138,0)*100>50%,50%,IF(AI138>0,$C138,0)*100),0))))","v":0},{"$f":"IF(AL138=0,0,IF(AM$2=\"Year\",IF(_xlfn.MAXIFS($N138:AL138,$N$2:AL$2,\"Year\")+$E138<=$E$1,AJ138+$E138,0),IF(AM$2=\"Repair %\",IF(AJ138>0,$C138,0),IF(AM$2=\"Spares %\",IF(IF(AJ138>0,$C138,0)*100>50%,50%,IF(AJ138>0,$C138,0)*100),0))))","v":0},{"$f":"IF(AM138=0,0,IF(AN$2=\"Year\",IF(_xlfn.MAXIFS($N138:AM138,$N$2:AM$2,\"Year\")+$E138<=$E$1,AK138+$E138,0),IF(AN$2=\"Repair %\",IF(AK138>0,$C138,0),IF(AN$2=\"Spares %\",IF(IF(AI138>0,$C138,0)*5>80%,50%,IF(AI138>0,$C138,0)*5),0))))","v":0},{"$f":"IF(AN138=0,0,IF(AO$2=\"Year\",IF(_xlfn.MAXIFS($N138:AN138,$N$2:AN$2,\"Year\")+$E138<=$E$1,AL138+$E138,0),IF(AO$2=\"Repair %\",IF(AL138>0,$C$3,0),IF(AO$2=\"Spares %\",IF(IF(AL138>0,$C138,0)*100>50%,50%,IF(AL138>0,$C138,0)*100),0))))","v":0},{"$f":"IF(AO138=0,0,IF(AP$2=\"Year\",IF(_xlfn.MAXIFS($N138:AO138,$N$2:AO$2,\"Year\")+$E138<=$E$1,AM138+$E138,0),IF(AP$2=\"Repair %\",IF(AM138>0,$C138,0),IF(AP$2=\"Spares %\",IF(IF(AM138>0,$C138,0)*100>50%,50%,IF(AM138>0,$C138,0)*100),0))))","v":0},{"$f":"IF(AP138=0,0,IF(AQ$2=\"Year\",IF(_xlfn.MAXIFS($N138:AP138,$N$2:AP$2,\"Year\")+$E138<=$E$1,AN138+$E138,0),IF(AQ$2=\"Repair %\",IF(AN138>0,$C138,0),IF(AQ$2=\"Spares %\",IF(IF(AL138>0,$C138,0)*5>80%,50%,IF(AL138>0,$C138,0)*5),0))))","v":0}]
[{"$f":"INDEX('Avionics ID'!A:E,MATCH(B139,'Avionics ID'!E:E,0),1)","v":850},"Pilot Night Vision Sensors (PNVS) systems",0.05,0.06,20,"Obsolecence",{"$f":"SUBSTITUTE(ADDRESS(1,MATCH(A139,'Pt1-AvionicsComponentCosts'!$A$6:$NC$6,0)+1),\"$1\",\"\")","v":"$FX"},{"$f":"_xlfn.TEXTJOIN(\", \",TRUE,_xlfn.UNIQUE(_xlfn._xlws.SORT(_xlfn._xlws.FILTER('Pt1-AvionicsComponentCosts'!$NF$12:$NF$384,ISNUMBER(INDIRECT(\"'Pt1-AvionicsComponentCosts'!\"&G139&\"$12:\"&G139&\"$384\"))))))","v":"Attack Helo, Helo"},null,0.06,0.05,0.35299999999999998,1.8460000000000001,{"$f":"COUNTIF($N$2:N$2,\"Year\")*$G$1","v":10},null,0,{"$f":"COUNTIF($N$2:Q$2,\"Year\")*$G$1","v":20},{"$f":"IF(Q139=0,0,IF(R$2=\"Year\",IF(_xlfn.MAXIFS($N139:Q139,$N$2:Q$2,\"Year\")+$E139<=$E$1,O139+$E139,0),IF(R$2=\"Repair %\",IF(O139>0,$C139,0),IF(R$2=\"Spares %\",IF(IF(O139>0,$C139,0)*100>50%,50%,IF(O139>0,$C139,0)*100),0))))","v":0},1,{"$f":"COUNTIF($N$2:T$2,\"Year\")*$G$1","v":30},{"$f":"IF(T139=0,0,IF(U$2=\"Year\",IF(_xlfn.MAXIFS($N139:T139,$N$2:T$2,\"Year\")+$E139<=$E$1,R139+$E139,0),IF(U$2=\"Repair %\",IF(R139>0,$C139,0),IF(U$2=\"Spares %\",IF(IF(R139>0,$C139,0)*100>50%,50%,IF(R139>0,$C139,0)*100),0))))","v":0},0,{"$f":"COUNTIF($N$2:W$2,\"Year\")*$G$1","v":40},{"$f":"IF(W139=0,0,IF(X$2=\"Year\",IF(_xlfn.MAXIFS($N139:W139,$N$2:W$2,\"Year\")+$E139<=$E$1,U139+$E139,0),IF(X$2=\"Repair %\",IF(U139>0,$C139,0),IF(X$2=\"Spares %\",IF(IF(U139>0,$C139,0)*100>50%,50%,IF(U139>0,$C139,0)*100),0))))","v":0},1,{"$f":"IF(Y139=0,0,IF(Z$2=\"Year\",IF(_xlfn.MAXIFS($N139:Y139,$N$2:Y$2,\"Year\")+$E139<=$E$1,W139+$E139,0),IF(Z$2=\"Repair %\",IF(W139>0,$C$3,0),IF(Z$2=\"Spares %\",IF(IF(W139>0,$C139,0)*100>50%,50%,IF(W139>0,$C139,0)*100),0))))","v":0},{"$f":"IF(Z139=0,0,IF(AA$2=\"Year\",IF(_xlfn.MAXIFS($N139:Z139,$N$2:Z$2,\"Year\")+$E139<=$E$1,X139+$E139,0),IF(AA$2=\"Repair %\",IF(X139>0,$C139,0),IF(AA$2=\"Spares %\",IF(IF(X139>0,$C139,0)*100>50%,50%,IF(X139>0,$C139,0)*100),0))))","v":0},{"$f":"IF(AA139=0,0,IF(AB$2=\"Year\",IF(_xlfn.MAXIFS($N139:AA139,$N$2:AA$2,\"Year\")+$E139<=$E$1,Y139+$E139,0),IF(AB$2=\"Repair %\",IF(Y139>0,$C139,0),IF(AB$2=\"Spares %\",IF(IF(W139>0,$C139,0)*5>80%,50%,IF(W139>0,$C139,0)*5),0))))","v":0},{"$f":"IF(AB139=0,0,IF(AC$2=\"Year\",IF(_xlfn.MAXIFS($N139:AB139,$N$2:AB$2,\"Year\")+$E139<=$E$1,Z139+$E139,0),IF(AC$2=\"Repair %\",IF(Z139>0,$C$3,0),IF(AC$2=\"Spares %\",IF(IF(Z139>0,$C139,0)*100>50%,50%,IF(Z139>0,$C139,0)*100),0))))","v":0},{"$f":"IF(AC139=0,0,IF(AD$2=\"Year\",IF(_xlfn.MAXIFS($N139:AC139,$N$2:AC$2,\"Year\")+$E139<=$E$1,AA139+$E139,0),IF(AD$2=\"Repair %\",IF(AA139>0,$C139,0),IF(AD$2=\"Spares %\",IF(IF(AA139>0,$C139,0)*100>50%,50%,IF(AA139>0,$C139,0)*100),0))))","v":0},{"$f":"IF(AD139=0,0,IF(AE$2=\"Year\",IF(_xlfn.MAXIFS($N139:AD139,$N$2:AD$2,\"Year\")+$E139<=$E$1,AB139+$E139,0),IF(AE$2=\"Repair %\",IF(AB139>0,$C139,0),IF(AE$2=\"Spares %\",IF(IF(Z139>0,$C139,0)*5>80%,50%,IF(Z139>0,$C139,0)*5),0))))","v":0},{"$f":"IF(AE139=0,0,IF(AF$2=\"Year\",IF(_xlfn.MAXIFS($N139:AE139,$N$2:AE$2,\"Year\")+$E139<=$E$1,AC139+$E139,0),IF(AF$2=\"Repair %\",IF(AC139>0,$C$3,0),IF(AF$2=\"Spares %\",IF(IF(AC139>0,$C139,0)*100>50%,50%,IF(AC139>0,$C139,0)*100),0))))","v":0},{"$f":"IF(AF139=0,0,IF(AG$2=\"Year\",IF(_xlfn.MAXIFS($N139:AF139,$N$2:AF$2,\"Year\")+$E139<=$E$1,AD139+$E139,0),IF(AG$2=\"Repair %\",IF(AD139>0,$C139,0),IF(AG$2=\"Spares %\",IF(IF(AD139>0,$C139,0)*100>50%,50%,IF(AD139>0,$C139,0)*100),0))))","v":0},{"$f":"IF(AG139=0,0,IF(AH$2=\"Year\",IF(_xlfn.MAXIFS($N139:AG139,$N$2:AG$2,\"Year\")+$E139<=$E$1,AE139+$E139,0),IF(AH$2=\"Repair %\",IF(AE139>0,$C139,0),IF(AH$2=\"Spares %\",IF(IF(AC139>0,$C139,0)*5>80%,50%,IF(AC139>0,$C139,0)*5),0))))","v":0},{"$f":"IF(AH139=0,0,IF(AI$2=\"Year\",IF(_xlfn.MAXIFS($N139:AH139,$N$2:AH$2,\"Year\")+$E139<=$E$1,AF139+$E139,0),IF(AI$2=\"Repair %\",IF(AF139>0,$C$3,0),IF(AI$2=\"Spares %\",IF(IF(AF139>0,$C139,0)*100>50%,50%,IF(AF139>0,$C139,0)*100),0))))","v":0},{"$f":"IF(AI139=0,0,IF(AJ$2=\"Year\",IF(_xlfn.MAXIFS($N139:AI139,$N$2:AI$2,\"Year\")+$E139<=$E$1,AG139+$E139,0),IF(AJ$2=\"Repair %\",IF(AG139>0,$C139,0),IF(AJ$2=\"Spares %\",IF(IF(AG139>0,$C139,0)*100>50%,50%,IF(AG139>0,$C139,0)*100),0))))","v":0},{"$f":"IF(AJ139=0,0,IF(AK$2=\"Year\",IF(_xlfn.MAXIFS($N139:AJ139,$N$2:AJ$2,\"Year\")+$E139<=$E$1,AH139+$E139,0),IF(AK$2=\"Repair %\",IF(AH139>0,$C139,0),IF(AK$2=\"Spares %\",IF(IF(AF139>0,$C139,0)*5>80%,50%,IF(AF139>0,$C139,0)*5),0))))","v":0},{"$f":"IF(AK139=0,0,IF(AL$2=\"Year\",IF(_xlfn.MAXIFS($N139:AK139,$N$2:AK$2,\"Year\")+$E139<=$E$1,AI139+$E139,0),IF(AL$2=\"Repair %\",IF(AI139>0,$C$3,0),IF(AL$2=\"Spares %\",IF(IF(AI139>0,$C139,0)*100>50%,50%,IF(AI139>0,$C139,0)*100),0))))","v":0},{"$f":"IF(AL139=0,0,IF(AM$2=\"Year\",IF(_xlfn.MAXIFS($N139:AL139,$N$2:AL$2,\"Year\")+$E139<=$E$1,AJ139+$E139,0),IF(AM$2=\"Repair %\",IF(AJ139>0,$C139,0),IF(AM$2=\"Spares %\",IF(IF(AJ139>0,$C139,0)*100>50%,50%,IF(AJ139>0,$C139,0)*100),0))))","v":0},{"$f":"IF(AM139=0,0,IF(AN$2=\"Year\",IF(_xlfn.MAXIFS($N139:AM139,$N$2:AM$2,\"Year\")+$E139<=$E$1,AK139+$E139,0),IF(AN$2=\"Repair %\",IF(AK139>0,$C139,0),IF(AN$2=\"Spares %\",IF(IF(AI139>0,$C139,0)*5>80%,50%,IF(AI139>0,$C139,0)*5),0))))","v":0},{"$f":"IF(AN139=0,0,IF(AO$2=\"Year\",IF(_xlfn.MAXIFS($N139:AN139,$N$2:AN$2,\"Year\")+$E139<=$E$1,AL139+$E139,0),IF(AO$2=\"Repair %\",IF(AL139>0,$C$3,0),IF(AO$2=\"Spares %\",IF(IF(AL139>0,$C139,0)*100>50%,50%,IF(AL139>0,$C139,0)*100),0))))","v":0},{"$f":"IF(AO139=0,0,IF(AP$2=\"Year\",IF(_xlfn.MAXIFS($N139:AO139,$N$2:AO$2,\"Year\")+$E139<=$E$1,AM139+$E139,0),IF(AP$2=\"Repair %\",IF(AM139>0,$C139,0),IF(AP$2=\"Spares %\",IF(IF(AM139>0,$C139,0)*100>50%,50%,IF(AM139>0,$C139,0)*100),0))))","v":0},{"$f":"IF(AP139=0,0,IF(AQ$2=\"Year\",IF(_xlfn.MAXIFS($N139:AP139,$N$2:AP$2,\"Year\")+$E139<=$E$1,AN139+$E139,0),IF(AQ$2=\"Repair %\",IF(AN139>0,$C139,0),IF(AQ$2=\"Spares %\",IF(IF(AL139>0,$C139,0)*5>80%,50%,IF(AL139>0,$C139,0)*5),0))))","v":0}]
[{"$f":"INDEX('Avionics ID'!A:E,MATCH(B140,'Avionics ID'!E:E,0),1)","v":807},"Pitot Static sensors",0.1,0.2,10,"Obsolecence",{"$f":"SUBSTITUTE(ADDRESS(1,MATCH(A140,'Pt1-AvionicsComponentCosts'!$A$6:$NC$6,0)+1),\"$1\",\"\")","v":"$LJ"},{"$f":"_xlfn.TEXTJOIN(\", \",TRUE,_xlfn.UNIQUE(_xlfn._xlws.SORT(_xlfn._xlws.FILTER('Pt1-AvionicsComponentCosts'!$NF$12:$NF$384,ISNUMBER(INDIRECT(\"'Pt1-AvionicsComponentCosts'!\"&G140&\"$12:\"&G140&\"$384\"))))))","v":"ARJ, CRJ, EMB Regional, Reg TP, Superjet 100, Turbine GA"},null,0.2,0.1,0.33500000000000002,1.6830000000000001,{"$f":"COUNTIF($N$2:N$2,\"Year\")*$G$1","v":10},null,1,{"$f":"COUNTIF($N$2:Q$2,\"Year\")*$G$1","v":20},{"$f":"IF(Q140=0,0,IF(R$2=\"Year\",IF(_xlfn.MAXIFS($N140:Q140,$N$2:Q$2,\"Year\")+$E140<=$E$1,O140+$E140,0),IF(R$2=\"Repair %\",IF(O140>0,$C140,0),IF(R$2=\"Spares %\",IF(IF(O140>0,$C140,0)*100>50%,50%,IF(O140>0,$C140,0)*100),0))))","v":0},1,{"$f":"COUNTIF($N$2:T$2,\"Year\")*$G$1","v":30},{"$f":"IF(T140=0,0,IF(U$2=\"Year\",IF(_xlfn.MAXIFS($N140:T140,$N$2:T$2,\"Year\")+$E140<=$E$1,R140+$E140,0),IF(U$2=\"Repair %\",IF(R140>0,$C140,0),IF(U$2=\"Spares %\",IF(IF(R140>0,$C140,0)*100>50%,50%,IF(R140>0,$C140,0)*100),0))))","v":0},1,{"$f":"COUNTIF($N$2:W$2,\"Year\")*$G$1","v":40},{"$f":"IF(W140=0,0,IF(X$2=\"Year\",IF(_xlfn.MAXIFS($N140:W140,$N$2:W$2,\"Year\")+$E140<=$E$1,U140+$E140,0),IF(X$2=\"Repair %\",IF(U140>0,$C140,0),IF(X$2=\"Spares %\",IF(IF(U140>0,$C140,0)*100>50%,50%,IF(U140>0,$C140,0)*100),0))))","v":0},1,{"$f":"IF(Y140=0,0,IF(Z$2=\"Year\",IF(_xlfn.MAXIFS($N140:Y140,$N$2:Y$2,\"Year\")+$E140<=$E$1,W140+$E140,0),IF(Z$2=\"Repair %\",IF(W140>0,$C$3,0),IF(Z$2=\"Spares %\",IF(IF(W140>0,$C140,0)*100>50%,50%,IF(W140>0,$C140,0)*100),0))))","v":0},{"$f":"IF(Z140=0,0,IF(AA$2=\"Year\",IF(_xlfn.MAXIFS($N140:Z140,$N$2:Z$2,\"Year\")+$E140<=$E$1,X140+$E140,0),IF(AA$2=\"Repair %\",IF(X140>0,$C140,0),IF(AA$2=\"Spares %\",IF(IF(X140>0,$C140,0)*100>50%,50%,IF(X140>0,$C140,0)*100),0))))","v":0},{"$f":"IF(AA140=0,0,IF(AB$2=\"Year\",IF(_xlfn.MAXIFS($N140:AA140,$N$2:AA$2,\"Year\")+$E140<=$E$1,Y140+$E140,0),IF(AB$2=\"Repair %\",IF(Y140>0,$C140,0),IF(AB$2=\"Spares %\",IF(IF(W140>0,$C140,0)*5>80%,50%,IF(W140>0,$C140,0)*5),0))))","v":0},{"$f":"IF(AB140=0,0,IF(AC$2=\"Year\",IF(_xlfn.MAXIFS($N140:AB140,$N$2:AB$2,\"Year\")+$E140<=$E$1,Z140+$E140,0),IF(AC$2=\"Repair %\",IF(Z140>0,$C$3,0),IF(AC$2=\"Spares %\",IF(IF(Z140>0,$C140,0)*100>50%,50%,IF(Z140>0,$C140,0)*100),0))))","v":0},{"$f":"IF(AC140=0,0,IF(AD$2=\"Year\",IF(_xlfn.MAXIFS($N140:AC140,$N$2:AC$2,\"Year\")+$E140<=$E$1,AA140+$E140,0),IF(AD$2=\"Repair %\",IF(AA140>0,$C140,0),IF(AD$2=\"Spares %\",IF(IF(AA140>0,$C140,0)*100>50%,50%,IF(AA140>0,$C140,0)*100),0))))","v":0},{"$f":"IF(AD140=0,0,IF(AE$2=\"Year\",IF(_xlfn.MAXIFS($N140:AD140,$N$2:AD$2,\"Year\")+$E140<=$E$1,AB140+$E140,0),IF(AE$2=\"Repair %\",IF(AB140>0,$C140,0),IF(AE$2=\"Spares %\",IF(IF(Z140>0,$C140,0)*5>80%,50%,IF(Z140>0,$C140,0)*5),0))))","v":0},{"$f":"IF(AE140=0,0,IF(AF$2=\"Year\",IF(_xlfn.MAXIFS($N140:AE140,$N$2:AE$2,\"Year\")+$E140<=$E$1,AC140+$E140,0),IF(AF$2=\"Repair %\",IF(AC140>0,$C$3,0),IF(AF$2=\"Spares %\",IF(IF(AC140>0,$C140,0)*100>50%,50%,IF(AC140>0,$C140,0)*100),0))))","v":0},{"$f":"IF(AF140=0,0,IF(AG$2=\"Year\",IF(_xlfn.MAXIFS($N140:AF140,$N$2:AF$2,\"Year\")+$E140<=$E$1,AD140+$E140,0),IF(AG$2=\"Repair %\",IF(AD140>0,$C140,0),IF(AG$2=\"Spares %\",IF(IF(AD140>0,$C140,0)*100>50%,50%,IF(AD140>0,$C140,0)*100),0))))","v":0},{"$f":"IF(AG140=0,0,IF(AH$2=\"Year\",IF(_xlfn.MAXIFS($N140:AG140,$N$2:AG$2,\"Year\")+$E140<=$E$1,AE140+$E140,0),IF(AH$2=\"Repair %\",IF(AE140>0,$C140,0),IF(AH$2=\"Spares %\",IF(IF(AC140>0,$C140,0)*5>80%,50%,IF(AC140>0,$C140,0)*5),0))))","v":0},{"$f":"IF(AH140=0,0,IF(AI$2=\"Year\",IF(_xlfn.MAXIFS($N140:AH140,$N$2:AH$2,\"Year\")+$E140<=$E$1,AF140+$E140,0),IF(AI$2=\"Repair %\",IF(AF140>0,$C$3,0),IF(AI$2=\"Spares %\",IF(IF(AF140>0,$C140,0)*100>50%,50%,IF(AF140>0,$C140,0)*100),0))))","v":0},{"$f":"IF(AI140=0,0,IF(AJ$2=\"Year\",IF(_xlfn.MAXIFS($N140:AI140,$N$2:AI$2,\"Year\")+$E140<=$E$1,AG140+$E140,0),IF(AJ$2=\"Repair %\",IF(AG140>0,$C140,0),IF(AJ$2=\"Spares %\",IF(IF(AG140>0,$C140,0)*100>50%,50%,IF(AG140>0,$C140,0)*100),0))))","v":0},{"$f":"IF(AJ140=0,0,IF(AK$2=\"Year\",IF(_xlfn.MAXIFS($N140:AJ140,$N$2:AJ$2,\"Year\")+$E140<=$E$1,AH140+$E140,0),IF(AK$2=\"Repair %\",IF(AH140>0,$C140,0),IF(AK$2=\"Spares %\",IF(IF(AF140>0,$C140,0)*5>80%,50%,IF(AF140>0,$C140,0)*5),0))))","v":0},{"$f":"IF(AK140=0,0,IF(AL$2=\"Year\",IF(_xlfn.MAXIFS($N140:AK140,$N$2:AK$2,\"Year\")+$E140<=$E$1,AI140+$E140,0),IF(AL$2=\"Repair %\",IF(AI140>0,$C$3,0),IF(AL$2=\"Spares %\",IF(IF(AI140>0,$C140,0)*100>50%,50%,IF(AI140>0,$C140,0)*100),0))))","v":0},{"$f":"IF(AL140=0,0,IF(AM$2=\"Year\",IF(_xlfn.MAXIFS($N140:AL140,$N$2:AL$2,\"Year\")+$E140<=$E$1,AJ140+$E140,0),IF(AM$2=\"Repair %\",IF(AJ140>0,$C140,0),IF(AM$2=\"Spares %\",IF(IF(AJ140>0,$C140,0)*100>50%,50%,IF(AJ140>0,$C140,0)*100),0))))","v":0},{"$f":"IF(AM140=0,0,IF(AN$2=\"Year\",IF(_xlfn.MAXIFS($N140:AM140,$N$2:AM$2,\"Year\")+$E140<=$E$1,AK140+$E140,0),IF(AN$2=\"Repair %\",IF(AK140>0,$C140,0),IF(AN$2=\"Spares %\",IF(IF(AI140>0,$C140,0)*5>80%,50%,IF(AI140>0,$C140,0)*5),0))))","v":0},{"$f":"IF(AN140=0,0,IF(AO$2=\"Year\",IF(_xlfn.MAXIFS($N140:AN140,$N$2:AN$2,\"Year\")+$E140<=$E$1,AL140+$E140,0),IF(AO$2=\"Repair %\",IF(AL140>0,$C$3,0),IF(AO$2=\"Spares %\",IF(IF(AL140>0,$C140,0)*100>50%,50%,IF(AL140>0,$C140,0)*100),0))))","v":0},{"$f":"IF(AO140=0,0,IF(AP$2=\"Year\",IF(_xlfn.MAXIFS($N140:AO140,$N$2:AO$2,\"Year\")+$E140<=$E$1,AM140+$E140,0),IF(AP$2=\"Repair %\",IF(AM140>0,$C140,0),IF(AP$2=\"Spares %\",IF(IF(AM140>0,$C140,0)*100>50%,50%,IF(AM140>0,$C140,0)*100),0))))","v":0},{"$f":"IF(AP140=0,0,IF(AQ$2=\"Year\",IF(_xlfn.MAXIFS($N140:AP140,$N$2:AP$2,\"Year\")+$E140<=$E$1,AN140+$E140,0),IF(AQ$2=\"Repair %\",IF(AN140>0,$C140,0),IF(AQ$2=\"Spares %\",IF(IF(AL140>0,$C140,0)*5>80%,50%,IF(AL140>0,$C140,0)*5),0))))","v":0}]
[{"$f":"INDEX('Avionics ID'!A:E,MATCH(B141,'Avionics ID'!E:E,0),1)","v":726},"Primary Flight Display (EFIS)",0.1,0.06,10,"Obsolecence",{"$f":"SUBSTITUTE(ADDRESS(1,MATCH(A141,'Pt1-AvionicsComponentCosts'!$A$6:$NC$6,0)+1),\"$1\",\"\")","v":"$FZ"},{"$f":"_xlfn.TEXTJOIN(\", \",TRUE,_xlfn.UNIQUE(_xlfn._xlws.SORT(_xlfn._xlws.FILTER('Pt1-AvionicsComponentCosts'!$NF$12:$NF$384,ISNUMBER(INDIRECT(\"'Pt1-AvionicsComponentCosts'!\"&G141&\"$12:\"&G141&\"$384\"))))))","v":"A220, A320, A321, A330 LMXT, A330 MRTT, ARJ, ATR, B717, B737, B757, C919, CRJ, EMB Regional, MC-21, Mil Transport, Military Jet, Military TP, NSA, Reg TP, Superjet 100, Turbine GA"},null,0.06,0.1,0.35299999999999998,1.8460000000000001,{"$f":"COUNTIF($N$2:N$2,\"Year\")*$G$1","v":10},null,1,{"$f":"COUNTIF($N$2:Q$2,\"Year\")*$G$1","v":20},{"$f":"IF(Q141=0,0,IF(R$2=\"Year\",IF(_xlfn.MAXIFS($N141:Q141,$N$2:Q$2,\"Year\")+$E141<=$E$1,O141+$E141,0),IF(R$2=\"Repair %\",IF(O141>0,$C141,0),IF(R$2=\"Spares %\",IF(IF(O141>0,$C141,0)*100>50%,50%,IF(O141>0,$C141,0)*100),0))))","v":0},1,{"$f":"COUNTIF($N$2:T$2,\"Year\")*$G$1","v":30},{"$f":"IF(T141=0,0,IF(U$2=\"Year\",IF(_xlfn.MAXIFS($N141:T141,$N$2:T$2,\"Year\")+$E141<=$E$1,R141+$E141,0),IF(U$2=\"Repair %\",IF(R141>0,$C141,0),IF(U$2=\"Spares %\",IF(IF(R141>0,$C141,0)*100>50%,50%,IF(R141>0,$C141,0)*100),0))))","v":0},1,{"$f":"COUNTIF($N$2:W$2,\"Year\")*$G$1","v":40},{"$f":"IF(W141=0,0,IF(X$2=\"Year\",IF(_xlfn.MAXIFS($N141:W141,$N$2:W$2,\"Year\")+$E141<=$E$1,U141+$E141,0),IF(X$2=\"Repair %\",IF(U141>0,$C141,0),IF(X$2=\"Spares %\",IF(IF(U141>0,$C141,0)*100>50%,50%,IF(U141>0,$C141,0)*100),0))))","v":0},1,{"$f":"IF(Y141=0,0,IF(Z$2=\"Year\",IF(_xlfn.MAXIFS($N141:Y141,$N$2:Y$2,\"Year\")+$E141<=$E$1,W141+$E141,0),IF(Z$2=\"Repair %\",IF(W141>0,$C$3,0),IF(Z$2=\"Spares %\",IF(IF(W141>0,$C141,0)*100>50%,50%,IF(W141>0,$C141,0)*100),0))))","v":0},{"$f":"IF(Z141=0,0,IF(AA$2=\"Year\",IF(_xlfn.MAXIFS($N141:Z141,$N$2:Z$2,\"Year\")+$E141<=$E$1,X141+$E141,0),IF(AA$2=\"Repair %\",IF(X141>0,$C141,0),IF(AA$2=\"Spares %\",IF(IF(X141>0,$C141,0)*100>50%,50%,IF(X141>0,$C141,0)*100),0))))","v":0},{"$f":"IF(AA141=0,0,IF(AB$2=\"Year\",IF(_xlfn.MAXIFS($N141:AA141,$N$2:AA$2,\"Year\")+$E141<=$E$1,Y141+$E141,0),IF(AB$2=\"Repair %\",IF(Y141>0,$C141,0),IF(AB$2=\"Spares %\",IF(IF(W141>0,$C141,0)*5>80%,50%,IF(W141>0,$C141,0)*5),0))))","v":0},{"$f":"IF(AB141=0,0,IF(AC$2=\"Year\",IF(_xlfn.MAXIFS($N141:AB141,$N$2:AB$2,\"Year\")+$E141<=$E$1,Z141+$E141,0),IF(AC$2=\"Repair %\",IF(Z141>0,$C$3,0),IF(AC$2=\"Spares %\",IF(IF(Z141>0,$C141,0)*100>50%,50%,IF(Z141>0,$C141,0)*100),0))))","v":0},{"$f":"IF(AC141=0,0,IF(AD$2=\"Year\",IF(_xlfn.MAXIFS($N141:AC141,$N$2:AC$2,\"Year\")+$E141<=$E$1,AA141+$E141,0),IF(AD$2=\"Repair %\",IF(AA141>0,$C141,0),IF(AD$2=\"Spares %\",IF(IF(AA141>0,$C141,0)*100>50%,50%,IF(AA141>0,$C141,0)*100),0))))","v":0},{"$f":"IF(AD141=0,0,IF(AE$2=\"Year\",IF(_xlfn.MAXIFS($N141:AD141,$N$2:AD$2,\"Year\")+$E141<=$E$1,AB141+$E141,0),IF(AE$2=\"Repair %\",IF(AB141>0,$C141,0),IF(AE$2=\"Spares %\",IF(IF(Z141>0,$C141,0)*5>80%,50%,IF(Z141>0,$C141,0)*5),0))))","v":0},{"$f":"IF(AE141=0,0,IF(AF$2=\"Year\",IF(_xlfn.MAXIFS($N141:AE141,$N$2:AE$2,\"Year\")+$E141<=$E$1,AC141+$E141,0),IF(AF$2=\"Repair %\",IF(AC141>0,$C$3,0),IF(AF$2=\"Spares %\",IF(IF(AC141>0,$C141,0)*100>50%,50%,IF(AC141>0,$C141,0)*100),0))))","v":0},{"$f":"IF(AF141=0,0,IF(AG$2=\"Year\",IF(_xlfn.MAXIFS($N141:AF141,$N$2:AF$2,\"Year\")+$E141<=$E$1,AD141+$E141,0),IF(AG$2=\"Repair %\",IF(AD141>0,$C141,0),IF(AG$2=\"Spares %\",IF(IF(AD141>0,$C141,0)*100>50%,50%,IF(AD141>0,$C141,0)*100),0))))","v":0},{"$f":"IF(AG141=0,0,IF(AH$2=\"Year\",IF(_xlfn.MAXIFS($N141:AG141,$N$2:AG$2,\"Year\")+$E141<=$E$1,AE141+$E141,0),IF(AH$2=\"Repair %\",IF(AE141>0,$C141,0),IF(AH$2=\"Spares %\",IF(IF(AC141>0,$C141,0)*5>80%,50%,IF(AC141>0,$C141,0)*5),0))))","v":0},{"$f":"IF(AH141=0,0,IF(AI$2=\"Year\",IF(_xlfn.MAXIFS($N141:AH141,$N$2:AH$2,\"Year\")+$E141<=$E$1,AF141+$E141,0),IF(AI$2=\"Repair %\",IF(AF141>0,$C$3,0),IF(AI$2=\"Spares %\",IF(IF(AF141>0,$C141,0)*100>50%,50%,IF(AF141>0,$C141,0)*100),0))))","v":0},{"$f":"IF(AI141=0,0,IF(AJ$2=\"Year\",IF(_xlfn.MAXIFS($N141:AI141,$N$2:AI$2,\"Year\")+$E141<=$E$1,AG141+$E141,0),IF(AJ$2=\"Repair %\",IF(AG141>0,$C141,0),IF(AJ$2=\"Spares %\",IF(IF(AG141>0,$C141,0)*100>50%,50%,IF(AG141>0,$C141,0)*100),0))))","v":0},{"$f":"IF(AJ141=0,0,IF(AK$2=\"Year\",IF(_xlfn.MAXIFS($N141:AJ141,$N$2:AJ$2,\"Year\")+$E141<=$E$1,AH141+$E141,0),IF(AK$2=\"Repair %\",IF(AH141>0,$C141,0),IF(AK$2=\"Spares %\",IF(IF(AF141>0,$C141,0)*5>80%,50%,IF(AF141>0,$C141,0)*5),0))))","v":0},{"$f":"IF(AK141=0,0,IF(AL$2=\"Year\",IF(_xlfn.MAXIFS($N141:AK141,$N$2:AK$2,\"Year\")+$E141<=$E$1,AI141+$E141,0),IF(AL$2=\"Repair %\",IF(AI141>0,$C$3,0),IF(AL$2=\"Spares %\",IF(IF(AI141>0,$C141,0)*100>50%,50%,IF(AI141>0,$C141,0)*100),0))))","v":0},{"$f":"IF(AL141=0,0,IF(AM$2=\"Year\",IF(_xlfn.MAXIFS($N141:AL141,$N$2:AL$2,\"Year\")+$E141<=$E$1,AJ141+$E141,0),IF(AM$2=\"Repair %\",IF(AJ141>0,$C141,0),IF(AM$2=\"Spares %\",IF(IF(AJ141>0,$C141,0)*100>50%,50%,IF(AJ141>0,$C141,0)*100),0))))","v":0},{"$f":"IF(AM141=0,0,IF(AN$2=\"Year\",IF(_xlfn.MAXIFS($N141:AM141,$N$2:AM$2,\"Year\")+$E141<=$E$1,AK141+$E141,0),IF(AN$2=\"Repair %\",IF(AK141>0,$C141,0),IF(AN$2=\"Spares %\",IF(IF(AI141>0,$C141,0)*5>80%,50%,IF(AI141>0,$C141,0)*5),0))))","v":0},{"$f":"IF(AN141=0,0,IF(AO$2=\"Year\",IF(_xlfn.MAXIFS($N141:AN141,$N$2:AN$2,\"Year\")+$E141<=$E$1,AL141+$E141,0),IF(AO$2=\"Repair %\",IF(AL141>0,$C$3,0),IF(AO$2=\"Spares %\",IF(IF(AL141>0,$C141,0)*100>50%,50%,IF(AL141>0,$C141,0)*100),0))))","v":0},{"$f":"IF(AO141=0,0,IF(AP$2=\"Year\",IF(_xlfn.MAXIFS($N141:AO141,$N$2:AO$2,\"Year\")+$E141<=$E$1,AM141+$E141,0),IF(AP$2=\"Repair %\",IF(AM141>0,$C141,0),IF(AP$2=\"Spares %\",IF(IF(AM141>0,$C141,0)*100>50%,50%,IF(AM141>0,$C141,0)*100),0))))","v":0},{"$f":"IF(AP141=0,0,IF(AQ$2=\"Year\",IF(_xlfn.MAXIFS($N141:AP141,$N$2:AP$2,\"Year\")+$E141<=$E$1,AN141+$E141,0),IF(AQ$2=\"Repair %\",IF(AN141>0,$C141,0),IF(AQ$2=\"Spares %\",IF(IF(AL141>0,$C141,0)*5>80%,50%,IF(AL141>0,$C141,0)*5),0))))","v":0}]
[{"$f":"INDEX('Avionics ID'!A:E,MATCH(B142,'Avionics ID'!E:E,0),1)","v":756},"Quick Access Recorder (QAR)",0.1,0.06,10,"Obsolecence",{"$f":"SUBSTITUTE(ADDRESS(1,MATCH(A142,'Pt1-AvionicsComponentCosts'!$A$6:$NC$6,0)+1),\"$1\",\"\")","v":"$DL"},{"$f":"_xlfn.TEXTJOIN(\", \",TRUE,_xlfn.UNIQUE(_xlfn._xlws.SORT(_xlfn._xlws.FILTER('Pt1-AvionicsComponentCosts'!$NF$12:$NF$384,ISNUMBER(INDIRECT(\"'Pt1-AvionicsComponentCosts'!\"&G142&\"$12:\"&G142&\"$384\"))))))","v":"A220, A300, A320, A321, A330, A340, A350, A380, ATR, B717, B737, B747, B757, B767, B777, B787, C919, EMB Regional, MC-21, MD-11, Mil Transport, Military Jet, NSA"},null,0.06,0.1,0.68300000000000005,1.931,{"$f":"COUNTIF($N$2:N$2,\"Year\")*$G$1","v":10},null,1,{"$f":"COUNTIF($N$2:Q$2,\"Year\")*$G$1","v":20},{"$f":"IF(Q142=0,0,IF(R$2=\"Year\",IF(_xlfn.MAXIFS($N142:Q142,$N$2:Q$2,\"Year\")+$E142<=$E$1,O142+$E142,0),IF(R$2=\"Repair %\",IF(O142>0,$C142,0),IF(R$2=\"Spares %\",IF(IF(O142>0,$C142,0)*100>50%,50%,IF(O142>0,$C142,0)*100),0))))","v":0},1,{"$f":"COUNTIF($N$2:T$2,\"Year\")*$G$1","v":30},{"$f":"IF(T142=0,0,IF(U$2=\"Year\",IF(_xlfn.MAXIFS($N142:T142,$N$2:T$2,\"Year\")+$E142<=$E$1,R142+$E142,0),IF(U$2=\"Repair %\",IF(R142>0,$C142,0),IF(U$2=\"Spares %\",IF(IF(R142>0,$C142,0)*100>50%,50%,IF(R142>0,$C142,0)*100),0))))","v":0},1,{"$f":"COUNTIF($N$2:W$2,\"Year\")*$G$1","v":40},{"$f":"IF(W142=0,0,IF(X$2=\"Year\",IF(_xlfn.MAXIFS($N142:W142,$N$2:W$2,\"Year\")+$E142<=$E$1,U142+$E142,0),IF(X$2=\"Repair %\",IF(U142>0,$C142,0),IF(X$2=\"Spares %\",IF(IF(U142>0,$C142,0)*100>50%,50%,IF(U142>0,$C142,0)*100),0))))","v":0},1,{"$f":"IF(Y142=0,0,IF(Z$2=\"Year\",IF(_xlfn.MAXIFS($N142:Y142,$N$2:Y$2,\"Year\")+$E142<=$E$1,W142+$E142,0),IF(Z$2=\"Repair %\",IF(W142>0,$C$3,0),IF(Z$2=\"Spares %\",IF(IF(W142>0,$C142,0)*100>50%,50%,IF(W142>0,$C142,0)*100),0))))","v":0},{"$f":"IF(Z142=0,0,IF(AA$2=\"Year\",IF(_xlfn.MAXIFS($N142:Z142,$N$2:Z$2,\"Year\")+$E142<=$E$1,X142+$E142,0),IF(AA$2=\"Repair %\",IF(X142>0,$C142,0),IF(AA$2=\"Spares %\",IF(IF(X142>0,$C142,0)*100>50%,50%,IF(X142>0,$C142,0)*100),0))))","v":0},{"$f":"IF(AA142=0,0,IF(AB$2=\"Year\",IF(_xlfn.MAXIFS($N142:AA142,$N$2:AA$2,\"Year\")+$E142<=$E$1,Y142+$E142,0),IF(AB$2=\"Repair %\",IF(Y142>0,$C142,0),IF(AB$2=\"Spares %\",IF(IF(W142>0,$C142,0)*5>80%,50%,IF(W142>0,$C142,0)*5),0))))","v":0},{"$f":"IF(AB142=0,0,IF(AC$2=\"Year\",IF(_xlfn.MAXIFS($N142:AB142,$N$2:AB$2,\"Year\")+$E142<=$E$1,Z142+$E142,0),IF(AC$2=\"Repair %\",IF(Z142>0,$C$3,0),IF(AC$2=\"Spares %\",IF(IF(Z142>0,$C142,0)*100>50%,50%,IF(Z142>0,$C142,0)*100),0))))","v":0},{"$f":"IF(AC142=0,0,IF(AD$2=\"Year\",IF(_xlfn.MAXIFS($N142:AC142,$N$2:AC$2,\"Year\")+$E142<=$E$1,AA142+$E142,0),IF(AD$2=\"Repair %\",IF(AA142>0,$C142,0),IF(AD$2=\"Spares %\",IF(IF(AA142>0,$C142,0)*100>50%,50%,IF(AA142>0,$C142,0)*100),0))))","v":0},{"$f":"IF(AD142=0,0,IF(AE$2=\"Year\",IF(_xlfn.MAXIFS($N142:AD142,$N$2:AD$2,\"Year\")+$E142<=$E$1,AB142+$E142,0),IF(AE$2=\"Repair %\",IF(AB142>0,$C142,0),IF(AE$2=\"Spares %\",IF(IF(Z142>0,$C142,0)*5>80%,50%,IF(Z142>0,$C142,0)*5),0))))","v":0},{"$f":"IF(AE142=0,0,IF(AF$2=\"Year\",IF(_xlfn.MAXIFS($N142:AE142,$N$2:AE$2,\"Year\")+$E142<=$E$1,AC142+$E142,0),IF(AF$2=\"Repair %\",IF(AC142>0,$C$3,0),IF(AF$2=\"Spares %\",IF(IF(AC142>0,$C142,0)*100>50%,50%,IF(AC142>0,$C142,0)*100),0))))","v":0},{"$f":"IF(AF142=0,0,IF(AG$2=\"Year\",IF(_xlfn.MAXIFS($N142:AF142,$N$2:AF$2,\"Year\")+$E142<=$E$1,AD142+$E142,0),IF(AG$2=\"Repair %\",IF(AD142>0,$C142,0),IF(AG$2=\"Spares %\",IF(IF(AD142>0,$C142,0)*100>50%,50%,IF(AD142>0,$C142,0)*100),0))))","v":0},{"$f":"IF(AG142=0,0,IF(AH$2=\"Year\",IF(_xlfn.MAXIFS($N142:AG142,$N$2:AG$2,\"Year\")+$E142<=$E$1,AE142+$E142,0),IF(AH$2=\"Repair %\",IF(AE142>0,$C142,0),IF(AH$2=\"Spares %\",IF(IF(AC142>0,$C142,0)*5>80%,50%,IF(AC142>0,$C142,0)*5),0))))","v":0},{"$f":"IF(AH142=0,0,IF(AI$2=\"Year\",IF(_xlfn.MAXIFS($N142:AH142,$N$2:AH$2,\"Year\")+$E142<=$E$1,AF142+$E142,0),IF(AI$2=\"Repair %\",IF(AF142>0,$C$3,0),IF(AI$2=\"Spares %\",IF(IF(AF142>0,$C142,0)*100>50%,50%,IF(AF142>0,$C142,0)*100),0))))","v":0},{"$f":"IF(AI142=0,0,IF(AJ$2=\"Year\",IF(_xlfn.MAXIFS($N142:AI142,$N$2:AI$2,\"Year\")+$E142<=$E$1,AG142+$E142,0),IF(AJ$2=\"Repair %\",IF(AG142>0,$C142,0),IF(AJ$2=\"Spares %\",IF(IF(AG142>0,$C142,0)*100>50%,50%,IF(AG142>0,$C142,0)*100),0))))","v":0},{"$f":"IF(AJ142=0,0,IF(AK$2=\"Year\",IF(_xlfn.MAXIFS($N142:AJ142,$N$2:AJ$2,\"Year\")+$E142<=$E$1,AH142+$E142,0),IF(AK$2=\"Repair %\",IF(AH142>0,$C142,0),IF(AK$2=\"Spares %\",IF(IF(AF142>0,$C142,0)*5>80%,50%,IF(AF142>0,$C142,0)*5),0))))","v":0},{"$f":"IF(AK142=0,0,IF(AL$2=\"Year\",IF(_xlfn.MAXIFS($N142:AK142,$N$2:AK$2,\"Year\")+$E142<=$E$1,AI142+$E142,0),IF(AL$2=\"Repair %\",IF(AI142>0,$C$3,0),IF(AL$2=\"Spares %\",IF(IF(AI142>0,$C142,0)*100>50%,50%,IF(AI142>0,$C142,0)*100),0))))","v":0},{"$f":"IF(AL142=0,0,IF(AM$2=\"Year\",IF(_xlfn.MAXIFS($N142:AL142,$N$2:AL$2,\"Year\")+$E142<=$E$1,AJ142+$E142,0),IF(AM$2=\"Repair %\",IF(AJ142>0,$C142,0),IF(AM$2=\"Spares %\",IF(IF(AJ142>0,$C142,0)*100>50%,50%,IF(AJ142>0,$C142,0)*100),0))))","v":0},{"$f":"IF(AM142=0,0,IF(AN$2=\"Year\",IF(_xlfn.MAXIFS($N142:AM142,$N$2:AM$2,\"Year\")+$E142<=$E$1,AK142+$E142,0),IF(AN$2=\"Repair %\",IF(AK142>0,$C142,0),IF(AN$2=\"Spares %\",IF(IF(AI142>0,$C142,0)*5>80%,50%,IF(AI142>0,$C142,0)*5),0))))","v":0},{"$f":"IF(AN142=0,0,IF(AO$2=\"Year\",IF(_xlfn.MAXIFS($N142:AN142,$N$2:AN$2,\"Year\")+$E142<=$E$1,AL142+$E142,0),IF(AO$2=\"Repair %\",IF(AL142>0,$C$3,0),IF(AO$2=\"Spares %\",IF(IF(AL142>0,$C142,0)*100>50%,50%,IF(AL142>0,$C142,0)*100),0))))","v":0},{"$f":"IF(AO142=0,0,IF(AP$2=\"Year\",IF(_xlfn.MAXIFS($N142:AO142,$N$2:AO$2,\"Year\")+$E142<=$E$1,AM142+$E142,0),IF(AP$2=\"Repair %\",IF(AM142>0,$C142,0),IF(AP$2=\"Spares %\",IF(IF(AM142>0,$C142,0)*100>50%,50%,IF(AM142>0,$C142,0)*100),0))))","v":0},{"$f":"IF(AP142=0,0,IF(AQ$2=\"Year\",IF(_xlfn.MAXIFS($N142:AP142,$N$2:AP$2,\"Year\")+$E142<=$E$1,AN142+$E142,0),IF(AQ$2=\"Repair %\",IF(AN142>0,$C142,0),IF(AQ$2=\"Spares %\",IF(IF(AL142>0,$C142,0)*5>80%,50%,IF(AL142>0,$C142,0)*5),0))))","v":0}]
[{"$f":"INDEX('Avionics ID'!A:E,MATCH(B143,'Avionics ID'!E:E,0),1)","v":801},"Radar altimeter",0.05,0.06,20,"Obsolecence",{"$f":"SUBSTITUTE(ADDRESS(1,MATCH(A143,'Pt1-AvionicsComponentCosts'!$A$6:$NC$6,0)+1),\"$1\",\"\")","v":"$DN"},{"$f":"_xlfn.TEXTJOIN(\", \",TRUE,_xlfn.UNIQUE(_xlfn._xlws.SORT(_xlfn._xlws.FILTER('Pt1-AvionicsComponentCosts'!$NF$12:$NF$384,ISNUMBER(INDIRECT(\"'Pt1-AvionicsComponentCosts'!\"&G143&\"$12:\"&G143&\"$384\"))))))","v":"Attack, Stealth"},null,0.06,0.05,0.68300000000000005,1.931,{"$f":"COUNTIF($N$2:N$2,\"Year\")*$G$1","v":10},null,0,{"$f":"COUNTIF($N$2:Q$2,\"Year\")*$G$1","v":20},{"$f":"IF(Q143=0,0,IF(R$2=\"Year\",IF(_xlfn.MAXIFS($N143:Q143,$N$2:Q$2,\"Year\")+$E143<=$E$1,O143+$E143,0),IF(R$2=\"Repair %\",IF(O143>0,$C143,0),IF(R$2=\"Spares %\",IF(IF(O143>0,$C143,0)*100>50%,50%,IF(O143>0,$C143,0)*100),0))))","v":0},1,{"$f":"COUNTIF($N$2:T$2,\"Year\")*$G$1","v":30},{"$f":"IF(T143=0,0,IF(U$2=\"Year\",IF(_xlfn.MAXIFS($N143:T143,$N$2:T$2,\"Year\")+$E143<=$E$1,R143+$E143,0),IF(U$2=\"Repair %\",IF(R143>0,$C143,0),IF(U$2=\"Spares %\",IF(IF(R143>0,$C143,0)*100>50%,50%,IF(R143>0,$C143,0)*100),0))))","v":0},0,{"$f":"COUNTIF($N$2:W$2,\"Year\")*$G$1","v":40},{"$f":"IF(W143=0,0,IF(X$2=\"Year\",IF(_xlfn.MAXIFS($N143:W143,$N$2:W$2,\"Year\")+$E143<=$E$1,U143+$E143,0),IF(X$2=\"Repair %\",IF(U143>0,$C143,0),IF(X$2=\"Spares %\",IF(IF(U143>0,$C143,0)*100>50%,50%,IF(U143>0,$C143,0)*100),0))))","v":0},1,{"$f":"IF(Y143=0,0,IF(Z$2=\"Year\",IF(_xlfn.MAXIFS($N143:Y143,$N$2:Y$2,\"Year\")+$E143<=$E$1,W143+$E143,0),IF(Z$2=\"Repair %\",IF(W143>0,$C$3,0),IF(Z$2=\"Spares %\",IF(IF(W143>0,$C143,0)*100>50%,50%,IF(W143>0,$C143,0)*100),0))))","v":0},{"$f":"IF(Z143=0,0,IF(AA$2=\"Year\",IF(_xlfn.MAXIFS($N143:Z143,$N$2:Z$2,\"Year\")+$E143<=$E$1,X143+$E143,0),IF(AA$2=\"Repair %\",IF(X143>0,$C143,0),IF(AA$2=\"Spares %\",IF(IF(X143>0,$C143,0)*100>50%,50%,IF(X143>0,$C143,0)*100),0))))","v":0},{"$f":"IF(AA143=0,0,IF(AB$2=\"Year\",IF(_xlfn.MAXIFS($N143:AA143,$N$2:AA$2,\"Year\")+$E143<=$E$1,Y143+$E143,0),IF(AB$2=\"Repair %\",IF(Y143>0,$C143,0),IF(AB$2=\"Spares %\",IF(IF(W143>0,$C143,0)*5>80%,50%,IF(W143>0,$C143,0)*5),0))))","v":0},{"$f":"IF(AB143=0,0,IF(AC$2=\"Year\",IF(_xlfn.MAXIFS($N143:AB143,$N$2:AB$2,\"Year\")+$E143<=$E$1,Z143+$E143,0),IF(AC$2=\"Repair %\",IF(Z143>0,$C$3,0),IF(AC$2=\"Spares %\",IF(IF(Z143>0,$C143,0)*100>50%,50%,IF(Z143>0,$C143,0)*100),0))))","v":0},{"$f":"IF(AC143=0,0,IF(AD$2=\"Year\",IF(_xlfn.MAXIFS($N143:AC143,$N$2:AC$2,\"Year\")+$E143<=$E$1,AA143+$E143,0),IF(AD$2=\"Repair %\",IF(AA143>0,$C143,0),IF(AD$2=\"Spares %\",IF(IF(AA143>0,$C143,0)*100>50%,50%,IF(AA143>0,$C143,0)*100),0))))","v":0},{"$f":"IF(AD143=0,0,IF(AE$2=\"Year\",IF(_xlfn.MAXIFS($N143:AD143,$N$2:AD$2,\"Year\")+$E143<=$E$1,AB143+$E143,0),IF(AE$2=\"Repair %\",IF(AB143>0,$C143,0),IF(AE$2=\"Spares %\",IF(IF(Z143>0,$C143,0)*5>80%,50%,IF(Z143>0,$C143,0)*5),0))))","v":0},{"$f":"IF(AE143=0,0,IF(AF$2=\"Year\",IF(_xlfn.MAXIFS($N143:AE143,$N$2:AE$2,\"Year\")+$E143<=$E$1,AC143+$E143,0),IF(AF$2=\"Repair %\",IF(AC143>0,$C$3,0),IF(AF$2=\"Spares %\",IF(IF(AC143>0,$C143,0)*100>50%,50%,IF(AC143>0,$C143,0)*100),0))))","v":0},{"$f":"IF(AF143=0,0,IF(AG$2=\"Year\",IF(_xlfn.MAXIFS($N143:AF143,$N$2:AF$2,\"Year\")+$E143<=$E$1,AD143+$E143,0),IF(AG$2=\"Repair %\",IF(AD143>0,$C143,0),IF(AG$2=\"Spares %\",IF(IF(AD143>0,$C143,0)*100>50%,50%,IF(AD143>0,$C143,0)*100),0))))","v":0},{"$f":"IF(AG143=0,0,IF(AH$2=\"Year\",IF(_xlfn.MAXIFS($N143:AG143,$N$2:AG$2,\"Year\")+$E143<=$E$1,AE143+$E143,0),IF(AH$2=\"Repair %\",IF(AE143>0,$C143,0),IF(AH$2=\"Spares %\",IF(IF(AC143>0,$C143,0)*5>80%,50%,IF(AC143>0,$C143,0)*5),0))))","v":0},{"$f":"IF(AH143=0,0,IF(AI$2=\"Year\",IF(_xlfn.MAXIFS($N143:AH143,$N$2:AH$2,\"Year\")+$E143<=$E$1,AF143+$E143,0),IF(AI$2=\"Repair %\",IF(AF143>0,$C$3,0),IF(AI$2=\"Spares %\",IF(IF(AF143>0,$C143,0)*100>50%,50%,IF(AF143>0,$C143,0)*100),0))))","v":0},{"$f":"IF(AI143=0,0,IF(AJ$2=\"Year\",IF(_xlfn.MAXIFS($N143:AI143,$N$2:AI$2,\"Year\")+$E143<=$E$1,AG143+$E143,0),IF(AJ$2=\"Repair %\",IF(AG143>0,$C143,0),IF(AJ$2=\"Spares %\",IF(IF(AG143>0,$C143,0)*100>50%,50%,IF(AG143>0,$C143,0)*100),0))))","v":0},{"$f":"IF(AJ143=0,0,IF(AK$2=\"Year\",IF(_xlfn.MAXIFS($N143:AJ143,$N$2:AJ$2,\"Year\")+$E143<=$E$1,AH143+$E143,0),IF(AK$2=\"Repair %\",IF(AH143>0,$C143,0),IF(AK$2=\"Spares %\",IF(IF(AF143>0,$C143,0)*5>80%,50%,IF(AF143>0,$C143,0)*5),0))))","v":0},{"$f":"IF(AK143=0,0,IF(AL$2=\"Year\",IF(_xlfn.MAXIFS($N143:AK143,$N$2:AK$2,\"Year\")+$E143<=$E$1,AI143+$E143,0),IF(AL$2=\"Repair %\",IF(AI143>0,$C$3,0),IF(AL$2=\"Spares %\",IF(IF(AI143>0,$C143,0)*100>50%,50%,IF(AI143>0,$C143,0)*100),0))))","v":0},{"$f":"IF(AL143=0,0,IF(AM$2=\"Year\",IF(_xlfn.MAXIFS($N143:AL143,$N$2:AL$2,\"Year\")+$E143<=$E$1,AJ143+$E143,0),IF(AM$2=\"Repair %\",IF(AJ143>0,$C143,0),IF(AM$2=\"Spares %\",IF(IF(AJ143>0,$C143,0)*100>50%,50%,IF(AJ143>0,$C143,0)*100),0))))","v":0},{"$f":"IF(AM143=0,0,IF(AN$2=\"Year\",IF(_xlfn.MAXIFS($N143:AM143,$N$2:AM$2,\"Year\")+$E143<=$E$1,AK143+$E143,0),IF(AN$2=\"Repair %\",IF(AK143>0,$C143,0),IF(AN$2=\"Spares %\",IF(IF(AI143>0,$C143,0)*5>80%,50%,IF(AI143>0,$C143,0)*5),0))))","v":0},{"$f":"IF(AN143=0,0,IF(AO$2=\"Year\",IF(_xlfn.MAXIFS($N143:AN143,$N$2:AN$2,\"Year\")+$E143<=$E$1,AL143+$E143,0),IF(AO$2=\"Repair %\",IF(AL143>0,$C$3,0),IF(AO$2=\"Spares %\",IF(IF(AL143>0,$C143,0)*100>50%,50%,IF(AL143>0,$C143,0)*100),0))))","v":0},{"$f":"IF(AO143=0,0,IF(AP$2=\"Year\",IF(_xlfn.MAXIFS($N143:AO143,$N$2:AO$2,\"Year\")+$E143<=$E$1,AM143+$E143,0),IF(AP$2=\"Repair %\",IF(AM143>0,$C143,0),IF(AP$2=\"Spares %\",IF(IF(AM143>0,$C143,0)*100>50%,50%,IF(AM143>0,$C143,0)*100),0))))","v":0},{"$f":"IF(AP143=0,0,IF(AQ$2=\"Year\",IF(_xlfn.MAXIFS($N143:AP143,$N$2:AP$2,\"Year\")+$E143<=$E$1,AN143+$E143,0),IF(AQ$2=\"Repair %\",IF(AN143>0,$C143,0),IF(AQ$2=\"Spares %\",IF(IF(AL143>0,$C143,0)*5>80%,50%,IF(AL143>0,$C143,0)*5),0))))","v":0}]
[{"$f":"INDEX('Avionics ID'!A:E,MATCH(B144,'Avionics ID'!E:E,0),1)","v":764},"Radar altimeters",0.1,0.06,10,"Obsolecence",{"$f":"SUBSTITUTE(ADDRESS(1,MATCH(A144,'Pt1-AvionicsComponentCosts'!$A$6:$NC$6,0)+1),\"$1\",\"\")","v":"$KB"},{"$f":"_xlfn.TEXTJOIN(\", \",TRUE,_xlfn.UNIQUE(_xlfn._xlws.SORT(_xlfn._xlws.FILTER('Pt1-AvionicsComponentCosts'!$NF$12:$NF$384,ISNUMBER(INDIRECT(\"'Pt1-AvionicsComponentCosts'!\"&G144&\"$12:\"&G144&\"$384\"))))))","v":"A300, A320, A330, A330 LMXT, A330 MRTT, A340, A350, A380, ARJ, B747, B767, B777, B787, Challenger, Citation, CRJ, E550, EMB Bizjet, EMB Regional, Falcon, Global, Gulfstream, Hawker, Hondajet, Learjet, MD-11, Mil Fighter, Mil Transport, Military Jet, Military TP, Nextant 400XT, PC-24, Phenom, Praetor, Reg TP, SF50, Superjet 100, Turbine GA"},null,0.06,0.1,0.35399999999999998,1.829,{"$f":"COUNTIF($N$2:N$2,\"Year\")*$G$1","v":10},null,1,{"$f":"COUNTIF($N$2:Q$2,\"Year\")*$G$1","v":20},{"$f":"IF(Q144=0,0,IF(R$2=\"Year\",IF(_xlfn.MAXIFS($N144:Q144,$N$2:Q$2,\"Year\")+$E144<=$E$1,O144+$E144,0),IF(R$2=\"Repair %\",IF(O144>0,$C144,0),IF(R$2=\"Spares %\",IF(IF(O144>0,$C144,0)*100>50%,50%,IF(O144>0,$C144,0)*100),0))))","v":0},1,{"$f":"COUNTIF($N$2:T$2,\"Year\")*$G$1","v":30},{"$f":"IF(T144=0,0,IF(U$2=\"Year\",IF(_xlfn.MAXIFS($N144:T144,$N$2:T$2,\"Year\")+$E144<=$E$1,R144+$E144,0),IF(U$2=\"Repair %\",IF(R144>0,$C144,0),IF(U$2=\"Spares %\",IF(IF(R144>0,$C144,0)*100>50%,50%,IF(R144>0,$C144,0)*100),0))))","v":0},1,{"$f":"COUNTIF($N$2:W$2,\"Year\")*$G$1","v":40},{"$f":"IF(W144=0,0,IF(X$2=\"Year\",IF(_xlfn.MAXIFS($N144:W144,$N$2:W$2,\"Year\")+$E144<=$E$1,U144+$E144,0),IF(X$2=\"Repair %\",IF(U144>0,$C144,0),IF(X$2=\"Spares %\",IF(IF(U144>0,$C144,0)*100>50%,50%,IF(U144>0,$C144,0)*100),0))))","v":0},1,{"$f":"IF(Y144=0,0,IF(Z$2=\"Year\",IF(_xlfn.MAXIFS($N144:Y144,$N$2:Y$2,\"Year\")+$E144<=$E$1,W144+$E144,0),IF(Z$2=\"Repair %\",IF(W144>0,$C$3,0),IF(Z$2=\"Spares %\",IF(IF(W144>0,$C144,0)*100>50%,50%,IF(W144>0,$C144,0)*100),0))))","v":0},{"$f":"IF(Z144=0,0,IF(AA$2=\"Year\",IF(_xlfn.MAXIFS($N144:Z144,$N$2:Z$2,\"Year\")+$E144<=$E$1,X144+$E144,0),IF(AA$2=\"Repair %\",IF(X144>0,$C144,0),IF(AA$2=\"Spares %\",IF(IF(X144>0,$C144,0)*100>50%,50%,IF(X144>0,$C144,0)*100),0))))","v":0},{"$f":"IF(AA144=0,0,IF(AB$2=\"Year\",IF(_xlfn.MAXIFS($N144:AA144,$N$2:AA$2,\"Year\")+$E144<=$E$1,Y144+$E144,0),IF(AB$2=\"Repair %\",IF(Y144>0,$C144,0),IF(AB$2=\"Spares %\",IF(IF(W144>0,$C144,0)*5>80%,50%,IF(W144>0,$C144,0)*5),0))))","v":0},{"$f":"IF(AB144=0,0,IF(AC$2=\"Year\",IF(_xlfn.MAXIFS($N144:AB144,$N$2:AB$2,\"Year\")+$E144<=$E$1,Z144+$E144,0),IF(AC$2=\"Repair %\",IF(Z144>0,$C$3,0),IF(AC$2=\"Spares %\",IF(IF(Z144>0,$C144,0)*100>50%,50%,IF(Z144>0,$C144,0)*100),0))))","v":0},{"$f":"IF(AC144=0,0,IF(AD$2=\"Year\",IF(_xlfn.MAXIFS($N144:AC144,$N$2:AC$2,\"Year\")+$E144<=$E$1,AA144+$E144,0),IF(AD$2=\"Repair %\",IF(AA144>0,$C144,0),IF(AD$2=\"Spares %\",IF(IF(AA144>0,$C144,0)*100>50%,50%,IF(AA144>0,$C144,0)*100),0))))","v":0},{"$f":"IF(AD144=0,0,IF(AE$2=\"Year\",IF(_xlfn.MAXIFS($N144:AD144,$N$2:AD$2,\"Year\")+$E144<=$E$1,AB144+$E144,0),IF(AE$2=\"Repair %\",IF(AB144>0,$C144,0),IF(AE$2=\"Spares %\",IF(IF(Z144>0,$C144,0)*5>80%,50%,IF(Z144>0,$C144,0)*5),0))))","v":0},{"$f":"IF(AE144=0,0,IF(AF$2=\"Year\",IF(_xlfn.MAXIFS($N144:AE144,$N$2:AE$2,\"Year\")+$E144<=$E$1,AC144+$E144,0),IF(AF$2=\"Repair %\",IF(AC144>0,$C$3,0),IF(AF$2=\"Spares %\",IF(IF(AC144>0,$C144,0)*100>50%,50%,IF(AC144>0,$C144,0)*100),0))))","v":0},{"$f":"IF(AF144=0,0,IF(AG$2=\"Year\",IF(_xlfn.MAXIFS($N144:AF144,$N$2:AF$2,\"Year\")+$E144<=$E$1,AD144+$E144,0),IF(AG$2=\"Repair %\",IF(AD144>0,$C144,0),IF(AG$2=\"Spares %\",IF(IF(AD144>0,$C144,0)*100>50%,50%,IF(AD144>0,$C144,0)*100),0))))","v":0},{"$f":"IF(AG144=0,0,IF(AH$2=\"Year\",IF(_xlfn.MAXIFS($N144:AG144,$N$2:AG$2,\"Year\")+$E144<=$E$1,AE144+$E144,0),IF(AH$2=\"Repair %\",IF(AE144>0,$C144,0),IF(AH$2=\"Spares %\",IF(IF(AC144>0,$C144,0)*5>80%,50%,IF(AC144>0,$C144,0)*5),0))))","v":0},{"$f":"IF(AH144=0,0,IF(AI$2=\"Year\",IF(_xlfn.MAXIFS($N144:AH144,$N$2:AH$2,\"Year\")+$E144<=$E$1,AF144+$E144,0),IF(AI$2=\"Repair %\",IF(AF144>0,$C$3,0),IF(AI$2=\"Spares %\",IF(IF(AF144>0,$C144,0)*100>50%,50%,IF(AF144>0,$C144,0)*100),0))))","v":0},{"$f":"IF(AI144=0,0,IF(AJ$2=\"Year\",IF(_xlfn.MAXIFS($N144:AI144,$N$2:AI$2,\"Year\")+$E144<=$E$1,AG144+$E144,0),IF(AJ$2=\"Repair %\",IF(AG144>0,$C144,0),IF(AJ$2=\"Spares %\",IF(IF(AG144>0,$C144,0)*100>50%,50%,IF(AG144>0,$C144,0)*100),0))))","v":0},{"$f":"IF(AJ144=0,0,IF(AK$2=\"Year\",IF(_xlfn.MAXIFS($N144:AJ144,$N$2:AJ$2,\"Year\")+$E144<=$E$1,AH144+$E144,0),IF(AK$2=\"Repair %\",IF(AH144>0,$C144,0),IF(AK$2=\"Spares %\",IF(IF(AF144>0,$C144,0)*5>80%,50%,IF(AF144>0,$C144,0)*5),0))))","v":0},{"$f":"IF(AK144=0,0,IF(AL$2=\"Year\",IF(_xlfn.MAXIFS($N144:AK144,$N$2:AK$2,\"Year\")+$E144<=$E$1,AI144+$E144,0),IF(AL$2=\"Repair %\",IF(AI144>0,$C$3,0),IF(AL$2=\"Spares %\",IF(IF(AI144>0,$C144,0)*100>50%,50%,IF(AI144>0,$C144,0)*100),0))))","v":0},{"$f":"IF(AL144=0,0,IF(AM$2=\"Year\",IF(_xlfn.MAXIFS($N144:AL144,$N$2:AL$2,\"Year\")+$E144<=$E$1,AJ144+$E144,0),IF(AM$2=\"Repair %\",IF(AJ144>0,$C144,0),IF(AM$2=\"Spares %\",IF(IF(AJ144>0,$C144,0)*100>50%,50%,IF(AJ144>0,$C144,0)*100),0))))","v":0},{"$f":"IF(AM144=0,0,IF(AN$2=\"Year\",IF(_xlfn.MAXIFS($N144:AM144,$N$2:AM$2,\"Year\")+$E144<=$E$1,AK144+$E144,0),IF(AN$2=\"Repair %\",IF(AK144>0,$C144,0),IF(AN$2=\"Spares %\",IF(IF(AI144>0,$C144,0)*5>80%,50%,IF(AI144>0,$C144,0)*5),0))))","v":0},{"$f":"IF(AN144=0,0,IF(AO$2=\"Year\",IF(_xlfn.MAXIFS($N144:AN144,$N$2:AN$2,\"Year\")+$E144<=$E$1,AL144+$E144,0),IF(AO$2=\"Repair %\",IF(AL144>0,$C$3,0),IF(AO$2=\"Spares %\",IF(IF(AL144>0,$C144,0)*100>50%,50%,IF(AL144>0,$C144,0)*100),0))))","v":0},{"$f":"IF(AO144=0,0,IF(AP$2=\"Year\",IF(_xlfn.MAXIFS($N144:AO144,$N$2:AO$2,\"Year\")+$E144<=$E$1,AM144+$E144,0),IF(AP$2=\"Repair %\",IF(AM144>0,$C144,0),IF(AP$2=\"Spares %\",IF(IF(AM144>0,$C144,0)*100>50%,50%,IF(AM144>0,$C144,0)*100),0))))","v":0},{"$f":"IF(AP144=0,0,IF(AQ$2=\"Year\",IF(_xlfn.MAXIFS($N144:AP144,$N$2:AP$2,\"Year\")+$E144<=$E$1,AN144+$E144,0),IF(AQ$2=\"Repair %\",IF(AN144>0,$C144,0),IF(AQ$2=\"Spares %\",IF(IF(AL144>0,$C144,0)*5>80%,50%,IF(AL144>0,$C144,0)*5),0))))","v":0}]
[{"$f":"INDEX('Avionics ID'!A:E,MATCH(B145,'Avionics ID'!E:E,0),1)","v":829},"Radar Antenna (nose nounted)",0.05,0.1,20,"Obsolecence",{"$f":"SUBSTITUTE(ADDRESS(1,MATCH(A145,'Pt1-AvionicsComponentCosts'!$A$6:$NC$6,0)+1),\"$1\",\"\")","v":"$MT"},{"$f":"_xlfn.TEXTJOIN(\", \",TRUE,_xlfn.UNIQUE(_xlfn._xlws.SORT(_xlfn._xlws.FILTER('Pt1-AvionicsComponentCosts'!$NF$12:$NF$384,ISNUMBER(INDIRECT(\"'Pt1-AvionicsComponentCosts'!\"&G145&\"$12:\"&G145&\"$384\"))))))","v":"Attack Helo, Challenger, Citation, E550, EMB Bizjet, Falcon, Global, Gulfstream, Hawker, Helo, Hondajet, Learjet, Nextant 400XT, PC-24, Phenom, Praetor, SF50"},null,0.1,0.05,0.44800000000000001,1.298,{"$f":"COUNTIF($N$2:N$2,\"Year\")*$G$1","v":10},null,0,{"$f":"COUNTIF($N$2:Q$2,\"Year\")*$G$1","v":20},{"$f":"IF(Q145=0,0,IF(R$2=\"Year\",IF(_xlfn.MAXIFS($N145:Q145,$N$2:Q$2,\"Year\")+$E145<=$E$1,O145+$E145,0),IF(R$2=\"Repair %\",IF(O145>0,$C145,0),IF(R$2=\"Spares %\",IF(IF(O145>0,$C145,0)*100>50%,50%,IF(O145>0,$C145,0)*100),0))))","v":0},1,{"$f":"COUNTIF($N$2:T$2,\"Year\")*$G$1","v":30},{"$f":"IF(T145=0,0,IF(U$2=\"Year\",IF(_xlfn.MAXIFS($N145:T145,$N$2:T$2,\"Year\")+$E145<=$E$1,R145+$E145,0),IF(U$2=\"Repair %\",IF(R145>0,$C145,0),IF(U$2=\"Spares %\",IF(IF(R145>0,$C145,0)*100>50%,50%,IF(R145>0,$C145,0)*100),0))))","v":0},0,{"$f":"COUNTIF($N$2:W$2,\"Year\")*$G$1","v":40},{"$f":"IF(W145=0,0,IF(X$2=\"Year\",IF(_xlfn.MAXIFS($N145:W145,$N$2:W$2,\"Year\")+$E145<=$E$1,U145+$E145,0),IF(X$2=\"Repair %\",IF(U145>0,$C145,0),IF(X$2=\"Spares %\",IF(IF(U145>0,$C145,0)*100>50%,50%,IF(U145>0,$C145,0)*100),0))))","v":0},1,{"$f":"IF(Y145=0,0,IF(Z$2=\"Year\",IF(_xlfn.MAXIFS($N145:Y145,$N$2:Y$2,\"Year\")+$E145<=$E$1,W145+$E145,0),IF(Z$2=\"Repair %\",IF(W145>0,$C$3,0),IF(Z$2=\"Spares %\",IF(IF(W145>0,$C145,0)*100>50%,50%,IF(W145>0,$C145,0)*100),0))))","v":0},{"$f":"IF(Z145=0,0,IF(AA$2=\"Year\",IF(_xlfn.MAXIFS($N145:Z145,$N$2:Z$2,\"Year\")+$E145<=$E$1,X145+$E145,0),IF(AA$2=\"Repair %\",IF(X145>0,$C145,0),IF(AA$2=\"Spares %\",IF(IF(X145>0,$C145,0)*100>50%,50%,IF(X145>0,$C145,0)*100),0))))","v":0},{"$f":"IF(AA145=0,0,IF(AB$2=\"Year\",IF(_xlfn.MAXIFS($N145:AA145,$N$2:AA$2,\"Year\")+$E145<=$E$1,Y145+$E145,0),IF(AB$2=\"Repair %\",IF(Y145>0,$C145,0),IF(AB$2=\"Spares %\",IF(IF(W145>0,$C145,0)*5>80%,50%,IF(W145>0,$C145,0)*5),0))))","v":0},{"$f":"IF(AB145=0,0,IF(AC$2=\"Year\",IF(_xlfn.MAXIFS($N145:AB145,$N$2:AB$2,\"Year\")+$E145<=$E$1,Z145+$E145,0),IF(AC$2=\"Repair %\",IF(Z145>0,$C$3,0),IF(AC$2=\"Spares %\",IF(IF(Z145>0,$C145,0)*100>50%,50%,IF(Z145>0,$C145,0)*100),0))))","v":0},{"$f":"IF(AC145=0,0,IF(AD$2=\"Year\",IF(_xlfn.MAXIFS($N145:AC145,$N$2:AC$2,\"Year\")+$E145<=$E$1,AA145+$E145,0),IF(AD$2=\"Repair %\",IF(AA145>0,$C145,0),IF(AD$2=\"Spares %\",IF(IF(AA145>0,$C145,0)*100>50%,50%,IF(AA145>0,$C145,0)*100),0))))","v":0},{"$f":"IF(AD145=0,0,IF(AE$2=\"Year\",IF(_xlfn.MAXIFS($N145:AD145,$N$2:AD$2,\"Year\")+$E145<=$E$1,AB145+$E145,0),IF(AE$2=\"Repair %\",IF(AB145>0,$C145,0),IF(AE$2=\"Spares %\",IF(IF(Z145>0,$C145,0)*5>80%,50%,IF(Z145>0,$C145,0)*5),0))))","v":0},{"$f":"IF(AE145=0,0,IF(AF$2=\"Year\",IF(_xlfn.MAXIFS($N145:AE145,$N$2:AE$2,\"Year\")+$E145<=$E$1,AC145+$E145,0),IF(AF$2=\"Repair %\",IF(AC145>0,$C$3,0),IF(AF$2=\"Spares %\",IF(IF(AC145>0,$C145,0)*100>50%,50%,IF(AC145>0,$C145,0)*100),0))))","v":0},{"$f":"IF(AF145=0,0,IF(AG$2=\"Year\",IF(_xlfn.MAXIFS($N145:AF145,$N$2:AF$2,\"Year\")+$E145<=$E$1,AD145+$E145,0),IF(AG$2=\"Repair %\",IF(AD145>0,$C145,0),IF(AG$2=\"Spares %\",IF(IF(AD145>0,$C145,0)*100>50%,50%,IF(AD145>0,$C145,0)*100),0))))","v":0},{"$f":"IF(AG145=0,0,IF(AH$2=\"Year\",IF(_xlfn.MAXIFS($N145:AG145,$N$2:AG$2,\"Year\")+$E145<=$E$1,AE145+$E145,0),IF(AH$2=\"Repair %\",IF(AE145>0,$C145,0),IF(AH$2=\"Spares %\",IF(IF(AC145>0,$C145,0)*5>80%,50%,IF(AC145>0,$C145,0)*5),0))))","v":0},{"$f":"IF(AH145=0,0,IF(AI$2=\"Year\",IF(_xlfn.MAXIFS($N145:AH145,$N$2:AH$2,\"Year\")+$E145<=$E$1,AF145+$E145,0),IF(AI$2=\"Repair %\",IF(AF145>0,$C$3,0),IF(AI$2=\"Spares %\",IF(IF(AF145>0,$C145,0)*100>50%,50%,IF(AF145>0,$C145,0)*100),0))))","v":0},{"$f":"IF(AI145=0,0,IF(AJ$2=\"Year\",IF(_xlfn.MAXIFS($N145:AI145,$N$2:AI$2,\"Year\")+$E145<=$E$1,AG145+$E145,0),IF(AJ$2=\"Repair %\",IF(AG145>0,$C145,0),IF(AJ$2=\"Spares %\",IF(IF(AG145>0,$C145,0)*100>50%,50%,IF(AG145>0,$C145,0)*100),0))))","v":0},{"$f":"IF(AJ145=0,0,IF(AK$2=\"Year\",IF(_xlfn.MAXIFS($N145:AJ145,$N$2:AJ$2,\"Year\")+$E145<=$E$1,AH145+$E145,0),IF(AK$2=\"Repair %\",IF(AH145>0,$C145,0),IF(AK$2=\"Spares %\",IF(IF(AF145>0,$C145,0)*5>80%,50%,IF(AF145>0,$C145,0)*5),0))))","v":0},{"$f":"IF(AK145=0,0,IF(AL$2=\"Year\",IF(_xlfn.MAXIFS($N145:AK145,$N$2:AK$2,\"Year\")+$E145<=$E$1,AI145+$E145,0),IF(AL$2=\"Repair %\",IF(AI145>0,$C$3,0),IF(AL$2=\"Spares %\",IF(IF(AI145>0,$C145,0)*100>50%,50%,IF(AI145>0,$C145,0)*100),0))))","v":0},{"$f":"IF(AL145=0,0,IF(AM$2=\"Year\",IF(_xlfn.MAXIFS($N145:AL145,$N$2:AL$2,\"Year\")+$E145<=$E$1,AJ145+$E145,0),IF(AM$2=\"Repair %\",IF(AJ145>0,$C145,0),IF(AM$2=\"Spares %\",IF(IF(AJ145>0,$C145,0)*100>50%,50%,IF(AJ145>0,$C145,0)*100),0))))","v":0},{"$f":"IF(AM145=0,0,IF(AN$2=\"Year\",IF(_xlfn.MAXIFS($N145:AM145,$N$2:AM$2,\"Year\")+$E145<=$E$1,AK145+$E145,0),IF(AN$2=\"Repair %\",IF(AK145>0,$C145,0),IF(AN$2=\"Spares %\",IF(IF(AI145>0,$C145,0)*5>80%,50%,IF(AI145>0,$C145,0)*5),0))))","v":0},{"$f":"IF(AN145=0,0,IF(AO$2=\"Year\",IF(_xlfn.MAXIFS($N145:AN145,$N$2:AN$2,\"Year\")+$E145<=$E$1,AL145+$E145,0),IF(AO$2=\"Repair %\",IF(AL145>0,$C$3,0),IF(AO$2=\"Spares %\",IF(IF(AL145>0,$C145,0)*100>50%,50%,IF(AL145>0,$C145,0)*100),0))))","v":0},{"$f":"IF(AO145=0,0,IF(AP$2=\"Year\",IF(_xlfn.MAXIFS($N145:AO145,$N$2:AO$2,\"Year\")+$E145<=$E$1,AM145+$E145,0),IF(AP$2=\"Repair %\",IF(AM145>0,$C145,0),IF(AP$2=\"Spares %\",IF(IF(AM145>0,$C145,0)*100>50%,50%,IF(AM145>0,$C145,0)*100),0))))","v":0},{"$f":"IF(AP145=0,0,IF(AQ$2=\"Year\",IF(_xlfn.MAXIFS($N145:AP145,$N$2:AP$2,\"Year\")+$E145<=$E$1,AN145+$E145,0),IF(AQ$2=\"Repair %\",IF(AN145>0,$C145,0),IF(AQ$2=\"Spares %\",IF(IF(AL145>0,$C145,0)*5>80%,50%,IF(AL145>0,$C145,0)*5),0))))","v":0}]
[{"$f":"INDEX('Avionics ID'!A:E,MATCH(B146,'Avionics ID'!E:E,0),1)","v":859},"Radar jammer",0.05,0.06,20,"Obsolecence",{"$f":"SUBSTITUTE(ADDRESS(1,MATCH(A146,'Pt1-AvionicsComponentCosts'!$A$6:$NC$6,0)+1),\"$1\",\"\")","v":"$LL"},{"$f":"_xlfn.TEXTJOIN(\", \",TRUE,_xlfn.UNIQUE(_xlfn._xlws.SORT(_xlfn._xlws.FILTER('Pt1-AvionicsComponentCosts'!$NF$12:$NF$384,ISNUMBER(INDIRECT(\"'Pt1-AvionicsComponentCosts'!\"&G146&\"$12:\"&G146&\"$384\"))))))","v":"Attack Helo, Helo"},null,0.06,0.05,0.33500000000000002,1.6830000000000001,{"$f":"COUNTIF($N$2:N$2,\"Year\")*$G$1","v":10},null,0,{"$f":"COUNTIF($N$2:Q$2,\"Year\")*$G$1","v":20},{"$f":"IF(Q146=0,0,IF(R$2=\"Year\",IF(_xlfn.MAXIFS($N146:Q146,$N$2:Q$2,\"Year\")+$E146<=$E$1,O146+$E146,0),IF(R$2=\"Repair %\",IF(O146>0,$C146,0),IF(R$2=\"Spares %\",IF(IF(O146>0,$C146,0)*100>50%,50%,IF(O146>0,$C146,0)*100),0))))","v":0},1,{"$f":"COUNTIF($N$2:T$2,\"Year\")*$G$1","v":30},{"$f":"IF(T146=0,0,IF(U$2=\"Year\",IF(_xlfn.MAXIFS($N146:T146,$N$2:T$2,\"Year\")+$E146<=$E$1,R146+$E146,0),IF(U$2=\"Repair %\",IF(R146>0,$C146,0),IF(U$2=\"Spares %\",IF(IF(R146>0,$C146,0)*100>50%,50%,IF(R146>0,$C146,0)*100),0))))","v":0},0,{"$f":"COUNTIF($N$2:W$2,\"Year\")*$G$1","v":40},{"$f":"IF(W146=0,0,IF(X$2=\"Year\",IF(_xlfn.MAXIFS($N146:W146,$N$2:W$2,\"Year\")+$E146<=$E$1,U146+$E146,0),IF(X$2=\"Repair %\",IF(U146>0,$C146,0),IF(X$2=\"Spares %\",IF(IF(U146>0,$C146,0)*100>50%,50%,IF(U146>0,$C146,0)*100),0))))","v":0},1,{"$f":"IF(Y146=0,0,IF(Z$2=\"Year\",IF(_xlfn.MAXIFS($N146:Y146,$N$2:Y$2,\"Year\")+$E146<=$E$1,W146+$E146,0),IF(Z$2=\"Repair %\",IF(W146>0,$C$3,0),IF(Z$2=\"Spares %\",IF(IF(W146>0,$C146,0)*100>50%,50%,IF(W146>0,$C146,0)*100),0))))","v":0},{"$f":"IF(Z146=0,0,IF(AA$2=\"Year\",IF(_xlfn.MAXIFS($N146:Z146,$N$2:Z$2,\"Year\")+$E146<=$E$1,X146+$E146,0),IF(AA$2=\"Repair %\",IF(X146>0,$C146,0),IF(AA$2=\"Spares %\",IF(IF(X146>0,$C146,0)*100>50%,50%,IF(X146>0,$C146,0)*100),0))))","v":0},{"$f":"IF(AA146=0,0,IF(AB$2=\"Year\",IF(_xlfn.MAXIFS($N146:AA146,$N$2:AA$2,\"Year\")+$E146<=$E$1,Y146+$E146,0),IF(AB$2=\"Repair %\",IF(Y146>0,$C146,0),IF(AB$2=\"Spares %\",IF(IF(W146>0,$C146,0)*5>80%,50%,IF(W146>0,$C146,0)*5),0))))","v":0},{"$f":"IF(AB146=0,0,IF(AC$2=\"Year\",IF(_xlfn.MAXIFS($N146:AB146,$N$2:AB$2,\"Year\")+$E146<=$E$1,Z146+$E146,0),IF(AC$2=\"Repair %\",IF(Z146>0,$C$3,0),IF(AC$2=\"Spares %\",IF(IF(Z146>0,$C146,0)*100>50%,50%,IF(Z146>0,$C146,0)*100),0))))","v":0},{"$f":"IF(AC146=0,0,IF(AD$2=\"Year\",IF(_xlfn.MAXIFS($N146:AC146,$N$2:AC$2,\"Year\")+$E146<=$E$1,AA146+$E146,0),IF(AD$2=\"Repair %\",IF(AA146>0,$C146,0),IF(AD$2=\"Spares %\",IF(IF(AA146>0,$C146,0)*100>50%,50%,IF(AA146>0,$C146,0)*100),0))))","v":0},{"$f":"IF(AD146=0,0,IF(AE$2=\"Year\",IF(_xlfn.MAXIFS($N146:AD146,$N$2:AD$2,\"Year\")+$E146<=$E$1,AB146+$E146,0),IF(AE$2=\"Repair %\",IF(AB146>0,$C146,0),IF(AE$2=\"Spares %\",IF(IF(Z146>0,$C146,0)*5>80%,50%,IF(Z146>0,$C146,0)*5),0))))","v":0},{"$f":"IF(AE146=0,0,IF(AF$2=\"Year\",IF(_xlfn.MAXIFS($N146:AE146,$N$2:AE$2,\"Year\")+$E146<=$E$1,AC146+$E146,0),IF(AF$2=\"Repair %\",IF(AC146>0,$C$3,0),IF(AF$2=\"Spares %\",IF(IF(AC146>0,$C146,0)*100>50%,50%,IF(AC146>0,$C146,0)*100),0))))","v":0},{"$f":"IF(AF146=0,0,IF(AG$2=\"Year\",IF(_xlfn.MAXIFS($N146:AF146,$N$2:AF$2,\"Year\")+$E146<=$E$1,AD146+$E146,0),IF(AG$2=\"Repair %\",IF(AD146>0,$C146,0),IF(AG$2=\"Spares %\",IF(IF(AD146>0,$C146,0)*100>50%,50%,IF(AD146>0,$C146,0)*100),0))))","v":0},{"$f":"IF(AG146=0,0,IF(AH$2=\"Year\",IF(_xlfn.MAXIFS($N146:AG146,$N$2:AG$2,\"Year\")+$E146<=$E$1,AE146+$E146,0),IF(AH$2=\"Repair %\",IF(AE146>0,$C146,0),IF(AH$2=\"Spares %\",IF(IF(AC146>0,$C146,0)*5>80%,50%,IF(AC146>0,$C146,0)*5),0))))","v":0},{"$f":"IF(AH146=0,0,IF(AI$2=\"Year\",IF(_xlfn.MAXIFS($N146:AH146,$N$2:AH$2,\"Year\")+$E146<=$E$1,AF146+$E146,0),IF(AI$2=\"Repair %\",IF(AF146>0,$C$3,0),IF(AI$2=\"Spares %\",IF(IF(AF146>0,$C146,0)*100>50%,50%,IF(AF146>0,$C146,0)*100),0))))","v":0},{"$f":"IF(AI146=0,0,IF(AJ$2=\"Year\",IF(_xlfn.MAXIFS($N146:AI146,$N$2:AI$2,\"Year\")+$E146<=$E$1,AG146+$E146,0),IF(AJ$2=\"Repair %\",IF(AG146>0,$C146,0),IF(AJ$2=\"Spares %\",IF(IF(AG146>0,$C146,0)*100>50%,50%,IF(AG146>0,$C146,0)*100),0))))","v":0},{"$f":"IF(AJ146=0,0,IF(AK$2=\"Year\",IF(_xlfn.MAXIFS($N146:AJ146,$N$2:AJ$2,\"Year\")+$E146<=$E$1,AH146+$E146,0),IF(AK$2=\"Repair %\",IF(AH146>0,$C146,0),IF(AK$2=\"Spares %\",IF(IF(AF146>0,$C146,0)*5>80%,50%,IF(AF146>0,$C146,0)*5),0))))","v":0},{"$f":"IF(AK146=0,0,IF(AL$2=\"Year\",IF(_xlfn.MAXIFS($N146:AK146,$N$2:AK$2,\"Year\")+$E146<=$E$1,AI146+$E146,0),IF(AL$2=\"Repair %\",IF(AI146>0,$C$3,0),IF(AL$2=\"Spares %\",IF(IF(AI146>0,$C146,0)*100>50%,50%,IF(AI146>0,$C146,0)*100),0))))","v":0},{"$f":"IF(AL146=0,0,IF(AM$2=\"Year\",IF(_xlfn.MAXIFS($N146:AL146,$N$2:AL$2,\"Year\")+$E146<=$E$1,AJ146+$E146,0),IF(AM$2=\"Repair %\",IF(AJ146>0,$C146,0),IF(AM$2=\"Spares %\",IF(IF(AJ146>0,$C146,0)*100>50%,50%,IF(AJ146>0,$C146,0)*100),0))))","v":0},{"$f":"IF(AM146=0,0,IF(AN$2=\"Year\",IF(_xlfn.MAXIFS($N146:AM146,$N$2:AM$2,\"Year\")+$E146<=$E$1,AK146+$E146,0),IF(AN$2=\"Repair %\",IF(AK146>0,$C146,0),IF(AN$2=\"Spares %\",IF(IF(AI146>0,$C146,0)*5>80%,50%,IF(AI146>0,$C146,0)*5),0))))","v":0},{"$f":"IF(AN146=0,0,IF(AO$2=\"Year\",IF(_xlfn.MAXIFS($N146:AN146,$N$2:AN$2,\"Year\")+$E146<=$E$1,AL146+$E146,0),IF(AO$2=\"Repair %\",IF(AL146>0,$C$3,0),IF(AO$2=\"Spares %\",IF(IF(AL146>0,$C146,0)*100>50%,50%,IF(AL146>0,$C146,0)*100),0))))","v":0},{"$f":"IF(AO146=0,0,IF(AP$2=\"Year\",IF(_xlfn.MAXIFS($N146:AO146,$N$2:AO$2,\"Year\")+$E146<=$E$1,AM146+$E146,0),IF(AP$2=\"Repair %\",IF(AM146>0,$C146,0),IF(AP$2=\"Spares %\",IF(IF(AM146>0,$C146,0)*100>50%,50%,IF(AM146>0,$C146,0)*100),0))))","v":0},{"$f":"IF(AP146=0,0,IF(AQ$2=\"Year\",IF(_xlfn.MAXIFS($N146:AP146,$N$2:AP$2,\"Year\")+$E146<=$E$1,AN146+$E146,0),IF(AQ$2=\"Repair %\",IF(AN146>0,$C146,0),IF(AQ$2=\"Spares %\",IF(IF(AL146>0,$C146,0)*5>80%,50%,IF(AL146>0,$C146,0)*5),0))))","v":0}]
[{"$f":"INDEX('Avionics ID'!A:E,MATCH(B147,'Avionics ID'!E:E,0),1)","v":855},"Radar warning receivers",0.05,0.06,20,"Obsolecence",{"$f":"SUBSTITUTE(ADDRESS(1,MATCH(A147,'Pt1-AvionicsComponentCosts'!$A$6:$NC$6,0)+1),\"$1\",\"\")","v":"$LN"},{"$f":"_xlfn.TEXTJOIN(\", \",TRUE,_xlfn.UNIQUE(_xlfn._xlws.SORT(_xlfn._xlws.FILTER('Pt1-AvionicsComponentCosts'!$NF$12:$NF$384,ISNUMBER(INDIRECT(\"'Pt1-AvionicsComponentCosts'!\"&G147&\"$12:\"&G147&\"$384\"))))))","v":"Attack Helo, Helo"},null,0.06,0.05,0.33500000000000002,1.6830000000000001,{"$f":"COUNTIF($N$2:N$2,\"Year\")*$G$1","v":10},null,0,{"$f":"COUNTIF($N$2:Q$2,\"Year\")*$G$1","v":20},{"$f":"IF(Q147=0,0,IF(R$2=\"Year\",IF(_xlfn.MAXIFS($N147:Q147,$N$2:Q$2,\"Year\")+$E147<=$E$1,O147+$E147,0),IF(R$2=\"Repair %\",IF(O147>0,$C147,0),IF(R$2=\"Spares %\",IF(IF(O147>0,$C147,0)*100>50%,50%,IF(O147>0,$C147,0)*100),0))))","v":0},1,{"$f":"COUNTIF($N$2:T$2,\"Year\")*$G$1","v":30},{"$f":"IF(T147=0,0,IF(U$2=\"Year\",IF(_xlfn.MAXIFS($N147:T147,$N$2:T$2,\"Year\")+$E147<=$E$1,R147+$E147,0),IF(U$2=\"Repair %\",IF(R147>0,$C147,0),IF(U$2=\"Spares %\",IF(IF(R147>0,$C147,0)*100>50%,50%,IF(R147>0,$C147,0)*100),0))))","v":0},0,{"$f":"COUNTIF($N$2:W$2,\"Year\")*$G$1","v":40},{"$f":"IF(W147=0,0,IF(X$2=\"Year\",IF(_xlfn.MAXIFS($N147:W147,$N$2:W$2,\"Year\")+$E147<=$E$1,U147+$E147,0),IF(X$2=\"Repair %\",IF(U147>0,$C147,0),IF(X$2=\"Spares %\",IF(IF(U147>0,$C147,0)*100>50%,50%,IF(U147>0,$C147,0)*100),0))))","v":0},1,{"$f":"IF(Y147=0,0,IF(Z$2=\"Year\",IF(_xlfn.MAXIFS($N147:Y147,$N$2:Y$2,\"Year\")+$E147<=$E$1,W147+$E147,0),IF(Z$2=\"Repair %\",IF(W147>0,$C$3,0),IF(Z$2=\"Spares %\",IF(IF(W147>0,$C147,0)*100>50%,50%,IF(W147>0,$C147,0)*100),0))))","v":0},{"$f":"IF(Z147=0,0,IF(AA$2=\"Year\",IF(_xlfn.MAXIFS($N147:Z147,$N$2:Z$2,\"Year\")+$E147<=$E$1,X147+$E147,0),IF(AA$2=\"Repair %\",IF(X147>0,$C147,0),IF(AA$2=\"Spares %\",IF(IF(X147>0,$C147,0)*100>50%,50%,IF(X147>0,$C147,0)*100),0))))","v":0},{"$f":"IF(AA147=0,0,IF(AB$2=\"Year\",IF(_xlfn.MAXIFS($N147:AA147,$N$2:AA$2,\"Year\")+$E147<=$E$1,Y147+$E147,0),IF(AB$2=\"Repair %\",IF(Y147>0,$C147,0),IF(AB$2=\"Spares %\",IF(IF(W147>0,$C147,0)*5>80%,50%,IF(W147>0,$C147,0)*5),0))))","v":0},{"$f":"IF(AB147=0,0,IF(AC$2=\"Year\",IF(_xlfn.MAXIFS($N147:AB147,$N$2:AB$2,\"Year\")+$E147<=$E$1,Z147+$E147,0),IF(AC$2=\"Repair %\",IF(Z147>0,$C$3,0),IF(AC$2=\"Spares %\",IF(IF(Z147>0,$C147,0)*100>50%,50%,IF(Z147>0,$C147,0)*100),0))))","v":0},{"$f":"IF(AC147=0,0,IF(AD$2=\"Year\",IF(_xlfn.MAXIFS($N147:AC147,$N$2:AC$2,\"Year\")+$E147<=$E$1,AA147+$E147,0),IF(AD$2=\"Repair %\",IF(AA147>0,$C147,0),IF(AD$2=\"Spares %\",IF(IF(AA147>0,$C147,0)*100>50%,50%,IF(AA147>0,$C147,0)*100),0))))","v":0},{"$f":"IF(AD147=0,0,IF(AE$2=\"Year\",IF(_xlfn.MAXIFS($N147:AD147,$N$2:AD$2,\"Year\")+$E147<=$E$1,AB147+$E147,0),IF(AE$2=\"Repair %\",IF(AB147>0,$C147,0),IF(AE$2=\"Spares %\",IF(IF(Z147>0,$C147,0)*5>80%,50%,IF(Z147>0,$C147,0)*5),0))))","v":0},{"$f":"IF(AE147=0,0,IF(AF$2=\"Year\",IF(_xlfn.MAXIFS($N147:AE147,$N$2:AE$2,\"Year\")+$E147<=$E$1,AC147+$E147,0),IF(AF$2=\"Repair %\",IF(AC147>0,$C$3,0),IF(AF$2=\"Spares %\",IF(IF(AC147>0,$C147,0)*100>50%,50%,IF(AC147>0,$C147,0)*100),0))))","v":0},{"$f":"IF(AF147=0,0,IF(AG$2=\"Year\",IF(_xlfn.MAXIFS($N147:AF147,$N$2:AF$2,\"Year\")+$E147<=$E$1,AD147+$E147,0),IF(AG$2=\"Repair %\",IF(AD147>0,$C147,0),IF(AG$2=\"Spares %\",IF(IF(AD147>0,$C147,0)*100>50%,50%,IF(AD147>0,$C147,0)*100),0))))","v":0},{"$f":"IF(AG147=0,0,IF(AH$2=\"Year\",IF(_xlfn.MAXIFS($N147:AG147,$N$2:AG$2,\"Year\")+$E147<=$E$1,AE147+$E147,0),IF(AH$2=\"Repair %\",IF(AE147>0,$C147,0),IF(AH$2=\"Spares %\",IF(IF(AC147>0,$C147,0)*5>80%,50%,IF(AC147>0,$C147,0)*5),0))))","v":0},{"$f":"IF(AH147=0,0,IF(AI$2=\"Year\",IF(_xlfn.MAXIFS($N147:AH147,$N$2:AH$2,\"Year\")+$E147<=$E$1,AF147+$E147,0),IF(AI$2=\"Repair %\",IF(AF147>0,$C$3,0),IF(AI$2=\"Spares %\",IF(IF(AF147>0,$C147,0)*100>50%,50%,IF(AF147>0,$C147,0)*100),0))))","v":0},{"$f":"IF(AI147=0,0,IF(AJ$2=\"Year\",IF(_xlfn.MAXIFS($N147:AI147,$N$2:AI$2,\"Year\")+$E147<=$E$1,AG147+$E147,0),IF(AJ$2=\"Repair %\",IF(AG147>0,$C147,0),IF(AJ$2=\"Spares %\",IF(IF(AG147>0,$C147,0)*100>50%,50%,IF(AG147>0,$C147,0)*100),0))))","v":0},{"$f":"IF(AJ147=0,0,IF(AK$2=\"Year\",IF(_xlfn.MAXIFS($N147:AJ147,$N$2:AJ$2,\"Year\")+$E147<=$E$1,AH147+$E147,0),IF(AK$2=\"Repair %\",IF(AH147>0,$C147,0),IF(AK$2=\"Spares %\",IF(IF(AF147>0,$C147,0)*5>80%,50%,IF(AF147>0,$C147,0)*5),0))))","v":0},{"$f":"IF(AK147=0,0,IF(AL$2=\"Year\",IF(_xlfn.MAXIFS($N147:AK147,$N$2:AK$2,\"Year\")+$E147<=$E$1,AI147+$E147,0),IF(AL$2=\"Repair %\",IF(AI147>0,$C$3,0),IF(AL$2=\"Spares %\",IF(IF(AI147>0,$C147,0)*100>50%,50%,IF(AI147>0,$C147,0)*100),0))))","v":0},{"$f":"IF(AL147=0,0,IF(AM$2=\"Year\",IF(_xlfn.MAXIFS($N147:AL147,$N$2:AL$2,\"Year\")+$E147<=$E$1,AJ147+$E147,0),IF(AM$2=\"Repair %\",IF(AJ147>0,$C147,0),IF(AM$2=\"Spares %\",IF(IF(AJ147>0,$C147,0)*100>50%,50%,IF(AJ147>0,$C147,0)*100),0))))","v":0},{"$f":"IF(AM147=0,0,IF(AN$2=\"Year\",IF(_xlfn.MAXIFS($N147:AM147,$N$2:AM$2,\"Year\")+$E147<=$E$1,AK147+$E147,0),IF(AN$2=\"Repair %\",IF(AK147>0,$C147,0),IF(AN$2=\"Spares %\",IF(IF(AI147>0,$C147,0)*5>80%,50%,IF(AI147>0,$C147,0)*5),0))))","v":0},{"$f":"IF(AN147=0,0,IF(AO$2=\"Year\",IF(_xlfn.MAXIFS($N147:AN147,$N$2:AN$2,\"Year\")+$E147<=$E$1,AL147+$E147,0),IF(AO$2=\"Repair %\",IF(AL147>0,$C$3,0),IF(AO$2=\"Spares %\",IF(IF(AL147>0,$C147,0)*100>50%,50%,IF(AL147>0,$C147,0)*100),0))))","v":0},{"$f":"IF(AO147=0,0,IF(AP$2=\"Year\",IF(_xlfn.MAXIFS($N147:AO147,$N$2:AO$2,\"Year\")+$E147<=$E$1,AM147+$E147,0),IF(AP$2=\"Repair %\",IF(AM147>0,$C147,0),IF(AP$2=\"Spares %\",IF(IF(AM147>0,$C147,0)*100>50%,50%,IF(AM147>0,$C147,0)*100),0))))","v":0},{"$f":"IF(AP147=0,0,IF(AQ$2=\"Year\",IF(_xlfn.MAXIFS($N147:AP147,$N$2:AP$2,\"Year\")+$E147<=$E$1,AN147+$E147,0),IF(AQ$2=\"Repair %\",IF(AN147>0,$C147,0),IF(AQ$2=\"Spares %\",IF(IF(AL147>0,$C147,0)*5>80%,50%,IF(AL147>0,$C147,0)*5),0))))","v":0}]
[{"$f":"INDEX('Avionics ID'!A:E,MATCH(B148,'Avionics ID'!E:E,0),1)","v":870},"Radio Altimeters",0.05,0.06,20,"Obsolecence",{"$f":"SUBSTITUTE(ADDRESS(1,MATCH(A148,'Pt1-AvionicsComponentCosts'!$A$6:$NC$6,0)+1),\"$1\",\"\")","v":"$BF"},{"$f":"_xlfn.TEXTJOIN(\", \",TRUE,_xlfn.UNIQUE(_xlfn._xlws.SORT(_xlfn._xlws.FILTER('Pt1-AvionicsComponentCosts'!$NF$12:$NF$384,ISNUMBER(INDIRECT(\"'Pt1-AvionicsComponentCosts'!\"&G148&\"$12:\"&G148&\"$384\"))))))","v":"UAV"},null,0.06,0.05,0.501,1.2969999999999999,{"$f":"COUNTIF($N$2:N$2,\"Year\")*$G$1","v":10},null,0,{"$f":"COUNTIF($N$2:Q$2,\"Year\")*$G$1","v":20},{"$f":"IF(Q148=0,0,IF(R$2=\"Year\",IF(_xlfn.MAXIFS($N148:Q148,$N$2:Q$2,\"Year\")+$E148<=$E$1,O148+$E148,0),IF(R$2=\"Repair %\",IF(O148>0,$C148,0),IF(R$2=\"Spares %\",IF(IF(O148>0,$C148,0)*100>50%,50%,IF(O148>0,$C148,0)*100),0))))","v":0},1,{"$f":"COUNTIF($N$2:T$2,\"Year\")*$G$1","v":30},{"$f":"IF(T148=0,0,IF(U$2=\"Year\",IF(_xlfn.MAXIFS($N148:T148,$N$2:T$2,\"Year\")+$E148<=$E$1,R148+$E148,0),IF(U$2=\"Repair %\",IF(R148>0,$C148,0),IF(U$2=\"Spares %\",IF(IF(R148>0,$C148,0)*100>50%,50%,IF(R148>0,$C148,0)*100),0))))","v":0},0,{"$f":"COUNTIF($N$2:W$2,\"Year\")*$G$1","v":40},{"$f":"IF(W148=0,0,IF(X$2=\"Year\",IF(_xlfn.MAXIFS($N148:W148,$N$2:W$2,\"Year\")+$E148<=$E$1,U148+$E148,0),IF(X$2=\"Repair %\",IF(U148>0,$C148,0),IF(X$2=\"Spares %\",IF(IF(U148>0,$C148,0)*100>50%,50%,IF(U148>0,$C148,0)*100),0))))","v":0},1,{"$f":"IF(Y148=0,0,IF(Z$2=\"Year\",IF(_xlfn.MAXIFS($N148:Y148,$N$2:Y$2,\"Year\")+$E148<=$E$1,W148+$E148,0),IF(Z$2=\"Repair %\",IF(W148>0,$C$3,0),IF(Z$2=\"Spares %\",IF(IF(W148>0,$C148,0)*100>50%,50%,IF(W148>0,$C148,0)*100),0))))","v":0},{"$f":"IF(Z148=0,0,IF(AA$2=\"Year\",IF(_xlfn.MAXIFS($N148:Z148,$N$2:Z$2,\"Year\")+$E148<=$E$1,X148+$E148,0),IF(AA$2=\"Repair %\",IF(X148>0,$C148,0),IF(AA$2=\"Spares %\",IF(IF(X148>0,$C148,0)*100>50%,50%,IF(X148>0,$C148,0)*100),0))))","v":0},{"$f":"IF(AA148=0,0,IF(AB$2=\"Year\",IF(_xlfn.MAXIFS($N148:AA148,$N$2:AA$2,\"Year\")+$E148<=$E$1,Y148+$E148,0),IF(AB$2=\"Repair %\",IF(Y148>0,$C148,0),IF(AB$2=\"Spares %\",IF(IF(W148>0,$C148,0)*5>80%,50%,IF(W148>0,$C148,0)*5),0))))","v":0},{"$f":"IF(AB148=0,0,IF(AC$2=\"Year\",IF(_xlfn.MAXIFS($N148:AB148,$N$2:AB$2,\"Year\")+$E148<=$E$1,Z148+$E148,0),IF(AC$2=\"Repair %\",IF(Z148>0,$C$3,0),IF(AC$2=\"Spares %\",IF(IF(Z148>0,$C148,0)*100>50%,50%,IF(Z148>0,$C148,0)*100),0))))","v":0},{"$f":"IF(AC148=0,0,IF(AD$2=\"Year\",IF(_xlfn.MAXIFS($N148:AC148,$N$2:AC$2,\"Year\")+$E148<=$E$1,AA148+$E148,0),IF(AD$2=\"Repair %\",IF(AA148>0,$C148,0),IF(AD$2=\"Spares %\",IF(IF(AA148>0,$C148,0)*100>50%,50%,IF(AA148>0,$C148,0)*100),0))))","v":0},{"$f":"IF(AD148=0,0,IF(AE$2=\"Year\",IF(_xlfn.MAXIFS($N148:AD148,$N$2:AD$2,\"Year\")+$E148<=$E$1,AB148+$E148,0),IF(AE$2=\"Repair %\",IF(AB148>0,$C148,0),IF(AE$2=\"Spares %\",IF(IF(Z148>0,$C148,0)*5>80%,50%,IF(Z148>0,$C148,0)*5),0))))","v":0},{"$f":"IF(AE148=0,0,IF(AF$2=\"Year\",IF(_xlfn.MAXIFS($N148:AE148,$N$2:AE$2,\"Year\")+$E148<=$E$1,AC148+$E148,0),IF(AF$2=\"Repair %\",IF(AC148>0,$C$3,0),IF(AF$2=\"Spares %\",IF(IF(AC148>0,$C148,0)*100>50%,50%,IF(AC148>0,$C148,0)*100),0))))","v":0},{"$f":"IF(AF148=0,0,IF(AG$2=\"Year\",IF(_xlfn.MAXIFS($N148:AF148,$N$2:AF$2,\"Year\")+$E148<=$E$1,AD148+$E148,0),IF(AG$2=\"Repair %\",IF(AD148>0,$C148,0),IF(AG$2=\"Spares %\",IF(IF(AD148>0,$C148,0)*100>50%,50%,IF(AD148>0,$C148,0)*100),0))))","v":0},{"$f":"IF(AG148=0,0,IF(AH$2=\"Year\",IF(_xlfn.MAXIFS($N148:AG148,$N$2:AG$2,\"Year\")+$E148<=$E$1,AE148+$E148,0),IF(AH$2=\"Repair %\",IF(AE148>0,$C148,0),IF(AH$2=\"Spares %\",IF(IF(AC148>0,$C148,0)*5>80%,50%,IF(AC148>0,$C148,0)*5),0))))","v":0},{"$f":"IF(AH148=0,0,IF(AI$2=\"Year\",IF(_xlfn.MAXIFS($N148:AH148,$N$2:AH$2,\"Year\")+$E148<=$E$1,AF148+$E148,0),IF(AI$2=\"Repair %\",IF(AF148>0,$C$3,0),IF(AI$2=\"Spares %\",IF(IF(AF148>0,$C148,0)*100>50%,50%,IF(AF148>0,$C148,0)*100),0))))","v":0},{"$f":"IF(AI148=0,0,IF(AJ$2=\"Year\",IF(_xlfn.MAXIFS($N148:AI148,$N$2:AI$2,\"Year\")+$E148<=$E$1,AG148+$E148,0),IF(AJ$2=\"Repair %\",IF(AG148>0,$C148,0),IF(AJ$2=\"Spares %\",IF(IF(AG148>0,$C148,0)*100>50%,50%,IF(AG148>0,$C148,0)*100),0))))","v":0},{"$f":"IF(AJ148=0,0,IF(AK$2=\"Year\",IF(_xlfn.MAXIFS($N148:AJ148,$N$2:AJ$2,\"Year\")+$E148<=$E$1,AH148+$E148,0),IF(AK$2=\"Repair %\",IF(AH148>0,$C148,0),IF(AK$2=\"Spares %\",IF(IF(AF148>0,$C148,0)*5>80%,50%,IF(AF148>0,$C148,0)*5),0))))","v":0},{"$f":"IF(AK148=0,0,IF(AL$2=\"Year\",IF(_xlfn.MAXIFS($N148:AK148,$N$2:AK$2,\"Year\")+$E148<=$E$1,AI148+$E148,0),IF(AL$2=\"Repair %\",IF(AI148>0,$C$3,0),IF(AL$2=\"Spares %\",IF(IF(AI148>0,$C148,0)*100>50%,50%,IF(AI148>0,$C148,0)*100),0))))","v":0},{"$f":"IF(AL148=0,0,IF(AM$2=\"Year\",IF(_xlfn.MAXIFS($N148:AL148,$N$2:AL$2,\"Year\")+$E148<=$E$1,AJ148+$E148,0),IF(AM$2=\"Repair %\",IF(AJ148>0,$C148,0),IF(AM$2=\"Spares %\",IF(IF(AJ148>0,$C148,0)*100>50%,50%,IF(AJ148>0,$C148,0)*100),0))))","v":0},{"$f":"IF(AM148=0,0,IF(AN$2=\"Year\",IF(_xlfn.MAXIFS($N148:AM148,$N$2:AM$2,\"Year\")+$E148<=$E$1,AK148+$E148,0),IF(AN$2=\"Repair %\",IF(AK148>0,$C148,0),IF(AN$2=\"Spares %\",IF(IF(AI148>0,$C148,0)*5>80%,50%,IF(AI148>0,$C148,0)*5),0))))","v":0},{"$f":"IF(AN148=0,0,IF(AO$2=\"Year\",IF(_xlfn.MAXIFS($N148:AN148,$N$2:AN$2,\"Year\")+$E148<=$E$1,AL148+$E148,0),IF(AO$2=\"Repair %\",IF(AL148>0,$C$3,0),IF(AO$2=\"Spares %\",IF(IF(AL148>0,$C148,0)*100>50%,50%,IF(AL148>0,$C148,0)*100),0))))","v":0},{"$f":"IF(AO148=0,0,IF(AP$2=\"Year\",IF(_xlfn.MAXIFS($N148:AO148,$N$2:AO$2,\"Year\")+$E148<=$E$1,AM148+$E148,0),IF(AP$2=\"Repair %\",IF(AM148>0,$C148,0),IF(AP$2=\"Spares %\",IF(IF(AM148>0,$C148,0)*100>50%,50%,IF(AM148>0,$C148,0)*100),0))))","v":0},{"$f":"IF(AP148=0,0,IF(AQ$2=\"Year\",IF(_xlfn.MAXIFS($N148:AP148,$N$2:AP$2,\"Year\")+$E148<=$E$1,AN148+$E148,0),IF(AQ$2=\"Repair %\",IF(AN148>0,$C148,0),IF(AQ$2=\"Spares %\",IF(IF(AL148>0,$C148,0)*5>80%,50%,IF(AL148>0,$C148,0)*5),0))))","v":0}]
[{"$f":"INDEX('Avionics ID'!A:E,MATCH(B149,'Avionics ID'!E:E,0),1)","v":876},"Radio antenna receivers/transmitters",0,0.06,null,"",{"$f":"SUBSTITUTE(ADDRESS(1,MATCH(A149,'Pt1-AvionicsComponentCosts'!$A$6:$NC$6,0)+1),\"$1\",\"\")","v":"$BH"},{"$f":"_xlfn.TEXTJOIN(\", \",TRUE,_xlfn.UNIQUE(_xlfn._xlws.SORT(_xlfn._xlws.FILTER('Pt1-AvionicsComponentCosts'!$NF$12:$NF$384,ISNUMBER(INDIRECT(\"'Pt1-AvionicsComponentCosts'!\"&G149&\"$12:\"&G149&\"$384\"))))))","v":"Helo, UAV"},null,0.06,0,0.501,1.2969999999999999,{"$f":"COUNTIF($N$2:N$2,\"Year\")*$G$1","v":10},null,0,{"$f":"COUNTIF($N$2:Q$2,\"Year\")*$G$1","v":20},{"$f":"IF(Q149=0,0,IF(R$2=\"Year\",IF(_xlfn.MAXIFS($N149:Q149,$N$2:Q$2,\"Year\")+$E149<=$E$1,O149+$E149,0),IF(R$2=\"Repair %\",IF(O149>0,$C149,0),IF(R$2=\"Spares %\",IF(IF(O149>0,$C149,0)*100>50%,50%,IF(O149>0,$C149,0)*100),0))))","v":0},0,{"$f":"COUNTIF($N$2:T$2,\"Year\")*$G$1","v":30},{"$f":"IF(T149=0,0,IF(U$2=\"Year\",IF(_xlfn.MAXIFS($N149:T149,$N$2:T$2,\"Year\")+$E149<=$E$1,R149+$E149,0),IF(U$2=\"Repair %\",IF(R149>0,$C149,0),IF(U$2=\"Spares %\",IF(IF(R149>0,$C149,0)*100>50%,50%,IF(R149>0,$C149,0)*100),0))))","v":0},0,{"$f":"COUNTIF($N$2:W$2,\"Year\")*$G$1","v":40},{"$f":"IF(W149=0,0,IF(X$2=\"Year\",IF(_xlfn.MAXIFS($N149:W149,$N$2:W$2,\"Year\")+$E149<=$E$1,U149+$E149,0),IF(X$2=\"Repair %\",IF(U149>0,$C149,0),IF(X$2=\"Spares %\",IF(IF(U149>0,$C149,0)*100>50%,50%,IF(U149>0,$C149,0)*100),0))))","v":0},0,{"$f":"IF(Y149=0,0,IF(Z$2=\"Year\",IF(_xlfn.MAXIFS($N149:Y149,$N$2:Y$2,\"Year\")+$E149<=$E$1,W149+$E149,0),IF(Z$2=\"Repair %\",IF(W149>0,$C$3,0),IF(Z$2=\"Spares %\",IF(IF(W149>0,$C149,0)*100>50%,50%,IF(W149>0,$C149,0)*100),0))))","v":0},{"$f":"IF(Z149=0,0,IF(AA$2=\"Year\",IF(_xlfn.MAXIFS($N149:Z149,$N$2:Z$2,\"Year\")+$E149<=$E$1,X149+$E149,0),IF(AA$2=\"Repair %\",IF(X149>0,$C149,0),IF(AA$2=\"Spares %\",IF(IF(X149>0,$C149,0)*100>50%,50%,IF(X149>0,$C149,0)*100),0))))","v":0},{"$f":"IF(AA149=0,0,IF(AB$2=\"Year\",IF(_xlfn.MAXIFS($N149:AA149,$N$2:AA$2,\"Year\")+$E149<=$E$1,Y149+$E149,0),IF(AB$2=\"Repair %\",IF(Y149>0,$C149,0),IF(AB$2=\"Spares %\",IF(IF(W149>0,$C149,0)*5>80%,50%,IF(W149>0,$C149,0)*5),0))))","v":0},{"$f":"IF(AB149=0,0,IF(AC$2=\"Year\",IF(_xlfn.MAXIFS($N149:AB149,$N$2:AB$2,\"Year\")+$E149<=$E$1,Z149+$E149,0),IF(AC$2=\"Repair %\",IF(Z149>0,$C$3,0),IF(AC$2=\"Spares %\",IF(IF(Z149>0,$C149,0)*100>50%,50%,IF(Z149>0,$C149,0)*100),0))))","v":0},{"$f":"IF(AC149=0,0,IF(AD$2=\"Year\",IF(_xlfn.MAXIFS($N149:AC149,$N$2:AC$2,\"Year\")+$E149<=$E$1,AA149+$E149,0),IF(AD$2=\"Repair %\",IF(AA149>0,$C149,0),IF(AD$2=\"Spares %\",IF(IF(AA149>0,$C149,0)*100>50%,50%,IF(AA149>0,$C149,0)*100),0))))","v":0},{"$f":"IF(AD149=0,0,IF(AE$2=\"Year\",IF(_xlfn.MAXIFS($N149:AD149,$N$2:AD$2,\"Year\")+$E149<=$E$1,AB149+$E149,0),IF(AE$2=\"Repair %\",IF(AB149>0,$C149,0),IF(AE$2=\"Spares %\",IF(IF(Z149>0,$C149,0)*5>80%,50%,IF(Z149>0,$C149,0)*5),0))))","v":0},{"$f":"IF(AE149=0,0,IF(AF$2=\"Year\",IF(_xlfn.MAXIFS($N149:AE149,$N$2:AE$2,\"Year\")+$E149<=$E$1,AC149+$E149,0),IF(AF$2=\"Repair %\",IF(AC149>0,$C$3,0),IF(AF$2=\"Spares %\",IF(IF(AC149>0,$C149,0)*100>50%,50%,IF(AC149>0,$C149,0)*100),0))))","v":0},{"$f":"IF(AF149=0,0,IF(AG$2=\"Year\",IF(_xlfn.MAXIFS($N149:AF149,$N$2:AF$2,\"Year\")+$E149<=$E$1,AD149+$E149,0),IF(AG$2=\"Repair %\",IF(AD149>0,$C149,0),IF(AG$2=\"Spares %\",IF(IF(AD149>0,$C149,0)*100>50%,50%,IF(AD149>0,$C149,0)*100),0))))","v":0},{"$f":"IF(AG149=0,0,IF(AH$2=\"Year\",IF(_xlfn.MAXIFS($N149:AG149,$N$2:AG$2,\"Year\")+$E149<=$E$1,AE149+$E149,0),IF(AH$2=\"Repair %\",IF(AE149>0,$C149,0),IF(AH$2=\"Spares %\",IF(IF(AC149>0,$C149,0)*5>80%,50%,IF(AC149>0,$C149,0)*5),0))))","v":0},{"$f":"IF(AH149=0,0,IF(AI$2=\"Year\",IF(_xlfn.MAXIFS($N149:AH149,$N$2:AH$2,\"Year\")+$E149<=$E$1,AF149+$E149,0),IF(AI$2=\"Repair %\",IF(AF149>0,$C$3,0),IF(AI$2=\"Spares %\",IF(IF(AF149>0,$C149,0)*100>50%,50%,IF(AF149>0,$C149,0)*100),0))))","v":0},{"$f":"IF(AI149=0,0,IF(AJ$2=\"Year\",IF(_xlfn.MAXIFS($N149:AI149,$N$2:AI$2,\"Year\")+$E149<=$E$1,AG149+$E149,0),IF(AJ$2=\"Repair %\",IF(AG149>0,$C149,0),IF(AJ$2=\"Spares %\",IF(IF(AG149>0,$C149,0)*100>50%,50%,IF(AG149>0,$C149,0)*100),0))))","v":0},{"$f":"IF(AJ149=0,0,IF(AK$2=\"Year\",IF(_xlfn.MAXIFS($N149:AJ149,$N$2:AJ$2,\"Year\")+$E149<=$E$1,AH149+$E149,0),IF(AK$2=\"Repair %\",IF(AH149>0,$C149,0),IF(AK$2=\"Spares %\",IF(IF(AF149>0,$C149,0)*5>80%,50%,IF(AF149>0,$C149,0)*5),0))))","v":0},{"$f":"IF(AK149=0,0,IF(AL$2=\"Year\",IF(_xlfn.MAXIFS($N149:AK149,$N$2:AK$2,\"Year\")+$E149<=$E$1,AI149+$E149,0),IF(AL$2=\"Repair %\",IF(AI149>0,$C$3,0),IF(AL$2=\"Spares %\",IF(IF(AI149>0,$C149,0)*100>50%,50%,IF(AI149>0,$C149,0)*100),0))))","v":0},{"$f":"IF(AL149=0,0,IF(AM$2=\"Year\",IF(_xlfn.MAXIFS($N149:AL149,$N$2:AL$2,\"Year\")+$E149<=$E$1,AJ149+$E149,0),IF(AM$2=\"Repair %\",IF(AJ149>0,$C149,0),IF(AM$2=\"Spares %\",IF(IF(AJ149>0,$C149,0)*100>50%,50%,IF(AJ149>0,$C149,0)*100),0))))","v":0},{"$f":"IF(AM149=0,0,IF(AN$2=\"Year\",IF(_xlfn.MAXIFS($N149:AM149,$N$2:AM$2,\"Year\")+$E149<=$E$1,AK149+$E149,0),IF(AN$2=\"Repair %\",IF(AK149>0,$C149,0),IF(AN$2=\"Spares %\",IF(IF(AI149>0,$C149,0)*5>80%,50%,IF(AI149>0,$C149,0)*5),0))))","v":0},{"$f":"IF(AN149=0,0,IF(AO$2=\"Year\",IF(_xlfn.MAXIFS($N149:AN149,$N$2:AN$2,\"Year\")+$E149<=$E$1,AL149+$E149,0),IF(AO$2=\"Repair %\",IF(AL149>0,$C$3,0),IF(AO$2=\"Spares %\",IF(IF(AL149>0,$C149,0)*100>50%,50%,IF(AL149>0,$C149,0)*100),0))))","v":0},{"$f":"IF(AO149=0,0,IF(AP$2=\"Year\",IF(_xlfn.MAXIFS($N149:AO149,$N$2:AO$2,\"Year\")+$E149<=$E$1,AM149+$E149,0),IF(AP$2=\"Repair %\",IF(AM149>0,$C149,0),IF(AP$2=\"Spares %\",IF(IF(AM149>0,$C149,0)*100>50%,50%,IF(AM149>0,$C149,0)*100),0))))","v":0},{"$f":"IF(AP149=0,0,IF(AQ$2=\"Year\",IF(_xlfn.MAXIFS($N149:AP149,$N$2:AP$2,\"Year\")+$E149<=$E$1,AN149+$E149,0),IF(AQ$2=\"Repair %\",IF(AN149>0,$C149,0),IF(AQ$2=\"Spares %\",IF(IF(AL149>0,$C149,0)*5>80%,50%,IF(AL149>0,$C149,0)*5),0))))","v":0}]
[{"$f":"INDEX('Avionics ID'!A:E,MATCH(B150,'Avionics ID'!E:E,0),1)","v":830},"Radio antenna, amplifier, sat data",0.1,0.1,10,"Obsolecence",{"$f":"SUBSTITUTE(ADDRESS(1,MATCH(A150,'Pt1-AvionicsComponentCosts'!$A$6:$NC$6,0)+1),\"$1\",\"\")","v":"$BJ"},{"$f":"_xlfn.TEXTJOIN(\", \",TRUE,_xlfn.UNIQUE(_xlfn._xlws.SORT(_xlfn._xlws.FILTER('Pt1-AvionicsComponentCosts'!$NF$12:$NF$384,ISNUMBER(INDIRECT(\"'Pt1-AvionicsComponentCosts'!\"&G150&\"$12:\"&G150&\"$384\"))))))","v":"Challenger, Citation, E550, EMB Bizjet, Falcon, Global, Gulfstream, Hawker, Hondajet, Learjet, Nextant 400XT, PC-24, Phenom, Praetor, SF50"},null,0.1,0.1,0.501,1.2969999999999999,{"$f":"COUNTIF($N$2:N$2,\"Year\")*$G$1","v":10},null,1,{"$f":"COUNTIF($N$2:Q$2,\"Year\")*$G$1","v":20},{"$f":"IF(Q150=0,0,IF(R$2=\"Year\",IF(_xlfn.MAXIFS($N150:Q150,$N$2:Q$2,\"Year\")+$E150<=$E$1,O150+$E150,0),IF(R$2=\"Repair %\",IF(O150>0,$C150,0),IF(R$2=\"Spares %\",IF(IF(O150>0,$C150,0)*100>50%,50%,IF(O150>0,$C150,0)*100),0))))","v":0},1,{"$f":"COUNTIF($N$2:T$2,\"Year\")*$G$1","v":30},{"$f":"IF(T150=0,0,IF(U$2=\"Year\",IF(_xlfn.MAXIFS($N150:T150,$N$2:T$2,\"Year\")+$E150<=$E$1,R150+$E150,0),IF(U$2=\"Repair %\",IF(R150>0,$C150,0),IF(U$2=\"Spares %\",IF(IF(R150>0,$C150,0)*100>50%,50%,IF(R150>0,$C150,0)*100),0))))","v":0},1,{"$f":"COUNTIF($N$2:W$2,\"Year\")*$G$1","v":40},{"$f":"IF(W150=0,0,IF(X$2=\"Year\",IF(_xlfn.MAXIFS($N150:W150,$N$2:W$2,\"Year\")+$E150<=$E$1,U150+$E150,0),IF(X$2=\"Repair %\",IF(U150>0,$C150,0),IF(X$2=\"Spares %\",IF(IF(U150>0,$C150,0)*100>50%,50%,IF(U150>0,$C150,0)*100),0))))","v":0},1,{"$f":"IF(Y150=0,0,IF(Z$2=\"Year\",IF(_xlfn.MAXIFS($N150:Y150,$N$2:Y$2,\"Year\")+$E150<=$E$1,W150+$E150,0),IF(Z$2=\"Repair %\",IF(W150>0,$C$3,0),IF(Z$2=\"Spares %\",IF(IF(W150>0,$C150,0)*100>50%,50%,IF(W150>0,$C150,0)*100),0))))","v":0},{"$f":"IF(Z150=0,0,IF(AA$2=\"Year\",IF(_xlfn.MAXIFS($N150:Z150,$N$2:Z$2,\"Year\")+$E150<=$E$1,X150+$E150,0),IF(AA$2=\"Repair %\",IF(X150>0,$C150,0),IF(AA$2=\"Spares %\",IF(IF(X150>0,$C150,0)*100>50%,50%,IF(X150>0,$C150,0)*100),0))))","v":0},{"$f":"IF(AA150=0,0,IF(AB$2=\"Year\",IF(_xlfn.MAXIFS($N150:AA150,$N$2:AA$2,\"Year\")+$E150<=$E$1,Y150+$E150,0),IF(AB$2=\"Repair %\",IF(Y150>0,$C150,0),IF(AB$2=\"Spares %\",IF(IF(W150>0,$C150,0)*5>80%,50%,IF(W150>0,$C150,0)*5),0))))","v":0},{"$f":"IF(AB150=0,0,IF(AC$2=\"Year\",IF(_xlfn.MAXIFS($N150:AB150,$N$2:AB$2,\"Year\")+$E150<=$E$1,Z150+$E150,0),IF(AC$2=\"Repair %\",IF(Z150>0,$C$3,0),IF(AC$2=\"Spares %\",IF(IF(Z150>0,$C150,0)*100>50%,50%,IF(Z150>0,$C150,0)*100),0))))","v":0},{"$f":"IF(AC150=0,0,IF(AD$2=\"Year\",IF(_xlfn.MAXIFS($N150:AC150,$N$2:AC$2,\"Year\")+$E150<=$E$1,AA150+$E150,0),IF(AD$2=\"Repair %\",IF(AA150>0,$C150,0),IF(AD$2=\"Spares %\",IF(IF(AA150>0,$C150,0)*100>50%,50%,IF(AA150>0,$C150,0)*100),0))))","v":0},{"$f":"IF(AD150=0,0,IF(AE$2=\"Year\",IF(_xlfn.MAXIFS($N150:AD150,$N$2:AD$2,\"Year\")+$E150<=$E$1,AB150+$E150,0),IF(AE$2=\"Repair %\",IF(AB150>0,$C150,0),IF(AE$2=\"Spares %\",IF(IF(Z150>0,$C150,0)*5>80%,50%,IF(Z150>0,$C150,0)*5),0))))","v":0},{"$f":"IF(AE150=0,0,IF(AF$2=\"Year\",IF(_xlfn.MAXIFS($N150:AE150,$N$2:AE$2,\"Year\")+$E150<=$E$1,AC150+$E150,0),IF(AF$2=\"Repair %\",IF(AC150>0,$C$3,0),IF(AF$2=\"Spares %\",IF(IF(AC150>0,$C150,0)*100>50%,50%,IF(AC150>0,$C150,0)*100),0))))","v":0},{"$f":"IF(AF150=0,0,IF(AG$2=\"Year\",IF(_xlfn.MAXIFS($N150:AF150,$N$2:AF$2,\"Year\")+$E150<=$E$1,AD150+$E150,0),IF(AG$2=\"Repair %\",IF(AD150>0,$C150,0),IF(AG$2=\"Spares %\",IF(IF(AD150>0,$C150,0)*100>50%,50%,IF(AD150>0,$C150,0)*100),0))))","v":0},{"$f":"IF(AG150=0,0,IF(AH$2=\"Year\",IF(_xlfn.MAXIFS($N150:AG150,$N$2:AG$2,\"Year\")+$E150<=$E$1,AE150+$E150,0),IF(AH$2=\"Repair %\",IF(AE150>0,$C150,0),IF(AH$2=\"Spares %\",IF(IF(AC150>0,$C150,0)*5>80%,50%,IF(AC150>0,$C150,0)*5),0))))","v":0},{"$f":"IF(AH150=0,0,IF(AI$2=\"Year\",IF(_xlfn.MAXIFS($N150:AH150,$N$2:AH$2,\"Year\")+$E150<=$E$1,AF150+$E150,0),IF(AI$2=\"Repair %\",IF(AF150>0,$C$3,0),IF(AI$2=\"Spares %\",IF(IF(AF150>0,$C150,0)*100>50%,50%,IF(AF150>0,$C150,0)*100),0))))","v":0},{"$f":"IF(AI150=0,0,IF(AJ$2=\"Year\",IF(_xlfn.MAXIFS($N150:AI150,$N$2:AI$2,\"Year\")+$E150<=$E$1,AG150+$E150,0),IF(AJ$2=\"Repair %\",IF(AG150>0,$C150,0),IF(AJ$2=\"Spares %\",IF(IF(AG150>0,$C150,0)*100>50%,50%,IF(AG150>0,$C150,0)*100),0))))","v":0},{"$f":"IF(AJ150=0,0,IF(AK$2=\"Year\",IF(_xlfn.MAXIFS($N150:AJ150,$N$2:AJ$2,\"Year\")+$E150<=$E$1,AH150+$E150,0),IF(AK$2=\"Repair %\",IF(AH150>0,$C150,0),IF(AK$2=\"Spares %\",IF(IF(AF150>0,$C150,0)*5>80%,50%,IF(AF150>0,$C150,0)*5),0))))","v":0},{"$f":"IF(AK150=0,0,IF(AL$2=\"Year\",IF(_xlfn.MAXIFS($N150:AK150,$N$2:AK$2,\"Year\")+$E150<=$E$1,AI150+$E150,0),IF(AL$2=\"Repair %\",IF(AI150>0,$C$3,0),IF(AL$2=\"Spares %\",IF(IF(AI150>0,$C150,0)*100>50%,50%,IF(AI150>0,$C150,0)*100),0))))","v":0},{"$f":"IF(AL150=0,0,IF(AM$2=\"Year\",IF(_xlfn.MAXIFS($N150:AL150,$N$2:AL$2,\"Year\")+$E150<=$E$1,AJ150+$E150,0),IF(AM$2=\"Repair %\",IF(AJ150>0,$C150,0),IF(AM$2=\"Spares %\",IF(IF(AJ150>0,$C150,0)*100>50%,50%,IF(AJ150>0,$C150,0)*100),0))))","v":0},{"$f":"IF(AM150=0,0,IF(AN$2=\"Year\",IF(_xlfn.MAXIFS($N150:AM150,$N$2:AM$2,\"Year\")+$E150<=$E$1,AK150+$E150,0),IF(AN$2=\"Repair %\",IF(AK150>0,$C150,0),IF(AN$2=\"Spares %\",IF(IF(AI150>0,$C150,0)*5>80%,50%,IF(AI150>0,$C150,0)*5),0))))","v":0},{"$f":"IF(AN150=0,0,IF(AO$2=\"Year\",IF(_xlfn.MAXIFS($N150:AN150,$N$2:AN$2,\"Year\")+$E150<=$E$1,AL150+$E150,0),IF(AO$2=\"Repair %\",IF(AL150>0,$C$3,0),IF(AO$2=\"Spares %\",IF(IF(AL150>0,$C150,0)*100>50%,50%,IF(AL150>0,$C150,0)*100),0))))","v":0},{"$f":"IF(AO150=0,0,IF(AP$2=\"Year\",IF(_xlfn.MAXIFS($N150:AO150,$N$2:AO$2,\"Year\")+$E150<=$E$1,AM150+$E150,0),IF(AP$2=\"Repair %\",IF(AM150>0,$C150,0),IF(AP$2=\"Spares %\",IF(IF(AM150>0,$C150,0)*100>50%,50%,IF(AM150>0,$C150,0)*100),0))))","v":0},{"$f":"IF(AP150=0,0,IF(AQ$2=\"Year\",IF(_xlfn.MAXIFS($N150:AP150,$N$2:AP$2,\"Year\")+$E150<=$E$1,AN150+$E150,0),IF(AQ$2=\"Repair %\",IF(AN150>0,$C150,0),IF(AQ$2=\"Spares %\",IF(IF(AL150>0,$C150,0)*5>80%,50%,IF(AL150>0,$C150,0)*5),0))))","v":0}]
[{"$f":"INDEX('Avionics ID'!A:E,MATCH(B151,'Avionics ID'!E:E,0),1)","v":806},"Radio Antennas",0.1,0.1,10,"Obsolecence",{"$f":"SUBSTITUTE(ADDRESS(1,MATCH(A151,'Pt1-AvionicsComponentCosts'!$A$6:$NC$6,0)+1),\"$1\",\"\")","v":"$BL"},{"$f":"_xlfn.TEXTJOIN(\", \",TRUE,_xlfn.UNIQUE(_xlfn._xlws.SORT(_xlfn._xlws.FILTER('Pt1-AvionicsComponentCosts'!$NF$12:$NF$384,ISNUMBER(INDIRECT(\"'Pt1-AvionicsComponentCosts'!\"&G151&\"$12:\"&G151&\"$384\"))))))","v":"ARJ, Challenger, Citation, CRJ, E550, EMB Bizjet, EMB Regional, Falcon, Global, Gulfstream, Hawker, Hondajet, Learjet, Nextant 400XT, PC-24, Phenom, Praetor, Reg TP, SF50, Superjet 100, Turbine GA"},null,0.1,0.1,0.501,1.2969999999999999,{"$f":"COUNTIF($N$2:N$2,\"Year\")*$G$1","v":10},null,1,{"$f":"COUNTIF($N$2:Q$2,\"Year\")*$G$1","v":20},{"$f":"IF(Q151=0,0,IF(R$2=\"Year\",IF(_xlfn.MAXIFS($N151:Q151,$N$2:Q$2,\"Year\")+$E151<=$E$1,O151+$E151,0),IF(R$2=\"Repair %\",IF(O151>0,$C151,0),IF(R$2=\"Spares %\",IF(IF(O151>0,$C151,0)*100>50%,50%,IF(O151>0,$C151,0)*100),0))))","v":0},1,{"$f":"COUNTIF($N$2:T$2,\"Year\")*$G$1","v":30},{"$f":"IF(T151=0,0,IF(U$2=\"Year\",IF(_xlfn.MAXIFS($N151:T151,$N$2:T$2,\"Year\")+$E151<=$E$1,R151+$E151,0),IF(U$2=\"Repair %\",IF(R151>0,$C151,0),IF(U$2=\"Spares %\",IF(IF(R151>0,$C151,0)*100>50%,50%,IF(R151>0,$C151,0)*100),0))))","v":0},1,{"$f":"COUNTIF($N$2:W$2,\"Year\")*$G$1","v":40},{"$f":"IF(W151=0,0,IF(X$2=\"Year\",IF(_xlfn.MAXIFS($N151:W151,$N$2:W$2,\"Year\")+$E151<=$E$1,U151+$E151,0),IF(X$2=\"Repair %\",IF(U151>0,$C151,0),IF(X$2=\"Spares %\",IF(IF(U151>0,$C151,0)*100>50%,50%,IF(U151>0,$C151,0)*100),0))))","v":0},1,{"$f":"IF(Y151=0,0,IF(Z$2=\"Year\",IF(_xlfn.MAXIFS($N151:Y151,$N$2:Y$2,\"Year\")+$E151<=$E$1,W151+$E151,0),IF(Z$2=\"Repair %\",IF(W151>0,$C$3,0),IF(Z$2=\"Spares %\",IF(IF(W151>0,$C151,0)*100>50%,50%,IF(W151>0,$C151,0)*100),0))))","v":0},{"$f":"IF(Z151=0,0,IF(AA$2=\"Year\",IF(_xlfn.MAXIFS($N151:Z151,$N$2:Z$2,\"Year\")+$E151<=$E$1,X151+$E151,0),IF(AA$2=\"Repair %\",IF(X151>0,$C151,0),IF(AA$2=\"Spares %\",IF(IF(X151>0,$C151,0)*100>50%,50%,IF(X151>0,$C151,0)*100),0))))","v":0},{"$f":"IF(AA151=0,0,IF(AB$2=\"Year\",IF(_xlfn.MAXIFS($N151:AA151,$N$2:AA$2,\"Year\")+$E151<=$E$1,Y151+$E151,0),IF(AB$2=\"Repair %\",IF(Y151>0,$C151,0),IF(AB$2=\"Spares %\",IF(IF(W151>0,$C151,0)*5>80%,50%,IF(W151>0,$C151,0)*5),0))))","v":0},{"$f":"IF(AB151=0,0,IF(AC$2=\"Year\",IF(_xlfn.MAXIFS($N151:AB151,$N$2:AB$2,\"Year\")+$E151<=$E$1,Z151+$E151,0),IF(AC$2=\"Repair %\",IF(Z151>0,$C$3,0),IF(AC$2=\"Spares %\",IF(IF(Z151>0,$C151,0)*100>50%,50%,IF(Z151>0,$C151,0)*100),0))))","v":0},{"$f":"IF(AC151=0,0,IF(AD$2=\"Year\",IF(_xlfn.MAXIFS($N151:AC151,$N$2:AC$2,\"Year\")+$E151<=$E$1,AA151+$E151,0),IF(AD$2=\"Repair %\",IF(AA151>0,$C151,0),IF(AD$2=\"Spares %\",IF(IF(AA151>0,$C151,0)*100>50%,50%,IF(AA151>0,$C151,0)*100),0))))","v":0},{"$f":"IF(AD151=0,0,IF(AE$2=\"Year\",IF(_xlfn.MAXIFS($N151:AD151,$N$2:AD$2,\"Year\")+$E151<=$E$1,AB151+$E151,0),IF(AE$2=\"Repair %\",IF(AB151>0,$C151,0),IF(AE$2=\"Spares %\",IF(IF(Z151>0,$C151,0)*5>80%,50%,IF(Z151>0,$C151,0)*5),0))))","v":0},{"$f":"IF(AE151=0,0,IF(AF$2=\"Year\",IF(_xlfn.MAXIFS($N151:AE151,$N$2:AE$2,\"Year\")+$E151<=$E$1,AC151+$E151,0),IF(AF$2=\"Repair %\",IF(AC151>0,$C$3,0),IF(AF$2=\"Spares %\",IF(IF(AC151>0,$C151,0)*100>50%,50%,IF(AC151>0,$C151,0)*100),0))))","v":0},{"$f":"IF(AF151=0,0,IF(AG$2=\"Year\",IF(_xlfn.MAXIFS($N151:AF151,$N$2:AF$2,\"Year\")+$E151<=$E$1,AD151+$E151,0),IF(AG$2=\"Repair %\",IF(AD151>0,$C151,0),IF(AG$2=\"Spares %\",IF(IF(AD151>0,$C151,0)*100>50%,50%,IF(AD151>0,$C151,0)*100),0))))","v":0},{"$f":"IF(AG151=0,0,IF(AH$2=\"Year\",IF(_xlfn.MAXIFS($N151:AG151,$N$2:AG$2,\"Year\")+$E151<=$E$1,AE151+$E151,0),IF(AH$2=\"Repair %\",IF(AE151>0,$C151,0),IF(AH$2=\"Spares %\",IF(IF(AC151>0,$C151,0)*5>80%,50%,IF(AC151>0,$C151,0)*5),0))))","v":0},{"$f":"IF(AH151=0,0,IF(AI$2=\"Year\",IF(_xlfn.MAXIFS($N151:AH151,$N$2:AH$2,\"Year\")+$E151<=$E$1,AF151+$E151,0),IF(AI$2=\"Repair %\",IF(AF151>0,$C$3,0),IF(AI$2=\"Spares %\",IF(IF(AF151>0,$C151,0)*100>50%,50%,IF(AF151>0,$C151,0)*100),0))))","v":0},{"$f":"IF(AI151=0,0,IF(AJ$2=\"Year\",IF(_xlfn.MAXIFS($N151:AI151,$N$2:AI$2,\"Year\")+$E151<=$E$1,AG151+$E151,0),IF(AJ$2=\"Repair %\",IF(AG151>0,$C151,0),IF(AJ$2=\"Spares %\",IF(IF(AG151>0,$C151,0)*100>50%,50%,IF(AG151>0,$C151,0)*100),0))))","v":0},{"$f":"IF(AJ151=0,0,IF(AK$2=\"Year\",IF(_xlfn.MAXIFS($N151:AJ151,$N$2:AJ$2,\"Year\")+$E151<=$E$1,AH151+$E151,0),IF(AK$2=\"Repair %\",IF(AH151>0,$C151,0),IF(AK$2=\"Spares %\",IF(IF(AF151>0,$C151,0)*5>80%,50%,IF(AF151>0,$C151,0)*5),0))))","v":0},{"$f":"IF(AK151=0,0,IF(AL$2=\"Year\",IF(_xlfn.MAXIFS($N151:AK151,$N$2:AK$2,\"Year\")+$E151<=$E$1,AI151+$E151,0),IF(AL$2=\"Repair %\",IF(AI151>0,$C$3,0),IF(AL$2=\"Spares %\",IF(IF(AI151>0,$C151,0)*100>50%,50%,IF(AI151>0,$C151,0)*100),0))))","v":0},{"$f":"IF(AL151=0,0,IF(AM$2=\"Year\",IF(_xlfn.MAXIFS($N151:AL151,$N$2:AL$2,\"Year\")+$E151<=$E$1,AJ151+$E151,0),IF(AM$2=\"Repair %\",IF(AJ151>0,$C151,0),IF(AM$2=\"Spares %\",IF(IF(AJ151>0,$C151,0)*100>50%,50%,IF(AJ151>0,$C151,0)*100),0))))","v":0},{"$f":"IF(AM151=0,0,IF(AN$2=\"Year\",IF(_xlfn.MAXIFS($N151:AM151,$N$2:AM$2,\"Year\")+$E151<=$E$1,AK151+$E151,0),IF(AN$2=\"Repair %\",IF(AK151>0,$C151,0),IF(AN$2=\"Spares %\",IF(IF(AI151>0,$C151,0)*5>80%,50%,IF(AI151>0,$C151,0)*5),0))))","v":0},{"$f":"IF(AN151=0,0,IF(AO$2=\"Year\",IF(_xlfn.MAXIFS($N151:AN151,$N$2:AN$2,\"Year\")+$E151<=$E$1,AL151+$E151,0),IF(AO$2=\"Repair %\",IF(AL151>0,$C$3,0),IF(AO$2=\"Spares %\",IF(IF(AL151>0,$C151,0)*100>50%,50%,IF(AL151>0,$C151,0)*100),0))))","v":0},{"$f":"IF(AO151=0,0,IF(AP$2=\"Year\",IF(_xlfn.MAXIFS($N151:AO151,$N$2:AO$2,\"Year\")+$E151<=$E$1,AM151+$E151,0),IF(AP$2=\"Repair %\",IF(AM151>0,$C151,0),IF(AP$2=\"Spares %\",IF(IF(AM151>0,$C151,0)*100>50%,50%,IF(AM151>0,$C151,0)*100),0))))","v":0},{"$f":"IF(AP151=0,0,IF(AQ$2=\"Year\",IF(_xlfn.MAXIFS($N151:AP151,$N$2:AP$2,\"Year\")+$E151<=$E$1,AN151+$E151,0),IF(AQ$2=\"Repair %\",IF(AN151>0,$C151,0),IF(AQ$2=\"Spares %\",IF(IF(AL151>0,$C151,0)*5>80%,50%,IF(AL151>0,$C151,0)*5),0))))","v":0}]
[{"$f":"INDEX('Avionics ID'!A:E,MATCH(B152,'Avionics ID'!E:E,0),1)","v":743},"Radio Management Panel",0.1,0.1,10,"Obsolecence",{"$f":"SUBSTITUTE(ADDRESS(1,MATCH(A152,'Pt1-AvionicsComponentCosts'!$A$6:$NC$6,0)+1),\"$1\",\"\")","v":"$BN"},{"$f":"_xlfn.TEXTJOIN(\", \",TRUE,_xlfn.UNIQUE(_xlfn._xlws.SORT(_xlfn._xlws.FILTER('Pt1-AvionicsComponentCosts'!$NF$12:$NF$384,ISNUMBER(INDIRECT(\"'Pt1-AvionicsComponentCosts'!\"&G152&\"$12:\"&G152&\"$384\"))))))","v":"A220, A300, A320, A321, A330, A340, A350, A380, ATR, B717, B737, B747, B757, B767, B777, B787, C919, EMB Regional, MC-21, MD-11, Mil Transport, Military Jet, NSA"},null,0.1,0.1,0.501,1.2969999999999999,{"$f":"COUNTIF($N$2:N$2,\"Year\")*$G$1","v":10},null,1,{"$f":"COUNTIF($N$2:Q$2,\"Year\")*$G$1","v":20},{"$f":"IF(Q152=0,0,IF(R$2=\"Year\",IF(_xlfn.MAXIFS($N152:Q152,$N$2:Q$2,\"Year\")+$E152<=$E$1,O152+$E152,0),IF(R$2=\"Repair %\",IF(O152>0,$C152,0),IF(R$2=\"Spares %\",IF(IF(O152>0,$C152,0)*100>50%,50%,IF(O152>0,$C152,0)*100),0))))","v":0},1,{"$f":"COUNTIF($N$2:T$2,\"Year\")*$G$1","v":30},{"$f":"IF(T152=0,0,IF(U$2=\"Year\",IF(_xlfn.MAXIFS($N152:T152,$N$2:T$2,\"Year\")+$E152<=$E$1,R152+$E152,0),IF(U$2=\"Repair %\",IF(R152>0,$C152,0),IF(U$2=\"Spares %\",IF(IF(R152>0,$C152,0)*100>50%,50%,IF(R152>0,$C152,0)*100),0))))","v":0},1,{"$f":"COUNTIF($N$2:W$2,\"Year\")*$G$1","v":40},{"$f":"IF(W152=0,0,IF(X$2=\"Year\",IF(_xlfn.MAXIFS($N152:W152,$N$2:W$2,\"Year\")+$E152<=$E$1,U152+$E152,0),IF(X$2=\"Repair %\",IF(U152>0,$C152,0),IF(X$2=\"Spares %\",IF(IF(U152>0,$C152,0)*100>50%,50%,IF(U152>0,$C152,0)*100),0))))","v":0},1,{"$f":"IF(Y152=0,0,IF(Z$2=\"Year\",IF(_xlfn.MAXIFS($N152:Y152,$N$2:Y$2,\"Year\")+$E152<=$E$1,W152+$E152,0),IF(Z$2=\"Repair %\",IF(W152>0,$C$3,0),IF(Z$2=\"Spares %\",IF(IF(W152>0,$C152,0)*100>50%,50%,IF(W152>0,$C152,0)*100),0))))","v":0},{"$f":"IF(Z152=0,0,IF(AA$2=\"Year\",IF(_xlfn.MAXIFS($N152:Z152,$N$2:Z$2,\"Year\")+$E152<=$E$1,X152+$E152,0),IF(AA$2=\"Repair %\",IF(X152>0,$C152,0),IF(AA$2=\"Spares %\",IF(IF(X152>0,$C152,0)*100>50%,50%,IF(X152>0,$C152,0)*100),0))))","v":0},{"$f":"IF(AA152=0,0,IF(AB$2=\"Year\",IF(_xlfn.MAXIFS($N152:AA152,$N$2:AA$2,\"Year\")+$E152<=$E$1,Y152+$E152,0),IF(AB$2=\"Repair %\",IF(Y152>0,$C152,0),IF(AB$2=\"Spares %\",IF(IF(W152>0,$C152,0)*5>80%,50%,IF(W152>0,$C152,0)*5),0))))","v":0},{"$f":"IF(AB152=0,0,IF(AC$2=\"Year\",IF(_xlfn.MAXIFS($N152:AB152,$N$2:AB$2,\"Year\")+$E152<=$E$1,Z152+$E152,0),IF(AC$2=\"Repair %\",IF(Z152>0,$C$3,0),IF(AC$2=\"Spares %\",IF(IF(Z152>0,$C152,0)*100>50%,50%,IF(Z152>0,$C152,0)*100),0))))","v":0},{"$f":"IF(AC152=0,0,IF(AD$2=\"Year\",IF(_xlfn.MAXIFS($N152:AC152,$N$2:AC$2,\"Year\")+$E152<=$E$1,AA152+$E152,0),IF(AD$2=\"Repair %\",IF(AA152>0,$C152,0),IF(AD$2=\"Spares %\",IF(IF(AA152>0,$C152,0)*100>50%,50%,IF(AA152>0,$C152,0)*100),0))))","v":0},{"$f":"IF(AD152=0,0,IF(AE$2=\"Year\",IF(_xlfn.MAXIFS($N152:AD152,$N$2:AD$2,\"Year\")+$E152<=$E$1,AB152+$E152,0),IF(AE$2=\"Repair %\",IF(AB152>0,$C152,0),IF(AE$2=\"Spares %\",IF(IF(Z152>0,$C152,0)*5>80%,50%,IF(Z152>0,$C152,0)*5),0))))","v":0},{"$f":"IF(AE152=0,0,IF(AF$2=\"Year\",IF(_xlfn.MAXIFS($N152:AE152,$N$2:AE$2,\"Year\")+$E152<=$E$1,AC152+$E152,0),IF(AF$2=\"Repair %\",IF(AC152>0,$C$3,0),IF(AF$2=\"Spares %\",IF(IF(AC152>0,$C152,0)*100>50%,50%,IF(AC152>0,$C152,0)*100),0))))","v":0},{"$f":"IF(AF152=0,0,IF(AG$2=\"Year\",IF(_xlfn.MAXIFS($N152:AF152,$N$2:AF$2,\"Year\")+$E152<=$E$1,AD152+$E152,0),IF(AG$2=\"Repair %\",IF(AD152>0,$C152,0),IF(AG$2=\"Spares %\",IF(IF(AD152>0,$C152,0)*100>50%,50%,IF(AD152>0,$C152,0)*100),0))))","v":0},{"$f":"IF(AG152=0,0,IF(AH$2=\"Year\",IF(_xlfn.MAXIFS($N152:AG152,$N$2:AG$2,\"Year\")+$E152<=$E$1,AE152+$E152,0),IF(AH$2=\"Repair %\",IF(AE152>0,$C152,0),IF(AH$2=\"Spares %\",IF(IF(AC152>0,$C152,0)*5>80%,50%,IF(AC152>0,$C152,0)*5),0))))","v":0},{"$f":"IF(AH152=0,0,IF(AI$2=\"Year\",IF(_xlfn.MAXIFS($N152:AH152,$N$2:AH$2,\"Year\")+$E152<=$E$1,AF152+$E152,0),IF(AI$2=\"Repair %\",IF(AF152>0,$C$3,0),IF(AI$2=\"Spares %\",IF(IF(AF152>0,$C152,0)*100>50%,50%,IF(AF152>0,$C152,0)*100),0))))","v":0},{"$f":"IF(AI152=0,0,IF(AJ$2=\"Year\",IF(_xlfn.MAXIFS($N152:AI152,$N$2:AI$2,\"Year\")+$E152<=$E$1,AG152+$E152,0),IF(AJ$2=\"Repair %\",IF(AG152>0,$C152,0),IF(AJ$2=\"Spares %\",IF(IF(AG152>0,$C152,0)*100>50%,50%,IF(AG152>0,$C152,0)*100),0))))","v":0},{"$f":"IF(AJ152=0,0,IF(AK$2=\"Year\",IF(_xlfn.MAXIFS($N152:AJ152,$N$2:AJ$2,\"Year\")+$E152<=$E$1,AH152+$E152,0),IF(AK$2=\"Repair %\",IF(AH152>0,$C152,0),IF(AK$2=\"Spares %\",IF(IF(AF152>0,$C152,0)*5>80%,50%,IF(AF152>0,$C152,0)*5),0))))","v":0},{"$f":"IF(AK152=0,0,IF(AL$2=\"Year\",IF(_xlfn.MAXIFS($N152:AK152,$N$2:AK$2,\"Year\")+$E152<=$E$1,AI152+$E152,0),IF(AL$2=\"Repair %\",IF(AI152>0,$C$3,0),IF(AL$2=\"Spares %\",IF(IF(AI152>0,$C152,0)*100>50%,50%,IF(AI152>0,$C152,0)*100),0))))","v":0},{"$f":"IF(AL152=0,0,IF(AM$2=\"Year\",IF(_xlfn.MAXIFS($N152:AL152,$N$2:AL$2,\"Year\")+$E152<=$E$1,AJ152+$E152,0),IF(AM$2=\"Repair %\",IF(AJ152>0,$C152,0),IF(AM$2=\"Spares %\",IF(IF(AJ152>0,$C152,0)*100>50%,50%,IF(AJ152>0,$C152,0)*100),0))))","v":0},{"$f":"IF(AM152=0,0,IF(AN$2=\"Year\",IF(_xlfn.MAXIFS($N152:AM152,$N$2:AM$2,\"Year\")+$E152<=$E$1,AK152+$E152,0),IF(AN$2=\"Repair %\",IF(AK152>0,$C152,0),IF(AN$2=\"Spares %\",IF(IF(AI152>0,$C152,0)*5>80%,50%,IF(AI152>0,$C152,0)*5),0))))","v":0},{"$f":"IF(AN152=0,0,IF(AO$2=\"Year\",IF(_xlfn.MAXIFS($N152:AN152,$N$2:AN$2,\"Year\")+$E152<=$E$1,AL152+$E152,0),IF(AO$2=\"Repair %\",IF(AL152>0,$C$3,0),IF(AO$2=\"Spares %\",IF(IF(AL152>0,$C152,0)*100>50%,50%,IF(AL152>0,$C152,0)*100),0))))","v":0},{"$f":"IF(AO152=0,0,IF(AP$2=\"Year\",IF(_xlfn.MAXIFS($N152:AO152,$N$2:AO$2,\"Year\")+$E152<=$E$1,AM152+$E152,0),IF(AP$2=\"Repair %\",IF(AM152>0,$C152,0),IF(AP$2=\"Spares %\",IF(IF(AM152>0,$C152,0)*100>50%,50%,IF(AM152>0,$C152,0)*100),0))))","v":0},{"$f":"IF(AP152=0,0,IF(AQ$2=\"Year\",IF(_xlfn.MAXIFS($N152:AP152,$N$2:AP$2,\"Year\")+$E152<=$E$1,AN152+$E152,0),IF(AQ$2=\"Repair %\",IF(AN152>0,$C152,0),IF(AQ$2=\"Spares %\",IF(IF(AL152>0,$C152,0)*5>80%,50%,IF(AL152>0,$C152,0)*5),0))))","v":0}]
[{"$f":"INDEX('Avionics ID'!A:E,MATCH(B153,'Avionics ID'!E:E,0),1)","v":741},"Radio management system",0.1,0.06,10,"Obsolecence",{"$f":"SUBSTITUTE(ADDRESS(1,MATCH(A153,'Pt1-AvionicsComponentCosts'!$A$6:$NC$6,0)+1),\"$1\",\"\")","v":"$BP"},{"$f":"_xlfn.TEXTJOIN(\", \",TRUE,_xlfn.UNIQUE(_xlfn._xlws.SORT(_xlfn._xlws.FILTER('Pt1-AvionicsComponentCosts'!$NF$12:$NF$384,ISNUMBER(INDIRECT(\"'Pt1-AvionicsComponentCosts'!\"&G153&\"$12:\"&G153&\"$384\"))))))","v":"A220, A300, A320, A321, A330, A340, A350, A380, ARJ, ATR, B717, B737, B747, B757, B767, B777, C919, CRJ, EMB Regional, MC-21, MD-11, Mil Transport, Military Jet, NSA, Reg TP, Superjet 100, Turbine GA"},null,0.06,0.1,0.501,1.2969999999999999,{"$f":"COUNTIF($N$2:N$2,\"Year\")*$G$1","v":10},null,1,{"$f":"COUNTIF($N$2:Q$2,\"Year\")*$G$1","v":20},{"$f":"IF(Q153=0,0,IF(R$2=\"Year\",IF(_xlfn.MAXIFS($N153:Q153,$N$2:Q$2,\"Year\")+$E153<=$E$1,O153+$E153,0),IF(R$2=\"Repair %\",IF(O153>0,$C153,0),IF(R$2=\"Spares %\",IF(IF(O153>0,$C153,0)*100>50%,50%,IF(O153>0,$C153,0)*100),0))))","v":0},1,{"$f":"COUNTIF($N$2:T$2,\"Year\")*$G$1","v":30},{"$f":"IF(T153=0,0,IF(U$2=\"Year\",IF(_xlfn.MAXIFS($N153:T153,$N$2:T$2,\"Year\")+$E153<=$E$1,R153+$E153,0),IF(U$2=\"Repair %\",IF(R153>0,$C153,0),IF(U$2=\"Spares %\",IF(IF(R153>0,$C153,0)*100>50%,50%,IF(R153>0,$C153,0)*100),0))))","v":0},1,{"$f":"COUNTIF($N$2:W$2,\"Year\")*$G$1","v":40},{"$f":"IF(W153=0,0,IF(X$2=\"Year\",IF(_xlfn.MAXIFS($N153:W153,$N$2:W$2,\"Year\")+$E153<=$E$1,U153+$E153,0),IF(X$2=\"Repair %\",IF(U153>0,$C153,0),IF(X$2=\"Spares %\",IF(IF(U153>0,$C153,0)*100>50%,50%,IF(U153>0,$C153,0)*100),0))))","v":0},1,{"$f":"IF(Y153=0,0,IF(Z$2=\"Year\",IF(_xlfn.MAXIFS($N153:Y153,$N$2:Y$2,\"Year\")+$E153<=$E$1,W153+$E153,0),IF(Z$2=\"Repair %\",IF(W153>0,$C$3,0),IF(Z$2=\"Spares %\",IF(IF(W153>0,$C153,0)*100>50%,50%,IF(W153>0,$C153,0)*100),0))))","v":0},{"$f":"IF(Z153=0,0,IF(AA$2=\"Year\",IF(_xlfn.MAXIFS($N153:Z153,$N$2:Z$2,\"Year\")+$E153<=$E$1,X153+$E153,0),IF(AA$2=\"Repair %\",IF(X153>0,$C153,0),IF(AA$2=\"Spares %\",IF(IF(X153>0,$C153,0)*100>50%,50%,IF(X153>0,$C153,0)*100),0))))","v":0},{"$f":"IF(AA153=0,0,IF(AB$2=\"Year\",IF(_xlfn.MAXIFS($N153:AA153,$N$2:AA$2,\"Year\")+$E153<=$E$1,Y153+$E153,0),IF(AB$2=\"Repair %\",IF(Y153>0,$C153,0),IF(AB$2=\"Spares %\",IF(IF(W153>0,$C153,0)*5>80%,50%,IF(W153>0,$C153,0)*5),0))))","v":0},{"$f":"IF(AB153=0,0,IF(AC$2=\"Year\",IF(_xlfn.MAXIFS($N153:AB153,$N$2:AB$2,\"Year\")+$E153<=$E$1,Z153+$E153,0),IF(AC$2=\"Repair %\",IF(Z153>0,$C$3,0),IF(AC$2=\"Spares %\",IF(IF(Z153>0,$C153,0)*100>50%,50%,IF(Z153>0,$C153,0)*100),0))))","v":0},{"$f":"IF(AC153=0,0,IF(AD$2=\"Year\",IF(_xlfn.MAXIFS($N153:AC153,$N$2:AC$2,\"Year\")+$E153<=$E$1,AA153+$E153,0),IF(AD$2=\"Repair %\",IF(AA153>0,$C153,0),IF(AD$2=\"Spares %\",IF(IF(AA153>0,$C153,0)*100>50%,50%,IF(AA153>0,$C153,0)*100),0))))","v":0},{"$f":"IF(AD153=0,0,IF(AE$2=\"Year\",IF(_xlfn.MAXIFS($N153:AD153,$N$2:AD$2,\"Year\")+$E153<=$E$1,AB153+$E153,0),IF(AE$2=\"Repair %\",IF(AB153>0,$C153,0),IF(AE$2=\"Spares %\",IF(IF(Z153>0,$C153,0)*5>80%,50%,IF(Z153>0,$C153,0)*5),0))))","v":0},{"$f":"IF(AE153=0,0,IF(AF$2=\"Year\",IF(_xlfn.MAXIFS($N153:AE153,$N$2:AE$2,\"Year\")+$E153<=$E$1,AC153+$E153,0),IF(AF$2=\"Repair %\",IF(AC153>0,$C$3,0),IF(AF$2=\"Spares %\",IF(IF(AC153>0,$C153,0)*100>50%,50%,IF(AC153>0,$C153,0)*100),0))))","v":0},{"$f":"IF(AF153=0,0,IF(AG$2=\"Year\",IF(_xlfn.MAXIFS($N153:AF153,$N$2:AF$2,\"Year\")+$E153<=$E$1,AD153+$E153,0),IF(AG$2=\"Repair %\",IF(AD153>0,$C153,0),IF(AG$2=\"Spares %\",IF(IF(AD153>0,$C153,0)*100>50%,50%,IF(AD153>0,$C153,0)*100),0))))","v":0},{"$f":"IF(AG153=0,0,IF(AH$2=\"Year\",IF(_xlfn.MAXIFS($N153:AG153,$N$2:AG$2,\"Year\")+$E153<=$E$1,AE153+$E153,0),IF(AH$2=\"Repair %\",IF(AE153>0,$C153,0),IF(AH$2=\"Spares %\",IF(IF(AC153>0,$C153,0)*5>80%,50%,IF(AC153>0,$C153,0)*5),0))))","v":0},{"$f":"IF(AH153=0,0,IF(AI$2=\"Year\",IF(_xlfn.MAXIFS($N153:AH153,$N$2:AH$2,\"Year\")+$E153<=$E$1,AF153+$E153,0),IF(AI$2=\"Repair %\",IF(AF153>0,$C$3,0),IF(AI$2=\"Spares %\",IF(IF(AF153>0,$C153,0)*100>50%,50%,IF(AF153>0,$C153,0)*100),0))))","v":0},{"$f":"IF(AI153=0,0,IF(AJ$2=\"Year\",IF(_xlfn.MAXIFS($N153:AI153,$N$2:AI$2,\"Year\")+$E153<=$E$1,AG153+$E153,0),IF(AJ$2=\"Repair %\",IF(AG153>0,$C153,0),IF(AJ$2=\"Spares %\",IF(IF(AG153>0,$C153,0)*100>50%,50%,IF(AG153>0,$C153,0)*100),0))))","v":0},{"$f":"IF(AJ153=0,0,IF(AK$2=\"Year\",IF(_xlfn.MAXIFS($N153:AJ153,$N$2:AJ$2,\"Year\")+$E153<=$E$1,AH153+$E153,0),IF(AK$2=\"Repair %\",IF(AH153>0,$C153,0),IF(AK$2=\"Spares %\",IF(IF(AF153>0,$C153,0)*5>80%,50%,IF(AF153>0,$C153,0)*5),0))))","v":0},{"$f":"IF(AK153=0,0,IF(AL$2=\"Year\",IF(_xlfn.MAXIFS($N153:AK153,$N$2:AK$2,\"Year\")+$E153<=$E$1,AI153+$E153,0),IF(AL$2=\"Repair %\",IF(AI153>0,$C$3,0),IF(AL$2=\"Spares %\",IF(IF(AI153>0,$C153,0)*100>50%,50%,IF(AI153>0,$C153,0)*100),0))))","v":0},{"$f":"IF(AL153=0,0,IF(AM$2=\"Year\",IF(_xlfn.MAXIFS($N153:AL153,$N$2:AL$2,\"Year\")+$E153<=$E$1,AJ153+$E153,0),IF(AM$2=\"Repair %\",IF(AJ153>0,$C153,0),IF(AM$2=\"Spares %\",IF(IF(AJ153>0,$C153,0)*100>50%,50%,IF(AJ153>0,$C153,0)*100),0))))","v":0},{"$f":"IF(AM153=0,0,IF(AN$2=\"Year\",IF(_xlfn.MAXIFS($N153:AM153,$N$2:AM$2,\"Year\")+$E153<=$E$1,AK153+$E153,0),IF(AN$2=\"Repair %\",IF(AK153>0,$C153,0),IF(AN$2=\"Spares %\",IF(IF(AI153>0,$C153,0)*5>80%,50%,IF(AI153>0,$C153,0)*5),0))))","v":0},{"$f":"IF(AN153=0,0,IF(AO$2=\"Year\",IF(_xlfn.MAXIFS($N153:AN153,$N$2:AN$2,\"Year\")+$E153<=$E$1,AL153+$E153,0),IF(AO$2=\"Repair %\",IF(AL153>0,$C$3,0),IF(AO$2=\"Spares %\",IF(IF(AL153>0,$C153,0)*100>50%,50%,IF(AL153>0,$C153,0)*100),0))))","v":0},{"$f":"IF(AO153=0,0,IF(AP$2=\"Year\",IF(_xlfn.MAXIFS($N153:AO153,$N$2:AO$2,\"Year\")+$E153<=$E$1,AM153+$E153,0),IF(AP$2=\"Repair %\",IF(AM153>0,$C153,0),IF(AP$2=\"Spares %\",IF(IF(AM153>0,$C153,0)*100>50%,50%,IF(AM153>0,$C153,0)*100),0))))","v":0},{"$f":"IF(AP153=0,0,IF(AQ$2=\"Year\",IF(_xlfn.MAXIFS($N153:AP153,$N$2:AP$2,\"Year\")+$E153<=$E$1,AN153+$E153,0),IF(AQ$2=\"Repair %\",IF(AN153>0,$C153,0),IF(AQ$2=\"Spares %\",IF(IF(AL153>0,$C153,0)*5>80%,50%,IF(AL153>0,$C153,0)*5),0))))","v":0}]
[{"$f":"INDEX('Avionics ID'!A:E,MATCH(B154,'Avionics ID'!E:E,0),1)","v":818},"Radio receivers",0.05,0.06,20,"Obsolecence",{"$f":"SUBSTITUTE(ADDRESS(1,MATCH(A154,'Pt1-AvionicsComponentCosts'!$A$6:$NC$6,0)+1),\"$1\",\"\")","v":"$BR"},{"$f":"_xlfn.TEXTJOIN(\", \",TRUE,_xlfn.UNIQUE(_xlfn._xlws.SORT(_xlfn._xlws.FILTER('Pt1-AvionicsComponentCosts'!$NF$12:$NF$384,ISNUMBER(INDIRECT(\"'Pt1-AvionicsComponentCosts'!\"&G154&\"$12:\"&G154&\"$384\"))))))","v":"Mil Fighter, TP Trainer"},null,0.06,0.05,0.501,1.2969999999999999,{"$f":"COUNTIF($N$2:N$2,\"Year\")*$G$1","v":10},null,0,{"$f":"COUNTIF($N$2:Q$2,\"Year\")*$G$1","v":20},{"$f":"IF(Q154=0,0,IF(R$2=\"Year\",IF(_xlfn.MAXIFS($N154:Q154,$N$2:Q$2,\"Year\")+$E154<=$E$1,O154+$E154,0),IF(R$2=\"Repair %\",IF(O154>0,$C154,0),IF(R$2=\"Spares %\",IF(IF(O154>0,$C154,0)*100>50%,50%,IF(O154>0,$C154,0)*100),0))))","v":0},1,{"$f":"COUNTIF($N$2:T$2,\"Year\")*$G$1","v":30},{"$f":"IF(T154=0,0,IF(U$2=\"Year\",IF(_xlfn.MAXIFS($N154:T154,$N$2:T$2,\"Year\")+$E154<=$E$1,R154+$E154,0),IF(U$2=\"Repair %\",IF(R154>0,$C154,0),IF(U$2=\"Spares %\",IF(IF(R154>0,$C154,0)*100>50%,50%,IF(R154>0,$C154,0)*100),0))))","v":0},0,{"$f":"COUNTIF($N$2:W$2,\"Year\")*$G$1","v":40},{"$f":"IF(W154=0,0,IF(X$2=\"Year\",IF(_xlfn.MAXIFS($N154:W154,$N$2:W$2,\"Year\")+$E154<=$E$1,U154+$E154,0),IF(X$2=\"Repair %\",IF(U154>0,$C154,0),IF(X$2=\"Spares %\",IF(IF(U154>0,$C154,0)*100>50%,50%,IF(U154>0,$C154,0)*100),0))))","v":0},1,{"$f":"IF(Y154=0,0,IF(Z$2=\"Year\",IF(_xlfn.MAXIFS($N154:Y154,$N$2:Y$2,\"Year\")+$E154<=$E$1,W154+$E154,0),IF(Z$2=\"Repair %\",IF(W154>0,$C$3,0),IF(Z$2=\"Spares %\",IF(IF(W154>0,$C154,0)*100>50%,50%,IF(W154>0,$C154,0)*100),0))))","v":0},{"$f":"IF(Z154=0,0,IF(AA$2=\"Year\",IF(_xlfn.MAXIFS($N154:Z154,$N$2:Z$2,\"Year\")+$E154<=$E$1,X154+$E154,0),IF(AA$2=\"Repair %\",IF(X154>0,$C154,0),IF(AA$2=\"Spares %\",IF(IF(X154>0,$C154,0)*100>50%,50%,IF(X154>0,$C154,0)*100),0))))","v":0},{"$f":"IF(AA154=0,0,IF(AB$2=\"Year\",IF(_xlfn.MAXIFS($N154:AA154,$N$2:AA$2,\"Year\")+$E154<=$E$1,Y154+$E154,0),IF(AB$2=\"Repair %\",IF(Y154>0,$C154,0),IF(AB$2=\"Spares %\",IF(IF(W154>0,$C154,0)*5>80%,50%,IF(W154>0,$C154,0)*5),0))))","v":0},{"$f":"IF(AB154=0,0,IF(AC$2=\"Year\",IF(_xlfn.MAXIFS($N154:AB154,$N$2:AB$2,\"Year\")+$E154<=$E$1,Z154+$E154,0),IF(AC$2=\"Repair %\",IF(Z154>0,$C$3,0),IF(AC$2=\"Spares %\",IF(IF(Z154>0,$C154,0)*100>50%,50%,IF(Z154>0,$C154,0)*100),0))))","v":0},{"$f":"IF(AC154=0,0,IF(AD$2=\"Year\",IF(_xlfn.MAXIFS($N154:AC154,$N$2:AC$2,\"Year\")+$E154<=$E$1,AA154+$E154,0),IF(AD$2=\"Repair %\",IF(AA154>0,$C154,0),IF(AD$2=\"Spares %\",IF(IF(AA154>0,$C154,0)*100>50%,50%,IF(AA154>0,$C154,0)*100),0))))","v":0},{"$f":"IF(AD154=0,0,IF(AE$2=\"Year\",IF(_xlfn.MAXIFS($N154:AD154,$N$2:AD$2,\"Year\")+$E154<=$E$1,AB154+$E154,0),IF(AE$2=\"Repair %\",IF(AB154>0,$C154,0),IF(AE$2=\"Spares %\",IF(IF(Z154>0,$C154,0)*5>80%,50%,IF(Z154>0,$C154,0)*5),0))))","v":0},{"$f":"IF(AE154=0,0,IF(AF$2=\"Year\",IF(_xlfn.MAXIFS($N154:AE154,$N$2:AE$2,\"Year\")+$E154<=$E$1,AC154+$E154,0),IF(AF$2=\"Repair %\",IF(AC154>0,$C$3,0),IF(AF$2=\"Spares %\",IF(IF(AC154>0,$C154,0)*100>50%,50%,IF(AC154>0,$C154,0)*100),0))))","v":0},{"$f":"IF(AF154=0,0,IF(AG$2=\"Year\",IF(_xlfn.MAXIFS($N154:AF154,$N$2:AF$2,\"Year\")+$E154<=$E$1,AD154+$E154,0),IF(AG$2=\"Repair %\",IF(AD154>0,$C154,0),IF(AG$2=\"Spares %\",IF(IF(AD154>0,$C154,0)*100>50%,50%,IF(AD154>0,$C154,0)*100),0))))","v":0},{"$f":"IF(AG154=0,0,IF(AH$2=\"Year\",IF(_xlfn.MAXIFS($N154:AG154,$N$2:AG$2,\"Year\")+$E154<=$E$1,AE154+$E154,0),IF(AH$2=\"Repair %\",IF(AE154>0,$C154,0),IF(AH$2=\"Spares %\",IF(IF(AC154>0,$C154,0)*5>80%,50%,IF(AC154>0,$C154,0)*5),0))))","v":0},{"$f":"IF(AH154=0,0,IF(AI$2=\"Year\",IF(_xlfn.MAXIFS($N154:AH154,$N$2:AH$2,\"Year\")+$E154<=$E$1,AF154+$E154,0),IF(AI$2=\"Repair %\",IF(AF154>0,$C$3,0),IF(AI$2=\"Spares %\",IF(IF(AF154>0,$C154,0)*100>50%,50%,IF(AF154>0,$C154,0)*100),0))))","v":0},{"$f":"IF(AI154=0,0,IF(AJ$2=\"Year\",IF(_xlfn.MAXIFS($N154:AI154,$N$2:AI$2,\"Year\")+$E154<=$E$1,AG154+$E154,0),IF(AJ$2=\"Repair %\",IF(AG154>0,$C154,0),IF(AJ$2=\"Spares %\",IF(IF(AG154>0,$C154,0)*100>50%,50%,IF(AG154>0,$C154,0)*100),0))))","v":0},{"$f":"IF(AJ154=0,0,IF(AK$2=\"Year\",IF(_xlfn.MAXIFS($N154:AJ154,$N$2:AJ$2,\"Year\")+$E154<=$E$1,AH154+$E154,0),IF(AK$2=\"Repair %\",IF(AH154>0,$C154,0),IF(AK$2=\"Spares %\",IF(IF(AF154>0,$C154,0)*5>80%,50%,IF(AF154>0,$C154,0)*5),0))))","v":0},{"$f":"IF(AK154=0,0,IF(AL$2=\"Year\",IF(_xlfn.MAXIFS($N154:AK154,$N$2:AK$2,\"Year\")+$E154<=$E$1,AI154+$E154,0),IF(AL$2=\"Repair %\",IF(AI154>0,$C$3,0),IF(AL$2=\"Spares %\",IF(IF(AI154>0,$C154,0)*100>50%,50%,IF(AI154>0,$C154,0)*100),0))))","v":0},{"$f":"IF(AL154=0,0,IF(AM$2=\"Year\",IF(_xlfn.MAXIFS($N154:AL154,$N$2:AL$2,\"Year\")+$E154<=$E$1,AJ154+$E154,0),IF(AM$2=\"Repair %\",IF(AJ154>0,$C154,0),IF(AM$2=\"Spares %\",IF(IF(AJ154>0,$C154,0)*100>50%,50%,IF(AJ154>0,$C154,0)*100),0))))","v":0},{"$f":"IF(AM154=0,0,IF(AN$2=\"Year\",IF(_xlfn.MAXIFS($N154:AM154,$N$2:AM$2,\"Year\")+$E154<=$E$1,AK154+$E154,0),IF(AN$2=\"Repair %\",IF(AK154>0,$C154,0),IF(AN$2=\"Spares %\",IF(IF(AI154>0,$C154,0)*5>80%,50%,IF(AI154>0,$C154,0)*5),0))))","v":0},{"$f":"IF(AN154=0,0,IF(AO$2=\"Year\",IF(_xlfn.MAXIFS($N154:AN154,$N$2:AN$2,\"Year\")+$E154<=$E$1,AL154+$E154,0),IF(AO$2=\"Repair %\",IF(AL154>0,$C$3,0),IF(AO$2=\"Spares %\",IF(IF(AL154>0,$C154,0)*100>50%,50%,IF(AL154>0,$C154,0)*100),0))))","v":0},{"$f":"IF(AO154=0,0,IF(AP$2=\"Year\",IF(_xlfn.MAXIFS($N154:AO154,$N$2:AO$2,\"Year\")+$E154<=$E$1,AM154+$E154,0),IF(AP$2=\"Repair %\",IF(AM154>0,$C154,0),IF(AP$2=\"Spares %\",IF(IF(AM154>0,$C154,0)*100>50%,50%,IF(AM154>0,$C154,0)*100),0))))","v":0},{"$f":"IF(AP154=0,0,IF(AQ$2=\"Year\",IF(_xlfn.MAXIFS($N154:AP154,$N$2:AP$2,\"Year\")+$E154<=$E$1,AN154+$E154,0),IF(AQ$2=\"Repair %\",IF(AN154>0,$C154,0),IF(AQ$2=\"Spares %\",IF(IF(AL154>0,$C154,0)*5>80%,50%,IF(AL154>0,$C154,0)*5),0))))","v":0}]
[{"$f":"INDEX('Avionics ID'!A:E,MATCH(B155,'Avionics ID'!E:E,0),1)","v":780},"Radio Tuning control Panels",0.1,0.1,10,"Obsolecence",{"$f":"SUBSTITUTE(ADDRESS(1,MATCH(A155,'Pt1-AvionicsComponentCosts'!$A$6:$NC$6,0)+1),\"$1\",\"\")","v":"$BT"},{"$f":"_xlfn.TEXTJOIN(\", \",TRUE,_xlfn.UNIQUE(_xlfn._xlws.SORT(_xlfn._xlws.FILTER('Pt1-AvionicsComponentCosts'!$NF$12:$NF$384,ISNUMBER(INDIRECT(\"'Pt1-AvionicsComponentCosts'!\"&G155&\"$12:\"&G155&\"$384\"))))))","v":"A350, B747, B777, B787"},null,0.1,0.1,0.501,1.2969999999999999,{"$f":"COUNTIF($N$2:N$2,\"Year\")*$G$1","v":10},null,1,{"$f":"COUNTIF($N$2:Q$2,\"Year\")*$G$1","v":20},{"$f":"IF(Q155=0,0,IF(R$2=\"Year\",IF(_xlfn.MAXIFS($N155:Q155,$N$2:Q$2,\"Year\")+$E155<=$E$1,O155+$E155,0),IF(R$2=\"Repair %\",IF(O155>0,$C155,0),IF(R$2=\"Spares %\",IF(IF(O155>0,$C155,0)*100>50%,50%,IF(O155>0,$C155,0)*100),0))))","v":0},1,{"$f":"COUNTIF($N$2:T$2,\"Year\")*$G$1","v":30},{"$f":"IF(T155=0,0,IF(U$2=\"Year\",IF(_xlfn.MAXIFS($N155:T155,$N$2:T$2,\"Year\")+$E155<=$E$1,R155+$E155,0),IF(U$2=\"Repair %\",IF(R155>0,$C155,0),IF(U$2=\"Spares %\",IF(IF(R155>0,$C155,0)*100>50%,50%,IF(R155>0,$C155,0)*100),0))))","v":0},1,{"$f":"COUNTIF($N$2:W$2,\"Year\")*$G$1","v":40},{"$f":"IF(W155=0,0,IF(X$2=\"Year\",IF(_xlfn.MAXIFS($N155:W155,$N$2:W$2,\"Year\")+$E155<=$E$1,U155+$E155,0),IF(X$2=\"Repair %\",IF(U155>0,$C155,0),IF(X$2=\"Spares %\",IF(IF(U155>0,$C155,0)*100>50%,50%,IF(U155>0,$C155,0)*100),0))))","v":0},1,{"$f":"IF(Y155=0,0,IF(Z$2=\"Year\",IF(_xlfn.MAXIFS($N155:Y155,$N$2:Y$2,\"Year\")+$E155<=$E$1,W155+$E155,0),IF(Z$2=\"Repair %\",IF(W155>0,$C$3,0),IF(Z$2=\"Spares %\",IF(IF(W155>0,$C155,0)*100>50%,50%,IF(W155>0,$C155,0)*100),0))))","v":0},{"$f":"IF(Z155=0,0,IF(AA$2=\"Year\",IF(_xlfn.MAXIFS($N155:Z155,$N$2:Z$2,\"Year\")+$E155<=$E$1,X155+$E155,0),IF(AA$2=\"Repair %\",IF(X155>0,$C155,0),IF(AA$2=\"Spares %\",IF(IF(X155>0,$C155,0)*100>50%,50%,IF(X155>0,$C155,0)*100),0))))","v":0},{"$f":"IF(AA155=0,0,IF(AB$2=\"Year\",IF(_xlfn.MAXIFS($N155:AA155,$N$2:AA$2,\"Year\")+$E155<=$E$1,Y155+$E155,0),IF(AB$2=\"Repair %\",IF(Y155>0,$C155,0),IF(AB$2=\"Spares %\",IF(IF(W155>0,$C155,0)*5>80%,50%,IF(W155>0,$C155,0)*5),0))))","v":0},{"$f":"IF(AB155=0,0,IF(AC$2=\"Year\",IF(_xlfn.MAXIFS($N155:AB155,$N$2:AB$2,\"Year\")+$E155<=$E$1,Z155+$E155,0),IF(AC$2=\"Repair %\",IF(Z155>0,$C$3,0),IF(AC$2=\"Spares %\",IF(IF(Z155>0,$C155,0)*100>50%,50%,IF(Z155>0,$C155,0)*100),0))))","v":0},{"$f":"IF(AC155=0,0,IF(AD$2=\"Year\",IF(_xlfn.MAXIFS($N155:AC155,$N$2:AC$2,\"Year\")+$E155<=$E$1,AA155+$E155,0),IF(AD$2=\"Repair %\",IF(AA155>0,$C155,0),IF(AD$2=\"Spares %\",IF(IF(AA155>0,$C155,0)*100>50%,50%,IF(AA155>0,$C155,0)*100),0))))","v":0},{"$f":"IF(AD155=0,0,IF(AE$2=\"Year\",IF(_xlfn.MAXIFS($N155:AD155,$N$2:AD$2,\"Year\")+$E155<=$E$1,AB155+$E155,0),IF(AE$2=\"Repair %\",IF(AB155>0,$C155,0),IF(AE$2=\"Spares %\",IF(IF(Z155>0,$C155,0)*5>80%,50%,IF(Z155>0,$C155,0)*5),0))))","v":0},{"$f":"IF(AE155=0,0,IF(AF$2=\"Year\",IF(_xlfn.MAXIFS($N155:AE155,$N$2:AE$2,\"Year\")+$E155<=$E$1,AC155+$E155,0),IF(AF$2=\"Repair %\",IF(AC155>0,$C$3,0),IF(AF$2=\"Spares %\",IF(IF(AC155>0,$C155,0)*100>50%,50%,IF(AC155>0,$C155,0)*100),0))))","v":0},{"$f":"IF(AF155=0,0,IF(AG$2=\"Year\",IF(_xlfn.MAXIFS($N155:AF155,$N$2:AF$2,\"Year\")+$E155<=$E$1,AD155+$E155,0),IF(AG$2=\"Repair %\",IF(AD155>0,$C155,0),IF(AG$2=\"Spares %\",IF(IF(AD155>0,$C155,0)*100>50%,50%,IF(AD155>0,$C155,0)*100),0))))","v":0},{"$f":"IF(AG155=0,0,IF(AH$2=\"Year\",IF(_xlfn.MAXIFS($N155:AG155,$N$2:AG$2,\"Year\")+$E155<=$E$1,AE155+$E155,0),IF(AH$2=\"Repair %\",IF(AE155>0,$C155,0),IF(AH$2=\"Spares %\",IF(IF(AC155>0,$C155,0)*5>80%,50%,IF(AC155>0,$C155,0)*5),0))))","v":0},{"$f":"IF(AH155=0,0,IF(AI$2=\"Year\",IF(_xlfn.MAXIFS($N155:AH155,$N$2:AH$2,\"Year\")+$E155<=$E$1,AF155+$E155,0),IF(AI$2=\"Repair %\",IF(AF155>0,$C$3,0),IF(AI$2=\"Spares %\",IF(IF(AF155>0,$C155,0)*100>50%,50%,IF(AF155>0,$C155,0)*100),0))))","v":0},{"$f":"IF(AI155=0,0,IF(AJ$2=\"Year\",IF(_xlfn.MAXIFS($N155:AI155,$N$2:AI$2,\"Year\")+$E155<=$E$1,AG155+$E155,0),IF(AJ$2=\"Repair %\",IF(AG155>0,$C155,0),IF(AJ$2=\"Spares %\",IF(IF(AG155>0,$C155,0)*100>50%,50%,IF(AG155>0,$C155,0)*100),0))))","v":0},{"$f":"IF(AJ155=0,0,IF(AK$2=\"Year\",IF(_xlfn.MAXIFS($N155:AJ155,$N$2:AJ$2,\"Year\")+$E155<=$E$1,AH155+$E155,0),IF(AK$2=\"Repair %\",IF(AH155>0,$C155,0),IF(AK$2=\"Spares %\",IF(IF(AF155>0,$C155,0)*5>80%,50%,IF(AF155>0,$C155,0)*5),0))))","v":0},{"$f":"IF(AK155=0,0,IF(AL$2=\"Year\",IF(_xlfn.MAXIFS($N155:AK155,$N$2:AK$2,\"Year\")+$E155<=$E$1,AI155+$E155,0),IF(AL$2=\"Repair %\",IF(AI155>0,$C$3,0),IF(AL$2=\"Spares %\",IF(IF(AI155>0,$C155,0)*100>50%,50%,IF(AI155>0,$C155,0)*100),0))))","v":0},{"$f":"IF(AL155=0,0,IF(AM$2=\"Year\",IF(_xlfn.MAXIFS($N155:AL155,$N$2:AL$2,\"Year\")+$E155<=$E$1,AJ155+$E155,0),IF(AM$2=\"Repair %\",IF(AJ155>0,$C155,0),IF(AM$2=\"Spares %\",IF(IF(AJ155>0,$C155,0)*100>50%,50%,IF(AJ155>0,$C155,0)*100),0))))","v":0},{"$f":"IF(AM155=0,0,IF(AN$2=\"Year\",IF(_xlfn.MAXIFS($N155:AM155,$N$2:AM$2,\"Year\")+$E155<=$E$1,AK155+$E155,0),IF(AN$2=\"Repair %\",IF(AK155>0,$C155,0),IF(AN$2=\"Spares %\",IF(IF(AI155>0,$C155,0)*5>80%,50%,IF(AI155>0,$C155,0)*5),0))))","v":0},{"$f":"IF(AN155=0,0,IF(AO$2=\"Year\",IF(_xlfn.MAXIFS($N155:AN155,$N$2:AN$2,\"Year\")+$E155<=$E$1,AL155+$E155,0),IF(AO$2=\"Repair %\",IF(AL155>0,$C$3,0),IF(AO$2=\"Spares %\",IF(IF(AL155>0,$C155,0)*100>50%,50%,IF(AL155>0,$C155,0)*100),0))))","v":0},{"$f":"IF(AO155=0,0,IF(AP$2=\"Year\",IF(_xlfn.MAXIFS($N155:AO155,$N$2:AO$2,\"Year\")+$E155<=$E$1,AM155+$E155,0),IF(AP$2=\"Repair %\",IF(AM155>0,$C155,0),IF(AP$2=\"Spares %\",IF(IF(AM155>0,$C155,0)*100>50%,50%,IF(AM155>0,$C155,0)*100),0))))","v":0},{"$f":"IF(AP155=0,0,IF(AQ$2=\"Year\",IF(_xlfn.MAXIFS($N155:AP155,$N$2:AP$2,\"Year\")+$E155<=$E$1,AN155+$E155,0),IF(AQ$2=\"Repair %\",IF(AN155>0,$C155,0),IF(AQ$2=\"Spares %\",IF(IF(AL155>0,$C155,0)*5>80%,50%,IF(AL155>0,$C155,0)*5),0))))","v":0}]
[{"$f":"INDEX('Avionics ID'!A:E,MATCH(B156,'Avionics ID'!E:E,0),1)","v":774},"Remote Data Concentrators",0,0.06,null,"",{"$f":"SUBSTITUTE(ADDRESS(1,MATCH(A156,'Pt1-AvionicsComponentCosts'!$A$6:$NC$6,0)+1),\"$1\",\"\")","v":"$HV"},{"$f":"_xlfn.TEXTJOIN(\", \",TRUE,_xlfn.UNIQUE(_xlfn._xlws.SORT(_xlfn._xlws.FILTER('Pt1-AvionicsComponentCosts'!$NF$12:$NF$384,ISNUMBER(INDIRECT(\"'Pt1-AvionicsComponentCosts'!\"&G156&\"$12:\"&G156&\"$384\"))))))","v":{"$error":"#VALUE!"}},null,0.06,0,0.35499999999999998,1.0509999999999999,{"$f":"COUNTIF($N$2:N$2,\"Year\")*$G$1","v":10},null,0,{"$f":"COUNTIF($N$2:Q$2,\"Year\")*$G$1","v":20},{"$f":"IF(Q156=0,0,IF(R$2=\"Year\",IF(_xlfn.MAXIFS($N156:Q156,$N$2:Q$2,\"Year\")+$E156<=$E$1,O156+$E156,0),IF(R$2=\"Repair %\",IF(O156>0,$C156,0),IF(R$2=\"Spares %\",IF(IF(O156>0,$C156,0)*100>50%,50%,IF(O156>0,$C156,0)*100),0))))","v":0},0,{"$f":"COUNTIF($N$2:T$2,\"Year\")*$G$1","v":30},{"$f":"IF(T156=0,0,IF(U$2=\"Year\",IF(_xlfn.MAXIFS($N156:T156,$N$2:T$2,\"Year\")+$E156<=$E$1,R156+$E156,0),IF(U$2=\"Repair %\",IF(R156>0,$C156,0),IF(U$2=\"Spares %\",IF(IF(R156>0,$C156,0)*100>50%,50%,IF(R156>0,$C156,0)*100),0))))","v":0},0,{"$f":"COUNTIF($N$2:W$2,\"Year\")*$G$1","v":40},{"$f":"IF(W156=0,0,IF(X$2=\"Year\",IF(_xlfn.MAXIFS($N156:W156,$N$2:W$2,\"Year\")+$E156<=$E$1,U156+$E156,0),IF(X$2=\"Repair %\",IF(U156>0,$C156,0),IF(X$2=\"Spares %\",IF(IF(U156>0,$C156,0)*100>50%,50%,IF(U156>0,$C156,0)*100),0))))","v":0},0,{"$f":"IF(Y156=0,0,IF(Z$2=\"Year\",IF(_xlfn.MAXIFS($N156:Y156,$N$2:Y$2,\"Year\")+$E156<=$E$1,W156+$E156,0),IF(Z$2=\"Repair %\",IF(W156>0,$C$3,0),IF(Z$2=\"Spares %\",IF(IF(W156>0,$C156,0)*100>50%,50%,IF(W156>0,$C156,0)*100),0))))","v":0},{"$f":"IF(Z156=0,0,IF(AA$2=\"Year\",IF(_xlfn.MAXIFS($N156:Z156,$N$2:Z$2,\"Year\")+$E156<=$E$1,X156+$E156,0),IF(AA$2=\"Repair %\",IF(X156>0,$C156,0),IF(AA$2=\"Spares %\",IF(IF(X156>0,$C156,0)*100>50%,50%,IF(X156>0,$C156,0)*100),0))))","v":0},{"$f":"IF(AA156=0,0,IF(AB$2=\"Year\",IF(_xlfn.MAXIFS($N156:AA156,$N$2:AA$2,\"Year\")+$E156<=$E$1,Y156+$E156,0),IF(AB$2=\"Repair %\",IF(Y156>0,$C156,0),IF(AB$2=\"Spares %\",IF(IF(W156>0,$C156,0)*5>80%,50%,IF(W156>0,$C156,0)*5),0))))","v":0},{"$f":"IF(AB156=0,0,IF(AC$2=\"Year\",IF(_xlfn.MAXIFS($N156:AB156,$N$2:AB$2,\"Year\")+$E156<=$E$1,Z156+$E156,0),IF(AC$2=\"Repair %\",IF(Z156>0,$C$3,0),IF(AC$2=\"Spares %\",IF(IF(Z156>0,$C156,0)*100>50%,50%,IF(Z156>0,$C156,0)*100),0))))","v":0},{"$f":"IF(AC156=0,0,IF(AD$2=\"Year\",IF(_xlfn.MAXIFS($N156:AC156,$N$2:AC$2,\"Year\")+$E156<=$E$1,AA156+$E156,0),IF(AD$2=\"Repair %\",IF(AA156>0,$C156,0),IF(AD$2=\"Spares %\",IF(IF(AA156>0,$C156,0)*100>50%,50%,IF(AA156>0,$C156,0)*100),0))))","v":0},{"$f":"IF(AD156=0,0,IF(AE$2=\"Year\",IF(_xlfn.MAXIFS($N156:AD156,$N$2:AD$2,\"Year\")+$E156<=$E$1,AB156+$E156,0),IF(AE$2=\"Repair %\",IF(AB156>0,$C156,0),IF(AE$2=\"Spares %\",IF(IF(Z156>0,$C156,0)*5>80%,50%,IF(Z156>0,$C156,0)*5),0))))","v":0},{"$f":"IF(AE156=0,0,IF(AF$2=\"Year\",IF(_xlfn.MAXIFS($N156:AE156,$N$2:AE$2,\"Year\")+$E156<=$E$1,AC156+$E156,0),IF(AF$2=\"Repair %\",IF(AC156>0,$C$3,0),IF(AF$2=\"Spares %\",IF(IF(AC156>0,$C156,0)*100>50%,50%,IF(AC156>0,$C156,0)*100),0))))","v":0},{"$f":"IF(AF156=0,0,IF(AG$2=\"Year\",IF(_xlfn.MAXIFS($N156:AF156,$N$2:AF$2,\"Year\")+$E156<=$E$1,AD156+$E156,0),IF(AG$2=\"Repair %\",IF(AD156>0,$C156,0),IF(AG$2=\"Spares %\",IF(IF(AD156>0,$C156,0)*100>50%,50%,IF(AD156>0,$C156,0)*100),0))))","v":0},{"$f":"IF(AG156=0,0,IF(AH$2=\"Year\",IF(_xlfn.MAXIFS($N156:AG156,$N$2:AG$2,\"Year\")+$E156<=$E$1,AE156+$E156,0),IF(AH$2=\"Repair %\",IF(AE156>0,$C156,0),IF(AH$2=\"Spares %\",IF(IF(AC156>0,$C156,0)*5>80%,50%,IF(AC156>0,$C156,0)*5),0))))","v":0},{"$f":"IF(AH156=0,0,IF(AI$2=\"Year\",IF(_xlfn.MAXIFS($N156:AH156,$N$2:AH$2,\"Year\")+$E156<=$E$1,AF156+$E156,0),IF(AI$2=\"Repair %\",IF(AF156>0,$C$3,0),IF(AI$2=\"Spares %\",IF(IF(AF156>0,$C156,0)*100>50%,50%,IF(AF156>0,$C156,0)*100),0))))","v":0},{"$f":"IF(AI156=0,0,IF(AJ$2=\"Year\",IF(_xlfn.MAXIFS($N156:AI156,$N$2:AI$2,\"Year\")+$E156<=$E$1,AG156+$E156,0),IF(AJ$2=\"Repair %\",IF(AG156>0,$C156,0),IF(AJ$2=\"Spares %\",IF(IF(AG156>0,$C156,0)*100>50%,50%,IF(AG156>0,$C156,0)*100),0))))","v":0},{"$f":"IF(AJ156=0,0,IF(AK$2=\"Year\",IF(_xlfn.MAXIFS($N156:AJ156,$N$2:AJ$2,\"Year\")+$E156<=$E$1,AH156+$E156,0),IF(AK$2=\"Repair %\",IF(AH156>0,$C156,0),IF(AK$2=\"Spares %\",IF(IF(AF156>0,$C156,0)*5>80%,50%,IF(AF156>0,$C156,0)*5),0))))","v":0},{"$f":"IF(AK156=0,0,IF(AL$2=\"Year\",IF(_xlfn.MAXIFS($N156:AK156,$N$2:AK$2,\"Year\")+$E156<=$E$1,AI156+$E156,0),IF(AL$2=\"Repair %\",IF(AI156>0,$C$3,0),IF(AL$2=\"Spares %\",IF(IF(AI156>0,$C156,0)*100>50%,50%,IF(AI156>0,$C156,0)*100),0))))","v":0},{"$f":"IF(AL156=0,0,IF(AM$2=\"Year\",IF(_xlfn.MAXIFS($N156:AL156,$N$2:AL$2,\"Year\")+$E156<=$E$1,AJ156+$E156,0),IF(AM$2=\"Repair %\",IF(AJ156>0,$C156,0),IF(AM$2=\"Spares %\",IF(IF(AJ156>0,$C156,0)*100>50%,50%,IF(AJ156>0,$C156,0)*100),0))))","v":0},{"$f":"IF(AM156=0,0,IF(AN$2=\"Year\",IF(_xlfn.MAXIFS($N156:AM156,$N$2:AM$2,\"Year\")+$E156<=$E$1,AK156+$E156,0),IF(AN$2=\"Repair %\",IF(AK156>0,$C156,0),IF(AN$2=\"Spares %\",IF(IF(AI156>0,$C156,0)*5>80%,50%,IF(AI156>0,$C156,0)*5),0))))","v":0},{"$f":"IF(AN156=0,0,IF(AO$2=\"Year\",IF(_xlfn.MAXIFS($N156:AN156,$N$2:AN$2,\"Year\")+$E156<=$E$1,AL156+$E156,0),IF(AO$2=\"Repair %\",IF(AL156>0,$C$3,0),IF(AO$2=\"Spares %\",IF(IF(AL156>0,$C156,0)*100>50%,50%,IF(AL156>0,$C156,0)*100),0))))","v":0},{"$f":"IF(AO156=0,0,IF(AP$2=\"Year\",IF(_xlfn.MAXIFS($N156:AO156,$N$2:AO$2,\"Year\")+$E156<=$E$1,AM156+$E156,0),IF(AP$2=\"Repair %\",IF(AM156>0,$C156,0),IF(AP$2=\"Spares %\",IF(IF(AM156>0,$C156,0)*100>50%,50%,IF(AM156>0,$C156,0)*100),0))))","v":0},{"$f":"IF(AP156=0,0,IF(AQ$2=\"Year\",IF(_xlfn.MAXIFS($N156:AP156,$N$2:AP$2,\"Year\")+$E156<=$E$1,AN156+$E156,0),IF(AQ$2=\"Repair %\",IF(AN156>0,$C156,0),IF(AQ$2=\"Spares %\",IF(IF(AL156>0,$C156,0)*5>80%,50%,IF(AL156>0,$C156,0)*5),0))))","v":0}]
[784,"Remote Data concentrators",0,0.06,null,"",{"$f":"SUBSTITUTE(ADDRESS(1,MATCH(A157,'Pt1-AvionicsComponentCosts'!$A$6:$NC$6,0)+1),\"$1\",\"\")","v":"$HT"},{"$f":"_xlfn.TEXTJOIN(\", \",TRUE,_xlfn.UNIQUE(_xlfn._xlws.SORT(_xlfn._xlws.FILTER('Pt1-AvionicsComponentCosts'!$NF$12:$NF$384,ISNUMBER(INDIRECT(\"'Pt1-AvionicsComponentCosts'!\"&G157&\"$12:\"&G157&\"$384\"))))))","v":"A350, Attack, B747, B777, B787, Stealth"},null,0.06,0,0.35499999999999998,1.0509999999999999,{"$f":"COUNTIF($N$2:N$2,\"Year\")*$G$1","v":10},null,0,{"$f":"COUNTIF($N$2:Q$2,\"Year\")*$G$1","v":20},{"$f":"IF(Q157=0,0,IF(R$2=\"Year\",IF(_xlfn.MAXIFS($N157:Q157,$N$2:Q$2,\"Year\")+$E157<=$E$1,O157+$E157,0),IF(R$2=\"Repair %\",IF(O157>0,$C157,0),IF(R$2=\"Spares %\",IF(IF(O157>0,$C157,0)*100>50%,50%,IF(O157>0,$C157,0)*100),0))))","v":0},0,{"$f":"COUNTIF($N$2:T$2,\"Year\")*$G$1","v":30},{"$f":"IF(T157=0,0,IF(U$2=\"Year\",IF(_xlfn.MAXIFS($N157:T157,$N$2:T$2,\"Year\")+$E157<=$E$1,R157+$E157,0),IF(U$2=\"Repair %\",IF(R157>0,$C157,0),IF(U$2=\"Spares %\",IF(IF(R157>0,$C157,0)*100>50%,50%,IF(R157>0,$C157,0)*100),0))))","v":0},0,{"$f":"COUNTIF($N$2:W$2,\"Year\")*$G$1","v":40},{"$f":"IF(W157=0,0,IF(X$2=\"Year\",IF(_xlfn.MAXIFS($N157:W157,$N$2:W$2,\"Year\")+$E157<=$E$1,U157+$E157,0),IF(X$2=\"Repair %\",IF(U157>0,$C157,0),IF(X$2=\"Spares %\",IF(IF(U157>0,$C157,0)*100>50%,50%,IF(U157>0,$C157,0)*100),0))))","v":0},0,{"$f":"IF(Y157=0,0,IF(Z$2=\"Year\",IF(_xlfn.MAXIFS($N157:Y157,$N$2:Y$2,\"Year\")+$E157<=$E$1,W157+$E157,0),IF(Z$2=\"Repair %\",IF(W157>0,$C$3,0),IF(Z$2=\"Spares %\",IF(IF(W157>0,$C157,0)*100>50%,50%,IF(W157>0,$C157,0)*100),0))))","v":0},{"$f":"IF(Z157=0,0,IF(AA$2=\"Year\",IF(_xlfn.MAXIFS($N157:Z157,$N$2:Z$2,\"Year\")+$E157<=$E$1,X157+$E157,0),IF(AA$2=\"Repair %\",IF(X157>0,$C157,0),IF(AA$2=\"Spares %\",IF(IF(X157>0,$C157,0)*100>50%,50%,IF(X157>0,$C157,0)*100),0))))","v":0},{"$f":"IF(AA157=0,0,IF(AB$2=\"Year\",IF(_xlfn.MAXIFS($N157:AA157,$N$2:AA$2,\"Year\")+$E157<=$E$1,Y157+$E157,0),IF(AB$2=\"Repair %\",IF(Y157>0,$C157,0),IF(AB$2=\"Spares %\",IF(IF(W157>0,$C157,0)*5>80%,50%,IF(W157>0,$C157,0)*5),0))))","v":0},{"$f":"IF(AB157=0,0,IF(AC$2=\"Year\",IF(_xlfn.MAXIFS($N157:AB157,$N$2:AB$2,\"Year\")+$E157<=$E$1,Z157+$E157,0),IF(AC$2=\"Repair %\",IF(Z157>0,$C$3,0),IF(AC$2=\"Spares %\",IF(IF(Z157>0,$C157,0)*100>50%,50%,IF(Z157>0,$C157,0)*100),0))))","v":0},{"$f":"IF(AC157=0,0,IF(AD$2=\"Year\",IF(_xlfn.MAXIFS($N157:AC157,$N$2:AC$2,\"Year\")+$E157<=$E$1,AA157+$E157,0),IF(AD$2=\"Repair %\",IF(AA157>0,$C157,0),IF(AD$2=\"Spares %\",IF(IF(AA157>0,$C157,0)*100>50%,50%,IF(AA157>0,$C157,0)*100),0))))","v":0},{"$f":"IF(AD157=0,0,IF(AE$2=\"Year\",IF(_xlfn.MAXIFS($N157:AD157,$N$2:AD$2,\"Year\")+$E157<=$E$1,AB157+$E157,0),IF(AE$2=\"Repair %\",IF(AB157>0,$C157,0),IF(AE$2=\"Spares %\",IF(IF(Z157>0,$C157,0)*5>80%,50%,IF(Z157>0,$C157,0)*5),0))))","v":0},{"$f":"IF(AE157=0,0,IF(AF$2=\"Year\",IF(_xlfn.MAXIFS($N157:AE157,$N$2:AE$2,\"Year\")+$E157<=$E$1,AC157+$E157,0),IF(AF$2=\"Repair %\",IF(AC157>0,$C$3,0),IF(AF$2=\"Spares %\",IF(IF(AC157>0,$C157,0)*100>50%,50%,IF(AC157>0,$C157,0)*100),0))))","v":0},{"$f":"IF(AF157=0,0,IF(AG$2=\"Year\",IF(_xlfn.MAXIFS($N157:AF157,$N$2:AF$2,\"Year\")+$E157<=$E$1,AD157+$E157,0),IF(AG$2=\"Repair %\",IF(AD157>0,$C157,0),IF(AG$2=\"Spares %\",IF(IF(AD157>0,$C157,0)*100>50%,50%,IF(AD157>0,$C157,0)*100),0))))","v":0},{"$f":"IF(AG157=0,0,IF(AH$2=\"Year\",IF(_xlfn.MAXIFS($N157:AG157,$N$2:AG$2,\"Year\")+$E157<=$E$1,AE157+$E157,0),IF(AH$2=\"Repair %\",IF(AE157>0,$C157,0),IF(AH$2=\"Spares %\",IF(IF(AC157>0,$C157,0)*5>80%,50%,IF(AC157>0,$C157,0)*5),0))))","v":0},{"$f":"IF(AH157=0,0,IF(AI$2=\"Year\",IF(_xlfn.MAXIFS($N157:AH157,$N$2:AH$2,\"Year\")+$E157<=$E$1,AF157+$E157,0),IF(AI$2=\"Repair %\",IF(AF157>0,$C$3,0),IF(AI$2=\"Spares %\",IF(IF(AF157>0,$C157,0)*100>50%,50%,IF(AF157>0,$C157,0)*100),0))))","v":0},{"$f":"IF(AI157=0,0,IF(AJ$2=\"Year\",IF(_xlfn.MAXIFS($N157:AI157,$N$2:AI$2,\"Year\")+$E157<=$E$1,AG157+$E157,0),IF(AJ$2=\"Repair %\",IF(AG157>0,$C157,0),IF(AJ$2=\"Spares %\",IF(IF(AG157>0,$C157,0)*100>50%,50%,IF(AG157>0,$C157,0)*100),0))))","v":0},{"$f":"IF(AJ157=0,0,IF(AK$2=\"Year\",IF(_xlfn.MAXIFS($N157:AJ157,$N$2:AJ$2,\"Year\")+$E157<=$E$1,AH157+$E157,0),IF(AK$2=\"Repair %\",IF(AH157>0,$C157,0),IF(AK$2=\"Spares %\",IF(IF(AF157>0,$C157,0)*5>80%,50%,IF(AF157>0,$C157,0)*5),0))))","v":0},{"$f":"IF(AK157=0,0,IF(AL$2=\"Year\",IF(_xlfn.MAXIFS($N157:AK157,$N$2:AK$2,\"Year\")+$E157<=$E$1,AI157+$E157,0),IF(AL$2=\"Repair %\",IF(AI157>0,$C$3,0),IF(AL$2=\"Spares %\",IF(IF(AI157>0,$C157,0)*100>50%,50%,IF(AI157>0,$C157,0)*100),0))))","v":0},{"$f":"IF(AL157=0,0,IF(AM$2=\"Year\",IF(_xlfn.MAXIFS($N157:AL157,$N$2:AL$2,\"Year\")+$E157<=$E$1,AJ157+$E157,0),IF(AM$2=\"Repair %\",IF(AJ157>0,$C157,0),IF(AM$2=\"Spares %\",IF(IF(AJ157>0,$C157,0)*100>50%,50%,IF(AJ157>0,$C157,0)*100),0))))","v":0},{"$f":"IF(AM157=0,0,IF(AN$2=\"Year\",IF(_xlfn.MAXIFS($N157:AM157,$N$2:AM$2,\"Year\")+$E157<=$E$1,AK157+$E157,0),IF(AN$2=\"Repair %\",IF(AK157>0,$C157,0),IF(AN$2=\"Spares %\",IF(IF(AI157>0,$C157,0)*5>80%,50%,IF(AI157>0,$C157,0)*5),0))))","v":0},{"$f":"IF(AN157=0,0,IF(AO$2=\"Year\",IF(_xlfn.MAXIFS($N157:AN157,$N$2:AN$2,\"Year\")+$E157<=$E$1,AL157+$E157,0),IF(AO$2=\"Repair %\",IF(AL157>0,$C$3,0),IF(AO$2=\"Spares %\",IF(IF(AL157>0,$C157,0)*100>50%,50%,IF(AL157>0,$C157,0)*100),0))))","v":0},{"$f":"IF(AO157=0,0,IF(AP$2=\"Year\",IF(_xlfn.MAXIFS($N157:AO157,$N$2:AO$2,\"Year\")+$E157<=$E$1,AM157+$E157,0),IF(AP$2=\"Repair %\",IF(AM157>0,$C157,0),IF(AP$2=\"Spares %\",IF(IF(AM157>0,$C157,0)*100>50%,50%,IF(AM157>0,$C157,0)*100),0))))","v":0},{"$f":"IF(AP157=0,0,IF(AQ$2=\"Year\",IF(_xlfn.MAXIFS($N157:AP157,$N$2:AP$2,\"Year\")+$E157<=$E$1,AN157+$E157,0),IF(AQ$2=\"Repair %\",IF(AN157>0,$C157,0),IF(AQ$2=\"Spares %\",IF(IF(AL157>0,$C157,0)*5>80%,50%,IF(AL157>0,$C157,0)*5),0))))","v":0}]
[{"$f":"INDEX('Avionics ID'!A:E,MATCH(B158,'Avionics ID'!E:E,0),1)","v":769},"SATCOM",0.1,0.06,10,"Obsolecence",{"$f":"SUBSTITUTE(ADDRESS(1,MATCH(A158,'Pt1-AvionicsComponentCosts'!$A$6:$NC$6,0)+1),\"$1\",\"\")","v":"$BV"},{"$f":"_xlfn.TEXTJOIN(\", \",TRUE,_xlfn.UNIQUE(_xlfn._xlws.SORT(_xlfn._xlws.FILTER('Pt1-AvionicsComponentCosts'!$NF$12:$NF$384,ISNUMBER(INDIRECT(\"'Pt1-AvionicsComponentCosts'!\"&G158&\"$12:\"&G158&\"$384\"))))))","v":"A300, A320, A330, A340, A350, A380, B747, B767, B777, B787, MD-11, UAV"},null,0.06,0.1,0.501,1.2969999999999999,{"$f":"COUNTIF($N$2:N$2,\"Year\")*$G$1","v":10},null,1,{"$f":"COUNTIF($N$2:Q$2,\"Year\")*$G$1","v":20},{"$f":"IF(Q158=0,0,IF(R$2=\"Year\",IF(_xlfn.MAXIFS($N158:Q158,$N$2:Q$2,\"Year\")+$E158<=$E$1,O158+$E158,0),IF(R$2=\"Repair %\",IF(O158>0,$C158,0),IF(R$2=\"Spares %\",IF(IF(O158>0,$C158,0)*100>50%,50%,IF(O158>0,$C158,0)*100),0))))","v":0},1,{"$f":"COUNTIF($N$2:T$2,\"Year\")*$G$1","v":30},{"$f":"IF(T158=0,0,IF(U$2=\"Year\",IF(_xlfn.MAXIFS($N158:T158,$N$2:T$2,\"Year\")+$E158<=$E$1,R158+$E158,0),IF(U$2=\"Repair %\",IF(R158>0,$C158,0),IF(U$2=\"Spares %\",IF(IF(R158>0,$C158,0)*100>50%,50%,IF(R158>0,$C158,0)*100),0))))","v":0},1,{"$f":"COUNTIF($N$2:W$2,\"Year\")*$G$1","v":40},{"$f":"IF(W158=0,0,IF(X$2=\"Year\",IF(_xlfn.MAXIFS($N158:W158,$N$2:W$2,\"Year\")+$E158<=$E$1,U158+$E158,0),IF(X$2=\"Repair %\",IF(U158>0,$C158,0),IF(X$2=\"Spares %\",IF(IF(U158>0,$C158,0)*100>50%,50%,IF(U158>0,$C158,0)*100),0))))","v":0},1,{"$f":"IF(Y158=0,0,IF(Z$2=\"Year\",IF(_xlfn.MAXIFS($N158:Y158,$N$2:Y$2,\"Year\")+$E158<=$E$1,W158+$E158,0),IF(Z$2=\"Repair %\",IF(W158>0,$C$3,0),IF(Z$2=\"Spares %\",IF(IF(W158>0,$C158,0)*100>50%,50%,IF(W158>0,$C158,0)*100),0))))","v":0},{"$f":"IF(Z158=0,0,IF(AA$2=\"Year\",IF(_xlfn.MAXIFS($N158:Z158,$N$2:Z$2,\"Year\")+$E158<=$E$1,X158+$E158,0),IF(AA$2=\"Repair %\",IF(X158>0,$C158,0),IF(AA$2=\"Spares %\",IF(IF(X158>0,$C158,0)*100>50%,50%,IF(X158>0,$C158,0)*100),0))))","v":0},{"$f":"IF(AA158=0,0,IF(AB$2=\"Year\",IF(_xlfn.MAXIFS($N158:AA158,$N$2:AA$2,\"Year\")+$E158<=$E$1,Y158+$E158,0),IF(AB$2=\"Repair %\",IF(Y158>0,$C158,0),IF(AB$2=\"Spares %\",IF(IF(W158>0,$C158,0)*5>80%,50%,IF(W158>0,$C158,0)*5),0))))","v":0},{"$f":"IF(AB158=0,0,IF(AC$2=\"Year\",IF(_xlfn.MAXIFS($N158:AB158,$N$2:AB$2,\"Year\")+$E158<=$E$1,Z158+$E158,0),IF(AC$2=\"Repair %\",IF(Z158>0,$C$3,0),IF(AC$2=\"Spares %\",IF(IF(Z158>0,$C158,0)*100>50%,50%,IF(Z158>0,$C158,0)*100),0))))","v":0},{"$f":"IF(AC158=0,0,IF(AD$2=\"Year\",IF(_xlfn.MAXIFS($N158:AC158,$N$2:AC$2,\"Year\")+$E158<=$E$1,AA158+$E158,0),IF(AD$2=\"Repair %\",IF(AA158>0,$C158,0),IF(AD$2=\"Spares %\",IF(IF(AA158>0,$C158,0)*100>50%,50%,IF(AA158>0,$C158,0)*100),0))))","v":0},{"$f":"IF(AD158=0,0,IF(AE$2=\"Year\",IF(_xlfn.MAXIFS($N158:AD158,$N$2:AD$2,\"Year\")+$E158<=$E$1,AB158+$E158,0),IF(AE$2=\"Repair %\",IF(AB158>0,$C158,0),IF(AE$2=\"Spares %\",IF(IF(Z158>0,$C158,0)*5>80%,50%,IF(Z158>0,$C158,0)*5),0))))","v":0},{"$f":"IF(AE158=0,0,IF(AF$2=\"Year\",IF(_xlfn.MAXIFS($N158:AE158,$N$2:AE$2,\"Year\")+$E158<=$E$1,AC158+$E158,0),IF(AF$2=\"Repair %\",IF(AC158>0,$C$3,0),IF(AF$2=\"Spares %\",IF(IF(AC158>0,$C158,0)*100>50%,50%,IF(AC158>0,$C158,0)*100),0))))","v":0},{"$f":"IF(AF158=0,0,IF(AG$2=\"Year\",IF(_xlfn.MAXIFS($N158:AF158,$N$2:AF$2,\"Year\")+$E158<=$E$1,AD158+$E158,0),IF(AG$2=\"Repair %\",IF(AD158>0,$C158,0),IF(AG$2=\"Spares %\",IF(IF(AD158>0,$C158,0)*100>50%,50%,IF(AD158>0,$C158,0)*100),0))))","v":0},{"$f":"IF(AG158=0,0,IF(AH$2=\"Year\",IF(_xlfn.MAXIFS($N158:AG158,$N$2:AG$2,\"Year\")+$E158<=$E$1,AE158+$E158,0),IF(AH$2=\"Repair %\",IF(AE158>0,$C158,0),IF(AH$2=\"Spares %\",IF(IF(AC158>0,$C158,0)*5>80%,50%,IF(AC158>0,$C158,0)*5),0))))","v":0},{"$f":"IF(AH158=0,0,IF(AI$2=\"Year\",IF(_xlfn.MAXIFS($N158:AH158,$N$2:AH$2,\"Year\")+$E158<=$E$1,AF158+$E158,0),IF(AI$2=\"Repair %\",IF(AF158>0,$C$3,0),IF(AI$2=\"Spares %\",IF(IF(AF158>0,$C158,0)*100>50%,50%,IF(AF158>0,$C158,0)*100),0))))","v":0},{"$f":"IF(AI158=0,0,IF(AJ$2=\"Year\",IF(_xlfn.MAXIFS($N158:AI158,$N$2:AI$2,\"Year\")+$E158<=$E$1,AG158+$E158,0),IF(AJ$2=\"Repair %\",IF(AG158>0,$C158,0),IF(AJ$2=\"Spares %\",IF(IF(AG158>0,$C158,0)*100>50%,50%,IF(AG158>0,$C158,0)*100),0))))","v":0},{"$f":"IF(AJ158=0,0,IF(AK$2=\"Year\",IF(_xlfn.MAXIFS($N158:AJ158,$N$2:AJ$2,\"Year\")+$E158<=$E$1,AH158+$E158,0),IF(AK$2=\"Repair %\",IF(AH158>0,$C158,0),IF(AK$2=\"Spares %\",IF(IF(AF158>0,$C158,0)*5>80%,50%,IF(AF158>0,$C158,0)*5),0))))","v":0},{"$f":"IF(AK158=0,0,IF(AL$2=\"Year\",IF(_xlfn.MAXIFS($N158:AK158,$N$2:AK$2,\"Year\")+$E158<=$E$1,AI158+$E158,0),IF(AL$2=\"Repair %\",IF(AI158>0,$C$3,0),IF(AL$2=\"Spares %\",IF(IF(AI158>0,$C158,0)*100>50%,50%,IF(AI158>0,$C158,0)*100),0))))","v":0},{"$f":"IF(AL158=0,0,IF(AM$2=\"Year\",IF(_xlfn.MAXIFS($N158:AL158,$N$2:AL$2,\"Year\")+$E158<=$E$1,AJ158+$E158,0),IF(AM$2=\"Repair %\",IF(AJ158>0,$C158,0),IF(AM$2=\"Spares %\",IF(IF(AJ158>0,$C158,0)*100>50%,50%,IF(AJ158>0,$C158,0)*100),0))))","v":0},{"$f":"IF(AM158=0,0,IF(AN$2=\"Year\",IF(_xlfn.MAXIFS($N158:AM158,$N$2:AM$2,\"Year\")+$E158<=$E$1,AK158+$E158,0),IF(AN$2=\"Repair %\",IF(AK158>0,$C158,0),IF(AN$2=\"Spares %\",IF(IF(AI158>0,$C158,0)*5>80%,50%,IF(AI158>0,$C158,0)*5),0))))","v":0},{"$f":"IF(AN158=0,0,IF(AO$2=\"Year\",IF(_xlfn.MAXIFS($N158:AN158,$N$2:AN$2,\"Year\")+$E158<=$E$1,AL158+$E158,0),IF(AO$2=\"Repair %\",IF(AL158>0,$C$3,0),IF(AO$2=\"Spares %\",IF(IF(AL158>0,$C158,0)*100>50%,50%,IF(AL158>0,$C158,0)*100),0))))","v":0},{"$f":"IF(AO158=0,0,IF(AP$2=\"Year\",IF(_xlfn.MAXIFS($N158:AO158,$N$2:AO$2,\"Year\")+$E158<=$E$1,AM158+$E158,0),IF(AP$2=\"Repair %\",IF(AM158>0,$C158,0),IF(AP$2=\"Spares %\",IF(IF(AM158>0,$C158,0)*100>50%,50%,IF(AM158>0,$C158,0)*100),0))))","v":0},{"$f":"IF(AP158=0,0,IF(AQ$2=\"Year\",IF(_xlfn.MAXIFS($N158:AP158,$N$2:AP$2,\"Year\")+$E158<=$E$1,AN158+$E158,0),IF(AQ$2=\"Repair %\",IF(AN158>0,$C158,0),IF(AQ$2=\"Spares %\",IF(IF(AL158>0,$C158,0)*5>80%,50%,IF(AL158>0,$C158,0)*5),0))))","v":0}]
[{"$f":"INDEX('Avionics ID'!A:E,MATCH(B159,'Avionics ID'!E:E,0),1)","v":884},"Sensor suite WX radar etc",0.1,0.1,10,"Obsolecence",{"$f":"SUBSTITUTE(ADDRESS(1,MATCH(A159,'Pt1-AvionicsComponentCosts'!$A$6:$NC$6,0)+1),\"$1\",\"\")","v":"$MV"},{"$f":"_xlfn.TEXTJOIN(\", \",TRUE,_xlfn.UNIQUE(_xlfn._xlws.SORT(_xlfn._xlws.FILTER('Pt1-AvionicsComponentCosts'!$NF$12:$NF$384,ISNUMBER(INDIRECT(\"'Pt1-AvionicsComponentCosts'!\"&G159&\"$12:\"&G159&\"$384\"))))))","v":"Challenger, Citation, E550, EMB Bizjet, Falcon, Global, Gulfstream, Hawker, Hondajet, Learjet, Nextant 400XT, PC-24, Phenom, Praetor, SF50"},null,0.1,0.1,0.44800000000000001,1.298,{"$f":"COUNTIF($N$2:N$2,\"Year\")*$G$1","v":10},null,1,{"$f":"COUNTIF($N$2:Q$2,\"Year\")*$G$1","v":20},{"$f":"IF(Q159=0,0,IF(R$2=\"Year\",IF(_xlfn.MAXIFS($N159:Q159,$N$2:Q$2,\"Year\")+$E159<=$E$1,O159+$E159,0),IF(R$2=\"Repair %\",IF(O159>0,$C159,0),IF(R$2=\"Spares %\",IF(IF(O159>0,$C159,0)*100>50%,50%,IF(O159>0,$C159,0)*100),0))))","v":0},1,{"$f":"COUNTIF($N$2:T$2,\"Year\")*$G$1","v":30},{"$f":"IF(T159=0,0,IF(U$2=\"Year\",IF(_xlfn.MAXIFS($N159:T159,$N$2:T$2,\"Year\")+$E159<=$E$1,R159+$E159,0),IF(U$2=\"Repair %\",IF(R159>0,$C159,0),IF(U$2=\"Spares %\",IF(IF(R159>0,$C159,0)*100>50%,50%,IF(R159>0,$C159,0)*100),0))))","v":0},1,{"$f":"COUNTIF($N$2:W$2,\"Year\")*$G$1","v":40},{"$f":"IF(W159=0,0,IF(X$2=\"Year\",IF(_xlfn.MAXIFS($N159:W159,$N$2:W$2,\"Year\")+$E159<=$E$1,U159+$E159,0),IF(X$2=\"Repair %\",IF(U159>0,$C159,0),IF(X$2=\"Spares %\",IF(IF(U159>0,$C159,0)*100>50%,50%,IF(U159>0,$C159,0)*100),0))))","v":0},1,{"$f":"IF(Y159=0,0,IF(Z$2=\"Year\",IF(_xlfn.MAXIFS($N159:Y159,$N$2:Y$2,\"Year\")+$E159<=$E$1,W159+$E159,0),IF(Z$2=\"Repair %\",IF(W159>0,$C$3,0),IF(Z$2=\"Spares %\",IF(IF(W159>0,$C159,0)*100>50%,50%,IF(W159>0,$C159,0)*100),0))))","v":0},{"$f":"IF(Z159=0,0,IF(AA$2=\"Year\",IF(_xlfn.MAXIFS($N159:Z159,$N$2:Z$2,\"Year\")+$E159<=$E$1,X159+$E159,0),IF(AA$2=\"Repair %\",IF(X159>0,$C159,0),IF(AA$2=\"Spares %\",IF(IF(X159>0,$C159,0)*100>50%,50%,IF(X159>0,$C159,0)*100),0))))","v":0},{"$f":"IF(AA159=0,0,IF(AB$2=\"Year\",IF(_xlfn.MAXIFS($N159:AA159,$N$2:AA$2,\"Year\")+$E159<=$E$1,Y159+$E159,0),IF(AB$2=\"Repair %\",IF(Y159>0,$C159,0),IF(AB$2=\"Spares %\",IF(IF(W159>0,$C159,0)*5>80%,50%,IF(W159>0,$C159,0)*5),0))))","v":0},{"$f":"IF(AB159=0,0,IF(AC$2=\"Year\",IF(_xlfn.MAXIFS($N159:AB159,$N$2:AB$2,\"Year\")+$E159<=$E$1,Z159+$E159,0),IF(AC$2=\"Repair %\",IF(Z159>0,$C$3,0),IF(AC$2=\"Spares %\",IF(IF(Z159>0,$C159,0)*100>50%,50%,IF(Z159>0,$C159,0)*100),0))))","v":0},{"$f":"IF(AC159=0,0,IF(AD$2=\"Year\",IF(_xlfn.MAXIFS($N159:AC159,$N$2:AC$2,\"Year\")+$E159<=$E$1,AA159+$E159,0),IF(AD$2=\"Repair %\",IF(AA159>0,$C159,0),IF(AD$2=\"Spares %\",IF(IF(AA159>0,$C159,0)*100>50%,50%,IF(AA159>0,$C159,0)*100),0))))","v":0},{"$f":"IF(AD159=0,0,IF(AE$2=\"Year\",IF(_xlfn.MAXIFS($N159:AD159,$N$2:AD$2,\"Year\")+$E159<=$E$1,AB159+$E159,0),IF(AE$2=\"Repair %\",IF(AB159>0,$C159,0),IF(AE$2=\"Spares %\",IF(IF(Z159>0,$C159,0)*5>80%,50%,IF(Z159>0,$C159,0)*5),0))))","v":0},{"$f":"IF(AE159=0,0,IF(AF$2=\"Year\",IF(_xlfn.MAXIFS($N159:AE159,$N$2:AE$2,\"Year\")+$E159<=$E$1,AC159+$E159,0),IF(AF$2=\"Repair %\",IF(AC159>0,$C$3,0),IF(AF$2=\"Spares %\",IF(IF(AC159>0,$C159,0)*100>50%,50%,IF(AC159>0,$C159,0)*100),0))))","v":0},{"$f":"IF(AF159=0,0,IF(AG$2=\"Year\",IF(_xlfn.MAXIFS($N159:AF159,$N$2:AF$2,\"Year\")+$E159<=$E$1,AD159+$E159,0),IF(AG$2=\"Repair %\",IF(AD159>0,$C159,0),IF(AG$2=\"Spares %\",IF(IF(AD159>0,$C159,0)*100>50%,50%,IF(AD159>0,$C159,0)*100),0))))","v":0},{"$f":"IF(AG159=0,0,IF(AH$2=\"Year\",IF(_xlfn.MAXIFS($N159:AG159,$N$2:AG$2,\"Year\")+$E159<=$E$1,AE159+$E159,0),IF(AH$2=\"Repair %\",IF(AE159>0,$C159,0),IF(AH$2=\"Spares %\",IF(IF(AC159>0,$C159,0)*5>80%,50%,IF(AC159>0,$C159,0)*5),0))))","v":0},{"$f":"IF(AH159=0,0,IF(AI$2=\"Year\",IF(_xlfn.MAXIFS($N159:AH159,$N$2:AH$2,\"Year\")+$E159<=$E$1,AF159+$E159,0),IF(AI$2=\"Repair %\",IF(AF159>0,$C$3,0),IF(AI$2=\"Spares %\",IF(IF(AF159>0,$C159,0)*100>50%,50%,IF(AF159>0,$C159,0)*100),0))))","v":0},{"$f":"IF(AI159=0,0,IF(AJ$2=\"Year\",IF(_xlfn.MAXIFS($N159:AI159,$N$2:AI$2,\"Year\")+$E159<=$E$1,AG159+$E159,0),IF(AJ$2=\"Repair %\",IF(AG159>0,$C159,0),IF(AJ$2=\"Spares %\",IF(IF(AG159>0,$C159,0)*100>50%,50%,IF(AG159>0,$C159,0)*100),0))))","v":0},{"$f":"IF(AJ159=0,0,IF(AK$2=\"Year\",IF(_xlfn.MAXIFS($N159:AJ159,$N$2:AJ$2,\"Year\")+$E159<=$E$1,AH159+$E159,0),IF(AK$2=\"Repair %\",IF(AH159>0,$C159,0),IF(AK$2=\"Spares %\",IF(IF(AF159>0,$C159,0)*5>80%,50%,IF(AF159>0,$C159,0)*5),0))))","v":0},{"$f":"IF(AK159=0,0,IF(AL$2=\"Year\",IF(_xlfn.MAXIFS($N159:AK159,$N$2:AK$2,\"Year\")+$E159<=$E$1,AI159+$E159,0),IF(AL$2=\"Repair %\",IF(AI159>0,$C$3,0),IF(AL$2=\"Spares %\",IF(IF(AI159>0,$C159,0)*100>50%,50%,IF(AI159>0,$C159,0)*100),0))))","v":0},{"$f":"IF(AL159=0,0,IF(AM$2=\"Year\",IF(_xlfn.MAXIFS($N159:AL159,$N$2:AL$2,\"Year\")+$E159<=$E$1,AJ159+$E159,0),IF(AM$2=\"Repair %\",IF(AJ159>0,$C159,0),IF(AM$2=\"Spares %\",IF(IF(AJ159>0,$C159,0)*100>50%,50%,IF(AJ159>0,$C159,0)*100),0))))","v":0},{"$f":"IF(AM159=0,0,IF(AN$2=\"Year\",IF(_xlfn.MAXIFS($N159:AM159,$N$2:AM$2,\"Year\")+$E159<=$E$1,AK159+$E159,0),IF(AN$2=\"Repair %\",IF(AK159>0,$C159,0),IF(AN$2=\"Spares %\",IF(IF(AI159>0,$C159,0)*5>80%,50%,IF(AI159>0,$C159,0)*5),0))))","v":0},{"$f":"IF(AN159=0,0,IF(AO$2=\"Year\",IF(_xlfn.MAXIFS($N159:AN159,$N$2:AN$2,\"Year\")+$E159<=$E$1,AL159+$E159,0),IF(AO$2=\"Repair %\",IF(AL159>0,$C$3,0),IF(AO$2=\"Spares %\",IF(IF(AL159>0,$C159,0)*100>50%,50%,IF(AL159>0,$C159,0)*100),0))))","v":0},{"$f":"IF(AO159=0,0,IF(AP$2=\"Year\",IF(_xlfn.MAXIFS($N159:AO159,$N$2:AO$2,\"Year\")+$E159<=$E$1,AM159+$E159,0),IF(AP$2=\"Repair %\",IF(AM159>0,$C159,0),IF(AP$2=\"Spares %\",IF(IF(AM159>0,$C159,0)*100>50%,50%,IF(AM159>0,$C159,0)*100),0))))","v":0},{"$f":"IF(AP159=0,0,IF(AQ$2=\"Year\",IF(_xlfn.MAXIFS($N159:AP159,$N$2:AP$2,\"Year\")+$E159<=$E$1,AN159+$E159,0),IF(AQ$2=\"Repair %\",IF(AN159>0,$C159,0),IF(AQ$2=\"Spares %\",IF(IF(AL159>0,$C159,0)*5>80%,50%,IF(AL159>0,$C159,0)*5),0))))","v":0}]
[{"$f":"INDEX('Avionics ID'!A:E,MATCH(B160,'Avionics ID'!E:E,0),1)","v":878},"Sensors IFF, other",0.1,0.1,10,"Obsolecence",{"$f":"SUBSTITUTE(ADDRESS(1,MATCH(A160,'Pt1-AvionicsComponentCosts'!$A$6:$NC$6,0)+1),\"$1\",\"\")","v":"$LP"},{"$f":"_xlfn.TEXTJOIN(\", \",TRUE,_xlfn.UNIQUE(_xlfn._xlws.SORT(_xlfn._xlws.FILTER('Pt1-AvionicsComponentCosts'!$NF$12:$NF$384,ISNUMBER(INDIRECT(\"'Pt1-AvionicsComponentCosts'!\"&G160&\"$12:\"&G160&\"$384\"))))))","v":"A300, A320, A330, A330 LMXT, A330 MRTT, A340, A350, A380, B747, B767, B777, B787, Challenger, Citation, EMB Bizjet, Falcon, Global, Gulfstream, Hawker, Helo, Learjet, MD-11, Mil Fighter, Mil Transport, Military Jet, Military TP, Phenom, Praetor"},null,0.1,0.1,0.33500000000000002,1.6830000000000001,{"$f":"COUNTIF($N$2:N$2,\"Year\")*$G$1","v":10},null,1,{"$f":"COUNTIF($N$2:Q$2,\"Year\")*$G$1","v":20},{"$f":"IF(Q160=0,0,IF(R$2=\"Year\",IF(_xlfn.MAXIFS($N160:Q160,$N$2:Q$2,\"Year\")+$E160<=$E$1,O160+$E160,0),IF(R$2=\"Repair %\",IF(O160>0,$C160,0),IF(R$2=\"Spares %\",IF(IF(O160>0,$C160,0)*100>50%,50%,IF(O160>0,$C160,0)*100),0))))","v":0},1,{"$f":"COUNTIF($N$2:T$2,\"Year\")*$G$1","v":30},{"$f":"IF(T160=0,0,IF(U$2=\"Year\",IF(_xlfn.MAXIFS($N160:T160,$N$2:T$2,\"Year\")+$E160<=$E$1,R160+$E160,0),IF(U$2=\"Repair %\",IF(R160>0,$C160,0),IF(U$2=\"Spares %\",IF(IF(R160>0,$C160,0)*100>50%,50%,IF(R160>0,$C160,0)*100),0))))","v":0},1,{"$f":"COUNTIF($N$2:W$2,\"Year\")*$G$1","v":40},{"$f":"IF(W160=0,0,IF(X$2=\"Year\",IF(_xlfn.MAXIFS($N160:W160,$N$2:W$2,\"Year\")+$E160<=$E$1,U160+$E160,0),IF(X$2=\"Repair %\",IF(U160>0,$C160,0),IF(X$2=\"Spares %\",IF(IF(U160>0,$C160,0)*100>50%,50%,IF(U160>0,$C160,0)*100),0))))","v":0},1,{"$f":"IF(Y160=0,0,IF(Z$2=\"Year\",IF(_xlfn.MAXIFS($N160:Y160,$N$2:Y$2,\"Year\")+$E160<=$E$1,W160+$E160,0),IF(Z$2=\"Repair %\",IF(W160>0,$C$3,0),IF(Z$2=\"Spares %\",IF(IF(W160>0,$C160,0)*100>50%,50%,IF(W160>0,$C160,0)*100),0))))","v":0},{"$f":"IF(Z160=0,0,IF(AA$2=\"Year\",IF(_xlfn.MAXIFS($N160:Z160,$N$2:Z$2,\"Year\")+$E160<=$E$1,X160+$E160,0),IF(AA$2=\"Repair %\",IF(X160>0,$C160,0),IF(AA$2=\"Spares %\",IF(IF(X160>0,$C160,0)*100>50%,50%,IF(X160>0,$C160,0)*100),0))))","v":0},{"$f":"IF(AA160=0,0,IF(AB$2=\"Year\",IF(_xlfn.MAXIFS($N160:AA160,$N$2:AA$2,\"Year\")+$E160<=$E$1,Y160+$E160,0),IF(AB$2=\"Repair %\",IF(Y160>0,$C160,0),IF(AB$2=\"Spares %\",IF(IF(W160>0,$C160,0)*5>80%,50%,IF(W160>0,$C160,0)*5),0))))","v":0},{"$f":"IF(AB160=0,0,IF(AC$2=\"Year\",IF(_xlfn.MAXIFS($N160:AB160,$N$2:AB$2,\"Year\")+$E160<=$E$1,Z160+$E160,0),IF(AC$2=\"Repair %\",IF(Z160>0,$C$3,0),IF(AC$2=\"Spares %\",IF(IF(Z160>0,$C160,0)*100>50%,50%,IF(Z160>0,$C160,0)*100),0))))","v":0},{"$f":"IF(AC160=0,0,IF(AD$2=\"Year\",IF(_xlfn.MAXIFS($N160:AC160,$N$2:AC$2,\"Year\")+$E160<=$E$1,AA160+$E160,0),IF(AD$2=\"Repair %\",IF(AA160>0,$C160,0),IF(AD$2=\"Spares %\",IF(IF(AA160>0,$C160,0)*100>50%,50%,IF(AA160>0,$C160,0)*100),0))))","v":0},{"$f":"IF(AD160=0,0,IF(AE$2=\"Year\",IF(_xlfn.MAXIFS($N160:AD160,$N$2:AD$2,\"Year\")+$E160<=$E$1,AB160+$E160,0),IF(AE$2=\"Repair %\",IF(AB160>0,$C160,0),IF(AE$2=\"Spares %\",IF(IF(Z160>0,$C160,0)*5>80%,50%,IF(Z160>0,$C160,0)*5),0))))","v":0},{"$f":"IF(AE160=0,0,IF(AF$2=\"Year\",IF(_xlfn.MAXIFS($N160:AE160,$N$2:AE$2,\"Year\")+$E160<=$E$1,AC160+$E160,0),IF(AF$2=\"Repair %\",IF(AC160>0,$C$3,0),IF(AF$2=\"Spares %\",IF(IF(AC160>0,$C160,0)*100>50%,50%,IF(AC160>0,$C160,0)*100),0))))","v":0},{"$f":"IF(AF160=0,0,IF(AG$2=\"Year\",IF(_xlfn.MAXIFS($N160:AF160,$N$2:AF$2,\"Year\")+$E160<=$E$1,AD160+$E160,0),IF(AG$2=\"Repair %\",IF(AD160>0,$C160,0),IF(AG$2=\"Spares %\",IF(IF(AD160>0,$C160,0)*100>50%,50%,IF(AD160>0,$C160,0)*100),0))))","v":0},{"$f":"IF(AG160=0,0,IF(AH$2=\"Year\",IF(_xlfn.MAXIFS($N160:AG160,$N$2:AG$2,\"Year\")+$E160<=$E$1,AE160+$E160,0),IF(AH$2=\"Repair %\",IF(AE160>0,$C160,0),IF(AH$2=\"Spares %\",IF(IF(AC160>0,$C160,0)*5>80%,50%,IF(AC160>0,$C160,0)*5),0))))","v":0},{"$f":"IF(AH160=0,0,IF(AI$2=\"Year\",IF(_xlfn.MAXIFS($N160:AH160,$N$2:AH$2,\"Year\")+$E160<=$E$1,AF160+$E160,0),IF(AI$2=\"Repair %\",IF(AF160>0,$C$3,0),IF(AI$2=\"Spares %\",IF(IF(AF160>0,$C160,0)*100>50%,50%,IF(AF160>0,$C160,0)*100),0))))","v":0},{"$f":"IF(AI160=0,0,IF(AJ$2=\"Year\",IF(_xlfn.MAXIFS($N160:AI160,$N$2:AI$2,\"Year\")+$E160<=$E$1,AG160+$E160,0),IF(AJ$2=\"Repair %\",IF(AG160>0,$C160,0),IF(AJ$2=\"Spares %\",IF(IF(AG160>0,$C160,0)*100>50%,50%,IF(AG160>0,$C160,0)*100),0))))","v":0},{"$f":"IF(AJ160=0,0,IF(AK$2=\"Year\",IF(_xlfn.MAXIFS($N160:AJ160,$N$2:AJ$2,\"Year\")+$E160<=$E$1,AH160+$E160,0),IF(AK$2=\"Repair %\",IF(AH160>0,$C160,0),IF(AK$2=\"Spares %\",IF(IF(AF160>0,$C160,0)*5>80%,50%,IF(AF160>0,$C160,0)*5),0))))","v":0},{"$f":"IF(AK160=0,0,IF(AL$2=\"Year\",IF(_xlfn.MAXIFS($N160:AK160,$N$2:AK$2,\"Year\")+$E160<=$E$1,AI160+$E160,0),IF(AL$2=\"Repair %\",IF(AI160>0,$C$3,0),IF(AL$2=\"Spares %\",IF(IF(AI160>0,$C160,0)*100>50%,50%,IF(AI160>0,$C160,0)*100),0))))","v":0},{"$f":"IF(AL160=0,0,IF(AM$2=\"Year\",IF(_xlfn.MAXIFS($N160:AL160,$N$2:AL$2,\"Year\")+$E160<=$E$1,AJ160+$E160,0),IF(AM$2=\"Repair %\",IF(AJ160>0,$C160,0),IF(AM$2=\"Spares %\",IF(IF(AJ160>0,$C160,0)*100>50%,50%,IF(AJ160>0,$C160,0)*100),0))))","v":0},{"$f":"IF(AM160=0,0,IF(AN$2=\"Year\",IF(_xlfn.MAXIFS($N160:AM160,$N$2:AM$2,\"Year\")+$E160<=$E$1,AK160+$E160,0),IF(AN$2=\"Repair %\",IF(AK160>0,$C160,0),IF(AN$2=\"Spares %\",IF(IF(AI160>0,$C160,0)*5>80%,50%,IF(AI160>0,$C160,0)*5),0))))","v":0},{"$f":"IF(AN160=0,0,IF(AO$2=\"Year\",IF(_xlfn.MAXIFS($N160:AN160,$N$2:AN$2,\"Year\")+$E160<=$E$1,AL160+$E160,0),IF(AO$2=\"Repair %\",IF(AL160>0,$C$3,0),IF(AO$2=\"Spares %\",IF(IF(AL160>0,$C160,0)*100>50%,50%,IF(AL160>0,$C160,0)*100),0))))","v":0},{"$f":"IF(AO160=0,0,IF(AP$2=\"Year\",IF(_xlfn.MAXIFS($N160:AO160,$N$2:AO$2,\"Year\")+$E160<=$E$1,AM160+$E160,0),IF(AP$2=\"Repair %\",IF(AM160>0,$C160,0),IF(AP$2=\"Spares %\",IF(IF(AM160>0,$C160,0)*100>50%,50%,IF(AM160>0,$C160,0)*100),0))))","v":0},{"$f":"IF(AP160=0,0,IF(AQ$2=\"Year\",IF(_xlfn.MAXIFS($N160:AP160,$N$2:AP$2,\"Year\")+$E160<=$E$1,AN160+$E160,0),IF(AQ$2=\"Repair %\",IF(AN160>0,$C160,0),IF(AQ$2=\"Spares %\",IF(IF(AL160>0,$C160,0)*5>80%,50%,IF(AL160>0,$C160,0)*5),0))))","v":0}]
[{"$f":"INDEX('Avionics ID'!A:E,MATCH(B161,'Avionics ID'!E:E,0),1)","v":879},"Software",0.2,0.06,5,"Technology / regulatory",{"$f":"SUBSTITUTE(ADDRESS(1,MATCH(A161,'Pt1-AvionicsComponentCosts'!$A$6:$NC$6,0)+1),\"$1\",\"\")","v":"$LX"},{"$f":"_xlfn.TEXTJOIN(\", \",TRUE,_xlfn.UNIQUE(_xlfn._xlws.SORT(_xlfn._xlws.FILTER('Pt1-AvionicsComponentCosts'!$NF$12:$NF$384,ISNUMBER(INDIRECT(\"'Pt1-AvionicsComponentCosts'!\"&G161&\"$12:\"&G161&\"$384\"))))))","v":"A220, A300, A320, A321, A330, A330 LMXT, A330 MRTT, A340, A350, A380, ARJ, ATR, Attack, Attack Helo, B717, B737, B747, B757, B767, B777, B787, C919, Challenger, Citation, CRJ, E550, EMB Bizjet, EMB Regional, Falcon, Global, Gulfstream, Hawker, Helo, Hondajet, Learjet, MC-21, MD-11, Mil Fighter, Mil Transport, Military Jet, Military TP, Nextant 400XT, NSA, PC-24, Phenom, Praetor, Reg TP, SF50, Stealth, Superjet 100, TP Trainer, Turbine GA, UAV"},null,0.06,0.2,0.5,0.5,{"$f":"COUNTIF($N$2:N$2,\"Year\")*$G$1","v":10},null,1,{"$f":"COUNTIF($N$2:Q$2,\"Year\")*$G$1","v":20},{"$f":"IF(Q161=0,0,IF(R$2=\"Year\",IF(_xlfn.MAXIFS($N161:Q161,$N$2:Q$2,\"Year\")+$E161<=$E$1,O161+$E161,0),IF(R$2=\"Repair %\",IF(O161>0,$C161,0),IF(R$2=\"Spares %\",IF(IF(O161>0,$C161,0)*100>50%,50%,IF(O161>0,$C161,0)*100),0))))","v":0},1,{"$f":"COUNTIF($N$2:T$2,\"Year\")*$G$1","v":30},{"$f":"IF(T161=0,0,IF(U$2=\"Year\",IF(_xlfn.MAXIFS($N161:T161,$N$2:T$2,\"Year\")+$E161<=$E$1,R161+$E161,0),IF(U$2=\"Repair %\",IF(R161>0,$C161,0),IF(U$2=\"Spares %\",IF(IF(R161>0,$C161,0)*100>50%,50%,IF(R161>0,$C161,0)*100),0))))","v":0},1,{"$f":"COUNTIF($N$2:W$2,\"Year\")*$G$1","v":40},{"$f":"IF(W161=0,0,IF(X$2=\"Year\",IF(_xlfn.MAXIFS($N161:W161,$N$2:W$2,\"Year\")+$E161<=$E$1,U161+$E161,0),IF(X$2=\"Repair %\",IF(U161>0,$C161,0),IF(X$2=\"Spares %\",IF(IF(U161>0,$C161,0)*100>50%,50%,IF(U161>0,$C161,0)*100),0))))","v":0},1,{"$f":"IF(Y161=0,0,IF(Z$2=\"Year\",IF(_xlfn.MAXIFS($N161:Y161,$N$2:Y$2,\"Year\")+$E161<=$E$1,W161+$E161,0),IF(Z$2=\"Repair %\",IF(W161>0,$C$3,0),IF(Z$2=\"Spares %\",IF(IF(W161>0,$C161,0)*100>50%,50%,IF(W161>0,$C161,0)*100),0))))","v":0},{"$f":"IF(Z161=0,0,IF(AA$2=\"Year\",IF(_xlfn.MAXIFS($N161:Z161,$N$2:Z$2,\"Year\")+$E161<=$E$1,X161+$E161,0),IF(AA$2=\"Repair %\",IF(X161>0,$C161,0),IF(AA$2=\"Spares %\",IF(IF(X161>0,$C161,0)*100>50%,50%,IF(X161>0,$C161,0)*100),0))))","v":0},{"$f":"IF(AA161=0,0,IF(AB$2=\"Year\",IF(_xlfn.MAXIFS($N161:AA161,$N$2:AA$2,\"Year\")+$E161<=$E$1,Y161+$E161,0),IF(AB$2=\"Repair %\",IF(Y161>0,$C161,0),IF(AB$2=\"Spares %\",IF(IF(W161>0,$C161,0)*5>80%,50%,IF(W161>0,$C161,0)*5),0))))","v":0},{"$f":"IF(AB161=0,0,IF(AC$2=\"Year\",IF(_xlfn.MAXIFS($N161:AB161,$N$2:AB$2,\"Year\")+$E161<=$E$1,Z161+$E161,0),IF(AC$2=\"Repair %\",IF(Z161>0,$C$3,0),IF(AC$2=\"Spares %\",IF(IF(Z161>0,$C161,0)*100>50%,50%,IF(Z161>0,$C161,0)*100),0))))","v":0},{"$f":"IF(AC161=0,0,IF(AD$2=\"Year\",IF(_xlfn.MAXIFS($N161:AC161,$N$2:AC$2,\"Year\")+$E161<=$E$1,AA161+$E161,0),IF(AD$2=\"Repair %\",IF(AA161>0,$C161,0),IF(AD$2=\"Spares %\",IF(IF(AA161>0,$C161,0)*100>50%,50%,IF(AA161>0,$C161,0)*100),0))))","v":0},{"$f":"IF(AD161=0,0,IF(AE$2=\"Year\",IF(_xlfn.MAXIFS($N161:AD161,$N$2:AD$2,\"Year\")+$E161<=$E$1,AB161+$E161,0),IF(AE$2=\"Repair %\",IF(AB161>0,$C161,0),IF(AE$2=\"Spares %\",IF(IF(Z161>0,$C161,0)*5>80%,50%,IF(Z161>0,$C161,0)*5),0))))","v":0},{"$f":"IF(AE161=0,0,IF(AF$2=\"Year\",IF(_xlfn.MAXIFS($N161:AE161,$N$2:AE$2,\"Year\")+$E161<=$E$1,AC161+$E161,0),IF(AF$2=\"Repair %\",IF(AC161>0,$C$3,0),IF(AF$2=\"Spares %\",IF(IF(AC161>0,$C161,0)*100>50%,50%,IF(AC161>0,$C161,0)*100),0))))","v":0},{"$f":"IF(AF161=0,0,IF(AG$2=\"Year\",IF(_xlfn.MAXIFS($N161:AF161,$N$2:AF$2,\"Year\")+$E161<=$E$1,AD161+$E161,0),IF(AG$2=\"Repair %\",IF(AD161>0,$C161,0),IF(AG$2=\"Spares %\",IF(IF(AD161>0,$C161,0)*100>50%,50%,IF(AD161>0,$C161,0)*100),0))))","v":0},{"$f":"IF(AG161=0,0,IF(AH$2=\"Year\",IF(_xlfn.MAXIFS($N161:AG161,$N$2:AG$2,\"Year\")+$E161<=$E$1,AE161+$E161,0),IF(AH$2=\"Repair %\",IF(AE161>0,$C161,0),IF(AH$2=\"Spares %\",IF(IF(AC161>0,$C161,0)*5>80%,50%,IF(AC161>0,$C161,0)*5),0))))","v":0},{"$f":"IF(AH161=0,0,IF(AI$2=\"Year\",IF(_xlfn.MAXIFS($N161:AH161,$N$2:AH$2,\"Year\")+$E161<=$E$1,AF161+$E161,0),IF(AI$2=\"Repair %\",IF(AF161>0,$C$3,0),IF(AI$2=\"Spares %\",IF(IF(AF161>0,$C161,0)*100>50%,50%,IF(AF161>0,$C161,0)*100),0))))","v":0},{"$f":"IF(AI161=0,0,IF(AJ$2=\"Year\",IF(_xlfn.MAXIFS($N161:AI161,$N$2:AI$2,\"Year\")+$E161<=$E$1,AG161+$E161,0),IF(AJ$2=\"Repair %\",IF(AG161>0,$C161,0),IF(AJ$2=\"Spares %\",IF(IF(AG161>0,$C161,0)*100>50%,50%,IF(AG161>0,$C161,0)*100),0))))","v":0},{"$f":"IF(AJ161=0,0,IF(AK$2=\"Year\",IF(_xlfn.MAXIFS($N161:AJ161,$N$2:AJ$2,\"Year\")+$E161<=$E$1,AH161+$E161,0),IF(AK$2=\"Repair %\",IF(AH161>0,$C161,0),IF(AK$2=\"Spares %\",IF(IF(AF161>0,$C161,0)*5>80%,50%,IF(AF161>0,$C161,0)*5),0))))","v":0},{"$f":"IF(AK161=0,0,IF(AL$2=\"Year\",IF(_xlfn.MAXIFS($N161:AK161,$N$2:AK$2,\"Year\")+$E161<=$E$1,AI161+$E161,0),IF(AL$2=\"Repair %\",IF(AI161>0,$C$3,0),IF(AL$2=\"Spares %\",IF(IF(AI161>0,$C161,0)*100>50%,50%,IF(AI161>0,$C161,0)*100),0))))","v":0},{"$f":"IF(AL161=0,0,IF(AM$2=\"Year\",IF(_xlfn.MAXIFS($N161:AL161,$N$2:AL$2,\"Year\")+$E161<=$E$1,AJ161+$E161,0),IF(AM$2=\"Repair %\",IF(AJ161>0,$C161,0),IF(AM$2=\"Spares %\",IF(IF(AJ161>0,$C161,0)*100>50%,50%,IF(AJ161>0,$C161,0)*100),0))))","v":0},{"$f":"IF(AM161=0,0,IF(AN$2=\"Year\",IF(_xlfn.MAXIFS($N161:AM161,$N$2:AM$2,\"Year\")+$E161<=$E$1,AK161+$E161,0),IF(AN$2=\"Repair %\",IF(AK161>0,$C161,0),IF(AN$2=\"Spares %\",IF(IF(AI161>0,$C161,0)*5>80%,50%,IF(AI161>0,$C161,0)*5),0))))","v":0},{"$f":"IF(AN161=0,0,IF(AO$2=\"Year\",IF(_xlfn.MAXIFS($N161:AN161,$N$2:AN$2,\"Year\")+$E161<=$E$1,AL161+$E161,0),IF(AO$2=\"Repair %\",IF(AL161>0,$C$3,0),IF(AO$2=\"Spares %\",IF(IF(AL161>0,$C161,0)*100>50%,50%,IF(AL161>0,$C161,0)*100),0))))","v":0},{"$f":"IF(AO161=0,0,IF(AP$2=\"Year\",IF(_xlfn.MAXIFS($N161:AO161,$N$2:AO$2,\"Year\")+$E161<=$E$1,AM161+$E161,0),IF(AP$2=\"Repair %\",IF(AM161>0,$C161,0),IF(AP$2=\"Spares %\",IF(IF(AM161>0,$C161,0)*100>50%,50%,IF(AM161>0,$C161,0)*100),0))))","v":0},{"$f":"IF(AP161=0,0,IF(AQ$2=\"Year\",IF(_xlfn.MAXIFS($N161:AP161,$N$2:AP$2,\"Year\")+$E161<=$E$1,AN161+$E161,0),IF(AQ$2=\"Repair %\",IF(AN161>0,$C161,0),IF(AQ$2=\"Spares %\",IF(IF(AL161>0,$C161,0)*5>80%,50%,IF(AL161>0,$C161,0)*5),0))))","v":0}]
[{"$f":"INDEX('Avionics ID'!A:E,MATCH(B162,'Avionics ID'!E:E,0),1)","v":791},"Standby display",0.05,0.06,20,"Obsolecence",{"$f":"SUBSTITUTE(ADDRESS(1,MATCH(A162,'Pt1-AvionicsComponentCosts'!$A$6:$NC$6,0)+1),\"$1\",\"\")","v":"$GB"},{"$f":"_xlfn.TEXTJOIN(\", \",TRUE,_xlfn.UNIQUE(_xlfn._xlws.SORT(_xlfn._xlws.FILTER('Pt1-AvionicsComponentCosts'!$NF$12:$NF$384,ISNUMBER(INDIRECT(\"'Pt1-AvionicsComponentCosts'!\"&G162&\"$12:\"&G162&\"$384\"))))))","v":"Attack, Helo, Stealth, TP Trainer, Turbine GA"},null,0.06,0.05,0.35299999999999998,1.8460000000000001,{"$f":"COUNTIF($N$2:N$2,\"Year\")*$G$1","v":10},null,0,{"$f":"COUNTIF($N$2:Q$2,\"Year\")*$G$1","v":20},{"$f":"IF(Q162=0,0,IF(R$2=\"Year\",IF(_xlfn.MAXIFS($N162:Q162,$N$2:Q$2,\"Year\")+$E162<=$E$1,O162+$E162,0),IF(R$2=\"Repair %\",IF(O162>0,$C162,0),IF(R$2=\"Spares %\",IF(IF(O162>0,$C162,0)*100>50%,50%,IF(O162>0,$C162,0)*100),0))))","v":0},1,{"$f":"COUNTIF($N$2:T$2,\"Year\")*$G$1","v":30},{"$f":"IF(T162=0,0,IF(U$2=\"Year\",IF(_xlfn.MAXIFS($N162:T162,$N$2:T$2,\"Year\")+$E162<=$E$1,R162+$E162,0),IF(U$2=\"Repair %\",IF(R162>0,$C162,0),IF(U$2=\"Spares %\",IF(IF(R162>0,$C162,0)*100>50%,50%,IF(R162>0,$C162,0)*100),0))))","v":0},0,{"$f":"COUNTIF($N$2:W$2,\"Year\")*$G$1","v":40},{"$f":"IF(W162=0,0,IF(X$2=\"Year\",IF(_xlfn.MAXIFS($N162:W162,$N$2:W$2,\"Year\")+$E162<=$E$1,U162+$E162,0),IF(X$2=\"Repair %\",IF(U162>0,$C162,0),IF(X$2=\"Spares %\",IF(IF(U162>0,$C162,0)*100>50%,50%,IF(U162>0,$C162,0)*100),0))))","v":0},1,{"$f":"IF(Y162=0,0,IF(Z$2=\"Year\",IF(_xlfn.MAXIFS($N162:Y162,$N$2:Y$2,\"Year\")+$E162<=$E$1,W162+$E162,0),IF(Z$2=\"Repair %\",IF(W162>0,$C$3,0),IF(Z$2=\"Spares %\",IF(IF(W162>0,$C162,0)*100>50%,50%,IF(W162>0,$C162,0)*100),0))))","v":0},{"$f":"IF(Z162=0,0,IF(AA$2=\"Year\",IF(_xlfn.MAXIFS($N162:Z162,$N$2:Z$2,\"Year\")+$E162<=$E$1,X162+$E162,0),IF(AA$2=\"Repair %\",IF(X162>0,$C162,0),IF(AA$2=\"Spares %\",IF(IF(X162>0,$C162,0)*100>50%,50%,IF(X162>0,$C162,0)*100),0))))","v":0},{"$f":"IF(AA162=0,0,IF(AB$2=\"Year\",IF(_xlfn.MAXIFS($N162:AA162,$N$2:AA$2,\"Year\")+$E162<=$E$1,Y162+$E162,0),IF(AB$2=\"Repair %\",IF(Y162>0,$C162,0),IF(AB$2=\"Spares %\",IF(IF(W162>0,$C162,0)*5>80%,50%,IF(W162>0,$C162,0)*5),0))))","v":0},{"$f":"IF(AB162=0,0,IF(AC$2=\"Year\",IF(_xlfn.MAXIFS($N162:AB162,$N$2:AB$2,\"Year\")+$E162<=$E$1,Z162+$E162,0),IF(AC$2=\"Repair %\",IF(Z162>0,$C$3,0),IF(AC$2=\"Spares %\",IF(IF(Z162>0,$C162,0)*100>50%,50%,IF(Z162>0,$C162,0)*100),0))))","v":0},{"$f":"IF(AC162=0,0,IF(AD$2=\"Year\",IF(_xlfn.MAXIFS($N162:AC162,$N$2:AC$2,\"Year\")+$E162<=$E$1,AA162+$E162,0),IF(AD$2=\"Repair %\",IF(AA162>0,$C162,0),IF(AD$2=\"Spares %\",IF(IF(AA162>0,$C162,0)*100>50%,50%,IF(AA162>0,$C162,0)*100),0))))","v":0},{"$f":"IF(AD162=0,0,IF(AE$2=\"Year\",IF(_xlfn.MAXIFS($N162:AD162,$N$2:AD$2,\"Year\")+$E162<=$E$1,AB162+$E162,0),IF(AE$2=\"Repair %\",IF(AB162>0,$C162,0),IF(AE$2=\"Spares %\",IF(IF(Z162>0,$C162,0)*5>80%,50%,IF(Z162>0,$C162,0)*5),0))))","v":0},{"$f":"IF(AE162=0,0,IF(AF$2=\"Year\",IF(_xlfn.MAXIFS($N162:AE162,$N$2:AE$2,\"Year\")+$E162<=$E$1,AC162+$E162,0),IF(AF$2=\"Repair %\",IF(AC162>0,$C$3,0),IF(AF$2=\"Spares %\",IF(IF(AC162>0,$C162,0)*100>50%,50%,IF(AC162>0,$C162,0)*100),0))))","v":0},{"$f":"IF(AF162=0,0,IF(AG$2=\"Year\",IF(_xlfn.MAXIFS($N162:AF162,$N$2:AF$2,\"Year\")+$E162<=$E$1,AD162+$E162,0),IF(AG$2=\"Repair %\",IF(AD162>0,$C162,0),IF(AG$2=\"Spares %\",IF(IF(AD162>0,$C162,0)*100>50%,50%,IF(AD162>0,$C162,0)*100),0))))","v":0},{"$f":"IF(AG162=0,0,IF(AH$2=\"Year\",IF(_xlfn.MAXIFS($N162:AG162,$N$2:AG$2,\"Year\")+$E162<=$E$1,AE162+$E162,0),IF(AH$2=\"Repair %\",IF(AE162>0,$C162,0),IF(AH$2=\"Spares %\",IF(IF(AC162>0,$C162,0)*5>80%,50%,IF(AC162>0,$C162,0)*5),0))))","v":0},{"$f":"IF(AH162=0,0,IF(AI$2=\"Year\",IF(_xlfn.MAXIFS($N162:AH162,$N$2:AH$2,\"Year\")+$E162<=$E$1,AF162+$E162,0),IF(AI$2=\"Repair %\",IF(AF162>0,$C$3,0),IF(AI$2=\"Spares %\",IF(IF(AF162>0,$C162,0)*100>50%,50%,IF(AF162>0,$C162,0)*100),0))))","v":0},{"$f":"IF(AI162=0,0,IF(AJ$2=\"Year\",IF(_xlfn.MAXIFS($N162:AI162,$N$2:AI$2,\"Year\")+$E162<=$E$1,AG162+$E162,0),IF(AJ$2=\"Repair %\",IF(AG162>0,$C162,0),IF(AJ$2=\"Spares %\",IF(IF(AG162>0,$C162,0)*100>50%,50%,IF(AG162>0,$C162,0)*100),0))))","v":0},{"$f":"IF(AJ162=0,0,IF(AK$2=\"Year\",IF(_xlfn.MAXIFS($N162:AJ162,$N$2:AJ$2,\"Year\")+$E162<=$E$1,AH162+$E162,0),IF(AK$2=\"Repair %\",IF(AH162>0,$C162,0),IF(AK$2=\"Spares %\",IF(IF(AF162>0,$C162,0)*5>80%,50%,IF(AF162>0,$C162,0)*5),0))))","v":0},{"$f":"IF(AK162=0,0,IF(AL$2=\"Year\",IF(_xlfn.MAXIFS($N162:AK162,$N$2:AK$2,\"Year\")+$E162<=$E$1,AI162+$E162,0),IF(AL$2=\"Repair %\",IF(AI162>0,$C$3,0),IF(AL$2=\"Spares %\",IF(IF(AI162>0,$C162,0)*100>50%,50%,IF(AI162>0,$C162,0)*100),0))))","v":0},{"$f":"IF(AL162=0,0,IF(AM$2=\"Year\",IF(_xlfn.MAXIFS($N162:AL162,$N$2:AL$2,\"Year\")+$E162<=$E$1,AJ162+$E162,0),IF(AM$2=\"Repair %\",IF(AJ162>0,$C162,0),IF(AM$2=\"Spares %\",IF(IF(AJ162>0,$C162,0)*100>50%,50%,IF(AJ162>0,$C162,0)*100),0))))","v":0},{"$f":"IF(AM162=0,0,IF(AN$2=\"Year\",IF(_xlfn.MAXIFS($N162:AM162,$N$2:AM$2,\"Year\")+$E162<=$E$1,AK162+$E162,0),IF(AN$2=\"Repair %\",IF(AK162>0,$C162,0),IF(AN$2=\"Spares %\",IF(IF(AI162>0,$C162,0)*5>80%,50%,IF(AI162>0,$C162,0)*5),0))))","v":0},{"$f":"IF(AN162=0,0,IF(AO$2=\"Year\",IF(_xlfn.MAXIFS($N162:AN162,$N$2:AN$2,\"Year\")+$E162<=$E$1,AL162+$E162,0),IF(AO$2=\"Repair %\",IF(AL162>0,$C$3,0),IF(AO$2=\"Spares %\",IF(IF(AL162>0,$C162,0)*100>50%,50%,IF(AL162>0,$C162,0)*100),0))))","v":0},{"$f":"IF(AO162=0,0,IF(AP$2=\"Year\",IF(_xlfn.MAXIFS($N162:AO162,$N$2:AO$2,\"Year\")+$E162<=$E$1,AM162+$E162,0),IF(AP$2=\"Repair %\",IF(AM162>0,$C162,0),IF(AP$2=\"Spares %\",IF(IF(AM162>0,$C162,0)*100>50%,50%,IF(AM162>0,$C162,0)*100),0))))","v":0},{"$f":"IF(AP162=0,0,IF(AQ$2=\"Year\",IF(_xlfn.MAXIFS($N162:AP162,$N$2:AP$2,\"Year\")+$E162<=$E$1,AN162+$E162,0),IF(AQ$2=\"Repair %\",IF(AN162>0,$C162,0),IF(AQ$2=\"Spares %\",IF(IF(AL162>0,$C162,0)*5>80%,50%,IF(AL162>0,$C162,0)*5),0))))","v":0}]
[{"$f":"INDEX('Avionics ID'!A:E,MATCH(B163,'Avionics ID'!E:E,0),1)","v":823},"Standby display unit",0.1,0.06,10,"Obsolecence",{"$f":"SUBSTITUTE(ADDRESS(1,MATCH(A163,'Pt1-AvionicsComponentCosts'!$A$6:$NC$6,0)+1),\"$1\",\"\")","v":"$GD"},{"$f":"_xlfn.TEXTJOIN(\", \",TRUE,_xlfn.UNIQUE(_xlfn._xlws.SORT(_xlfn._xlws.FILTER('Pt1-AvionicsComponentCosts'!$NF$12:$NF$384,ISNUMBER(INDIRECT(\"'Pt1-AvionicsComponentCosts'!\"&G163&\"$12:\"&G163&\"$384\"))))))","v":"Challenger, Citation, E550, EMB Bizjet, Falcon, Global, Gulfstream, Hawker, Hondajet, Learjet, Nextant 400XT, PC-24, Phenom, Praetor, SF50"},null,0.06,0.1,0.35299999999999998,1.8460000000000001,{"$f":"COUNTIF($N$2:N$2,\"Year\")*$G$1","v":10},null,1,{"$f":"COUNTIF($N$2:Q$2,\"Year\")*$G$1","v":20},{"$f":"IF(Q163=0,0,IF(R$2=\"Year\",IF(_xlfn.MAXIFS($N163:Q163,$N$2:Q$2,\"Year\")+$E163<=$E$1,O163+$E163,0),IF(R$2=\"Repair %\",IF(O163>0,$C163,0),IF(R$2=\"Spares %\",IF(IF(O163>0,$C163,0)*100>50%,50%,IF(O163>0,$C163,0)*100),0))))","v":0},1,{"$f":"COUNTIF($N$2:T$2,\"Year\")*$G$1","v":30},{"$f":"IF(T163=0,0,IF(U$2=\"Year\",IF(_xlfn.MAXIFS($N163:T163,$N$2:T$2,\"Year\")+$E163<=$E$1,R163+$E163,0),IF(U$2=\"Repair %\",IF(R163>0,$C163,0),IF(U$2=\"Spares %\",IF(IF(R163>0,$C163,0)*100>50%,50%,IF(R163>0,$C163,0)*100),0))))","v":0},1,{"$f":"COUNTIF($N$2:W$2,\"Year\")*$G$1","v":40},{"$f":"IF(W163=0,0,IF(X$2=\"Year\",IF(_xlfn.MAXIFS($N163:W163,$N$2:W$2,\"Year\")+$E163<=$E$1,U163+$E163,0),IF(X$2=\"Repair %\",IF(U163>0,$C163,0),IF(X$2=\"Spares %\",IF(IF(U163>0,$C163,0)*100>50%,50%,IF(U163>0,$C163,0)*100),0))))","v":0},1,{"$f":"IF(Y163=0,0,IF(Z$2=\"Year\",IF(_xlfn.MAXIFS($N163:Y163,$N$2:Y$2,\"Year\")+$E163<=$E$1,W163+$E163,0),IF(Z$2=\"Repair %\",IF(W163>0,$C$3,0),IF(Z$2=\"Spares %\",IF(IF(W163>0,$C163,0)*100>50%,50%,IF(W163>0,$C163,0)*100),0))))","v":0},{"$f":"IF(Z163=0,0,IF(AA$2=\"Year\",IF(_xlfn.MAXIFS($N163:Z163,$N$2:Z$2,\"Year\")+$E163<=$E$1,X163+$E163,0),IF(AA$2=\"Repair %\",IF(X163>0,$C163,0),IF(AA$2=\"Spares %\",IF(IF(X163>0,$C163,0)*100>50%,50%,IF(X163>0,$C163,0)*100),0))))","v":0},{"$f":"IF(AA163=0,0,IF(AB$2=\"Year\",IF(_xlfn.MAXIFS($N163:AA163,$N$2:AA$2,\"Year\")+$E163<=$E$1,Y163+$E163,0),IF(AB$2=\"Repair %\",IF(Y163>0,$C163,0),IF(AB$2=\"Spares %\",IF(IF(W163>0,$C163,0)*5>80%,50%,IF(W163>0,$C163,0)*5),0))))","v":0},{"$f":"IF(AB163=0,0,IF(AC$2=\"Year\",IF(_xlfn.MAXIFS($N163:AB163,$N$2:AB$2,\"Year\")+$E163<=$E$1,Z163+$E163,0),IF(AC$2=\"Repair %\",IF(Z163>0,$C$3,0),IF(AC$2=\"Spares %\",IF(IF(Z163>0,$C163,0)*100>50%,50%,IF(Z163>0,$C163,0)*100),0))))","v":0},{"$f":"IF(AC163=0,0,IF(AD$2=\"Year\",IF(_xlfn.MAXIFS($N163:AC163,$N$2:AC$2,\"Year\")+$E163<=$E$1,AA163+$E163,0),IF(AD$2=\"Repair %\",IF(AA163>0,$C163,0),IF(AD$2=\"Spares %\",IF(IF(AA163>0,$C163,0)*100>50%,50%,IF(AA163>0,$C163,0)*100),0))))","v":0},{"$f":"IF(AD163=0,0,IF(AE$2=\"Year\",IF(_xlfn.MAXIFS($N163:AD163,$N$2:AD$2,\"Year\")+$E163<=$E$1,AB163+$E163,0),IF(AE$2=\"Repair %\",IF(AB163>0,$C163,0),IF(AE$2=\"Spares %\",IF(IF(Z163>0,$C163,0)*5>80%,50%,IF(Z163>0,$C163,0)*5),0))))","v":0},{"$f":"IF(AE163=0,0,IF(AF$2=\"Year\",IF(_xlfn.MAXIFS($N163:AE163,$N$2:AE$2,\"Year\")+$E163<=$E$1,AC163+$E163,0),IF(AF$2=\"Repair %\",IF(AC163>0,$C$3,0),IF(AF$2=\"Spares %\",IF(IF(AC163>0,$C163,0)*100>50%,50%,IF(AC163>0,$C163,0)*100),0))))","v":0},{"$f":"IF(AF163=0,0,IF(AG$2=\"Year\",IF(_xlfn.MAXIFS($N163:AF163,$N$2:AF$2,\"Year\")+$E163<=$E$1,AD163+$E163,0),IF(AG$2=\"Repair %\",IF(AD163>0,$C163,0),IF(AG$2=\"Spares %\",IF(IF(AD163>0,$C163,0)*100>50%,50%,IF(AD163>0,$C163,0)*100),0))))","v":0},{"$f":"IF(AG163=0,0,IF(AH$2=\"Year\",IF(_xlfn.MAXIFS($N163:AG163,$N$2:AG$2,\"Year\")+$E163<=$E$1,AE163+$E163,0),IF(AH$2=\"Repair %\",IF(AE163>0,$C163,0),IF(AH$2=\"Spares %\",IF(IF(AC163>0,$C163,0)*5>80%,50%,IF(AC163>0,$C163,0)*5),0))))","v":0},{"$f":"IF(AH163=0,0,IF(AI$2=\"Year\",IF(_xlfn.MAXIFS($N163:AH163,$N$2:AH$2,\"Year\")+$E163<=$E$1,AF163+$E163,0),IF(AI$2=\"Repair %\",IF(AF163>0,$C$3,0),IF(AI$2=\"Spares %\",IF(IF(AF163>0,$C163,0)*100>50%,50%,IF(AF163>0,$C163,0)*100),0))))","v":0},{"$f":"IF(AI163=0,0,IF(AJ$2=\"Year\",IF(_xlfn.MAXIFS($N163:AI163,$N$2:AI$2,\"Year\")+$E163<=$E$1,AG163+$E163,0),IF(AJ$2=\"Repair %\",IF(AG163>0,$C163,0),IF(AJ$2=\"Spares %\",IF(IF(AG163>0,$C163,0)*100>50%,50%,IF(AG163>0,$C163,0)*100),0))))","v":0},{"$f":"IF(AJ163=0,0,IF(AK$2=\"Year\",IF(_xlfn.MAXIFS($N163:AJ163,$N$2:AJ$2,\"Year\")+$E163<=$E$1,AH163+$E163,0),IF(AK$2=\"Repair %\",IF(AH163>0,$C163,0),IF(AK$2=\"Spares %\",IF(IF(AF163>0,$C163,0)*5>80%,50%,IF(AF163>0,$C163,0)*5),0))))","v":0},{"$f":"IF(AK163=0,0,IF(AL$2=\"Year\",IF(_xlfn.MAXIFS($N163:AK163,$N$2:AK$2,\"Year\")+$E163<=$E$1,AI163+$E163,0),IF(AL$2=\"Repair %\",IF(AI163>0,$C$3,0),IF(AL$2=\"Spares %\",IF(IF(AI163>0,$C163,0)*100>50%,50%,IF(AI163>0,$C163,0)*100),0))))","v":0},{"$f":"IF(AL163=0,0,IF(AM$2=\"Year\",IF(_xlfn.MAXIFS($N163:AL163,$N$2:AL$2,\"Year\")+$E163<=$E$1,AJ163+$E163,0),IF(AM$2=\"Repair %\",IF(AJ163>0,$C163,0),IF(AM$2=\"Spares %\",IF(IF(AJ163>0,$C163,0)*100>50%,50%,IF(AJ163>0,$C163,0)*100),0))))","v":0},{"$f":"IF(AM163=0,0,IF(AN$2=\"Year\",IF(_xlfn.MAXIFS($N163:AM163,$N$2:AM$2,\"Year\")+$E163<=$E$1,AK163+$E163,0),IF(AN$2=\"Repair %\",IF(AK163>0,$C163,0),IF(AN$2=\"Spares %\",IF(IF(AI163>0,$C163,0)*5>80%,50%,IF(AI163>0,$C163,0)*5),0))))","v":0},{"$f":"IF(AN163=0,0,IF(AO$2=\"Year\",IF(_xlfn.MAXIFS($N163:AN163,$N$2:AN$2,\"Year\")+$E163<=$E$1,AL163+$E163,0),IF(AO$2=\"Repair %\",IF(AL163>0,$C$3,0),IF(AO$2=\"Spares %\",IF(IF(AL163>0,$C163,0)*100>50%,50%,IF(AL163>0,$C163,0)*100),0))))","v":0},{"$f":"IF(AO163=0,0,IF(AP$2=\"Year\",IF(_xlfn.MAXIFS($N163:AO163,$N$2:AO$2,\"Year\")+$E163<=$E$1,AM163+$E163,0),IF(AP$2=\"Repair %\",IF(AM163>0,$C163,0),IF(AP$2=\"Spares %\",IF(IF(AM163>0,$C163,0)*100>50%,50%,IF(AM163>0,$C163,0)*100),0))))","v":0},{"$f":"IF(AP163=0,0,IF(AQ$2=\"Year\",IF(_xlfn.MAXIFS($N163:AP163,$N$2:AP$2,\"Year\")+$E163<=$E$1,AN163+$E163,0),IF(AQ$2=\"Repair %\",IF(AN163>0,$C163,0),IF(AQ$2=\"Spares %\",IF(IF(AL163>0,$C163,0)*5>80%,50%,IF(AL163>0,$C163,0)*5),0))))","v":0}]
[{"$f":"INDEX('Avionics ID'!A:E,MATCH(B164,'Avionics ID'!E:E,0),1)","v":761},"Static/standby sensors",0,0.2,null,"",{"$f":"SUBSTITUTE(ADDRESS(1,MATCH(A164,'Pt1-AvionicsComponentCosts'!$A$6:$NC$6,0)+1),\"$1\",\"\")","v":"$LR"},{"$f":"_xlfn.TEXTJOIN(\", \",TRUE,_xlfn.UNIQUE(_xlfn._xlws.SORT(_xlfn._xlws.FILTER('Pt1-AvionicsComponentCosts'!$NF$12:$NF$384,ISNUMBER(INDIRECT(\"'Pt1-AvionicsComponentCosts'!\"&G164&\"$12:\"&G164&\"$384\"))))))","v":"A300, A320, A330, A340, A350, A380, B747, B767, B777, MD-11"},null,0.2,0,0.33500000000000002,1.6830000000000001,{"$f":"COUNTIF($N$2:N$2,\"Year\")*$G$1","v":10},null,0,{"$f":"COUNTIF($N$2:Q$2,\"Year\")*$G$1","v":20},{"$f":"IF(Q164=0,0,IF(R$2=\"Year\",IF(_xlfn.MAXIFS($N164:Q164,$N$2:Q$2,\"Year\")+$E164<=$E$1,O164+$E164,0),IF(R$2=\"Repair %\",IF(O164>0,$C164,0),IF(R$2=\"Spares %\",IF(IF(O164>0,$C164,0)*100>50%,50%,IF(O164>0,$C164,0)*100),0))))","v":0},0,{"$f":"COUNTIF($N$2:T$2,\"Year\")*$G$1","v":30},{"$f":"IF(T164=0,0,IF(U$2=\"Year\",IF(_xlfn.MAXIFS($N164:T164,$N$2:T$2,\"Year\")+$E164<=$E$1,R164+$E164,0),IF(U$2=\"Repair %\",IF(R164>0,$C164,0),IF(U$2=\"Spares %\",IF(IF(R164>0,$C164,0)*100>50%,50%,IF(R164>0,$C164,0)*100),0))))","v":0},0,{"$f":"COUNTIF($N$2:W$2,\"Year\")*$G$1","v":40},{"$f":"IF(W164=0,0,IF(X$2=\"Year\",IF(_xlfn.MAXIFS($N164:W164,$N$2:W$2,\"Year\")+$E164<=$E$1,U164+$E164,0),IF(X$2=\"Repair %\",IF(U164>0,$C164,0),IF(X$2=\"Spares %\",IF(IF(U164>0,$C164,0)*100>50%,50%,IF(U164>0,$C164,0)*100),0))))","v":0},0,{"$f":"IF(Y164=0,0,IF(Z$2=\"Year\",IF(_xlfn.MAXIFS($N164:Y164,$N$2:Y$2,\"Year\")+$E164<=$E$1,W164+$E164,0),IF(Z$2=\"Repair %\",IF(W164>0,$C$3,0),IF(Z$2=\"Spares %\",IF(IF(W164>0,$C164,0)*100>50%,50%,IF(W164>0,$C164,0)*100),0))))","v":0},{"$f":"IF(Z164=0,0,IF(AA$2=\"Year\",IF(_xlfn.MAXIFS($N164:Z164,$N$2:Z$2,\"Year\")+$E164<=$E$1,X164+$E164,0),IF(AA$2=\"Repair %\",IF(X164>0,$C164,0),IF(AA$2=\"Spares %\",IF(IF(X164>0,$C164,0)*100>50%,50%,IF(X164>0,$C164,0)*100),0))))","v":0},{"$f":"IF(AA164=0,0,IF(AB$2=\"Year\",IF(_xlfn.MAXIFS($N164:AA164,$N$2:AA$2,\"Year\")+$E164<=$E$1,Y164+$E164,0),IF(AB$2=\"Repair %\",IF(Y164>0,$C164,0),IF(AB$2=\"Spares %\",IF(IF(W164>0,$C164,0)*5>80%,50%,IF(W164>0,$C164,0)*5),0))))","v":0},{"$f":"IF(AB164=0,0,IF(AC$2=\"Year\",IF(_xlfn.MAXIFS($N164:AB164,$N$2:AB$2,\"Year\")+$E164<=$E$1,Z164+$E164,0),IF(AC$2=\"Repair %\",IF(Z164>0,$C$3,0),IF(AC$2=\"Spares %\",IF(IF(Z164>0,$C164,0)*100>50%,50%,IF(Z164>0,$C164,0)*100),0))))","v":0},{"$f":"IF(AC164=0,0,IF(AD$2=\"Year\",IF(_xlfn.MAXIFS($N164:AC164,$N$2:AC$2,\"Year\")+$E164<=$E$1,AA164+$E164,0),IF(AD$2=\"Repair %\",IF(AA164>0,$C164,0),IF(AD$2=\"Spares %\",IF(IF(AA164>0,$C164,0)*100>50%,50%,IF(AA164>0,$C164,0)*100),0))))","v":0},{"$f":"IF(AD164=0,0,IF(AE$2=\"Year\",IF(_xlfn.MAXIFS($N164:AD164,$N$2:AD$2,\"Year\")+$E164<=$E$1,AB164+$E164,0),IF(AE$2=\"Repair %\",IF(AB164>0,$C164,0),IF(AE$2=\"Spares %\",IF(IF(Z164>0,$C164,0)*5>80%,50%,IF(Z164>0,$C164,0)*5),0))))","v":0},{"$f":"IF(AE164=0,0,IF(AF$2=\"Year\",IF(_xlfn.MAXIFS($N164:AE164,$N$2:AE$2,\"Year\")+$E164<=$E$1,AC164+$E164,0),IF(AF$2=\"Repair %\",IF(AC164>0,$C$3,0),IF(AF$2=\"Spares %\",IF(IF(AC164>0,$C164,0)*100>50%,50%,IF(AC164>0,$C164,0)*100),0))))","v":0},{"$f":"IF(AF164=0,0,IF(AG$2=\"Year\",IF(_xlfn.MAXIFS($N164:AF164,$N$2:AF$2,\"Year\")+$E164<=$E$1,AD164+$E164,0),IF(AG$2=\"Repair %\",IF(AD164>0,$C164,0),IF(AG$2=\"Spares %\",IF(IF(AD164>0,$C164,0)*100>50%,50%,IF(AD164>0,$C164,0)*100),0))))","v":0},{"$f":"IF(AG164=0,0,IF(AH$2=\"Year\",IF(_xlfn.MAXIFS($N164:AG164,$N$2:AG$2,\"Year\")+$E164<=$E$1,AE164+$E164,0),IF(AH$2=\"Repair %\",IF(AE164>0,$C164,0),IF(AH$2=\"Spares %\",IF(IF(AC164>0,$C164,0)*5>80%,50%,IF(AC164>0,$C164,0)*5),0))))","v":0},{"$f":"IF(AH164=0,0,IF(AI$2=\"Year\",IF(_xlfn.MAXIFS($N164:AH164,$N$2:AH$2,\"Year\")+$E164<=$E$1,AF164+$E164,0),IF(AI$2=\"Repair %\",IF(AF164>0,$C$3,0),IF(AI$2=\"Spares %\",IF(IF(AF164>0,$C164,0)*100>50%,50%,IF(AF164>0,$C164,0)*100),0))))","v":0},{"$f":"IF(AI164=0,0,IF(AJ$2=\"Year\",IF(_xlfn.MAXIFS($N164:AI164,$N$2:AI$2,\"Year\")+$E164<=$E$1,AG164+$E164,0),IF(AJ$2=\"Repair %\",IF(AG164>0,$C164,0),IF(AJ$2=\"Spares %\",IF(IF(AG164>0,$C164,0)*100>50%,50%,IF(AG164>0,$C164,0)*100),0))))","v":0},{"$f":"IF(AJ164=0,0,IF(AK$2=\"Year\",IF(_xlfn.MAXIFS($N164:AJ164,$N$2:AJ$2,\"Year\")+$E164<=$E$1,AH164+$E164,0),IF(AK$2=\"Repair %\",IF(AH164>0,$C164,0),IF(AK$2=\"Spares %\",IF(IF(AF164>0,$C164,0)*5>80%,50%,IF(AF164>0,$C164,0)*5),0))))","v":0},{"$f":"IF(AK164=0,0,IF(AL$2=\"Year\",IF(_xlfn.MAXIFS($N164:AK164,$N$2:AK$2,\"Year\")+$E164<=$E$1,AI164+$E164,0),IF(AL$2=\"Repair %\",IF(AI164>0,$C$3,0),IF(AL$2=\"Spares %\",IF(IF(AI164>0,$C164,0)*100>50%,50%,IF(AI164>0,$C164,0)*100),0))))","v":0},{"$f":"IF(AL164=0,0,IF(AM$2=\"Year\",IF(_xlfn.MAXIFS($N164:AL164,$N$2:AL$2,\"Year\")+$E164<=$E$1,AJ164+$E164,0),IF(AM$2=\"Repair %\",IF(AJ164>0,$C164,0),IF(AM$2=\"Spares %\",IF(IF(AJ164>0,$C164,0)*100>50%,50%,IF(AJ164>0,$C164,0)*100),0))))","v":0},{"$f":"IF(AM164=0,0,IF(AN$2=\"Year\",IF(_xlfn.MAXIFS($N164:AM164,$N$2:AM$2,\"Year\")+$E164<=$E$1,AK164+$E164,0),IF(AN$2=\"Repair %\",IF(AK164>0,$C164,0),IF(AN$2=\"Spares %\",IF(IF(AI164>0,$C164,0)*5>80%,50%,IF(AI164>0,$C164,0)*5),0))))","v":0},{"$f":"IF(AN164=0,0,IF(AO$2=\"Year\",IF(_xlfn.MAXIFS($N164:AN164,$N$2:AN$2,\"Year\")+$E164<=$E$1,AL164+$E164,0),IF(AO$2=\"Repair %\",IF(AL164>0,$C$3,0),IF(AO$2=\"Spares %\",IF(IF(AL164>0,$C164,0)*100>50%,50%,IF(AL164>0,$C164,0)*100),0))))","v":0},{"$f":"IF(AO164=0,0,IF(AP$2=\"Year\",IF(_xlfn.MAXIFS($N164:AO164,$N$2:AO$2,\"Year\")+$E164<=$E$1,AM164+$E164,0),IF(AP$2=\"Repair %\",IF(AM164>0,$C164,0),IF(AP$2=\"Spares %\",IF(IF(AM164>0,$C164,0)*100>50%,50%,IF(AM164>0,$C164,0)*100),0))))","v":0},{"$f":"IF(AP164=0,0,IF(AQ$2=\"Year\",IF(_xlfn.MAXIFS($N164:AP164,$N$2:AP$2,\"Year\")+$E164<=$E$1,AN164+$E164,0),IF(AQ$2=\"Repair %\",IF(AN164>0,$C164,0),IF(AQ$2=\"Spares %\",IF(IF(AL164>0,$C164,0)*5>80%,50%,IF(AL164>0,$C164,0)*5),0))))","v":0}]
[{"$f":"INDEX('Avionics ID'!A:E,MATCH(B165,'Avionics ID'!E:E,0),1)","v":881},"Stores management computer",0.05,0.06,20,"Obsolecence",{"$f":"SUBSTITUTE(ADDRESS(1,MATCH(A165,'Pt1-AvionicsComponentCosts'!$A$6:$NC$6,0)+1),\"$1\",\"\")","v":"$IN"},{"$f":"_xlfn.TEXTJOIN(\", \",TRUE,_xlfn.UNIQUE(_xlfn._xlws.SORT(_xlfn._xlws.FILTER('Pt1-AvionicsComponentCosts'!$NF$12:$NF$384,ISNUMBER(INDIRECT(\"'Pt1-AvionicsComponentCosts'!\"&G165&\"$12:\"&G165&\"$384\"))))))","v":"Attack, Stealth"},null,0.06,0.05,0.36,1.87,{"$f":"COUNTIF($N$2:N$2,\"Year\")*$G$1","v":10},null,0,{"$f":"COUNTIF($N$2:Q$2,\"Year\")*$G$1","v":20},{"$f":"IF(Q165=0,0,IF(R$2=\"Year\",IF(_xlfn.MAXIFS($N165:Q165,$N$2:Q$2,\"Year\")+$E165<=$E$1,O165+$E165,0),IF(R$2=\"Repair %\",IF(O165>0,$C165,0),IF(R$2=\"Spares %\",IF(IF(O165>0,$C165,0)*100>50%,50%,IF(O165>0,$C165,0)*100),0))))","v":0},1,{"$f":"COUNTIF($N$2:T$2,\"Year\")*$G$1","v":30},{"$f":"IF(T165=0,0,IF(U$2=\"Year\",IF(_xlfn.MAXIFS($N165:T165,$N$2:T$2,\"Year\")+$E165<=$E$1,R165+$E165,0),IF(U$2=\"Repair %\",IF(R165>0,$C165,0),IF(U$2=\"Spares %\",IF(IF(R165>0,$C165,0)*100>50%,50%,IF(R165>0,$C165,0)*100),0))))","v":0},0,{"$f":"COUNTIF($N$2:W$2,\"Year\")*$G$1","v":40},{"$f":"IF(W165=0,0,IF(X$2=\"Year\",IF(_xlfn.MAXIFS($N165:W165,$N$2:W$2,\"Year\")+$E165<=$E$1,U165+$E165,0),IF(X$2=\"Repair %\",IF(U165>0,$C165,0),IF(X$2=\"Spares %\",IF(IF(U165>0,$C165,0)*100>50%,50%,IF(U165>0,$C165,0)*100),0))))","v":0},1,{"$f":"IF(Y165=0,0,IF(Z$2=\"Year\",IF(_xlfn.MAXIFS($N165:Y165,$N$2:Y$2,\"Year\")+$E165<=$E$1,W165+$E165,0),IF(Z$2=\"Repair %\",IF(W165>0,$C$3,0),IF(Z$2=\"Spares %\",IF(IF(W165>0,$C165,0)*100>50%,50%,IF(W165>0,$C165,0)*100),0))))","v":0},{"$f":"IF(Z165=0,0,IF(AA$2=\"Year\",IF(_xlfn.MAXIFS($N165:Z165,$N$2:Z$2,\"Year\")+$E165<=$E$1,X165+$E165,0),IF(AA$2=\"Repair %\",IF(X165>0,$C165,0),IF(AA$2=\"Spares %\",IF(IF(X165>0,$C165,0)*100>50%,50%,IF(X165>0,$C165,0)*100),0))))","v":0},{"$f":"IF(AA165=0,0,IF(AB$2=\"Year\",IF(_xlfn.MAXIFS($N165:AA165,$N$2:AA$2,\"Year\")+$E165<=$E$1,Y165+$E165,0),IF(AB$2=\"Repair %\",IF(Y165>0,$C165,0),IF(AB$2=\"Spares %\",IF(IF(W165>0,$C165,0)*5>80%,50%,IF(W165>0,$C165,0)*5),0))))","v":0},{"$f":"IF(AB165=0,0,IF(AC$2=\"Year\",IF(_xlfn.MAXIFS($N165:AB165,$N$2:AB$2,\"Year\")+$E165<=$E$1,Z165+$E165,0),IF(AC$2=\"Repair %\",IF(Z165>0,$C$3,0),IF(AC$2=\"Spares %\",IF(IF(Z165>0,$C165,0)*100>50%,50%,IF(Z165>0,$C165,0)*100),0))))","v":0},{"$f":"IF(AC165=0,0,IF(AD$2=\"Year\",IF(_xlfn.MAXIFS($N165:AC165,$N$2:AC$2,\"Year\")+$E165<=$E$1,AA165+$E165,0),IF(AD$2=\"Repair %\",IF(AA165>0,$C165,0),IF(AD$2=\"Spares %\",IF(IF(AA165>0,$C165,0)*100>50%,50%,IF(AA165>0,$C165,0)*100),0))))","v":0},{"$f":"IF(AD165=0,0,IF(AE$2=\"Year\",IF(_xlfn.MAXIFS($N165:AD165,$N$2:AD$2,\"Year\")+$E165<=$E$1,AB165+$E165,0),IF(AE$2=\"Repair %\",IF(AB165>0,$C165,0),IF(AE$2=\"Spares %\",IF(IF(Z165>0,$C165,0)*5>80%,50%,IF(Z165>0,$C165,0)*5),0))))","v":0},{"$f":"IF(AE165=0,0,IF(AF$2=\"Year\",IF(_xlfn.MAXIFS($N165:AE165,$N$2:AE$2,\"Year\")+$E165<=$E$1,AC165+$E165,0),IF(AF$2=\"Repair %\",IF(AC165>0,$C$3,0),IF(AF$2=\"Spares %\",IF(IF(AC165>0,$C165,0)*100>50%,50%,IF(AC165>0,$C165,0)*100),0))))","v":0},{"$f":"IF(AF165=0,0,IF(AG$2=\"Year\",IF(_xlfn.MAXIFS($N165:AF165,$N$2:AF$2,\"Year\")+$E165<=$E$1,AD165+$E165,0),IF(AG$2=\"Repair %\",IF(AD165>0,$C165,0),IF(AG$2=\"Spares %\",IF(IF(AD165>0,$C165,0)*100>50%,50%,IF(AD165>0,$C165,0)*100),0))))","v":0},{"$f":"IF(AG165=0,0,IF(AH$2=\"Year\",IF(_xlfn.MAXIFS($N165:AG165,$N$2:AG$2,\"Year\")+$E165<=$E$1,AE165+$E165,0),IF(AH$2=\"Repair %\",IF(AE165>0,$C165,0),IF(AH$2=\"Spares %\",IF(IF(AC165>0,$C165,0)*5>80%,50%,IF(AC165>0,$C165,0)*5),0))))","v":0},{"$f":"IF(AH165=0,0,IF(AI$2=\"Year\",IF(_xlfn.MAXIFS($N165:AH165,$N$2:AH$2,\"Year\")+$E165<=$E$1,AF165+$E165,0),IF(AI$2=\"Repair %\",IF(AF165>0,$C$3,0),IF(AI$2=\"Spares %\",IF(IF(AF165>0,$C165,0)*100>50%,50%,IF(AF165>0,$C165,0)*100),0))))","v":0},{"$f":"IF(AI165=0,0,IF(AJ$2=\"Year\",IF(_xlfn.MAXIFS($N165:AI165,$N$2:AI$2,\"Year\")+$E165<=$E$1,AG165+$E165,0),IF(AJ$2=\"Repair %\",IF(AG165>0,$C165,0),IF(AJ$2=\"Spares %\",IF(IF(AG165>0,$C165,0)*100>50%,50%,IF(AG165>0,$C165,0)*100),0))))","v":0},{"$f":"IF(AJ165=0,0,IF(AK$2=\"Year\",IF(_xlfn.MAXIFS($N165:AJ165,$N$2:AJ$2,\"Year\")+$E165<=$E$1,AH165+$E165,0),IF(AK$2=\"Repair %\",IF(AH165>0,$C165,0),IF(AK$2=\"Spares %\",IF(IF(AF165>0,$C165,0)*5>80%,50%,IF(AF165>0,$C165,0)*5),0))))","v":0},{"$f":"IF(AK165=0,0,IF(AL$2=\"Year\",IF(_xlfn.MAXIFS($N165:AK165,$N$2:AK$2,\"Year\")+$E165<=$E$1,AI165+$E165,0),IF(AL$2=\"Repair %\",IF(AI165>0,$C$3,0),IF(AL$2=\"Spares %\",IF(IF(AI165>0,$C165,0)*100>50%,50%,IF(AI165>0,$C165,0)*100),0))))","v":0},{"$f":"IF(AL165=0,0,IF(AM$2=\"Year\",IF(_xlfn.MAXIFS($N165:AL165,$N$2:AL$2,\"Year\")+$E165<=$E$1,AJ165+$E165,0),IF(AM$2=\"Repair %\",IF(AJ165>0,$C165,0),IF(AM$2=\"Spares %\",IF(IF(AJ165>0,$C165,0)*100>50%,50%,IF(AJ165>0,$C165,0)*100),0))))","v":0},{"$f":"IF(AM165=0,0,IF(AN$2=\"Year\",IF(_xlfn.MAXIFS($N165:AM165,$N$2:AM$2,\"Year\")+$E165<=$E$1,AK165+$E165,0),IF(AN$2=\"Repair %\",IF(AK165>0,$C165,0),IF(AN$2=\"Spares %\",IF(IF(AI165>0,$C165,0)*5>80%,50%,IF(AI165>0,$C165,0)*5),0))))","v":0},{"$f":"IF(AN165=0,0,IF(AO$2=\"Year\",IF(_xlfn.MAXIFS($N165:AN165,$N$2:AN$2,\"Year\")+$E165<=$E$1,AL165+$E165,0),IF(AO$2=\"Repair %\",IF(AL165>0,$C$3,0),IF(AO$2=\"Spares %\",IF(IF(AL165>0,$C165,0)*100>50%,50%,IF(AL165>0,$C165,0)*100),0))))","v":0},{"$f":"IF(AO165=0,0,IF(AP$2=\"Year\",IF(_xlfn.MAXIFS($N165:AO165,$N$2:AO$2,\"Year\")+$E165<=$E$1,AM165+$E165,0),IF(AP$2=\"Repair %\",IF(AM165>0,$C165,0),IF(AP$2=\"Spares %\",IF(IF(AM165>0,$C165,0)*100>50%,50%,IF(AM165>0,$C165,0)*100),0))))","v":0},{"$f":"IF(AP165=0,0,IF(AQ$2=\"Year\",IF(_xlfn.MAXIFS($N165:AP165,$N$2:AP$2,\"Year\")+$E165<=$E$1,AN165+$E165,0),IF(AQ$2=\"Repair %\",IF(AN165>0,$C165,0),IF(AQ$2=\"Spares %\",IF(IF(AL165>0,$C165,0)*5>80%,50%,IF(AL165>0,$C165,0)*5),0))))","v":0}]
[{"$f":"INDEX('Avionics ID'!A:E,MATCH(B166,'Avionics ID'!E:E,0),1)","v":819},"Stores Management System",0.05,0.06,20,"Obsolecence",{"$f":"SUBSTITUTE(ADDRESS(1,MATCH(A166,'Pt1-AvionicsComponentCosts'!$A$6:$NC$6,0)+1),\"$1\",\"\")","v":"$IP"},{"$f":"_xlfn.TEXTJOIN(\", \",TRUE,_xlfn.UNIQUE(_xlfn._xlws.SORT(_xlfn._xlws.FILTER('Pt1-AvionicsComponentCosts'!$NF$12:$NF$384,ISNUMBER(INDIRECT(\"'Pt1-AvionicsComponentCosts'!\"&G166&\"$12:\"&G166&\"$384\"))))))","v":"Mil Fighter, TP Trainer"},null,0.06,0.05,0.36,1.87,{"$f":"COUNTIF($N$2:N$2,\"Year\")*$G$1","v":10},null,0,{"$f":"COUNTIF($N$2:Q$2,\"Year\")*$G$1","v":20},{"$f":"IF(Q166=0,0,IF(R$2=\"Year\",IF(_xlfn.MAXIFS($N166:Q166,$N$2:Q$2,\"Year\")+$E166<=$E$1,O166+$E166,0),IF(R$2=\"Repair %\",IF(O166>0,$C166,0),IF(R$2=\"Spares %\",IF(IF(O166>0,$C166,0)*100>50%,50%,IF(O166>0,$C166,0)*100),0))))","v":0},1,{"$f":"COUNTIF($N$2:T$2,\"Year\")*$G$1","v":30},{"$f":"IF(T166=0,0,IF(U$2=\"Year\",IF(_xlfn.MAXIFS($N166:T166,$N$2:T$2,\"Year\")+$E166<=$E$1,R166+$E166,0),IF(U$2=\"Repair %\",IF(R166>0,$C166,0),IF(U$2=\"Spares %\",IF(IF(R166>0,$C166,0)*100>50%,50%,IF(R166>0,$C166,0)*100),0))))","v":0},0,{"$f":"COUNTIF($N$2:W$2,\"Year\")*$G$1","v":40},{"$f":"IF(W166=0,0,IF(X$2=\"Year\",IF(_xlfn.MAXIFS($N166:W166,$N$2:W$2,\"Year\")+$E166<=$E$1,U166+$E166,0),IF(X$2=\"Repair %\",IF(U166>0,$C166,0),IF(X$2=\"Spares %\",IF(IF(U166>0,$C166,0)*100>50%,50%,IF(U166>0,$C166,0)*100),0))))","v":0},1,{"$f":"IF(Y166=0,0,IF(Z$2=\"Year\",IF(_xlfn.MAXIFS($N166:Y166,$N$2:Y$2,\"Year\")+$E166<=$E$1,W166+$E166,0),IF(Z$2=\"Repair %\",IF(W166>0,$C$3,0),IF(Z$2=\"Spares %\",IF(IF(W166>0,$C166,0)*100>50%,50%,IF(W166>0,$C166,0)*100),0))))","v":0},{"$f":"IF(Z166=0,0,IF(AA$2=\"Year\",IF(_xlfn.MAXIFS($N166:Z166,$N$2:Z$2,\"Year\")+$E166<=$E$1,X166+$E166,0),IF(AA$2=\"Repair %\",IF(X166>0,$C166,0),IF(AA$2=\"Spares %\",IF(IF(X166>0,$C166,0)*100>50%,50%,IF(X166>0,$C166,0)*100),0))))","v":0},{"$f":"IF(AA166=0,0,IF(AB$2=\"Year\",IF(_xlfn.MAXIFS($N166:AA166,$N$2:AA$2,\"Year\")+$E166<=$E$1,Y166+$E166,0),IF(AB$2=\"Repair %\",IF(Y166>0,$C166,0),IF(AB$2=\"Spares %\",IF(IF(W166>0,$C166,0)*5>80%,50%,IF(W166>0,$C166,0)*5),0))))","v":0},{"$f":"IF(AB166=0,0,IF(AC$2=\"Year\",IF(_xlfn.MAXIFS($N166:AB166,$N$2:AB$2,\"Year\")+$E166<=$E$1,Z166+$E166,0),IF(AC$2=\"Repair %\",IF(Z166>0,$C$3,0),IF(AC$2=\"Spares %\",IF(IF(Z166>0,$C166,0)*100>50%,50%,IF(Z166>0,$C166,0)*100),0))))","v":0},{"$f":"IF(AC166=0,0,IF(AD$2=\"Year\",IF(_xlfn.MAXIFS($N166:AC166,$N$2:AC$2,\"Year\")+$E166<=$E$1,AA166+$E166,0),IF(AD$2=\"Repair %\",IF(AA166>0,$C166,0),IF(AD$2=\"Spares %\",IF(IF(AA166>0,$C166,0)*100>50%,50%,IF(AA166>0,$C166,0)*100),0))))","v":0},{"$f":"IF(AD166=0,0,IF(AE$2=\"Year\",IF(_xlfn.MAXIFS($N166:AD166,$N$2:AD$2,\"Year\")+$E166<=$E$1,AB166+$E166,0),IF(AE$2=\"Repair %\",IF(AB166>0,$C166,0),IF(AE$2=\"Spares %\",IF(IF(Z166>0,$C166,0)*5>80%,50%,IF(Z166>0,$C166,0)*5),0))))","v":0},{"$f":"IF(AE166=0,0,IF(AF$2=\"Year\",IF(_xlfn.MAXIFS($N166:AE166,$N$2:AE$2,\"Year\")+$E166<=$E$1,AC166+$E166,0),IF(AF$2=\"Repair %\",IF(AC166>0,$C$3,0),IF(AF$2=\"Spares %\",IF(IF(AC166>0,$C166,0)*100>50%,50%,IF(AC166>0,$C166,0)*100),0))))","v":0},{"$f":"IF(AF166=0,0,IF(AG$2=\"Year\",IF(_xlfn.MAXIFS($N166:AF166,$N$2:AF$2,\"Year\")+$E166<=$E$1,AD166+$E166,0),IF(AG$2=\"Repair %\",IF(AD166>0,$C166,0),IF(AG$2=\"Spares %\",IF(IF(AD166>0,$C166,0)*100>50%,50%,IF(AD166>0,$C166,0)*100),0))))","v":0},{"$f":"IF(AG166=0,0,IF(AH$2=\"Year\",IF(_xlfn.MAXIFS($N166:AG166,$N$2:AG$2,\"Year\")+$E166<=$E$1,AE166+$E166,0),IF(AH$2=\"Repair %\",IF(AE166>0,$C166,0),IF(AH$2=\"Spares %\",IF(IF(AC166>0,$C166,0)*5>80%,50%,IF(AC166>0,$C166,0)*5),0))))","v":0},{"$f":"IF(AH166=0,0,IF(AI$2=\"Year\",IF(_xlfn.MAXIFS($N166:AH166,$N$2:AH$2,\"Year\")+$E166<=$E$1,AF166+$E166,0),IF(AI$2=\"Repair %\",IF(AF166>0,$C$3,0),IF(AI$2=\"Spares %\",IF(IF(AF166>0,$C166,0)*100>50%,50%,IF(AF166>0,$C166,0)*100),0))))","v":0},{"$f":"IF(AI166=0,0,IF(AJ$2=\"Year\",IF(_xlfn.MAXIFS($N166:AI166,$N$2:AI$2,\"Year\")+$E166<=$E$1,AG166+$E166,0),IF(AJ$2=\"Repair %\",IF(AG166>0,$C166,0),IF(AJ$2=\"Spares %\",IF(IF(AG166>0,$C166,0)*100>50%,50%,IF(AG166>0,$C166,0)*100),0))))","v":0},{"$f":"IF(AJ166=0,0,IF(AK$2=\"Year\",IF(_xlfn.MAXIFS($N166:AJ166,$N$2:AJ$2,\"Year\")+$E166<=$E$1,AH166+$E166,0),IF(AK$2=\"Repair %\",IF(AH166>0,$C166,0),IF(AK$2=\"Spares %\",IF(IF(AF166>0,$C166,0)*5>80%,50%,IF(AF166>0,$C166,0)*5),0))))","v":0},{"$f":"IF(AK166=0,0,IF(AL$2=\"Year\",IF(_xlfn.MAXIFS($N166:AK166,$N$2:AK$2,\"Year\")+$E166<=$E$1,AI166+$E166,0),IF(AL$2=\"Repair %\",IF(AI166>0,$C$3,0),IF(AL$2=\"Spares %\",IF(IF(AI166>0,$C166,0)*100>50%,50%,IF(AI166>0,$C166,0)*100),0))))","v":0},{"$f":"IF(AL166=0,0,IF(AM$2=\"Year\",IF(_xlfn.MAXIFS($N166:AL166,$N$2:AL$2,\"Year\")+$E166<=$E$1,AJ166+$E166,0),IF(AM$2=\"Repair %\",IF(AJ166>0,$C166,0),IF(AM$2=\"Spares %\",IF(IF(AJ166>0,$C166,0)*100>50%,50%,IF(AJ166>0,$C166,0)*100),0))))","v":0},{"$f":"IF(AM166=0,0,IF(AN$2=\"Year\",IF(_xlfn.MAXIFS($N166:AM166,$N$2:AM$2,\"Year\")+$E166<=$E$1,AK166+$E166,0),IF(AN$2=\"Repair %\",IF(AK166>0,$C166,0),IF(AN$2=\"Spares %\",IF(IF(AI166>0,$C166,0)*5>80%,50%,IF(AI166>0,$C166,0)*5),0))))","v":0},{"$f":"IF(AN166=0,0,IF(AO$2=\"Year\",IF(_xlfn.MAXIFS($N166:AN166,$N$2:AN$2,\"Year\")+$E166<=$E$1,AL166+$E166,0),IF(AO$2=\"Repair %\",IF(AL166>0,$C$3,0),IF(AO$2=\"Spares %\",IF(IF(AL166>0,$C166,0)*100>50%,50%,IF(AL166>0,$C166,0)*100),0))))","v":0},{"$f":"IF(AO166=0,0,IF(AP$2=\"Year\",IF(_xlfn.MAXIFS($N166:AO166,$N$2:AO$2,\"Year\")+$E166<=$E$1,AM166+$E166,0),IF(AP$2=\"Repair %\",IF(AM166>0,$C166,0),IF(AP$2=\"Spares %\",IF(IF(AM166>0,$C166,0)*100>50%,50%,IF(AM166>0,$C166,0)*100),0))))","v":0},{"$f":"IF(AP166=0,0,IF(AQ$2=\"Year\",IF(_xlfn.MAXIFS($N166:AP166,$N$2:AP$2,\"Year\")+$E166<=$E$1,AN166+$E166,0),IF(AQ$2=\"Repair %\",IF(AN166>0,$C166,0),IF(AQ$2=\"Spares %\",IF(IF(AL166>0,$C166,0)*5>80%,50%,IF(AL166>0,$C166,0)*5),0))))","v":0}]
[{"$f":"INDEX('Avionics ID'!A:E,MATCH(B167,'Avionics ID'!E:E,0),1)","v":883},"Surveillance Sensors",0.1,0.06,10,"Obsolecence",{"$f":"SUBSTITUTE(ADDRESS(1,MATCH(A167,'Pt1-AvionicsComponentCosts'!$A$6:$NC$6,0)+1),\"$1\",\"\")","v":"$LT"},{"$f":"_xlfn.TEXTJOIN(\", \",TRUE,_xlfn.UNIQUE(_xlfn._xlws.SORT(_xlfn._xlws.FILTER('Pt1-AvionicsComponentCosts'!$NF$12:$NF$384,ISNUMBER(INDIRECT(\"'Pt1-AvionicsComponentCosts'!\"&G167&\"$12:\"&G167&\"$384\"))))))","v":"A220, A300, A320, A330, A330 LMXT, A330 MRTT, A340, A350, A380, B717, B737, B747, B757, B767, B777, B787, C919, MC-21, MD-11, Military Jet, NSA"},null,0.06,0.1,0.33500000000000002,1.6830000000000001,{"$f":"COUNTIF($N$2:N$2,\"Year\")*$G$1","v":10},null,1,{"$f":"COUNTIF($N$2:Q$2,\"Year\")*$G$1","v":20},{"$f":"IF(Q167=0,0,IF(R$2=\"Year\",IF(_xlfn.MAXIFS($N167:Q167,$N$2:Q$2,\"Year\")+$E167<=$E$1,O167+$E167,0),IF(R$2=\"Repair %\",IF(O167>0,$C167,0),IF(R$2=\"Spares %\",IF(IF(O167>0,$C167,0)*100>50%,50%,IF(O167>0,$C167,0)*100),0))))","v":0},1,{"$f":"COUNTIF($N$2:T$2,\"Year\")*$G$1","v":30},{"$f":"IF(T167=0,0,IF(U$2=\"Year\",IF(_xlfn.MAXIFS($N167:T167,$N$2:T$2,\"Year\")+$E167<=$E$1,R167+$E167,0),IF(U$2=\"Repair %\",IF(R167>0,$C167,0),IF(U$2=\"Spares %\",IF(IF(R167>0,$C167,0)*100>50%,50%,IF(R167>0,$C167,0)*100),0))))","v":0},1,{"$f":"COUNTIF($N$2:W$2,\"Year\")*$G$1","v":40},{"$f":"IF(W167=0,0,IF(X$2=\"Year\",IF(_xlfn.MAXIFS($N167:W167,$N$2:W$2,\"Year\")+$E167<=$E$1,U167+$E167,0),IF(X$2=\"Repair %\",IF(U167>0,$C167,0),IF(X$2=\"Spares %\",IF(IF(U167>0,$C167,0)*100>50%,50%,IF(U167>0,$C167,0)*100),0))))","v":0},1,{"$f":"IF(Y167=0,0,IF(Z$2=\"Year\",IF(_xlfn.MAXIFS($N167:Y167,$N$2:Y$2,\"Year\")+$E167<=$E$1,W167+$E167,0),IF(Z$2=\"Repair %\",IF(W167>0,$C$3,0),IF(Z$2=\"Spares %\",IF(IF(W167>0,$C167,0)*100>50%,50%,IF(W167>0,$C167,0)*100),0))))","v":0},{"$f":"IF(Z167=0,0,IF(AA$2=\"Year\",IF(_xlfn.MAXIFS($N167:Z167,$N$2:Z$2,\"Year\")+$E167<=$E$1,X167+$E167,0),IF(AA$2=\"Repair %\",IF(X167>0,$C167,0),IF(AA$2=\"Spares %\",IF(IF(X167>0,$C167,0)*100>50%,50%,IF(X167>0,$C167,0)*100),0))))","v":0},{"$f":"IF(AA167=0,0,IF(AB$2=\"Year\",IF(_xlfn.MAXIFS($N167:AA167,$N$2:AA$2,\"Year\")+$E167<=$E$1,Y167+$E167,0),IF(AB$2=\"Repair %\",IF(Y167>0,$C167,0),IF(AB$2=\"Spares %\",IF(IF(W167>0,$C167,0)*5>80%,50%,IF(W167>0,$C167,0)*5),0))))","v":0},{"$f":"IF(AB167=0,0,IF(AC$2=\"Year\",IF(_xlfn.MAXIFS($N167:AB167,$N$2:AB$2,\"Year\")+$E167<=$E$1,Z167+$E167,0),IF(AC$2=\"Repair %\",IF(Z167>0,$C$3,0),IF(AC$2=\"Spares %\",IF(IF(Z167>0,$C167,0)*100>50%,50%,IF(Z167>0,$C167,0)*100),0))))","v":0},{"$f":"IF(AC167=0,0,IF(AD$2=\"Year\",IF(_xlfn.MAXIFS($N167:AC167,$N$2:AC$2,\"Year\")+$E167<=$E$1,AA167+$E167,0),IF(AD$2=\"Repair %\",IF(AA167>0,$C167,0),IF(AD$2=\"Spares %\",IF(IF(AA167>0,$C167,0)*100>50%,50%,IF(AA167>0,$C167,0)*100),0))))","v":0},{"$f":"IF(AD167=0,0,IF(AE$2=\"Year\",IF(_xlfn.MAXIFS($N167:AD167,$N$2:AD$2,\"Year\")+$E167<=$E$1,AB167+$E167,0),IF(AE$2=\"Repair %\",IF(AB167>0,$C167,0),IF(AE$2=\"Spares %\",IF(IF(Z167>0,$C167,0)*5>80%,50%,IF(Z167>0,$C167,0)*5),0))))","v":0},{"$f":"IF(AE167=0,0,IF(AF$2=\"Year\",IF(_xlfn.MAXIFS($N167:AE167,$N$2:AE$2,\"Year\")+$E167<=$E$1,AC167+$E167,0),IF(AF$2=\"Repair %\",IF(AC167>0,$C$3,0),IF(AF$2=\"Spares %\",IF(IF(AC167>0,$C167,0)*100>50%,50%,IF(AC167>0,$C167,0)*100),0))))","v":0},{"$f":"IF(AF167=0,0,IF(AG$2=\"Year\",IF(_xlfn.MAXIFS($N167:AF167,$N$2:AF$2,\"Year\")+$E167<=$E$1,AD167+$E167,0),IF(AG$2=\"Repair %\",IF(AD167>0,$C167,0),IF(AG$2=\"Spares %\",IF(IF(AD167>0,$C167,0)*100>50%,50%,IF(AD167>0,$C167,0)*100),0))))","v":0},{"$f":"IF(AG167=0,0,IF(AH$2=\"Year\",IF(_xlfn.MAXIFS($N167:AG167,$N$2:AG$2,\"Year\")+$E167<=$E$1,AE167+$E167,0),IF(AH$2=\"Repair %\",IF(AE167>0,$C167,0),IF(AH$2=\"Spares %\",IF(IF(AC167>0,$C167,0)*5>80%,50%,IF(AC167>0,$C167,0)*5),0))))","v":0},{"$f":"IF(AH167=0,0,IF(AI$2=\"Year\",IF(_xlfn.MAXIFS($N167:AH167,$N$2:AH$2,\"Year\")+$E167<=$E$1,AF167+$E167,0),IF(AI$2=\"Repair %\",IF(AF167>0,$C$3,0),IF(AI$2=\"Spares %\",IF(IF(AF167>0,$C167,0)*100>50%,50%,IF(AF167>0,$C167,0)*100),0))))","v":0},{"$f":"IF(AI167=0,0,IF(AJ$2=\"Year\",IF(_xlfn.MAXIFS($N167:AI167,$N$2:AI$2,\"Year\")+$E167<=$E$1,AG167+$E167,0),IF(AJ$2=\"Repair %\",IF(AG167>0,$C167,0),IF(AJ$2=\"Spares %\",IF(IF(AG167>0,$C167,0)*100>50%,50%,IF(AG167>0,$C167,0)*100),0))))","v":0},{"$f":"IF(AJ167=0,0,IF(AK$2=\"Year\",IF(_xlfn.MAXIFS($N167:AJ167,$N$2:AJ$2,\"Year\")+$E167<=$E$1,AH167+$E167,0),IF(AK$2=\"Repair %\",IF(AH167>0,$C167,0),IF(AK$2=\"Spares %\",IF(IF(AF167>0,$C167,0)*5>80%,50%,IF(AF167>0,$C167,0)*5),0))))","v":0},{"$f":"IF(AK167=0,0,IF(AL$2=\"Year\",IF(_xlfn.MAXIFS($N167:AK167,$N$2:AK$2,\"Year\")+$E167<=$E$1,AI167+$E167,0),IF(AL$2=\"Repair %\",IF(AI167>0,$C$3,0),IF(AL$2=\"Spares %\",IF(IF(AI167>0,$C167,0)*100>50%,50%,IF(AI167>0,$C167,0)*100),0))))","v":0},{"$f":"IF(AL167=0,0,IF(AM$2=\"Year\",IF(_xlfn.MAXIFS($N167:AL167,$N$2:AL$2,\"Year\")+$E167<=$E$1,AJ167+$E167,0),IF(AM$2=\"Repair %\",IF(AJ167>0,$C167,0),IF(AM$2=\"Spares %\",IF(IF(AJ167>0,$C167,0)*100>50%,50%,IF(AJ167>0,$C167,0)*100),0))))","v":0},{"$f":"IF(AM167=0,0,IF(AN$2=\"Year\",IF(_xlfn.MAXIFS($N167:AM167,$N$2:AM$2,\"Year\")+$E167<=$E$1,AK167+$E167,0),IF(AN$2=\"Repair %\",IF(AK167>0,$C167,0),IF(AN$2=\"Spares %\",IF(IF(AI167>0,$C167,0)*5>80%,50%,IF(AI167>0,$C167,0)*5),0))))","v":0},{"$f":"IF(AN167=0,0,IF(AO$2=\"Year\",IF(_xlfn.MAXIFS($N167:AN167,$N$2:AN$2,\"Year\")+$E167<=$E$1,AL167+$E167,0),IF(AO$2=\"Repair %\",IF(AL167>0,$C$3,0),IF(AO$2=\"Spares %\",IF(IF(AL167>0,$C167,0)*100>50%,50%,IF(AL167>0,$C167,0)*100),0))))","v":0},{"$f":"IF(AO167=0,0,IF(AP$2=\"Year\",IF(_xlfn.MAXIFS($N167:AO167,$N$2:AO$2,\"Year\")+$E167<=$E$1,AM167+$E167,0),IF(AP$2=\"Repair %\",IF(AM167>0,$C167,0),IF(AP$2=\"Spares %\",IF(IF(AM167>0,$C167,0)*100>50%,50%,IF(AM167>0,$C167,0)*100),0))))","v":0},{"$f":"IF(AP167=0,0,IF(AQ$2=\"Year\",IF(_xlfn.MAXIFS($N167:AP167,$N$2:AP$2,\"Year\")+$E167<=$E$1,AN167+$E167,0),IF(AQ$2=\"Repair %\",IF(AN167>0,$C167,0),IF(AQ$2=\"Spares %\",IF(IF(AL167>0,$C167,0)*5>80%,50%,IF(AL167>0,$C167,0)*5),0))))","v":0}]
[{"$f":"INDEX('Avionics ID'!A:E,MATCH(B168,'Avionics ID'!E:E,0),1)","v":732},"System Data Acquisition Concentrator (SDAC)",0,0.06,null,"",{"$f":"SUBSTITUTE(ADDRESS(1,MATCH(A168,'Pt1-AvionicsComponentCosts'!$A$6:$NC$6,0)+1),\"$1\",\"\")","v":"$GF"},{"$f":"_xlfn.TEXTJOIN(\", \",TRUE,_xlfn.UNIQUE(_xlfn._xlws.SORT(_xlfn._xlws.FILTER('Pt1-AvionicsComponentCosts'!$NF$12:$NF$384,ISNUMBER(INDIRECT(\"'Pt1-AvionicsComponentCosts'!\"&G168&\"$12:\"&G168&\"$384\"))))))","v":"A220, A300, A320, A321, A330, A340, A350, A380, ATR, B717, B737, B747, B757, B767, B777, C919, EMB Regional, MC-21, MD-11, Mil Transport, Military Jet, NSA"},null,0.06,0,0.35299999999999998,1.8460000000000001,{"$f":"COUNTIF($N$2:N$2,\"Year\")*$G$1","v":10},null,0,{"$f":"COUNTIF($N$2:Q$2,\"Year\")*$G$1","v":20},{"$f":"IF(Q168=0,0,IF(R$2=\"Year\",IF(_xlfn.MAXIFS($N168:Q168,$N$2:Q$2,\"Year\")+$E168<=$E$1,O168+$E168,0),IF(R$2=\"Repair %\",IF(O168>0,$C168,0),IF(R$2=\"Spares %\",IF(IF(O168>0,$C168,0)*100>50%,50%,IF(O168>0,$C168,0)*100),0))))","v":0},0,{"$f":"COUNTIF($N$2:T$2,\"Year\")*$G$1","v":30},{"$f":"IF(T168=0,0,IF(U$2=\"Year\",IF(_xlfn.MAXIFS($N168:T168,$N$2:T$2,\"Year\")+$E168<=$E$1,R168+$E168,0),IF(U$2=\"Repair %\",IF(R168>0,$C168,0),IF(U$2=\"Spares %\",IF(IF(R168>0,$C168,0)*100>50%,50%,IF(R168>0,$C168,0)*100),0))))","v":0},0,{"$f":"COUNTIF($N$2:W$2,\"Year\")*$G$1","v":40},{"$f":"IF(W168=0,0,IF(X$2=\"Year\",IF(_xlfn.MAXIFS($N168:W168,$N$2:W$2,\"Year\")+$E168<=$E$1,U168+$E168,0),IF(X$2=\"Repair %\",IF(U168>0,$C168,0),IF(X$2=\"Spares %\",IF(IF(U168>0,$C168,0)*100>50%,50%,IF(U168>0,$C168,0)*100),0))))","v":0},0,{"$f":"IF(Y168=0,0,IF(Z$2=\"Year\",IF(_xlfn.MAXIFS($N168:Y168,$N$2:Y$2,\"Year\")+$E168<=$E$1,W168+$E168,0),IF(Z$2=\"Repair %\",IF(W168>0,$C$3,0),IF(Z$2=\"Spares %\",IF(IF(W168>0,$C168,0)*100>50%,50%,IF(W168>0,$C168,0)*100),0))))","v":0},{"$f":"IF(Z168=0,0,IF(AA$2=\"Year\",IF(_xlfn.MAXIFS($N168:Z168,$N$2:Z$2,\"Year\")+$E168<=$E$1,X168+$E168,0),IF(AA$2=\"Repair %\",IF(X168>0,$C168,0),IF(AA$2=\"Spares %\",IF(IF(X168>0,$C168,0)*100>50%,50%,IF(X168>0,$C168,0)*100),0))))","v":0},{"$f":"IF(AA168=0,0,IF(AB$2=\"Year\",IF(_xlfn.MAXIFS($N168:AA168,$N$2:AA$2,\"Year\")+$E168<=$E$1,Y168+$E168,0),IF(AB$2=\"Repair %\",IF(Y168>0,$C168,0),IF(AB$2=\"Spares %\",IF(IF(W168>0,$C168,0)*5>80%,50%,IF(W168>0,$C168,0)*5),0))))","v":0},{"$f":"IF(AB168=0,0,IF(AC$2=\"Year\",IF(_xlfn.MAXIFS($N168:AB168,$N$2:AB$2,\"Year\")+$E168<=$E$1,Z168+$E168,0),IF(AC$2=\"Repair %\",IF(Z168>0,$C$3,0),IF(AC$2=\"Spares %\",IF(IF(Z168>0,$C168,0)*100>50%,50%,IF(Z168>0,$C168,0)*100),0))))","v":0},{"$f":"IF(AC168=0,0,IF(AD$2=\"Year\",IF(_xlfn.MAXIFS($N168:AC168,$N$2:AC$2,\"Year\")+$E168<=$E$1,AA168+$E168,0),IF(AD$2=\"Repair %\",IF(AA168>0,$C168,0),IF(AD$2=\"Spares %\",IF(IF(AA168>0,$C168,0)*100>50%,50%,IF(AA168>0,$C168,0)*100),0))))","v":0},{"$f":"IF(AD168=0,0,IF(AE$2=\"Year\",IF(_xlfn.MAXIFS($N168:AD168,$N$2:AD$2,\"Year\")+$E168<=$E$1,AB168+$E168,0),IF(AE$2=\"Repair %\",IF(AB168>0,$C168,0),IF(AE$2=\"Spares %\",IF(IF(Z168>0,$C168,0)*5>80%,50%,IF(Z168>0,$C168,0)*5),0))))","v":0},{"$f":"IF(AE168=0,0,IF(AF$2=\"Year\",IF(_xlfn.MAXIFS($N168:AE168,$N$2:AE$2,\"Year\")+$E168<=$E$1,AC168+$E168,0),IF(AF$2=\"Repair %\",IF(AC168>0,$C$3,0),IF(AF$2=\"Spares %\",IF(IF(AC168>0,$C168,0)*100>50%,50%,IF(AC168>0,$C168,0)*100),0))))","v":0},{"$f":"IF(AF168=0,0,IF(AG$2=\"Year\",IF(_xlfn.MAXIFS($N168:AF168,$N$2:AF$2,\"Year\")+$E168<=$E$1,AD168+$E168,0),IF(AG$2=\"Repair %\",IF(AD168>0,$C168,0),IF(AG$2=\"Spares %\",IF(IF(AD168>0,$C168,0)*100>50%,50%,IF(AD168>0,$C168,0)*100),0))))","v":0},{"$f":"IF(AG168=0,0,IF(AH$2=\"Year\",IF(_xlfn.MAXIFS($N168:AG168,$N$2:AG$2,\"Year\")+$E168<=$E$1,AE168+$E168,0),IF(AH$2=\"Repair %\",IF(AE168>0,$C168,0),IF(AH$2=\"Spares %\",IF(IF(AC168>0,$C168,0)*5>80%,50%,IF(AC168>0,$C168,0)*5),0))))","v":0},{"$f":"IF(AH168=0,0,IF(AI$2=\"Year\",IF(_xlfn.MAXIFS($N168:AH168,$N$2:AH$2,\"Year\")+$E168<=$E$1,AF168+$E168,0),IF(AI$2=\"Repair %\",IF(AF168>0,$C$3,0),IF(AI$2=\"Spares %\",IF(IF(AF168>0,$C168,0)*100>50%,50%,IF(AF168>0,$C168,0)*100),0))))","v":0},{"$f":"IF(AI168=0,0,IF(AJ$2=\"Year\",IF(_xlfn.MAXIFS($N168:AI168,$N$2:AI$2,\"Year\")+$E168<=$E$1,AG168+$E168,0),IF(AJ$2=\"Repair %\",IF(AG168>0,$C168,0),IF(AJ$2=\"Spares %\",IF(IF(AG168>0,$C168,0)*100>50%,50%,IF(AG168>0,$C168,0)*100),0))))","v":0},{"$f":"IF(AJ168=0,0,IF(AK$2=\"Year\",IF(_xlfn.MAXIFS($N168:AJ168,$N$2:AJ$2,\"Year\")+$E168<=$E$1,AH168+$E168,0),IF(AK$2=\"Repair %\",IF(AH168>0,$C168,0),IF(AK$2=\"Spares %\",IF(IF(AF168>0,$C168,0)*5>80%,50%,IF(AF168>0,$C168,0)*5),0))))","v":0},{"$f":"IF(AK168=0,0,IF(AL$2=\"Year\",IF(_xlfn.MAXIFS($N168:AK168,$N$2:AK$2,\"Year\")+$E168<=$E$1,AI168+$E168,0),IF(AL$2=\"Repair %\",IF(AI168>0,$C$3,0),IF(AL$2=\"Spares %\",IF(IF(AI168>0,$C168,0)*100>50%,50%,IF(AI168>0,$C168,0)*100),0))))","v":0},{"$f":"IF(AL168=0,0,IF(AM$2=\"Year\",IF(_xlfn.MAXIFS($N168:AL168,$N$2:AL$2,\"Year\")+$E168<=$E$1,AJ168+$E168,0),IF(AM$2=\"Repair %\",IF(AJ168>0,$C168,0),IF(AM$2=\"Spares %\",IF(IF(AJ168>0,$C168,0)*100>50%,50%,IF(AJ168>0,$C168,0)*100),0))))","v":0},{"$f":"IF(AM168=0,0,IF(AN$2=\"Year\",IF(_xlfn.MAXIFS($N168:AM168,$N$2:AM$2,\"Year\")+$E168<=$E$1,AK168+$E168,0),IF(AN$2=\"Repair %\",IF(AK168>0,$C168,0),IF(AN$2=\"Spares %\",IF(IF(AI168>0,$C168,0)*5>80%,50%,IF(AI168>0,$C168,0)*5),0))))","v":0},{"$f":"IF(AN168=0,0,IF(AO$2=\"Year\",IF(_xlfn.MAXIFS($N168:AN168,$N$2:AN$2,\"Year\")+$E168<=$E$1,AL168+$E168,0),IF(AO$2=\"Repair %\",IF(AL168>0,$C$3,0),IF(AO$2=\"Spares %\",IF(IF(AL168>0,$C168,0)*100>50%,50%,IF(AL168>0,$C168,0)*100),0))))","v":0},{"$f":"IF(AO168=0,0,IF(AP$2=\"Year\",IF(_xlfn.MAXIFS($N168:AO168,$N$2:AO$2,\"Year\")+$E168<=$E$1,AM168+$E168,0),IF(AP$2=\"Repair %\",IF(AM168>0,$C168,0),IF(AP$2=\"Spares %\",IF(IF(AM168>0,$C168,0)*100>50%,50%,IF(AM168>0,$C168,0)*100),0))))","v":0},{"$f":"IF(AP168=0,0,IF(AQ$2=\"Year\",IF(_xlfn.MAXIFS($N168:AP168,$N$2:AP$2,\"Year\")+$E168<=$E$1,AN168+$E168,0),IF(AQ$2=\"Repair %\",IF(AN168>0,$C168,0),IF(AQ$2=\"Spares %\",IF(IF(AL168>0,$C168,0)*5>80%,50%,IF(AL168>0,$C168,0)*5),0))))","v":0}]
[{"$f":"INDEX('Avionics ID'!A:E,MATCH(B169,'Avionics ID'!E:E,0),1)","v":838},"TACAN",0.1,0.06,10,"Obsolecence",{"$f":"SUBSTITUTE(ADDRESS(1,MATCH(A169,'Pt1-AvionicsComponentCosts'!$A$6:$NC$6,0)+1),\"$1\",\"\")","v":"$KF"},{"$f":"_xlfn.TEXTJOIN(\", \",TRUE,_xlfn.UNIQUE(_xlfn._xlws.SORT(_xlfn._xlws.FILTER('Pt1-AvionicsComponentCosts'!$NF$12:$NF$384,ISNUMBER(INDIRECT(\"'Pt1-AvionicsComponentCosts'!\"&G169&\"$12:\"&G169&\"$384\"))))))","v":"A330 LMXT, A330 MRTT, Mil Transport, Military Jet, Military TP"},null,0.06,0.1,0.35399999999999998,1.829,{"$f":"COUNTIF($N$2:N$2,\"Year\")*$G$1","v":10},null,1,{"$f":"COUNTIF($N$2:Q$2,\"Year\")*$G$1","v":20},{"$f":"IF(Q169=0,0,IF(R$2=\"Year\",IF(_xlfn.MAXIFS($N169:Q169,$N$2:Q$2,\"Year\")+$E169<=$E$1,O169+$E169,0),IF(R$2=\"Repair %\",IF(O169>0,$C169,0),IF(R$2=\"Spares %\",IF(IF(O169>0,$C169,0)*100>50%,50%,IF(O169>0,$C169,0)*100),0))))","v":0},1,{"$f":"COUNTIF($N$2:T$2,\"Year\")*$G$1","v":30},{"$f":"IF(T169=0,0,IF(U$2=\"Year\",IF(_xlfn.MAXIFS($N169:T169,$N$2:T$2,\"Year\")+$E169<=$E$1,R169+$E169,0),IF(U$2=\"Repair %\",IF(R169>0,$C169,0),IF(U$2=\"Spares %\",IF(IF(R169>0,$C169,0)*100>50%,50%,IF(R169>0,$C169,0)*100),0))))","v":0},1,{"$f":"COUNTIF($N$2:W$2,\"Year\")*$G$1","v":40},{"$f":"IF(W169=0,0,IF(X$2=\"Year\",IF(_xlfn.MAXIFS($N169:W169,$N$2:W$2,\"Year\")+$E169<=$E$1,U169+$E169,0),IF(X$2=\"Repair %\",IF(U169>0,$C169,0),IF(X$2=\"Spares %\",IF(IF(U169>0,$C169,0)*100>50%,50%,IF(U169>0,$C169,0)*100),0))))","v":0},1,{"$f":"IF(Y169=0,0,IF(Z$2=\"Year\",IF(_xlfn.MAXIFS($N169:Y169,$N$2:Y$2,\"Year\")+$E169<=$E$1,W169+$E169,0),IF(Z$2=\"Repair %\",IF(W169>0,$C$3,0),IF(Z$2=\"Spares %\",IF(IF(W169>0,$C169,0)*100>50%,50%,IF(W169>0,$C169,0)*100),0))))","v":0},{"$f":"IF(Z169=0,0,IF(AA$2=\"Year\",IF(_xlfn.MAXIFS($N169:Z169,$N$2:Z$2,\"Year\")+$E169<=$E$1,X169+$E169,0),IF(AA$2=\"Repair %\",IF(X169>0,$C169,0),IF(AA$2=\"Spares %\",IF(IF(X169>0,$C169,0)*100>50%,50%,IF(X169>0,$C169,0)*100),0))))","v":0},{"$f":"IF(AA169=0,0,IF(AB$2=\"Year\",IF(_xlfn.MAXIFS($N169:AA169,$N$2:AA$2,\"Year\")+$E169<=$E$1,Y169+$E169,0),IF(AB$2=\"Repair %\",IF(Y169>0,$C169,0),IF(AB$2=\"Spares %\",IF(IF(W169>0,$C169,0)*5>80%,50%,IF(W169>0,$C169,0)*5),0))))","v":0},{"$f":"IF(AB169=0,0,IF(AC$2=\"Year\",IF(_xlfn.MAXIFS($N169:AB169,$N$2:AB$2,\"Year\")+$E169<=$E$1,Z169+$E169,0),IF(AC$2=\"Repair %\",IF(Z169>0,$C$3,0),IF(AC$2=\"Spares %\",IF(IF(Z169>0,$C169,0)*100>50%,50%,IF(Z169>0,$C169,0)*100),0))))","v":0},{"$f":"IF(AC169=0,0,IF(AD$2=\"Year\",IF(_xlfn.MAXIFS($N169:AC169,$N$2:AC$2,\"Year\")+$E169<=$E$1,AA169+$E169,0),IF(AD$2=\"Repair %\",IF(AA169>0,$C169,0),IF(AD$2=\"Spares %\",IF(IF(AA169>0,$C169,0)*100>50%,50%,IF(AA169>0,$C169,0)*100),0))))","v":0},{"$f":"IF(AD169=0,0,IF(AE$2=\"Year\",IF(_xlfn.MAXIFS($N169:AD169,$N$2:AD$2,\"Year\")+$E169<=$E$1,AB169+$E169,0),IF(AE$2=\"Repair %\",IF(AB169>0,$C169,0),IF(AE$2=\"Spares %\",IF(IF(Z169>0,$C169,0)*5>80%,50%,IF(Z169>0,$C169,0)*5),0))))","v":0},{"$f":"IF(AE169=0,0,IF(AF$2=\"Year\",IF(_xlfn.MAXIFS($N169:AE169,$N$2:AE$2,\"Year\")+$E169<=$E$1,AC169+$E169,0),IF(AF$2=\"Repair %\",IF(AC169>0,$C$3,0),IF(AF$2=\"Spares %\",IF(IF(AC169>0,$C169,0)*100>50%,50%,IF(AC169>0,$C169,0)*100),0))))","v":0},{"$f":"IF(AF169=0,0,IF(AG$2=\"Year\",IF(_xlfn.MAXIFS($N169:AF169,$N$2:AF$2,\"Year\")+$E169<=$E$1,AD169+$E169,0),IF(AG$2=\"Repair %\",IF(AD169>0,$C169,0),IF(AG$2=\"Spares %\",IF(IF(AD169>0,$C169,0)*100>50%,50%,IF(AD169>0,$C169,0)*100),0))))","v":0},{"$f":"IF(AG169=0,0,IF(AH$2=\"Year\",IF(_xlfn.MAXIFS($N169:AG169,$N$2:AG$2,\"Year\")+$E169<=$E$1,AE169+$E169,0),IF(AH$2=\"Repair %\",IF(AE169>0,$C169,0),IF(AH$2=\"Spares %\",IF(IF(AC169>0,$C169,0)*5>80%,50%,IF(AC169>0,$C169,0)*5),0))))","v":0},{"$f":"IF(AH169=0,0,IF(AI$2=\"Year\",IF(_xlfn.MAXIFS($N169:AH169,$N$2:AH$2,\"Year\")+$E169<=$E$1,AF169+$E169,0),IF(AI$2=\"Repair %\",IF(AF169>0,$C$3,0),IF(AI$2=\"Spares %\",IF(IF(AF169>0,$C169,0)*100>50%,50%,IF(AF169>0,$C169,0)*100),0))))","v":0},{"$f":"IF(AI169=0,0,IF(AJ$2=\"Year\",IF(_xlfn.MAXIFS($N169:AI169,$N$2:AI$2,\"Year\")+$E169<=$E$1,AG169+$E169,0),IF(AJ$2=\"Repair %\",IF(AG169>0,$C169,0),IF(AJ$2=\"Spares %\",IF(IF(AG169>0,$C169,0)*100>50%,50%,IF(AG169>0,$C169,0)*100),0))))","v":0},{"$f":"IF(AJ169=0,0,IF(AK$2=\"Year\",IF(_xlfn.MAXIFS($N169:AJ169,$N$2:AJ$2,\"Year\")+$E169<=$E$1,AH169+$E169,0),IF(AK$2=\"Repair %\",IF(AH169>0,$C169,0),IF(AK$2=\"Spares %\",IF(IF(AF169>0,$C169,0)*5>80%,50%,IF(AF169>0,$C169,0)*5),0))))","v":0},{"$f":"IF(AK169=0,0,IF(AL$2=\"Year\",IF(_xlfn.MAXIFS($N169:AK169,$N$2:AK$2,\"Year\")+$E169<=$E$1,AI169+$E169,0),IF(AL$2=\"Repair %\",IF(AI169>0,$C$3,0),IF(AL$2=\"Spares %\",IF(IF(AI169>0,$C169,0)*100>50%,50%,IF(AI169>0,$C169,0)*100),0))))","v":0},{"$f":"IF(AL169=0,0,IF(AM$2=\"Year\",IF(_xlfn.MAXIFS($N169:AL169,$N$2:AL$2,\"Year\")+$E169<=$E$1,AJ169+$E169,0),IF(AM$2=\"Repair %\",IF(AJ169>0,$C169,0),IF(AM$2=\"Spares %\",IF(IF(AJ169>0,$C169,0)*100>50%,50%,IF(AJ169>0,$C169,0)*100),0))))","v":0},{"$f":"IF(AM169=0,0,IF(AN$2=\"Year\",IF(_xlfn.MAXIFS($N169:AM169,$N$2:AM$2,\"Year\")+$E169<=$E$1,AK169+$E169,0),IF(AN$2=\"Repair %\",IF(AK169>0,$C169,0),IF(AN$2=\"Spares %\",IF(IF(AI169>0,$C169,0)*5>80%,50%,IF(AI169>0,$C169,0)*5),0))))","v":0},{"$f":"IF(AN169=0,0,IF(AO$2=\"Year\",IF(_xlfn.MAXIFS($N169:AN169,$N$2:AN$2,\"Year\")+$E169<=$E$1,AL169+$E169,0),IF(AO$2=\"Repair %\",IF(AL169>0,$C$3,0),IF(AO$2=\"Spares %\",IF(IF(AL169>0,$C169,0)*100>50%,50%,IF(AL169>0,$C169,0)*100),0))))","v":0},{"$f":"IF(AO169=0,0,IF(AP$2=\"Year\",IF(_xlfn.MAXIFS($N169:AO169,$N$2:AO$2,\"Year\")+$E169<=$E$1,AM169+$E169,0),IF(AP$2=\"Repair %\",IF(AM169>0,$C169,0),IF(AP$2=\"Spares %\",IF(IF(AM169>0,$C169,0)*100>50%,50%,IF(AM169>0,$C169,0)*100),0))))","v":0},{"$f":"IF(AP169=0,0,IF(AQ$2=\"Year\",IF(_xlfn.MAXIFS($N169:AP169,$N$2:AP$2,\"Year\")+$E169<=$E$1,AN169+$E169,0),IF(AQ$2=\"Repair %\",IF(AN169>0,$C169,0),IF(AQ$2=\"Spares %\",IF(IF(AL169>0,$C169,0)*5>80%,50%,IF(AL169>0,$C169,0)*5),0))))","v":0}]
[{"$f":"INDEX('Avionics ID'!A:E,MATCH(B170,'Avionics ID'!E:E,0),1)","v":854},"Target data acquisition",0.05,0.06,20,"Obsolecence",{"$f":"SUBSTITUTE(ADDRESS(1,MATCH(A170,'Pt1-AvionicsComponentCosts'!$A$6:$NC$6,0)+1),\"$1\",\"\")","v":"$BX"},{"$f":"_xlfn.TEXTJOIN(\", \",TRUE,_xlfn.UNIQUE(_xlfn._xlws.SORT(_xlfn._xlws.FILTER('Pt1-AvionicsComponentCosts'!$NF$12:$NF$384,ISNUMBER(INDIRECT(\"'Pt1-AvionicsComponentCosts'!\"&G170&\"$12:\"&G170&\"$384\"))))))","v":"Attack Helo, Helo"},null,0.06,0.05,0.501,1.2969999999999999,{"$f":"COUNTIF($N$2:N$2,\"Year\")*$G$1","v":10},null,0,{"$f":"COUNTIF($N$2:Q$2,\"Year\")*$G$1","v":20},{"$f":"IF(Q170=0,0,IF(R$2=\"Year\",IF(_xlfn.MAXIFS($N170:Q170,$N$2:Q$2,\"Year\")+$E170<=$E$1,O170+$E170,0),IF(R$2=\"Repair %\",IF(O170>0,$C170,0),IF(R$2=\"Spares %\",IF(IF(O170>0,$C170,0)*100>50%,50%,IF(O170>0,$C170,0)*100),0))))","v":0},1,{"$f":"COUNTIF($N$2:T$2,\"Year\")*$G$1","v":30},{"$f":"IF(T170=0,0,IF(U$2=\"Year\",IF(_xlfn.MAXIFS($N170:T170,$N$2:T$2,\"Year\")+$E170<=$E$1,R170+$E170,0),IF(U$2=\"Repair %\",IF(R170>0,$C170,0),IF(U$2=\"Spares %\",IF(IF(R170>0,$C170,0)*100>50%,50%,IF(R170>0,$C170,0)*100),0))))","v":0},0,{"$f":"COUNTIF($N$2:W$2,\"Year\")*$G$1","v":40},{"$f":"IF(W170=0,0,IF(X$2=\"Year\",IF(_xlfn.MAXIFS($N170:W170,$N$2:W$2,\"Year\")+$E170<=$E$1,U170+$E170,0),IF(X$2=\"Repair %\",IF(U170>0,$C170,0),IF(X$2=\"Spares %\",IF(IF(U170>0,$C170,0)*100>50%,50%,IF(U170>0,$C170,0)*100),0))))","v":0},1,{"$f":"IF(Y170=0,0,IF(Z$2=\"Year\",IF(_xlfn.MAXIFS($N170:Y170,$N$2:Y$2,\"Year\")+$E170<=$E$1,W170+$E170,0),IF(Z$2=\"Repair %\",IF(W170>0,$C$3,0),IF(Z$2=\"Spares %\",IF(IF(W170>0,$C170,0)*100>50%,50%,IF(W170>0,$C170,0)*100),0))))","v":0},{"$f":"IF(Z170=0,0,IF(AA$2=\"Year\",IF(_xlfn.MAXIFS($N170:Z170,$N$2:Z$2,\"Year\")+$E170<=$E$1,X170+$E170,0),IF(AA$2=\"Repair %\",IF(X170>0,$C170,0),IF(AA$2=\"Spares %\",IF(IF(X170>0,$C170,0)*100>50%,50%,IF(X170>0,$C170,0)*100),0))))","v":0},{"$f":"IF(AA170=0,0,IF(AB$2=\"Year\",IF(_xlfn.MAXIFS($N170:AA170,$N$2:AA$2,\"Year\")+$E170<=$E$1,Y170+$E170,0),IF(AB$2=\"Repair %\",IF(Y170>0,$C170,0),IF(AB$2=\"Spares %\",IF(IF(W170>0,$C170,0)*5>80%,50%,IF(W170>0,$C170,0)*5),0))))","v":0},{"$f":"IF(AB170=0,0,IF(AC$2=\"Year\",IF(_xlfn.MAXIFS($N170:AB170,$N$2:AB$2,\"Year\")+$E170<=$E$1,Z170+$E170,0),IF(AC$2=\"Repair %\",IF(Z170>0,$C$3,0),IF(AC$2=\"Spares %\",IF(IF(Z170>0,$C170,0)*100>50%,50%,IF(Z170>0,$C170,0)*100),0))))","v":0},{"$f":"IF(AC170=0,0,IF(AD$2=\"Year\",IF(_xlfn.MAXIFS($N170:AC170,$N$2:AC$2,\"Year\")+$E170<=$E$1,AA170+$E170,0),IF(AD$2=\"Repair %\",IF(AA170>0,$C170,0),IF(AD$2=\"Spares %\",IF(IF(AA170>0,$C170,0)*100>50%,50%,IF(AA170>0,$C170,0)*100),0))))","v":0},{"$f":"IF(AD170=0,0,IF(AE$2=\"Year\",IF(_xlfn.MAXIFS($N170:AD170,$N$2:AD$2,\"Year\")+$E170<=$E$1,AB170+$E170,0),IF(AE$2=\"Repair %\",IF(AB170>0,$C170,0),IF(AE$2=\"Spares %\",IF(IF(Z170>0,$C170,0)*5>80%,50%,IF(Z170>0,$C170,0)*5),0))))","v":0},{"$f":"IF(AE170=0,0,IF(AF$2=\"Year\",IF(_xlfn.MAXIFS($N170:AE170,$N$2:AE$2,\"Year\")+$E170<=$E$1,AC170+$E170,0),IF(AF$2=\"Repair %\",IF(AC170>0,$C$3,0),IF(AF$2=\"Spares %\",IF(IF(AC170>0,$C170,0)*100>50%,50%,IF(AC170>0,$C170,0)*100),0))))","v":0},{"$f":"IF(AF170=0,0,IF(AG$2=\"Year\",IF(_xlfn.MAXIFS($N170:AF170,$N$2:AF$2,\"Year\")+$E170<=$E$1,AD170+$E170,0),IF(AG$2=\"Repair %\",IF(AD170>0,$C170,0),IF(AG$2=\"Spares %\",IF(IF(AD170>0,$C170,0)*100>50%,50%,IF(AD170>0,$C170,0)*100),0))))","v":0},{"$f":"IF(AG170=0,0,IF(AH$2=\"Year\",IF(_xlfn.MAXIFS($N170:AG170,$N$2:AG$2,\"Year\")+$E170<=$E$1,AE170+$E170,0),IF(AH$2=\"Repair %\",IF(AE170>0,$C170,0),IF(AH$2=\"Spares %\",IF(IF(AC170>0,$C170,0)*5>80%,50%,IF(AC170>0,$C170,0)*5),0))))","v":0},{"$f":"IF(AH170=0,0,IF(AI$2=\"Year\",IF(_xlfn.MAXIFS($N170:AH170,$N$2:AH$2,\"Year\")+$E170<=$E$1,AF170+$E170,0),IF(AI$2=\"Repair %\",IF(AF170>0,$C$3,0),IF(AI$2=\"Spares %\",IF(IF(AF170>0,$C170,0)*100>50%,50%,IF(AF170>0,$C170,0)*100),0))))","v":0},{"$f":"IF(AI170=0,0,IF(AJ$2=\"Year\",IF(_xlfn.MAXIFS($N170:AI170,$N$2:AI$2,\"Year\")+$E170<=$E$1,AG170+$E170,0),IF(AJ$2=\"Repair %\",IF(AG170>0,$C170,0),IF(AJ$2=\"Spares %\",IF(IF(AG170>0,$C170,0)*100>50%,50%,IF(AG170>0,$C170,0)*100),0))))","v":0},{"$f":"IF(AJ170=0,0,IF(AK$2=\"Year\",IF(_xlfn.MAXIFS($N170:AJ170,$N$2:AJ$2,\"Year\")+$E170<=$E$1,AH170+$E170,0),IF(AK$2=\"Repair %\",IF(AH170>0,$C170,0),IF(AK$2=\"Spares %\",IF(IF(AF170>0,$C170,0)*5>80%,50%,IF(AF170>0,$C170,0)*5),0))))","v":0},{"$f":"IF(AK170=0,0,IF(AL$2=\"Year\",IF(_xlfn.MAXIFS($N170:AK170,$N$2:AK$2,\"Year\")+$E170<=$E$1,AI170+$E170,0),IF(AL$2=\"Repair %\",IF(AI170>0,$C$3,0),IF(AL$2=\"Spares %\",IF(IF(AI170>0,$C170,0)*100>50%,50%,IF(AI170>0,$C170,0)*100),0))))","v":0},{"$f":"IF(AL170=0,0,IF(AM$2=\"Year\",IF(_xlfn.MAXIFS($N170:AL170,$N$2:AL$2,\"Year\")+$E170<=$E$1,AJ170+$E170,0),IF(AM$2=\"Repair %\",IF(AJ170>0,$C170,0),IF(AM$2=\"Spares %\",IF(IF(AJ170>0,$C170,0)*100>50%,50%,IF(AJ170>0,$C170,0)*100),0))))","v":0},{"$f":"IF(AM170=0,0,IF(AN$2=\"Year\",IF(_xlfn.MAXIFS($N170:AM170,$N$2:AM$2,\"Year\")+$E170<=$E$1,AK170+$E170,0),IF(AN$2=\"Repair %\",IF(AK170>0,$C170,0),IF(AN$2=\"Spares %\",IF(IF(AI170>0,$C170,0)*5>80%,50%,IF(AI170>0,$C170,0)*5),0))))","v":0},{"$f":"IF(AN170=0,0,IF(AO$2=\"Year\",IF(_xlfn.MAXIFS($N170:AN170,$N$2:AN$2,\"Year\")+$E170<=$E$1,AL170+$E170,0),IF(AO$2=\"Repair %\",IF(AL170>0,$C$3,0),IF(AO$2=\"Spares %\",IF(IF(AL170>0,$C170,0)*100>50%,50%,IF(AL170>0,$C170,0)*100),0))))","v":0},{"$f":"IF(AO170=0,0,IF(AP$2=\"Year\",IF(_xlfn.MAXIFS($N170:AO170,$N$2:AO$2,\"Year\")+$E170<=$E$1,AM170+$E170,0),IF(AP$2=\"Repair %\",IF(AM170>0,$C170,0),IF(AP$2=\"Spares %\",IF(IF(AM170>0,$C170,0)*100>50%,50%,IF(AM170>0,$C170,0)*100),0))))","v":0},{"$f":"IF(AP170=0,0,IF(AQ$2=\"Year\",IF(_xlfn.MAXIFS($N170:AP170,$N$2:AP$2,\"Year\")+$E170<=$E$1,AN170+$E170,0),IF(AQ$2=\"Repair %\",IF(AN170>0,$C170,0),IF(AQ$2=\"Spares %\",IF(IF(AL170>0,$C170,0)*5>80%,50%,IF(AL170>0,$C170,0)*5),0))))","v":0}]
[{"$f":"INDEX('Avionics ID'!A:E,MATCH(B171,'Avionics ID'!E:E,0),1)","v":750},"TCAS antennas",0,0.2,null,"",{"$f":"SUBSTITUTE(ADDRESS(1,MATCH(A171,'Pt1-AvionicsComponentCosts'!$A$6:$NC$6,0)+1),\"$1\",\"\")","v":"$MX"},{"$f":"_xlfn.TEXTJOIN(\", \",TRUE,_xlfn.UNIQUE(_xlfn._xlws.SORT(_xlfn._xlws.FILTER('Pt1-AvionicsComponentCosts'!$NF$12:$NF$384,ISNUMBER(INDIRECT(\"'Pt1-AvionicsComponentCosts'!\"&G171&\"$12:\"&G171&\"$384\"))))))","v":"A320, A321, ATR, B737, B757, Challenger, Citation, E550, EMB Bizjet, EMB Regional, Falcon, Global, Gulfstream, Hawker, Hondajet, Learjet, Mil Transport, Military Jet, Nextant 400XT, PC-24, Phenom, Praetor, SF50"},null,0.2,0,0.44800000000000001,1.298,{"$f":"COUNTIF($N$2:N$2,\"Year\")*$G$1","v":10},null,0,{"$f":"COUNTIF($N$2:Q$2,\"Year\")*$G$1","v":20},{"$f":"IF(Q171=0,0,IF(R$2=\"Year\",IF(_xlfn.MAXIFS($N171:Q171,$N$2:Q$2,\"Year\")+$E171<=$E$1,O171+$E171,0),IF(R$2=\"Repair %\",IF(O171>0,$C171,0),IF(R$2=\"Spares %\",IF(IF(O171>0,$C171,0)*100>50%,50%,IF(O171>0,$C171,0)*100),0))))","v":0},0,{"$f":"COUNTIF($N$2:T$2,\"Year\")*$G$1","v":30},{"$f":"IF(T171=0,0,IF(U$2=\"Year\",IF(_xlfn.MAXIFS($N171:T171,$N$2:T$2,\"Year\")+$E171<=$E$1,R171+$E171,0),IF(U$2=\"Repair %\",IF(R171>0,$C171,0),IF(U$2=\"Spares %\",IF(IF(R171>0,$C171,0)*100>50%,50%,IF(R171>0,$C171,0)*100),0))))","v":0},0,{"$f":"COUNTIF($N$2:W$2,\"Year\")*$G$1","v":40},{"$f":"IF(W171=0,0,IF(X$2=\"Year\",IF(_xlfn.MAXIFS($N171:W171,$N$2:W$2,\"Year\")+$E171<=$E$1,U171+$E171,0),IF(X$2=\"Repair %\",IF(U171>0,$C171,0),IF(X$2=\"Spares %\",IF(IF(U171>0,$C171,0)*100>50%,50%,IF(U171>0,$C171,0)*100),0))))","v":0},0,{"$f":"IF(Y171=0,0,IF(Z$2=\"Year\",IF(_xlfn.MAXIFS($N171:Y171,$N$2:Y$2,\"Year\")+$E171<=$E$1,W171+$E171,0),IF(Z$2=\"Repair %\",IF(W171>0,$C$3,0),IF(Z$2=\"Spares %\",IF(IF(W171>0,$C171,0)*100>50%,50%,IF(W171>0,$C171,0)*100),0))))","v":0},{"$f":"IF(Z171=0,0,IF(AA$2=\"Year\",IF(_xlfn.MAXIFS($N171:Z171,$N$2:Z$2,\"Year\")+$E171<=$E$1,X171+$E171,0),IF(AA$2=\"Repair %\",IF(X171>0,$C171,0),IF(AA$2=\"Spares %\",IF(IF(X171>0,$C171,0)*100>50%,50%,IF(X171>0,$C171,0)*100),0))))","v":0},{"$f":"IF(AA171=0,0,IF(AB$2=\"Year\",IF(_xlfn.MAXIFS($N171:AA171,$N$2:AA$2,\"Year\")+$E171<=$E$1,Y171+$E171,0),IF(AB$2=\"Repair %\",IF(Y171>0,$C171,0),IF(AB$2=\"Spares %\",IF(IF(W171>0,$C171,0)*5>80%,50%,IF(W171>0,$C171,0)*5),0))))","v":0},{"$f":"IF(AB171=0,0,IF(AC$2=\"Year\",IF(_xlfn.MAXIFS($N171:AB171,$N$2:AB$2,\"Year\")+$E171<=$E$1,Z171+$E171,0),IF(AC$2=\"Repair %\",IF(Z171>0,$C$3,0),IF(AC$2=\"Spares %\",IF(IF(Z171>0,$C171,0)*100>50%,50%,IF(Z171>0,$C171,0)*100),0))))","v":0},{"$f":"IF(AC171=0,0,IF(AD$2=\"Year\",IF(_xlfn.MAXIFS($N171:AC171,$N$2:AC$2,\"Year\")+$E171<=$E$1,AA171+$E171,0),IF(AD$2=\"Repair %\",IF(AA171>0,$C171,0),IF(AD$2=\"Spares %\",IF(IF(AA171>0,$C171,0)*100>50%,50%,IF(AA171>0,$C171,0)*100),0))))","v":0},{"$f":"IF(AD171=0,0,IF(AE$2=\"Year\",IF(_xlfn.MAXIFS($N171:AD171,$N$2:AD$2,\"Year\")+$E171<=$E$1,AB171+$E171,0),IF(AE$2=\"Repair %\",IF(AB171>0,$C171,0),IF(AE$2=\"Spares %\",IF(IF(Z171>0,$C171,0)*5>80%,50%,IF(Z171>0,$C171,0)*5),0))))","v":0},{"$f":"IF(AE171=0,0,IF(AF$2=\"Year\",IF(_xlfn.MAXIFS($N171:AE171,$N$2:AE$2,\"Year\")+$E171<=$E$1,AC171+$E171,0),IF(AF$2=\"Repair %\",IF(AC171>0,$C$3,0),IF(AF$2=\"Spares %\",IF(IF(AC171>0,$C171,0)*100>50%,50%,IF(AC171>0,$C171,0)*100),0))))","v":0},{"$f":"IF(AF171=0,0,IF(AG$2=\"Year\",IF(_xlfn.MAXIFS($N171:AF171,$N$2:AF$2,\"Year\")+$E171<=$E$1,AD171+$E171,0),IF(AG$2=\"Repair %\",IF(AD171>0,$C171,0),IF(AG$2=\"Spares %\",IF(IF(AD171>0,$C171,0)*100>50%,50%,IF(AD171>0,$C171,0)*100),0))))","v":0},{"$f":"IF(AG171=0,0,IF(AH$2=\"Year\",IF(_xlfn.MAXIFS($N171:AG171,$N$2:AG$2,\"Year\")+$E171<=$E$1,AE171+$E171,0),IF(AH$2=\"Repair %\",IF(AE171>0,$C171,0),IF(AH$2=\"Spares %\",IF(IF(AC171>0,$C171,0)*5>80%,50%,IF(AC171>0,$C171,0)*5),0))))","v":0},{"$f":"IF(AH171=0,0,IF(AI$2=\"Year\",IF(_xlfn.MAXIFS($N171:AH171,$N$2:AH$2,\"Year\")+$E171<=$E$1,AF171+$E171,0),IF(AI$2=\"Repair %\",IF(AF171>0,$C$3,0),IF(AI$2=\"Spares %\",IF(IF(AF171>0,$C171,0)*100>50%,50%,IF(AF171>0,$C171,0)*100),0))))","v":0},{"$f":"IF(AI171=0,0,IF(AJ$2=\"Year\",IF(_xlfn.MAXIFS($N171:AI171,$N$2:AI$2,\"Year\")+$E171<=$E$1,AG171+$E171,0),IF(AJ$2=\"Repair %\",IF(AG171>0,$C171,0),IF(AJ$2=\"Spares %\",IF(IF(AG171>0,$C171,0)*100>50%,50%,IF(AG171>0,$C171,0)*100),0))))","v":0},{"$f":"IF(AJ171=0,0,IF(AK$2=\"Year\",IF(_xlfn.MAXIFS($N171:AJ171,$N$2:AJ$2,\"Year\")+$E171<=$E$1,AH171+$E171,0),IF(AK$2=\"Repair %\",IF(AH171>0,$C171,0),IF(AK$2=\"Spares %\",IF(IF(AF171>0,$C171,0)*5>80%,50%,IF(AF171>0,$C171,0)*5),0))))","v":0},{"$f":"IF(AK171=0,0,IF(AL$2=\"Year\",IF(_xlfn.MAXIFS($N171:AK171,$N$2:AK$2,\"Year\")+$E171<=$E$1,AI171+$E171,0),IF(AL$2=\"Repair %\",IF(AI171>0,$C$3,0),IF(AL$2=\"Spares %\",IF(IF(AI171>0,$C171,0)*100>50%,50%,IF(AI171>0,$C171,0)*100),0))))","v":0},{"$f":"IF(AL171=0,0,IF(AM$2=\"Year\",IF(_xlfn.MAXIFS($N171:AL171,$N$2:AL$2,\"Year\")+$E171<=$E$1,AJ171+$E171,0),IF(AM$2=\"Repair %\",IF(AJ171>0,$C171,0),IF(AM$2=\"Spares %\",IF(IF(AJ171>0,$C171,0)*100>50%,50%,IF(AJ171>0,$C171,0)*100),0))))","v":0},{"$f":"IF(AM171=0,0,IF(AN$2=\"Year\",IF(_xlfn.MAXIFS($N171:AM171,$N$2:AM$2,\"Year\")+$E171<=$E$1,AK171+$E171,0),IF(AN$2=\"Repair %\",IF(AK171>0,$C171,0),IF(AN$2=\"Spares %\",IF(IF(AI171>0,$C171,0)*5>80%,50%,IF(AI171>0,$C171,0)*5),0))))","v":0},{"$f":"IF(AN171=0,0,IF(AO$2=\"Year\",IF(_xlfn.MAXIFS($N171:AN171,$N$2:AN$2,\"Year\")+$E171<=$E$1,AL171+$E171,0),IF(AO$2=\"Repair %\",IF(AL171>0,$C$3,0),IF(AO$2=\"Spares %\",IF(IF(AL171>0,$C171,0)*100>50%,50%,IF(AL171>0,$C171,0)*100),0))))","v":0},{"$f":"IF(AO171=0,0,IF(AP$2=\"Year\",IF(_xlfn.MAXIFS($N171:AO171,$N$2:AO$2,\"Year\")+$E171<=$E$1,AM171+$E171,0),IF(AP$2=\"Repair %\",IF(AM171>0,$C171,0),IF(AP$2=\"Spares %\",IF(IF(AM171>0,$C171,0)*100>50%,50%,IF(AM171>0,$C171,0)*100),0))))","v":0},{"$f":"IF(AP171=0,0,IF(AQ$2=\"Year\",IF(_xlfn.MAXIFS($N171:AP171,$N$2:AP$2,\"Year\")+$E171<=$E$1,AN171+$E171,0),IF(AQ$2=\"Repair %\",IF(AN171>0,$C171,0),IF(AQ$2=\"Spares %\",IF(IF(AL171>0,$C171,0)*5>80%,50%,IF(AL171>0,$C171,0)*5),0))))","v":0}]
[{"$f":"INDEX('Avionics ID'!A:E,MATCH(B172,'Avionics ID'!E:E,0),1)","v":749},"TCAS computer",0.1,0.06,10,"Obsolecence",{"$f":"SUBSTITUTE(ADDRESS(1,MATCH(A172,'Pt1-AvionicsComponentCosts'!$A$6:$NC$6,0)+1),\"$1\",\"\")","v":"$MZ"},{"$f":"_xlfn.TEXTJOIN(\", \",TRUE,_xlfn.UNIQUE(_xlfn._xlws.SORT(_xlfn._xlws.FILTER('Pt1-AvionicsComponentCosts'!$NF$12:$NF$384,ISNUMBER(INDIRECT(\"'Pt1-AvionicsComponentCosts'!\"&G172&\"$12:\"&G172&\"$384\"))))))","v":"A300, A320, A321, A330, A340, A350, ARJ, ATR, B737, B747, B757, B767, B777, B787, CRJ, EMB Regional, Helo, MD-11, Mil Fighter, Mil Transport, Military Jet, Reg TP, Superjet 100, TP Trainer, Turbine GA"},null,0.06,0.1,0.44800000000000001,1.298,{"$f":"COUNTIF($N$2:N$2,\"Year\")*$G$1","v":10},null,1,{"$f":"COUNTIF($N$2:Q$2,\"Year\")*$G$1","v":20},{"$f":"IF(Q172=0,0,IF(R$2=\"Year\",IF(_xlfn.MAXIFS($N172:Q172,$N$2:Q$2,\"Year\")+$E172<=$E$1,O172+$E172,0),IF(R$2=\"Repair %\",IF(O172>0,$C172,0),IF(R$2=\"Spares %\",IF(IF(O172>0,$C172,0)*100>50%,50%,IF(O172>0,$C172,0)*100),0))))","v":0},1,{"$f":"COUNTIF($N$2:T$2,\"Year\")*$G$1","v":30},{"$f":"IF(T172=0,0,IF(U$2=\"Year\",IF(_xlfn.MAXIFS($N172:T172,$N$2:T$2,\"Year\")+$E172<=$E$1,R172+$E172,0),IF(U$2=\"Repair %\",IF(R172>0,$C172,0),IF(U$2=\"Spares %\",IF(IF(R172>0,$C172,0)*100>50%,50%,IF(R172>0,$C172,0)*100),0))))","v":0},1,{"$f":"COUNTIF($N$2:W$2,\"Year\")*$G$1","v":40},{"$f":"IF(W172=0,0,IF(X$2=\"Year\",IF(_xlfn.MAXIFS($N172:W172,$N$2:W$2,\"Year\")+$E172<=$E$1,U172+$E172,0),IF(X$2=\"Repair %\",IF(U172>0,$C172,0),IF(X$2=\"Spares %\",IF(IF(U172>0,$C172,0)*100>50%,50%,IF(U172>0,$C172,0)*100),0))))","v":0},1,{"$f":"IF(Y172=0,0,IF(Z$2=\"Year\",IF(_xlfn.MAXIFS($N172:Y172,$N$2:Y$2,\"Year\")+$E172<=$E$1,W172+$E172,0),IF(Z$2=\"Repair %\",IF(W172>0,$C$3,0),IF(Z$2=\"Spares %\",IF(IF(W172>0,$C172,0)*100>50%,50%,IF(W172>0,$C172,0)*100),0))))","v":0},{"$f":"IF(Z172=0,0,IF(AA$2=\"Year\",IF(_xlfn.MAXIFS($N172:Z172,$N$2:Z$2,\"Year\")+$E172<=$E$1,X172+$E172,0),IF(AA$2=\"Repair %\",IF(X172>0,$C172,0),IF(AA$2=\"Spares %\",IF(IF(X172>0,$C172,0)*100>50%,50%,IF(X172>0,$C172,0)*100),0))))","v":0},{"$f":"IF(AA172=0,0,IF(AB$2=\"Year\",IF(_xlfn.MAXIFS($N172:AA172,$N$2:AA$2,\"Year\")+$E172<=$E$1,Y172+$E172,0),IF(AB$2=\"Repair %\",IF(Y172>0,$C172,0),IF(AB$2=\"Spares %\",IF(IF(W172>0,$C172,0)*5>80%,50%,IF(W172>0,$C172,0)*5),0))))","v":0},{"$f":"IF(AB172=0,0,IF(AC$2=\"Year\",IF(_xlfn.MAXIFS($N172:AB172,$N$2:AB$2,\"Year\")+$E172<=$E$1,Z172+$E172,0),IF(AC$2=\"Repair %\",IF(Z172>0,$C$3,0),IF(AC$2=\"Spares %\",IF(IF(Z172>0,$C172,0)*100>50%,50%,IF(Z172>0,$C172,0)*100),0))))","v":0},{"$f":"IF(AC172=0,0,IF(AD$2=\"Year\",IF(_xlfn.MAXIFS($N172:AC172,$N$2:AC$2,\"Year\")+$E172<=$E$1,AA172+$E172,0),IF(AD$2=\"Repair %\",IF(AA172>0,$C172,0),IF(AD$2=\"Spares %\",IF(IF(AA172>0,$C172,0)*100>50%,50%,IF(AA172>0,$C172,0)*100),0))))","v":0},{"$f":"IF(AD172=0,0,IF(AE$2=\"Year\",IF(_xlfn.MAXIFS($N172:AD172,$N$2:AD$2,\"Year\")+$E172<=$E$1,AB172+$E172,0),IF(AE$2=\"Repair %\",IF(AB172>0,$C172,0),IF(AE$2=\"Spares %\",IF(IF(Z172>0,$C172,0)*5>80%,50%,IF(Z172>0,$C172,0)*5),0))))","v":0},{"$f":"IF(AE172=0,0,IF(AF$2=\"Year\",IF(_xlfn.MAXIFS($N172:AE172,$N$2:AE$2,\"Year\")+$E172<=$E$1,AC172+$E172,0),IF(AF$2=\"Repair %\",IF(AC172>0,$C$3,0),IF(AF$2=\"Spares %\",IF(IF(AC172>0,$C172,0)*100>50%,50%,IF(AC172>0,$C172,0)*100),0))))","v":0},{"$f":"IF(AF172=0,0,IF(AG$2=\"Year\",IF(_xlfn.MAXIFS($N172:AF172,$N$2:AF$2,\"Year\")+$E172<=$E$1,AD172+$E172,0),IF(AG$2=\"Repair %\",IF(AD172>0,$C172,0),IF(AG$2=\"Spares %\",IF(IF(AD172>0,$C172,0)*100>50%,50%,IF(AD172>0,$C172,0)*100),0))))","v":0},{"$f":"IF(AG172=0,0,IF(AH$2=\"Year\",IF(_xlfn.MAXIFS($N172:AG172,$N$2:AG$2,\"Year\")+$E172<=$E$1,AE172+$E172,0),IF(AH$2=\"Repair %\",IF(AE172>0,$C172,0),IF(AH$2=\"Spares %\",IF(IF(AC172>0,$C172,0)*5>80%,50%,IF(AC172>0,$C172,0)*5),0))))","v":0},{"$f":"IF(AH172=0,0,IF(AI$2=\"Year\",IF(_xlfn.MAXIFS($N172:AH172,$N$2:AH$2,\"Year\")+$E172<=$E$1,AF172+$E172,0),IF(AI$2=\"Repair %\",IF(AF172>0,$C$3,0),IF(AI$2=\"Spares %\",IF(IF(AF172>0,$C172,0)*100>50%,50%,IF(AF172>0,$C172,0)*100),0))))","v":0},{"$f":"IF(AI172=0,0,IF(AJ$2=\"Year\",IF(_xlfn.MAXIFS($N172:AI172,$N$2:AI$2,\"Year\")+$E172<=$E$1,AG172+$E172,0),IF(AJ$2=\"Repair %\",IF(AG172>0,$C172,0),IF(AJ$2=\"Spares %\",IF(IF(AG172>0,$C172,0)*100>50%,50%,IF(AG172>0,$C172,0)*100),0))))","v":0},{"$f":"IF(AJ172=0,0,IF(AK$2=\"Year\",IF(_xlfn.MAXIFS($N172:AJ172,$N$2:AJ$2,\"Year\")+$E172<=$E$1,AH172+$E172,0),IF(AK$2=\"Repair %\",IF(AH172>0,$C172,0),IF(AK$2=\"Spares %\",IF(IF(AF172>0,$C172,0)*5>80%,50%,IF(AF172>0,$C172,0)*5),0))))","v":0},{"$f":"IF(AK172=0,0,IF(AL$2=\"Year\",IF(_xlfn.MAXIFS($N172:AK172,$N$2:AK$2,\"Year\")+$E172<=$E$1,AI172+$E172,0),IF(AL$2=\"Repair %\",IF(AI172>0,$C$3,0),IF(AL$2=\"Spares %\",IF(IF(AI172>0,$C172,0)*100>50%,50%,IF(AI172>0,$C172,0)*100),0))))","v":0},{"$f":"IF(AL172=0,0,IF(AM$2=\"Year\",IF(_xlfn.MAXIFS($N172:AL172,$N$2:AL$2,\"Year\")+$E172<=$E$1,AJ172+$E172,0),IF(AM$2=\"Repair %\",IF(AJ172>0,$C172,0),IF(AM$2=\"Spares %\",IF(IF(AJ172>0,$C172,0)*100>50%,50%,IF(AJ172>0,$C172,0)*100),0))))","v":0},{"$f":"IF(AM172=0,0,IF(AN$2=\"Year\",IF(_xlfn.MAXIFS($N172:AM172,$N$2:AM$2,\"Year\")+$E172<=$E$1,AK172+$E172,0),IF(AN$2=\"Repair %\",IF(AK172>0,$C172,0),IF(AN$2=\"Spares %\",IF(IF(AI172>0,$C172,0)*5>80%,50%,IF(AI172>0,$C172,0)*5),0))))","v":0},{"$f":"IF(AN172=0,0,IF(AO$2=\"Year\",IF(_xlfn.MAXIFS($N172:AN172,$N$2:AN$2,\"Year\")+$E172<=$E$1,AL172+$E172,0),IF(AO$2=\"Repair %\",IF(AL172>0,$C$3,0),IF(AO$2=\"Spares %\",IF(IF(AL172>0,$C172,0)*100>50%,50%,IF(AL172>0,$C172,0)*100),0))))","v":0},{"$f":"IF(AO172=0,0,IF(AP$2=\"Year\",IF(_xlfn.MAXIFS($N172:AO172,$N$2:AO$2,\"Year\")+$E172<=$E$1,AM172+$E172,0),IF(AP$2=\"Repair %\",IF(AM172>0,$C172,0),IF(AP$2=\"Spares %\",IF(IF(AM172>0,$C172,0)*100>50%,50%,IF(AM172>0,$C172,0)*100),0))))","v":0},{"$f":"IF(AP172=0,0,IF(AQ$2=\"Year\",IF(_xlfn.MAXIFS($N172:AP172,$N$2:AP$2,\"Year\")+$E172<=$E$1,AN172+$E172,0),IF(AQ$2=\"Repair %\",IF(AN172>0,$C172,0),IF(AQ$2=\"Spares %\",IF(IF(AL172>0,$C172,0)*5>80%,50%,IF(AL172>0,$C172,0)*5),0))))","v":0}]
[{"$f":"INDEX('Avionics ID'!A:E,MATCH(B173,'Avionics ID'!E:E,0),1)","v":751},"TCAS control panel",0,0.1,null,"",{"$f":"SUBSTITUTE(ADDRESS(1,MATCH(A173,'Pt1-AvionicsComponentCosts'!$A$6:$NC$6,0)+1),\"$1\",\"\")","v":"$NB"},{"$f":"_xlfn.TEXTJOIN(\", \",TRUE,_xlfn.UNIQUE(_xlfn._xlws.SORT(_xlfn._xlws.FILTER('Pt1-AvionicsComponentCosts'!$NF$12:$NF$384,ISNUMBER(INDIRECT(\"'Pt1-AvionicsComponentCosts'!\"&G173&\"$12:\"&G173&\"$384\"))))))","v":"A300, A320, A321, A330, A340, A350, ATR, B737, B747, B757, B767, B777, B787, EMB Regional, MD-11, Mil Transport, Military Jet"},null,0.1,0,0.44800000000000001,1.298,{"$f":"COUNTIF($N$2:N$2,\"Year\")*$G$1","v":10},null,0,{"$f":"COUNTIF($N$2:Q$2,\"Year\")*$G$1","v":20},{"$f":"IF(Q173=0,0,IF(R$2=\"Year\",IF(_xlfn.MAXIFS($N173:Q173,$N$2:Q$2,\"Year\")+$E173<=$E$1,O173+$E173,0),IF(R$2=\"Repair %\",IF(O173>0,$C173,0),IF(R$2=\"Spares %\",IF(IF(O173>0,$C173,0)*100>50%,50%,IF(O173>0,$C173,0)*100),0))))","v":0},0,{"$f":"COUNTIF($N$2:T$2,\"Year\")*$G$1","v":30},{"$f":"IF(T173=0,0,IF(U$2=\"Year\",IF(_xlfn.MAXIFS($N173:T173,$N$2:T$2,\"Year\")+$E173<=$E$1,R173+$E173,0),IF(U$2=\"Repair %\",IF(R173>0,$C173,0),IF(U$2=\"Spares %\",IF(IF(R173>0,$C173,0)*100>50%,50%,IF(R173>0,$C173,0)*100),0))))","v":0},0,{"$f":"COUNTIF($N$2:W$2,\"Year\")*$G$1","v":40},{"$f":"IF(W173=0,0,IF(X$2=\"Year\",IF(_xlfn.MAXIFS($N173:W173,$N$2:W$2,\"Year\")+$E173<=$E$1,U173+$E173,0),IF(X$2=\"Repair %\",IF(U173>0,$C173,0),IF(X$2=\"Spares %\",IF(IF(U173>0,$C173,0)*100>50%,50%,IF(U173>0,$C173,0)*100),0))))","v":0},0,{"$f":"IF(Y173=0,0,IF(Z$2=\"Year\",IF(_xlfn.MAXIFS($N173:Y173,$N$2:Y$2,\"Year\")+$E173<=$E$1,W173+$E173,0),IF(Z$2=\"Repair %\",IF(W173>0,$C$3,0),IF(Z$2=\"Spares %\",IF(IF(W173>0,$C173,0)*100>50%,50%,IF(W173>0,$C173,0)*100),0))))","v":0},{"$f":"IF(Z173=0,0,IF(AA$2=\"Year\",IF(_xlfn.MAXIFS($N173:Z173,$N$2:Z$2,\"Year\")+$E173<=$E$1,X173+$E173,0),IF(AA$2=\"Repair %\",IF(X173>0,$C173,0),IF(AA$2=\"Spares %\",IF(IF(X173>0,$C173,0)*100>50%,50%,IF(X173>0,$C173,0)*100),0))))","v":0},{"$f":"IF(AA173=0,0,IF(AB$2=\"Year\",IF(_xlfn.MAXIFS($N173:AA173,$N$2:AA$2,\"Year\")+$E173<=$E$1,Y173+$E173,0),IF(AB$2=\"Repair %\",IF(Y173>0,$C173,0),IF(AB$2=\"Spares %\",IF(IF(W173>0,$C173,0)*5>80%,50%,IF(W173>0,$C173,0)*5),0))))","v":0},{"$f":"IF(AB173=0,0,IF(AC$2=\"Year\",IF(_xlfn.MAXIFS($N173:AB173,$N$2:AB$2,\"Year\")+$E173<=$E$1,Z173+$E173,0),IF(AC$2=\"Repair %\",IF(Z173>0,$C$3,0),IF(AC$2=\"Spares %\",IF(IF(Z173>0,$C173,0)*100>50%,50%,IF(Z173>0,$C173,0)*100),0))))","v":0},{"$f":"IF(AC173=0,0,IF(AD$2=\"Year\",IF(_xlfn.MAXIFS($N173:AC173,$N$2:AC$2,\"Year\")+$E173<=$E$1,AA173+$E173,0),IF(AD$2=\"Repair %\",IF(AA173>0,$C173,0),IF(AD$2=\"Spares %\",IF(IF(AA173>0,$C173,0)*100>50%,50%,IF(AA173>0,$C173,0)*100),0))))","v":0},{"$f":"IF(AD173=0,0,IF(AE$2=\"Year\",IF(_xlfn.MAXIFS($N173:AD173,$N$2:AD$2,\"Year\")+$E173<=$E$1,AB173+$E173,0),IF(AE$2=\"Repair %\",IF(AB173>0,$C173,0),IF(AE$2=\"Spares %\",IF(IF(Z173>0,$C173,0)*5>80%,50%,IF(Z173>0,$C173,0)*5),0))))","v":0},{"$f":"IF(AE173=0,0,IF(AF$2=\"Year\",IF(_xlfn.MAXIFS($N173:AE173,$N$2:AE$2,\"Year\")+$E173<=$E$1,AC173+$E173,0),IF(AF$2=\"Repair %\",IF(AC173>0,$C$3,0),IF(AF$2=\"Spares %\",IF(IF(AC173>0,$C173,0)*100>50%,50%,IF(AC173>0,$C173,0)*100),0))))","v":0},{"$f":"IF(AF173=0,0,IF(AG$2=\"Year\",IF(_xlfn.MAXIFS($N173:AF173,$N$2:AF$2,\"Year\")+$E173<=$E$1,AD173+$E173,0),IF(AG$2=\"Repair %\",IF(AD173>0,$C173,0),IF(AG$2=\"Spares %\",IF(IF(AD173>0,$C173,0)*100>50%,50%,IF(AD173>0,$C173,0)*100),0))))","v":0},{"$f":"IF(AG173=0,0,IF(AH$2=\"Year\",IF(_xlfn.MAXIFS($N173:AG173,$N$2:AG$2,\"Year\")+$E173<=$E$1,AE173+$E173,0),IF(AH$2=\"Repair %\",IF(AE173>0,$C173,0),IF(AH$2=\"Spares %\",IF(IF(AC173>0,$C173,0)*5>80%,50%,IF(AC173>0,$C173,0)*5),0))))","v":0},{"$f":"IF(AH173=0,0,IF(AI$2=\"Year\",IF(_xlfn.MAXIFS($N173:AH173,$N$2:AH$2,\"Year\")+$E173<=$E$1,AF173+$E173,0),IF(AI$2=\"Repair %\",IF(AF173>0,$C$3,0),IF(AI$2=\"Spares %\",IF(IF(AF173>0,$C173,0)*100>50%,50%,IF(AF173>0,$C173,0)*100),0))))","v":0},{"$f":"IF(AI173=0,0,IF(AJ$2=\"Year\",IF(_xlfn.MAXIFS($N173:AI173,$N$2:AI$2,\"Year\")+$E173<=$E$1,AG173+$E173,0),IF(AJ$2=\"Repair %\",IF(AG173>0,$C173,0),IF(AJ$2=\"Spares %\",IF(IF(AG173>0,$C173,0)*100>50%,50%,IF(AG173>0,$C173,0)*100),0))))","v":0},{"$f":"IF(AJ173=0,0,IF(AK$2=\"Year\",IF(_xlfn.MAXIFS($N173:AJ173,$N$2:AJ$2,\"Year\")+$E173<=$E$1,AH173+$E173,0),IF(AK$2=\"Repair %\",IF(AH173>0,$C173,0),IF(AK$2=\"Spares %\",IF(IF(AF173>0,$C173,0)*5>80%,50%,IF(AF173>0,$C173,0)*5),0))))","v":0},{"$f":"IF(AK173=0,0,IF(AL$2=\"Year\",IF(_xlfn.MAXIFS($N173:AK173,$N$2:AK$2,\"Year\")+$E173<=$E$1,AI173+$E173,0),IF(AL$2=\"Repair %\",IF(AI173>0,$C$3,0),IF(AL$2=\"Spares %\",IF(IF(AI173>0,$C173,0)*100>50%,50%,IF(AI173>0,$C173,0)*100),0))))","v":0},{"$f":"IF(AL173=0,0,IF(AM$2=\"Year\",IF(_xlfn.MAXIFS($N173:AL173,$N$2:AL$2,\"Year\")+$E173<=$E$1,AJ173+$E173,0),IF(AM$2=\"Repair %\",IF(AJ173>0,$C173,0),IF(AM$2=\"Spares %\",IF(IF(AJ173>0,$C173,0)*100>50%,50%,IF(AJ173>0,$C173,0)*100),0))))","v":0},{"$f":"IF(AM173=0,0,IF(AN$2=\"Year\",IF(_xlfn.MAXIFS($N173:AM173,$N$2:AM$2,\"Year\")+$E173<=$E$1,AK173+$E173,0),IF(AN$2=\"Repair %\",IF(AK173>0,$C173,0),IF(AN$2=\"Spares %\",IF(IF(AI173>0,$C173,0)*5>80%,50%,IF(AI173>0,$C173,0)*5),0))))","v":0},{"$f":"IF(AN173=0,0,IF(AO$2=\"Year\",IF(_xlfn.MAXIFS($N173:AN173,$N$2:AN$2,\"Year\")+$E173<=$E$1,AL173+$E173,0),IF(AO$2=\"Repair %\",IF(AL173>0,$C$3,0),IF(AO$2=\"Spares %\",IF(IF(AL173>0,$C173,0)*100>50%,50%,IF(AL173>0,$C173,0)*100),0))))","v":0},{"$f":"IF(AO173=0,0,IF(AP$2=\"Year\",IF(_xlfn.MAXIFS($N173:AO173,$N$2:AO$2,\"Year\")+$E173<=$E$1,AM173+$E173,0),IF(AP$2=\"Repair %\",IF(AM173>0,$C173,0),IF(AP$2=\"Spares %\",IF(IF(AM173>0,$C173,0)*100>50%,50%,IF(AM173>0,$C173,0)*100),0))))","v":0},{"$f":"IF(AP173=0,0,IF(AQ$2=\"Year\",IF(_xlfn.MAXIFS($N173:AP173,$N$2:AP$2,\"Year\")+$E173<=$E$1,AN173+$E173,0),IF(AQ$2=\"Repair %\",IF(AN173>0,$C173,0),IF(AQ$2=\"Spares %\",IF(IF(AL173>0,$C173,0)*5>80%,50%,IF(AL173>0,$C173,0)*5),0))))","v":0}]
[{"$f":"INDEX('Avionics ID'!A:E,MATCH(B174,'Avionics ID'!E:E,0),1)","v":877},"UHF LOS antennas",0.05,0.1,20,"Obsolecence",{"$f":"SUBSTITUTE(ADDRESS(1,MATCH(A174,'Pt1-AvionicsComponentCosts'!$A$6:$NC$6,0)+1),\"$1\",\"\")","v":"$BZ"},{"$f":"_xlfn.TEXTJOIN(\", \",TRUE,_xlfn.UNIQUE(_xlfn._xlws.SORT(_xlfn._xlws.FILTER('Pt1-AvionicsComponentCosts'!$NF$12:$NF$384,ISNUMBER(INDIRECT(\"'Pt1-AvionicsComponentCosts'!\"&G174&\"$12:\"&G174&\"$384\"))))))","v":"UAV"},null,0.1,0.05,0.501,1.2969999999999999,{"$f":"COUNTIF($N$2:N$2,\"Year\")*$G$1","v":10},null,0,{"$f":"COUNTIF($N$2:Q$2,\"Year\")*$G$1","v":20},{"$f":"IF(Q174=0,0,IF(R$2=\"Year\",IF(_xlfn.MAXIFS($N174:Q174,$N$2:Q$2,\"Year\")+$E174<=$E$1,O174+$E174,0),IF(R$2=\"Repair %\",IF(O174>0,$C174,0),IF(R$2=\"Spares %\",IF(IF(O174>0,$C174,0)*100>50%,50%,IF(O174>0,$C174,0)*100),0))))","v":0},1,{"$f":"COUNTIF($N$2:T$2,\"Year\")*$G$1","v":30},{"$f":"IF(T174=0,0,IF(U$2=\"Year\",IF(_xlfn.MAXIFS($N174:T174,$N$2:T$2,\"Year\")+$E174<=$E$1,R174+$E174,0),IF(U$2=\"Repair %\",IF(R174>0,$C174,0),IF(U$2=\"Spares %\",IF(IF(R174>0,$C174,0)*100>50%,50%,IF(R174>0,$C174,0)*100),0))))","v":0},0,{"$f":"COUNTIF($N$2:W$2,\"Year\")*$G$1","v":40},{"$f":"IF(W174=0,0,IF(X$2=\"Year\",IF(_xlfn.MAXIFS($N174:W174,$N$2:W$2,\"Year\")+$E174<=$E$1,U174+$E174,0),IF(X$2=\"Repair %\",IF(U174>0,$C174,0),IF(X$2=\"Spares %\",IF(IF(U174>0,$C174,0)*100>50%,50%,IF(U174>0,$C174,0)*100),0))))","v":0},1,{"$f":"IF(Y174=0,0,IF(Z$2=\"Year\",IF(_xlfn.MAXIFS($N174:Y174,$N$2:Y$2,\"Year\")+$E174<=$E$1,W174+$E174,0),IF(Z$2=\"Repair %\",IF(W174>0,$C$3,0),IF(Z$2=\"Spares %\",IF(IF(W174>0,$C174,0)*100>50%,50%,IF(W174>0,$C174,0)*100),0))))","v":0},{"$f":"IF(Z174=0,0,IF(AA$2=\"Year\",IF(_xlfn.MAXIFS($N174:Z174,$N$2:Z$2,\"Year\")+$E174<=$E$1,X174+$E174,0),IF(AA$2=\"Repair %\",IF(X174>0,$C174,0),IF(AA$2=\"Spares %\",IF(IF(X174>0,$C174,0)*100>50%,50%,IF(X174>0,$C174,0)*100),0))))","v":0},{"$f":"IF(AA174=0,0,IF(AB$2=\"Year\",IF(_xlfn.MAXIFS($N174:AA174,$N$2:AA$2,\"Year\")+$E174<=$E$1,Y174+$E174,0),IF(AB$2=\"Repair %\",IF(Y174>0,$C174,0),IF(AB$2=\"Spares %\",IF(IF(W174>0,$C174,0)*5>80%,50%,IF(W174>0,$C174,0)*5),0))))","v":0},{"$f":"IF(AB174=0,0,IF(AC$2=\"Year\",IF(_xlfn.MAXIFS($N174:AB174,$N$2:AB$2,\"Year\")+$E174<=$E$1,Z174+$E174,0),IF(AC$2=\"Repair %\",IF(Z174>0,$C$3,0),IF(AC$2=\"Spares %\",IF(IF(Z174>0,$C174,0)*100>50%,50%,IF(Z174>0,$C174,0)*100),0))))","v":0},{"$f":"IF(AC174=0,0,IF(AD$2=\"Year\",IF(_xlfn.MAXIFS($N174:AC174,$N$2:AC$2,\"Year\")+$E174<=$E$1,AA174+$E174,0),IF(AD$2=\"Repair %\",IF(AA174>0,$C174,0),IF(AD$2=\"Spares %\",IF(IF(AA174>0,$C174,0)*100>50%,50%,IF(AA174>0,$C174,0)*100),0))))","v":0},{"$f":"IF(AD174=0,0,IF(AE$2=\"Year\",IF(_xlfn.MAXIFS($N174:AD174,$N$2:AD$2,\"Year\")+$E174<=$E$1,AB174+$E174,0),IF(AE$2=\"Repair %\",IF(AB174>0,$C174,0),IF(AE$2=\"Spares %\",IF(IF(Z174>0,$C174,0)*5>80%,50%,IF(Z174>0,$C174,0)*5),0))))","v":0},{"$f":"IF(AE174=0,0,IF(AF$2=\"Year\",IF(_xlfn.MAXIFS($N174:AE174,$N$2:AE$2,\"Year\")+$E174<=$E$1,AC174+$E174,0),IF(AF$2=\"Repair %\",IF(AC174>0,$C$3,0),IF(AF$2=\"Spares %\",IF(IF(AC174>0,$C174,0)*100>50%,50%,IF(AC174>0,$C174,0)*100),0))))","v":0},{"$f":"IF(AF174=0,0,IF(AG$2=\"Year\",IF(_xlfn.MAXIFS($N174:AF174,$N$2:AF$2,\"Year\")+$E174<=$E$1,AD174+$E174,0),IF(AG$2=\"Repair %\",IF(AD174>0,$C174,0),IF(AG$2=\"Spares %\",IF(IF(AD174>0,$C174,0)*100>50%,50%,IF(AD174>0,$C174,0)*100),0))))","v":0},{"$f":"IF(AG174=0,0,IF(AH$2=\"Year\",IF(_xlfn.MAXIFS($N174:AG174,$N$2:AG$2,\"Year\")+$E174<=$E$1,AE174+$E174,0),IF(AH$2=\"Repair %\",IF(AE174>0,$C174,0),IF(AH$2=\"Spares %\",IF(IF(AC174>0,$C174,0)*5>80%,50%,IF(AC174>0,$C174,0)*5),0))))","v":0},{"$f":"IF(AH174=0,0,IF(AI$2=\"Year\",IF(_xlfn.MAXIFS($N174:AH174,$N$2:AH$2,\"Year\")+$E174<=$E$1,AF174+$E174,0),IF(AI$2=\"Repair %\",IF(AF174>0,$C$3,0),IF(AI$2=\"Spares %\",IF(IF(AF174>0,$C174,0)*100>50%,50%,IF(AF174>0,$C174,0)*100),0))))","v":0},{"$f":"IF(AI174=0,0,IF(AJ$2=\"Year\",IF(_xlfn.MAXIFS($N174:AI174,$N$2:AI$2,\"Year\")+$E174<=$E$1,AG174+$E174,0),IF(AJ$2=\"Repair %\",IF(AG174>0,$C174,0),IF(AJ$2=\"Spares %\",IF(IF(AG174>0,$C174,0)*100>50%,50%,IF(AG174>0,$C174,0)*100),0))))","v":0},{"$f":"IF(AJ174=0,0,IF(AK$2=\"Year\",IF(_xlfn.MAXIFS($N174:AJ174,$N$2:AJ$2,\"Year\")+$E174<=$E$1,AH174+$E174,0),IF(AK$2=\"Repair %\",IF(AH174>0,$C174,0),IF(AK$2=\"Spares %\",IF(IF(AF174>0,$C174,0)*5>80%,50%,IF(AF174>0,$C174,0)*5),0))))","v":0},{"$f":"IF(AK174=0,0,IF(AL$2=\"Year\",IF(_xlfn.MAXIFS($N174:AK174,$N$2:AK$2,\"Year\")+$E174<=$E$1,AI174+$E174,0),IF(AL$2=\"Repair %\",IF(AI174>0,$C$3,0),IF(AL$2=\"Spares %\",IF(IF(AI174>0,$C174,0)*100>50%,50%,IF(AI174>0,$C174,0)*100),0))))","v":0},{"$f":"IF(AL174=0,0,IF(AM$2=\"Year\",IF(_xlfn.MAXIFS($N174:AL174,$N$2:AL$2,\"Year\")+$E174<=$E$1,AJ174+$E174,0),IF(AM$2=\"Repair %\",IF(AJ174>0,$C174,0),IF(AM$2=\"Spares %\",IF(IF(AJ174>0,$C174,0)*100>50%,50%,IF(AJ174>0,$C174,0)*100),0))))","v":0},{"$f":"IF(AM174=0,0,IF(AN$2=\"Year\",IF(_xlfn.MAXIFS($N174:AM174,$N$2:AM$2,\"Year\")+$E174<=$E$1,AK174+$E174,0),IF(AN$2=\"Repair %\",IF(AK174>0,$C174,0),IF(AN$2=\"Spares %\",IF(IF(AI174>0,$C174,0)*5>80%,50%,IF(AI174>0,$C174,0)*5),0))))","v":0},{"$f":"IF(AN174=0,0,IF(AO$2=\"Year\",IF(_xlfn.MAXIFS($N174:AN174,$N$2:AN$2,\"Year\")+$E174<=$E$1,AL174+$E174,0),IF(AO$2=\"Repair %\",IF(AL174>0,$C$3,0),IF(AO$2=\"Spares %\",IF(IF(AL174>0,$C174,0)*100>50%,50%,IF(AL174>0,$C174,0)*100),0))))","v":0},{"$f":"IF(AO174=0,0,IF(AP$2=\"Year\",IF(_xlfn.MAXIFS($N174:AO174,$N$2:AO$2,\"Year\")+$E174<=$E$1,AM174+$E174,0),IF(AP$2=\"Repair %\",IF(AM174>0,$C174,0),IF(AP$2=\"Spares %\",IF(IF(AM174>0,$C174,0)*100>50%,50%,IF(AM174>0,$C174,0)*100),0))))","v":0},{"$f":"IF(AP174=0,0,IF(AQ$2=\"Year\",IF(_xlfn.MAXIFS($N174:AP174,$N$2:AP$2,\"Year\")+$E174<=$E$1,AN174+$E174,0),IF(AQ$2=\"Repair %\",IF(AN174>0,$C174,0),IF(AQ$2=\"Spares %\",IF(IF(AL174>0,$C174,0)*5>80%,50%,IF(AL174>0,$C174,0)*5),0))))","v":0}]
[{"$f":"INDEX('Avionics ID'!A:E,MATCH(B175,'Avionics ID'!E:E,0),1)","v":872},"UHF SATCOM antenna",0.1,0.1,10,"Obsolecence",{"$f":"SUBSTITUTE(ADDRESS(1,MATCH(A175,'Pt1-AvionicsComponentCosts'!$A$6:$NC$6,0)+1),\"$1\",\"\")","v":"$CB"},{"$f":"_xlfn.TEXTJOIN(\", \",TRUE,_xlfn.UNIQUE(_xlfn._xlws.SORT(_xlfn._xlws.FILTER('Pt1-AvionicsComponentCosts'!$NF$12:$NF$384,ISNUMBER(INDIRECT(\"'Pt1-AvionicsComponentCosts'!\"&G175&\"$12:\"&G175&\"$384\"))))))","v":"UAV"},null,0.1,0.1,0.501,1.2969999999999999,{"$f":"COUNTIF($N$2:N$2,\"Year\")*$G$1","v":10},null,1,{"$f":"COUNTIF($N$2:Q$2,\"Year\")*$G$1","v":20},{"$f":"IF(Q175=0,0,IF(R$2=\"Year\",IF(_xlfn.MAXIFS($N175:Q175,$N$2:Q$2,\"Year\")+$E175<=$E$1,O175+$E175,0),IF(R$2=\"Repair %\",IF(O175>0,$C175,0),IF(R$2=\"Spares %\",IF(IF(O175>0,$C175,0)*100>50%,50%,IF(O175>0,$C175,0)*100),0))))","v":0},1,{"$f":"COUNTIF($N$2:T$2,\"Year\")*$G$1","v":30},{"$f":"IF(T175=0,0,IF(U$2=\"Year\",IF(_xlfn.MAXIFS($N175:T175,$N$2:T$2,\"Year\")+$E175<=$E$1,R175+$E175,0),IF(U$2=\"Repair %\",IF(R175>0,$C175,0),IF(U$2=\"Spares %\",IF(IF(R175>0,$C175,0)*100>50%,50%,IF(R175>0,$C175,0)*100),0))))","v":0},1,{"$f":"COUNTIF($N$2:W$2,\"Year\")*$G$1","v":40},{"$f":"IF(W175=0,0,IF(X$2=\"Year\",IF(_xlfn.MAXIFS($N175:W175,$N$2:W$2,\"Year\")+$E175<=$E$1,U175+$E175,0),IF(X$2=\"Repair %\",IF(U175>0,$C175,0),IF(X$2=\"Spares %\",IF(IF(U175>0,$C175,0)*100>50%,50%,IF(U175>0,$C175,0)*100),0))))","v":0},1,{"$f":"IF(Y175=0,0,IF(Z$2=\"Year\",IF(_xlfn.MAXIFS($N175:Y175,$N$2:Y$2,\"Year\")+$E175<=$E$1,W175+$E175,0),IF(Z$2=\"Repair %\",IF(W175>0,$C$3,0),IF(Z$2=\"Spares %\",IF(IF(W175>0,$C175,0)*100>50%,50%,IF(W175>0,$C175,0)*100),0))))","v":0},{"$f":"IF(Z175=0,0,IF(AA$2=\"Year\",IF(_xlfn.MAXIFS($N175:Z175,$N$2:Z$2,\"Year\")+$E175<=$E$1,X175+$E175,0),IF(AA$2=\"Repair %\",IF(X175>0,$C175,0),IF(AA$2=\"Spares %\",IF(IF(X175>0,$C175,0)*100>50%,50%,IF(X175>0,$C175,0)*100),0))))","v":0},{"$f":"IF(AA175=0,0,IF(AB$2=\"Year\",IF(_xlfn.MAXIFS($N175:AA175,$N$2:AA$2,\"Year\")+$E175<=$E$1,Y175+$E175,0),IF(AB$2=\"Repair %\",IF(Y175>0,$C175,0),IF(AB$2=\"Spares %\",IF(IF(W175>0,$C175,0)*5>80%,50%,IF(W175>0,$C175,0)*5),0))))","v":0},{"$f":"IF(AB175=0,0,IF(AC$2=\"Year\",IF(_xlfn.MAXIFS($N175:AB175,$N$2:AB$2,\"Year\")+$E175<=$E$1,Z175+$E175,0),IF(AC$2=\"Repair %\",IF(Z175>0,$C$3,0),IF(AC$2=\"Spares %\",IF(IF(Z175>0,$C175,0)*100>50%,50%,IF(Z175>0,$C175,0)*100),0))))","v":0},{"$f":"IF(AC175=0,0,IF(AD$2=\"Year\",IF(_xlfn.MAXIFS($N175:AC175,$N$2:AC$2,\"Year\")+$E175<=$E$1,AA175+$E175,0),IF(AD$2=\"Repair %\",IF(AA175>0,$C175,0),IF(AD$2=\"Spares %\",IF(IF(AA175>0,$C175,0)*100>50%,50%,IF(AA175>0,$C175,0)*100),0))))","v":0},{"$f":"IF(AD175=0,0,IF(AE$2=\"Year\",IF(_xlfn.MAXIFS($N175:AD175,$N$2:AD$2,\"Year\")+$E175<=$E$1,AB175+$E175,0),IF(AE$2=\"Repair %\",IF(AB175>0,$C175,0),IF(AE$2=\"Spares %\",IF(IF(Z175>0,$C175,0)*5>80%,50%,IF(Z175>0,$C175,0)*5),0))))","v":0},{"$f":"IF(AE175=0,0,IF(AF$2=\"Year\",IF(_xlfn.MAXIFS($N175:AE175,$N$2:AE$2,\"Year\")+$E175<=$E$1,AC175+$E175,0),IF(AF$2=\"Repair %\",IF(AC175>0,$C$3,0),IF(AF$2=\"Spares %\",IF(IF(AC175>0,$C175,0)*100>50%,50%,IF(AC175>0,$C175,0)*100),0))))","v":0},{"$f":"IF(AF175=0,0,IF(AG$2=\"Year\",IF(_xlfn.MAXIFS($N175:AF175,$N$2:AF$2,\"Year\")+$E175<=$E$1,AD175+$E175,0),IF(AG$2=\"Repair %\",IF(AD175>0,$C175,0),IF(AG$2=\"Spares %\",IF(IF(AD175>0,$C175,0)*100>50%,50%,IF(AD175>0,$C175,0)*100),0))))","v":0},{"$f":"IF(AG175=0,0,IF(AH$2=\"Year\",IF(_xlfn.MAXIFS($N175:AG175,$N$2:AG$2,\"Year\")+$E175<=$E$1,AE175+$E175,0),IF(AH$2=\"Repair %\",IF(AE175>0,$C175,0),IF(AH$2=\"Spares %\",IF(IF(AC175>0,$C175,0)*5>80%,50%,IF(AC175>0,$C175,0)*5),0))))","v":0},{"$f":"IF(AH175=0,0,IF(AI$2=\"Year\",IF(_xlfn.MAXIFS($N175:AH175,$N$2:AH$2,\"Year\")+$E175<=$E$1,AF175+$E175,0),IF(AI$2=\"Repair %\",IF(AF175>0,$C$3,0),IF(AI$2=\"Spares %\",IF(IF(AF175>0,$C175,0)*100>50%,50%,IF(AF175>0,$C175,0)*100),0))))","v":0},{"$f":"IF(AI175=0,0,IF(AJ$2=\"Year\",IF(_xlfn.MAXIFS($N175:AI175,$N$2:AI$2,\"Year\")+$E175<=$E$1,AG175+$E175,0),IF(AJ$2=\"Repair %\",IF(AG175>0,$C175,0),IF(AJ$2=\"Spares %\",IF(IF(AG175>0,$C175,0)*100>50%,50%,IF(AG175>0,$C175,0)*100),0))))","v":0},{"$f":"IF(AJ175=0,0,IF(AK$2=\"Year\",IF(_xlfn.MAXIFS($N175:AJ175,$N$2:AJ$2,\"Year\")+$E175<=$E$1,AH175+$E175,0),IF(AK$2=\"Repair %\",IF(AH175>0,$C175,0),IF(AK$2=\"Spares %\",IF(IF(AF175>0,$C175,0)*5>80%,50%,IF(AF175>0,$C175,0)*5),0))))","v":0},{"$f":"IF(AK175=0,0,IF(AL$2=\"Year\",IF(_xlfn.MAXIFS($N175:AK175,$N$2:AK$2,\"Year\")+$E175<=$E$1,AI175+$E175,0),IF(AL$2=\"Repair %\",IF(AI175>0,$C$3,0),IF(AL$2=\"Spares %\",IF(IF(AI175>0,$C175,0)*100>50%,50%,IF(AI175>0,$C175,0)*100),0))))","v":0},{"$f":"IF(AL175=0,0,IF(AM$2=\"Year\",IF(_xlfn.MAXIFS($N175:AL175,$N$2:AL$2,\"Year\")+$E175<=$E$1,AJ175+$E175,0),IF(AM$2=\"Repair %\",IF(AJ175>0,$C175,0),IF(AM$2=\"Spares %\",IF(IF(AJ175>0,$C175,0)*100>50%,50%,IF(AJ175>0,$C175,0)*100),0))))","v":0},{"$f":"IF(AM175=0,0,IF(AN$2=\"Year\",IF(_xlfn.MAXIFS($N175:AM175,$N$2:AM$2,\"Year\")+$E175<=$E$1,AK175+$E175,0),IF(AN$2=\"Repair %\",IF(AK175>0,$C175,0),IF(AN$2=\"Spares %\",IF(IF(AI175>0,$C175,0)*5>80%,50%,IF(AI175>0,$C175,0)*5),0))))","v":0},{"$f":"IF(AN175=0,0,IF(AO$2=\"Year\",IF(_xlfn.MAXIFS($N175:AN175,$N$2:AN$2,\"Year\")+$E175<=$E$1,AL175+$E175,0),IF(AO$2=\"Repair %\",IF(AL175>0,$C$3,0),IF(AO$2=\"Spares %\",IF(IF(AL175>0,$C175,0)*100>50%,50%,IF(AL175>0,$C175,0)*100),0))))","v":0},{"$f":"IF(AO175=0,0,IF(AP$2=\"Year\",IF(_xlfn.MAXIFS($N175:AO175,$N$2:AO$2,\"Year\")+$E175<=$E$1,AM175+$E175,0),IF(AP$2=\"Repair %\",IF(AM175>0,$C175,0),IF(AP$2=\"Spares %\",IF(IF(AM175>0,$C175,0)*100>50%,50%,IF(AM175>0,$C175,0)*100),0))))","v":0},{"$f":"IF(AP175=0,0,IF(AQ$2=\"Year\",IF(_xlfn.MAXIFS($N175:AP175,$N$2:AP$2,\"Year\")+$E175<=$E$1,AN175+$E175,0),IF(AQ$2=\"Repair %\",IF(AN175>0,$C175,0),IF(AQ$2=\"Spares %\",IF(IF(AL175>0,$C175,0)*5>80%,50%,IF(AL175>0,$C175,0)*5),0))))","v":0}]
[{"$f":"INDEX('Avionics ID'!A:E,MATCH(B176,'Avionics ID'!E:E,0),1)","v":762},"VOR receivers",0,0.06,null,"",{"$f":"SUBSTITUTE(ADDRESS(1,MATCH(A176,'Pt1-AvionicsComponentCosts'!$A$6:$NC$6,0)+1),\"$1\",\"\")","v":"$KH"},{"$f":"_xlfn.TEXTJOIN(\", \",TRUE,_xlfn.UNIQUE(_xlfn._xlws.SORT(_xlfn._xlws.FILTER('Pt1-AvionicsComponentCosts'!$NF$12:$NF$384,ISNUMBER(INDIRECT(\"'Pt1-AvionicsComponentCosts'!\"&G176&\"$12:\"&G176&\"$384\"))))))","v":"A300, A320, A330, A340, A350, A380, B747, B767, B777, MD-11"},null,0.06,0,0.35399999999999998,1.829,{"$f":"COUNTIF($N$2:N$2,\"Year\")*$G$1","v":10},null,0,{"$f":"COUNTIF($N$2:Q$2,\"Year\")*$G$1","v":20},{"$f":"IF(Q176=0,0,IF(R$2=\"Year\",IF(_xlfn.MAXIFS($N176:Q176,$N$2:Q$2,\"Year\")+$E176<=$E$1,O176+$E176,0),IF(R$2=\"Repair %\",IF(O176>0,$C176,0),IF(R$2=\"Spares %\",IF(IF(O176>0,$C176,0)*100>50%,50%,IF(O176>0,$C176,0)*100),0))))","v":0},0,{"$f":"COUNTIF($N$2:T$2,\"Year\")*$G$1","v":30},{"$f":"IF(T176=0,0,IF(U$2=\"Year\",IF(_xlfn.MAXIFS($N176:T176,$N$2:T$2,\"Year\")+$E176<=$E$1,R176+$E176,0),IF(U$2=\"Repair %\",IF(R176>0,$C176,0),IF(U$2=\"Spares %\",IF(IF(R176>0,$C176,0)*100>50%,50%,IF(R176>0,$C176,0)*100),0))))","v":0},0,{"$f":"COUNTIF($N$2:W$2,\"Year\")*$G$1","v":40},{"$f":"IF(W176=0,0,IF(X$2=\"Year\",IF(_xlfn.MAXIFS($N176:W176,$N$2:W$2,\"Year\")+$E176<=$E$1,U176+$E176,0),IF(X$2=\"Repair %\",IF(U176>0,$C176,0),IF(X$2=\"Spares %\",IF(IF(U176>0,$C176,0)*100>50%,50%,IF(U176>0,$C176,0)*100),0))))","v":0},0,{"$f":"IF(Y176=0,0,IF(Z$2=\"Year\",IF(_xlfn.MAXIFS($N176:Y176,$N$2:Y$2,\"Year\")+$E176<=$E$1,W176+$E176,0),IF(Z$2=\"Repair %\",IF(W176>0,$C$3,0),IF(Z$2=\"Spares %\",IF(IF(W176>0,$C176,0)*100>50%,50%,IF(W176>0,$C176,0)*100),0))))","v":0},{"$f":"IF(Z176=0,0,IF(AA$2=\"Year\",IF(_xlfn.MAXIFS($N176:Z176,$N$2:Z$2,\"Year\")+$E176<=$E$1,X176+$E176,0),IF(AA$2=\"Repair %\",IF(X176>0,$C176,0),IF(AA$2=\"Spares %\",IF(IF(X176>0,$C176,0)*100>50%,50%,IF(X176>0,$C176,0)*100),0))))","v":0},{"$f":"IF(AA176=0,0,IF(AB$2=\"Year\",IF(_xlfn.MAXIFS($N176:AA176,$N$2:AA$2,\"Year\")+$E176<=$E$1,Y176+$E176,0),IF(AB$2=\"Repair %\",IF(Y176>0,$C176,0),IF(AB$2=\"Spares %\",IF(IF(W176>0,$C176,0)*5>80%,50%,IF(W176>0,$C176,0)*5),0))))","v":0},{"$f":"IF(AB176=0,0,IF(AC$2=\"Year\",IF(_xlfn.MAXIFS($N176:AB176,$N$2:AB$2,\"Year\")+$E176<=$E$1,Z176+$E176,0),IF(AC$2=\"Repair %\",IF(Z176>0,$C$3,0),IF(AC$2=\"Spares %\",IF(IF(Z176>0,$C176,0)*100>50%,50%,IF(Z176>0,$C176,0)*100),0))))","v":0},{"$f":"IF(AC176=0,0,IF(AD$2=\"Year\",IF(_xlfn.MAXIFS($N176:AC176,$N$2:AC$2,\"Year\")+$E176<=$E$1,AA176+$E176,0),IF(AD$2=\"Repair %\",IF(AA176>0,$C176,0),IF(AD$2=\"Spares %\",IF(IF(AA176>0,$C176,0)*100>50%,50%,IF(AA176>0,$C176,0)*100),0))))","v":0},{"$f":"IF(AD176=0,0,IF(AE$2=\"Year\",IF(_xlfn.MAXIFS($N176:AD176,$N$2:AD$2,\"Year\")+$E176<=$E$1,AB176+$E176,0),IF(AE$2=\"Repair %\",IF(AB176>0,$C176,0),IF(AE$2=\"Spares %\",IF(IF(Z176>0,$C176,0)*5>80%,50%,IF(Z176>0,$C176,0)*5),0))))","v":0},{"$f":"IF(AE176=0,0,IF(AF$2=\"Year\",IF(_xlfn.MAXIFS($N176:AE176,$N$2:AE$2,\"Year\")+$E176<=$E$1,AC176+$E176,0),IF(AF$2=\"Repair %\",IF(AC176>0,$C$3,0),IF(AF$2=\"Spares %\",IF(IF(AC176>0,$C176,0)*100>50%,50%,IF(AC176>0,$C176,0)*100),0))))","v":0},{"$f":"IF(AF176=0,0,IF(AG$2=\"Year\",IF(_xlfn.MAXIFS($N176:AF176,$N$2:AF$2,\"Year\")+$E176<=$E$1,AD176+$E176,0),IF(AG$2=\"Repair %\",IF(AD176>0,$C176,0),IF(AG$2=\"Spares %\",IF(IF(AD176>0,$C176,0)*100>50%,50%,IF(AD176>0,$C176,0)*100),0))))","v":0},{"$f":"IF(AG176=0,0,IF(AH$2=\"Year\",IF(_xlfn.MAXIFS($N176:AG176,$N$2:AG$2,\"Year\")+$E176<=$E$1,AE176+$E176,0),IF(AH$2=\"Repair %\",IF(AE176>0,$C176,0),IF(AH$2=\"Spares %\",IF(IF(AC176>0,$C176,0)*5>80%,50%,IF(AC176>0,$C176,0)*5),0))))","v":0},{"$f":"IF(AH176=0,0,IF(AI$2=\"Year\",IF(_xlfn.MAXIFS($N176:AH176,$N$2:AH$2,\"Year\")+$E176<=$E$1,AF176+$E176,0),IF(AI$2=\"Repair %\",IF(AF176>0,$C$3,0),IF(AI$2=\"Spares %\",IF(IF(AF176>0,$C176,0)*100>50%,50%,IF(AF176>0,$C176,0)*100),0))))","v":0},{"$f":"IF(AI176=0,0,IF(AJ$2=\"Year\",IF(_xlfn.MAXIFS($N176:AI176,$N$2:AI$2,\"Year\")+$E176<=$E$1,AG176+$E176,0),IF(AJ$2=\"Repair %\",IF(AG176>0,$C176,0),IF(AJ$2=\"Spares %\",IF(IF(AG176>0,$C176,0)*100>50%,50%,IF(AG176>0,$C176,0)*100),0))))","v":0},{"$f":"IF(AJ176=0,0,IF(AK$2=\"Year\",IF(_xlfn.MAXIFS($N176:AJ176,$N$2:AJ$2,\"Year\")+$E176<=$E$1,AH176+$E176,0),IF(AK$2=\"Repair %\",IF(AH176>0,$C176,0),IF(AK$2=\"Spares %\",IF(IF(AF176>0,$C176,0)*5>80%,50%,IF(AF176>0,$C176,0)*5),0))))","v":0},{"$f":"IF(AK176=0,0,IF(AL$2=\"Year\",IF(_xlfn.MAXIFS($N176:AK176,$N$2:AK$2,\"Year\")+$E176<=$E$1,AI176+$E176,0),IF(AL$2=\"Repair %\",IF(AI176>0,$C$3,0),IF(AL$2=\"Spares %\",IF(IF(AI176>0,$C176,0)*100>50%,50%,IF(AI176>0,$C176,0)*100),0))))","v":0},{"$f":"IF(AL176=0,0,IF(AM$2=\"Year\",IF(_xlfn.MAXIFS($N176:AL176,$N$2:AL$2,\"Year\")+$E176<=$E$1,AJ176+$E176,0),IF(AM$2=\"Repair %\",IF(AJ176>0,$C176,0),IF(AM$2=\"Spares %\",IF(IF(AJ176>0,$C176,0)*100>50%,50%,IF(AJ176>0,$C176,0)*100),0))))","v":0},{"$f":"IF(AM176=0,0,IF(AN$2=\"Year\",IF(_xlfn.MAXIFS($N176:AM176,$N$2:AM$2,\"Year\")+$E176<=$E$1,AK176+$E176,0),IF(AN$2=\"Repair %\",IF(AK176>0,$C176,0),IF(AN$2=\"Spares %\",IF(IF(AI176>0,$C176,0)*5>80%,50%,IF(AI176>0,$C176,0)*5),0))))","v":0},{"$f":"IF(AN176=0,0,IF(AO$2=\"Year\",IF(_xlfn.MAXIFS($N176:AN176,$N$2:AN$2,\"Year\")+$E176<=$E$1,AL176+$E176,0),IF(AO$2=\"Repair %\",IF(AL176>0,$C$3,0),IF(AO$2=\"Spares %\",IF(IF(AL176>0,$C176,0)*100>50%,50%,IF(AL176>0,$C176,0)*100),0))))","v":0},{"$f":"IF(AO176=0,0,IF(AP$2=\"Year\",IF(_xlfn.MAXIFS($N176:AO176,$N$2:AO$2,\"Year\")+$E176<=$E$1,AM176+$E176,0),IF(AP$2=\"Repair %\",IF(AM176>0,$C176,0),IF(AP$2=\"Spares %\",IF(IF(AM176>0,$C176,0)*100>50%,50%,IF(AM176>0,$C176,0)*100),0))))","v":0},{"$f":"IF(AP176=0,0,IF(AQ$2=\"Year\",IF(_xlfn.MAXIFS($N176:AP176,$N$2:AP$2,\"Year\")+$E176<=$E$1,AN176+$E176,0),IF(AQ$2=\"Repair %\",IF(AN176>0,$C176,0),IF(AQ$2=\"Spares %\",IF(IF(AL176>0,$C176,0)*5>80%,50%,IF(AL176>0,$C176,0)*5),0))))","v":0}]
[{"$f":"INDEX('Avionics ID'!A:E,MATCH(B177,'Avionics ID'!E:E,0),1)","v":746},"Weather WX radar system",0.05,0.06,20,"Obsolecence",{"$f":"SUBSTITUTE(ADDRESS(1,MATCH(A177,'Pt1-AvionicsComponentCosts'!$A$6:$NC$6,0)+1),\"$1\",\"\")","v":"$LV"},{"$f":"_xlfn.TEXTJOIN(\", \",TRUE,_xlfn.UNIQUE(_xlfn._xlws.SORT(_xlfn._xlws.FILTER('Pt1-AvionicsComponentCosts'!$NF$12:$NF$384,ISNUMBER(INDIRECT(\"'Pt1-AvionicsComponentCosts'!\"&G177&\"$12:\"&G177&\"$384\"))))))","v":"A220, A300, A320, A321, A330, A340, A350, A380, ARJ, ATR, B717, B737, B747, B757, B767, B777, B787, C919, CRJ, EMB Regional, Helo, MC-21, MD-11, Mil Transport, Military Jet, NSA, Reg TP, Superjet 100, Turbine GA"},null,0.06,0.05,0.33500000000000002,1.6830000000000001,{"$f":"COUNTIF($N$2:N$2,\"Year\")*$G$1","v":10},null,0,{"$f":"COUNTIF($N$2:Q$2,\"Year\")*$G$1","v":20},{"$f":"IF(Q177=0,0,IF(R$2=\"Year\",IF(_xlfn.MAXIFS($N177:Q177,$N$2:Q$2,\"Year\")+$E177<=$E$1,O177+$E177,0),IF(R$2=\"Repair %\",IF(O177>0,$C177,0),IF(R$2=\"Spares %\",IF(IF(O177>0,$C177,0)*100>50%,50%,IF(O177>0,$C177,0)*100),0))))","v":0},1,{"$f":"COUNTIF($N$2:T$2,\"Year\")*$G$1","v":30},{"$f":"IF(T177=0,0,IF(U$2=\"Year\",IF(_xlfn.MAXIFS($N177:T177,$N$2:T$2,\"Year\")+$E177<=$E$1,R177+$E177,0),IF(U$2=\"Repair %\",IF(R177>0,$C177,0),IF(U$2=\"Spares %\",IF(IF(R177>0,$C177,0)*100>50%,50%,IF(R177>0,$C177,0)*100),0))))","v":0},0,{"$f":"COUNTIF($N$2:W$2,\"Year\")*$G$1","v":40},{"$f":"IF(W177=0,0,IF(X$2=\"Year\",IF(_xlfn.MAXIFS($N177:W177,$N$2:W$2,\"Year\")+$E177<=$E$1,U177+$E177,0),IF(X$2=\"Repair %\",IF(U177>0,$C177,0),IF(X$2=\"Spares %\",IF(IF(U177>0,$C177,0)*100>50%,50%,IF(U177>0,$C177,0)*100),0))))","v":0},1,{"$f":"IF(Y177=0,0,IF(Z$2=\"Year\",IF(_xlfn.MAXIFS($N177:Y177,$N$2:Y$2,\"Year\")+$E177<=$E$1,W177+$E177,0),IF(Z$2=\"Repair %\",IF(W177>0,$C$3,0),IF(Z$2=\"Spares %\",IF(IF(W177>0,$C177,0)*100>50%,50%,IF(W177>0,$C177,0)*100),0))))","v":0},{"$f":"IF(Z177=0,0,IF(AA$2=\"Year\",IF(_xlfn.MAXIFS($N177:Z177,$N$2:Z$2,\"Year\")+$E177<=$E$1,X177+$E177,0),IF(AA$2=\"Repair %\",IF(X177>0,$C177,0),IF(AA$2=\"Spares %\",IF(IF(X177>0,$C177,0)*100>50%,50%,IF(X177>0,$C177,0)*100),0))))","v":0},{"$f":"IF(AA177=0,0,IF(AB$2=\"Year\",IF(_xlfn.MAXIFS($N177:AA177,$N$2:AA$2,\"Year\")+$E177<=$E$1,Y177+$E177,0),IF(AB$2=\"Repair %\",IF(Y177>0,$C177,0),IF(AB$2=\"Spares %\",IF(IF(W177>0,$C177,0)*5>80%,50%,IF(W177>0,$C177,0)*5),0))))","v":0},{"$f":"IF(AB177=0,0,IF(AC$2=\"Year\",IF(_xlfn.MAXIFS($N177:AB177,$N$2:AB$2,\"Year\")+$E177<=$E$1,Z177+$E177,0),IF(AC$2=\"Repair %\",IF(Z177>0,$C$3,0),IF(AC$2=\"Spares %\",IF(IF(Z177>0,$C177,0)*100>50%,50%,IF(Z177>0,$C177,0)*100),0))))","v":0},{"$f":"IF(AC177=0,0,IF(AD$2=\"Year\",IF(_xlfn.MAXIFS($N177:AC177,$N$2:AC$2,\"Year\")+$E177<=$E$1,AA177+$E177,0),IF(AD$2=\"Repair %\",IF(AA177>0,$C177,0),IF(AD$2=\"Spares %\",IF(IF(AA177>0,$C177,0)*100>50%,50%,IF(AA177>0,$C177,0)*100),0))))","v":0},{"$f":"IF(AD177=0,0,IF(AE$2=\"Year\",IF(_xlfn.MAXIFS($N177:AD177,$N$2:AD$2,\"Year\")+$E177<=$E$1,AB177+$E177,0),IF(AE$2=\"Repair %\",IF(AB177>0,$C177,0),IF(AE$2=\"Spares %\",IF(IF(Z177>0,$C177,0)*5>80%,50%,IF(Z177>0,$C177,0)*5),0))))","v":0},{"$f":"IF(AE177=0,0,IF(AF$2=\"Year\",IF(_xlfn.MAXIFS($N177:AE177,$N$2:AE$2,\"Year\")+$E177<=$E$1,AC177+$E177,0),IF(AF$2=\"Repair %\",IF(AC177>0,$C$3,0),IF(AF$2=\"Spares %\",IF(IF(AC177>0,$C177,0)*100>50%,50%,IF(AC177>0,$C177,0)*100),0))))","v":0},{"$f":"IF(AF177=0,0,IF(AG$2=\"Year\",IF(_xlfn.MAXIFS($N177:AF177,$N$2:AF$2,\"Year\")+$E177<=$E$1,AD177+$E177,0),IF(AG$2=\"Repair %\",IF(AD177>0,$C177,0),IF(AG$2=\"Spares %\",IF(IF(AD177>0,$C177,0)*100>50%,50%,IF(AD177>0,$C177,0)*100),0))))","v":0},{"$f":"IF(AG177=0,0,IF(AH$2=\"Year\",IF(_xlfn.MAXIFS($N177:AG177,$N$2:AG$2,\"Year\")+$E177<=$E$1,AE177+$E177,0),IF(AH$2=\"Repair %\",IF(AE177>0,$C177,0),IF(AH$2=\"Spares %\",IF(IF(AC177>0,$C177,0)*5>80%,50%,IF(AC177>0,$C177,0)*5),0))))","v":0},{"$f":"IF(AH177=0,0,IF(AI$2=\"Year\",IF(_xlfn.MAXIFS($N177:AH177,$N$2:AH$2,\"Year\")+$E177<=$E$1,AF177+$E177,0),IF(AI$2=\"Repair %\",IF(AF177>0,$C$3,0),IF(AI$2=\"Spares %\",IF(IF(AF177>0,$C177,0)*100>50%,50%,IF(AF177>0,$C177,0)*100),0))))","v":0},{"$f":"IF(AI177=0,0,IF(AJ$2=\"Year\",IF(_xlfn.MAXIFS($N177:AI177,$N$2:AI$2,\"Year\")+$E177<=$E$1,AG177+$E177,0),IF(AJ$2=\"Repair %\",IF(AG177>0,$C177,0),IF(AJ$2=\"Spares %\",IF(IF(AG177>0,$C177,0)*100>50%,50%,IF(AG177>0,$C177,0)*100),0))))","v":0},{"$f":"IF(AJ177=0,0,IF(AK$2=\"Year\",IF(_xlfn.MAXIFS($N177:AJ177,$N$2:AJ$2,\"Year\")+$E177<=$E$1,AH177+$E177,0),IF(AK$2=\"Repair %\",IF(AH177>0,$C177,0),IF(AK$2=\"Spares %\",IF(IF(AF177>0,$C177,0)*5>80%,50%,IF(AF177>0,$C177,0)*5),0))))","v":0},{"$f":"IF(AK177=0,0,IF(AL$2=\"Year\",IF(_xlfn.MAXIFS($N177:AK177,$N$2:AK$2,\"Year\")+$E177<=$E$1,AI177+$E177,0),IF(AL$2=\"Repair %\",IF(AI177>0,$C$3,0),IF(AL$2=\"Spares %\",IF(IF(AI177>0,$C177,0)*100>50%,50%,IF(AI177>0,$C177,0)*100),0))))","v":0},{"$f":"IF(AL177=0,0,IF(AM$2=\"Year\",IF(_xlfn.MAXIFS($N177:AL177,$N$2:AL$2,\"Year\")+$E177<=$E$1,AJ177+$E177,0),IF(AM$2=\"Repair %\",IF(AJ177>0,$C177,0),IF(AM$2=\"Spares %\",IF(IF(AJ177>0,$C177,0)*100>50%,50%,IF(AJ177>0,$C177,0)*100),0))))","v":0},{"$f":"IF(AM177=0,0,IF(AN$2=\"Year\",IF(_xlfn.MAXIFS($N177:AM177,$N$2:AM$2,\"Year\")+$E177<=$E$1,AK177+$E177,0),IF(AN$2=\"Repair %\",IF(AK177>0,$C177,0),IF(AN$2=\"Spares %\",IF(IF(AI177>0,$C177,0)*5>80%,50%,IF(AI177>0,$C177,0)*5),0))))","v":0},{"$f":"IF(AN177=0,0,IF(AO$2=\"Year\",IF(_xlfn.MAXIFS($N177:AN177,$N$2:AN$2,\"Year\")+$E177<=$E$1,AL177+$E177,0),IF(AO$2=\"Repair %\",IF(AL177>0,$C$3,0),IF(AO$2=\"Spares %\",IF(IF(AL177>0,$C177,0)*100>50%,50%,IF(AL177>0,$C177,0)*100),0))))","v":0},{"$f":"IF(AO177=0,0,IF(AP$2=\"Year\",IF(_xlfn.MAXIFS($N177:AO177,$N$2:AO$2,\"Year\")+$E177<=$E$1,AM177+$E177,0),IF(AP$2=\"Repair %\",IF(AM177>0,$C177,0),IF(AP$2=\"Spares %\",IF(IF(AM177>0,$C177,0)*100>50%,50%,IF(AM177>0,$C177,0)*100),0))))","v":0},{"$f":"IF(AP177=0,0,IF(AQ$2=\"Year\",IF(_xlfn.MAXIFS($N177:AP177,$N$2:AP$2,\"Year\")+$E177<=$E$1,AN177+$E177,0),IF(AQ$2=\"Repair %\",IF(AN177>0,$C177,0),IF(AQ$2=\"Spares %\",IF(IF(AL177>0,$C177,0)*5>80%,50%,IF(AL177>0,$C177,0)*5),0))))","v":0}]
[{"$f":"INDEX('Avionics ID'!A:E,MATCH(B178,'Avionics ID'!E:E,0),1)","v":772},"Wireless LAN data loader",6.6666666666666666E-2,0.06,15,"Obsolecence",{"$f":"SUBSTITUTE(ADDRESS(1,MATCH(A178,'Pt1-AvionicsComponentCosts'!$A$6:$NC$6,0)+1),\"$1\",\"\")","v":"$DP"},{"$f":"_xlfn.TEXTJOIN(\", \",TRUE,_xlfn.UNIQUE(_xlfn._xlws.SORT(_xlfn._xlws.FILTER('Pt1-AvionicsComponentCosts'!$NF$12:$NF$384,ISNUMBER(INDIRECT(\"'Pt1-AvionicsComponentCosts'!\"&G178&\"$12:\"&G178&\"$384\"))))))","v":"A300, A320, A330, A340, A350, A380, B747, B767, B777, B787, MD-11"},null,0.06,7.0000000000000007E-2,0.68300000000000005,1.931,{"$f":"COUNTIF($N$2:N$2,\"Year\")*$G$1","v":10},null,0.5,{"$f":"COUNTIF($N$2:Q$2,\"Year\")*$G$1","v":20},{"$f":"IF(Q178=0,0,IF(R$2=\"Year\",IF(_xlfn.MAXIFS($N178:Q178,$N$2:Q$2,\"Year\")+$E178<=$E$1,O178+$E178,0),IF(R$2=\"Repair %\",IF(O178>0,$C178,0),IF(R$2=\"Spares %\",IF(IF(O178>0,$C178,0)*100>50%,50%,IF(O178>0,$C178,0)*100),0))))","v":0},0.5,{"$f":"COUNTIF($N$2:T$2,\"Year\")*$G$1","v":30},{"$f":"IF(T178=0,0,IF(U$2=\"Year\",IF(_xlfn.MAXIFS($N178:T178,$N$2:T$2,\"Year\")+$E178<=$E$1,R178+$E178,0),IF(U$2=\"Repair %\",IF(R178>0,$C178,0),IF(U$2=\"Spares %\",IF(IF(R178>0,$C178,0)*100>50%,50%,IF(R178>0,$C178,0)*100),0))))","v":0},1,{"$f":"COUNTIF($N$2:W$2,\"Year\")*$G$1","v":40},{"$f":"IF(W178=0,0,IF(X$2=\"Year\",IF(_xlfn.MAXIFS($N178:W178,$N$2:W$2,\"Year\")+$E178<=$E$1,U178+$E178,0),IF(X$2=\"Repair %\",IF(U178>0,$C178,0),IF(X$2=\"Spares %\",IF(IF(U178>0,$C178,0)*100>50%,50%,IF(U178>0,$C178,0)*100),0))))","v":0},0.5,{"$f":"IF(Y178=0,0,IF(Z$2=\"Year\",IF(_xlfn.MAXIFS($N178:Y178,$N$2:Y$2,\"Year\")+$E178<=$E$1,W178+$E178,0),IF(Z$2=\"Repair %\",IF(W178>0,$C$3,0),IF(Z$2=\"Spares %\",IF(IF(W178>0,$C178,0)*100>50%,50%,IF(W178>0,$C178,0)*100),0))))","v":0},{"$f":"IF(Z178=0,0,IF(AA$2=\"Year\",IF(_xlfn.MAXIFS($N178:Z178,$N$2:Z$2,\"Year\")+$E178<=$E$1,X178+$E178,0),IF(AA$2=\"Repair %\",IF(X178>0,$C178,0),IF(AA$2=\"Spares %\",IF(IF(X178>0,$C178,0)*100>50%,50%,IF(X178>0,$C178,0)*100),0))))","v":0},{"$f":"IF(AA178=0,0,IF(AB$2=\"Year\",IF(_xlfn.MAXIFS($N178:AA178,$N$2:AA$2,\"Year\")+$E178<=$E$1,Y178+$E178,0),IF(AB$2=\"Repair %\",IF(Y178>0,$C178,0),IF(AB$2=\"Spares %\",IF(IF(W178>0,$C178,0)*5>80%,50%,IF(W178>0,$C178,0)*5),0))))","v":0},{"$f":"IF(AB178=0,0,IF(AC$2=\"Year\",IF(_xlfn.MAXIFS($N178:AB178,$N$2:AB$2,\"Year\")+$E178<=$E$1,Z178+$E178,0),IF(AC$2=\"Repair %\",IF(Z178>0,$C$3,0),IF(AC$2=\"Spares %\",IF(IF(Z178>0,$C178,0)*100>50%,50%,IF(Z178>0,$C178,0)*100),0))))","v":0},{"$f":"IF(AC178=0,0,IF(AD$2=\"Year\",IF(_xlfn.MAXIFS($N178:AC178,$N$2:AC$2,\"Year\")+$E178<=$E$1,AA178+$E178,0),IF(AD$2=\"Repair %\",IF(AA178>0,$C178,0),IF(AD$2=\"Spares %\",IF(IF(AA178>0,$C178,0)*100>50%,50%,IF(AA178>0,$C178,0)*100),0))))","v":0},{"$f":"IF(AD178=0,0,IF(AE$2=\"Year\",IF(_xlfn.MAXIFS($N178:AD178,$N$2:AD$2,\"Year\")+$E178<=$E$1,AB178+$E178,0),IF(AE$2=\"Repair %\",IF(AB178>0,$C178,0),IF(AE$2=\"Spares %\",IF(IF(Z178>0,$C178,0)*5>80%,50%,IF(Z178>0,$C178,0)*5),0))))","v":0},{"$f":"IF(AE178=0,0,IF(AF$2=\"Year\",IF(_xlfn.MAXIFS($N178:AE178,$N$2:AE$2,\"Year\")+$E178<=$E$1,AC178+$E178,0),IF(AF$2=\"Repair %\",IF(AC178>0,$C$3,0),IF(AF$2=\"Spares %\",IF(IF(AC178>0,$C178,0)*100>50%,50%,IF(AC178>0,$C178,0)*100),0))))","v":0},{"$f":"IF(AF178=0,0,IF(AG$2=\"Year\",IF(_xlfn.MAXIFS($N178:AF178,$N$2:AF$2,\"Year\")+$E178<=$E$1,AD178+$E178,0),IF(AG$2=\"Repair %\",IF(AD178>0,$C178,0),IF(AG$2=\"Spares %\",IF(IF(AD178>0,$C178,0)*100>50%,50%,IF(AD178>0,$C178,0)*100),0))))","v":0},{"$f":"IF(AG178=0,0,IF(AH$2=\"Year\",IF(_xlfn.MAXIFS($N178:AG178,$N$2:AG$2,\"Year\")+$E178<=$E$1,AE178+$E178,0),IF(AH$2=\"Repair %\",IF(AE178>0,$C178,0),IF(AH$2=\"Spares %\",IF(IF(AC178>0,$C178,0)*5>80%,50%,IF(AC178>0,$C178,0)*5),0))))","v":0},{"$f":"IF(AH178=0,0,IF(AI$2=\"Year\",IF(_xlfn.MAXIFS($N178:AH178,$N$2:AH$2,\"Year\")+$E178<=$E$1,AF178+$E178,0),IF(AI$2=\"Repair %\",IF(AF178>0,$C$3,0),IF(AI$2=\"Spares %\",IF(IF(AF178>0,$C178,0)*100>50%,50%,IF(AF178>0,$C178,0)*100),0))))","v":0},{"$f":"IF(AI178=0,0,IF(AJ$2=\"Year\",IF(_xlfn.MAXIFS($N178:AI178,$N$2:AI$2,\"Year\")+$E178<=$E$1,AG178+$E178,0),IF(AJ$2=\"Repair %\",IF(AG178>0,$C178,0),IF(AJ$2=\"Spares %\",IF(IF(AG178>0,$C178,0)*100>50%,50%,IF(AG178>0,$C178,0)*100),0))))","v":0},{"$f":"IF(AJ178=0,0,IF(AK$2=\"Year\",IF(_xlfn.MAXIFS($N178:AJ178,$N$2:AJ$2,\"Year\")+$E178<=$E$1,AH178+$E178,0),IF(AK$2=\"Repair %\",IF(AH178>0,$C178,0),IF(AK$2=\"Spares %\",IF(IF(AF178>0,$C178,0)*5>80%,50%,IF(AF178>0,$C178,0)*5),0))))","v":0},{"$f":"IF(AK178=0,0,IF(AL$2=\"Year\",IF(_xlfn.MAXIFS($N178:AK178,$N$2:AK$2,\"Year\")+$E178<=$E$1,AI178+$E178,0),IF(AL$2=\"Repair %\",IF(AI178>0,$C$3,0),IF(AL$2=\"Spares %\",IF(IF(AI178>0,$C178,0)*100>50%,50%,IF(AI178>0,$C178,0)*100),0))))","v":0},{"$f":"IF(AL178=0,0,IF(AM$2=\"Year\",IF(_xlfn.MAXIFS($N178:AL178,$N$2:AL$2,\"Year\")+$E178<=$E$1,AJ178+$E178,0),IF(AM$2=\"Repair %\",IF(AJ178>0,$C178,0),IF(AM$2=\"Spares %\",IF(IF(AJ178>0,$C178,0)*100>50%,50%,IF(AJ178>0,$C178,0)*100),0))))","v":0},{"$f":"IF(AM178=0,0,IF(AN$2=\"Year\",IF(_xlfn.MAXIFS($N178:AM178,$N$2:AM$2,\"Year\")+$E178<=$E$1,AK178+$E178,0),IF(AN$2=\"Repair %\",IF(AK178>0,$C178,0),IF(AN$2=\"Spares %\",IF(IF(AI178>0,$C178,0)*5>80%,50%,IF(AI178>0,$C178,0)*5),0))))","v":0},{"$f":"IF(AN178=0,0,IF(AO$2=\"Year\",IF(_xlfn.MAXIFS($N178:AN178,$N$2:AN$2,\"Year\")+$E178<=$E$1,AL178+$E178,0),IF(AO$2=\"Repair %\",IF(AL178>0,$C$3,0),IF(AO$2=\"Spares %\",IF(IF(AL178>0,$C178,0)*100>50%,50%,IF(AL178>0,$C178,0)*100),0))))","v":0},{"$f":"IF(AO178=0,0,IF(AP$2=\"Year\",IF(_xlfn.MAXIFS($N178:AO178,$N$2:AO$2,\"Year\")+$E178<=$E$1,AM178+$E178,0),IF(AP$2=\"Repair %\",IF(AM178>0,$C178,0),IF(AP$2=\"Spares %\",IF(IF(AM178>0,$C178,0)*100>50%,50%,IF(AM178>0,$C178,0)*100),0))))","v":0},{"$f":"IF(AP178=0,0,IF(AQ$2=\"Year\",IF(_xlfn.MAXIFS($N178:AP178,$N$2:AP$2,\"Year\")+$E178<=$E$1,AN178+$E178,0),IF(AQ$2=\"Repair %\",IF(AN178>0,$C178,0),IF(AQ$2=\"Spares %\",IF(IF(AL178>0,$C178,0)*5>80%,50%,IF(AL178>0,$C178,0)*5),0))))","v":0}]
[{"$f":"INDEX('Avionics ID'!A:E,MATCH(B179,'Avionics ID'!E:E,0),1)","v":747},"WX control panel",0.05,0.06,20,"Obsolecence",{"$f":"SUBSTITUTE(ADDRESS(1,MATCH(A179,'Pt1-AvionicsComponentCosts'!$A$6:$NC$6,0)+1),\"$1\",\"\")","v":"$ND"},{"$f":"_xlfn.TEXTJOIN(\", \",TRUE,_xlfn.UNIQUE(_xlfn._xlws.SORT(_xlfn._xlws.FILTER('Pt1-AvionicsComponentCosts'!$NF$12:$NF$384,ISNUMBER(INDIRECT(\"'Pt1-AvionicsComponentCosts'!\"&G179&\"$12:\"&G179&\"$384\"))))))","v":"A300, A320, A321, A330, A340, A350, ATR, B737, B747, B757, B767, B777, B787, Challenger, Citation, E550, EMB Bizjet, EMB Regional, Falcon, Global, Gulfstream, Hawker, Hondajet, Learjet, MD-11, Mil Transport, Military Jet, Nextant 400XT, PC-24, Phenom, Praetor, SF50"},null,0.06,0.05,0.44800000000000001,1.298,{"$f":"COUNTIF($N$2:N$2,\"Year\")*$G$1","v":10},null,0,{"$f":"COUNTIF($N$2:Q$2,\"Year\")*$G$1","v":20},{"$f":"IF(Q179=0,0,IF(R$2=\"Year\",IF(_xlfn.MAXIFS($N179:Q179,$N$2:Q$2,\"Year\")+$E179<=$E$1,O179+$E179,0),IF(R$2=\"Repair %\",IF(O179>0,$C179,0),IF(R$2=\"Spares %\",IF(IF(O179>0,$C179,0)*100>50%,50%,IF(O179>0,$C179,0)*100),0))))","v":0},1,{"$f":"COUNTIF($N$2:T$2,\"Year\")*$G$1","v":30},{"$f":"IF(T179=0,0,IF(U$2=\"Year\",IF(_xlfn.MAXIFS($N179:T179,$N$2:T$2,\"Year\")+$E179<=$E$1,R179+$E179,0),IF(U$2=\"Repair %\",IF(R179>0,$C179,0),IF(U$2=\"Spares %\",IF(IF(R179>0,$C179,0)*100>50%,50%,IF(R179>0,$C179,0)*100),0))))","v":0},0,{"$f":"COUNTIF($N$2:W$2,\"Year\")*$G$1","v":40},{"$f":"IF(W179=0,0,IF(X$2=\"Year\",IF(_xlfn.MAXIFS($N179:W179,$N$2:W$2,\"Year\")+$E179<=$E$1,U179+$E179,0),IF(X$2=\"Repair %\",IF(U179>0,$C179,0),IF(X$2=\"Spares %\",IF(IF(U179>0,$C179,0)*100>50%,50%,IF(U179>0,$C179,0)*100),0))))","v":0},1,{"$f":"IF(Y179=0,0,IF(Z$2=\"Year\",IF(_xlfn.MAXIFS($N179:Y179,$N$2:Y$2,\"Year\")+$E179<=$E$1,W179+$E179,0),IF(Z$2=\"Repair %\",IF(W179>0,$C$3,0),IF(Z$2=\"Spares %\",IF(IF(W179>0,$C179,0)*100>50%,50%,IF(W179>0,$C179,0)*100),0))))","v":0},{"$f":"IF(Z179=0,0,IF(AA$2=\"Year\",IF(_xlfn.MAXIFS($N179:Z179,$N$2:Z$2,\"Year\")+$E179<=$E$1,X179+$E179,0),IF(AA$2=\"Repair %\",IF(X179>0,$C179,0),IF(AA$2=\"Spares %\",IF(IF(X179>0,$C179,0)*100>50%,50%,IF(X179>0,$C179,0)*100),0))))","v":0},{"$f":"IF(AA179=0,0,IF(AB$2=\"Year\",IF(_xlfn.MAXIFS($N179:AA179,$N$2:AA$2,\"Year\")+$E179<=$E$1,Y179+$E179,0),IF(AB$2=\"Repair %\",IF(Y179>0,$C179,0),IF(AB$2=\"Spares %\",IF(IF(W179>0,$C179,0)*5>80%,50%,IF(W179>0,$C179,0)*5),0))))","v":0},{"$f":"IF(AB179=0,0,IF(AC$2=\"Year\",IF(_xlfn.MAXIFS($N179:AB179,$N$2:AB$2,\"Year\")+$E179<=$E$1,Z179+$E179,0),IF(AC$2=\"Repair %\",IF(Z179>0,$C$3,0),IF(AC$2=\"Spares %\",IF(IF(Z179>0,$C179,0)*100>50%,50%,IF(Z179>0,$C179,0)*100),0))))","v":0},{"$f":"IF(AC179=0,0,IF(AD$2=\"Year\",IF(_xlfn.MAXIFS($N179:AC179,$N$2:AC$2,\"Year\")+$E179<=$E$1,AA179+$E179,0),IF(AD$2=\"Repair %\",IF(AA179>0,$C179,0),IF(AD$2=\"Spares %\",IF(IF(AA179>0,$C179,0)*100>50%,50%,IF(AA179>0,$C179,0)*100),0))))","v":0},{"$f":"IF(AD179=0,0,IF(AE$2=\"Year\",IF(_xlfn.MAXIFS($N179:AD179,$N$2:AD$2,\"Year\")+$E179<=$E$1,AB179+$E179,0),IF(AE$2=\"Repair %\",IF(AB179>0,$C179,0),IF(AE$2=\"Spares %\",IF(IF(Z179>0,$C179,0)*5>80%,50%,IF(Z179>0,$C179,0)*5),0))))","v":0},{"$f":"IF(AE179=0,0,IF(AF$2=\"Year\",IF(_xlfn.MAXIFS($N179:AE179,$N$2:AE$2,\"Year\")+$E179<=$E$1,AC179+$E179,0),IF(AF$2=\"Repair %\",IF(AC179>0,$C$3,0),IF(AF$2=\"Spares %\",IF(IF(AC179>0,$C179,0)*100>50%,50%,IF(AC179>0,$C179,0)*100),0))))","v":0},{"$f":"IF(AF179=0,0,IF(AG$2=\"Year\",IF(_xlfn.MAXIFS($N179:AF179,$N$2:AF$2,\"Year\")+$E179<=$E$1,AD179+$E179,0),IF(AG$2=\"Repair %\",IF(AD179>0,$C179,0),IF(AG$2=\"Spares %\",IF(IF(AD179>0,$C179,0)*100>50%,50%,IF(AD179>0,$C179,0)*100),0))))","v":0},{"$f":"IF(AG179=0,0,IF(AH$2=\"Year\",IF(_xlfn.MAXIFS($N179:AG179,$N$2:AG$2,\"Year\")+$E179<=$E$1,AE179+$E179,0),IF(AH$2=\"Repair %\",IF(AE179>0,$C179,0),IF(AH$2=\"Spares %\",IF(IF(AC179>0,$C179,0)*5>80%,50%,IF(AC179>0,$C179,0)*5),0))))","v":0},{"$f":"IF(AH179=0,0,IF(AI$2=\"Year\",IF(_xlfn.MAXIFS($N179:AH179,$N$2:AH$2,\"Year\")+$E179<=$E$1,AF179+$E179,0),IF(AI$2=\"Repair %\",IF(AF179>0,$C$3,0),IF(AI$2=\"Spares %\",IF(IF(AF179>0,$C179,0)*100>50%,50%,IF(AF179>0,$C179,0)*100),0))))","v":0},{"$f":"IF(AI179=0,0,IF(AJ$2=\"Year\",IF(_xlfn.MAXIFS($N179:AI179,$N$2:AI$2,\"Year\")+$E179<=$E$1,AG179+$E179,0),IF(AJ$2=\"Repair %\",IF(AG179>0,$C179,0),IF(AJ$2=\"Spares %\",IF(IF(AG179>0,$C179,0)*100>50%,50%,IF(AG179>0,$C179,0)*100),0))))","v":0},{"$f":"IF(AJ179=0,0,IF(AK$2=\"Year\",IF(_xlfn.MAXIFS($N179:AJ179,$N$2:AJ$2,\"Year\")+$E179<=$E$1,AH179+$E179,0),IF(AK$2=\"Repair %\",IF(AH179>0,$C179,0),IF(AK$2=\"Spares %\",IF(IF(AF179>0,$C179,0)*5>80%,50%,IF(AF179>0,$C179,0)*5),0))))","v":0},{"$f":"IF(AK179=0,0,IF(AL$2=\"Year\",IF(_xlfn.MAXIFS($N179:AK179,$N$2:AK$2,\"Year\")+$E179<=$E$1,AI179+$E179,0),IF(AL$2=\"Repair %\",IF(AI179>0,$C$3,0),IF(AL$2=\"Spares %\",IF(IF(AI179>0,$C179,0)*100>50%,50%,IF(AI179>0,$C179,0)*100),0))))","v":0},{"$f":"IF(AL179=0,0,IF(AM$2=\"Year\",IF(_xlfn.MAXIFS($N179:AL179,$N$2:AL$2,\"Year\")+$E179<=$E$1,AJ179+$E179,0),IF(AM$2=\"Repair %\",IF(AJ179>0,$C179,0),IF(AM$2=\"Spares %\",IF(IF(AJ179>0,$C179,0)*100>50%,50%,IF(AJ179>0,$C179,0)*100),0))))","v":0},{"$f":"IF(AM179=0,0,IF(AN$2=\"Year\",IF(_xlfn.MAXIFS($N179:AM179,$N$2:AM$2,\"Year\")+$E179<=$E$1,AK179+$E179,0),IF(AN$2=\"Repair %\",IF(AK179>0,$C179,0),IF(AN$2=\"Spares %\",IF(IF(AI179>0,$C179,0)*5>80%,50%,IF(AI179>0,$C179,0)*5),0))))","v":0},{"$f":"IF(AN179=0,0,IF(AO$2=\"Year\",IF(_xlfn.MAXIFS($N179:AN179,$N$2:AN$2,\"Year\")+$E179<=$E$1,AL179+$E179,0),IF(AO$2=\"Repair %\",IF(AL179>0,$C$3,0),IF(AO$2=\"Spares %\",IF(IF(AL179>0,$C179,0)*100>50%,50%,IF(AL179>0,$C179,0)*100),0))))","v":0},{"$f":"IF(AO179=0,0,IF(AP$2=\"Year\",IF(_xlfn.MAXIFS($N179:AO179,$N$2:AO$2,\"Year\")+$E179<=$E$1,AM179+$E179,0),IF(AP$2=\"Repair %\",IF(AM179>0,$C179,0),IF(AP$2=\"Spares %\",IF(IF(AM179>0,$C179,0)*100>50%,50%,IF(AM179>0,$C179,0)*100),0))))","v":0},{"$f":"IF(AP179=0,0,IF(AQ$2=\"Year\",IF(_xlfn.MAXIFS($N179:AP179,$N$2:AP$2,\"Year\")+$E179<=$E$1,AN179+$E179,0),IF(AQ$2=\"Repair %\",IF(AN179>0,$C179,0),IF(AQ$2=\"Spares %\",IF(IF(AL179>0,$C179,0)*5>80%,50%,IF(AL179>0,$C179,0)*5),0))))","v":0}]
[718,"ADIRS control panel",0.05,0.06,20,"Obsolecence",{"$f":"SUBSTITUTE(ADDRESS(1,MATCH(A180,'Pt1-AvionicsComponentCosts'!$A$6:$NC$6,0)+1),\"$1\",\"\")","v":"$IR"},{"$f":"_xlfn.TEXTJOIN(\", \",TRUE,_xlfn.UNIQUE(_xlfn._xlws.SORT(_xlfn._xlws.FILTER('Pt1-AvionicsComponentCosts'!$NF$12:$NF$384,ISNUMBER(INDIRECT(\"'Pt1-AvionicsComponentCosts'!\"&G180&\"$12:\"&G180&\"$384\"))))))","v":{"$error":"#VALUE!"}},null,0.06,0.05,0.44800000000000001,1.298,{"$f":"COUNTIF($N$2:N$2,\"Year\")*$G$1","v":10},null,0,{"$f":"COUNTIF($N$2:Q$2,\"Year\")*$G$1","v":20},{"$f":"IF(Q180=0,0,IF(R$2=\"Year\",IF(_xlfn.MAXIFS($N180:Q180,$N$2:Q$2,\"Year\")+$E180<=$E$1,O180+$E180,0),IF(R$2=\"Repair %\",IF(O180>0,$C180,0),IF(R$2=\"Spares %\",IF(IF(O180>0,$C180,0)*100>50%,50%,IF(O180>0,$C180,0)*100),0))))","v":0},1,{"$f":"COUNTIF($N$2:T$2,\"Year\")*$G$1","v":30},{"$f":"IF(T180=0,0,IF(U$2=\"Year\",IF(_xlfn.MAXIFS($N180:T180,$N$2:T$2,\"Year\")+$E180<=$E$1,R180+$E180,0),IF(U$2=\"Repair %\",IF(R180>0,$C180,0),IF(U$2=\"Spares %\",IF(IF(R180>0,$C180,0)*100>50%,50%,IF(R180>0,$C180,0)*100),0))))","v":0},0,{"$f":"COUNTIF($N$2:W$2,\"Year\")*$G$1","v":40},{"$f":"IF(W180=0,0,IF(X$2=\"Year\",IF(_xlfn.MAXIFS($N180:W180,$N$2:W$2,\"Year\")+$E180<=$E$1,U180+$E180,0),IF(X$2=\"Repair %\",IF(U180>0,$C180,0),IF(X$2=\"Spares %\",IF(IF(U180>0,$C180,0)*100>50%,50%,IF(U180>0,$C180,0)*100),0))))","v":0},1,{"$f":"IF(Y180=0,0,IF(Z$2=\"Year\",IF(_xlfn.MAXIFS($N180:Y180,$N$2:Y$2,\"Year\")+$E180<=$E$1,W180+$E180,0),IF(Z$2=\"Repair %\",IF(W180>0,$C$3,0),IF(Z$2=\"Spares %\",IF(IF(W180>0,$C180,0)*100>50%,50%,IF(W180>0,$C180,0)*100),0))))","v":0},{"$f":"IF(Z180=0,0,IF(AA$2=\"Year\",IF(_xlfn.MAXIFS($N180:Z180,$N$2:Z$2,\"Year\")+$E180<=$E$1,X180+$E180,0),IF(AA$2=\"Repair %\",IF(X180>0,$C180,0),IF(AA$2=\"Spares %\",IF(IF(X180>0,$C180,0)*100>50%,50%,IF(X180>0,$C180,0)*100),0))))","v":0},{"$f":"IF(AA180=0,0,IF(AB$2=\"Year\",IF(_xlfn.MAXIFS($N180:AA180,$N$2:AA$2,\"Year\")+$E180<=$E$1,Y180+$E180,0),IF(AB$2=\"Repair %\",IF(Y180>0,$C180,0),IF(AB$2=\"Spares %\",IF(IF(W180>0,$C180,0)*5>80%,50%,IF(W180>0,$C180,0)*5),0))))","v":0},{"$f":"IF(AB180=0,0,IF(AC$2=\"Year\",IF(_xlfn.MAXIFS($N180:AB180,$N$2:AB$2,\"Year\")+$E180<=$E$1,Z180+$E180,0),IF(AC$2=\"Repair %\",IF(Z180>0,$C$3,0),IF(AC$2=\"Spares %\",IF(IF(Z180>0,$C180,0)*100>50%,50%,IF(Z180>0,$C180,0)*100),0))))","v":0},{"$f":"IF(AC180=0,0,IF(AD$2=\"Year\",IF(_xlfn.MAXIFS($N180:AC180,$N$2:AC$2,\"Year\")+$E180<=$E$1,AA180+$E180,0),IF(AD$2=\"Repair %\",IF(AA180>0,$C180,0),IF(AD$2=\"Spares %\",IF(IF(AA180>0,$C180,0)*100>50%,50%,IF(AA180>0,$C180,0)*100),0))))","v":0},{"$f":"IF(AD180=0,0,IF(AE$2=\"Year\",IF(_xlfn.MAXIFS($N180:AD180,$N$2:AD$2,\"Year\")+$E180<=$E$1,AB180+$E180,0),IF(AE$2=\"Repair %\",IF(AB180>0,$C180,0),IF(AE$2=\"Spares %\",IF(IF(Z180>0,$C180,0)*5>80%,50%,IF(Z180>0,$C180,0)*5),0))))","v":0},{"$f":"IF(AE180=0,0,IF(AF$2=\"Year\",IF(_xlfn.MAXIFS($N180:AE180,$N$2:AE$2,\"Year\")+$E180<=$E$1,AC180+$E180,0),IF(AF$2=\"Repair %\",IF(AC180>0,$C$3,0),IF(AF$2=\"Spares %\",IF(IF(AC180>0,$C180,0)*100>50%,50%,IF(AC180>0,$C180,0)*100),0))))","v":0},{"$f":"IF(AF180=0,0,IF(AG$2=\"Year\",IF(_xlfn.MAXIFS($N180:AF180,$N$2:AF$2,\"Year\")+$E180<=$E$1,AD180+$E180,0),IF(AG$2=\"Repair %\",IF(AD180>0,$C180,0),IF(AG$2=\"Spares %\",IF(IF(AD180>0,$C180,0)*100>50%,50%,IF(AD180>0,$C180,0)*100),0))))","v":0},{"$f":"IF(AG180=0,0,IF(AH$2=\"Year\",IF(_xlfn.MAXIFS($N180:AG180,$N$2:AG$2,\"Year\")+$E180<=$E$1,AE180+$E180,0),IF(AH$2=\"Repair %\",IF(AE180>0,$C180,0),IF(AH$2=\"Spares %\",IF(IF(AC180>0,$C180,0)*5>80%,50%,IF(AC180>0,$C180,0)*5),0))))","v":0},{"$f":"IF(AH180=0,0,IF(AI$2=\"Year\",IF(_xlfn.MAXIFS($N180:AH180,$N$2:AH$2,\"Year\")+$E180<=$E$1,AF180+$E180,0),IF(AI$2=\"Repair %\",IF(AF180>0,$C$3,0),IF(AI$2=\"Spares %\",IF(IF(AF180>0,$C180,0)*100>50%,50%,IF(AF180>0,$C180,0)*100),0))))","v":0},{"$f":"IF(AI180=0,0,IF(AJ$2=\"Year\",IF(_xlfn.MAXIFS($N180:AI180,$N$2:AI$2,\"Year\")+$E180<=$E$1,AG180+$E180,0),IF(AJ$2=\"Repair %\",IF(AG180>0,$C180,0),IF(AJ$2=\"Spares %\",IF(IF(AG180>0,$C180,0)*100>50%,50%,IF(AG180>0,$C180,0)*100),0))))","v":0},{"$f":"IF(AJ180=0,0,IF(AK$2=\"Year\",IF(_xlfn.MAXIFS($N180:AJ180,$N$2:AJ$2,\"Year\")+$E180<=$E$1,AH180+$E180,0),IF(AK$2=\"Repair %\",IF(AH180>0,$C180,0),IF(AK$2=\"Spares %\",IF(IF(AF180>0,$C180,0)*5>80%,50%,IF(AF180>0,$C180,0)*5),0))))","v":0},{"$f":"IF(AK180=0,0,IF(AL$2=\"Year\",IF(_xlfn.MAXIFS($N180:AK180,$N$2:AK$2,\"Year\")+$E180<=$E$1,AI180+$E180,0),IF(AL$2=\"Repair %\",IF(AI180>0,$C$3,0),IF(AL$2=\"Spares %\",IF(IF(AI180>0,$C180,0)*100>50%,50%,IF(AI180>0,$C180,0)*100),0))))","v":0},{"$f":"IF(AL180=0,0,IF(AM$2=\"Year\",IF(_xlfn.MAXIFS($N180:AL180,$N$2:AL$2,\"Year\")+$E180<=$E$1,AJ180+$E180,0),IF(AM$2=\"Repair %\",IF(AJ180>0,$C180,0),IF(AM$2=\"Spares %\",IF(IF(AJ180>0,$C180,0)*100>50%,50%,IF(AJ180>0,$C180,0)*100),0))))","v":0},{"$f":"IF(AM180=0,0,IF(AN$2=\"Year\",IF(_xlfn.MAXIFS($N180:AM180,$N$2:AM$2,\"Year\")+$E180<=$E$1,AK180+$E180,0),IF(AN$2=\"Repair %\",IF(AK180>0,$C180,0),IF(AN$2=\"Spares %\",IF(IF(AI180>0,$C180,0)*5>80%,50%,IF(AI180>0,$C180,0)*5),0))))","v":0},{"$f":"IF(AN180=0,0,IF(AO$2=\"Year\",IF(_xlfn.MAXIFS($N180:AN180,$N$2:AN$2,\"Year\")+$E180<=$E$1,AL180+$E180,0),IF(AO$2=\"Repair %\",IF(AL180>0,$C$3,0),IF(AO$2=\"Spares %\",IF(IF(AL180>0,$C180,0)*100>50%,50%,IF(AL180>0,$C180,0)*100),0))))","v":0},{"$f":"IF(AO180=0,0,IF(AP$2=\"Year\",IF(_xlfn.MAXIFS($N180:AO180,$N$2:AO$2,\"Year\")+$E180<=$E$1,AM180+$E180,0),IF(AP$2=\"Repair %\",IF(AM180>0,$C180,0),IF(AP$2=\"Spares %\",IF(IF(AM180>0,$C180,0)*100>50%,50%,IF(AM180>0,$C180,0)*100),0))))","v":0},{"$f":"IF(AP180=0,0,IF(AQ$2=\"Year\",IF(_xlfn.MAXIFS($N180:AP180,$N$2:AP$2,\"Year\")+$E180<=$E$1,AN180+$E180,0),IF(AQ$2=\"Repair %\",IF(AN180>0,$C180,0),IF(AQ$2=\"Spares %\",IF(IF(AL180>0,$C180,0)*5>80%,50%,IF(AL180>0,$C180,0)*5),0))))","v":0}]
[786,"Communication, Navigation, Identification Unit AN/ASQ-242",0.05,0.06,20,"Obsolecence",{"$f":"SUBSTITUTE(ADDRESS(1,MATCH(A181,'Pt1-AvionicsComponentCosts'!$A$6:$NC$6,0)+1),\"$1\",\"\")","v":"$IZ"},{"$f":"_xlfn.TEXTJOIN(\", \",TRUE,_xlfn.UNIQUE(_xlfn._xlws.SORT(_xlfn._xlws.FILTER('Pt1-AvionicsComponentCosts'!$NF$12:$NF$384,ISNUMBER(INDIRECT(\"'Pt1-AvionicsComponentCosts'!\"&G181&\"$12:\"&G181&\"$384\"))))))","v":"Attack, Stealth"},null,0.06,0.05,0.44800000000000001,1.298,{"$f":"COUNTIF($N$2:N$2,\"Year\")*$G$1","v":10},null,0,{"$f":"COUNTIF($N$2:Q$2,\"Year\")*$G$1","v":20},{"$f":"IF(Q181=0,0,IF(R$2=\"Year\",IF(_xlfn.MAXIFS($N181:Q181,$N$2:Q$2,\"Year\")+$E181<=$E$1,O181+$E181,0),IF(R$2=\"Repair %\",IF(O181>0,$C181,0),IF(R$2=\"Spares %\",IF(IF(O181>0,$C181,0)*100>50%,50%,IF(O181>0,$C181,0)*100),0))))","v":0},1,{"$f":"COUNTIF($N$2:T$2,\"Year\")*$G$1","v":30},{"$f":"IF(T181=0,0,IF(U$2=\"Year\",IF(_xlfn.MAXIFS($N181:T181,$N$2:T$2,\"Year\")+$E181<=$E$1,R181+$E181,0),IF(U$2=\"Repair %\",IF(R181>0,$C181,0),IF(U$2=\"Spares %\",IF(IF(R181>0,$C181,0)*100>50%,50%,IF(R181>0,$C181,0)*100),0))))","v":0},0,{"$f":"COUNTIF($N$2:W$2,\"Year\")*$G$1","v":40},{"$f":"IF(W181=0,0,IF(X$2=\"Year\",IF(_xlfn.MAXIFS($N181:W181,$N$2:W$2,\"Year\")+$E181<=$E$1,U181+$E181,0),IF(X$2=\"Repair %\",IF(U181>0,$C181,0),IF(X$2=\"Spares %\",IF(IF(U181>0,$C181,0)*100>50%,50%,IF(U181>0,$C181,0)*100),0))))","v":0},1,{"$f":"IF(Y181=0,0,IF(Z$2=\"Year\",IF(_xlfn.MAXIFS($N181:Y181,$N$2:Y$2,\"Year\")+$E181<=$E$1,W181+$E181,0),IF(Z$2=\"Repair %\",IF(W181>0,$C$3,0),IF(Z$2=\"Spares %\",IF(IF(W181>0,$C181,0)*100>50%,50%,IF(W181>0,$C181,0)*100),0))))","v":0},{"$f":"IF(Z181=0,0,IF(AA$2=\"Year\",IF(_xlfn.MAXIFS($N181:Z181,$N$2:Z$2,\"Year\")+$E181<=$E$1,X181+$E181,0),IF(AA$2=\"Repair %\",IF(X181>0,$C181,0),IF(AA$2=\"Spares %\",IF(IF(X181>0,$C181,0)*100>50%,50%,IF(X181>0,$C181,0)*100),0))))","v":0},{"$f":"IF(AA181=0,0,IF(AB$2=\"Year\",IF(_xlfn.MAXIFS($N181:AA181,$N$2:AA$2,\"Year\")+$E181<=$E$1,Y181+$E181,0),IF(AB$2=\"Repair %\",IF(Y181>0,$C181,0),IF(AB$2=\"Spares %\",IF(IF(W181>0,$C181,0)*5>80%,50%,IF(W181>0,$C181,0)*5),0))))","v":0},{"$f":"IF(AB181=0,0,IF(AC$2=\"Year\",IF(_xlfn.MAXIFS($N181:AB181,$N$2:AB$2,\"Year\")+$E181<=$E$1,Z181+$E181,0),IF(AC$2=\"Repair %\",IF(Z181>0,$C$3,0),IF(AC$2=\"Spares %\",IF(IF(Z181>0,$C181,0)*100>50%,50%,IF(Z181>0,$C181,0)*100),0))))","v":0},{"$f":"IF(AC181=0,0,IF(AD$2=\"Year\",IF(_xlfn.MAXIFS($N181:AC181,$N$2:AC$2,\"Year\")+$E181<=$E$1,AA181+$E181,0),IF(AD$2=\"Repair %\",IF(AA181>0,$C181,0),IF(AD$2=\"Spares %\",IF(IF(AA181>0,$C181,0)*100>50%,50%,IF(AA181>0,$C181,0)*100),0))))","v":0},{"$f":"IF(AD181=0,0,IF(AE$2=\"Year\",IF(_xlfn.MAXIFS($N181:AD181,$N$2:AD$2,\"Year\")+$E181<=$E$1,AB181+$E181,0),IF(AE$2=\"Repair %\",IF(AB181>0,$C181,0),IF(AE$2=\"Spares %\",IF(IF(Z181>0,$C181,0)*5>80%,50%,IF(Z181>0,$C181,0)*5),0))))","v":0},{"$f":"IF(AE181=0,0,IF(AF$2=\"Year\",IF(_xlfn.MAXIFS($N181:AE181,$N$2:AE$2,\"Year\")+$E181<=$E$1,AC181+$E181,0),IF(AF$2=\"Repair %\",IF(AC181>0,$C$3,0),IF(AF$2=\"Spares %\",IF(IF(AC181>0,$C181,0)*100>50%,50%,IF(AC181>0,$C181,0)*100),0))))","v":0},{"$f":"IF(AF181=0,0,IF(AG$2=\"Year\",IF(_xlfn.MAXIFS($N181:AF181,$N$2:AF$2,\"Year\")+$E181<=$E$1,AD181+$E181,0),IF(AG$2=\"Repair %\",IF(AD181>0,$C181,0),IF(AG$2=\"Spares %\",IF(IF(AD181>0,$C181,0)*100>50%,50%,IF(AD181>0,$C181,0)*100),0))))","v":0},{"$f":"IF(AG181=0,0,IF(AH$2=\"Year\",IF(_xlfn.MAXIFS($N181:AG181,$N$2:AG$2,\"Year\")+$E181<=$E$1,AE181+$E181,0),IF(AH$2=\"Repair %\",IF(AE181>0,$C181,0),IF(AH$2=\"Spares %\",IF(IF(AC181>0,$C181,0)*5>80%,50%,IF(AC181>0,$C181,0)*5),0))))","v":0},{"$f":"IF(AH181=0,0,IF(AI$2=\"Year\",IF(_xlfn.MAXIFS($N181:AH181,$N$2:AH$2,\"Year\")+$E181<=$E$1,AF181+$E181,0),IF(AI$2=\"Repair %\",IF(AF181>0,$C$3,0),IF(AI$2=\"Spares %\",IF(IF(AF181>0,$C181,0)*100>50%,50%,IF(AF181>0,$C181,0)*100),0))))","v":0},{"$f":"IF(AI181=0,0,IF(AJ$2=\"Year\",IF(_xlfn.MAXIFS($N181:AI181,$N$2:AI$2,\"Year\")+$E181<=$E$1,AG181+$E181,0),IF(AJ$2=\"Repair %\",IF(AG181>0,$C181,0),IF(AJ$2=\"Spares %\",IF(IF(AG181>0,$C181,0)*100>50%,50%,IF(AG181>0,$C181,0)*100),0))))","v":0},{"$f":"IF(AJ181=0,0,IF(AK$2=\"Year\",IF(_xlfn.MAXIFS($N181:AJ181,$N$2:AJ$2,\"Year\")+$E181<=$E$1,AH181+$E181,0),IF(AK$2=\"Repair %\",IF(AH181>0,$C181,0),IF(AK$2=\"Spares %\",IF(IF(AF181>0,$C181,0)*5>80%,50%,IF(AF181>0,$C181,0)*5),0))))","v":0},{"$f":"IF(AK181=0,0,IF(AL$2=\"Year\",IF(_xlfn.MAXIFS($N181:AK181,$N$2:AK$2,\"Year\")+$E181<=$E$1,AI181+$E181,0),IF(AL$2=\"Repair %\",IF(AI181>0,$C$3,0),IF(AL$2=\"Spares %\",IF(IF(AI181>0,$C181,0)*100>50%,50%,IF(AI181>0,$C181,0)*100),0))))","v":0},{"$f":"IF(AL181=0,0,IF(AM$2=\"Year\",IF(_xlfn.MAXIFS($N181:AL181,$N$2:AL$2,\"Year\")+$E181<=$E$1,AJ181+$E181,0),IF(AM$2=\"Repair %\",IF(AJ181>0,$C181,0),IF(AM$2=\"Spares %\",IF(IF(AJ181>0,$C181,0)*100>50%,50%,IF(AJ181>0,$C181,0)*100),0))))","v":0},{"$f":"IF(AM181=0,0,IF(AN$2=\"Year\",IF(_xlfn.MAXIFS($N181:AM181,$N$2:AM$2,\"Year\")+$E181<=$E$1,AK181+$E181,0),IF(AN$2=\"Repair %\",IF(AK181>0,$C181,0),IF(AN$2=\"Spares %\",IF(IF(AI181>0,$C181,0)*5>80%,50%,IF(AI181>0,$C181,0)*5),0))))","v":0},{"$f":"IF(AN181=0,0,IF(AO$2=\"Year\",IF(_xlfn.MAXIFS($N181:AN181,$N$2:AN$2,\"Year\")+$E181<=$E$1,AL181+$E181,0),IF(AO$2=\"Repair %\",IF(AL181>0,$C$3,0),IF(AO$2=\"Spares %\",IF(IF(AL181>0,$C181,0)*100>50%,50%,IF(AL181>0,$C181,0)*100),0))))","v":0},{"$f":"IF(AO181=0,0,IF(AP$2=\"Year\",IF(_xlfn.MAXIFS($N181:AO181,$N$2:AO$2,\"Year\")+$E181<=$E$1,AM181+$E181,0),IF(AP$2=\"Repair %\",IF(AM181>0,$C181,0),IF(AP$2=\"Spares %\",IF(IF(AM181>0,$C181,0)*100>50%,50%,IF(AM181>0,$C181,0)*100),0))))","v":0},{"$f":"IF(AP181=0,0,IF(AQ$2=\"Year\",IF(_xlfn.MAXIFS($N181:AP181,$N$2:AP$2,\"Year\")+$E181<=$E$1,AN181+$E181,0),IF(AQ$2=\"Repair %\",IF(AN181>0,$C181,0),IF(AQ$2=\"Spares %\",IF(IF(AL181>0,$C181,0)*5>80%,50%,IF(AL181>0,$C181,0)*5),0))))","v":0}]
[720,"Pedestal ADS select",0.05,0.06,20,"Obsolecence",{"$f":"SUBSTITUTE(ADDRESS(1,MATCH(A182,'Pt1-AvionicsComponentCosts'!$A$6:$NC$6,0)+1),\"$1\",\"\")","v":"$JZ"},{"$f":"_xlfn.TEXTJOIN(\", \",TRUE,_xlfn.UNIQUE(_xlfn._xlws.SORT(_xlfn._xlws.FILTER('Pt1-AvionicsComponentCosts'!$NF$12:$NF$384,ISNUMBER(INDIRECT(\"'Pt1-AvionicsComponentCosts'!\"&G182&\"$12:\"&G182&\"$384\"))))))","v":{"$error":"#VALUE!"}},null,0.06,0.05,0.44800000000000001,1.298,{"$f":"COUNTIF($N$2:N$2,\"Year\")*$G$1","v":10},null,0,{"$f":"COUNTIF($N$2:Q$2,\"Year\")*$G$1","v":20},{"$f":"IF(Q182=0,0,IF(R$2=\"Year\",IF(_xlfn.MAXIFS($N182:Q182,$N$2:Q$2,\"Year\")+$E182<=$E$1,O182+$E182,0),IF(R$2=\"Repair %\",IF(O182>0,$C182,0),IF(R$2=\"Spares %\",IF(IF(O182>0,$C182,0)*100>50%,50%,IF(O182>0,$C182,0)*100),0))))","v":0},1,{"$f":"COUNTIF($N$2:T$2,\"Year\")*$G$1","v":30},{"$f":"IF(T182=0,0,IF(U$2=\"Year\",IF(_xlfn.MAXIFS($N182:T182,$N$2:T$2,\"Year\")+$E182<=$E$1,R182+$E182,0),IF(U$2=\"Repair %\",IF(R182>0,$C182,0),IF(U$2=\"Spares %\",IF(IF(R182>0,$C182,0)*100>50%,50%,IF(R182>0,$C182,0)*100),0))))","v":0},0,{"$f":"COUNTIF($N$2:W$2,\"Year\")*$G$1","v":40},{"$f":"IF(W182=0,0,IF(X$2=\"Year\",IF(_xlfn.MAXIFS($N182:W182,$N$2:W$2,\"Year\")+$E182<=$E$1,U182+$E182,0),IF(X$2=\"Repair %\",IF(U182>0,$C182,0),IF(X$2=\"Spares %\",IF(IF(U182>0,$C182,0)*100>50%,50%,IF(U182>0,$C182,0)*100),0))))","v":0},1,{"$f":"IF(Y182=0,0,IF(Z$2=\"Year\",IF(_xlfn.MAXIFS($N182:Y182,$N$2:Y$2,\"Year\")+$E182<=$E$1,W182+$E182,0),IF(Z$2=\"Repair %\",IF(W182>0,$C$3,0),IF(Z$2=\"Spares %\",IF(IF(W182>0,$C182,0)*100>50%,50%,IF(W182>0,$C182,0)*100),0))))","v":0},{"$f":"IF(Z182=0,0,IF(AA$2=\"Year\",IF(_xlfn.MAXIFS($N182:Z182,$N$2:Z$2,\"Year\")+$E182<=$E$1,X182+$E182,0),IF(AA$2=\"Repair %\",IF(X182>0,$C182,0),IF(AA$2=\"Spares %\",IF(IF(X182>0,$C182,0)*100>50%,50%,IF(X182>0,$C182,0)*100),0))))","v":0},{"$f":"IF(AA182=0,0,IF(AB$2=\"Year\",IF(_xlfn.MAXIFS($N182:AA182,$N$2:AA$2,\"Year\")+$E182<=$E$1,Y182+$E182,0),IF(AB$2=\"Repair %\",IF(Y182>0,$C182,0),IF(AB$2=\"Spares %\",IF(IF(W182>0,$C182,0)*5>80%,50%,IF(W182>0,$C182,0)*5),0))))","v":0},{"$f":"IF(AB182=0,0,IF(AC$2=\"Year\",IF(_xlfn.MAXIFS($N182:AB182,$N$2:AB$2,\"Year\")+$E182<=$E$1,Z182+$E182,0),IF(AC$2=\"Repair %\",IF(Z182>0,$C$3,0),IF(AC$2=\"Spares %\",IF(IF(Z182>0,$C182,0)*100>50%,50%,IF(Z182>0,$C182,0)*100),0))))","v":0},{"$f":"IF(AC182=0,0,IF(AD$2=\"Year\",IF(_xlfn.MAXIFS($N182:AC182,$N$2:AC$2,\"Year\")+$E182<=$E$1,AA182+$E182,0),IF(AD$2=\"Repair %\",IF(AA182>0,$C182,0),IF(AD$2=\"Spares %\",IF(IF(AA182>0,$C182,0)*100>50%,50%,IF(AA182>0,$C182,0)*100),0))))","v":0},{"$f":"IF(AD182=0,0,IF(AE$2=\"Year\",IF(_xlfn.MAXIFS($N182:AD182,$N$2:AD$2,\"Year\")+$E182<=$E$1,AB182+$E182,0),IF(AE$2=\"Repair %\",IF(AB182>0,$C182,0),IF(AE$2=\"Spares %\",IF(IF(Z182>0,$C182,0)*5>80%,50%,IF(Z182>0,$C182,0)*5),0))))","v":0},{"$f":"IF(AE182=0,0,IF(AF$2=\"Year\",IF(_xlfn.MAXIFS($N182:AE182,$N$2:AE$2,\"Year\")+$E182<=$E$1,AC182+$E182,0),IF(AF$2=\"Repair %\",IF(AC182>0,$C$3,0),IF(AF$2=\"Spares %\",IF(IF(AC182>0,$C182,0)*100>50%,50%,IF(AC182>0,$C182,0)*100),0))))","v":0},{"$f":"IF(AF182=0,0,IF(AG$2=\"Year\",IF(_xlfn.MAXIFS($N182:AF182,$N$2:AF$2,\"Year\")+$E182<=$E$1,AD182+$E182,0),IF(AG$2=\"Repair %\",IF(AD182>0,$C182,0),IF(AG$2=\"Spares %\",IF(IF(AD182>0,$C182,0)*100>50%,50%,IF(AD182>0,$C182,0)*100),0))))","v":0},{"$f":"IF(AG182=0,0,IF(AH$2=\"Year\",IF(_xlfn.MAXIFS($N182:AG182,$N$2:AG$2,\"Year\")+$E182<=$E$1,AE182+$E182,0),IF(AH$2=\"Repair %\",IF(AE182>0,$C182,0),IF(AH$2=\"Spares %\",IF(IF(AC182>0,$C182,0)*5>80%,50%,IF(AC182>0,$C182,0)*5),0))))","v":0},{"$f":"IF(AH182=0,0,IF(AI$2=\"Year\",IF(_xlfn.MAXIFS($N182:AH182,$N$2:AH$2,\"Year\")+$E182<=$E$1,AF182+$E182,0),IF(AI$2=\"Repair %\",IF(AF182>0,$C$3,0),IF(AI$2=\"Spares %\",IF(IF(AF182>0,$C182,0)*100>50%,50%,IF(AF182>0,$C182,0)*100),0))))","v":0},{"$f":"IF(AI182=0,0,IF(AJ$2=\"Year\",IF(_xlfn.MAXIFS($N182:AI182,$N$2:AI$2,\"Year\")+$E182<=$E$1,AG182+$E182,0),IF(AJ$2=\"Repair %\",IF(AG182>0,$C182,0),IF(AJ$2=\"Spares %\",IF(IF(AG182>0,$C182,0)*100>50%,50%,IF(AG182>0,$C182,0)*100),0))))","v":0},{"$f":"IF(AJ182=0,0,IF(AK$2=\"Year\",IF(_xlfn.MAXIFS($N182:AJ182,$N$2:AJ$2,\"Year\")+$E182<=$E$1,AH182+$E182,0),IF(AK$2=\"Repair %\",IF(AH182>0,$C182,0),IF(AK$2=\"Spares %\",IF(IF(AF182>0,$C182,0)*5>80%,50%,IF(AF182>0,$C182,0)*5),0))))","v":0},{"$f":"IF(AK182=0,0,IF(AL$2=\"Year\",IF(_xlfn.MAXIFS($N182:AK182,$N$2:AK$2,\"Year\")+$E182<=$E$1,AI182+$E182,0),IF(AL$2=\"Repair %\",IF(AI182>0,$C$3,0),IF(AL$2=\"Spares %\",IF(IF(AI182>0,$C182,0)*100>50%,50%,IF(AI182>0,$C182,0)*100),0))))","v":0},{"$f":"IF(AL182=0,0,IF(AM$2=\"Year\",IF(_xlfn.MAXIFS($N182:AL182,$N$2:AL$2,\"Year\")+$E182<=$E$1,AJ182+$E182,0),IF(AM$2=\"Repair %\",IF(AJ182>0,$C182,0),IF(AM$2=\"Spares %\",IF(IF(AJ182>0,$C182,0)*100>50%,50%,IF(AJ182>0,$C182,0)*100),0))))","v":0},{"$f":"IF(AM182=0,0,IF(AN$2=\"Year\",IF(_xlfn.MAXIFS($N182:AM182,$N$2:AM$2,\"Year\")+$E182<=$E$1,AK182+$E182,0),IF(AN$2=\"Repair %\",IF(AK182>0,$C182,0),IF(AN$2=\"Spares %\",IF(IF(AI182>0,$C182,0)*5>80%,50%,IF(AI182>0,$C182,0)*5),0))))","v":0},{"$f":"IF(AN182=0,0,IF(AO$2=\"Year\",IF(_xlfn.MAXIFS($N182:AN182,$N$2:AN$2,\"Year\")+$E182<=$E$1,AL182+$E182,0),IF(AO$2=\"Repair %\",IF(AL182>0,$C$3,0),IF(AO$2=\"Spares %\",IF(IF(AL182>0,$C182,0)*100>50%,50%,IF(AL182>0,$C182,0)*100),0))))","v":0},{"$f":"IF(AO182=0,0,IF(AP$2=\"Year\",IF(_xlfn.MAXIFS($N182:AO182,$N$2:AO$2,\"Year\")+$E182<=$E$1,AM182+$E182,0),IF(AP$2=\"Repair %\",IF(AM182>0,$C182,0),IF(AP$2=\"Spares %\",IF(IF(AM182>0,$C182,0)*100>50%,50%,IF(AM182>0,$C182,0)*100),0))))","v":0},{"$f":"IF(AP182=0,0,IF(AQ$2=\"Year\",IF(_xlfn.MAXIFS($N182:AP182,$N$2:AP$2,\"Year\")+$E182<=$E$1,AN182+$E182,0),IF(AQ$2=\"Repair %\",IF(AN182>0,$C182,0),IF(AQ$2=\"Spares %\",IF(IF(AL182>0,$C182,0)*5>80%,50%,IF(AL182>0,$C182,0)*5),0))))","v":0}]
[831,"Radio antenna, amplifier, sat data",0.1,0.06,10,"Obsolecence",{"$f":"SUBSTITUTE(ADDRESS(1,MATCH(A183,'Pt1-AvionicsComponentCosts'!$A$6:$NC$6,0)+1),\"$1\",\"\")","v":"$KD"},{"$f":"_xlfn.TEXTJOIN(\", \",TRUE,_xlfn.UNIQUE(_xlfn._xlws.SORT(_xlfn._xlws.FILTER('Pt1-AvionicsComponentCosts'!$NF$12:$NF$384,ISNUMBER(INDIRECT(\"'Pt1-AvionicsComponentCosts'!\"&G183&\"$12:\"&G183&\"$384\"))))))","v":"Challenger, Citation, E550, EMB Bizjet, Falcon, Global, Gulfstream, Hawker, Hondajet, Learjet, Nextant 400XT, PC-24, Phenom, Praetor, SF50"},null,0.06,0.1,0.44800000000000001,1.298,{"$f":"COUNTIF($N$2:N$2,\"Year\")*$G$1","v":10},null,1,{"$f":"COUNTIF($N$2:Q$2,\"Year\")*$G$1","v":20},{"$f":"IF(Q183=0,0,IF(R$2=\"Year\",IF(_xlfn.MAXIFS($N183:Q183,$N$2:Q$2,\"Year\")+$E183<=$E$1,O183+$E183,0),IF(R$2=\"Repair %\",IF(O183>0,$C183,0),IF(R$2=\"Spares %\",IF(IF(O183>0,$C183,0)*100>50%,50%,IF(O183>0,$C183,0)*100),0))))","v":0},1,{"$f":"COUNTIF($N$2:T$2,\"Year\")*$G$1","v":30},{"$f":"IF(T183=0,0,IF(U$2=\"Year\",IF(_xlfn.MAXIFS($N183:T183,$N$2:T$2,\"Year\")+$E183<=$E$1,R183+$E183,0),IF(U$2=\"Repair %\",IF(R183>0,$C183,0),IF(U$2=\"Spares %\",IF(IF(R183>0,$C183,0)*100>50%,50%,IF(R183>0,$C183,0)*100),0))))","v":0},1,{"$f":"COUNTIF($N$2:W$2,\"Year\")*$G$1","v":40},{"$f":"IF(W183=0,0,IF(X$2=\"Year\",IF(_xlfn.MAXIFS($N183:W183,$N$2:W$2,\"Year\")+$E183<=$E$1,U183+$E183,0),IF(X$2=\"Repair %\",IF(U183>0,$C183,0),IF(X$2=\"Spares %\",IF(IF(U183>0,$C183,0)*100>50%,50%,IF(U183>0,$C183,0)*100),0))))","v":0},1,{"$f":"IF(Y183=0,0,IF(Z$2=\"Year\",IF(_xlfn.MAXIFS($N183:Y183,$N$2:Y$2,\"Year\")+$E183<=$E$1,W183+$E183,0),IF(Z$2=\"Repair %\",IF(W183>0,$C$3,0),IF(Z$2=\"Spares %\",IF(IF(W183>0,$C183,0)*100>50%,50%,IF(W183>0,$C183,0)*100),0))))","v":0},{"$f":"IF(Z183=0,0,IF(AA$2=\"Year\",IF(_xlfn.MAXIFS($N183:Z183,$N$2:Z$2,\"Year\")+$E183<=$E$1,X183+$E183,0),IF(AA$2=\"Repair %\",IF(X183>0,$C183,0),IF(AA$2=\"Spares %\",IF(IF(X183>0,$C183,0)*100>50%,50%,IF(X183>0,$C183,0)*100),0))))","v":0},{"$f":"IF(AA183=0,0,IF(AB$2=\"Year\",IF(_xlfn.MAXIFS($N183:AA183,$N$2:AA$2,\"Year\")+$E183<=$E$1,Y183+$E183,0),IF(AB$2=\"Repair %\",IF(Y183>0,$C183,0),IF(AB$2=\"Spares %\",IF(IF(W183>0,$C183,0)*5>80%,50%,IF(W183>0,$C183,0)*5),0))))","v":0},{"$f":"IF(AB183=0,0,IF(AC$2=\"Year\",IF(_xlfn.MAXIFS($N183:AB183,$N$2:AB$2,\"Year\")+$E183<=$E$1,Z183+$E183,0),IF(AC$2=\"Repair %\",IF(Z183>0,$C$3,0),IF(AC$2=\"Spares %\",IF(IF(Z183>0,$C183,0)*100>50%,50%,IF(Z183>0,$C183,0)*100),0))))","v":0},{"$f":"IF(AC183=0,0,IF(AD$2=\"Year\",IF(_xlfn.MAXIFS($N183:AC183,$N$2:AC$2,\"Year\")+$E183<=$E$1,AA183+$E183,0),IF(AD$2=\"Repair %\",IF(AA183>0,$C183,0),IF(AD$2=\"Spares %\",IF(IF(AA183>0,$C183,0)*100>50%,50%,IF(AA183>0,$C183,0)*100),0))))","v":0},{"$f":"IF(AD183=0,0,IF(AE$2=\"Year\",IF(_xlfn.MAXIFS($N183:AD183,$N$2:AD$2,\"Year\")+$E183<=$E$1,AB183+$E183,0),IF(AE$2=\"Repair %\",IF(AB183>0,$C183,0),IF(AE$2=\"Spares %\",IF(IF(Z183>0,$C183,0)*5>80%,50%,IF(Z183>0,$C183,0)*5),0))))","v":0},{"$f":"IF(AE183=0,0,IF(AF$2=\"Year\",IF(_xlfn.MAXIFS($N183:AE183,$N$2:AE$2,\"Year\")+$E183<=$E$1,AC183+$E183,0),IF(AF$2=\"Repair %\",IF(AC183>0,$C$3,0),IF(AF$2=\"Spares %\",IF(IF(AC183>0,$C183,0)*100>50%,50%,IF(AC183>0,$C183,0)*100),0))))","v":0},{"$f":"IF(AF183=0,0,IF(AG$2=\"Year\",IF(_xlfn.MAXIFS($N183:AF183,$N$2:AF$2,\"Year\")+$E183<=$E$1,AD183+$E183,0),IF(AG$2=\"Repair %\",IF(AD183>0,$C183,0),IF(AG$2=\"Spares %\",IF(IF(AD183>0,$C183,0)*100>50%,50%,IF(AD183>0,$C183,0)*100),0))))","v":0},{"$f":"IF(AG183=0,0,IF(AH$2=\"Year\",IF(_xlfn.MAXIFS($N183:AG183,$N$2:AG$2,\"Year\")+$E183<=$E$1,AE183+$E183,0),IF(AH$2=\"Repair %\",IF(AE183>0,$C183,0),IF(AH$2=\"Spares %\",IF(IF(AC183>0,$C183,0)*5>80%,50%,IF(AC183>0,$C183,0)*5),0))))","v":0},{"$f":"IF(AH183=0,0,IF(AI$2=\"Year\",IF(_xlfn.MAXIFS($N183:AH183,$N$2:AH$2,\"Year\")+$E183<=$E$1,AF183+$E183,0),IF(AI$2=\"Repair %\",IF(AF183>0,$C$3,0),IF(AI$2=\"Spares %\",IF(IF(AF183>0,$C183,0)*100>50%,50%,IF(AF183>0,$C183,0)*100),0))))","v":0},{"$f":"IF(AI183=0,0,IF(AJ$2=\"Year\",IF(_xlfn.MAXIFS($N183:AI183,$N$2:AI$2,\"Year\")+$E183<=$E$1,AG183+$E183,0),IF(AJ$2=\"Repair %\",IF(AG183>0,$C183,0),IF(AJ$2=\"Spares %\",IF(IF(AG183>0,$C183,0)*100>50%,50%,IF(AG183>0,$C183,0)*100),0))))","v":0},{"$f":"IF(AJ183=0,0,IF(AK$2=\"Year\",IF(_xlfn.MAXIFS($N183:AJ183,$N$2:AJ$2,\"Year\")+$E183<=$E$1,AH183+$E183,0),IF(AK$2=\"Repair %\",IF(AH183>0,$C183,0),IF(AK$2=\"Spares %\",IF(IF(AF183>0,$C183,0)*5>80%,50%,IF(AF183>0,$C183,0)*5),0))))","v":0},{"$f":"IF(AK183=0,0,IF(AL$2=\"Year\",IF(_xlfn.MAXIFS($N183:AK183,$N$2:AK$2,\"Year\")+$E183<=$E$1,AI183+$E183,0),IF(AL$2=\"Repair %\",IF(AI183>0,$C$3,0),IF(AL$2=\"Spares %\",IF(IF(AI183>0,$C183,0)*100>50%,50%,IF(AI183>0,$C183,0)*100),0))))","v":0},{"$f":"IF(AL183=0,0,IF(AM$2=\"Year\",IF(_xlfn.MAXIFS($N183:AL183,$N$2:AL$2,\"Year\")+$E183<=$E$1,AJ183+$E183,0),IF(AM$2=\"Repair %\",IF(AJ183>0,$C183,0),IF(AM$2=\"Spares %\",IF(IF(AJ183>0,$C183,0)*100>50%,50%,IF(AJ183>0,$C183,0)*100),0))))","v":0},{"$f":"IF(AM183=0,0,IF(AN$2=\"Year\",IF(_xlfn.MAXIFS($N183:AM183,$N$2:AM$2,\"Year\")+$E183<=$E$1,AK183+$E183,0),IF(AN$2=\"Repair %\",IF(AK183>0,$C183,0),IF(AN$2=\"Spares %\",IF(IF(AI183>0,$C183,0)*5>80%,50%,IF(AI183>0,$C183,0)*5),0))))","v":0},{"$f":"IF(AN183=0,0,IF(AO$2=\"Year\",IF(_xlfn.MAXIFS($N183:AN183,$N$2:AN$2,\"Year\")+$E183<=$E$1,AL183+$E183,0),IF(AO$2=\"Repair %\",IF(AL183>0,$C$3,0),IF(AO$2=\"Spares %\",IF(IF(AL183>0,$C183,0)*100>50%,50%,IF(AL183>0,$C183,0)*100),0))))","v":0},{"$f":"IF(AO183=0,0,IF(AP$2=\"Year\",IF(_xlfn.MAXIFS($N183:AO183,$N$2:AO$2,\"Year\")+$E183<=$E$1,AM183+$E183,0),IF(AP$2=\"Repair %\",IF(AM183>0,$C183,0),IF(AP$2=\"Spares %\",IF(IF(AM183>0,$C183,0)*100>50%,50%,IF(AM183>0,$C183,0)*100),0))))","v":0},{"$f":"IF(AP183=0,0,IF(AQ$2=\"Year\",IF(_xlfn.MAXIFS($N183:AP183,$N$2:AP$2,\"Year\")+$E183<=$E$1,AN183+$E183,0),IF(AQ$2=\"Repair %\",IF(AN183>0,$C183,0),IF(AQ$2=\"Spares %\",IF(IF(AL183>0,$C183,0)*5>80%,50%,IF(AL183>0,$C183,0)*5),0))))","v":0}]

{"sheet":"Avionics ID","index":1,"n_rows":181,"n_cols":5,"rows_kept":181,"cut":false,"hidden":false,"merged":[]}
[713,"Avionics","Auto-pilot","A/T Engine Control Unit","A/T Engine Control Unit"]
[825,"Avionics","Auto-pilot","Auto pilot system","Auto pilot system"]
[863,"Avionics","Auto-pilot","Dual axis dual system Auto-pilot","Dual axis dual system Auto-pilot"]
[804,"Avionics","Auto-pilot","Flight Guidance System (A/Pilot)","Flight Guidance System (A/Pilot)"]
[763,"Avionics","Communications","ADF radios","ADF radios"]
[724,"Avionics","Communications","ADF system","ADF system"]
[770,"Avionics","Communications","Air Traffic Services Unit ","Air Traffic Services Unit "]
[799,"Avionics","Communications","Antenna suite","Antenna suite"]
[875,"Avionics","Communications","ARC 210 radios","ARC 210 radios"]
[828,"Avionics","Communications","ATC Transponder","ATC Transponder"]
[742,"Avionics","Communications","Audio Control Panel","Audio Control Panel"]
[740,"Avionics","Communications","Audio Management Unit","Audio Management Unit"]
[842,"Avionics","Communications","Avionics Comms Router (ACR)","Avionics Comms Router (ACR)"]
[843,"Avionics","Communications","Central Crypto System","Central Crypto System"]
[752,"Avionics","Communications","Cockpit Voice Recorder","Cockpit Voice Recorder"]
[782,"Avionics","Communications","Comms Management Function (CMF)","Comms Management Function (CMF)"]
[832,"Avionics","Communications","Comms Management System","Comms Management System"]
[739,"Avionics","Communications","Comms Receivers UF (transceiver/antenna)","Comms Receivers UF (transceiver/antenna)"]
[738,"Avionics","Communications","Comms Receivers VH (transceiver/antenna)","Comms Receivers VH (transceiver/antenna)"]
[787,"Avionics","Communications","Communication, Navigation, Identification Unit AN/ASQ-242","Communication, Navigation, Identification Unit AN/ASQ-242"]
[753,"Avionics","Communications","CVR control panel","CVR control panel"]
[768,"Avionics","Communications","HF Radio","HF Radio"]
[840,"Avionics","Communications","HF-9500 High Frequency Communications System","HF-9500 High Frequency Communications System"]
[781,"Avionics","Communications","HST 2100 ","HST 2100 "]
[849,"Avionics","Communications","Joint tactical radio system (JTRS),","Joint tactical radio system (JTRS),"]
[870,"Avionics","Communications","Radio Altimeters","Radio Altimeters"]
[876,"Avionics","Communications","Radio antenna receivers/transmitters","Radio antenna receivers/transmitters"]
[830,"Avionics","Communications","Radio antenna, amplifier, sat data","Radio antenna, amplifier, sat data"]
[806,"Avionics","Communications","Radio Antennas","Radio Antennas"]
[743,"Avionics","Communications","Radio Management Panel","Radio Management Panel"]
[741,"Avionics","Communications","Radio management system","Radio management system"]
[818,"Avionics","Communications","Radio receivers","Radio receivers"]
[780,"Avionics","Communications","Radio Tuning control Panels","Radio Tuning control Panels"]
[769,"Avionics","Communications","SATCOM","SATCOM"]
[854,"Avionics","Communications","Target data acquisition","Target data acquisition"]
[877,"Avionics","Communications","UHF LOS antennas","UHF LOS antennas"]
[872,"Avionics","Communications","UHF SATCOM antenna","UHF SATCOM antenna"]
[841,"Avionics","Data","AFDX databus","AFDX databus"]
[758,"Avionics","Data","Air Traffic Services Unit (ATSU)","Air Traffic Services Unit (ATSU)"]
[757,"Avionics","Data","Aircraft Intergated Data System (AIDS)","Aircraft Intergated Data System (AIDS)"]
[797,"Avionics","Data","Aircraft memory system","Aircraft memory system"]
[864,"Avionics","Data","Combined cockpit voice and data recorder","Combined cockpit voice and data recorder"]
[714,"Avionics","Data","Data Base loader","Data Base loader"]
[771,"Avionics","Data","Data Management Unit","Data Management Unit"]
[821,"Avionics","Data","Digital Data link/transfer","Digital Data link/transfer"]
[871,"Avionics","Data","Digital recorder","Digital recorder"]
[809,"Avionics","Data","Digital Voice & Data Recorder","Digital Voice & Data Recorder"]
[759,"Avionics","Data","Electronic Flight Bags (EFBs)","Electronic Flight Bags (EFBs)"]
[755,"Avionics","Data","FD Interface Unit","FD Interface Unit"]
[754,"Avionics","Data","Flight Data Recorder","Flight Data Recorder"]
[800,"Avionics","Data","High speed and fibre optics data/signalling network databuses","High speed and fibre optics data/signalling network databuses"]
[860,"Avionics","Data","Integrated data modem","Integrated data modem"]
[853,"Avionics","Data","Interface maintenance data recorders","Interface maintenance data recorders"]
[794,"Avionics","Data","Multi function Advanced Data link AAA Array","Multi function Advanced Data link AAA Array"]
[756,"Avionics","Data","Quick Access Recorder (QAR)","Quick Access Recorder (QAR)"]
[801,"Avionics","Data","Radar altimeter","Radar altimeter"]
[772,"Avionics","Data","Wireless LAN data loader","Wireless LAN data loader"]
[719,"Avionics","Display","ADIRS CDU","ADIRS CDU"]
[862,"Avionics","Display","Central Mission display","Central Mission display"]
[737,"Avionics","Display","Clock","Clock"]
[734,"Avionics","Display","Compass","Compass"]
[779,"Avionics","Display","Crew Info System/Maint System","Crew Info System/Maint System"]
[808,"Avionics","Display","Cursor Control Device","Cursor Control Device"]
[767,"Avionics","Display","Datalink cockpit Display Unit","Datalink cockpit Display Unit"]
[736,"Avionics","Display","DDRMI display","DDRMI display"]
[802,"Avionics","Display","Display Controllers","Display Controllers"]
[733,"Avionics","Display","Display Management Computer (DMC/EFIS)","Display Management Computer (DMC/EFIS)"]
[812,"Avionics","Display","Display processor","Display processor"]
[820,"Avionics","Display","Dual redundant digital bus","Dual redundant digital bus"]
[731,"Avionics","Display","ECAM Control panel","ECAM Control panel"]
[729,"Avionics","Display","ECAM display","ECAM display"]
[728,"Avionics","Display","EFIS Control panel","EFIS Control panel"]
[827,"Avionics","Display","EICAS Controller panel","EICAS Controller panel"]
[766,"Avionics","Display","EICAS Crew alerting System","EICAS Crew alerting System"]
[847,"Avionics","Display","Engine/fuel/ displays","Engine/fuel/ displays"]
[730,"Avionics","Display","HUD display system","HUD display system"]
[810,"Avionics","Display","Integrated Electronic Standby System","Integrated Electronic Standby System"]
[735,"Avionics","Display","Integrated Standby Instrument System","Integrated Standby Instrument System"]
[836,"Avionics","Display","Keyboard cursor Control Units (KCCU)","Keyboard cursor Control Units (KCCU)"]
[811,"Avionics","Display","Main displays","Main displays"]
[765,"Avionics","Display","Multi Function Display","Multi Function Display"]
[727,"Avionics","Display","Navigation display (EFIS)","Navigation display (EFIS)"]
[789,"Avionics","Display","Panoramic Display Cockpit Electronic Unit","Panoramic Display Cockpit Electronic Unit"]
[790,"Avionics","Display","Panormic Cockpit Display","Panormic Cockpit Display"]
[824,"Avionics","Display","PFD Control panels","PFD Control panels"]
[793,"Avionics","Display","Pilot Helmet Mounted Display System","Pilot Helmet Mounted Display System"]
[850,"Avionics","Display","Pilot Night Vision Sensors (PNVS) systems","Pilot Night Vision Sensors (PNVS) systems"]
[726,"Avionics","Display","Primary Flight Display (EFIS)","Primary Flight Display (EFIS)"]
[791,"Avionics","Display","Standby display","Standby display"]
[823,"Avionics","Display","Standby display unit","Standby display unit"]
[732,"Avionics","Display","System Data Acquisition Concentrator (SDAC)","System Data Acquisition Concentrator (SDAC)"]
[711,"Avionics","FMS","FCU","FCU"]
[712,"Avionics","FMS","Flight Augmentation Computers","Flight Augmentation Computers"]
[715,"Avionics","FMS","Flight Control Unit (FCU) panel","Flight Control Unit (FCU) panel"]
[835,"Avionics","FMS","Flight Management System","Flight Management System"]
[716,"Avionics","FMS","Flight Warning Computer (FWC)","Flight Warning Computer (FWC)"]
[709,"Avionics","FMS","FMGC","FMGC"]
[710,"Avionics","FMS","MCDU","MCDU"]
[760,"Avionics","FMS","Mode control Panel (Auto/Pilot control)","Mode control Panel (Auto/Pilot control)"]
[1056,"Avionics","Harnesses","Cables and wires","Avionics Harnesses"]
[1057,"Avionics","Harnesses","Connectors & back shells","Avionics Harnesses"]
[1058,"Avionics","Harnesses","Harnesses, cable assemblies & racks","Avionics Harnesses"]
[1059,"Avionics","Harnesses","Relays, contactors & other standard electrical parts","Avionics Harnesses"]
[882,"Avionics","IMA","Aircraft avionics management unit","Aircraft avionics management unit"]
[773,"Avionics","IMA","Common Core processing","Common Core processing"]
[775,"Avionics","IMA","Common Data Network","Common Data Network"]
[833,"Avionics","IMA","IMA","IMA"]
[822,"Avionics","IMA","Integrated Avionics computers (IACs)","Integrated Avionics computers (IACs)"]
[785,"Avionics","IMA","Integrated Core Processor (ICP)","Integrated Core Processor (ICP)"]
[805,"Avionics","IMA","Modular Avionic Unit, 1,2 and 3","Modular Avionic Unit, 1,2 and 3"]
[774,"Avionics","IMA","Remote Data Concentrators","Remote Data Concentrators"]
[784,"Avionics","IMA","Remote Data concentrators","Remote Data concentrators"]
[861,"Avionics","Mission","Data Transfer module","Data Transfer module"]
[846,"Avionics","Mission","Defensive Aids Computer","Defensive Aids Computer"]
[866,"Avionics","Mission","Defensive counter measures","Defensive counter measures"]
[845,"Avionics","Mission","Directed InfraRed Counter Measures","Directed InfraRed Counter Measures"]
[857,"Avionics","Mission","Infra-red countermeasure","Infra-red countermeasure"]
[837,"Avionics","Mission","Military Mission Management System","Military Mission Management System"]
[795,"Avionics","Mission","Mission computers","Mission computers"]
[852,"Avionics","Mission","Modernized Target Acquisition Designation Sight (M-TADS) ","Modernized Target Acquisition Designation Sight (M-TADS) "]
[881,"Avionics","Mission","Stores management computer","Stores management computer"]
[819,"Avionics","Mission","Stores Management System","Stores Management System"]
[718,"Avionics","Navigation","ADIRS control panel","ADIRS control panel"]
[717,"Avionics","Navigation","ADIRU","ADIRU"]
[777,"Avionics","Navigation","AHRS package","AHRS package"]
[721,"Avionics","Navigation","Air Data Modules (ADM)","Air Data Modules (ADM)"]
[786,"Avionics","Navigation","Communication, Navigation, Identification Unit AN/ASQ-242","Communication, Navigation, Identification Unit AN/ASQ-242"]
[874,"Avionics","Navigation","Differential GPS antenna","Differential GPS antenna"]
[725,"Avionics","Navigation","DME receivers","DME receivers"]
[848,"Avionics","Navigation","Embedded GPS/INS","Embedded GPS/INS"]
[873,"Avionics","Navigation","GPS antenna","GPS antenna"]
[813,"Avionics","Navigation","IN/GPS system ","IN/GPS system "]
[826,"Avionics","Navigation","Inertial Ref Unit (IRU)","Inertial Ref Unit (IRU)"]
[834,"Avionics","Navigation","Inertial Reference System","Inertial Reference System"]
[778,"Avionics","Navigation","Intergated Nav Receivers (INRs)","Intergated Nav Receivers (INRs)"]
[803,"Avionics","Navigation","IRS Gyroscope System","IRS Gyroscope System"]
[776,"Avionics","Navigation","IRU package","IRU package"]
[723,"Avionics","Navigation","Multi Mode Receiver (MMR)","Multi Mode Receiver (MMR)"]
[817,"Avionics","Navigation","Navigation receiver","Navigation receiver"]
[720,"Avionics","Navigation","Pedestal ADS select","Pedestal ADS select"]
[764,"Avionics","Navigation","Radar altimeters","Radar altimeters"]
[831,"Avionics","Navigation","Radio antenna, amplifier, sat data","Radio antenna, amplifier, sat data"]
[838,"Avionics","Navigation","TACAN","TACAN"]
[762,"Avionics","Navigation","VOR receivers","VOR receivers"]
[796,"Avionics","Sensors","AESA Radar","AESA Radar"]
[722,"Avionics","Sensors","Air data probes (pitot/static)","Air data probes (pitot/static)"]
[880,"Avionics","Sensors","Air data sensors","Air data sensors"]
[815,"Avionics","Sensors","Air Data smart sensor","Air Data smart sensor"]
[868,"Avionics","Sensors","Airborne Systems Intelligence Payload sensor","Airborne Systems Intelligence Payload sensor"]
[798,"Avionics","Sensors","Distributed Aperture System (electro-optical)","Distributed Aperture System (electro-optical)"]
[792,"Avionics","Sensors","Electro Optical Targeting System (FLIR & IRST)","Electro Optical Targeting System (FLIR & IRST)"]
[856,"Avionics","Sensors","Electronic Interferometer Frequency Radar Supports target acquisition systems","Electronic Interferometer Frequency Radar Supports target acquisition systems"]
[869,"Avionics","Sensors","Enhanced Integrated Sensor Suite","Enhanced Integrated Sensor Suite"]
[816,"Avionics","Sensors","FLIR sensors","FLIR sensors"]
[858,"Avionics","Sensors","Laser warning receiver","Laser warning receiver"]
[851,"Avionics","Sensors","Millimeter wave fire-control radar, frequency interferometer, fire-and-forget radar","Millimeter wave fire-control radar, frequency interferometer, fire-and-forget radar"]
[844,"Avionics","Sensors","Mulit InfraRed alerting System (MIRAS) Sensors","Mulit InfraRed alerting System (MIRAS) Sensors"]
[807,"Avionics","Sensors","Pitot Static sensors","Pitot Static sensors"]
[859,"Avionics","Sensors","Radar jammer","Radar jammer"]
[855,"Avionics","Sensors","Radar warning receivers","Radar warning receivers"]
[878,"Avionics","Sensors","Sensors IFF, other","Sensors IFF, other"]
[761,"Avionics","Sensors","Static/standby sensors","Static/standby sensors"]
[883,"Avionics","Sensors","Surveillance Sensors","Surveillance Sensors"]
[746,"Avionics","Sensors","Weather WX radar system","Weather WX radar system"]
[879,"Avionics","Software","Software","Software"]
[839,"Avionics","Surveillance","Aircraft Environment Surveillance System (AESS)","Aircraft Environment Surveillance System (AESS)"]
[745,"Avionics","Surveillance","ATC control box","ATC control box"]
[744,"Avionics","Surveillance","ATC Mode S Transponders (TCAS)","ATC Mode S Transponders (TCAS)"]
[867,"Avionics","Surveillance","Electro-optical reconnaissance sesnor","Electro-optical reconnaissance sesnor"]
[788,"Avionics","Surveillance","Electronic Warfare suite AN/ASQ-239 (evasion, engagement,  jamming, c/measures)","Electronic Warfare suite AN/ASQ-239 (evasion, engagement,  jamming, c/measures)"]
[885,"Avionics","Surveillance","Enhanced Vision system","Enhanced Vision system"]
[748,"Avionics","Surveillance","Ground Proximity Warning System (GPWS/EGPWS)","Ground Proximity Warning System (GPWS/EGPWS)"]
[814,"Avionics","Surveillance","Multi mode radar","Multi mode radar"]
[783,"Avionics","Surveillance","Multi Scan Hazard Detection System","Multi Scan Hazard Detection System"]
[865,"Avionics","Surveillance","Multi spectral camera","Multi spectral camera"]
[829,"Avionics","Surveillance","Radar Antenna (nose nounted)","Radar Antenna (nose nounted)"]
[884,"Avionics","Surveillance","Sensor suite WX radar etc","Sensor suite WX radar etc"]
[750,"Avionics","Surveillance","TCAS antennas","TCAS antennas"]
[749,"Avionics","Surveillance","TCAS computer","TCAS computer"]
[751,"Avionics","Surveillance","TCAS control panel","TCAS control panel"]
[747,"Avionics","Surveillance","WX control panel","WX control panel"]

{"sheet":"Sheet2","index":2,"n_rows":182,"n_cols":2,"rows_kept":182,"cut":false,"hidden":false,"merged":[]}
[]
["A/T Engine Control Unit",{"$f":"MATCH(A2,Upgrades!B:B,0)","v":3}]
["Auto pilot system",{"$f":"MATCH(A3,Upgrades!B:B,0)","v":29}]
["Dual axis dual system Auto-pilot",{"$f":"MATCH(A4,Upgrades!B:B,0)","v":68}]
["Flight Guidance System (A/Pilot)",{"$f":"MATCH(A5,Upgrades!B:B,0)","v":89}]
["ADF radios",{"$f":"MATCH(A6,Upgrades!B:B,0)","v":4}]
["ADF system",{"$f":"MATCH(A7,Upgrades!B:B,0)","v":5}]
["Air Traffic Services Unit ",{"$f":"MATCH(A8,Upgrades!B:B,0)","v":15}]
["Antenna suite",{"$f":"MATCH(A9,Upgrades!B:B,0)","v":22}]
["ARC 210 radios",{"$f":"MATCH(A10,Upgrades!B:B,0)","v":23}]
["ATC Transponder",{"$f":"MATCH(A11,Upgrades!B:B,0)","v":26}]
["Audio Control Panel",{"$f":"MATCH(A12,Upgrades!B:B,0)","v":27}]
["Audio Management Unit",{"$f":"MATCH(A13,Upgrades!B:B,0)","v":28}]
["Avionics Comms Router (ACR)",{"$f":"MATCH(A14,Upgrades!B:B,0)","v":30}]
["Central Crypto System",{"$f":"MATCH(A15,Upgrades!B:B,0)","v":35}]
["Cockpit Voice Recorder",{"$f":"MATCH(A16,Upgrades!B:B,0)","v":38}]
["Comms Management Function (CMF)",{"$f":"MATCH(A17,Upgrades!B:B,0)","v":42}]
["Comms Management System",{"$f":"MATCH(A18,Upgrades!B:B,0)","v":43}]
["Comms Receivers UF (transceiver/antenna)",{"$f":"MATCH(A19,Upgrades!B:B,0)","v":44}]
["Comms Receivers VH (transceiver/antenna)",{"$f":"MATCH(A20,Upgrades!B:B,0)","v":45}]
["Communication, Navigation, Identification Unit AN/ASQ-242",{"$f":"MATCH(A21,Upgrades!B:B,0)","v":46}]
["CVR control panel",{"$f":"MATCH(A22,Upgrades!B:B,0)","v":50}]
["HF Radio",{"$f":"MATCH(A23,Upgrades!B:B,0)","v":96}]
["HF-9500 High Frequency Communications System",{"$f":"MATCH(A24,Upgrades!B:B,0)","v":97}]
["HST 2100 ",{"$f":"MATCH(A25,Upgrades!B:B,0)","v":99}]
["Joint tactical radio system (JTRS),",{"$f":"MATCH(A26,Upgrades!B:B,0)","v":115}]
["Radio Altimeters",{"$f":"MATCH(A27,Upgrades!B:B,0)","v":148}]
["Radio antenna receivers/transmitters",{"$f":"MATCH(A28,Upgrades!B:B,0)","v":149}]
["Radio antenna, amplifier, sat data",{"$f":"MATCH(A29,Upgrades!B:B,0)","v":150}]
["Radio Antennas",{"$f":"MATCH(A30,Upgrades!B:B,0)","v":151}]
["Radio Management Panel",{"$f":"MATCH(A31,Upgrades!B:B,0)","v":152}]
["Radio management system",{"$f":"MATCH(A32,Upgrades!B:B,0)","v":153}]
["Radio receivers",{"$f":"MATCH(A33,Upgrades!B:B,0)","v":154}]
["Radio Tuning control Panels",{"$f":"MATCH(A34,Upgrades!B:B,0)","v":155}]
["SATCOM",{"$f":"MATCH(A35,Upgrades!B:B,0)","v":158}]
["Target data acquisition",{"$f":"MATCH(A36,Upgrades!B:B,0)","v":170}]
["UHF LOS antennas",{"$f":"MATCH(A37,Upgrades!B:B,0)","v":174}]
["UHF SATCOM antenna",{"$f":"MATCH(A38,Upgrades!B:B,0)","v":175}]
["AFDX databus",{"$f":"MATCH(A39,Upgrades!B:B,0)","v":9}]
["Air Traffic Services Unit (ATSU)",{"$f":"MATCH(A40,Upgrades!B:B,0)","v":16}]
["Aircraft Intergated Data System (AIDS)",{"$f":"MATCH(A41,Upgrades!B:B,0)","v":{"$error":"#N/A"}}]
["Aircraft memory system",{"$f":"MATCH(A42,Upgrades!B:B,0)","v":21}]
["Combined cockpit voice and data recorder",{"$f":"MATCH(A43,Upgrades!B:B,0)","v":39}]
["Data Base loader",{"$f":"MATCH(A44,Upgrades!B:B,0)","v":51}]
["Data Management Unit",{"$f":"MATCH(A45,Upgrades!B:B,0)","v":52}]
["Digital Data link/transfer",{"$f":"MATCH(A46,Upgrades!B:B,0)","v":59}]
["Digital recorder",{"$f":"MATCH(A47,Upgrades!B:B,0)","v":60}]
["Digital Voice & Data Recorder",{"$f":"MATCH(A48,Upgrades!B:B,0)","v":61}]
["Electronic Flight Bags (EFBs)",{"$f":"MATCH(A49,Upgrades!B:B,0)","v":76}]
["FD Interface Unit",{"$f":"MATCH(A50,Upgrades!B:B,0)","v":85}]
["Flight Data Recorder",{"$f":"MATCH(A51,Upgrades!B:B,0)","v":88}]
["High speed and fibre optics data/signalling network databuses",{"$f":"MATCH(A52,Upgrades!B:B,0)","v":98}]
["Integrated data modem",{"$f":"MATCH(A53,Upgrades!B:B,0)","v":108}]
["Interface maintenance data recorders",{"$f":"MATCH(A54,Upgrades!B:B,0)","v":111}]
["Multi function Advanced Data link AAA Array",{"$f":"MATCH(A55,Upgrades!B:B,0)","v":127}]
["Quick Access Recorder (QAR)",{"$f":"MATCH(A56,Upgrades!B:B,0)","v":142}]
["Radar altimeter",{"$f":"MATCH(A57,Upgrades!B:B,0)","v":143}]
["Wireless LAN data loader",{"$f":"MATCH(A58,Upgrades!B:B,0)","v":178}]
["ADIRS CDU",{"$f":"MATCH(A59,Upgrades!B:B,0)","v":6}]
["Central Mission display",{"$f":"MATCH(A60,Upgrades!B:B,0)","v":36}]
["Clock",{"$f":"MATCH(A61,Upgrades!B:B,0)","v":37}]
["Compass",{"$f":"MATCH(A62,Upgrades!B:B,0)","v":47}]
["Crew Info System/Maint System",{"$f":"MATCH(A63,Upgrades!B:B,0)","v":48}]
["Cursor Control Device",{"$f":"MATCH(A64,Upgrades!B:B,0)","v":49}]
["Datalink cockpit Display Unit",{"$f":"MATCH(A65,Upgrades!B:B,0)","v":54}]
["DDRMI display",{"$f":"MATCH(A66,Upgrades!B:B,0)","v":55}]
["Display Controllers",{"$f":"MATCH(A67,Upgrades!B:B,0)","v":63}]
["Display Management Computer (DMC/EFIS)",{"$f":"MATCH(A68,Upgrades!B:B,0)","v":64}]
["Display processor",{"$f":"MATCH(A69,Upgrades!B:B,0)","v":65}]
["Dual redundant digital bus",{"$f":"MATCH(A70,Upgrades!B:B,0)","v":69}]
["ECAM Control panel",{"$f":"MATCH(A71,Upgrades!B:B,0)","v":70}]
["ECAM display",{"$f":"MATCH(A72,Upgrades!B:B,0)","v":71}]
["EFIS Control panel",{"$f":"MATCH(A73,Upgrades!B:B,0)","v":72}]
["EICAS Controller panel",{"$f":"MATCH(A74,Upgrades!B:B,0)","v":73}]
["EICAS Crew alerting System",{"$f":"MATCH(A75,Upgrades!B:B,0)","v":74}]
["Engine/fuel/ displays",{"$f":"MATCH(A76,Upgrades!B:B,0)","v":81}]
["HUD display system",{"$f":"MATCH(A77,Upgrades!B:B,0)","v":100}]
["Integrated Electronic Standby System",{"$f":"MATCH(A78,Upgrades!B:B,0)","v":109}]
["Integrated Standby Instrument System",{"$f":"MATCH(A79,Upgrades!B:B,0)","v":110}]
["Keyboard cursor Control Units (KCCU)",{"$f":"MATCH(A80,Upgrades!B:B,0)","v":116}]
["Main displays",{"$f":"MATCH(A81,Upgrades!B:B,0)","v":118}]
["Multi Function Display",{"$f":"MATCH(A82,Upgrades!B:B,0)","v":128}]
["Navigation display (EFIS)",{"$f":"MATCH(A83,Upgrades!B:B,0)","v":133}]
["Panoramic Display Cockpit Electronic Unit",{"$f":"MATCH(A84,Upgrades!B:B,0)","v":135}]
["Panormic Cockpit Display",{"$f":"MATCH(A85,Upgrades!B:B,0)","v":136}]
["PFD Control panels",{"$f":"MATCH(A86,Upgrades!B:B,0)","v":137}]
["Pilot Helmet Mounted Display System",{"$f":"MATCH(A87,Upgrades!B:B,0)","v":138}]
["Pilot Night Vision Sensors (PNVS) systems",{"$f":"MATCH(A88,Upgrades!B:B,0)","v":139}]
["Primary Flight Display (EFIS)",{"$f":"MATCH(A89,Upgrades!B:B,0)","v":141}]
["Standby display",{"$f":"MATCH(A90,Upgrades!B:B,0)","v":162}]
["Standby display unit",{"$f":"MATCH(A91,Upgrades!B:B,0)","v":163}]
["System Data Acquisition Concentrator (SDAC)",{"$f":"MATCH(A92,Upgrades!B:B,0)","v":168}]
["FCU",{"$f":"MATCH(A93,Upgrades!B:B,0)","v":84}]
["Flight Augmentation Computers",{"$f":"MATCH(A94,Upgrades!B:B,0)","v":86}]
["Flight Control Unit (FCU) panel",{"$f":"MATCH(A95,Upgrades!B:B,0)","v":87}]
["Flight Management System",{"$f":"MATCH(A96,Upgrades!B:B,0)","v":90}]
["Flight Warning Computer (FWC)",{"$f":"MATCH(A97,Upgrades!B:B,0)","v":91}]
["FMGC",{"$f":"MATCH(A98,Upgrades!B:B,0)","v":93}]
["MCDU",{"$f":"MATCH(A99,Upgrades!B:B,0)","v":119}]
["Mode control Panel (Auto/Pilot control)",{"$f":"MATCH(A100,Upgrades!B:B,0)","v":123}]
["Avionics Harnesses",{"$f":"MATCH(A101,Upgrades!B:B,0)","v":31}]
["Avionics Harnesses",{"$f":"MATCH(A102,Upgrades!B:B,0)","v":31}]
["Avionics Harnesses",{"$f":"MATCH(A103,Upgrades!B:B,0)","v":31}]
["Avionics Harnesses",{"$f":"MATCH(A104,Upgrades!B:B,0)","v":31}]
["Aircraft avionics management unit",{"$f":"MATCH(A105,Upgrades!B:B,0)","v":18}]
["Common Core processing",{"$f":"MATCH(A106,Upgrades!B:B,0)","v":40}]
["Common Data Network",{"$f":"MATCH(A107,Upgrades!B:B,0)","v":41}]
["IMA",{"$f":"MATCH(A108,Upgrades!B:B,0)","v":101}]
["Integrated Avionics computers (IACs)",{"$f":"MATCH(A109,Upgrades!B:B,0)","v":106}]
["Integrated Core Processor (ICP)",{"$f":"MATCH(A110,Upgrades!B:B,0)","v":107}]
["Modular Avionic Unit, 1,2 and 3",{"$f":"MATCH(A111,Upgrades!B:B,0)","v":125}]
["Remote Data Concentrators",{"$f":"MATCH(A112,Upgrades!B:B,0)","v":156}]
["Remote Data concentrators",{"$f":"MATCH(A113,Upgrades!B:B,0)","v":156}]
["Data Transfer module",{"$f":"MATCH(A114,Upgrades!B:B,0)","v":53}]
["Defensive Aids Computer",{"$f":"MATCH(A115,Upgrades!B:B,0)","v":56}]
["Defensive counter measures",{"$f":"MATCH(A116,Upgrades!B:B,0)","v":57}]
["Directed InfraRed Counter Measures",{"$f":"MATCH(A117,Upgrades!B:B,0)","v":62}]
["Infra-red countermeasure",{"$f":"MATCH(A118,Upgrades!B:B,0)","v":105}]
["Military Mission Management System",{"$f":"MATCH(A119,Upgrades!B:B,0)","v":120}]
["Mission computers",{"$f":"MATCH(A120,Upgrades!B:B,0)","v":122}]
["Modernized Target Acquisition Designation Sight (M-TADS) ",{"$f":"MATCH(A121,Upgrades!B:B,0)","v":124}]
["Stores management computer",{"$f":"MATCH(A122,Upgrades!B:B,0)","v":165}]
["Stores Management System",{"$f":"MATCH(A123,Upgrades!B:B,0)","v":166}]
["ADIRS control panel",{"$f":"MATCH(A124,Upgrades!B:B,0)","v":180}]
["ADIRU",{"$f":"MATCH(A125,Upgrades!B:B,0)","v":7}]
["AHRS package",{"$f":"MATCH(A126,Upgrades!B:B,0)","v":10}]
["Air Data Modules (ADM)",{"$f":"MATCH(A127,Upgrades!B:B,0)","v":11}]
["Communication, Navigation, Identification Unit AN/ASQ-242",{"$f":"MATCH(A128,Upgrades!B:B,0)","v":46}]
["Differential GPS antenna",{"$f":"MATCH(A129,Upgrades!B:B,0)","v":58}]
["DME receivers",{"$f":"MATCH(A130,Upgrades!B:B,0)","v":67}]
["Embedded GPS/INS",{"$f":"MATCH(A131,Upgrades!B:B,0)","v":80}]
["GPS antenna",{"$f":"MATCH(A132,Upgrades!B:B,0)","v":94}]
["IN/GPS system ",{"$f":"MATCH(A133,Upgrades!B:B,0)","v":102}]
["Inertial Ref Unit (IRU)",{"$f":"MATCH(A134,Upgrades!B:B,0)","v":103}]
["Inertial Reference System",{"$f":"MATCH(A135,Upgrades!B:B,0)","v":104}]
["Intergated Nav Receivers (INRs)",{"$f":"MATCH(A136,Upgrades!B:B,0)","v":112}]
["IRS Gyroscope System",{"$f":"MATCH(A137,Upgrades!B:B,0)","v":113}]
["IRU package",{"$f":"MATCH(A138,Upgrades!B:B,0)","v":114}]
["Multi Mode Receiver (MMR)",{"$f":"MATCH(A139,Upgrades!B:B,0)","v":130}]
["Navigation receiver",{"$f":"MATCH(A140,Upgrades!B:B,0)","v":134}]
["Pedestal ADS select",{"$f":"MATCH(A141,Upgrades!B:B,0)","v":182}]
["Radar altimeters",{"$f":"MATCH(A142,Upgrades!B:B,0)","v":144}]
["Radio antenna, amplifier, sat data",{"$f":"MATCH(A143,Upgrades!B:B,0)","v":150}]
["TACAN",{"$f":"MATCH(A144,Upgrades!B:B,0)","v":169}]
["VOR receivers",{"$f":"MATCH(A145,Upgrades!B:B,0)","v":176}]
["AESA Radar",{"$f":"MATCH(A146,Upgrades!B:B,0)","v":8}]
["Air data probes (pitot/static)",{"$f":"MATCH(A147,Upgrades!B:B,0)","v":12}]
["Air data sensors",{"$f":"MATCH(A148,Upgrades!B:B,0)","v":13}]
["Air Data smart sensor",{"$f":"MATCH(A149,Upgrades!B:B,0)","v":14}]
["Airborne Systems Intelligence Payload sensor",{"$f":"MATCH(A150,Upgrades!B:B,0)","v":17}]
["Distributed Aperture System (electro-optical)",{"$f":"MATCH(A151,Upgrades!B:B,0)","v":66}]
["Electro Optical Targeting System (FLIR & IRST)",{"$f":"MATCH(A152,Upgrades!B:B,0)","v":75}]
["Electronic Interferometer Frequency Radar Supports target acquisition systems",{"$f":"MATCH(A153,Upgrades!B:B,0)","v":77}]
["Enhanced Integrated Sensor Suite",{"$f":"MATCH(A154,Upgrades!B:B,0)","v":82}]
["FLIR sensors",{"$f":"MATCH(A155,Upgrades!B:B,0)","v":92}]
["Laser warning receiver",{"$f":"MATCH(A156,Upgrades!B:B,0)","v":117}]
["Millimeter wave fire-control radar, frequency interferometer, fire-and-forget radar",{"$f":"MATCH(A157,Upgrades!B:B,0)","v":121}]
["Mulit InfraRed alerting System (MIRAS) Sensors",{"$f":"MATCH(A158,Upgrades!B:B,0)","v":126}]
["Pitot Static sensors",{"$f":"MATCH(A159,Upgrades!B:B,0)","v":140}]
["Radar jammer",{"$f":"MATCH(A160,Upgrades!B:B,0)","v":146}]
["Radar warning receivers",{"$f":"MATCH(A161,Upgrades!B:B,0)","v":147}]
["Sensors IFF, other",{"$f":"MATCH(A162,Upgrades!B:B,0)","v":160}]
["Static/standby sensors",{"$f":"MATCH(A163,Upgrades!B:B,0)","v":164}]
["Surveillance Sensors",{"$f":"MATCH(A164,Upgrades!B:B,0)","v":167}]
["Weather WX radar system",{"$f":"MATCH(A165,Upgrades!B:B,0)","v":177}]
["Software",{"$f":"MATCH(A166,Upgrades!B:B,0)","v":161}]
["Aircraft Environment Surveillance System (AESS)",{"$f":"MATCH(A167,Upgrades!B:B,0)","v":19}]
["ATC control box",{"$f":"MATCH(A168,Upgrades!B:B,0)","v":24}]
["ATC Mode S Transponders (TCAS)",{"$f":"MATCH(A169,Upgrades!B:B,0)","v":25}]
["Electro-optical reconnaissance sesnor",{"$f":"MATCH(A170,Upgrades!B:B,0)","v":79}]
["Electronic Warfare suite AN/ASQ-239 (evasion, engagement,  jamming, c/measures)",{"$f":"MATCH(A171,Upgrades!B:B,0)","v":78}]
["Enhanced Vision system",{"$f":"MATCH(A172,Upgrades!B:B,0)","v":83}]
["Ground Proximity Warning System (GPWS/EGPWS)",{"$f":"MATCH(A173,Upgrades!B:B,0)","v":95}]
["Multi mode radar",{"$f":"MATCH(A174,Upgrades!B:B,0)","v":129}]
["Multi Scan Hazard Detection System",{"$f":"MATCH(A175,Upgrades!B:B,0)","v":131}]
["Multi spectral camera",{"$f":"MATCH(A176,Upgrades!B:B,0)","v":132}]
["Radar Antenna (nose nounted)",{"$f":"MATCH(A177,Upgrades!B:B,0)","v":145}]
["Sensor suite WX radar etc",{"$f":"MATCH(A178,Upgrades!B:B,0)","v":159}]
["TCAS antennas",{"$f":"MATCH(A179,Upgrades!B:B,0)","v":171}]
["TCAS computer",{"$f":"MATCH(A180,Upgrades!B:B,0)","v":172}]
["TCAS control panel",{"$f":"MATCH(A181,Upgrades!B:B,0)","v":173}]
["WX control panel",{"$f":"MATCH(A182,Upgrades!B:B,0)","v":179}]

{"sheet":"Aircraft IDs","index":3,"n_rows":374,"n_cols":17,"rows_kept":374,"cut":false,"hidden":false,"merged":[]}
["aircraft_id","aircraft_level_1","aircraft_level_2","aircraft_level_3","aircraft_level_4"]
[674,"Business Jet","Large Jet","ACJ","Airbus ACJ TwoTwenty","A220",{"$f":"INDEX(P:Q,MATCH(F2,P:P,0),2)","v":"A220"},null,null,null,null,null,null,null,null,"A220",{"$f":"P2","v":"A220"}]
[221,"Large Commercial Aircraft","Single Aisle","A220","Airbus A220-100","A220",{"$f":"INDEX(P:Q,MATCH(F3,P:P,0),2)","v":"A220"},null,null,null,null,null,null,null,null,"A300",{"$f":"P3","v":"A300"}]
[222,"Large Commercial Aircraft","Single Aisle","A220","Airbus A220-300","A220","A220",null,null,null,null,null,null,null,null,"A320","A320"]
[653,"Large Commercial Aircraft","Single Aisle","A220","Airbus A220-500","A220","A220",null,null,null,null,null,null,null,null,"A321","A321"]
[632,"Freighter","Medium Widebody Freighters","A300","A300-600F/RF","A300","A300",null,null,null,null,null,null,null,null,"A330","A330"]
[631,"Freighter","Medium Widebody Freighters","A300","A300-600F/RF","A300","A300",null,null,null,null,null,null,null,null,"A340","A340"]
[566,"Freighter","Medium Widebody Freighters","A300","Airbus A300-600ST Beluga","A300","A300",null,null,null,null,null,null,null,null,"A350","A350"]
[305,"Large Commercial Aircraft","Twin Aisle","Airbus A300","Airbus A300","A300","A300",null,null,null,null,null,null,null,null,"A380","A380"]
[532,"Large Commercial Aircraft","Twin Aisle","Airbus A300","Airbus A300","A300","A300",null,null,null,null,null,null,null,null,"ARJ","ARJ"]
[296,"Business Jet","Large Jet","ACJ","Airbus ACJ320 Family","A320","A320",null,null,null,null,null,null,null,null,"ATR","ATR"]
[526,"Business Jet","Large Jet","ACJ","Airbus ACJ320 Family","A320","A320",null,null,null,null,null,null,null,null,"Attack","Attack"]
[528,"Business Jet","Large Jet","ACJ","Airbus ACJ320neo Family","A320","A320",null,null,null,null,null,null,null,null,"Attack Helo","Attack Helo"]
[527,"Business Jet","Large Jet","ACJ","Airbus ACJ320neo Family","A320","A320",null,null,null,null,null,null,null,null,"B717","B717"]
[678,"Business Jet","Large Jet","Wide body VIP","Airbus ACJ330-200","A320","A320",null,null,null,null,null,null,null,null,"B737","B737"]
[665,"Freighter","Standard body Freighters","A320ceo","A320-200P2F","A320","A320",null,null,null,null,null,null,null,null,"B747","B747"]
[634,"Large Commercial Aircraft","Single Aisle","A320ceo","A319-100","A320","A320",null,null,null,null,null,null,null,null,"B757","B757"]
[633,"Large Commercial Aircraft","Single Aisle","A320ceo","A320-200","A320","A320",null,null,null,null,null,null,null,null,"B767","B767"]
[206,"Large Commercial Aircraft","Single Aisle","A320ceo","Airbus A319ceo","A320","A320",null,null,null,null,null,null,null,null,"B777","B777"]
[510,"Large Commercial Aircraft","Single Aisle","A320ceo","Airbus A319ceo","A320","A320",null,null,null,null,null,null,null,null,"B787","B787"]
[207,"Large Commercial Aircraft","Single Aisle","A320ceo","Airbus A320ceo","A320","A320",null,null,null,null,null,null,null,null,"C919","C919"]
[511,"Large Commercial Aircraft","Single Aisle","A320ceo","Airbus A320ceo","A320","A320",null,null,null,null,null,null,null,null,"Challenger","Challenger"]
[208,"Large Commercial Aircraft","Single Aisle","A320ceo","Airbus A321ceo","A320","A320",null,null,null,null,null,null,null,null,"Citation","Citation"]
[512,"Large Commercial Aircraft","Single Aisle","A320ceo","Airbus A321ceo","A320","A320",null,null,null,null,null,null,null,null,"CRJ","CRJ"]
[513,"Large Commercial Aircraft","Single Aisle","A320neo","Airbus A319neo","A320","A320",null,null,null,null,null,null,null,null,"E170","EMB Regional"]
[209,"Large Commercial Aircraft","Single Aisle","A320neo","Airbus A319neo","A320","A320",null,null,null,null,null,null,null,null,"E175","EMB Regional"]
[514,"Large Commercial Aircraft","Single Aisle","A320neo","Airbus A320neo","A320","A320",null,null,null,null,null,null,null,null,"E190","EMB Regional"]
[210,"Large Commercial Aircraft","Single Aisle","A320neo","Airbus A320neo","A320","A320",null,null,null,null,null,null,null,null,"E195","EMB Regional"]
[660,"Large Commercial Aircraft","Single Aisle","A320neo","Airbus A321 LR","A320","A320",null,null,null,null,null,null,null,null,"E550","E550"]
[661,"Large Commercial Aircraft","Single Aisle","A320neo","Airbus A321 LR","A320","A320",null,null,null,null,null,null,null,null,"EMB 1000","EMB Bizjet"]
[662,"Large Commercial Aircraft","Single Aisle","A320neo","Airbus A321 XLR","A320","A320",null,null,null,null,null,null,null,null,"EMB 600","EMB Bizjet"]
[663,"Large Commercial Aircraft","Single Aisle","A320neo","Airbus A321 XLR","A320","A320",null,null,null,null,null,null,null,null,"EMB 700","EMB Bizjet"]
[515,"Large Commercial Aircraft","Single Aisle","A320neo","Airbus A321neo","A320","A320",null,null,null,null,null,null,null,null,"ERJ 135","EMB Regional"]
[211,"Large Commercial Aircraft","Single Aisle","A320neo","Airbus A321neo","A320","A320",null,null,null,null,null,null,null,null,"Falcon","Falcon"]
[654,"Large Commercial Aircraft","Single Aisle","A320neo","Airbus A322X","A320","A320",null,null,null,null,null,null,null,null,"Global","Global"]
[655,"Large Commercial Aircraft","Single Aisle","A320neo","Airbus A322X","A320","A320",null,null,null,null,null,null,null,null,"Gulfstream","Gulfstream"]
[666,"Freighter","Standard body Freighters","A320ceo","A321P2F","A321","A321",null,null,null,null,null,null,null,null,"Hawker","Hawker"]
[565,"Freighter","Large Freighters","A330","Airbus A330-743L Beluga XL","A330","A330",null,null,null,null,null,null,null,null,"Helo","Helo"]
[560,"Freighter","Medium Widebody Freighters","A330","Airbus A330-200F","A330","A330",null,null,null,null,null,null,null,null,"Hondajet","Hondajet"]
[561,"Freighter","Medium Widebody Freighters","A330","Airbus A330-200F","A330","A330",null,null,null,null,null,null,null,null,"Learjet","Learjet"]
[562,"Freighter","Medium Widebody Freighters","A330","Airbus A330-300P2F","A330","A330",null,null,null,null,null,null,null,null,"M2","Citation"]
[563,"Freighter","Medium Widebody Freighters","A330","Airbus A330-300P2F","A330","A330",null,null,null,null,null,null,null,null,"MC-21","MC-21"]
[564,"Freighter","Medium Widebody Freighters","A330","Airbus A330-300P2F","A330","A330",null,null,null,null,null,null,null,null,"MD-11","MD-11"]
[212,"Large Commercial Aircraft","Twin Aisle","A330","Airbus A330-200","A330","A330",null,null,null,null,null,null,null,null,"Mil Fighter","Mil Fighter"]
[516,"Large Commercial Aircraft","Twin Aisle","A330","Airbus A330-200","A330","A330",null,null,null,null,null,null,null,null,"Mil Transport","Mil Transport"]
[517,"Large Commercial Aircraft","Twin Aisle","A330","Airbus A330-200","A330","A330",null,null,null,null,null,null,null,null,"Military Jet","Military Jet"]
[213,"Large Commercial Aircraft","Twin Aisle","A330","Airbus A330-300","A330","A330",null,null,null,null,null,null,null,null,"Military TP","Military TP"]
[518,"Large Commercial Aircraft","Twin Aisle","A330","Airbus A330-300","A330","A330",null,null,null,null,null,null,null,null,"Mustang","Citation"]
[519,"Large Commercial Aircraft","Twin Aisle","A330","Airbus A330-300","A330","A330",null,null,null,null,null,null,null,null,"Nextant 400XT","Nextant 400XT"]
[214,"Large Commercial Aircraft","Twin Aisle","A330","Airbus A330-800neo","A330","A330",null,null,null,null,null,null,null,null,"NSA","NSA"]
[215,"Large Commercial Aircraft","Twin Aisle","A330","Airbus A330-900neo","A330","A330",null,null,null,null,null,null,null,null,"PC-24","PC-24"]
[658,"Military Transport / Special Mission","Military Jet","A330 LMXT","Lockheed martin/Airbus A330 LMXT","A330","A330 LMXT",null,null,null,null,null,null,null,null,"Phenom","Phenom"]
[551,"Military Transport / Special Mission","Military Jet","A330 MRTT","Airbus A330 MRTT","A330","A330 MRTT",null,null,null,null,null,null,null,null,"Praetor","Praetor"]
[151,"Military Transport / Special Mission","Military Jet","A330 MRTT","Airbus A330 MRTT","A330","A330 MRTT",null,null,null,null,null,null,null,null,"Reg TP","Reg TP"]
[669,"Freighter","Medium Widebody Freighters","A340","Airbus A340-600NGF","A340","A340",null,null,null,null,null,null,null,null,"SF50","SF50"]
[304,"Large Commercial Aircraft","Twin Aisle","A340","Airbus A340-200/300","A340","A340",null,null,null,null,null,null,null,null,"Stealth","Stealth"]
[5,"Large Commercial Aircraft","Twin Aisle","A340","Airbus A340-500/600","A340","A340",null,null,null,null,null,null,null,null,"Superjet 100","Superjet 100"]
[644,"Freighter","Large Freighters","A350","Airbus A350F","A350","A350",null,null,null,null,null,null,null,null,"TP Trainer","TP Trainer"]
[6,"Large Commercial Aircraft","Twin Aisle","A350","Airbus A350 XWB - A350-900","A350","A350",null,null,null,null,null,null,null,null,"Turbine GA","Turbine GA"]
[7,"Large Commercial Aircraft","Twin Aisle","A350","Airbus A350-1000","A350","A350",null,null,null,null,null,null,null,null,"UAV","UAV"]
[657,"Large Commercial Aircraft","Twin Aisle","A350","Airbus A350-1000neo","A350","A350"]
[656,"Large Commercial Aircraft","Twin Aisle","A350","Airbus A350-900neo","A350","A350"]
[216,"Large Commercial Aircraft","Very large aircraft","A380","Airbus A380","A380","A380"]
[520,"Large Commercial Aircraft","Very large aircraft","A380","Airbus A380","A380","A380"]
[27,"Regional","Regional Jet","Comac ARJ21","Comac ARJ21","ARJ","ARJ"]
[668,"Freighter","Turboprop Freighters","ATR 42/72","ATR 72-600F","ATR","ATR"]
[667,"Freighter","Turboprop Freighters","ATR 42/72","ATR 72/42 Freighter Conversion","ATR",{"$f":"INDEX(P:Q,MATCH(F67,P:P,0),2)","v":"ATR"}]
[643,"Fighters and Jet Trainers","Attack","BAES/Leonardo Tempest","BAES/Leonardo Tempest","Attack","Attack"]
[179,"Fighters and Jet Trainers","Attack","Boeing/Saab T-X program","Boeing T-7","Attack","Attack"]
[141,"Fighters and Jet Trainers","Attack","Dassault Rafale","Dassault Rafale","Attack","Attack"]
[142,"Fighters and Jet Trainers","Attack","Eurofighter Typhoon","Eurofighter Typhoon","Attack","Attack"]
[139,"Fighters and Jet Trainers","Attack","F-15","McDonnell Douglas F-15 Eagle","Attack","Attack"]
[505,"Fighters and Jet Trainers","Attack","F-15","McDonnell Douglas F-15 Eagle","Attack","Attack"]
[144,"Fighters and Jet Trainers","Attack","F-16","General Dynamics F-16 Fighting Falcon","Attack","Attack"]
[506,"Fighters and Jet Trainers","Attack","F-16","General Dynamics F-16 Fighting Falcon","Attack","Attack"]
[637,"Fighters and Jet Trainers","Attack","F-18","F-18 A/D","Attack","Attack"]
[140,"Fighters and Jet Trainers","Attack","F-18","F-18 Super Hornet","Attack","Attack"]
[148,"Fighters and Jet Trainers","Attack","Gripen","Saab JAS 39 Gripen","Attack","Attack"]
[584,"Fighters and Jet Trainers","Attack","KAI KF-X","KAI KF-21","Attack","Attack"]
[176,"Fighters and Jet Trainers","Attack","KAI T-50 Golden Eagle","KAI T-50 Golden Eagle","Attack","Attack"]
[147,"Fighters and Jet Trainers","Attack","Mitsubishi F-2","Mitsubishi F-2","Attack","Attack"]
[585,"Fighters and Jet Trainers","Attack","TAI TF-X","TAI TF-X","Attack","Attack"]
[92,"Helicopter","Attack","AH-1","Bell AH-1Z Viper","Attack Helo","Attack Helo"]
[98,"Helicopter","Attack","AH-64","Boeing AH-64 Apache","Attack Helo","Attack Helo"]
[99,"Helicopter","Attack","AH-64","Boeing AH-64 Apache (reman)","Attack Helo","Attack Helo"]
[648,"Helicopter","Attack","AW 249","Leonardo AW 249","Attack Helo","Attack Helo"]
[132,"Helicopter","Attack","Future Attack Reconnaissance Aircraft","Bell V-280 Valor ","Attack Helo","Attack Helo"]
[85,"Helicopter","Attack","TAI/Leonardo T129","TAI/Leonardo T129","Attack Helo","Attack Helo"]
[104,"Helicopter","Attack","Tiger","Airbus Tiger","Attack Helo","Attack Helo"]
[97,"Helicopter","Attack","V-22","Bell Boeing V-22 Osprey","Attack Helo","Attack Helo"]
[639,"Helicopter","Attack","WAH-64","Westland WAH-64","Attack Helo","Attack Helo"]
[299,"Large Commercial Aircraft","Single Aisle","Boeing 717","Boeing 717","B717","B717"]
[529,"Business Jet","Large Jet","BBJ","Boeing BBJ MAX","B737","B737"]
[297,"Business Jet","Large Jet","BBJ","Boeing BBJ/BBJ2/BBJ3","B737","B737"]
[573,"Freighter","Standard body Freighters","Boeing 737","Boeing 737-300SF","B737","B737"]
[572,"Freighter","Standard body Freighters","Boeing 737","Boeing 737-400SF","B737","B737"]
[591,"Freighter","Standard body Freighters","Boeing 737","Boeing 737-700C","B737","B737"]
[571,"Freighter","Standard body Freighters","Boeing 737NG","Boeing 737-700/-800CF","B737","B737"]
[534,"Large Commercial Aircraft","Single Aisle","Boeing 737 Classic","Boeing 737 Classic: 737-300","B737","B737"]
[535,"Large Commercial Aircraft","Single Aisle","Boeing 737 Classic","Boeing 737 Classic: 737-400","B737","B737"]
[536,"Large Commercial Aircraft","Single Aisle","Boeing 737 Classic","Boeing 737 Classic: 737-500","B737","B737"]
[309,"Large Commercial Aircraft","Single Aisle","Boeing 737MAX","Boeing 737 MAX: 737 MAX 10","B737","B737"]
[195,"Large Commercial Aircraft","Single Aisle","Boeing 737MAX","Boeing 737 MAX: 737 MAX 7","B737","B737"]
[196,"Large Commercial Aircraft","Single Aisle","Boeing 737MAX","Boeing 737 MAX: 737 MAX 8","B737","B737"]
[197,"Large Commercial Aircraft","Single Aisle","Boeing 737MAX","Boeing 737 MAX: 737 MAX 9","B737","B737"]
[300,"Large Commercial Aircraft","Single Aisle","Boeing 737NG","Boeing 737-600","B737","B737"]
[192,"Large Commercial Aircraft","Single Aisle","Boeing 737NG","Boeing 737-700","B737","B737"]
[193,"Large Commercial Aircraft","Single Aisle","Boeing 737NG","Boeing 737-800","B737","B737"]
[194,"Large Commercial Aircraft","Single Aisle","Boeing 737NG","Boeing 737-900","B737","B737"]
[594,"Business Jet","Large Jet","Boeing 747","Boeing 747-8 VIP","B747","B747"]
[592,"Freighter","Large Freighters","Boeing 747","Boeing 747-400CF","B747","B747"]
[593,"Freighter","Large Freighters","Boeing 747","Boeing 747-400CF","B747","B747"]
[629,"Freighter","Large Freighters","Boeing 747","Boeing 747-400F/ERF","B747","B747"]
[628,"Freighter","Large Freighters","Boeing 747","Boeing 747-400F/ERF","B747","B747"]
[630,"Freighter","Large Freighters","Boeing 747","Boeing 747-400F/ERF","B747","B747"]
[567,"Freighter","Large Freighters","Boeing 747","Boeing 747-8F","B747","B747"]
[530,"Large Commercial Aircraft","Very large aircraft","Boeing 747","Boeing 747-400","B747","B747"]
[301,"Large Commercial Aircraft","Very large aircraft","Boeing 747","Boeing 747-400","B747","B747"]
[531,"Large Commercial Aircraft","Very large aircraft","Boeing 747","Boeing 747-400","B747","B747"]
[16,"Large Commercial Aircraft","Very large aircraft","Boeing 747","Boeing 747-8I","B747","B747"]
[596,"Freighter","Standard body Freighters","Boeing 757","Boeing 757-200 PF/SF","B757","B757"]
[595,"Freighter","Standard body Freighters","Boeing 757","Boeing 757-200 PF/SF","B757","B757"]
[522,"Large Commercial Aircraft","Single Aisle","Boeing 757","Boeing 757","B757","B757"]
[230,"Large Commercial Aircraft","Single Aisle","Boeing 757","Boeing 757","B757","B757"]
[570,"Freighter","Medium Widebody Freighters","Boeing 767","Boeing 767-300BCF","B767","B767"]
[569,"Freighter","Medium Widebody Freighters","Boeing 767","Boeing 767-300F","B767","B767"]
[12,"Large Commercial Aircraft","Twin Aisle","Boeing 767","Boeing 767","B767","B767"]
[537,"Large Commercial Aircraft","Twin Aisle","Boeing 767","Boeing 767","B767","B767"]
[538,"Large Commercial Aircraft","Twin Aisle","Boeing 767","Boeing 767","B767","B767"]
[298,"Business Jet","Large Jet","Wide body VIP","Boeing BBJ 777","B777","B777"]
[553,"Business Jet","Large Jet","Wide body VIP","Boeing BBJ 777X","B777",{"$f":"INDEX(P:Q,MATCH(F131,P:P,0),2)","v":"B777"}]
[664,"Freighter","Large Freighters","Boeing 777","Boeing 777-300 ERSF","B777","B777"]
[568,"Freighter","Large Freighters","Boeing 777","Boeing 777F","B777","B777"]
[659,"Freighter","Large Freighters","Boeing 777X","Boeing 777XF: 777-9","B777","B777"]
[539,"Large Commercial Aircraft","Twin Aisle","Boeing 777","Boeing 777: 777-200ER","B777","B777"]
[302,"Large Commercial Aircraft","Twin Aisle","Boeing 777","Boeing 777: 777-200ER","B777","B777"]
[579,"Large Commercial Aircraft","Twin Aisle","Boeing 777","Boeing 777: 777-200ER","B777","B777"]
[201,"Large Commercial Aircraft","Twin Aisle","Boeing 777","Boeing 777: 777-200LR","B777","B777"]
[303,"Large Commercial Aircraft","Twin Aisle","Boeing 777","Boeing 777: 777-300","B777","B777"]
[597,"Large Commercial Aircraft","Twin Aisle","Boeing 777","Boeing 777: 777-300","B777","B777"]
[202,"Large Commercial Aircraft","Twin Aisle","Boeing 777","Boeing 777: 777-300ER","B777","B777"]
[203,"Large Commercial Aircraft","Twin Aisle","Boeing 777X","Boeing 777X: 777-8","B777","B777"]
[204,"Large Commercial Aircraft","Twin Aisle","Boeing 777X","Boeing 777X: 777-9","B777","B777"]
[554,"Business Jet","Large Jet","Wide body VIP","Boeing BBJ 787","B787","B787"]
[555,"Business Jet","Large Jet","Wide body VIP","Boeing BBJ 787","B787","B787"]
[200,"Large Commercial Aircraft","Twin Aisle","Boeing 787","Boeing 787 Dreamliner: 787-10","B787","B787"]
[509,"Large Commercial Aircraft","Twin Aisle","Boeing 787","Boeing 787 Dreamliner: 787-10","B787","B787"]
[198,"Large Commercial Aircraft","Twin Aisle","Boeing 787","Boeing 787 Dreamliner: 787-8","B787","B787"]
[507,"Large Commercial Aircraft","Twin Aisle","Boeing 787","Boeing 787 Dreamliner: 787-8","B787","B787"]
[199,"Large Commercial Aircraft","Twin Aisle","Boeing 787","Boeing 787 Dreamliner: 787-9","B787","B787"]
[508,"Large Commercial Aircraft","Twin Aisle","Boeing 787","Boeing 787 Dreamliner: 787-9","B787","B787"]
[18,"Large Commercial Aircraft","Single Aisle","Comac C919","Comac C919","C919","C919"]
[35,"Business Jet","Large Jet","Challenger 600 series","Bombardier Challenger 600 series","Challenger","Challenger"]
[635,"Business Jet","Large Jet","Challenger 600 series","Bombardier Challenger 6XX series","Challenger","Challenger"]
[72,"Business Jet","Large Jet","Challenger 850","Bombardier Challenger 850","Challenger","Challenger"]
[34,"Business Jet","Mid Size Jet","Bombardier Challenger 300/350","Bombardier Challenger 300/350","Challenger","Challenger"]
[649,"Business Jet","Mid Size Jet","Bombardier Challenger 3500","Bombardier Challenger 3500","Challenger","Challenger"]
[48,"Business Jet","Large Jet","Citation Hemisphere","Cessna Citation Hemisphere","Citation","Citation"]
[47,"Business Jet","Large Jet","Citation Longitude","Cessna Citation Longitude","Citation","Citation"]
[42,"Business Jet","Light Jet","Citation CJ3","Cessna Citation CJ3","Citation","Citation"]
[43,"Business Jet","Light Jet","Citation CJ4","Cessna Citation CJ4","Citation","Citation"]
[39,"Business Jet","Light Jet","Citation V","Cessna Citation Encore","Citation","Citation"]
[46,"Business Jet","Mid Size Jet","Citation Latitude","Cessna Citation Latitude","Citation","Citation"]
[45,"Business Jet","Mid Size Jet","Citation Sovereign","Cessna Citation Sovereign","Citation","Citation"]
[49,"Business Jet","Mid Size Jet","Citation X","Cessna Citation X","Citation","Citation"]
[40,"Business Jet","Mid Size Jet","Citation XLS","Cessna Citation XLS","Citation","Citation"]
[618,"Regional","Regional Jet","Bombardier CRJ","Bombardier CRJ200","CRJ","CRJ"]
[220,"Regional","Regional Jet","Bombardier CRJ","Bombardier CRJ700-1000","CRJ","CRJ"]
[218,"Regional","Regional Jet","Bombardier CRJ","Bombardier CRJ700-700","CRJ","CRJ"]
[219,"Regional","Regional Jet","Bombardier CRJ","Bombardier CRJ700-900","CRJ","CRJ"]
[580,"Regional","Regional Jet","Embraer E170/190","Embraer E170","E170","EMB Regional"]
[22,"Regional","Regional Jet","Embraer E170/190","Embraer E175","E175","EMB Regional"]
[24,"Regional","Regional Jet","Embraer E170/190","Embraer E175-E2","E175","EMB Regional"]
[671,"Freighter","Standard body Freighters","Embraer E170/190","Embraer E190F (P2F)","E190","EMB Regional"]
[23,"Regional","Regional Jet","Embraer E170/190","Embraer E190","E190","EMB Regional"]
[25,"Regional","Regional Jet","Embraer E170/190","Embraer E190-E2","E190","EMB Regional"]
[672,"Freighter","Standard body Freighters","Embraer E170/190","Embraer E195F (P2F)","E195","EMB Regional"]
[558,"Regional","Regional Jet","Embraer E170/190","Embraer E195","E195","EMB Regional"]
[559,"Regional","Regional Jet","Embraer E170/190","Embraer E195-E2","E195","EMB Regional"]
[70,"Business Jet","Very Light Jet","Eclipse 550","Eclipse 550","E550","E550"]
[73,"Business Jet","Large Jet","Lineage 1000","Embraer Lineage 1000","EMB 1000","EMB Bizjet"]
[74,"Business Jet","Large Jet","Legacy 600/650","Embraer Legacy 600/650","EMB 600","EMB Bizjet"]
[652,"Business Jet","Large Jet","Legacy 700","Embraer legacy 700","EMB 700","EMB Bizjet"]
[617,"Regional","Regional Jet","ERJ 135/140/145","Embraer ERJ 135/140/145","ERJ 135","EMB Regional"]
[587,"Business Jet","Large Jet","Falcon 10X","Dassault Falcon 10X","Falcon","Falcon"]
[51,"Business Jet","Large Jet","Falcon 6X","Dassault Falcon 6X","Falcon","Falcon"]
[54,"Business Jet","Large Jet","Falcon 7X/8X","Dassault Falcon 7X/8X","Falcon","Falcon"]
[50,"Business Jet","Large Jet","Falcon 900","Dassault Falcon 900","Falcon","Falcon"]
[53,"Business Jet","Mid Size Jet","Falcon 2000","Dassault Falcon 2000","Falcon","Falcon"]
[640,"Business Jet","Mid Size Jet","Falcon 2X","Dassault Falcon 2X","Falcon","Falcon"]
[38,"Business Jet","Large Jet","Global 7000","Bombardier Global 7500/8000","Global","Global"]
[36,"Business Jet","Large Jet","Global Express - 5000/6000","Bombardier Global 5000","Global","Global"]
[576,"Business Jet","Large Jet","Global Express - 5000/6000","Bombardier Global 5500","Global","Global"]
[37,"Business Jet","Large Jet","Global Express - 5000/6000","Bombardier Global 6000","Global","Global"]
[577,"Business Jet","Large Jet","Global Express - 5000/6000","Bombardier Global 6500","Global",{"$f":"INDEX(P:Q,MATCH(F195,P:P,0),2)","v":"Global"}]
[651,"Business Jet","Large Jet","G400","Gulfstream G400","Gulfstream","Gulfstream"]
[59,"Business Jet","Large Jet","G450","Gulfstream G450","Gulfstream","Gulfstream"]
[61,"Business Jet","Large Jet","G500/G600","Gulfstream G500","Gulfstream","Gulfstream"]
[62,"Business Jet","Large Jet","G500/G600","Gulfstream G600 ","Gulfstream","Gulfstream"]
[60,"Business Jet","Large Jet","G550","Gulfstream G550","Gulfstream","Gulfstream"]
[63,"Business Jet","Large Jet","G650","Gulfstream G650","Gulfstream","Gulfstream"]
[598,"Business Jet","Large Jet","G700","Gulfstream G700","Gulfstream","Gulfstream"]
[670,"Business Jet","Large Jet","G800","Gulfstream G800","Gulfstream","Gulfstream"]
[64,"Business Jet","Mid Size Jet","G100","Gulfstream G100","Gulfstream","Gulfstream"]
[454,"Business Jet","Mid Size Jet","G280","Gulfstream G280","Gulfstream","Gulfstream"]
[642,"Business Jet","Mid Size Jet","G285X","Gulfstream G285X","Gulfstream","Gulfstream"]
[30,"Business Jet","Light Jet","Hawker 400","Hawker 400","Hawker","Hawker"]
[33,"Business Jet","Mid Size Jet","Hawker 4000","Hawker 4000","Hawker","Hawker"]
[32,"Business Jet","Mid Size Jet","Hawker 750/850/900","Hawker 750/850/900","Hawker","Hawker"]
[646,"Helicopter","Transport & Utility","412X","Bell 412X","Helo","Helo"]
[117,"Helicopter","Transport & Utility","Airbus UH-72 Lakota","Airbus UH-72 Lakota","Helo","Helo"]
[90,"Helicopter","Transport & Utility","Bell 407","Bell 407","Helo","Helo"]
[583,"Helicopter","Transport & Utility","Bell 412","Subaru/Bell 412","Helo","Helo"]
[91,"Helicopter","Transport & Utility","Bell 429 GlobalRanger","Bell 429 GlobalRanger","Helo","Helo"]
[89,"Helicopter","Transport & Utility","Bell 505 Jet Ranger X","Bell 505 Jet Ranger X","Helo","Helo"]
[93,"Helicopter","Transport & Utility","Bell 525 Relentless","Bell 525 Relentless","Helo","Helo"]
[100,"Helicopter","Transport & Utility","CH-47","Boeing CH-47 Chinook","Helo","Helo"]
[101,"Helicopter","Transport & Utility","CH-47","Boeing CH-47 Chinook (reman)","Helo","Helo"]
[112,"Helicopter","Transport & Utility","H120 Colibri","Airbus H120 Colibri","Helo","Helo"]
[107,"Helicopter","Transport & Utility","H125","Airbus H125","Helo","Helo"]
[108,"Helicopter","Transport & Utility","H130","Airbus H130","Helo","Helo"]
[483,"Helicopter","Transport & Utility","H135","Airbus H135","Helo","Helo"]
[111,"Helicopter","Transport & Utility","H135","Airbus H135","Helo","Helo"]
[113,"Helicopter","Transport & Utility","H145","Airbus H145/Kawasaki BK117","Helo","Helo"]
[109,"Helicopter","Transport & Utility","H155","Airbus H155","Helo","Helo"]
[110,"Helicopter","Transport & Utility","H160","Airbus H160","Helo","Helo"]
[102,"Helicopter","Transport & Utility","H175","Airbus H175","Helo","Helo"]
[105,"Helicopter","Transport & Utility","H215 / H225","Airbus H215 / H225","Helo","Helo"]
[106,"Helicopter","Transport & Utility","H355","Airbus H355","Helo","Helo"]
[116,"Helicopter","Transport & Utility","HAL Dhruv","HAL Dhruv","Helo","Helo"]
[488,"Helicopter","Transport & Utility","HAL Dhruv","HAL Dhruv","Helo","Helo"]
[490,"Helicopter","Transport & Utility","HAL Dhruv","HAL Dhruv","Helo","Helo"]
[137,"Helicopter","Transport & Utility","HAL Light Utility Helicopter","HAL Light Utility Helicopter","Helo","Helo"]
[136,"Helicopter","Transport & Utility","HAL Medium Lift","HAL Medium Lift","Helo","Helo"]
[114,"Helicopter","Transport & Utility","KAI KUH-1 Surion","KAI KUH-1 Surion","Helo","Helo"]
[115,"Helicopter","Transport & Utility","KAI KUH-1 Surion","KAI LAH/LCH","Helo","Helo"]
[223,"Helicopter","Transport & Utility","Kawasaki BK 117","Kawasaki BK 117","Helo","Helo"]
[118,"Helicopter","Transport & Utility","Kawasaki OH-1","Kawasaki OH-1","Helo","Helo"]
[615,"Helicopter","Transport & Utility","Kopter","Leonardo Kopter","Helo","Helo"]
[103,"Helicopter","Transport & Utility","Leonardo AW101","Leonardo AW101","Helo","Helo"]
[455,"Helicopter","Transport & Utility","Leonardo AW109","Leonardo AW109","Helo","Helo"]
[83,"Helicopter","Transport & Utility","Leonardo AW109","Leonardo AW109","Helo","Helo"]
[84,"Helicopter","Transport & Utility","Leonardo AW119 Koala","Leonardo AW119 Koala","Helo","Helo"]
[86,"Helicopter","Transport & Utility","Leonardo AW139","Leonardo AW139","Helo","Helo"]
[134,"Helicopter","Transport & Utility","Leonardo AW159 Lynx","Leonardo AW159 Lynx","Helo","Helo"]
[88,"Helicopter","Transport & Utility","Leonardo AW169","Leonardo AW169","Helo","Helo"]
[87,"Helicopter","Transport & Utility","Leonardo AW189","Leonardo AW189","Helo","Helo"]
[96,"Helicopter","Transport & Utility","Leonardo AW609","Leonardo AW609","Helo","Helo"]
[120,"Helicopter","Transport & Utility","MD 500/600","MD Helicopters MD 500/600","Helo","Helo"]
[119,"Helicopter","Transport & Utility","MD Explorer","MD Helicopters MD Explorer","Helo","Helo"]
[582,"Helicopter","Transport & Utility","MH139","Boeing/Leonardo MH139","Helo","Helo"]
[122,"Helicopter","Transport & Utility","NH90","NHIndustries NATO Frigate Helicopter","Helo","Helo"]
[638,"Helicopter","Transport & Utility","NH90","NHIndustries Tactical Transport Helicopter","Helo","Helo"]
[123,"Helicopter","Transport & Utility","NH90","NHIndustries Tactical Transport Helicopter","Helo","Helo"]
[182,"Helicopter","Transport & Utility","OH-58","Bell OH-58D Kiowa","Helo","Helo"]
[124,"Helicopter","Transport & Utility","R66","Robinson R66","Helo","Helo"]
[125,"Helicopter","Transport & Utility","S-76","Sikorsky S-76","Helo","Helo"]
[126,"Helicopter","Transport & Utility","S-92","Sikorsky S-92","Helo","Helo"]
[129,"Helicopter","Transport & Utility","SH-60","Sikorsky SH-60 Seahawk - MH-60R","Helo",{"$f":"INDEX(P:Q,MATCH(F259,P:P,0),2)","v":"Helo"}]
[130,"Helicopter","Transport & Utility","SH-60","Sikorsky SH-60 Seahawk - MH-60S","Helo","Helo"]
[128,"Helicopter","Transport & Utility","SH-60","Sikorsky SH-60 Seahawk - SH-60B Seahawk","Helo","Helo"]
[127,"Helicopter","Transport & Utility","Sikorsky CH-53K King Stallion","Sikorsky CH-53K King Stallion","Helo","Helo"]
[138,"Helicopter","Transport & Utility","TAI T625","TAI T625","Helo","Helo"]
[94,"Helicopter","Transport & Utility","UH-1","Bell UH-1 Iroquois/412","Helo","Helo"]
[95,"Helicopter","Transport & Utility","UH-1","Bell UH-1Y Venom","Helo","Helo"]
[131,"Helicopter","Transport & Utility","UH-60","Sikorsky UH-60 Black Hawk","Helo","Helo"]
[645,"Helicopter","Transport & Utility","X6","Airbus X6","Helo","Helo"]
[590,"Business Jet","Very Light Jet","HondaJet","Honda HA-2600 HondaJet","Hondajet","Hondajet"]
[66,"Business Jet","Very Light Jet","HondaJet","Honda HA-420 HondaJet","Hondajet","Hondajet"]
[68,"Business Jet","Mid Size Jet","Learjet 60","Learjet 60","Learjet","Learjet"]
[67,"Business Jet","Mid Size Jet","Learjet 70/75","Learjet 70/75","Learjet","Learjet"]
[41,"Business Jet","Very Light Jet","Citation M2","Cessna Citation M2","M2","Citation"]
[541,"Large Commercial Aircraft","Single Aisle","Irkut MC-21","Irkut MC-21","MC-21","MC-21"]
[19,"Large Commercial Aircraft","Single Aisle","Irkut MC-21","Irkut MC-21","MC-21","MC-21"]
[627,"Freighter","Medium Widebody Freighters","McDonnell Douglas MD-11","McDonnell Douglas MD-11F/CF","MD-11","MD-11"]
[626,"Freighter","Medium Widebody Freighters","McDonnell Douglas MD-11","McDonnell Douglas MD-11F/CF","MD-11","MD-11"]
[578,"Fighters and Jet Trainers","Fighters and Jet Trainers","Aero L-39NG","Aero Vodochody L-39NG","Mil Fighter","Mil Fighter"]
[675,"Fighters and Jet Trainers","Fighters and Jet Trainers","AIDC T-5","AIDC T-5","Mil Fighter","Mil Fighter"]
[171,"Fighters and Jet Trainers","Fighters and Jet Trainers","FMA IA 63 Pampa","FMA IA 63 Pampa","Mil Fighter","Mil Fighter"]
[167,"Fighters and Jet Trainers","Fighters and Jet Trainers","Hawk","BAE Systems Hawk","Mil Fighter","Mil Fighter"]
[174,"Fighters and Jet Trainers","Fighters and Jet Trainers","HJT-36 Sitara","HAL HJT-36 Sitara","Mil Fighter","Mil Fighter"]
[173,"Fighters and Jet Trainers","Fighters and Jet Trainers","Hongdu K-8","Hongdu K-8","Mil Fighter","Mil Fighter"]
[165,"Fighters and Jet Trainers","Fighters and Jet Trainers","M-345","Aermacchi M-345","Mil Fighter","Mil Fighter"]
[166,"Fighters and Jet Trainers","Fighters and Jet Trainers","M-346","Aermacchi M-346","Mil Fighter","Mil Fighter"]
[168,"Fighters and Jet Trainers","Fighters and Jet Trainers","T-45","McDonnell Douglas T-45 Goshawk","Mil Fighter","Mil Fighter"]
[143,"Fighters and Jet Trainers","Fighters and Jet Trainers","Tejas","HAL Tejas","Mil Fighter","Mil Fighter"]
[574,"Military Transport / Special Mission","Transport & Utility","Boeing C-40 Clipper ","Boeing C-40 Clipper","Mil Transport","Mil Transport"]
[620,"Military Transport / Special Mission","Transport & Utility","Boeing KC-135 Stratotanker","Boeing KC-135 Stratotanker","Mil Transport","Mil Transport"]
[619,"Military Transport / Special Mission","Transport & Utility","McDonnell Douglas KC-10","McDonnell Douglas KC-10","Mil Transport","Mil Transport"]
[636,"Military Transport / Special Mission","Military Jet","B-52 Stratofortress","Boeing B-52 Stratofortress","Military Jet","Military Jet"]
[676,"Military Transport / Special Mission","Military Jet","B-52 Stratofortress","Boeing B-52 Stratofortress re-engine","Military Jet","Military Jet"]
[157,"Military Transport / Special Mission","Military Jet","Boeing KC-46 Pegasus","Boeing KC-46 Pegasus","Military Jet","Military Jet"]
[156,"Military Transport / Special Mission","Military Jet","Boeing P-8 Poseidon","Boeing P-8 Poseidon","Military Jet","Military Jet"]
[158,"Military Transport / Special Mission","Military Jet","C-17","Boeing C-17 Globemaster III","Military Jet","Military Jet"]
[163,"Military Transport / Special Mission","Military Jet","C-5","Lockheed C-5 Galaxy","Military Jet","Military Jet"]
[159,"Military Transport / Special Mission","Military Jet","Embraer KC-390","Embraer KC-390","Military Jet","Military Jet"]
[160,"Military Transport / Special Mission","Military Jet","Kawasaki C-2","Kawasaki C-2","Military Jet","Military Jet"]
[161,"Military Transport / Special Mission","Military Jet","Kawasaki P-1","Kawasaki P-1","Military Jet","Military Jet"]
[150,"Military Transport / Special Mission","Military Turboprop","A400M Atlas","Airbus A400M Atlas","Military TP","Military TP"]
[155,"Military Transport / Special Mission","Military Turboprop","Alenia C-27J","Alenia C-27J","Military TP","Military TP"]
[162,"Military Transport / Special Mission","Military Turboprop","C-130J","Lockheed Martin C-130J Super Hercules","Military TP","Military TP"]
[152,"Military Transport / Special Mission","Military Turboprop","CASA C-212 Aviocar","CASA C-212 Aviocar","Military TP","Military TP"]
[153,"Military Transport / Special Mission","Military Turboprop","CASA/IPTN CN-235","CASA/IPTN CN-235","Military TP","Military TP"]
[164,"Military Transport / Special Mission","Military Turboprop","E-2","Northrop Grumman E-2 Hawkeye","Military TP","Military TP"]
[154,"Military Transport / Special Mission","Military Turboprop","EADS CASA C-295","EADS CASA C-295","Military TP","Military TP"]
[181,"Military Transport / Special Mission","Military Turboprop","ShinMaywa US-2","ShinMaywa US-2","Military TP","Military TP"]
[44,"Business Jet","Very Light Jet","Citation Mustang","Cessna Citation Mustang","Mustang","Citation"]
[180,"Business Jet","Very Light Jet","Nextant 400XT","Nextant Aerospace - Nextant 400XT Aircraft","Nextant 400XT","Nextant 400XT"]
[612,"Large Commercial Aircraft","Single Aisle","Boeing New Single Aisle (NSA)","Boeing New Single Aisle (NSA)","NSA","NSA"]
[71,"Business Jet","Mid Size Jet","PC-24","Pilatus PC-24","PC-24","PC-24"]
[56,"Business Jet","Light Jet","Phenom 300","Embraer Phenom 300","Phenom","Phenom"]
[641,"Business Jet","Light Jet","Phenom 300X","Embraer Phenom 300X","Phenom","Phenom"]
[55,"Business Jet","Very Light Jet","Phenom 100","Embraer Phenom 100","Phenom","Phenom"]
[57,"Business Jet","Mid Size Jet","Legacy 450/Praetor 500","Legacy 450/Praetor 500","Praetor","Praetor"]
[58,"Business Jet","Mid Size Jet","Legacy 500/Praetor 600","Legacy 500/Praetor 600","Praetor","Praetor"]
[191,"Regional","Regional Turboprop","ATR 42/72","ATR 42","Reg TP","Reg TP"]
[26,"Regional","Regional Turboprop","ATR 42/72","ATR 72","Reg TP","Reg TP"]
[647,"Regional","Regional Turboprop","ATR 42/72X","ATR 42/72X","Reg TP","Reg TP"]
[616,"Regional","Regional Turboprop","AVIC MA700","AVIC MA700","Reg TP","Reg TP"]
[621,"Regional","Regional Turboprop","De Havilland Canada DHC-8","De Havilland Canada DHC-8-100","Reg TP","Reg TP"]
[622,"Regional","Regional Turboprop","De Havilland Canada DHC-8","De Havilland Canada DHC-8-200","Reg TP","Reg TP"]
[623,"Regional","Regional Turboprop","De Havilland Canada DHC-8","De Havilland Canada DHC-8-300","Reg TP","Reg TP"]
[21,"Regional","Regional Turboprop","De Havilland Canada DHC-8","De Havilland Canada DHC-8-400","Reg TP",{"$f":"INDEX(P:Q,MATCH(F323,P:P,0),2)","v":"Reg TP"}]
[624,"Regional","Regional Turboprop","Dornier Do 328-100","Dornier Do 328-100","Reg TP","Reg TP"]
[613,"Regional","Regional Turboprop","Embraer ","New Embraer turboprop","Reg TP","Reg TP"]
[625,"Regional","Regional Turboprop","Xian MA60","Xian MA60","Reg TP","Reg TP"]
[550,"Business Jet","Very Light Jet","Cirrus Vision Jet SF50","Cirrus Vision Jet SF50","SF50","SF50"]
[149,"Fighters and Jet Trainers","Stealth","B-21","Northrop Grumman B-21 Raider","Stealth","Stealth"]
[145,"Fighters and Jet Trainers","Stealth","F-22","Lockheed Martin F-22 Raptor","Stealth","Stealth"]
[146,"Fighters and Jet Trainers","Stealth","F-35","Lockheed Martin F-35 Lightning II","Stealth","Stealth"]
[29,"Regional","Regional Jet","Sukhoi Superjet","Sukhoi Superjet 100","Superjet 100","Superjet 100"]
[175,"Turboprop Trainers / Light Attack","Fighters and Jet Trainers","KAI KT-1 Woongbi","KAI KT-1 Woongbi","TP Trainer","TP Trainer"]
[306,"Turboprop Trainers / Light Attack","Fighters and Jet Trainers","TAI Hürkus","TAI Hürkus","TP Trainer","TP Trainer"]
[169,"Turboprop Trainers / Light Attack","Turboprop Trainers / Light Attack","Beechcraft T-6 Texan II","Beechcraft T-6 Texan II","TP Trainer","TP Trainer"]
[172,"Turboprop Trainers / Light Attack","Turboprop Trainers / Light Attack","Grob G 120TP","Grob G 120TP","TP Trainer","TP Trainer"]
[677,"Turboprop Trainers / Light Attack","Turboprop Trainers / Light Attack","HHT-40","HAL HHT-40","TP Trainer","TP Trainer"]
[227,"Turboprop Trainers / Light Attack","Turboprop Trainers / Light Attack","Other Turboprop trainers/light attack","Other Turboprop trainers/light attack","TP Trainer","TP Trainer"]
[177,"Turboprop Trainers / Light Attack","Turboprop Trainers / Light Attack","PC-7","Pilatus PC-7 Mk II","TP Trainer","TP Trainer"]
[178,"Turboprop Trainers / Light Attack","Turboprop Trainers / Light Attack","PC-9","Pilatus PC-9/PC-21","TP Trainer","TP Trainer"]
[170,"Turboprop Trainers / Light Attack","Turboprop Trainers / Light Attack","Tucano","Embraer EMB 312/314 Tucano","TP Trainer","TP Trainer"]
[544,"Turbine GA","Turbine GA","Air Tractor","Air Tractor","Turbine GA","Turbine GA"]
[545,"Turbine GA","Turbine GA","Airvan 10","GippsAero GA10 Airvan","Turbine GA","Turbine GA"]
[548,"Turbine GA","Turbine GA","Ayres Thrush 510","Ayres Thrush 510","Turbine GA","Turbine GA"]
[549,"Turbine GA","Turbine GA","Ayres Thrush SR2","Ayres Thrush SR2","Turbine GA","Turbine GA"]
[80,"Turbine GA","Turbine GA","Beechcraft King Air","Beechcraft King Air","Turbine GA","Turbine GA"]
[226,"Turbine GA","Turbine GA","Canadair CL-415","Canadair CL-415","Turbine GA","Turbine GA"]
[82,"Turbine GA","Turbine GA","Cessna 208 Caravan","Cessna 208 Caravan","Turbine GA","Turbine GA"]
[308,"Turbine GA","Turbine GA","Cessna 408 SkyCourier","Cessna 408 SkyCourier","Turbine GA","Turbine GA"]
[81,"Turbine GA","Turbine GA","Cessna Denali","Cessna Denali","Turbine GA","Turbine GA"]
[224,"Turbine GA","Turbine GA","Dornier Do 228","Dornier Do 228","Turbine GA","Turbine GA"]
[680,"Turbine GA","Turbine GA","Epic E1000","Epic E1000GX","Turbine GA","Turbine GA"]
[225,"Turbine GA","Turbine GA","Let L-410 Turbolet","Let L-410 Turbolet","Turbine GA","Turbine GA"]
[679,"Turbine GA","Turbine GA","N-219","Indonesian Aerospace N-219 Nurtanio","Turbine GA","Turbine GA"]
[31,"Turbine GA","Turbine GA","Other light aircraft","Beechcraft Premier I","Turbine GA","Turbine GA"]
[546,"Turbine GA","Turbine GA","PAC P-750 XSTOL","PAC P-750 XSTOL","Turbine GA","Turbine GA"]
[75,"Turbine GA","Turbine GA","Piaggio P.180 Avanti","Piaggio P.180 Avanti","Turbine GA","Turbine GA"]
[77,"Turbine GA","Turbine GA","Pilatus PC-12","Pilatus PC-12","Turbine GA","Turbine GA"]
[76,"Turbine GA","Turbine GA","Piper PA-46","Piper PA-46","Turbine GA","Turbine GA"]
[186,"Turbine GA","Turbine GA","PT6A powered light aircraft","many and various using the Pratt & Whitney Canada PT6A","Turbine GA","Turbine GA"]
[547,"Turbine GA","Turbine GA","Quest Kodiak","Quest Kodiak","Turbine GA","Turbine GA"]
[79,"Turbine GA","Turbine GA","Reims-Cessna F406 Caravan II","Reims-Cessna F406 Caravan II","Turbine GA","Turbine GA"]
[78,"Turbine GA","Turbine GA","SOCATA TBM","SOCATA TBM","Turbine GA","Turbine GA"]
[614,"Turbine GA","Turbine GA","Viking Twin Otter","Viking Twin Otter","Turbine GA","Turbine GA"]
[905,"UAV","CUAV","Other CUAV","Other CUAV","UAV","UAV"]
[901,"UAV","MALE/HALE","Bayraktar TB-2","Bayraktar TB-2","UAV","UAV"]
[673,"UAV","MALE/HALE","Eurodrone","Eurodrone","UAV","UAV"]
[449,"UAV","MALE/HALE","MQ-4C Triton","MQ-4C Triton","UAV","UAV"]
[450,"UAV","MALE/HALE","MQ-9 Reaper","MQ-9 Reaper","UAV","UAV"]
[902,"UAV","MALE/HALE","Other MALE/HALE","Other MALE/HALE","UAV","UAV"]
[452,"UAV","MALE/HALE","RQ-4A Global Hawk","RQ-4A Global Hawk","UAV","UAV"]
[907,"UAV","TUAV","Other TUAV","Other TUAV","UAV","UAV"]
[906,"UAV","TUAV","RQ-7 Shadow","RQ-7 Shadow","UAV","UAV"]
[903,"UAV","VTUAV","MQ-8","MQ-8","UAV","UAV"]
[904,"UAV","VTUAV","Other VTUAV","Other VTUAV","UAV","UAV"]

{"sheet":"Pt1-AvionicsComponentCosts","index":4,"n_rows":389,"n_cols":370,"rows_kept":139,"cut":true,"hidden":false,"merged":[],"bounds":{"rows_first":62,"rows_last":15,"rows_between":62,"halvings":5}}
[null,null,null,null,null,"Snapshot",2187391,268,13545395,254,1814346,63,2926196,127,643813,82,1324367,186,1188804,48,188346,108,270294,22,789633,114,549418,162,595357,64,743622,38,1115433,19,3126310,191,538142,22,966318,114,1971545,268,1971545,316,1822343,18,705040,134,1614430,70,1394296,19,753390,22,1883490,35,216237,22,1538698,44,962043,171,1398481,275,918132,230,2782200,324,1213273,19,538142,44,3724186,81,856135,35,129738,22,216237,11,2186311,19,1289324,64,1091759,64,1294519,18,931645,63,3167167,268,4336675,287,1317523,19,228868,11,897520,26,4251759,320,784724,86,3488876,191,768082,36,1208200,35,1006845,35,428636,18,3424692,134,325079,18,2030950,70,1405607,86,1474909,63,1004017,112,1228701,134,1113332,22,78962,52,1216568,96,768169,64,1578928,78,7904448,441,506060,10,759100,10,448124,128,1920520,128,1695325,198,361231,57,1897734,70,1451972,196,12554158,208,657878,26,4933128,169,384617,38,2417448,372,8388145,834,4463964,185,2216536,36,3016116,18,361231,114,7312570,53,708505,35,5446511,372,1348789,81,1130845,57,2802343,224,1320410,64,1650447,128,792204,190,1487358,38,3196476,224,15081503,434,7477497,520,1857914,70,869926,362,6195205,362,7491740,362,1548775,362,6717780,156,6256994,94,4823528,47,16091395,29,3688472,171,7759288,18,3176619,78,916961,488,0,0,1562505,35,3850407,23,4575315,34,4492153,23,2929675,35,3850407,46,11704756,155,2734340,35,4241046,32,1484356,38,0,0,5127521,412,682638,44,4109752,1389,1981424,18,195928,22,1019097,172,3563749,207,146943,22,487600,20,1585473,171,842213,57,292556,44,737594,104,877668,44,6704455,242,265970,10,0,0,2749406,271,1178729,57,421116,38,643624,96,3642259,18,2127461,1835,3024979,661,494980,30,486189,11,846978,108,607732,144,2694895,35,972367,11,549980,20,1539965,35,2887395,35,1044962,57,200200,208,1924930,35,1539965,70,11444222,175,427678,288,7952214,114,7672275,198,47050772,373,2598136,19,384434,64,4529283,268,783489,11,3425680,18,7444983,53,7752228,233,2349986,67,958210,22,447713,44,5249655,92,3227728,57,0,99,0,148,0,49,0,106,490285737]
["UPDATE Avionics Component Costs Table",null,null,null,null,"Calc totals",{"$f":"SUM(G12:G1644)","v":2187391},268,13545395,254,1814346,63,2926196,127,643813,82,1324367,186,1188804,48,188346,108,270294,22,789633,114,549418,162,595357,64,743622,38,1115433,19,3126310,191,538142,22,966318,114,1971545,268,1971545,316,1822343,18,705040,134,1614430,70,1394296,19,753390,22,1883490,35,216237,22,1538698,44,962043,171,1398481,275,918132,230,2782200,324,1213273,19,{"$f":"SUM(BS12:BS1644)","v":538142},44,3724186,81,856135,35,129738,22,216237,11,2186311,19,1289324,64,1091759,64,1294519,18,931645,63,3167167,268,4336675,287,1317523,19,228868,11,897520,26,4251759,320,784724,86,3488876,191,768082,36,1208200,35,1006845,35,428636,18,3424692,134,325079,18,2030950,70,1405607,86,1474909,63,1004017,112,1228701,134,1113332,22,78962,52,1216568,96,{"$f":"SUM(EE12:EE1644)","v":768169},64,1578928,78,7904448,441,506060,10,759100,10,448124,128,1920520,128,1695325,198,361231,57,1897734,70,1451972,196,12554158,208,657878,26,4933128,169,384617,38,2417448,372,8388145,834,4463964,185,2216536,36,3016116,18,361231,114,7312570,53,708505,35,5446511,372,1348789,81,1130845,57,2802343,224,1320410,64,1650447,128,792204,190,1487358,38,3196476,224,{"$f":"SUM(GQ12:GQ1644)","v":15081503},434,7477497,520,1857914,70,869926,362,6195205,362,7491740,362,1548775,362,6717780,156,6256994,94,4823528,47,16091395,29,3688472,171,7759288,18,3176619,78,916961,488,0,0,1562505,35,3850407,23,4575315,34,4492153,23,2929675,35,3850407,46,11704756,155,2734340,35,4241046,32,1484356,38,0,0,5127521,412,682638,44,4109752,1389,1981424,18,195928,22,{"$f":"SUM(JC12:JC1644)","v":1019097},172,3563749,207,146943,22,487600,20,1585473,171,842213,57,292556,44,737594,104,877668,44,6704455,242,265970,10,0,0,2749406,271,1178729,57,421116,38,643624,96,3642259,18,2127461,1835,3024979,661,494980,30,486189,11,846978,108,607732,144,2694895,35,972367,11,549980,20,1539965,35,2887395,35,1044962,57,200200,208,1924930,35,1539965,70,{"$f":"SUM(LO12:LO1644)","v":11444222},175,427678,288,7952214,114,7672275,198,47050772,373,2598136,19,384434,64,4529283,268,783489,11,3425680,18,7444983,53,7752228,233,2349986,67,958210,22,447713,44,5249655,92,3227728,57,0,99,0,148,0,49,0,106,{"$f":"SUM(G2:ND2)","v":490285737}]
["select aircraft_id, aircraft_level_1, aircraft_level_2, aircraft_level_3, aircraft_level_4, engine_level_4",null,null,null,null,"Delta",{"$f":"G2-G1","v":0},{"$f":"H2-H1","v":0},0,0,0,0,0,0,0,0,0,0,0,0,0,0,0,0,0,0,0,0,0,0,0,0,0,0,0,0,0,0,0,0,0,0,0,0,0,0,0,0,0,0,0,0,0,0,0,0,0,0,0,0,0,0,0,0,0,0,0,0,0,0,0,{"$f":"BT2-BT1","v":0},0,0,0,0,0,0,0,0,0,0,0,0,0,0,0,0,0,0,0,0,0,0,0,0,0,0,0,0,0,0,0,0,0,0,0,0,0,0,0,0,0,0,0,0,0,0,0,0,0,0,0,0,0,0,0,0,0,0,0,0,0,0,0,{"$f":"EF2-EF1","v":0},0,0,0,0,0,0,0,0,0,0,0,0,0,0,0,0,0,0,0,0,0,0,0,0,0,0,0,0,0,0,0,0,0,0,0,0,0,0,0,0,0,0,0,0,0,0,0,0,0,0,0,0,0,0,0,0,0,0,0,0,0,0,0,{"$f":"GR2-GR1","v":0},0,0,0,0,0,0,0,0,0,0,0,0,0,0,0,0,0,0,0,0,0,0,0,0,0,0,0,0,0,0,0,0,0,0,0,0,0,0,0,0,0,0,0,0,0,0,0,0,0,0,0,0,0,0,0,0,0,0,0,0,0,0,0,{"$f":"JD2-JD1","v":0},0,0,0,0,0,0,0,0,0,0,0,0,0,0,0,0,0,0,0,0,0,0,0,0,0,0,0,0,0,0,0,0,0,0,0,0,0,0,0,0,0,0,0,0,0,0,0,0,0,0,0,0,0,0,0,0,0,0,0,0,0,0,0,{"$f":"LP2-LP1","v":0},0,0,0,0,0,0,0,0,0,0,0,0,0,0,0,0,0,0,0,0,0,0,0,0,0,0,0,0,0,0,0,0,0,0,0,0,0,0,0,0,0]
["from aircraft as a LEFT JOIN engine as e ON a.engine_id = e.engine_id where a.deleted!=1 and aircraft_level_1 not in ('Space', 'IGT', 'Missile')"]
["order by aircraft_level_1, aircraft_level_2, aircraft_level_3, aircraft_level_4, engine_level_4",null,null,null,null,"Component IDs in next row"]
[null,null,null,null,null,"component_id",713,null,825,null,863,null,804,null,763,null,724,null,770,null,799,null,875,null,828,null,742,null,740,null,842,null,843,null,752,null,782,null,832,null,739,null,738,null,787,null,753,null,768,null,840,null,781,null,849,null,870,null,876,null,830,null,806,null,743,null,741,null,818,null,780,null,769,null,854,null,877,null,872,null,841,null,758,null,757,null,797,null,864,null,714,null,771,null,821,null,871,null,809,null,759,null,755,null,754,null,800,null,860,null,853,null,794,null,756,null,801,null,772,null,719,null,862,null,737,null,734,null,779,null,808,null,767,null,736,null,802,null,733,null,812,null,820,null,731,null,729,null,728,null,827,null,766,null,847,null,730,null,810,null,735,null,836,null,811,null,765,null,727,null,789,null,790,null,824,null,793,null,850,null,726,null,791,null,823,null,732,null,711,null,712,null,715,null,835,null,716,null,709,null,710,null,760,null,1056,null,1057,null,1058,null,1059,null,882,null,773,null,775,null,833,null,822,null,785,null,805,null,784,null,774,null,861,null,846,null,866,null,845,null,857,null,837,null,795,null,852,null,881,null,819,null,718,null,717,null,777,null,721,null,786,null,874,null,725,null,848,null,873,null,813,null,826,null,834,null,778,null,803,null,776,null,723,null,817,null,720,null,764,null,831,null,838,null,762,null,796,null,722,null,880,null,815,null,868,null,798,null,792,null,856,null,869,null,816,null,858,null,851,null,844,null,807,null,859,null,855,null,878,null,761,null,883,null,746,null,879,null,839,null,745,null,744,null,867,null,788,null,885,null,748,null,814,null,783,null,865,null,829,null,884,null,750,null,749,null,751,null,747]
[null,null,null,null,null,"component_level_2","Auto-pilot",null,"Auto-pilot",null,"Auto-pilot",null,"Auto-pilot",null,"Communications",null,"Communications",null,"Communications",null,"Communications",null,"Communications",null,"Communications",null,"Communications",null,"Communications",null,"Communications",null,"Communications",null,"Communications",null,"Communications",null,"Communications",null,"Communications",null,"Communications",null,"Communications",null,"Communications",null,"Communications",null,"Communications",null,"Communications",null,"Communications",null,"Communications",null,"Communications",null,"Communications",null,"Communications",null,"Communications",null,"Communications",null,"Communications",null,"Communications",null,"Communications",null,"Communications",null,"Communications",null,"Communications",null,"Data",null,"Data",null,"Data",null,"Data",null,"Data",null,"Data",null,"Data",null,"Data",null,"Data",null,"Data",null,"Data",null,"Data",null,"Data",null,"Data",null,"Data",null,"Data",null,"Data",null,"Data",null,"Data",null,"Data",null,"Display",null,"Display",null,"Display",null,"Display",null,"Display",null,"Display",null,"Display",null,"Display",null,"Display",null,"Display",null,"Display",null,"Display",null,"Display",null,"Display",null,"Display",null,"Display",null,"Display",null,"Display",null,"Display",null,"Display",null,"Display",null,"Display",null,"Display",null,"Display",null,"Display",null,"Display",null,"Display",null,"Display",null,"Display",null,"Display",null,"Display",null,"Display",null,"Display",null,"Display",null,"FMS",null,"FMS",null,"FMS",null,"FMS",null,"FMS",null,"FMS",null,"FMS",null,"FMS",null,"Harnesses",null,"Harnesses",null,"Harnesses",null,"Harnesses",null,"IMA",null,"IMA",null,"IMA",null,"IMA",null,"IMA",null,"IMA",null,"IMA",null,"IMA",null,"IMA",null,"Mission",null,"Mission",null,"Mission",null,"Mission",null,"Mission",null,"Mission",null,"Mission",null,"Mission",null,"Mission",null,"Mission",null,"Navigation",null,"Navigation",null,"Navigation",null,"Navigation",null,"Navigation",null,"Navigation",null,"Navigation",null,"Navigation",null,"Navigation",null,"Navigation",null,"Navigation",null,"Navigation",null,"Navigation",null,"Navigation",null,"Navigation",null,"Navigation",null,"Navigation",null,"Navigation",null,"Navigation",null,"Navigation",null,"Navigation",null,"Navigation",null,"Sensors",null,"Sensors",null,"Sensors",null,"Sensors",null,"Sensors",null,"Sensors",null,"Sensors",null,"Sensors",null,"Sensors",null,"Sensors",null,"Sensors",null,"Sensors",null,"Sensors",null,"Sensors",null,"Sensors",null,"Sensors",null,"Sensors",null,"Sensors",null,"Sensors",null,"Sensors",null,"Software",null,"Surveillance",null,"Surveillance",null,"Surveillance",null,"Surveillance",null,"Surveillance",null,"Surveillance",null,"Surveillance",null,"Surveillance",null,"Surveillance",null,"Surveillance",null,"Surveillance",null,"Surveillance",null,"Surveillance",null,"Surveillance",null,"Surveillance",null,"Surveillance"]
[null,null,null,null,null,"component_level_3","A/T Engine Control Unit",null,"Auto pilot system",null,"Dual axis dual system Auto-pilot",null,"Flight Guidance System (A/Pilot)",null,"ADF radios",null,"ADF system",null,"Air Traffic Services Unit ",null,"Antenna suite",null,"ARC 210 radios",null,"ATC Transponder",null,"Audio Control Panel",null,"Audio Management Unit",null,"Avionics Comms Router (ACR)",null,"Central Crypto System",null,"Cockpit Voice Recorder",null,"Comms Management Function (CMF)",null,"Comms Management System",null,"Comms Receivers UF (transceiver/antenna)",null,"Comms Receivers VH (transceiver/antenna)",null,"Communication, Navigation, Identification Unit AN/ASQ-242",null,"CVR control panel",null,"HF Radio",null,"HF-9500 High Frequency Communications System",null,"HST 2100 ",null,"Joint tactical radio system (JTRS),",null,"Radio Altimeters",null,"Radio antenna receivers/transmitters",null,"Radio antenna, amplifier, sat data",null,"Radio Antennas",null,"Radio Management Panel",null,"Radio management system",null,"Radio receivers",null,"Radio Tuning control Panels",null,"SATCOM",null,"Target data acquisition",null,"UHF LOS antennas",null,"UHF SATCOM antenna",null,"AFDX databus",null,"Air Traffic Services Unit (ATSU)",null,"Aircraft Intergated Data System (AIDS)",null,"Aircraft memory system",null,"Combined cockpit voice and data recorder",null,"Data Base loader",null,"Data Management Unit",null,"Digital Data link/transfer",null,"Digital recorder",null,"Digital Voice & Data Recorder",null,"Electronic Flight Bags (EFBs)",null,"FD Interface Unit",null,"Flight Data Recorder",null,"High speed and fibre optics data/signalling network databuses",null,"Integrated data modem",null,"Interface maintenance data recorders",null,"Multi function Advanced Data link AAA Array",null,"Quick Access Recorder (QAR)",null,"Radar altimeter",null,"Wireless LAN data loader",null,"ADIRS CDU",null,"Central Mission display",null,"Clock",null,"Compass",null,"Crew Info System/Maint System",null,"Cursor Control Device",null,"Datalink cockpit Display Unit",null,"DDRMI display",null,"Display Controllers",null,"Display Management Computer (DMC/EFIS)",null,"Display processor",null,"Dual redundant digital bus",null,"ECAM Control panel",null,"ECAM display",null,"EFIS Control panel",null,"EICAS Controller panel",null,"EICAS Crew alerting System",null,"Engine/fuel/ displays",null,"HUD display system",null,"Integrated Electronic Standby System",null,"Integrated Standby Instrument System",null,"Keyboard cursor Control Units (KCCU)",null,"Main displays",null,"Multi Function Display",null,"Navigation display (EFIS)",null,"Panoramic Display Cockpit Electronic Unit",null,"Panormic Cockpit Display",null,"PFD Control panels",null,"Pilot Helmet Mounted Display System",null,"Pilot Night Vision Sensors (PNVS) systems",null,"Primary Flight Display (EFIS)",null,"Standby display",null,"Standby display unit",null,"System Data Acquisition Concentrator (SDAC)",null,"FCU",null,"Flight Augmentation Computers",null,"Flight Control Unit (FCU) panel",null,"Flight Management System",null,"Flight Warning Computer (FWC)",null,"FMGC",null,"MCDU",null,"Mode control Panel (Auto/Pilot control)",null,"Cables and wires",null,"Connectors & back shells",null,"Harnesses, cable assemblies & racks",null,"Relays, contactors & other standard electrical parts",null,"Aircraft avionics management unit",null,"Common Core processing",null,"Common Data Network",null,"IMA",null,"Integrated Avionics computers (IACs)",null,"Integrated Core Processor (ICP)",null,"Modular Avionic Unit, 1,2 and 3",null,"Remote Data concentrators",null,"Remote Data Concentrators",null,"Data Transfer module",null,"Defensive Aids Computer",null,"Defensive counter measures",null,"Directed InfraRed Counter Measures",null,"Infra-red countermeasure",null,"Military Mission Management System",null,"Mission computers",null,"Modernized Target Acquisition Designation Sight (M-TADS) ",null,"Stores management computer",null,"Stores Management System",null,"ADIRS control panel",null,"ADIRU",null,"AHRS package",null,"Air Data Modules (ADM)",null,"Communication, Navigation, Identification Unit AN/ASQ-242",null,"Differential GPS antenna",null,"DME receivers",null,"Embedded GPS/INS",null,"GPS antenna",null,"IN/GPS system ",null,"Inertial Ref Unit (IRU)",null,"Inertial Reference System",null,"Intergated Nav Receivers (INRs)",null,"IRS Gyroscope System",null,"IRU package",null,"Multi Mode Receiver (MMR)",null,"Navigation receiver",null,"Pedestal ADS select",null,"Radar altimeters",null,"Radio antenna, amplifier, sat data",null,"TACAN",null,"VOR receivers",null,"AESA Radar",null,"Air data probes (pitot/static)",null,"Air data sensors",null,"Air Data smart sensor",null,"Airborne Systems Intelligence Payload sensor",null,"Distributed Aperture System (electro-optical)",null,"Electro Optical Targeting System (FLIR & IRST)",null,"Electronic Interferometer Frequency Radar Supports target acquisition systems",null,"Enhanced Integrated Sensor Suite",null,"FLIR sensors",null,"Laser warning receiver",null,"Millimeter wave fire-control radar, frequency interferometer, fire-and-forget radar",null,"Mulit InfraRed alerting System (MIRAS) Sensors",null,"Pitot Static sensors",null,"Radar jammer",null,"Radar warning receivers",null,"Sensors IFF, other",null,"Static/standby sensors",null,"Surveillance Sensors",null,"Weather WX radar system",null,"Software",null,"Aircraft Environment Surveillance System (AESS)",null,"ATC control box",null,"ATC Mode S Transponders (TCAS)",null,"Electro-optical reconnaissance sesnor",null,"Electronic Warfare suite AN/ASQ-239 (evasion, engagement,  jamming, c/measures)",null,"Enhanced Vision system",null,"Ground Proximity Warning System (GPWS/EGPWS)",null,"Multi mode radar",null,"Multi Scan Hazard Detection System",null,"Multi spectral camera",null,"Radar Antenna (nose nounted)",null,"Sensor suite WX radar etc",null,"TCAS antennas",null,"TCAS computer",null,"TCAS control panel",null,"WX control panel"]
[null,null,null,null,null,"component_level_4","A/T Engine Control Unit",null,"Auto pilot system",null,"Dual axis dual system Auto-pilot",null,"Flight Guidance System (A/Pilot)",null,"ADF radios",null,"ADF system",null,"Air Traffic Services Unit ",null,"Antenna suite",null,"ARC 210 radios",null,"ATC Transponder",null,"Audio Control Panel",null,"Audio Management Unit",null,"Avionics Comms Router (ACR)",null,"Central Crypto System",null,"Cockpit Voice Recorder",null,"Comms Management Function (CMF)",null,"Comms Management System",null,"Comms Receivers UF (transceiver/antenna)",null,"Comms Receivers VH (transceiver/antenna)",null,"Communication, Navigation, Identification Unit AN/ASQ-242",null,"CVR control panel",null,"HF Radio",null,"HF-9500 High Frequency Communications System",null,"HST 2100 ",null,"Joint tactical radio system (JTRS),",null,"Radio Altimeters",null,"Radio antenna receivers/transmitters",null,"Radio antenna, amplifier, sat data",null,"Radio Antennas",null,"Radio Management Panel",null,"Radio management system",null,"Radio receivers",null,"Radio Tuning control Panels",null,"SATCOM",null,"Target data acquisition",null,"UHF LOS antennas",null,"UHF SATCOM antenna",null,"AFDX databus",null,"Air Traffic Services Unit (ATSU)",null,"Aircraft Intergated Data System (AIDS)",null,"Aircraft memory system",null,"Combined cockpit voice and data recorder",null,"Data Base loader",null,"Data Management Unit",null,"Digital Data link/transfer",null,"Digital recorder",null,"Digital Voice & Data Recorder",null,"Electronic Flight Bags (EFBs)",null,"FD Interface Unit",null,"Flight Data Recorder",null,"High speed and fibre optics data/signalling network databuses",null,"Integrated data modem",null,"Interface maintenance data recorders",null,"Multi function Advanced Data link AAA Array",null,"Quick Access Recorder (QAR)",null,"Radar altimeter",null,"Wireless LAN data loader",null,"ADIRS CDU",null,"Central Mission display",null,"Clock",null,"Compass",null,"Crew Info System/Maint System",null,"Cursor Control Device",null,"Datalink cockpit Display Unit",null,"DDRMI display",null,"Display Controllers",null,"Display Management Computer (DMC/EFIS)",null,"Display processor",null,"Dual redundant digital bus",null,"ECAM Control panel",null,"ECAM display",null,"EFIS Control panel",null,"EICAS Controller panel",null,"EICAS Crew alerting System",null,"Engine/fuel/ displays",null,"HUD display system",null,"Integrated Electronic Standby System",null,"Integrated Standby Instrument System",null,"Keyboard cursor Control Units (KCCU)",null,"Main displays",null,"Multi Function Display",null,"Navigation display (EFIS)",null,"Panoramic Display Cockpit Electronic Unit",null,"Panormic Cockpit Display",null,"PFD Control panels",null,"Pilot Helmet Mounted Display System",null,"Pilot Night Vision Sensors (PNVS) systems",null,"Primary Flight Display (EFIS)",null,"Standby display",null,"Standby display unit",null,"System Data Acquisition Concentrator (SDAC)",null,"FCU",null,"Flight Augmentation Computers",null,"Flight Control Unit (FCU) panel",null,"Flight Management System",null,"Flight Warning Computer (FWC)",null,"FMGC",null,"MCDU",null,"Mode control Panel (Auto/Pilot control)",null,"Avionics Harnesses",null,"Avionics Harnesses",null,"Avionics Harnesses",null,"Avionics Harnesses",null,"Aircraft avionics management unit",null,"Common Core processing",null,"Common Data Network",null,"IMA",null,"Integrated Avionics computers (IACs)",null,"Integrated Core Processor (ICP)",null,"Modular Avionic Unit, 1,2 and 3",null,"Remote Data concentrators",null,"Remote Data Concentrators",null,"Data Transfer module",null,"Defensive Aids Computer",null,"Defensive counter measures",null,"Directed InfraRed Counter Measures",null,"Infra-red countermeasure",null,"Military Mission Management System",null,"Mission computers",null,"Modernized Target Acquisition Designation Sight (M-TADS) ",null,"Stores management computer",null,"Stores Management System",null,"ADIRS control panel",null,"ADIRU",null,"AHRS package",null,"Air Data Modules (ADM)",null,"Communication, Navigation, Identification Unit AN/ASQ-242",null,"Differential GPS antenna",null,"DME receivers",null,"Embedded GPS/INS",null,"GPS antenna",null,"IN/GPS system ",null,"Inertial Ref Unit (IRU)",null,"Inertial Reference System",null,"Intergated Nav Receivers (INRs)",null,"IRS Gyroscope System",null,"IRU package",null,"Multi Mode Receiver (MMR)",null,"Navigation receiver",null,"Pedestal ADS select",null,"Radar altimeters",null,"Radio antenna, amplifier, sat data",null,"TACAN",null,"VOR receivers",null,"AESA Radar",null,"Air data probes (pitot/static)",null,"Air data sensors",null,"Air Data smart sensor",null,"Airborne Systems Intelligence Payload sensor",null,"Distributed Aperture System (electro-optical)",null,"Electro Optical Targeting System (FLIR & IRST)",null,"Electronic Interferometer Frequency Radar Supports target acquisition systems",null,"Enhanced Integrated Sensor Suite",null,"FLIR sensors",null,"Laser warning receiver",null,"Millimeter wave fire-control radar, frequency interferometer, fire-and-forget radar",null,"Mulit InfraRed alerting System (MIRAS) Sensors",null,"Pitot Static sensors",null,"Radar jammer",null,"Radar warning receivers",null,"Sensors IFF, other",null,"Static/standby sensors",null,"Surveillance Sensors",null,"Weather WX radar system",null,"Software",null,"Aircraft Environment Surveillance System (AESS)",null,"ATC control box",null,"ATC Mode S Transponders (TCAS)",null,"Electro-optical reconnaissance sesnor",null,"Electronic Warfare suite AN/ASQ-239 (evasion, engagement,  jamming, c/measures)",null,"Enhanced Vision system",null,"Ground Proximity Warning System (GPWS/EGPWS)",null,"Multi mode radar",null,"Multi Scan Hazard Detection System",null,"Multi spectral camera",null,"Radar Antenna (nose nounted)",null,"Sensor suite WX radar etc",null,"TCAS antennas",null,"TCAS computer",null,"TCAS control panel",null,"WX control panel"]
[null,null,null,null,null,"Equations>>>>",{"$f":"_xlfn.IFNA(VLOOKUP(_xlfn.CONCAT($A10,\"#\",G$6),'[1]Pt1-DATA'!$C:$E,2,FALSE),\"-\")","v":"-"},{"$f":"_xlfn.IFNA(VLOOKUP(_xlfn.CONCAT($A10,\"#\",G$6),'[1]Pt1-DATA'!$C:$E,3,FALSE),\"-\")","v":"-"},{"$f":"_xlfn.IFNA(VLOOKUP(_xlfn.CONCAT($A10,\"#\",I$6),'[1]Pt1-DATA'!$C:$E,2,FALSE),\"-\")","v":"-"},{"$f":"_xlfn.IFNA(VLOOKUP(_xlfn.CONCAT($A10,\"#\",I$6),'[1]Pt1-DATA'!$C:$E,3,FALSE),\"-\")","v":"-"},{"$f":"_xlfn.IFNA(VLOOKUP(_xlfn.CONCAT($A10,\"#\",K$6),'[1]Pt1-DATA'!$C:$E,2,FALSE),\"-\")","v":"-"},{"$f":"_xlfn.IFNA(VLOOKUP(_xlfn.CONCAT($A10,\"#\",K$6),'[1]Pt1-DATA'!$C:$E,3,FALSE),\"-\")","v":"-"},{"$f":"_xlfn.IFNA(VLOOKUP(_xlfn.CONCAT($A10,\"#\",M$6),'[1]Pt1-DATA'!$C:$E,2,FALSE),\"-\")","v":"-"},{"$f":"_xlfn.IFNA(VLOOKUP(_xlfn.CONCAT($A10,\"#\",M$6),'[1]Pt1-DATA'!$C:$E,3,FALSE),\"-\")","v":"-"},{"$f":"_xlfn.IFNA(VLOOKUP(_xlfn.CONCAT($A10,\"#\",O$6),'[1]Pt1-DATA'!$C:$E,2,FALSE),\"-\")","v":"-"},{"$f":"_xlfn.IFNA(VLOOKUP(_xlfn.CONCAT($A10,\"#\",O$6),'[1]Pt1-DATA'!$C:$E,3,FALSE),\"-\")","v":"-"},{"$f":"_xlfn.IFNA(VLOOKUP(_xlfn.CONCAT($A10,\"#\",Q$6),'[1]Pt1-DATA'!$C:$E,2,FALSE),\"-\")","v":"-"},{"$f":"_xlfn.IFNA(VLOOKUP(_xlfn.CONCAT($A10,\"#\",Q$6),'[1]Pt1-DATA'!$C:$E,3,FALSE),\"-\")","v":"-"},{"$f":"_xlfn.IFNA(VLOOKUP(_xlfn.CONCAT($A10,\"#\",S$6),'[1]Pt1-DATA'!$C:$E,2,FALSE),\"-\")","v":"-"},{"$f":"_xlfn.IFNA(VLOOKUP(_xlfn.CONCAT($A10,\"#\",S$6),'[1]Pt1-DATA'!$C:$E,3,FALSE),\"-\")","v":"-"},{"$f":"_xlfn.IFNA(VLOOKUP(_xlfn.CONCAT($A10,\"#\",U$6),'[1]Pt1-DATA'!$C:$E,2,FALSE),\"-\")","v":"-"},{"$f":"_xlfn.IFNA(VLOOKUP(_xlfn.CONCAT($A10,\"#\",U$6),'[1]Pt1-DATA'!$C:$E,3,FALSE),\"-\")","v":"-"},{"$f":"_xlfn.IFNA(VLOOKUP(_xlfn.CONCAT($A10,\"#\",W$6),'[1]Pt1-DATA'!$C:$E,2,FALSE),\"-\")","v":"-"},{"$f":"_xlfn.IFNA(VLOOKUP(_xlfn.CONCAT($A10,\"#\",W$6),'[1]Pt1-DATA'!$C:$E,3,FALSE),\"-\")","v":"-"},{"$f":"_xlfn.IFNA(VLOOKUP(_xlfn.CONCAT($A10,\"#\",Y$6),'[1]Pt1-DATA'!$C:$E,2,FALSE),\"-\")","v":"-"},{"$f":"_xlfn.IFNA(VLOOKUP(_xlfn.CONCAT($A10,\"#\",Y$6),'[1]Pt1-DATA'!$C:$E,3,FALSE),\"-\")","v":"-"},{"$f":"_xlfn.IFNA(VLOOKUP(_xlfn.CONCAT($A10,\"#\",AA$6),'[1]Pt1-DATA'!$C:$E,2,FALSE),\"-\")","v":"-"},{"$f":"_xlfn.IFNA(VLOOKUP(_xlfn.CONCAT($A10,\"#\",AA$6),'[1]Pt1-DATA'!$C:$E,3,FALSE),\"-\")","v":"-"},{"$f":"_xlfn.IFNA(VLOOKUP(_xlfn.CONCAT($A10,\"#\",AC$6),'[1]Pt1-DATA'!$C:$E,2,FALSE),\"-\")","v":"-"},{"$f":"_xlfn.IFNA(VLOOKUP(_xlfn.CONCAT($A10,\"#\",AC$6),'[1]Pt1-DATA'!$C:$E,3,FALSE),\"-\")","v":"-"},{"$f":"_xlfn.IFNA(VLOOKUP(_xlfn.CONCAT($A10,\"#\",AE$6),'[1]Pt1-DATA'!$C:$E,2,FALSE),\"-\")","v":"-"},{"$f":"_xlfn.IFNA(VLOOKUP(_xlfn.CONCAT($A10,\"#\",AE$6),'[1]Pt1-DATA'!$C:$E,3,FALSE),\"-\")","v":"-"},{"$f":"_xlfn.IFNA(VLOOKUP(_xlfn.CONCAT($A10,\"#\",AG$6),'[1]Pt1-DATA'!$C:$E,2,FALSE),\"-\")","v":"-"},{"$f":"_xlfn.IFNA(VLOOKUP(_xlfn.CONCAT($A10,\"#\",AG$6),'[1]Pt1-DATA'!$C:$E,3,FALSE),\"-\")","v":"-"},{"$f":"_xlfn.IFNA(VLOOKUP(_xlfn.CONCAT($A10,\"#\",AI$6),'[1]Pt1-DATA'!$C:$E,2,FALSE),\"-\")","v":"-"},{"$f":"_xlfn.IFNA(VLOOKUP(_xlfn.CONCAT($A10,\"#\",AI$6),'[1]Pt1-DATA'!$C:$E,3,FALSE),\"-\")","v":"-"},{"$f":"_xlfn.IFNA(VLOOKUP(_xlfn.CONCAT($A10,\"#\",AK$6),'[1]Pt1-DATA'!$C:$E,2,FALSE),\"-\")","v":"-"},{"$f":"_xlfn.IFNA(VLOOKUP(_xlfn.CONCAT($A10,\"#\",AK$6),'[1]Pt1-DATA'!$C:$E,3,FALSE),\"-\")","v":"-"},{"$f":"_xlfn.IFNA(VLOOKUP(_xlfn.CONCAT($A10,\"#\",AM$6),'[1]Pt1-DATA'!$C:$E,2,FALSE),\"-\")","v":"-"},{"$f":"_xlfn.IFNA(VLOOKUP(_xlfn.CONCAT($A10,\"#\",AM$6),'[1]Pt1-DATA'!$C:$E,3,FALSE),\"-\")","v":"-"},{"$f":"_xlfn.IFNA(VLOOKUP(_xlfn.CONCAT($A10,\"#\",AO$6),'[1]Pt1-DATA'!$C:$E,2,FALSE),\"-\")","v":"-"},{"$f":"_xlfn.IFNA(VLOOKUP(_xlfn.CONCAT($A10,\"#\",AO$6),'[1]Pt1-DATA'!$C:$E,3,FALSE),\"-\")","v":"-"},{"$f":"_xlfn.IFNA(VLOOKUP(_xlfn.CONCAT($A10,\"#\",AQ$6),'[1]Pt1-DATA'!$C:$E,2,FALSE),\"-\")","v":"-"},{"$f":"_xlfn.IFNA(VLOOKUP(_xlfn.CONCAT($A10,\"#\",AQ$6),'[1]Pt1-DATA'!$C:$E,3,FALSE),\"-\")","v":"-"},{"$f":"_xlfn.IFNA(VLOOKUP(_xlfn.CONCAT($A10,\"#\",AS$6),'[1]Pt1-DATA'!$C:$E,2,FALSE),\"-\")","v":"-"},{"$f":"_xlfn.IFNA(VLOOKUP(_xlfn.CONCAT($A10,\"#\",AS$6),'[1]Pt1-DATA'!$C:$E,3,FALSE),\"-\")","v":"-"},{"$f":"_xlfn.IFNA(VLOOKUP(_xlfn.CONCAT($A10,\"#\",AU$6),'[1]Pt1-DATA'!$C:$E,2,FALSE),\"-\")","v":"-"},{"$f":"_xlfn.IFNA(VLOOKUP(_xlfn.CONCAT($A10,\"#\",AU$6),'[1]Pt1-DATA'!$C:$E,3,FALSE),\"-\")","v":"-"},{"$f":"_xlfn.IFNA(VLOOKUP(_xlfn.CONCAT($A10,\"#\",AW$6),'[1]Pt1-DATA'!$C:$E,2,FALSE),\"-\")","v":"-"},{"$f":"_xlfn.IFNA(VLOOKUP(_xlfn.CONCAT($A10,\"#\",AW$6),'[1]Pt1-DATA'!$C:$E,3,FALSE),\"-\")","v":"-"},{"$f":"_xlfn.IFNA(VLOOKUP(_xlfn.CONCAT($A10,\"#\",AY$6),'[1]Pt1-DATA'!$C:$E,2,FALSE),\"-\")","v":"-"},{"$f":"_xlfn.IFNA(VLOOKUP(_xlfn.CONCAT($A10,\"#\",AY$6),'[1]Pt1-DATA'!$C:$E,3,FALSE),\"-\")","v":"-"},{"$f":"_xlfn.IFNA(VLOOKUP(_xlfn.CONCAT($A10,\"#\",BA$6),'[1]Pt1-DATA'!$C:$E,2,FALSE),\"-\")","v":"-"},{"$f":"_xlfn.IFNA(VLOOKUP(_xlfn.CONCAT($A10,\"#\",BA$6),'[1]Pt1-DATA'!$C:$E,3,FALSE),\"-\")","v":"-"},{"$f":"_xlfn.IFNA(VLOOKUP(_xlfn.CONCAT($A10,\"#\",BC$6),'[1]Pt1-DATA'!$C:$E,2,FALSE),\"-\")","v":"-"},{"$f":"_xlfn.IFNA(VLOOKUP(_xlfn.CONCAT($A10,\"#\",BC$6),'[1]Pt1-DATA'!$C:$E,3,FALSE),\"-\")","v":"-"},{"$f":"_xlfn.IFNA(VLOOKUP(_xlfn.CONCAT($A10,\"#\",BE$6),'[1]Pt1-DATA'!$C:$E,2,FALSE),\"-\")","v":"-"},{"$f":"_xlfn.IFNA(VLOOKUP(_xlfn.CONCAT($A10,\"#\",BE$6),'[1]Pt1-DATA'!$C:$E,3,FALSE),\"-\")","v":"-"},{"$f":"_xlfn.IFNA(VLOOKUP(_xlfn.CONCAT($A10,\"#\",BG$6),'[1]Pt1-DATA'!$C:$E,2,FALSE),\"-\")","v":"-"},{"$f":"_xlfn.IFNA(VLOOKUP(_xlfn.CONCAT($A10,\"#\",BG$6),'[1]Pt1-DATA'!$C:$E,3,FALSE),\"-\")","v":"-"},{"$f":"_xlfn.IFNA(VLOOKUP(_xlfn.CONCAT($A10,\"#\",BI$6),'[1]Pt1-DATA'!$C:$E,2,FALSE),\"-\")","v":"-"},{"$f":"_xlfn.IFNA(VLOOKUP(_xlfn.CONCAT($A10,\"#\",BI$6),'[1]Pt1-DATA'!$C:$E,3,FALSE),\"-\")","v":"-"},{"$f":"_xlfn.IFNA(VLOOKUP(_xlfn.CONCAT($A10,\"#\",BK$6),'[1]Pt1-DATA'!$C:$E,2,FALSE),\"-\")","v":"-"},{"$f":"_xlfn.IFNA(VLOOKUP(_xlfn.CONCAT($A10,\"#\",BK$6),'[1]Pt1-DATA'!$C:$E,3,FALSE),\"-\")","v":"-"},{"$f":"_xlfn.IFNA(VLOOKUP(_xlfn.CONCAT($A10,\"#\",BM$6),'[1]Pt1-DATA'!$C:$E,2,FALSE),\"-\")","v":"-"},{"$f":"_xlfn.IFNA(VLOOKUP(_xlfn.CONCAT($A10,\"#\",BM$6),'[1]Pt1-DATA'!$C:$E,3,FALSE),\"-\")","v":"-"},{"$f":"_xlfn.IFNA(VLOOKUP(_xlfn.CONCAT($A10,\"#\",BO$6),'[1]Pt1-DATA'!$C:$E,2,FALSE),\"-\")","v":"-"},{"$f":"_xlfn.IFNA(VLOOKUP(_xlfn.CONCAT($A10,\"#\",BO$6),'[1]Pt1-DATA'!$C:$E,3,FALSE),\"-\")","v":"-"},{"$f":"_xlfn.IFNA(VLOOKUP(_xlfn.CONCAT($A10,\"#\",BQ$6),'[1]Pt1-DATA'!$C:$E,2,FALSE),\"-\")","v":"-"},{"$f":"_xlfn.IFNA(VLOOKUP(_xlfn.CONCAT($A10,\"#\",BQ$6),'[1]Pt1-DATA'!$C:$E,3,FALSE),\"-\")","v":"-"},{"$f":"_xlfn.IFNA(VLOOKUP(_xlfn.CONCAT($A10,\"#\",BS$6),'[1]Pt1-DATA'!$C:$E,2,FALSE),\"-\")","v":"-"},{"$f":"_xlfn.IFNA(VLOOKUP(_xlfn.CONCAT($A10,\"#\",BS$6),'[1]Pt1-DATA'!$C:$E,3,FALSE),\"-\")","v":"-"},{"$f":"_xlfn.IFNA(VLOOKUP(_xlfn.CONCAT($A10,\"#\",BU$6),'[1]Pt1-DATA'!$C:$E,2,FALSE),\"-\")","v":"-"},{"$f":"_xlfn.IFNA(VLOOKUP(_xlfn.CONCAT($A10,\"#\",BU$6),'[1]Pt1-DATA'!$C:$E,3,FALSE),\"-\")","v":"-"},{"$f":"_xlfn.IFNA(VLOOKUP(_xlfn.CONCAT($A10,\"#\",BW$6),'[1]Pt1-DATA'!$C:$E,2,FALSE),\"-\")","v":"-"},{"$f":"_xlfn.IFNA(VLOOKUP(_xlfn.CONCAT($A10,\"#\",BW$6),'[1]Pt1-DATA'!$C:$E,3,FALSE),\"-\")","v":"-"},{"$f":"_xlfn.IFNA(VLOOKUP(_xlfn.CONCAT($A10,\"#\",BY$6),'[1]Pt1-DATA'!$C:$E,2,FALSE),\"-\")","v":"-"},{"$f":"_xlfn.IFNA(VLOOKUP(_xlfn.CONCAT($A10,\"#\",BY$6),'[1]Pt1-DATA'!$C:$E,3,FALSE),\"-\")","v":"-"},{"$f":"_xlfn.IFNA(VLOOKUP(_xlfn.CONCAT($A10,\"#\",CA$6),'[1]Pt1-DATA'!$C:$E,2,FALSE),\"-\")","v":"-"},{"$f":"_xlfn.IFNA(VLOOKUP(_xlfn.CONCAT($A10,\"#\",CA$6),'[1]Pt1-DATA'!$C:$E,3,FALSE),\"-\")","v":"-"},{"$f":"_xlfn.IFNA(VLOOKUP(_xlfn.CONCAT($A10,\"#\",CC$6),'[1]Pt1-DATA'!$C:$E,2,FALSE),\"-\")","v":"-"},{"$f":"_xlfn.IFNA(VLOOKUP(_xlfn.CONCAT($A10,\"#\",CC$6),'[1]Pt1-DATA'!$C:$E,3,FALSE),\"-\")","v":"-"},{"$f":"_xlfn.IFNA(VLOOKUP(_xlfn.CONCAT($A10,\"#\",CE$6),'[1]Pt1-DATA'!$C:$E,2,FALSE),\"-\")","v":"-"},{"$f":"_xlfn.IFNA(VLOOKUP(_xlfn.CONCAT($A10,\"#\",CE$6),'[1]Pt1-DATA'!$C:$E,3,FALSE),\"-\")","v":"-"},{"$f":"_xlfn.IFNA(VLOOKUP(_xlfn.CONCAT($A10,\"#\",CG$6),'[1]Pt1-DATA'!$C:$E,2,FALSE),\"-\")","v":"-"},{"$f":"_xlfn.IFNA(VLOOKUP(_xlfn.CONCAT($A10,\"#\",CG$6),'[1]Pt1-DATA'!$C:$E,3,FALSE),\"-\")","v":"-"},{"$f":"_xlfn.IFNA(VLOOKUP(_xlfn.CONCAT($A10,\"#\",CI$6),'[1]Pt1-DATA'!$C:$E,2,FALSE),\"-\")","v":"-"},{"$f":"_xlfn.IFNA(VLOOKUP(_xlfn.CONCAT($A10,\"#\",CI$6),'[1]Pt1-DATA'!$C:$E,3,FALSE),\"-\")","v":"-"},{"$f":"_xlfn.IFNA(VLOOKUP(_xlfn.CONCAT($A10,\"#\",CK$6),'[1]Pt1-DATA'!$C:$E,2,FALSE),\"-\")","v":"-"},{"$f":"_xlfn.IFNA(VLOOKUP(_xlfn.CONCAT($A10,\"#\",CK$6),'[1]Pt1-DATA'!$C:$E,3,FALSE),\"-\")","v":"-"},{"$f":"_xlfn.IFNA(VLOOKUP(_xlfn.CONCAT($A10,\"#\",CM$6),'[1]Pt1-DATA'!$C:$E,2,FALSE),\"-\")","v":"-"},{"$f":"_xlfn.IFNA(VLOOKUP(_xlfn.CONCAT($A10,\"#\",CM$6),'[1]Pt1-DATA'!$C:$E,3,FALSE),\"-\")","v":"-"},{"$f":"_xlfn.IFNA(VLOOKUP(_xlfn.CONCAT($A10,\"#\",CO$6),'[1]Pt1-DATA'!$C:$E,2,FALSE),\"-\")","v":"-"},{"$f":"_xlfn.IFNA(VLOOKUP(_xlfn.CONCAT($A10,\"#\",CO$6),'[1]Pt1-DATA'!$C:$E,3,FALSE),\"-\")","v":"-"},{"$f":"_xlfn.IFNA(VLOOKUP(_xlfn.CONCAT($A10,\"#\",CQ$6),'[1]Pt1-DATA'!$C:$E,2,FALSE),\"-\")","v":"-"},{"$f":"_xlfn.IFNA(VLOOKUP(_xlfn.CONCAT($A10,\"#\",CQ$6),'[1]Pt1-DATA'!$C:$E,3,FALSE),\"-\")","v":"-"},{"$f":"_xlfn.IFNA(VLOOKUP(_xlfn.CONCAT($A10,\"#\",CS$6),'[1]Pt1-DATA'!$C:$E,2,FALSE),\"-\")","v":"-"},{"$f":"_xlfn.IFNA(VLOOKUP(_xlfn.CONCAT($A10,\"#\",CS$6),'[1]Pt1-DATA'!$C:$E,3,FALSE),\"-\")","v":"-"},{"$f":"_xlfn.IFNA(VLOOKUP(_xlfn.CONCAT($A10,\"#\",CU$6),'[1]Pt1-DATA'!$C:$E,2,FALSE),\"-\")","v":"-"},{"$f":"_xlfn.IFNA(VLOOKUP(_xlfn.CONCAT($A10,\"#\",CU$6),'[1]Pt1-DATA'!$C:$E,3,FALSE),\"-\")","v":"-"},{"$f":"_xlfn.IFNA(VLOOKUP(_xlfn.CONCAT($A10,\"#\",CW$6),'[1]Pt1-DATA'!$C:$E,2,FALSE),\"-\")","v":"-"},{"$f":"_xlfn.IFNA(VLOOKUP(_xlfn.CONCAT($A10,\"#\",CW$6),'[1]Pt1-DATA'!$C:$E,3,FALSE),\"-\")","v":"-"},{"$f":"_xlfn.IFNA(VLOOKUP(_xlfn.CONCAT($A10,\"#\",CY$6),'[1]Pt1-DATA'!$C:$E,2,FALSE),\"-\")","v":"-"},{"$f":"_xlfn.IFNA(VLOOKUP(_xlfn.CONCAT($A10,\"#\",CY$6),'[1]Pt1-DATA'!$C:$E,3,FALSE),\"-\")","v":"-"},{"$f":"_xlfn.IFNA(VLOOKUP(_xlfn.CONCAT($A10,\"#\",DA$6),'[1]Pt1-DATA'!$C:$E,2,FALSE),\"-\")","v":"-"},{"$f":"_xlfn.IFNA(VLOOKUP(_xlfn.CONCAT($A10,\"#\",DA$6),'[1]Pt1-DATA'!$C:$E,3,FALSE),\"-\")","v":"-"},{"$f":"_xlfn.IFNA(VLOOKUP(_xlfn.CONCAT($A10,\"#\",DC$6),'[1]Pt1-DATA'!$C:$E,2,FALSE),\"-\")","v":"-"},{"$f":"_xlfn.IFNA(VLOOKUP(_xlfn.CONCAT($A10,\"#\",DC$6),'[1]Pt1-DATA'!$C:$E,3,FALSE),\"-\")","v":"-"},{"$f":"_xlfn.IFNA(VLOOKUP(_xlfn.CONCAT($A10,\"#\",DE$6),'[1]Pt1-DATA'!$C:$E,2,FALSE),\"-\")","v":"-"},{"$f":"_xlfn.IFNA(VLOOKUP(_xlfn.CONCAT($A10,\"#\",DE$6),'[1]Pt1-DATA'!$C:$E,3,FALSE),\"-\")","v":"-"},{"$f":"_xlfn.IFNA(VLOOKUP(_xlfn.CONCAT($A10,\"#\",DG$6),'[1]Pt1-DATA'!$C:$E,2,FALSE),\"-\")","v":"-"},{"$f":"_xlfn.IFNA(VLOOKUP(_xlfn.CONCAT($A10,\"#\",DG$6),'[1]Pt1-DATA'!$C:$E,3,FALSE),\"-\")","v":"-"},{"$f":"_xlfn.IFNA(VLOOKUP(_xlfn.CONCAT($A10,\"#\",DI$6),'[1]Pt1-DATA'!$C:$E,2,FALSE),\"-\")","v":"-"},{"$f":"_xlfn.IFNA(VLOOKUP(_xlfn.CONCAT($A10,\"#\",DI$6),'[1]Pt1-DATA'!$C:$E,3,FALSE),\"-\")","v":"-"},{"$f":"_xlfn.IFNA(VLOOKUP(_xlfn.CONCAT($A10,\"#\",DK$6),'[1]Pt1-DATA'!$C:$E,2,FALSE),\"-\")","v":"-"},{"$f":"_xlfn.IFNA(VLOOKUP(_xlfn.CONCAT($A10,\"#\",DK$6),'[1]Pt1-DATA'!$C:$E,3,FALSE),\"-\")","v":"-"},{"$f":"_xlfn.IFNA(VLOOKUP(_xlfn.CONCAT($A10,\"#\",DM$6),'[1]Pt1-DATA'!$C:$E,2,FALSE),\"-\")","v":"-"},{"$f":"_xlfn.IFNA(VLOOKUP(_xlfn.CONCAT($A10,\"#\",DM$6),'[1]Pt1-DATA'!$C:$E,3,FALSE),\"-\")","v":"-"},{"$f":"_xlfn.IFNA(VLOOKUP(_xlfn.CONCAT($A10,\"#\",DO$6),'[1]Pt1-DATA'!$C:$E,2,FALSE),\"-\")","v":"-"},{"$f":"_xlfn.IFNA(VLOOKUP(_xlfn.CONCAT($A10,\"#\",DO$6),'[1]Pt1-DATA'!$C:$E,3,FALSE),\"-\")","v":"-"},{"$f":"_xlfn.IFNA(VLOOKUP(_xlfn.CONCAT($A10,\"#\",DQ$6),'[1]Pt1-DATA'!$C:$E,2,FALSE),\"-\")","v":"-"},{"$f":"_xlfn.IFNA(VLOOKUP(_xlfn.CONCAT($A10,\"#\",DQ$6),'[1]Pt1-DATA'!$C:$E,3,FALSE),\"-\")","v":"-"},{"$f":"_xlfn.IFNA(VLOOKUP(_xlfn.CONCAT($A10,\"#\",DS$6),'[1]Pt1-DATA'!$C:$E,2,FALSE),\"-\")","v":"-"},{"$f":"_xlfn.IFNA(VLOOKUP(_xlfn.CONCAT($A10,\"#\",DS$6),'[1]Pt1-DATA'!$C:$E,3,FALSE),\"-\")","v":"-"},{"$f":"_xlfn.IFNA(VLOOKUP(_xlfn.CONCAT($A10,\"#\",DU$6),'[1]Pt1-DATA'!$C:$E,2,FALSE),\"-\")","v":"-"},{"$f":"_xlfn.IFNA(VLOOKUP(_xlfn.CONCAT($A10,\"#\",DU$6),'[1]Pt1-DATA'!$C:$E,3,FALSE),\"-\")","v":"-"},{"$f":"_xlfn.IFNA(VLOOKUP(_xlfn.CONCAT($A10,\"#\",DW$6),'[1]Pt1-DATA'!$C:$E,2,FALSE),\"-\")","v":"-"},{"$f":"_xlfn.IFNA(VLOOKUP(_xlfn.CONCAT($A10,\"#\",DW$6),'[1]Pt1-DATA'!$C:$E,3,FALSE),\"-\")","v":"-"},{"$f":"_xlfn.IFNA(VLOOKUP(_xlfn.CONCAT($A10,\"#\",DY$6),'[1]Pt1-DATA'!$C:$E,2,FALSE),\"-\")","v":"-"},{"$f":"_xlfn.IFNA(VLOOKUP(_xlfn.CONCAT($A10,\"#\",DY$6),'[1]Pt1-DATA'!$C:$E,3,FALSE),\"-\")","v":"-"},{"$f":"_xlfn.IFNA(VLOOKUP(_xlfn.CONCAT($A10,\"#\",EA$6),'[1]Pt1-DATA'!$C:$E,2,FALSE),\"-\")","v":"-"},{"$f":"_xlfn.IFNA(VLOOKUP(_xlfn.CONCAT($A10,\"#\",EA$6),'[1]Pt1-DATA'!$C:$E,3,FALSE),\"-\")","v":"-"},{"$f":"_xlfn.IFNA(VLOOKUP(_xlfn.CONCAT($A10,\"#\",EC$6),'[1]Pt1-DATA'!$C:$E,2,FALSE),\"-\")","v":"-"},{"$f":"_xlfn.IFNA(VLOOKUP(_xlfn.CONCAT($A10,\"#\",EC$6),'[1]Pt1-DATA'!$C:$E,3,FALSE),\"-\")","v":"-"},{"$f":"_xlfn.IFNA(VLOOKUP(_xlfn.CONCAT($A10,\"#\",EE$6),'[1]Pt1-DATA'!$C:$E,2,FALSE),\"-\")","v":"-"},{"$f":"_xlfn.IFNA(VLOOKUP(_xlfn.CONCAT($A10,\"#\",EE$6),'[1]Pt1-DATA'!$C:$E,3,FALSE),\"-\")","v":"-"},{"$f":"_xlfn.IFNA(VLOOKUP(_xlfn.CONCAT($A10,\"#\",EG$6),'[1]Pt1-DATA'!$C:$E,2,FALSE),\"-\")","v":"-"},{"$f":"_xlfn.IFNA(VLOOKUP(_xlfn.CONCAT($A10,\"#\",EG$6),'[1]Pt1-DATA'!$C:$E,3,FALSE),\"-\")","v":"-"},{"$f":"_xlfn.IFNA(VLOOKUP(_xlfn.CONCAT($A10,\"#\",EI$6),'[1]Pt1-DATA'!$C:$E,2,FALSE),\"-\")","v":"-"},{"$f":"_xlfn.IFNA(VLOOKUP(_xlfn.CONCAT($A10,\"#\",EI$6),'[1]Pt1-DATA'!$C:$E,3,FALSE),\"-\")","v":"-"},{"$f":"_xlfn.IFNA(VLOOKUP(_xlfn.CONCAT($A10,\"#\",EK$6),'[1]Pt1-DATA'!$C:$E,2,FALSE),\"-\")","v":"-"},{"$f":"_xlfn.IFNA(VLOOKUP(_xlfn.CONCAT($A10,\"#\",EK$6),'[1]Pt1-DATA'!$C:$E,3,FALSE),\"-\")","v":"-"},{"$f":"_xlfn.IFNA(VLOOKUP(_xlfn.CONCAT($A10,\"#\",EM$6),'[1]Pt1-DATA'!$C:$E,2,FALSE),\"-\")","v":"-"},{"$f":"_xlfn.IFNA(VLOOKUP(_xlfn.CONCAT($A10,\"#\",EM$6),'[1]Pt1-DATA'!$C:$E,3,FALSE),\"-\")","v":"-"},{"$f":"_xlfn.IFNA(VLOOKUP(_xlfn.CONCAT($A10,\"#\",EO$6),'[1]Pt1-DATA'!$C:$E,2,FALSE),\"-\")","v":"-"},{"$f":"_xlfn.IFNA(VLOOKUP(_xlfn.CONCAT($A10,\"#\",EO$6),'[1]Pt1-DATA'!$C:$E,3,FALSE),\"-\")","v":"-"},{"$f":"_xlfn.IFNA(VLOOKUP(_xlfn.CONCAT($A10,\"#\",EQ$6),'[1]Pt1-DATA'!$C:$E,2,FALSE),\"-\")","v":"-"},{"$f":"_xlfn.IFNA(VLOOKUP(_xlfn.CONCAT($A10,\"#\",EQ$6),'[1]Pt1-DATA'!$C:$E,3,FALSE),\"-\")","v":"-"},{"$f":"_xlfn.IFNA(VLOOKUP(_xlfn.CONCAT($A10,\"#\",ES$6),'[1]Pt1-DATA'!$C:$E,2,FALSE),\"-\")","v":"-"},{"$f":"_xlfn.IFNA(VLOOKUP(_xlfn.CONCAT($A10,\"#\",ES$6),'[1]Pt1-DATA'!$C:$E,3,FALSE),\"-\")","v":"-"},{"$f":"_xlfn.IFNA(VLOOKUP(_xlfn.CONCAT($A10,\"#\",EU$6),'[1]Pt1-DATA'!$C:$E,2,FALSE),\"-\")","v":"-"},{"$f":"_xlfn.IFNA(VLOOKUP(_xlfn.CONCAT($A10,\"#\",EU$6),'[1]Pt1-DATA'!$C:$E,3,FALSE),\"-\")","v":"-"},{"$f":"_xlfn.IFNA(VLOOKUP(_xlfn.CONCAT($A10,\"#\",EW$6),'[1]Pt1-DATA'!$C:$E,2,FALSE),\"-\")","v":"-"},{"$f":"_xlfn.IFNA(VLOOKUP(_xlfn.CONCAT($A10,\"#\",EW$6),'[1]Pt1-DATA'!$C:$E,3,FALSE),\"-\")","v":"-"},{"$f":"_xlfn.IFNA(VLOOKUP(_xlfn.CONCAT($A10,\"#\",EY$6),'[1]Pt1-DATA'!$C:$E,2,FALSE),\"-\")","v":"-"},{"$f":"_xlfn.IFNA(VLOOKUP(_xlfn.CONCAT($A10,\"#\",EY$6),'[1]Pt1-DATA'!$C:$E,3,FALSE),\"-\")","v":"-"},{"$f":"_xlfn.IFNA(VLOOKUP(_xlfn.CONCAT($A10,\"#\",FA$6),'[1]Pt1-DATA'!$C:$E,2,FALSE),\"-\")","v":"-"},{"$f":"_xlfn.IFNA(VLOOKUP(_xlfn.CONCAT($A10,\"#\",FA$6),'[1]Pt1-DATA'!$C:$E,3,FALSE),\"-\")","v":"-"},{"$f":"_xlfn.IFNA(VLOOKUP(_xlfn.CONCAT($A10,\"#\",FC$6),'[1]Pt1-DATA'!$C:$E,2,FALSE),\"-\")","v":"-"},{"$f":"_xlfn.IFNA(VLOOKUP(_xlfn.CONCAT($A10,\"#\",FC$6),'[1]Pt1-DATA'!$C:$E,3,FALSE),\"-\")","v":"-"},{"$f":"_xlfn.IFNA(VLOOKUP(_xlfn.CONCAT($A10,\"#\",FE$6),'[1]Pt1-DATA'!$C:$E,2,FALSE),\"-\")","v":"-"},{"$f":"_xlfn.IFNA(VLOOKUP(_xlfn.CONCAT($A10,\"#\",FE$6),'[1]Pt1-DATA'!$C:$E,3,FALSE),\"-\")","v":"-"},{"$f":"_xlfn.IFNA(VLOOKUP(_xlfn.CONCAT($A10,\"#\",FG$6),'[1]Pt1-DATA'!$C:$E,2,FALSE),\"-\")","v":"-"},{"$f":"_xlfn.IFNA(VLOOKUP(_xlfn.CONCAT($A10,\"#\",FG$6),'[1]Pt1-DATA'!$C:$E,3,FALSE),\"-\")","v":"-"},{"$f":"_xlfn.IFNA(VLOOKUP(_xlfn.CONCAT($A10,\"#\",FI$6),'[1]Pt1-DATA'!$C:$E,2,FALSE),\"-\")","v":"-"},{"$f":"_xlfn.IFNA(VLOOKUP(_xlfn.CONCAT($A10,\"#\",FI$6),'[1]Pt1-DATA'!$C:$E,3,FALSE),\"-\")","v":"-"},{"$f":"_xlfn.IFNA(VLOOKUP(_xlfn.CONCAT($A10,\"#\",FK$6),'[1]Pt1-DATA'!$C:$E,2,FALSE),\"-\")","v":"-"},{"$f":"_xlfn.IFNA(VLOOKUP(_xlfn.CONCAT($A10,\"#\",FK$6),'[1]Pt1-DATA'!$C:$E,3,FALSE),\"-\")","v":"-"},{"$f":"_xlfn.IFNA(VLOOKUP(_xlfn.CONCAT($A10,\"#\",FM$6),'[1]Pt1-DATA'!$C:$E,2,FALSE),\"-\")","v":"-"},{"$f":"_xlfn.IFNA(VLOOKUP(_xlfn.CONCAT($A10,\"#\",FM$6),'[1]Pt1-DATA'!$C:$E,3,FALSE),\"-\")","v":"-"},{"$f":"_xlfn.IFNA(VLOOKUP(_xlfn.CONCAT($A10,\"#\",FO$6),'[1]Pt1-DATA'!$C:$E,2,FALSE),\"-\")","v":"-"},{"$f":"_xlfn.IFNA(VLOOKUP(_xlfn.CONCAT($A10,\"#\",FO$6),'[1]Pt1-DATA'!$C:$E,3,FALSE),\"-\")","v":"-"},{"$f":"_xlfn.IFNA(VLOOKUP(_xlfn.CONCAT($A10,\"#\",FQ$6),'[1]Pt1-DATA'!$C:$E,2,FALSE),\"-\")","v":"-"},{"$f":"_xlfn.IFNA(VLOOKUP(_xlfn.CONCAT($A10,\"#\",FQ$6),'[1]Pt1-DATA'!$C:$E,3,FALSE),\"-\")","v":"-"},{"$f":"_xlfn.IFNA(VLOOKUP(_xlfn.CONCAT($A10,\"#\",FS$6),'[1]Pt1-DATA'!$C:$E,2,FALSE),\"-\")","v":"-"},{"$f":"_xlfn.IFNA(VLOOKUP(_xlfn.CONCAT($A10,\"#\",FS$6),'[1]Pt1-DATA'!$C:$E,3,FALSE),\"-\")","v":"-"},{"$f":"_xlfn.IFNA(VLOOKUP(_xlfn.CONCAT($A10,\"#\",FU$6),'[1]Pt1-DATA'!$C:$E,2,FALSE),\"-\")","v":"-"},{"$f":"_xlfn.IFNA(VLOOKUP(_xlfn.CONCAT($A10,\"#\",FU$6),'[1]Pt1-DATA'!$C:$E,3,FALSE),\"-\")","v":"-"},{"$f":"_xlfn.IFNA(VLOOKUP(_xlfn.CONCAT($A10,\"#\",FW$6),'[1]Pt1-DATA'!$C:$E,2,FALSE),\"-\")","v":"-"},{"$f":"_xlfn.IFNA(VLOOKUP(_xlfn.CONCAT($A10,\"#\",FW$6),'[1]Pt1-DATA'!$C:$E,3,FALSE),\"-\")","v":"-"},{"$f":"_xlfn.IFNA(VLOOKUP(_xlfn.CONCAT($A10,\"#\",FY$6),'[1]Pt1-DATA'!$C:$E,2,FALSE),\"-\")","v":"-"},{"$f":"_xlfn.IFNA(VLOOKUP(_xlfn.CONCAT($A10,\"#\",FY$6),'[1]Pt1-DATA'!$C:$E,3,FALSE),\"-\")","v":"-"},{"$f":"_xlfn.IFNA(VLOOKUP(_xlfn.CONCAT($A10,\"#\",GA$6),'[1]Pt1-DATA'!$C:$E,2,FALSE),\"-\")","v":"-"},{"$f":"_xlfn.IFNA(VLOOKUP(_xlfn.CONCAT($A10,\"#\",GA$6),'[1]Pt1-DATA'!$C:$E,3,FALSE),\"-\")","v":"-"},{"$f":"_xlfn.IFNA(VLOOKUP(_xlfn.CONCAT($A10,\"#\",GC$6),'[1]Pt1-DATA'!$C:$E,2,FALSE),\"-\")","v":"-"},{"$f":"_xlfn.IFNA(VLOOKUP(_xlfn.CONCAT($A10,\"#\",GC$6),'[1]Pt1-DATA'!$C:$E,3,FALSE),\"-\")","v":"-"},{"$f":"_xlfn.IFNA(VLOOKUP(_xlfn.CONCAT($A10,\"#\",GE$6),'[1]Pt1-DATA'!$C:$E,2,FALSE),\"-\")","v":"-"},{"$f":"_xlfn.IFNA(VLOOKUP(_xlfn.CONCAT($A10,\"#\",GE$6),'[1]Pt1-DATA'!$C:$E,3,FALSE),\"-\")","v":"-"},{"$f":"_xlfn.IFNA(VLOOKUP(_xlfn.CONCAT($A10,\"#\",GG$6),'[1]Pt1-DATA'!$C:$E,2,FALSE),\"-\")","v":"-"},{"$f":"_xlfn.IFNA(VLOOKUP(_xlfn.CONCAT($A10,\"#\",GG$6),'[1]Pt1-DATA'!$C:$E,3,FALSE),\"-\")","v":"-"},{"$f":"_xlfn.IFNA(VLOOKUP(_xlfn.CONCAT($A10,\"#\",GI$6),'[1]Pt1-DATA'!$C:$E,2,FALSE),\"-\")","v":"-"},{"$f":"_xlfn.IFNA(VLOOKUP(_xlfn.CONCAT($A10,\"#\",GI$6),'[1]Pt1-DATA'!$C:$E,3,FALSE),\"-\")","v":"-"},{"$f":"_xlfn.IFNA(VLOOKUP(_xlfn.CONCAT($A10,\"#\",GK$6),'[1]Pt1-DATA'!$C:$E,2,FALSE),\"-\")","v":"-"},{"$f":"_xlfn.IFNA(VLOOKUP(_xlfn.CONCAT($A10,\"#\",GK$6),'[1]Pt1-DATA'!$C:$E,3,FALSE),\"-\")","v":"-"},{"$f":"_xlfn.IFNA(VLOOKUP(_xlfn.CONCAT($A10,\"#\",GM$6),'[1]Pt1-DATA'!$C:$E,2,FALSE),\"-\")","v":"-"},{"$f":"_xlfn.IFNA(VLOOKUP(_xlfn.CONCAT($A10,\"#\",GM$6),'[1]Pt1-DATA'!$C:$E,3,FALSE),\"-\")","v":"-"},{"$f":"_xlfn.IFNA(VLOOKUP(_xlfn.CONCAT($A10,\"#\",GO$6),'[1]Pt1-DATA'!$C:$E,2,FALSE),\"-\")","v":"-"},{"$f":"_xlfn.IFNA(VLOOKUP(_xlfn.CONCAT($A10,\"#\",GO$6),'[1]Pt1-DATA'!$C:$E,3,FALSE),\"-\")","v":"-"},{"$f":"_xlfn.IFNA(VLOOKUP(_xlfn.CONCAT($A10,\"#\",GQ$6),'[1]Pt1-DATA'!$C:$E,2,FALSE),\"-\")","v":"-"},{"$f":"_xlfn.IFNA(VLOOKUP(_xlfn.CONCAT($A10,\"#\",GQ$6),'[1]Pt1-DATA'!$C:$E,3,FALSE),\"-\")","v":"-"},{"$f":"_xlfn.IFNA(VLOOKUP(_xlfn.CONCAT($A10,\"#\",GS$6),'[1]Pt1-DATA'!$C:$E,2,FALSE),\"-\")","v":"-"},{"$f":"_xlfn.IFNA(VLOOKUP(_xlfn.CONCAT($A10,\"#\",GS$6),'[1]Pt1-DATA'!$C:$E,3,FALSE),\"-\")","v":"-"},{"$f":"_xlfn.IFNA(VLOOKUP(_xlfn.CONCAT($A10,\"#\",GU$6),'[1]Pt1-DATA'!$C:$E,2,FALSE),\"-\")","v":"-"},{"$f":"_xlfn.IFNA(VLOOKUP(_xlfn.CONCAT($A10,\"#\",GU$6),'[1]Pt1-DATA'!$C:$E,3,FALSE),\"-\")","v":"-"},{"$f":"_xlfn.IFNA(VLOOKUP(_xlfn.CONCAT($A10,\"#\",GW$6),'[1]Pt1-DATA'!$C:$E,2,FALSE),\"-\")","v":"-"},{"$f":"_xlfn.IFNA(VLOOKUP(_xlfn.CONCAT($A10,\"#\",GW$6),'[1]Pt1-DATA'!$C:$E,3,FALSE),\"-\")","v":"-"},{"$f":"_xlfn.IFNA(VLOOKUP(_xlfn.CONCAT($A10,\"#\",GY$6),'[1]Pt1-DATA'!$C:$E,2,FALSE),\"-\")","v":"-"},{"$f":"_xlfn.IFNA(VLOOKUP(_xlfn.CONCAT($A10,\"#\",GY$6),'[1]Pt1-DATA'!$C:$E,3,FALSE),\"-\")","v":"-"},{"$f":"_xlfn.IFNA(VLOOKUP(_xlfn.CONCAT($A10,\"#\",HA$6),'[1]Pt1-DATA'!$C:$E,2,FALSE),\"-\")","v":"-"},{"$f":"_xlfn.IFNA(VLOOKUP(_xlfn.CONCAT($A10,\"#\",HA$6),'[1]Pt1-DATA'!$C:$E,3,FALSE),\"-\")","v":"-"},{"$f":"_xlfn.IFNA(VLOOKUP(_xlfn.CONCAT($A10,\"#\",HC$6),'[1]Pt1-DATA'!$C:$E,2,FALSE),\"-\")","v":"-"},{"$f":"_xlfn.IFNA(VLOOKUP(_xlfn.CONCAT($A10,\"#\",HC$6),'[1]Pt1-DATA'!$C:$E,3,FALSE),\"-\")","v":"-"},{"$f":"_xlfn.IFNA(VLOOKUP(_xlfn.CONCAT($A10,\"#\",HE$6),'[1]Pt1-DATA'!$C:$E,2,FALSE),\"-\")","v":"-"},{"$f":"_xlfn.IFNA(VLOOKUP(_xlfn.CONCAT($A10,\"#\",HE$6),'[1]Pt1-DATA'!$C:$E,3,FALSE),\"-\")","v":"-"},{"$f":"_xlfn.IFNA(VLOOKUP(_xlfn.CONCAT($A10,\"#\",HG$6),'[1]Pt1-DATA'!$C:$E,2,FALSE),\"-\")","v":"-"},{"$f":"_xlfn.IFNA(VLOOKUP(_xlfn.CONCAT($A10,\"#\",HG$6),'[1]Pt1-DATA'!$C:$E,3,FALSE),\"-\")","v":"-"},{"$f":"_xlfn.IFNA(VLOOKUP(_xlfn.CONCAT($A10,\"#\",HI$6),'[1]Pt1-DATA'!$C:$E,2,FALSE),\"-\")","v":"-"},{"$f":"_xlfn.IFNA(VLOOKUP(_xlfn.CONCAT($A10,\"#\",HI$6),'[1]Pt1-DATA'!$C:$E,3,FALSE),\"-\")","v":"-"},{"$f":"_xlfn.IFNA(VLOOKUP(_xlfn.CONCAT($A10,\"#\",HK$6),'[1]Pt1-DATA'!$C:$E,2,FALSE),\"-\")","v":"-"},{"$f":"_xlfn.IFNA(VLOOKUP(_xlfn.CONCAT($A10,\"#\",HK$6),'[1]Pt1-DATA'!$C:$E,3,FALSE),\"-\")","v":"-"},{"$f":"_xlfn.IFNA(VLOOKUP(_xlfn.CONCAT($A10,\"#\",HM$6),'[1]Pt1-DATA'!$C:$E,2,FALSE),\"-\")","v":"-"},{"$f":"_xlfn.IFNA(VLOOKUP(_xlfn.CONCAT($A10,\"#\",HM$6),'[1]Pt1-DATA'!$C:$E,3,FALSE),\"-\")","v":"-"},{"$f":"_xlfn.IFNA(VLOOKUP(_xlfn.CONCAT($A10,\"#\",HO$6),'[1]Pt1-DATA'!$C:$E,2,FALSE),\"-\")","v":"-"},{"$f":"_xlfn.IFNA(VLOOKUP(_xlfn.CONCAT($A10,\"#\",HO$6),'[1]Pt1-DATA'!$C:$E,3,FALSE),\"-\")","v":"-"},{"$f":"_xlfn.IFNA(VLOOKUP(_xlfn.CONCAT($A10,\"#\",HQ$6),'[1]Pt1-DATA'!$C:$E,2,FALSE),\"-\")","v":"-"},{"$f":"_xlfn.IFNA(VLOOKUP(_xlfn.CONCAT($A10,\"#\",HQ$6),'[1]Pt1-DATA'!$C:$E,3,FALSE),\"-\")","v":"-"},{"$f":"_xlfn.IFNA(VLOOKUP(_xlfn.CONCAT($A10,\"#\",HS$6),'[1]Pt1-DATA'!$C:$E,2,FALSE),\"-\")","v":"-"},{"$f":"_xlfn.IFNA(VLOOKUP(_xlfn.CONCAT($A10,\"#\",HS$6),'[1]Pt1-DATA'!$C:$E,3,FALSE),\"-\")","v":"-"},{"$f":"_xlfn.IFNA(VLOOKUP(_xlfn.CONCAT($A10,\"#\",HU$6),'[1]Pt1-DATA'!$C:$E,2,FALSE),\"-\")","v":"-"},{"$f":"_xlfn.IFNA(VLOOKUP(_xlfn.CONCAT($A10,\"#\",HU$6),'[1]Pt1-DATA'!$C:$E,3,FALSE),\"-\")","v":"-"},{"$f":"_xlfn.IFNA(VLOOKUP(_xlfn.CONCAT($A10,\"#\",HW$6),'[1]Pt1-DATA'!$C:$E,2,FALSE),\"-\")","v":"-"},{"$f":"_xlfn.IFNA(VLOOKUP(_xlfn.CONCAT($A10,\"#\",HW$6),'[1]Pt1-DATA'!$C:$E,3,FALSE),\"-\")","v":"-"},{"$f":"_xlfn.IFNA(VLOOKUP(_xlfn.CONCAT($A10,\"#\",HY$6),'[1]Pt1-DATA'!$C:$E,2,FALSE),\"-\")","v":"-"},{"$f":"_xlfn.IFNA(VLOOKUP(_xlfn.CONCAT($A10,\"#\",HY$6),'[1]Pt1-DATA'!$C:$E,3,FALSE),\"-\")","v":"-"},{"$f":"_xlfn.IFNA(VLOOKUP(_xlfn.CONCAT($A10,\"#\",IA$6),'[1]Pt1-DATA'!$C:$E,2,FALSE),\"-\")","v":"-"},{"$f":"_xlfn.IFNA(VLOOKUP(_xlfn.CONCAT($A10,\"#\",IA$6),'[1]Pt1-DATA'!$C:$E,3,FALSE),\"-\")","v":"-"},{"$f":"_xlfn.IFNA(VLOOKUP(_xlfn.CONCAT($A10,\"#\",IC$6),'[1]Pt1-DATA'!$C:$E,2,FALSE),\"-\")","v":"-"},{"$f":"_xlfn.IFNA(VLOOKUP(_xlfn.CONCAT($A10,\"#\",IC$6),'[1]Pt1-DATA'!$C:$E,3,FALSE),\"-\")","v":"-"},{"$f":"_xlfn.IFNA(VLOOKUP(_xlfn.CONCAT($A10,\"#\",IE$6),'[1]Pt1-DATA'!$C:$E,2,FALSE),\"-\")","v":"-"},{"$f":"_xlfn.IFNA(VLOOKUP(_xlfn.CONCAT($A10,\"#\",IE$6),'[1]Pt1-DATA'!$C:$E,3,FALSE),\"-\")","v":"-"},{"$f":"_xlfn.IFNA(VLOOKUP(_xlfn.CONCAT($A10,\"#\",IG$6),'[1]Pt1-DATA'!$C:$E,2,FALSE),\"-\")","v":"-"},{"$f":"_xlfn.IFNA(VLOOKUP(_xlfn.CONCAT($A10,\"#\",IG$6),'[1]Pt1-DATA'!$C:$E,3,FALSE),\"-\")","v":"-"},{"$f":"_xlfn.IFNA(VLOOKUP(_xlfn.CONCAT($A10,\"#\",II$6),'[1]Pt1-DATA'!$C:$E,2,FALSE),\"-\")","v":"-"},{"$f":"_xlfn.IFNA(VLOOKUP(_xlfn.CONCAT($A10,\"#\",II$6),'[1]Pt1-DATA'!$C:$E,3,FALSE),\"-\")","v":"-"},{"$f":"_xlfn.IFNA(VLOOKUP(_xlfn.CONCAT($A10,\"#\",IK$6),'[1]Pt1-DATA'!$C:$E,2,FALSE),\"-\")","v":"-"},{"$f":"_xlfn.IFNA(VLOOKUP(_xlfn.CONCAT($A10,\"#\",IK$6),'[1]Pt1-DATA'!$C:$E,3,FALSE),\"-\")","v":"-"},{"$f":"_xlfn.IFNA(VLOOKUP(_xlfn.CONCAT($A10,\"#\",IM$6),'[1]Pt1-DATA'!$C:$E,2,FALSE),\"-\")","v":"-"},{"$f":"_xlfn.IFNA(VLOOKUP(_xlfn.CONCAT($A10,\"#\",IM$6),'[1]Pt1-DATA'!$C:$E,3,FALSE),\"-\")","v":"-"},{"$f":"_xlfn.IFNA(VLOOKUP(_xlfn.CONCAT($A10,\"#\",IO$6),'[1]Pt1-DATA'!$C:$E,2,FALSE),\"-\")","v":"-"},{"$f":"_xlfn.IFNA(VLOOKUP(_xlfn.CONCAT($A10,\"#\",IO$6),'[1]Pt1-DATA'!$C:$E,3,FALSE),\"-\")","v":"-"},{"$f":"_xlfn.IFNA(VLOOKUP(_xlfn.CONCAT($A10,\"#\",IQ$6),'[1]Pt1-DATA'!$C:$E,2,FALSE),\"-\")","v":"-"},{"$f":"_xlfn.IFNA(VLOOKUP(_xlfn.CONCAT($A10,\"#\",IQ$6),'[1]Pt1-DATA'!$C:$E,3,FALSE),\"-\")","v":"-"},{"$f":"_xlfn.IFNA(VLOOKUP(_xlfn.CONCAT($A10,\"#\",IS$6),'[1]Pt1-DATA'!$C:$E,2,FALSE),\"-\")","v":"-"},{"$f":"_xlfn.IFNA(VLOOKUP(_xlfn.CONCAT($A10,\"#\",IS$6),'[1]Pt1-DATA'!$C:$E,3,FALSE),\"-\")","v":"-"},{"$f":"_xlfn.IFNA(VLOOKUP(_xlfn.CONCAT($A10,\"#\",IU$6),'[1]Pt1-DATA'!$C:$E,2,FALSE),\"-\")","v":"-"},{"$f":"_xlfn.IFNA(VLOOKUP(_xlfn.CONCAT($A10,\"#\",IU$6),'[1]Pt1-DATA'!$C:$E,3,FALSE),\"-\")","v":"-"},{"$f":"_xlfn.IFNA(VLOOKUP(_xlfn.CONCAT($A10,\"#\",IW$6),'[1]Pt1-DATA'!$C:$E,2,FALSE),\"-\")","v":"-"},{"$f":"_xlfn.IFNA(VLOOKUP(_xlfn.CONCAT($A10,\"#\",IW$6),'[1]Pt1-DATA'!$C:$E,3,FALSE),\"-\")","v":"-"},{"$f":"_xlfn.IFNA(VLOOKUP(_xlfn.CONCAT($A10,\"#\",IY$6),'[1]Pt1-DATA'!$C:$E,2,FALSE),\"-\")","v":"-"},{"$f":"_xlfn.IFNA(VLOOKUP(_xlfn.CONCAT($A10,\"#\",IY$6),'[1]Pt1-DATA'!$C:$E,3,FALSE),\"-\")","v":"-"},{"$f":"_xlfn.IFNA(VLOOKUP(_xlfn.CONCAT($A10,\"#\",JA$6),'[1]Pt1-DATA'!$C:$E,2,FALSE),\"-\")","v":"-"},{"$f":"_xlfn.IFNA(VLOOKUP(_xlfn.CONCAT($A10,\"#\",JA$6),'[1]Pt1-DATA'!$C:$E,3,FALSE),\"-\")","v":"-"},{"$f":"_xlfn.IFNA(VLOOKUP(_xlfn.CONCAT($A10,\"#\",JC$6),'[1]Pt1-DATA'!$C:$E,2,FALSE),\"-\")","v":"-"},{"$f":"_xlfn.IFNA(VLOOKUP(_xlfn.CONCAT($A10,\"#\",JC$6),'[1]Pt1-DATA'!$C:$E,3,FALSE),\"-\")","v":"-"},{"$f":"_xlfn.IFNA(VLOOKUP(_xlfn.CONCAT($A10,\"#\",JE$6),'[1]Pt1-DATA'!$C:$E,2,FALSE),\"-\")","v":"-"},{"$f":"_xlfn.IFNA(VLOOKUP(_xlfn.CONCAT($A10,\"#\",JE$6),'[1]Pt1-DATA'!$C:$E,3,FALSE),\"-\")","v":"-"},{"$f":"_xlfn.IFNA(VLOOKUP(_xlfn.CONCAT($A10,\"#\",JG$6),'[1]Pt1-DATA'!$C:$E,2,FALSE),\"-\")","v":"-"},{"$f":"_xlfn.IFNA(VLOOKUP(_xlfn.CONCAT($A10,\"#\",JG$6),'[1]Pt1-DATA'!$C:$E,3,FALSE),\"-\")","v":"-"},{"$f":"_xlfn.IFNA(VLOOKUP(_xlfn.CONCAT($A10,\"#\",JI$6),'[1]Pt1-DATA'!$C:$E,2,FALSE),\"-\")","v":"-"},{"$f":"_xlfn.IFNA(VLOOKUP(_xlfn.CONCAT($A10,\"#\",JI$6),'[1]Pt1-DATA'!$C:$E,3,FALSE),\"-\")","v":"-"},{"$f":"_xlfn.IFNA(VLOOKUP(_xlfn.CONCAT($A10,\"#\",JK$6),'[1]Pt1-DATA'!$C:$E,2,FALSE),\"-\")","v":"-"},{"$f":"_xlfn.IFNA(VLOOKUP(_xlfn.CONCAT($A10,\"#\",JK$6),'[1]Pt1-DATA'!$C:$E,3,FALSE),\"-\")","v":"-"},{"$f":"_xlfn.IFNA(VLOOKUP(_xlfn.CONCAT($A10,\"#\",JM$6),'[1]Pt1-DATA'!$C:$E,2,FALSE),\"-\")","v":"-"},{"$f":"_xlfn.IFNA(VLOOKUP(_xlfn.CONCAT($A10,\"#\",JM$6),'[1]Pt1-DATA'!$C:$E,3,FALSE),\"-\")","v":"-"},{"$f":"_xlfn.IFNA(VLOOKUP(_xlfn.CONCAT($A10,\"#\",JO$6),'[1]Pt1-DATA'!$C:$E,2,FALSE),\"-\")","v":"-"},{"$f":"_xlfn.IFNA(VLOOKUP(_xlfn.CONCAT($A10,\"#\",JO$6),'[1]Pt1-DATA'!$C:$E,3,FALSE),\"-\")","v":"-"},{"$f":"_xlfn.IFNA(VLOOKUP(_xlfn.CONCAT($A10,\"#\",JQ$6),'[1]Pt1-DATA'!$C:$E,2,FALSE),\"-\")","v":"-"},{"$f":"_xlfn.IFNA(VLOOKUP(_xlfn.CONCAT($A10,\"#\",JQ$6),'[1]Pt1-DATA'!$C:$E,3,FALSE),\"-\")","v":"-"},{"$f":"_xlfn.IFNA(VLOOKUP(_xlfn.CONCAT($A10,\"#\",JS$6),'[1]Pt1-DATA'!$C:$E,2,FALSE),\"-\")","v":"-"},{"$f":"_xlfn.IFNA(VLOOKUP(_xlfn.CONCAT($A10,\"#\",JS$6),'[1]Pt1-DATA'!$C:$E,3,FALSE),\"-\")","v":"-"},{"$f":"_xlfn.IFNA(VLOOKUP(_xlfn.CONCAT($A10,\"#\",JU$6),'[1]Pt1-DATA'!$C:$E,2,FALSE),\"-\")","v":"-"},{"$f":"_xlfn.IFNA(VLOOKUP(_xlfn.CONCAT($A10,\"#\",JU$6),'[1]Pt1-DATA'!$C:$E,3,FALSE),\"-\")","v":"-"},{"$f":"_xlfn.IFNA(VLOOKUP(_xlfn.CONCAT($A10,\"#\",JW$6),'[1]Pt1-DATA'!$C:$E,2,FALSE),\"-\")","v":"-"},{"$f":"_xlfn.IFNA(VLOOKUP(_xlfn.CONCAT($A10,\"#\",JW$6),'[1]Pt1-DATA'!$C:$E,3,FALSE),\"-\")","v":"-"},{"$f":"_xlfn.IFNA(VLOOKUP(_xlfn.CONCAT($A10,\"#\",JY$6),'[1]Pt1-DATA'!$C:$E,2,FALSE),\"-\")","v":"-"},{"$f":"_xlfn.IFNA(VLOOKUP(_xlfn.CONCAT($A10,\"#\",JY$6),'[1]Pt1-DATA'!$C:$E,3,FALSE),\"-\")","v":"-"},{"$f":"_xlfn.IFNA(VLOOKUP(_xlfn.CONCAT($A10,\"#\",KA$6),'[1]Pt1-DATA'!$C:$E,2,FALSE),\"-\")","v":"-"},{"$f":"_xlfn.IFNA(VLOOKUP(_xlfn.CONCAT($A10,\"#\",KA$6),'[1]Pt1-DATA'!$C:$E,3,FALSE),\"-\")","v":"-"},{"$f":"_xlfn.IFNA(VLOOKUP(_xlfn.CONCAT($A10,\"#\",KC$6),'[1]Pt1-DATA'!$C:$E,2,FALSE),\"-\")","v":"-"},{"$f":"_xlfn.IFNA(VLOOKUP(_xlfn.CONCAT($A10,\"#\",KC$6),'[1]Pt1-DATA'!$C:$E,3,FALSE),\"-\")","v":"-"},{"$f":"_xlfn.IFNA(VLOOKUP(_xlfn.CONCAT($A10,\"#\",KE$6),'[1]Pt1-DATA'!$C:$E,2,FALSE),\"-\")","v":"-"},{"$f":"_xlfn.IFNA(VLOOKUP(_xlfn.CONCAT($A10,\"#\",KE$6),'[1]Pt1-DATA'!$C:$E,3,FALSE),\"-\")","v":"-"},{"$f":"_xlfn.IFNA(VLOOKUP(_xlfn.CONCAT($A10,\"#\",KG$6),'[1]Pt1-DATA'!$C:$E,2,FALSE),\"-\")","v":"-"},{"$f":"_xlfn.IFNA(VLOOKUP(_xlfn.CONCAT($A10,\"#\",KG$6),'[1]Pt1-DATA'!$C:$E,3,FALSE),\"-\")","v":"-"},{"$f":"_xlfn.IFNA(VLOOKUP(_xlfn.CONCAT($A10,\"#\",KI$6),'[1]Pt1-DATA'!$C:$E,2,FALSE),\"-\")","v":"-"},{"$f":"_xlfn.IFNA(VLOOKUP(_xlfn.CONCAT($A10,\"#\",KI$6),'[1]Pt1-DATA'!$C:$E,3,FALSE),\"-\")","v":"-"},{"$f":"_xlfn.IFNA(VLOOKUP(_xlfn.CONCAT($A10,\"#\",KK$6),'[1]Pt1-DATA'!$C:$E,2,FALSE),\"-\")","v":"-"},{"$f":"_xlfn.IFNA(VLOOKUP(_xlfn.CONCAT($A10,\"#\",KK$6),'[1]Pt1-DATA'!$C:$E,3,FALSE),\"-\")","v":"-"},{"$f":"_xlfn.IFNA(VLOOKUP(_xlfn.CONCAT($A10,\"#\",KM$6),'[1]Pt1-DATA'!$C:$E,2,FALSE),\"-\")","v":"-"},{"$f":"_xlfn.IFNA(VLOOKUP(_xlfn.CONCAT($A10,\"#\",KM$6),'[1]Pt1-DATA'!$C:$E,3,FALSE),\"-\")","v":"-"},{"$f":"_xlfn.IFNA(VLOOKUP(_xlfn.CONCAT($A10,\"#\",KO$6),'[1]Pt1-DATA'!$C:$E,2,FALSE),\"-\")","v":"-"},{"$f":"_xlfn.IFNA(VLOOKUP(_xlfn.CONCAT($A10,\"#\",KO$6),'[1]Pt1-DATA'!$C:$E,3,FALSE),\"-\")","v":"-"},{"$f":"_xlfn.IFNA(VLOOKUP(_xlfn.CONCAT($A10,\"#\",KQ$6),'[1]Pt1-DATA'!$C:$E,2,FALSE),\"-\")","v":"-"},{"$f":"_xlfn.IFNA(VLOOKUP(_xlfn.CONCAT($A10,\"#\",KQ$6),'[1]Pt1-DATA'!$C:$E,3,FALSE),\"-\")","v":"-"},{"$f":"_xlfn.IFNA(VLOOKUP(_xlfn.CONCAT($A10,\"#\",KS$6),'[1]Pt1-DATA'!$C:$E,2,FALSE),\"-\")","v":"-"},{"$f":"_xlfn.IFNA(VLOOKUP(_xlfn.CONCAT($A10,\"#\",KS$6),'[1]Pt1-DATA'!$C:$E,3,FALSE),\"-\")","v":"-"},{"$f":"_xlfn.IFNA(VLOOKUP(_xlfn.CONCAT($A10,\"#\",KU$6),'[1]Pt1-DATA'!$C:$E,2,FALSE),\"-\")","v":"-"},{"$f":"_xlfn.IFNA(VLOOKUP(_xlfn.CONCAT($A10,\"#\",KU$6),'[1]Pt1-DATA'!$C:$E,3,FALSE),\"-\")","v":"-"},{"$f":"_xlfn.IFNA(VLOOKUP(_xlfn.CONCAT($A10,\"#\",KW$6),'[1]Pt1-DATA'!$C:$E,2,FALSE),\"-\")","v":"-"},{"$f":"_xlfn.IFNA(VLOOKUP(_xlfn.CONCAT($A10,\"#\",KW$6),'[1]Pt1-DATA'!$C:$E,3,FALSE),\"-\")","v":"-"},{"$f":"_xlfn.IFNA(VLOOKUP(_xlfn.CONCAT($A10,\"#\",KY$6),'[1]Pt1-DATA'!$C:$E,2,FALSE),\"-\")","v":"-"},{"$f":"_xlfn.IFNA(VLOOKUP(_xlfn.CONCAT($A10,\"#\",KY$6),'[1]Pt1-DATA'!$C:$E,3,FALSE),\"-\")","v":"-"},{"$f":"_xlfn.IFNA(VLOOKUP(_xlfn.CONCAT($A10,\"#\",LA$6),'[1]Pt1-DATA'!$C:$E,2,FALSE),\"-\")","v":"-"},{"$f":"_xlfn.IFNA(VLOOKUP(_xlfn.CONCAT($A10,\"#\",LA$6),'[1]Pt1-DATA'!$C:$E,3,FALSE),\"-\")","v":"-"},{"$f":"_xlfn.IFNA(VLOOKUP(_xlfn.CONCAT($A10,\"#\",LC$6),'[1]Pt1-DATA'!$C:$E,2,FALSE),\"-\")","v":"-"},{"$f":"_xlfn.IFNA(VLOOKUP(_xlfn.CONCAT($A10,\"#\",LC$6),'[1]Pt1-DATA'!$C:$E,3,FALSE),\"-\")","v":"-"},{"$f":"_xlfn.IFNA(VLOOKUP(_xlfn.CONCAT($A10,\"#\",LE$6),'[1]Pt1-DATA'!$C:$E,2,FALSE),\"-\")","v":"-"},{"$f":"_xlfn.IFNA(VLOOKUP(_xlfn.CONCAT($A10,\"#\",LE$6),'[1]Pt1-DATA'!$C:$E,3,FALSE),\"-\")","v":"-"},{"$f":"_xlfn.IFNA(VLOOKUP(_xlfn.CONCAT($A10,\"#\",LG$6),'[1]Pt1-DATA'!$C:$E,2,FALSE),\"-\")","v":"-"},{"$f":"_xlfn.IFNA(VLOOKUP(_xlfn.CONCAT($A10,\"#\",LG$6),'[1]Pt1-DATA'!$C:$E,3,FALSE),\"-\")","v":"-"},{"$f":"_xlfn.IFNA(VLOOKUP(_xlfn.CONCAT($A10,\"#\",LI$6),'[1]Pt1-DATA'!$C:$E,2,FALSE),\"-\")","v":"-"},{"$f":"_xlfn.IFNA(VLOOKUP(_xlfn.CONCAT($A10,\"#\",LI$6),'[1]Pt1-DATA'!$C:$E,3,FALSE),\"-\")","v":"-"},{"$f":"_xlfn.IFNA(VLOOKUP(_xlfn.CONCAT($A10,\"#\",LK$6),'[1]Pt1-DATA'!$C:$E,2,FALSE),\"-\")","v":"-"},{"$f":"_xlfn.IFNA(VLOOKUP(_xlfn.CONCAT($A10,\"#\",LK$6),'[1]Pt1-DATA'!$C:$E,3,FALSE),\"-\")","v":"-"},{"$f":"_xlfn.IFNA(VLOOKUP(_xlfn.CONCAT($A10,\"#\",LM$6),'[1]Pt1-DATA'!$C:$E,2,FALSE),\"-\")","v":"-"},{"$f":"_xlfn.IFNA(VLOOKUP(_xlfn.CONCAT($A10,\"#\",LM$6),'[1]Pt1-DATA'!$C:$E,3,FALSE),\"-\")","v":"-"},{"$f":"_xlfn.IFNA(VLOOKUP(_xlfn.CONCAT($A10,\"#\",LO$6),'[1]Pt1-DATA'!$C:$E,2,FALSE),\"-\")","v":"-"},{"$f":"_xlfn.IFNA(VLOOKUP(_xlfn.CONCAT($A10,\"#\",LO$6),'[1]Pt1-DATA'!$C:$E,3,FALSE),\"-\")","v":"-"},{"$f":"_xlfn.IFNA(VLOOKUP(_xlfn.CONCAT($A10,\"#\",LQ$6),'[1]Pt1-DATA'!$C:$E,2,FALSE),\"-\")","v":"-"},{"$f":"_xlfn.IFNA(VLOOKUP(_xlfn.CONCAT($A10,\"#\",LQ$6),'[1]Pt1-DATA'!$C:$E,3,FALSE),\"-\")","v":"-"},{"$f":"_xlfn.IFNA(VLOOKUP(_xlfn.CONCAT($A10,\"#\",LS$6),'[1]Pt1-DATA'!$C:$E,2,FALSE),\"-\")","v":"-"},{"$f":"_xlfn.IFNA(VLOOKUP(_xlfn.CONCAT($A10,\"#\",LS$6),'[1]Pt1-DATA'!$C:$E,3,FALSE),\"-\")","v":"-"},{"$f":"_xlfn.IFNA(VLOOKUP(_xlfn.CONCAT($A10,\"#\",LU$6),'[1]Pt1-DATA'!$C:$E,2,FALSE),\"-\")","v":"-"},{"$f":"_xlfn.IFNA(VLOOKUP(_xlfn.CONCAT($A10,\"#\",LU$6),'[1]Pt1-DATA'!$C:$E,3,FALSE),\"-\")","v":"-"},{"$f":"_xlfn.IFNA(VLOOKUP(_xlfn.CONCAT($A10,\"#\",LW$6),'[1]Pt1-DATA'!$C:$E,2,FALSE),\"-\")","v":"-"},{"$f":"_xlfn.IFNA(VLOOKUP(_xlfn.CONCAT($A10,\"#\",LW$6),'[1]Pt1-DATA'!$C:$E,3,FALSE),\"-\")","v":"-"},{"$f":"_xlfn.IFNA(VLOOKUP(_xlfn.CONCAT($A10,\"#\",LY$6),'[1]Pt1-DATA'!$C:$E,2,FALSE),\"-\")","v":"-"},{"$f":"_xlfn.IFNA(VLOOKUP(_xlfn.CONCAT($A10,\"#\",LY$6),'[1]Pt1-DATA'!$C:$E,3,FALSE),\"-\")","v":"-"},{"$f":"_xlfn.IFNA(VLOOKUP(_xlfn.CONCAT($A10,\"#\",MA$6),'[1]Pt1-DATA'!$C:$E,2,FALSE),\"-\")","v":"-"},{"$f":"_xlfn.IFNA(VLOOKUP(_xlfn.CONCAT($A10,\"#\",MA$6),'[1]Pt1-DATA'!$C:$E,3,FALSE),\"-\")","v":"-"},{"$f":"_xlfn.IFNA(VLOOKUP(_xlfn.CONCAT($A10,\"#\",MC$6),'[1]Pt1-DATA'!$C:$E,2,FALSE),\"-\")","v":"-"},{"$f":"_xlfn.IFNA(VLOOKUP(_xlfn.CONCAT($A10,\"#\",MC$6),'[1]Pt1-DATA'!$C:$E,3,FALSE),\"-\")","v":"-"},{"$f":"_xlfn.IFNA(VLOOKUP(_xlfn.CONCAT($A10,\"#\",ME$6),'[1]Pt1-DATA'!$C:$E,2,FALSE),\"-\")","v":"-"},{"$f":"_xlfn.IFNA(VLOOKUP(_xlfn.CONCAT($A10,\"#\",ME$6),'[1]Pt1-DATA'!$C:$E,3,FALSE),\"-\")","v":"-"},{"$f":"_xlfn.IFNA(VLOOKUP(_xlfn.CONCAT($A10,\"#\",MG$6),'[1]Pt1-DATA'!$C:$E,2,FALSE),\"-\")","v":"-"},{"$f":"_xlfn.IFNA(VLOOKUP(_xlfn.CONCAT($A10,\"#\",MG$6),'[1]Pt1-DATA'!$C:$E,3,FALSE),\"-\")","v":"-"},{"$f":"_xlfn.IFNA(VLOOKUP(_xlfn.CONCAT($A10,\"#\",MI$6),'[1]Pt1-DATA'!$C:$E,2,FALSE),\"-\")","v":"-"},{"$f":"_xlfn.IFNA(VLOOKUP(_xlfn.CONCAT($A10,\"#\",MI$6),'[1]Pt1-DATA'!$C:$E,3,FALSE),\"-\")","v":"-"},{"$f":"_xlfn.IFNA(VLOOKUP(_xlfn.CONCAT($A10,\"#\",MK$6),'[1]Pt1-DATA'!$C:$E,2,FALSE),\"-\")","v":"-"},{"$f":"_xlfn.IFNA(VLOOKUP(_xlfn.CONCAT($A10,\"#\",MK$6),'[1]Pt1-DATA'!$C:$E,3,FALSE),\"-\")","v":"-"},{"$f":"_xlfn.IFNA(VLOOKUP(_xlfn.CONCAT($A10,\"#\",MM$6),'[1]Pt1-DATA'!$C:$E,2,FALSE),\"-\")","v":"-"},{"$f":"_xlfn.IFNA(VLOOKUP(_xlfn.CONCAT($A10,\"#\",MM$6),'[1]Pt1-DATA'!$C:$E,3,FALSE),\"-\")","v":"-"},{"$f":"_xlfn.IFNA(VLOOKUP(_xlfn.CONCAT($A10,\"#\",MO$6),'[1]Pt1-DATA'!$C:$E,2,FALSE),\"-\")","v":"-"},{"$f":"_xlfn.IFNA(VLOOKUP(_xlfn.CONCAT($A10,\"#\",MO$6),'[1]Pt1-DATA'!$C:$E,3,FALSE),\"-\")","v":"-"},{"$f":"_xlfn.IFNA(VLOOKUP(_xlfn.CONCAT($A10,\"#\",MQ$6),'[1]Pt1-DATA'!$C:$E,2,FALSE),\"-\")","v":"-"},{"$f":"_xlfn.IFNA(VLOOKUP(_xlfn.CONCAT($A10,\"#\",MQ$6),'[1]Pt1-DATA'!$C:$E,3,FALSE),\"-\")","v":"-"},{"$f":"_xlfn.IFNA(VLOOKUP(_xlfn.CONCAT($A10,\"#\",MS$6),'[1]Pt1-DATA'!$C:$E,2,FALSE),\"-\")","v":"-"},{"$f":"_xlfn.IFNA(VLOOKUP(_xlfn.CONCAT($A10,\"#\",MS$6),'[1]Pt1-DATA'!$C:$E,3,FALSE),\"-\")","v":"-"},{"$f":"_xlfn.IFNA(VLOOKUP(_xlfn.CONCAT($A10,\"#\",MU$6),'[1]Pt1-DATA'!$C:$E,2,FALSE),\"-\")","v":"-"},{"$f":"_xlfn.IFNA(VLOOKUP(_xlfn.CONCAT($A10,\"#\",MU$6),'[1]Pt1-DATA'!$C:$E,3,FALSE),\"-\")","v":"-"},{"$f":"_xlfn.IFNA(VLOOKUP(_xlfn.CONCAT($A10,\"#\",MV$6),'[1]Pt1-DATA'!$C:$E,3,FALSE),\"-\")","v":"-"},{"$f":"_xlfn.IFNA(VLOOKUP(_xlfn.CONCAT($A10,\"#\",MW$6),'[1]Pt1-DATA'!$C:$E,3,FALSE),\"-\")","v":"-"},{"$f":"_xlfn.IFNA(VLOOKUP(_xlfn.CONCAT($A10,\"#\",MX$6),'[1]Pt1-DATA'!$C:$E,3,FALSE),\"-\")","v":"-"},{"$f":"_xlfn.IFNA(VLOOKUP(_xlfn.CONCAT($A10,\"#\",MY$6),'[1]Pt1-DATA'!$C:$E,3,FALSE),\"-\")","v":"-"},{"$f":"_xlfn.IFNA(VLOOKUP(_xlfn.CONCAT($A10,\"#\",MZ$6),'[1]Pt1-DATA'!$C:$E,3,FALSE),\"-\")","v":"-"},{"$f":"_xlfn.IFNA(VLOOKUP(_xlfn.CONCAT($A10,\"#\",NA$6),'[1]Pt1-DATA'!$C:$E,3,FALSE),\"-\")","v":"-"},{"$f":"_xlfn.IFNA(VLOOKUP(_xlfn.CONCAT($A10,\"#\",NB$6),'[1]Pt1-DATA'!$C:$E,3,FALSE),\"-\")","v":"-"},{"$f":"_xlfn.IFNA(VLOOKUP(_xlfn.CONCAT($A10,\"#\",NC$6),'[1]Pt1-DATA'!$C:$E,3,FALSE),\"-\")","v":"-"}]
["aircraft_id","aircraft_level_1","aircraft_level_2","aircraft_level_3","aircraft_level_4","engine_level_4","$per item","Num of","$per item","Num of","$per item","Num of","$per item","Num of","$per item","Num of","$per item","Num of","$per item","Num of","$per item","Num of","$per item","Num of","$per item","Num of","$per item","Num of","$per item","Num of","$per item","Num of","$per item","Num of","$per item","Num of","$per item","Num of","$per item","Num of","$per item","Num of","$per item","Num of","$per item","Num of","$per item","Num of","$per item","Num of","$per item","Num of","$per item","Num of","$per item","Num of","$per item","Num of","$per item","Num of","$per item","Num of","$per item","Num of","$per item","Num of","$per item","Num of","$per item","Num of","$per item","Num of","$per item","Num of","$per item","Num of","$per item","Num of","$per item","Num of","$per item","Num of","$per item","Num of","$per item","Num of","$per item","Num of","$per item","Num of","$per item","Num of","$per item","Num of","$per item","Num of","$per item","Num of","$per item","Num of","$per item","Num of","$per item","Num of","$per item","Num of","$per item","Num of","$per item","Num of","$per item","Num of","$per item","Num of","$per item","Num of","$per item","Num of","$per item","Num of","$per item","Num of","$per item","Num of","$per item","Num of","$per item","Num of","$per item","Num of","$per item","Num of","$per item","Num of","$per item","Num of","$per item","Num of","$per item","Num of","$per item","Num of","$per item","Num of","$per item","Num of","$per item","Num of","$per item","Num of","$per item","Num of","$per item","Num of","$per item","Num of","$per item","Num of","$per item","Num of","$per item","Num of","$per item","Num of","$per item","Num of","$per item","Num of","$per item","Num of","$per item","Num of","$per item","Num of","$per item","Num of","$per item","Num of","$per item","Num of","$per item","Num of","$per item","Num of","$per item","Num of","$per item","Num of","$per item","Num of","$per item","Num of","$per item","Num of","$per item","Num of","$per item","Num of","$per item","Num of","$per item","Num of","$per item","Num of","$per item","Num of","$per item","Num of","$per item","Num of","$per item","Num of","$per item","Num of","$per item","Num of","$per item","Num of","$per item","Num of","$per item","Num of","$per item","Num of","$per item","Num of","$per item","Num of","$per item","Num of","$per item","Num of","$per item","Num of","$per item","Num of","$per item","Num of","$per item","Num of","$per item","Num of","$per item","Num of","$per item","Num of","$per item","Num of","$per item","Num of","$per item","Num of","$per item","Num of","$per item","Num of","$per item","Num of","$per item","Num of","$per item","Num of","$per item","Num of","$per item","Num of","$per item","Num of","$per item","Num of","$per item","Num of","$per item","Num of","$per item","Num of","$per item","Num of","$per item","Num of","$per item","Num of","$per item","Num of","$per item","Num of","$per item","Num of","$per item","Num of","$per item","Num of","$per item","Num of","$per item","Num of","$per item","Num of","$per item","Num of","$per item","Num of","$per item","Num of","$per item","Num of","$per item","Num of","$per item","Num of","$per item","Num of","$per item","Num of","$per item","Num of","$per item","Num of","$per item","Num of","$per item","Num of","$per item","Num of","$per item","Num of","$per item","Num of","$per item","Num of","$per item","Num of","$per item","Num of","$per item","Num of","$per item","Num of","$per item","Num of","$per item","Num of","$per item","Num of","$per item","Num of","$per item","Num of","$per item","Num of","$per item","Num of","$per item","Num of","$per item","Num of","$per item","Num of","$per item","Num of","$per item","Num of","$per item","Num of","$per item","Num of","$per item","Num of","END MARKER"]
[674,"Business Jet","Large Jet","ACJ","Airbus ACJ TwoTwenty","Pratt & Whitney PW1500G",14941,2,56029,1,"-","-","-","-","-","-",13699,2,"-","-","-","-","-","-","-","-",5871,1,9784,1,"-","-","-","-",19569,1,"-","-","-","-",11741,2,11741,2,"-","-",5871,1,"-","-","-","-","-","-","-","-","-","-","-","-","-","-","-","-",5871,1,5871,2,"-","-","-","-","-","-","-","-","-","-","-","-","-","-",20712,1,17261,1,"-","-","-","-",11506,2,"-","-","-","-","-","-","-","-",23014,2,9205,1,17261,1,"-","-","-","-","-","-","-","-",28767,1,"-","-","-","-",15182,1,"-","-",8097,1,8097,1,"-","-","-","-","-","-",12145,1,"-","-",30364,3,"-","-","-","-",7085,2,30364,2,8097,2,"-","-","-","-","-","-",75910,1,"-","-",28340,1,"-","-","-","-","-","-",45546,2,"-","-","-","-","-","-","-","-","-","-",45546,2,"-","-","-","-",15182,2,20876,1,26094,2,12525,3,"-","-",10437,2,46970,2,26094,2,"-","-",2903,1,20674,1,25000,1,5168,1,"-","-",104151,2,52076,1,"-","-","-","-","-","-","-","-","-","-","-","-","-","-","-","-","-","-","-","-","-","-","-","-","-","-","-","-","-","-","-","-","-","-",31029,3,"-","-",10638,8,"-","-","-","-",12412,2,"-","-","-","-","-","-","-","-","-","-","-","-","-","-","-","-",44327,1,"-","-","-","-","-","-","-","-","-","-","-","-","-","-",8800,12,"-","-","-","-","-","-","-","-","-","-","-","-","-","-","-","-","-","-","-","-","-","-","-","-","-","-","-","-","-","-","-","-",47519,1,43999,1,137227,1,"-","-",6078,1,30388,2,"-","-","-","-","-","-",24310,1,"-","-","-","-","-","-","-","-","-","-","-","-","-","-","-","-","-","-",1368462,{"$f":"INDEX('Aircraft IDs'!A:G,MATCH(A12,'Aircraft IDs'!A:A,0),7)","v":"A220"}]
[296,"Business Jet","Large Jet","ACJ","Airbus ACJ320 Family","CFM International CFM56 - 5B",14941,2,56029,1,"-","-","-","-","-","-",13699,2,"-","-","-","-","-","-","-","-",5871,1,9784,1,"-","-","-","-",19569,1,"-","-","-","-",11741,2,11741,2,"-","-",5871,1,"-","-","-","-","-","-","-","-","-","-","-","-","-","-","-","-",5871,1,5871,2,"-","-","-","-","-","-","-","-","-","-","-","-","-","-",20712,1,17261,1,"-","-","-","-",11506,2,"-","-","-","-","-","-","-","-",23014,2,9205,1,17261,1,"-","-","-","-","-","-","-","-",28767,1,"-","-","-","-",15182,1,"-","-",8097,1,8097,1,"-","-","-","-","-","-",12145,1,"-","-",30364,3,"-","-","-","-",7085,2,30364,2,8097,2,"-","-","-","-","-","-",75910,1,"-","-",28340,1,"-","-","-","-","-","-",45546,2,"-","-","-","-","-","-","-","-","-","-",45546,2,"-","-","-","-",15182,2,20876,1,26094,2,12525,3,"-","-",10437,2,46970,2,26094,2,"-","-",2903,1,20674,1,25000,1,5168,1,"-","-","-","-","-","-","-","-","-","-","-","-","-","-","-","-","-","-","-","-","-","-","-","-","-","-","-","-","-","-","-","-","-","-","-","-","-","-","-","-",31029,3,"-","-",10638,8,"-","-","-","-",12412,2,"-","-","-","-","-","-","-","-","-","-","-","-","-","-","-","-",44327,1,"-","-","-","-","-","-","-","-","-","-","-","-","-","-",8800,12,"-","-","-","-","-","-","-","-","-","-","-","-","-","-","-","-","-","-","-","-","-","-","-","-","-","-","-","-","-","-","-","-","-","-",43999,1,137227,1,"-","-",6078,1,30388,2,"-","-","-","-","-","-",24310,1,"-","-","-","-","-","-","-","-","-","-","-",2,"-",1,"-",1,"-",1,1164717,{"$f":"INDEX('Aircraft IDs'!A:G,MATCH(A13,'Aircraft IDs'!A:A,0),7)","v":"A320"}]
[526,"Business Jet","Large Jet","ACJ","Airbus ACJ320 Family","IAE V2500-A5",14941,2,56029,1,"-","-","-","-","-","-",13699,2,"-","-","-","-","-","-","-","-",5871,1,9784,1,"-","-","-","-",19569,1,"-","-","-","-",11741,2,11741,2,"-","-",5871,1,"-","-","-","-","-","-","-","-","-","-","-","-","-","-","-","-",5871,1,5871,2,"-","-","-","-","-","-","-","-","-","-","-","-","-","-",20712,1,17261,1,"-","-","-","-",11506,2,"-","-","-","-","-","-","-","-",23014,2,9205,1,17261,1,"-","-","-","-","-","-","-","-",28767,1,"-","-","-","-",15182,1,"-","-",8097,1,8097,1,"-","-","-","-","-","-",12145,1,"-","-",30364,3,"-","-","-","-",7085,2,30364,2,8097,2,"-","-","-","-","-","-",75910,1,"-","-",28340,1,"-","-","-","-","-","-",45546,2,"-","-","-","-","-","-","-","-","-","-",45546,2,"-","-","-","-",15182,2,20876,1,26094,2,12525,3,"-","-",10437,2,46970,2,26094,2,"-","-",2903,1,20674,1,25000,1,5168,1,"-","-","-","-","-","-","-","-","-","-","-","-","-","-","-","-","-","-","-","-","-","-","-","-","-","-","-","-","-","-","-","-","-","-","-","-","-","-","-","-",31029,3,"-","-",10638,8,"-","-","-","-",12412,2,"-","-","-","-","-","-","-","-","-","-","-","-","-","-","-","-",44327,1,"-","-","-","-","-","-","-","-","-","-","-","-","-","-",8800,12,"-","-","-","-","-","-","-","-","-","-","-","-","-","-","-","-","-","-","-","-","-","-","-","-","-","-","-","-","-","-","-","-","-","-",43999,1,137227,1,"-","-",6078,1,30388,2,"-","-","-","-","-","-",24310,1,"-","-","-","-","-","-","-","-","-","-","-",2,"-",1,"-",1,"-",1,1164717,{"$f":"INDEX('Aircraft IDs'!A:G,MATCH(A14,'Aircraft IDs'!A:A,0),7)","v":"A320"}]
[528,"Business Jet","Large Jet","ACJ","Airbus ACJ320neo Family","CFM International LEAP-1A",14941,2,56029,1,"-","-","-","-","-","-",13699,2,"-","-","-","-","-","-","-","-",5871,1,9784,1,"-","-","-","-",19569,1,"-","-","-","-",11741,2,11741,2,"-","-",5871,1,"-","-","-","-","-","-","-","-","-","-","-","-","-","-","-","-",5871,1,5871,2,"-","-","-","-","-","-","-","-","-","-","-","-","-","-",20712,1,17261,1,"-","-","-","-",11506,2,"-","-","-","-","-","-","-","-",23014,2,9205,1,17261,1,"-","-","-","-","-","-","-","-",28767,1,"-","-","-","-",15182,1,"-","-",8097,1,8097,1,"-","-","-","-","-","-",12145,1,"-","-",30364,3,"-","-","-","-",7085,2,30364,2,8097,2,"-","-","-","-","-","-",75910,1,"-","-",28340,1,"-","-","-","-","-","-",45546,2,"-","-","-","-","-","-","-","-","-","-",45546,2,"-","-","-","-",15182,2,20876,1,26094,2,12525,3,"-","-",10437,2,46970,2,26094,2,"-","-",2903,1,20674,1,25000,1,5168,1,"-","-","-","-","-","-","-","-","-","-","-","-","-","-","-","-","-","-","-","-","-","-","-","-","-","-","-","-","-","-","-","-","-","-","-","-","-","-","-","-",31029,3,"-","-",10638,8,"-","-","-","-",12412,2,"-","-","-","-","-","-","-","-","-","-","-","-","-","-","-","-",44327,1,"-","-","-","-","-","-","-","-","-","-","-","-","-","-",8800,12,"-","-","-","-","-","-","-","-","-","-","-","-","-","-","-","-","-","-","-","-","-","-","-","-","-","-","-","-","-","-","-","-","-","-",43999,1,137227,1,"-","-",6078,1,30388,2,"-","-","-","-","-","-",24310,1,"-","-","-","-","-","-","-","-","-","-","-",2,"-",1,"-",1,"-",1,1164717,{"$f":"INDEX('Aircraft IDs'!A:G,MATCH(A15,'Aircraft IDs'!A:A,0),7)","v":"A320"}]
[527,"Business Jet","Large Jet","ACJ","Airbus ACJ320neo Family","Pratt & Whitney PW1100G",14941,2,56029,1,"-","-","-","-","-","-",13699,2,"-","-","-","-","-","-","-","-",5871,1,9784,1,"-","-","-","-",19569,1,"-","-","-","-",11741,2,11741,2,"-","-",5871,1,"-","-","-","-","-","-","-","-","-","-","-","-","-","-","-","-",5871,1,5871,2,"-","-","-","-","-","-","-","-","-","-","-","-","-","-",20712,1,17261,1,"-","-","-","-",11506,2,"-","-","-","-","-","-","-","-",23014,2,9205,1,17261,1,"-","-","-","-","-","-","-","-",28767,1,"-","-","-","-",15182,1,"-","-",8097,1,8097,1,"-","-","-","-","-","-",12145,1,"-","-",30364,3,"-","-","-","-",7085,2,30364,2,8097,2,"-","-","-","-","-","-",75910,1,"-","-",28340,1,"-","-","-","-","-","-",45546,2,"-","-","-","-","-","-","-","-","-","-",45546,2,"-","-","-","-",15182,2,20876,1,26094,2,12525,3,"-","-",10437,2,46970,2,26094,2,"-","-",2903,1,20674,1,25000,1,5168,1,"-","-","-","-","-","-","-","-","-","-","-","-","-","-","-","-","-","-","-","-","-","-","-","-","-","-","-","-","-","-","-","-","-","-","-","-","-","-","-","-",31029,3,"-","-",10638,8,"-","-","-","-",12412,2,"-","-","-","-","-","-","-","-","-","-","-","-","-","-","-","-",44327,1,"-","-","-","-","-","-","-","-","-","-","-","-","-","-",8800,12,"-","-","-","-","-","-","-","-","-","-","-","-","-","-","-","-","-","-","-","-","-","-","-","-","-","-","-","-","-","-","-","-","-","-",43999,1,137227,1,"-","-",6078,1,30388,2,"-","-","-","-","-","-",24310,1,"-","-","-","-","-","-","-","-","-","-","-",2,"-",1,"-",1,"-",1,1164717,{"$f":"INDEX('Aircraft IDs'!A:G,MATCH(A16,'Aircraft IDs'!A:A,0),7)","v":"A320"}]
[529,"Business Jet","Large Jet","BBJ","Boeing BBJ MAX","CFM International LEAP-1B",7471,2,56029,1,"-","-","-","-","-","-",13699,2,"-","-","-","-","-","-","-","-",5871,1,9784,1,"-","-","-","-",19569,1,"-","-","-","-",11741,2,11741,2,"-","-",5871,1,"-","-","-","-","-","-","-","-","-","-","-","-","-","-","-","-",5871,1,5871,2,"-","-","-","-","-","-","-","-","-","-","-","-","-","-",20712,1,17261,1,"-","-","-","-",11506,2,"-","-","-","-","-","-","-","-",23014,2,9205,1,17261,1,"-","-","-","-","-","-","-","-",28767,1,"-","-","-","-",15182,1,"-","-",8097,1,8097,1,"-","-","-","-","-","-",12145,1,"-","-",30364,3,"-","-","-","-",7085,2,30364,2,8097,2,"-","-","-","-","-","-",75910,1,"-","-",28340,1,"-","-","-","-","-","-",45546,2,"-","-","-","-","-","-","-","-","-","-",45546,2,"-","-","-","-",15182,2,20876,1,26094,2,12525,3,"-","-",10437,2,46970,2,26094,2,"-","-",2903,1,20674,1,25000,1,5168,1,"-","-","-","-","-","-","-","-","-","-","-","-","-","-","-","-","-","-","-","-","-","-","-","-","-","-","-","-","-","-","-","-","-","-","-","-","-","-","-","-",31029,3,"-","-",10638,8,"-","-","-","-",12412,2,"-","-","-","-","-","-","-","-","-","-","-","-","-","-","-","-",44327,1,"-","-","-","-","-","-","-","-","-","-","-","-","-","-",8800,12,"-","-","-","-","-","-","-","-","-","-","-","-","-","-","-","-","-","-","-","-","-","-","-","-","-","-","-","-","-","-","-","-","-","-",43999,1,137227,1,"-","-",6078,1,30388,2,"-","-","-","-","-","-",24310,1,"-","-","-","-","-","-","-","-","-","-","-",2,"-",1,"-",1,"-",1,1157247,{"$f":"INDEX('Aircraft IDs'!A:G,MATCH(A17,'Aircraft IDs'!A:A,0),7)","v":"B737"}]
[297,"Business Jet","Large Jet","BBJ","Boeing BBJ/BBJ2/BBJ3","CFM International CFM56 - 7B",7471,2,56029,1,"-","-","-","-","-","-",13699,2,"-","-","-","-","-","-","-","-",5871,1,9784,1,"-","-","-","-",19569,1,"-","-","-","-",11741,2,11741,2,"-","-",5871,1,"-","-","-","-","-","-","-","-","-","-","-","-","-","-","-","-",5871,1,5871,2,"-","-","-","-","-","-","-","-","-","-","-","-","-","-",20712,1,17261,1,"-","-","-","-",11506,2,"-","-","-","-","-","-","-","-",23014,2,9205,1,17261,1,"-","-","-","-","-","-","-","-",28767,1,"-","-","-","-",15182,1,"-","-",8097,1,8097,1,"-","-","-","-","-","-",12145,1,"-","-",30364,3,"-","-","-","-",7085,2,30364,2,8097,2,"-","-","-","-","-","-",75910,1,"-","-",28340,1,"-","-","-","-","-","-",45546,2,"-","-","-","-","-","-","-","-","-","-",45546,2,"-","-","-","-",15182,2,20876,1,26094,2,12525,3,"-","-",10437,2,46970,2,26094,2,"-","-",2903,1,20674,1,25000,1,5168,1,"-","-","-","-","-","-","-","-","-","-","-","-","-","-","-","-","-","-","-","-","-","-","-","-","-","-","-","-","-","-","-","-","-","-","-","-","-","-","-","-",31029,3,"-","-",10638,8,"-","-","-","-",12412,2,"-","-","-","-","-","-","-","-","-","-","-","-","-","-","-","-",44327,1,"-","-","-","-","-","-","-","-","-","-","-","-","-","-",8800,12,"-","-","-","-","-","-","-","-","-","-","-","-","-","-","-","-","-","-","-","-","-","-","-","-","-","-","-","-","-","-","-","-","-","-",43999,1,137227,1,"-","-",6078,1,30388,2,"-","-","-","-","-","-",24310,1,"-","-","-","-","-","-","-","-","-","-","-",2,"-",1,"-",1,"-",1,1157247,{"$f":"INDEX('Aircraft IDs'!A:G,MATCH(A18,'Aircraft IDs'!A:A,0),7)","v":"B737"}]
[594,"Business Jet","Large Jet","Boeing 747","Boeing 747-8 VIP","General Electric GEnx-2B",11206,2,59764,1,"-","-",48559,2,"-","-",11741,2,"-","-","-","-","-","-","-","-","-","-","-","-","-","-","-","-",19569,1,24461,1,"-","-",17612,2,17612,2,"-","-",4893,1,19569,1,"-","-",34245,1,"-","-","-","-","-","-","-","-","-","-",7828,1,"-","-","-","-",24461,2,48922,1,"-","-","-","-","-","-","-","-","-","-","-","-","-","-","-","-",34520,2,"-","-","-","-","-","-","-","-",34520,2,9205,1,23014,1,"-","-","-","-","-","-","-","-",27616,1,"-","-",28767,1,20243,1,"-","-","-","-",10121,1,50606,1,"-","-","-","-","-","-","-","-",50606,2,"-","-","-","-","-","-","-","-",20243,1,"-","-",30364,1,"-","-",111333,2,"-","-",35424,1,"-","-","-","-",85018,5,"-","-","-","-","-","-","-","-","-","-","-","-","-","-","-","-","-","-","-","-","-","-","-","-","-","-","-","-","-","-",117423,2,41750,2,15657,1,6967,1,49616,1,60000,1,12404,1,78114,2,182270,2,156228,1,"-","-","-","-","-","-","-","-",26038,14,"-","-","-","-","-","-","-","-","-","-","-","-","-","-","-","-","-","-","-","-","-","-","-","-","-","-",31029,2,13298,6,"-","-","-","-",10638,2,"-","-","-","-","-","-","-","-","-","-",13298,2,"-","-",39894,2,44327,2,"-","-","-","-",13298,2,"-","-","-","-","-","-","-","-",13200,14,"-","-","-","-","-","-","-","-","-","-","-","-","-","-","-","-","-","-","-","-","-","-","-","-","-","-","-","-","-","-","-","-",82497,1,49498,1,261865,1,"-","-","-","-",42542,2,"-","-","-","-","-","-",48620,1,"-","-",43555,1,"-","-","-","-","-","-","-","-","-",1,"-",1,"-",1,2376181,{"$f":"INDEX('Aircraft IDs'!A:G,MATCH(A19,'Aircraft IDs'!A:A,0),7)","v":"B747"}]
[35,"Business Jet","Large Jet","Challenger 600 series","Bombardier Challenger 600 series","General Electric CF34-3B","-","-",37353,1,"-","-",8965,1,"-","-","-","-","-","-","-","-","-","-",17612,2,"-","-","-","-","-","-","-","-",14677,1,"-","-",21526,2,"-","-","-","-","-","-","-","-","-","-","-","-","-","-","-","-","-","-","-","-",21526,3,24461,3,"-","-","-","-","-","-","-","-","-","-","-","-","-","-","-","-","-","-","-","-","-","-","-","-","-","-","-","-",34520,4,"-","-","-","-","-","-","-","-","-","-",17261,1,"-","-","-","-","-","-","-","-","-","-","-","-","-","-","-","-","-","-","-","-","-","-","-","-","-","-","-","-","-","-","-","-","-","-","-","-","-","-","-","-","-","-","-","-",8097,1,"-","-","-","-","-","-","-","-","-","-","-","-",40485,6,10121,2,35424,1,"-","-","-","-",8097,2,"-","-","-","-","-","-","-","-",25303,1,"-","-","-","-","-","-","-","-","-","-","-","-",54797,2,26094,2,"-","-",2119,1,15092,1,18250,1,3773,1,"-","-","-","-","-","-","-","-",93736,3,"-","-","-","-","-","-","-","-","-","-","-","-","-","-","-","-","-","-","-","-","-","-","-","-","-","-","-","-","-","-","-","-","-","-",26597,3,"-","-","-","-","-","-","-","-","-","-","-","-",35461,3,"-","-","-","-","-","-","-","-","-","-","-","-","-","-",17731,1,26597,1,"-","-","-","-","-","-",10999,4,8800,8,"-","-","-","-","-","-","-","-","-","-","-","-","-","-","-","-","-","-","-","-","-","-","-","-","-","-",82497,1,"-","-","-","-","-","-",107012,1,"-","-","-","-","-","-","-","-","-","-","-","-","-","-","-","-","-","-","-","-",40517,1,75969,1,"-",1,"-","-","-","-","-",1,971537,{"$f":"INDEX('Aircraft IDs'!A:G,MATCH(A20,'Aircraft IDs'!A:A,0),7)","v":"Challenger"}]
[635,"Business Jet","Large Jet","Challenger 600 series","Bombardier Challenger 6XX series","General Electric CF34-3 (New)","-","-",37353,1,"-","-",8965,1,"-","-","-","-","-","-","-","-","-","-",17612,2,"-","-","-","-","-","-","-","-",14677,1,"-","-",21526,2,"-","-","-","-","-","-","-","-","-","-","-","-","-","-","-","-","-","-","-","-",21526,3,24461,3,"-","-","-","-","-","-","-","-","-","-","-","-","-","-","-","-","-","-","-","-","-","-","-","-","-","-","-","-",34520,4,"-","-","-","-","-","-","-","-","-","-",17261,1,"-","-","-","-","-","-","-","-","-","-","-","-","-","-","-","-","-","-","-","-","-","-","-","-","-","-","-","-","-","-","-","-","-","-","-","-","-","-","-","-","-","-","-","-",8097,1,"-","-","-","-","-","-","-","-","-","-","-","-",40485,6,10121,2,35424,1,"-","-","-","-",8097,2,"-","-","-","-","-","-","-","-",25303,1,"-","-","-","-","-","-","-","-","-","-","-","-",54797,2,26094,2,"-","-",2649,1,18864,1,22812,1,4716,1,"-","-","-","-","-","-","-","-",93736,3,"-","-","-","-","-","-","-","-","-","-","-","-","-","-","-","-","-","-","-","-","-","-","-","-","-","-","-","-","-","-","-","-","-","-",26597,3,"-","-","-","-","-","-","-","-","-","-","-","-",35461,3,"-","-","-","-","-","-","-","-","-","-","-","-","-","-",17731,1,26597,1,"-","-","-","-","-","-",10999,4,8800,8,"-","-","-","-","-","-","-","-","-","-","-","-","-","-","-","-","-","-","-","-","-","-","-","-","-","-",82497,1,"-","-","-","-","-","-",107012,1,"-","-","-","-","-","-","-","-","-","-","-","-","-","-","-","-","-","-","-","-",40517,1,75969,1,"-",1,"-","-","-","-","-",1,981344,{"$f":"INDEX('Aircraft IDs'!A:G,MATCH(A21,'Aircraft IDs'!A:A,0),7)","v":"Challenger"}]
[72,"Business Jet","Large Jet","Challenger 850","Bombardier Challenger 850","General Electric CF34-3B","-","-",37353,1,"-","-",8965,1,"-","-","-","-","-","-","-","-","-","-",17612,2,"-","-","-","-","-","-","-","-",14677,1,"-","-",21526,2,"-","-","-","-","-","-","-","-","-","-","-","-","-","-","-","-","-","-","-","-",21526,3,24461,3,"-","-","-","-","-","-","-","-","-","-","-","-","-","-","-","-","-","-","-","-","-","-","-","-","-","-","-","-",34520,4,"-","-","-","-","-","-","-","-","-","-",17261,1,"-","-","-","-","-","-","-","-","-","-","-","-","-","-","-","-","-","-","-","-","-","-","-","-","-","-","-","-","-","-","-","-","-","-","-","-","-","-","-","-","-","-","-","-",8097,1,"-","-","-","-","-","-","-","-","-","-","-","-",40485,6,10121,2,35424,1,"-","-","-","-",8097,2,"-","-","-","-","-","-","-","-",25303,1,"-","-","-","-","-","-","-","-","-","-","-","-",54797,2,26094,2,"-","-",2119,1,15092,1,18250,1,3773,1,"-","-","-","-","-","-","-","-",93736,3,"-","-","-","-","-","-","-","-","-","-","-","-","-","-","-","-","-","-","-","-","-","-","-","-","-","-","-","-","-","-","-","-","-","-",26597,3,"-","-","-","-","-","-","-","-","-","-","-","-",35461,3,"-","-","-","-","-","-","-","-","-","-","-","-","-","-",17731,1,26597,1,"-","-","-","-","-","-",10999,4,8800,8,"-","-","-","-","-","-","-","-","-","-","-","-","-","-","-","-","-","-","-","-","-","-","-","-","-","-",82497,1,"-","-","-","-","-","-",107012,1,"-","-","-","-","-","-","-","-","-","-","-","-","-","-","-","-","-","-","-","-",40517,1,75969,1,"-",1,"-","-","-","-","-",1,971537,{"$f":"INDEX('Aircraft IDs'!A:G,MATCH(A22,'Aircraft IDs'!A:A,0),7)","v":"Challenger"}]
[48,"Business Jet","Large Jet","Citation Hemisphere","Cessna Citation Hemisphere","Pratt & Whitney Canada PW800","-","-",37353,1,"-","-",8965,1,"-","-","-","-","-","-","-","-","-","-",17612,2,"-","-","-","-","-","-","-","-",14677,1,"-","-",21526,2,"-","-","-","-","-","-","-","-","-","-","-","-","-","-","-","-","-","-","-","-",21526,3,24461,3,"-","-","-","-","-","-","-","-","-","-","-","-","-","-","-","-","-","-","-","-","-","-","-","-","-","-","-","-",34520,4,"-","-","-","-","-","-","-","-","-","-",17261,1,"-","-","-","-","-","-","-","-","-","-","-","-","-","-","-","-","-","-","-","-","-","-","-","-","-","-","-","-","-","-","-","-","-","-","-","-","-","-","-","-","-","-","-","-",8097,1,"-","-","-","-","-","-","-","-","-","-","-","-",40485,6,10121,2,35424,1,"-","-","-","-",8097,2,"-","-","-","-","-","-","-","-",25303,1,"-","-","-","-","-","-","-","-","-","-","-","-",54797,2,26094,2,"-","-",2119,1,15092,1,18250,1,3773,1,"-","-","-","-","-","-","-","-",93736,3,"-","-","-","-","-","-","-","-","-","-","-","-","-","-","-","-","-","-","-","-","-","-","-","-","-","-","-","-","-","-","-","-","-","-",26597,3,"-","-","-","-","-","-","-","-","-","-","-","-",35461,3,"-","-","-","-","-","-","-","-","-","-","-","-","-","-",17731,1,26597,1,"-","-","-","-","-","-",10999,4,8800,8,"-","-","-","-","-","-","-","-","-","-","-","-","-","-","-","-","-","-","-","-","-","-","-","-","-","-",82497,1,"-","-","-","-","-","-",107012,1,"-","-","-","-","-","-","-","-","-","-","-","-","-","-","-","-","-","-","-","-",40517,1,75969,1,"-",1,"-","-","-","-","-",1,971537,{"$f":"INDEX('Aircraft IDs'!A:G,MATCH(A23,'Aircraft IDs'!A:A,0),7)","v":"Citation"}]
[47,"Business Jet","Large Jet","Citation Longitude","Cessna Citation Longitude","Honeywell HTF7000 ","-","-",37353,1,"-","-",8965,1,"-","-","-","-","-","-","-","-","-","-",17612,2,"-","-","-","-","-","-","-","-",14677,1,"-","-",21526,2,"-","-","-","-","-","-","-","-","-","-","-","-","-","-","-","-","-","-","-","-",21526,3,24461,3,"-","-","-","-","-","-","-","-","-","-","-","-","-","-","-","-","-","-","-","-","-","-","-","-","-","-","-","-",34520,4,"-","-","-","-","-","-","-","-","-","-",17261,1,"-","-","-","-","-","-","-","-","-","-","-","-","-","-","-","-","-","-","-","-","-","-","-","-","-","-","-","-","-","-","-","-","-","-","-","-","-","-","-","-","-","-","-","-",8097,1,"-","-","-","-","-","-","-","-","-","-","-","-",40485,6,10121,2,35424,1,"-","-","-","-",8097,2,"-","-","-","-","-","-","-","-",25303,1,"-","-","-","-","-","-","-","-","-","-","-","-",54797,2,26094,2,"-","-",2119,1,15092,1,18250,1,3773,1,"-","-","-","-","-","-","-","-",93736,3,"-","-","-","-","-","-","-","-","-","-","-","-","-","-","-","-","-","-","-","-","-","-","-","-","-","-","-","-","-","-","-","-","-","-",26597,3,"-","-","-","-","-","-","-","-","-","-","-","-",35461,3,"-","-","-","-","-","-","-","-","-","-","-","-","-","-",17731,1,26597,1,"-","-","-","-","-","-",10999,4,8800,8,"-","-","-","-","-","-","-","-","-","-","-","-","-","-","-","-","-","-","-","-","-","-","-","-","-","-",82497,1,"-","-","-","-","-","-",107012,1,"-","-","-","-","-","-","-","-","-","-","-","-","-","-","-","-","-","-","-","-",40517,1,75969,1,"-",1,"-","-","-","-","-",1,971537,{"$f":"INDEX('Aircraft IDs'!A:G,MATCH(A24,'Aircraft IDs'!A:A,0),7)","v":"Citation"}]
[587,"Business Jet","Large Jet","Falcon 10X","Dassault Falcon 10X","Rolls-Royce Pearl 10X","-","-",37353,1,"-","-",8965,1,"-","-","-","-","-","-","-","-","-","-",17612,2,"-","-","-","-","-","-","-","-",14677,1,"-","-",21526,2,"-","-","-","-","-","-","-","-","-","-","-","-","-","-","-","-","-","-","-","-",21526,3,24461,3,"-","-","-","-","-","-","-","-","-","-","-","-","-","-","-","-","-","-","-","-","-","-","-","-","-","-","-","-",34520,4,"-","-","-","-","-","-","-","-","-","-",17261,1,"-","-","-","-","-","-","-","-","-","-","-","-","-","-","-","-","-","-","-","-","-","-","-","-","-","-","-","-","-","-","-","-","-","-","-","-","-","-","-","-","-","-","-","-",8097,1,"-","-","-","-","-","-","-","-","-","-","-","-",40485,6,10121,2,35424,1,"-","-","-","-",8097,2,"-","-","-","-","-","-","-","-",25303,1,"-","-","-","-","-","-","-","-","-","-","-","-",54797,2,26094,2,"-","-",2649,1,18864,1,22812,1,4716,1,"-","-",72906,2,41660,1,"-","-",93736,3,"-","-","-","-","-","-","-","-","-","-","-","-","-","-","-","-","-","-","-","-","-","-","-","-","-","-","-","-","-","-","-","-","-","-",26597,3,"-","-","-","-","-","-","-","-","-","-","-","-",35461,3,"-","-","-","-","-","-","-","-","-","-","-","-","-","-",17731,1,26597,1,"-","-","-","-","-","-",10999,4,8800,8,"-","-","-","-","-","-","-","-","-","-","-","-","-","-","-","-","-","-","-","-","-","-","-","-","-","-",82497,1,"-","-","-","-","-","-",107012,1,"-","-","-","-","-","-","-","-","-","-","-","-","-","-","-","-","-","-","-","-",40517,1,75969,1,"-",1,"-","-","-","-","-",1,1095913,{"$f":"INDEX('Aircraft IDs'!A:G,MATCH(A25,'Aircraft IDs'!A:A,0),7)","v":"Falcon"}]
[51,"Business Jet","Large Jet","Falcon 6X","Dassault Falcon 6X","Pratt & Whitney Canada PW800","-","-",37353,1,"-","-",8965,1,"-","-","-","-","-","-","-","-","-","-",17612,2,"-","-","-","-","-","-","-","-",14677,1,"-","-",21526,2,"-","-","-","-","-","-","-","-","-","-","-","-","-","-","-","-","-","-","-","-",21526,3,24461,3,"-","-","-","-","-","-","-","-","-","-","-","-","-","-","-","-","-","-","-","-","-","-","-","-","-","-","-","-",34520,4,"-","-","-","-","-","-","-","-","-","-",17261,1,"-","-","-","-","-","-","-","-","-","-","-","-","-","-","-","-","-","-","-","-","-","-","-","-","-","-","-","-","-","-","-","-","-","-","-","-","-","-","-","-","-","-","-","-",8097,1,"-","-","-","-","-","-","-","-","-","-","-","-",40485,6,10121,2,35424,1,"-","-","-","-",8097,2,"-","-","-","-","-","-","-","-",25303,1,"-","-","-","-","-","-","-","-","-","-","-","-",54797,2,26094,2,"-","-",2119,1,15092,1,18250,1,3773,1,"-","-",72906,2,41660,1,"-","-",93736,3,"-","-","-","-","-","-","-","-","-","-","-","-","-","-","-","-","-","-","-","-","-","-","-","-","-","-","-","-","-","-","-","-","-","-",26597,3,"-","-","-","-","-","-","-","-","-","-","-","-",35461,3,"-","-","-","-","-","-","-","-","-","-","-","-","-","-",17731,1,26597,1,"-","-","-","-","-","-",10999,4,8800,8,"-","-","-","-","-","-","-","-","-","-","-","-","-","-","-","-","-","-","-","-","-","-","-","-","-","-",82497,1,"-","-","-","-","-","-",107012,1,"-","-","-","-","-","-","-","-","-","-","-","-","-","-","-","-","-","-","-","-",40517,1,75969,1,"-",1,"-","-","-","-","-",1,1086106,{"$f":"INDEX('Aircraft IDs'!A:G,MATCH(A26,'Aircraft IDs'!A:A,0),7)","v":"Falcon"}]
[54,"Business Jet","Large Jet","Falcon 7X/8X","Dassault Falcon 7X/8X","Pratt & Whitney Canada PW307A/D","-","-",37353,1,"-","-",8965,1,"-","-","-","-","-","-","-","-","-","-",17612,2,"-","-","-","-","-","-","-","-",14677,1,"-","-",21526,2,"-","-","-","-","-","-","-","-","-","-","-","-","-","-","-","-","-","-","-","-",21526,3,24461,3,"-","-","-","-","-","-","-","-","-","-","-","-","-","-","-","-","-","-","-","-","-","-","-","-","-","-","-","-",34520,4,"-","-","-","-","-","-","-","-","-","-",17261,1,"-","-","-","-","-","-","-","-","-","-","-","-","-","-","-","-","-","-","-","-","-","-","-","-","-","-","-","-","-","-","-","-","-","-","-","-","-","-","-","-","-","-","-","-",8097,1,"-","-","-","-","-","-","-","-","-","-","-","-",40485,6,10121,2,35424,1,"-","-","-","-",8097,2,"-","-","-","-","-","-","-","-",25303,1,"-","-","-","-","-","-","-","-","-","-","-","-",54797,2,26094,2,"-","-",2119,1,15092,1,18250,1,3773,1,"-","-",72906,2,41660,1,"-","-",93736,3,"-","-","-","-","-","-","-","-","-","-","-","-","-","-","-","-","-","-","-","-","-","-","-","-","-","-","-","-","-","-","-","-","-","-",26597,3,"-","-","-","-","-","-","-","-","-","-","-","-",35461,3,"-","-","-","-","-","-","-","-","-","-","-","-","-","-",17731,1,26597,1,"-","-","-","-","-","-",10999,4,8800,8,"-","-","-","-","-","-","-","-","-","-","-","-","-","-","-","-","-","-","-","-","-","-","-","-","-","-",82497,1,"-","-","-","-","-","-",107012,1,"-","-","-","-","-","-","-","-","-","-","-","-","-","-","-","-","-","-","-","-",40517,1,75969,1,"-",1,"-","-","-","-","-",1,1086106,{"$f":"INDEX('Aircraft IDs'!A:G,MATCH(A27,'Aircraft IDs'!A:A,0),7)","v":"Falcon"}]
[50,"Business Jet","Large Jet","Falcon 900","Dassault Falcon 900","Honeywell TFE731","-","-",37353,1,"-","-",8965,1,"-","-","-","-","-","-","-","-","-","-",17612,2,"-","-","-","-","-","-","-","-",14677,1,"-","-",21526,2,"-","-","-","-","-","-","-","-","-","-","-","-","-","-","-","-","-","-","-","-",21526,3,24461,3,"-","-","-","-","-","-","-","-","-","-","-","-","-","-","-","-","-","-","-","-","-","-","-","-","-","-","-","-",34520,4,"-","-","-","-","-","-","-","-","-","-",17261,1,"-","-","-","-","-","-","-","-","-","-","-","-","-","-","-","-","-","-","-","-","-","-","-","-","-","-","-","-","-","-","-","-","-","-","-","-","-","-","-","-","-","-","-","-",8097,1,"-","-","-","-","-","-","-","-","-","-","-","-",40485,6,10121,2,35424,1,"-","-","-","-",8097,2,"-","-","-","-","-","-","-","-",25303,1,"-","-","-","-","-","-","-","-","-","-","-","-",54797,2,26094,2,"-","-",2119,1,15092,1,18250,1,3773,1,"-","-",72906,2,41660,1,"-","-",93736,3,"-","-","-","-","-","-","-","-","-","-","-","-","-","-","-","-","-","-","-","-","-","-","-","-","-","-","-","-","-","-","-","-","-","-",26597,3,"-","-","-","-","-","-","-","-","-","-","-","-",35461,3,"-","-","-","-","-","-","-","-","-","-","-","-","-","-",17731,1,26597,1,"-","-","-","-","-","-",10999,4,8800,8,"-","-","-","-","-","-","-","-","-","-","-","-","-","-","-","-","-","-","-","-","-","-","-","-","-","-",82497,1,"-","-","-","-","-","-",107012,1,"-","-","-","-","-","-","-","-","-","-","-","-","-","-","-","-","-","-","-","-",40517,1,75969,1,"-",1,"-","-","-","-","-",1,1086106,{"$f":"INDEX('Aircraft IDs'!A:G,MATCH(A28,'Aircraft IDs'!A:A,0),7)","v":"Falcon"}]
[651,"Business Jet","Large Jet","G400","Gulfstream G400","Pratt & Whitney Canada PW800","-","-",39221,1,"-","-",9413,1,"-","-","-","-","-","-","-","-","-","-",18493,2,"-","-","-","-","-","-","-","-",15411,1,"-","-",22602,2,"-","-","-","-","-","-","-","-","-","-","-","-","-","-","-","-","-","-","-","-",22602,3,25684,3,"-","-","-","-","-","-","-","-","-","-","-","-","-","-","-","-","-","-","-","-","-","-","-","-","-","-","-","-",36246,4,"-","-","-","-","-","-","-","-","-","-",18124,1,"-","-","-","-","-","-","-","-","-","-","-","-","-","-","-","-","-","-","-","-","-","-","-","-","-","-","-","-","-","-","-","-","-","-","-","-","-","-","-","-","-","-","-","-",8502,1,"-","-","-","-","-","-","-","-","-","-","-","-",42509,6,10627,2,37195,1,"-","-","-","-",8502,2,"-","-","-","-","-","-","-","-",26568,1,"-","-","-","-","-","-","-","-","-","-","-","-",57537,2,27399,2,"-","-",2225,1,15847,1,19163,1,3962,1,"-","-","-","-","-","-","-","-",98423,3,"-","-","-","-","-","-","-","-","-","-","-","-","-","-","-","-","-","-","-","-","-","-","-","-","-","-","-","-","-","-","-","-","-","-",27927,3,"-","-","-","-","-","-","-","-","-","-","-","-",37234,3,"-","-","-","-","-","-","-","-","-","-","-","-","-","-",18618,1,27927,1,"-","-","-","-","-","-",11549,4,9240,8,"-","-","-","-","-","-","-","-","-","-","-","-","-","-","-","-","-","-","-","-","-","-","-","-","-","-",86622,1,"-","-","-","-","-","-",112363,1,"-","-","-","-","-","-","-","-","-","-","-","-","-","-","-","-","-","-","-","-",42543,1,79767,1,"-",1,"-","-","-","-","-",1,1020113,{"$f":"INDEX('Aircraft IDs'!A:G,MATCH(A29,'Aircraft IDs'!A:A,0),7)","v":"Gulfstream"}]
[59,"Business Jet","Large Jet","G450","Gulfstream G450","Rolls-Royce Tay 611-8C","-","-",37353,1,"-","-",8965,1,"-","-","-","-","-","-","-","-","-","-",17612,2,"-","-","-","-","-","-","-","-",14677,1,"-","-",21526,2,"-","-","-","-","-","-","-","-","-","-","-","-","-","-","-","-","-","-","-","-",21526,3,24461,3,"-","-","-","-","-","-","-","-","-","-","-","-","-","-","-","-","-","-","-","-","-","-","-","-","-","-","-","-",34520,4,"-","-","-","-","-","-","-","-","-","-",17261,1,"-","-","-","-","-","-","-","-","-","-","-","-","-","-","-","-","-","-","-","-","-","-","-","-","-","-","-","-","-","-","-","-","-","-","-","-","-","-","-","-","-","-","-","-",8097,1,"-","-","-","-","-","-","-","-","-","-","-","-",40485,6,10121,2,35424,1,"-","-","-","-",8097,2,"-","-","-","-","-","-","-","-",25303,1,"-","-","-","-","-","-","-","-","-","-","-","-",54797,2,26094,2,"-","-",2119,1,15092,1,18250,1,3773,1,"-","-","-","-","-","-","-","-",93736,3,"-","-","-","-","-","-","-","-","-","-","-","-","-","-","-","-","-","-","-","-","-","-","-","-","-","-","-","-","-","-","-","-","-","-",26597,3,"-","-","-","-","-","-","-","-","-","-","-","-",35461,3,"-","-","-","-","-","-","-","-","-","-","-","-","-","-",17731,1,26597,1,"-","-","-","-","-","-",10999,4,8800,8,"-","-","-","-","-","-","-","-","-","-","-","-","-","-","-","-","-","-","-","-","-","-","-","-","-","-",82497,1,"-","-","-","-","-","-",107012,1,"-","-","-","-","-","-","-","-","-","-","-","-","-","-","-","-","-","-","-","-",40517,1,75969,1,"-",1,"-","-","-","-","-",1,971537,{"$f":"INDEX('Aircraft IDs'!A:G,MATCH(A30,'Aircraft IDs'!A:A,0),7)","v":"Gulfstream"}]
[61,"Business Jet","Large Jet","G500/G600","Gulfstream G500","Pratt & Whitney Canada PW800","-","-",37353,1,"-","-",8965,1,"-","-","-","-","-","-","-","-","-","-",17612,2,"-","-","-","-","-","-","-","-",14677,1,"-","-",21526,2,"-","-","-","-","-","-","-","-","-","-","-","-","-","-","-","-","-","-","-","-",21526,3,24461,3,"-","-","-","-","-","-","-","-","-","-","-","-","-","-","-","-","-","-","-","-","-","-","-","-","-","-","-","-",34520,4,"-","-","-","-","-","-","-","-","-","-",17261,1,"-","-","-","-","-","-","-","-","-","-","-","-","-","-","-","-","-","-","-","-","-","-","-","-","-","-","-","-","-","-","-","-","-","-","-","-","-","-","-","-","-","-","-","-",8097,1,"-","-","-","-","-","-","-","-","-","-","-","-",40485,6,10121,2,35424,1,"-","-","-","-",8097,2,"-","-","-","-","-","-","-","-",25303,1,"-","-","-","-","-","-","-","-","-","-","-","-",54797,2,26094,2,"-","-",2119,1,15092,1,18250,1,3773,1,"-","-","-","-","-","-","-","-",93736,3,"-","-","-","-","-","-","-","-","-","-","-","-","-","-","-","-","-","-","-","-","-","-","-","-","-","-","-","-","-","-","-","-","-","-",26597,3,"-","-","-","-","-","-","-","-","-","-","-","-",35461,3,"-","-","-","-","-","-","-","-","-","-","-","-","-","-",17731,1,26597,1,"-","-","-","-","-","-",10999,4,8800,8,"-","-","-","-","-","-","-","-","-","-","-","-","-","-","-","-","-","-","-","-","-","-","-","-","-","-",82497,1,"-","-","-","-","-","-",107012,1,"-","-","-","-","-","-","-","-","-","-","-","-","-","-","-","-","-","-","-","-",40517,1,75969,1,"-",1,"-","-","-","-","-",1,971537,{"$f":"INDEX('Aircraft IDs'!A:G,MATCH(A31,'Aircraft IDs'!A:A,0),7)","v":"Gulfstream"}]
[62,"Business Jet","Large Jet","G500/G600","Gulfstream G600 ","Pratt & Whitney Canada PW800","-","-",37353,1,"-","-",8965,1,"-","-","-","-","-","-","-","-","-","-",17612,2,"-","-","-","-","-","-","-","-",14677,1,"-","-",21526,2,"-","-","-","-","-","-","-","-","-","-","-","-","-","-","-","-","-","-","-","-",21526,3,24461,3,"-","-","-","-","-","-","-","-","-","-","-","-","-","-","-","-","-","-","-","-","-","-","-","-","-","-","-","-",34520,4,"-","-","-","-","-","-","-","-","-","-",17261,1,"-","-","-","-","-","-","-","-","-","-","-","-","-","-","-","-","-","-","-","-","-","-","-","-","-","-","-","-","-","-","-","-","-","-","-","-","-","-","-","-","-","-","-","-",8097,1,"-","-","-","-","-","-","-","-","-","-","-","-",40485,6,10121,2,35424,1,"-","-","-","-",8097,2,"-","-","-","-","-","-","-","-",25303,1,"-","-","-","-","-","-","-","-","-","-","-","-",54797,2,26094,2,"-","-",2119,1,15092,1,18250,1,3773,1,"-","-","-","-","-","-","-","-",93736,3,"-","-","-","-","-","-","-","-","-","-","-","-","-","-","-","-","-","-","-","-","-","-","-","-","-","-","-","-","-","-","-","-","-","-",26597,3,"-","-","-","-","-","-","-","-","-","-","-","-",35461,3,"-","-","-","-","-","-","-","-","-","-","-","-","-","-",17731,1,26597,1,"-","-","-","-","-","-",10999,4,8800,8,"-","-","-","-","-","-","-","-","-","-","-","-","-","-","-","-","-","-","-","-","-","-","-","-","-","-",82497,1,"-","-","-","-","-","-",107012,1,"-","-","-","-","-","-","-","-","-","-","-","-","-","-","-","-","-","-","-","-",40517,1,75969,1,"-",1,"-","-","-","-","-",1,971537,{"$f":"INDEX('Aircraft IDs'!A:G,MATCH(A32,'Aircraft IDs'!A:A,0),7)","v":"Gulfstream"}]
[60,"Business Jet","Large Jet","G550","Gulfstream G550","Rolls-Royce BR710","-","-",37353,1,"-","-",8965,1,"-","-","-","-","-","-","-","-","-","-",17612,2,"-","-","-","-","-","-","-","-",14677,1,"-","-",21526,2,"-","-","-","-","-","-","-","-","-","-","-","-","-","-","-","-","-","-","-","-",21526,3,24461,3,"-","-","-","-","-","-","-","-","-","-","-","-","-","-","-","-","-","-","-","-","-","-","-","-","-","-","-","-",34520,4,"-","-","-","-","-","-","-","-","-","-",17261,1,"-","-","-","-","-","-","-","-","-","-","-","-","-","-","-","-","-","-","-","-","-","-","-","-","-","-","-","-","-","-","-","-","-","-","-","-","-","-","-","-","-","-","-","-",8097,1,"-","-","-","-","-","-","-","-","-","-","-","-",40485,6,10121,2,35424,1,"-","-","-","-",8097,2,"-","-","-","-","-","-","-","-",25303,1,"-","-","-","-","-","-","-","-","-","-","-","-",54797,2,26094,2,"-","-",2119,1,15092,1,18250,1,3773,1,"-","-","-","-","-","-","-","-",93736,3,"-","-","-","-","-","-","-","-","-","-","-","-","-","-","-","-","-","-","-","-","-","-","-","-","-","-","-","-","-","-","-","-","-","-",26597,3,"-","-","-","-","-","-","-","-","-","-","-","-",35461,3,"-","-","-","-","-","-","-","-","-","-","-","-","-","-",17731,1,26597,1,"-","-","-","-","-","-",10999,4,8800,8,"-","-","-","-","-","-","-","-","-","-","-","-","-","-","-","-","-","-","-","-","-","-","-","-","-","-",82497,1,"-","-","-","-","-","-",107012,1,"-","-","-","-","-","-","-","-","-","-","-","-","-","-","-","-","-","-","-","-",40517,1,75969,1,"-",1,"-","-","-","-","-",1,971537,{"$f":"INDEX('Aircraft IDs'!A:G,MATCH(A33,'Aircraft IDs'!A:A,0),7)","v":"Gulfstream"}]
[63,"Business Jet","Large Jet","G650","Gulfstream G650","Rolls-Royce BR725","-","-",37353,1,"-","-",8965,1,"-","-","-","-","-","-","-","-","-","-",17612,2,"-","-","-","-","-","-","-","-",14677,1,"-","-",21526,2,"-","-","-","-","-","-","-","-","-","-","-","-","-","-","-","-","-","-","-","-",21526,3,24461,3,"-","-","-","-","-","-","-","-","-","-","-","-","-","-","-","-","-","-","-","-","-","-","-","-","-","-","-","-",34520,4,"-","-","-","-","-","-","-","-","-","-",17261,1,"-","-","-","-","-","-","-","-","-","-","-","-","-","-","-","-","-","-","-","-","-","-","-","-","-","-","-","-","-","-","-","-","-","-","-","-","-","-","-","-","-","-","-","-",8097,1,"-","-","-","-","-","-","-","-","-","-","-","-",40485,6,10121,2,35424,1,"-","-","-","-",8097,2,"-","-","-","-","-","-","-","-",25303,1,"-","-","-","-","-","-","-","-","-","-","-","-",54797,2,26094,2,"-","-",2119,1,15092,1,18250,1,3773,1,"-","-","-","-","-","-","-","-",93736,3,"-","-","-","-","-","-","-","-","-","-","-","-","-","-","-","-","-","-","-","-","-","-","-","-","-","-","-","-","-","-","-","-","-","-",26597,3,"-","-","-","-","-","-","-","-","-","-","-","-",35461,3,"-","-","-","-","-","-","-","-","-","-","-","-","-","-",17731,1,26597,1,"-","-","-","-","-","-",10999,4,8800,8,"-","-","-","-","-","-","-","-","-","-","-","-","-","-","-","-","-","-","-","-","-","-","-","-","-","-",82497,1,"-","-","-","-","-","-",107012,1,"-","-","-","-","-","-","-","-","-","-","-","-","-","-","-","-","-","-","-","-",40517,1,75969,1,"-",1,"-","-","-","-","-",1,971537,{"$f":"INDEX('Aircraft IDs'!A:G,MATCH(A34,'Aircraft IDs'!A:A,0),7)","v":"Gulfstream"}]
[598,"Business Jet","Large Jet","G700","Gulfstream G700","Rolls-Royce Pearl 700","-","-",37353,1,"-","-",8965,1,"-","-","-","-","-","-","-","-","-","-",17612,2,"-","-","-","-","-","-","-","-",14677,1,"-","-",21526,2,"-","-","-","-","-","-","-","-","-","-","-","-","-","-","-","-","-","-","-","-",21526,3,24461,3,"-","-","-","-","-","-","-","-","-","-","-","-","-","-","-","-","-","-","-","-","-","-","-","-","-","-","-","-",34520,4,"-","-","-","-","-","-","-","-","-","-",17261,1,"-","-","-","-","-","-","-","-","-","-","-","-","-","-","-","-","-","-","-","-","-","-","-","-","-","-","-","-","-","-","-","-","-","-","-","-","-","-","-","-","-","-","-","-",8097,1,"-","-","-","-","-","-","-","-","-","-","-","-",40485,6,10121,2,35424,1,"-","-","-","-",8097,2,"-","-","-","-","-","-","-","-",25303,1,"-","-","-","-","-","-","-","-","-","-","-","-",54797,2,26094,2,"-","-",2119,1,15092,1,18250,1,3773,1,"-","-","-","-","-","-","-","-",93736,3,"-","-","-","-","-","-","-","-","-","-","-","-","-","-","-","-","-","-","-","-","-","-","-","-","-","-","-","-","-","-","-","-","-","-",26597,3,"-","-","-","-","-","-","-","-","-","-","-","-",35461,3,"-","-","-","-","-","-","-","-","-","-","-","-","-","-",17731,1,26597,1,"-","-","-","-","-","-",10999,4,8800,8,"-","-","-","-","-","-","-","-","-","-","-","-","-","-","-","-","-","-","-","-","-","-","-","-","-","-",82497,1,"-","-","-","-","-","-",107012,1,"-","-","-","-","-","-","-","-","-","-","-","-","-","-","-","-","-","-","-","-",40517,1,75969,1,"-",1,"-","-","-","-","-",1,971537,{"$f":"INDEX('Aircraft IDs'!A:G,MATCH(A35,'Aircraft IDs'!A:A,0),7)","v":"Gulfstream"}]
[670,"Business Jet","Large Jet","G800","Gulfstream G800","Rolls-Royce Pearl 700","-","-",39221,1,"-","-",9413,1,"-","-","-","-","-","-","-","-","-","-",18493,2,"-","-","-","-","-","-","-","-",15411,1,"-","-",22602,2,"-","-","-","-","-","-","-","-","-","-","-","-","-","-","-","-","-","-","-","-",22602,3,25684,3,"-","-","-","-","-","-","-","-","-","-","-","-","-","-","-","-","-","-","-","-","-","-","-","-","-","-","-","-",36246,4,"-","-","-","-","-","-","-","-","-","-",18124,1,"-","-","-","-","-","-","-","-","-","-","-","-","-","-","-","-","-","-","-","-","-","-","-","-","-","-","-","-","-","-","-","-","-","-","-","-","-","-","-","-","-","-","-","-",8502,1,"-","-","-","-","-","-","-","-","-","-","-","-",42509,6,10627,2,37195,1,"-","-","-","-",8502,2,"-","-","-","-","-","-","-","-",26568,1,"-","-","-","-","-","-","-","-","-","-","-","-",57537,2,27399,2,"-","-",2225,1,15847,1,19163,1,3962,1,"-","-","-","-","-","-","-","-",98423,3,"-","-","-","-","-","-","-","-","-","-","-","-","-","-","-","-","-","-","-","-","-","-","-","-","-","-","-","-","-","-","-","-","-","-",27927,3,"-","-","-","-","-","-","-","-","-","-","-","-",37234,3,"-","-","-","-","-","-","-","-","-","-","-","-","-","-",18618,1,27927,1,"-","-","-","-","-","-",11549,4,9240,8,"-","-","-","-","-","-","-","-","-","-","-","-","-","-","-","-","-","-","-","-","-","-","-","-","-","-",86622,1,"-","-","-","-","-","-",112363,1,"-","-","-","-","-","-","-","-","-","-","-","-","-","-","-","-","-","-","-","-",42543,1,79767,1,"-",1,"-","-","-","-","-",1,1020113,{"$f":"INDEX('Aircraft IDs'!A:G,MATCH(A36,'Aircraft IDs'!A:A,0),7)","v":"Gulfstream"}]
[38,"Business Jet","Large Jet","Global 7000","Bombardier Global 7500/8000","General Electric Passport","-","-",37353,1,"-","-",8965,1,"-","-","-","-","-","-","-","-","-","-",17612,2,"-","-","-","-","-","-","-","-",14677,1,"-","-",21526,2,"-","-","-","-","-","-","-","-","-","-","-","-","-","-","-","-","-","-","-","-",21526,3,24461,3,"-","-","-","-","-","-","-","-","-","-","-","-","-","-","-","-","-","-","-","-","-","-","-","-","-","-","-","-",34520,4,"-","-","-","-","-","-","-","-","-","-",17261,1,"-","-","-","-","-","-","-","-","-","-","-","-","-","-","-","-","-","-","-","-","-","-","-","-","-","-","-","-","-","-","-","-","-","-","-","-","-","-","-","-","-","-","-","-",8097,1,"-","-","-","-","-","-","-","-","-","-","-","-",40485,6,10121,2,35424,1,"-","-","-","-",8097,2,"-","-","-","-","-","-","-","-",25303,1,"-","-","-","-","-","-","-","-","-","-","-","-",54797,2,26094,2,"-","-",2119,1,15092,1,18250,1,3773,1,"-","-",72906,2,41660,1,"-","-",93736,3,"-","-","-","-","-","-","-","-","-","-","-","-","-","-","-","-","-","-","-","-","-","-","-","-","-","-","-","-","-","-","-","-","-","-",26597,3,"-","-","-","-","-","-","-","-","-","-","-","-",35461,3,"-","-","-","-","-","-","-","-","-","-","-","-","-","-",17731,1,26597,1,"-","-","-","-","-","-",10999,4,8800,8,"-","-","-","-","-","-","-","-","-","-","-","-","-","-","-","-","-","-","-","-","-","-","-","-","-","-",82497,1,"-","-","-","-","-","-",107012,1,"-","-","-","-","-","-","-","-","-","-","-","-","-","-","-","-","-","-","-","-",40517,1,75969,1,"-",1,"-","-","-","-","-",1,1086106,{"$f":"INDEX('Aircraft IDs'!A:G,MATCH(A37,'Aircraft IDs'!A:A,0),7)","v":"Global"}]
[36,"Business Jet","Large Jet","Global Express - 5000/6000","Bombardier Global 5000","Rolls-Royce BR710","-","-",37353,1,"-","-",8965,1,"-","-","-","-","-","-","-","-","-","-",17612,2,"-","-","-","-","-","-","-","-",14677,1,"-","-",21526,2,"-","-","-","-","-","-","-","-","-","-","-","-","-","-","-","-","-","-","-","-",21526,3,24461,3,"-","-","-","-","-","-","-","-","-","-","-","-","-","-","-","-","-","-","-","-","-","-","-","-","-","-","-","-",34520,4,"-","-","-","-","-","-","-","-","-","-",17261,1,"-","-","-","-","-","-","-","-","-","-","-","-","-","-","-","-","-","-","-","-","-","-","-","-","-","-","-","-","-","-","-","-","-","-","-","-","-","-","-","-","-","-","-","-",8097,1,"-","-","-","-","-","-","-","-","-","-","-","-",40485,6,10121,2,35424,1,"-","-","-","-",8097,2,"-","-","-","-","-","-","-","-",25303,1,"-","-","-","-","-","-","-","-","-","-","-","-",54797,2,26094,2,"-","-",2119,1,15092,1,18250,1,3773,1,"-","-",72906,2,41660,1,"-","-",93736,3,"-","-","-","-","-","-","-","-","-","-","-","-","-","-","-","-","-","-","-","-","-","-","-","-","-","-","-","-","-","-","-","-","-","-",26597,3,"-","-","-","-","-","-","-","-","-","-","-","-",35461,3,"-","-","-","-","-","-","-","-","-","-","-","-","-","-",17731,1,26597,1,"-","-","-","-","-","-",10999,4,8800,8,"-","-","-","-","-","-","-","-","-","-","-","-","-","-","-","-","-","-","-","-","-","-","-","-","-","-",82497,1,"-","-","-","-","-","-",107012,1,"-","-","-","-","-","-","-","-","-","-","-","-","-","-","-","-","-","-","-","-",40517,1,75969,1,"-",1,"-","-","-","-","-",1,1086106,{"$f":"INDEX('Aircraft IDs'!A:G,MATCH(A38,'Aircraft IDs'!A:A,0),7)","v":"Global"}]
[576,"Business Jet","Large Jet","Global Express - 5000/6000","Bombardier Global 5500","Rolls-Royce Pearl 15","-","-",37353,1,"-","-",8965,1,"-","-","-","-","-","-","-","-","-","-",17612,2,"-","-","-","-","-","-","-","-",14677,1,"-","-",21526,2,"-","-","-","-","-","-","-","-","-","-","-","-","-","-","-","-","-","-","-","-",21526,3,24461,3,"-","-","-","-","-","-","-","-","-","-","-","-","-","-","-","-","-","-","-","-","-","-","-","-","-","-","-","-",34520,4,"-","-","-","-","-","-","-","-","-","-",17261,1,"-","-","-","-","-","-","-","-","-","-","-","-","-","-","-","-","-","-","-","-","-","-","-","-","-","-","-","-","-","-","-","-","-","-","-","-","-","-","-","-","-","-","-","-",8097,1,"-","-","-","-","-","-","-","-","-","-","-","-",40485,6,10121,2,35424,1,"-","-","-","-",8097,2,"-","-","-","-","-","-","-","-",25303,1,"-","-","-","-","-","-","-","-","-","-","-","-",54797,2,26094,2,"-","-",2119,1,15092,1,18250,1,3773,1,"-","-",72906,2,41660,1,"-","-",93736,3,"-","-","-","-","-","-","-","-","-","-","-","-","-","-","-","-","-","-","-","-","-","-","-","-","-","-","-","-","-","-","-","-","-","-",26597,3,"-","-","-","-","-","-","-","-","-","-","-","-",35461,3,"-","-","-","-","-","-","-","-","-","-","-","-","-","-",17731,1,26597,1,"-","-","-","-","-","-",10999,4,8800,8,"-","-","-","-","-","-","-","-","-","-","-","-","-","-","-","-","-","-","-","-","-","-","-","-","-","-",82497,1,"-","-","-","-","-","-",107012,1,"-","-","-","-","-","-","-","-","-","-","-","-","-","-","-","-","-","-","-","-",40517,1,75969,1,"-",1,"-","-","-","-","-",1,1086106,{"$f":"INDEX('Aircraft IDs'!A:G,MATCH(A39,'Aircraft IDs'!A:A,0),7)","v":"Global"}]
[37,"Business Jet","Large Jet","Global Express - 5000/6000","Bombardier Global 6000","Rolls-Royce BR710","-","-",37353,1,"-","-",8965,1,"-","-","-","-","-","-","-","-","-","-",17612,2,"-","-","-","-","-","-","-","-",14677,1,"-","-",21526,2,"-","-","-","-","-","-","-","-","-","-","-","-","-","-","-","-","-","-","-","-",21526,3,24461,3,"-","-","-","-","-","-","-","-","-","-","-","-","-","-","-","-","-","-","-","-","-","-","-","-","-","-","-","-",34520,4,"-","-","-","-","-","-","-","-","-","-",17261,1,"-","-","-","-","-","-","-","-","-","-","-","-","-","-","-","-","-","-","-","-","-","-","-","-","-","-","-","-","-","-","-","-","-","-","-","-","-","-","-","-","-","-","-","-",8097,1,"-","-","-","-","-","-","-","-","-","-","-","-",40485,6,10121,2,35424,1,"-","-","-","-",8097,2,"-","-","-","-","-","-","-","-",25303,1,"-","-","-","-","-","-","-","-","-","-","-","-",54797,2,26094,2,"-","-",2119,1,15092,1,18250,1,3773,1,"-","-",72906,2,41660,1,"-","-",93736,3,"-","-","-","-","-","-","-","-","-","-","-","-","-","-","-","-","-","-","-","-","-","-","-","-","-","-","-","-","-","-","-","-","-","-",26597,3,"-","-","-","-","-","-","-","-","-","-","-","-",35461,3,"-","-","-","-","-","-","-","-","-","-","-","-","-","-",17731,1,26597,1,"-","-","-","-","-","-",10999,4,8800,8,"-","-","-","-","-","-","-","-","-","-","-","-","-","-","-","-","-","-","-","-","-","-","-","-","-","-",82497,1,"-","-","-","-","-","-",107012,1,"-","-","-","-","-","-","-","-","-","-","-","-","-","-","-","-","-","-","-","-",40517,1,75969,1,"-",1,"-","-","-","-","-",1,1086106,{"$f":"INDEX('Aircraft IDs'!A:G,MATCH(A40,'Aircraft IDs'!A:A,0),7)","v":"Global"}]
[577,"Business Jet","Large Jet","Global Express - 5000/6000","Bombardier Global 6500","Rolls-Royce Pearl 15","-","-",37353,1,"-","-",8965,1,"-","-","-","-","-","-","-","-","-","-",17612,2,"-","-","-","-","-","-","-","-",14677,1,"-","-",21526,2,"-","-","-","-","-","-","-","-","-","-","-","-","-","-","-","-","-","-","-","-",21526,3,24461,3,"-","-","-","-","-","-","-","-","-","-","-","-","-","-","-","-","-","-","-","-","-","-","-","-","-","-","-","-",34520,4,"-","-","-","-","-","-","-","-","-","-",17261,1,"-","-","-","-","-","-","-","-","-","-","-","-","-","-","-","-","-","-","-","-","-","-","-","-","-","-","-","-","-","-","-","-","-","-","-","-","-","-","-","-","-","-","-","-",8097,1,"-","-","-","-","-","-","-","-","-","-","-","-",40485,6,10121,2,35424,1,"-","-","-","-",8097,2,"-","-","-","-","-","-","-","-",25303,1,"-","-","-","-","-","-","-","-","-","-","-","-",54797,2,26094,2,"-","-",2119,1,15092,1,18250,1,3773,1,"-","-",72906,2,41660,1,"-","-",93736,3,"-","-","-","-","-","-","-","-","-","-","-","-","-","-","-","-","-","-","-","-","-","-","-","-","-","-","-","-","-","-","-","-","-","-",26597,3,"-","-","-","-","-","-","-","-","-","-","-","-",35461,3,"-","-","-","-","-","-","-","-","-","-","-","-","-","-",17731,1,26597,1,"-","-","-","-","-","-",10999,4,8800,8,"-","-","-","-","-","-","-","-","-","-","-","-","-","-","-","-","-","-","-","-","-","-","-","-","-","-",82497,1,"-","-","-","-","-","-",107012,1,"-","-","-","-","-","-","-","-","-","-","-","-","-","-","-","-","-","-","-","-",40517,1,75969,1,"-",1,"-","-","-","-","-",1,1086106,{"$f":"INDEX('Aircraft IDs'!A:G,MATCH(A41,'Aircraft IDs'!A:A,0),7)","v":"Global"}]
[74,"Business Jet","Large Jet","Legacy 600/650","Embraer Legacy 600/650","Rolls-Royce AE 3007","-","-",37353,1,"-","-",8965,1,"-","-","-","-","-","-","-","-","-","-",17612,2,"-","-","-","-","-","-","-","-",14677,1,"-","-",21526,2,"-","-","-","-","-","-","-","-","-","-","-","-","-","-","-","-","-","-","-","-",21526,3,24461,3,"-","-","-","-","-","-","-","-","-","-","-","-","-","-","-","-","-","-","-","-","-","-","-","-","-","-","-","-",34520,4,"-","-","-","-","-","-","-","-","-","-",17261,1,"-","-","-","-","-","-","-","-","-","-","-","-","-","-","-","-","-","-","-","-","-","-","-","-","-","-","-","-","-","-","-","-","-","-","-","-","-","-","-","-","-","-","-","-",8097,1,"-","-","-","-","-","-","-","-","-","-","-","-",40485,6,10121,2,35424,1,"-","-","-","-",8097,2,"-","-","-","-","-","-","-","-",25303,1,"-","-","-","-","-","-","-","-","-","-","-","-",54797,2,26094,2,"-","-",2119,1,15092,1,18250,1,3773,1,"-","-","-","-","-","-","-","-",93736,3,"-","-","-","-","-","-","-","-","-","-","-","-","-","-","-","-","-","-","-","-","-","-","-","-","-","-","-","-","-","-","-","-","-","-",26597,3,"-","-","-","-","-","-","-","-","-","-","-","-",35461,3,"-","-","-","-","-","-","-","-","-","-","-","-","-","-",17731,1,26597,1,"-","-","-","-","-","-",10999,4,8800,8,"-","-","-","-","-","-","-","-","-","-","-","-","-","-","-","-","-","-","-","-","-","-","-","-","-","-",82497,1,"-","-","-","-","-","-",107012,1,"-","-","-","-","-","-","-","-","-","-","-","-","-","-","-","-","-","-","-","-",40517,1,75969,1,"-",1,"-","-","-","-","-",1,971537,{"$f":"INDEX('Aircraft IDs'!A:G,MATCH(A42,'Aircraft IDs'!A:A,0),7)","v":"EMB Bizjet"}]
[652,"Business Jet","Large Jet","Legacy 700","Embraer legacy 700","Rolls-Royce Pearl 15","-","-",37353,1,"-","-",8965,1,"-","-","-","-","-","-","-","-","-","-",17612,2,"-","-","-","-","-","-","-","-",14677,1,"-","-",21526,2,"-","-","-","-","-","-","-","-","-","-","-","-","-","-","-","-","-","-","-","-",21526,3,24461,3,"-","-","-","-","-","-","-","-","-","-","-","-","-","-","-","-","-","-","-","-","-","-","-","-","-","-","-","-",34520,4,"-","-","-","-","-","-","-","-","-","-",17261,1,"-","-","-","-","-","-","-","-","-","-","-","-","-","-","-","-","-","-","-","-","-","-","-","-","-","-","-","-","-","-","-","-","-","-","-","-","-","-","-","-","-","-","-","-",8097,1,"-","-","-","-","-","-","-","-","-","-","-","-",40485,6,10121,2,35424,1,"-","-","-","-",8097,2,"-","-","-","-","-","-","-","-",25303,1,"-","-","-","-","-","-","-","-","-","-","-","-",54797,2,26094,2,"-","-",2119,1,15092,1,18250,1,3773,1,"-","-","-","-","-","-","-","-",93736,3,"-","-","-","-","-","-","-","-","-","-","-","-","-","-","-","-","-","-","-","-","-","-","-","-","-","-","-","-","-","-","-","-","-","-",26597,3,"-","-","-","-","-","-","-","-","-","-","-","-",35461,3,"-","-","-","-","-","-","-","-","-","-","-","-","-","-",17731,1,26597,1,"-","-","-","-","-","-",10999,4,8800,8,"-","-","-","-","-","-","-","-","-","-","-","-","-","-","-","-","-","-","-","-","-","-","-","-","-","-",82497,1,"-","-","-","-","-","-",107012,1,"-","-","-","-","-","-","-","-","-","-","-","-","-","-","-","-","-","-","-","-",40517,1,75969,1,"-",1,"-","-","-","-","-",1,971537,{"$f":"INDEX('Aircraft IDs'!A:G,MATCH(A43,'Aircraft IDs'!A:A,0),7)","v":"EMB Bizjet"}]
[73,"Business Jet","Large Jet","Lineage 1000","Embraer Lineage 1000","General Electric CF34-10E","-","-",37353,1,"-","-",8965,1,"-","-","-","-","-","-","-","-","-","-",17612,2,"-","-","-","-","-","-","-","-",14677,1,"-","-",21526,2,"-","-","-","-","-","-","-","-","-","-","-","-","-","-","-","-","-","-","-","-",21526,3,24461,3,"-","-","-","-","-","-","-","-","-","-","-","-","-","-","-","-","-","-","-","-","-","-","-","-","-","-","-","-",34520,4,"-","-","-","-","-","-","-","-","-","-",17261,1,"-","-","-","-","-","-","-","-","-","-","-","-","-","-","-","-","-","-","-","-","-","-","-","-","-","-","-","-","-","-","-","-","-","-","-","-","-","-","-","-","-","-","-","-",8097,1,"-","-","-","-","-","-","-","-","-","-","-","-",40485,6,10121,2,35424,1,"-","-","-","-",8097,2,"-","-","-","-","-","-","-","-",25303,1,"-","-","-","-","-","-","-","-","-","-","-","-",54797,2,26094,2,"-","-",2322,1,16538,1,20000,1,4134,1,"-","-","-","-","-","-","-","-",93736,3,"-","-","-","-","-","-","-","-","-","-","-","-","-","-","-","-","-","-","-","-","-","-","-","-","-","-","-","-","-","-","-","-","-","-",26597,3,"-","-","-","-","-","-","-","-","-","-","-","-",35461,3,"-","-","-","-","-","-","-","-","-","-","-","-","-","-",17731,1,26597,1,"-","-","-","-","-","-",10999,4,8800,8,"-","-","-","-","-","-","-","-","-","-","-","-","-","-","-","-","-","-","-","-","-","-","-","-","-","-",82497,1,"-","-","-","-","-","-",107012,1,"-","-","-","-","-","-","-","-","-","-","-","-","-","-","-","-","-","-","-","-",40517,1,75969,1,"-",1,"-","-","-","-","-",1,975297,{"$f":"INDEX('Aircraft IDs'!A:G,MATCH(A44,'Aircraft IDs'!A:A,0),7)","v":"EMB Bizjet"}]
[678,"Business Jet","Large Jet","Wide body VIP","Airbus ACJ330-200","Rolls-Royce Trent 700",11206,2,59764,1,"-","-","-","-",17612,2,"-","-",24461,1,"-","-","-","-","-","-","-","-","-","-","-","-","-","-",17612,1,"-","-","-","-",17612,2,17612,3,"-","-",4893,1,24461,1,"-","-","-","-","-","-","-","-","-","-","-","-","-","-",7828,3,34245,3,"-","-","-","-",48922,1,"-","-","-","-","-","-","-","-","-","-","-","-","-","-","-","-",34520,2,46027,1,"-","-","-","-","-","-",34520,2,"-","-",23014,1,"-","-","-","-","-","-","-","-",20712,1,"-","-",28767,1,"-","-","-","-",10121,1,10121,1,"-","-","-","-",25303,2,"-","-","-","-",70849,3,"-","-","-","-","-","-","-","-",15182,1,"-","-",25303,1,"-","-","-","-","-","-",30364,1,"-","-","-","-",70849,6,"-","-","-","-","-","-","-","-","-","-","-","-","-","-","-","-","-","-",30364,2,"-","-","-","-","-","-","-","-",52188,2,97461,2,41750,3,31313,1,3890,1,27702,1,33500,1,6926,1,104151,2,"-","-","-","-","-","-","-","-","-","-","-","-","-","-","-","-","-","-","-","-","-","-","-","-","-","-","-","-","-","-","-","-","-","-","-","-","-","-",44327,3,"-","-",10638,8,"-","-","-","-","-","-","-","-","-","-","-","-","-","-","-","-","-","-","-","-","-","-",44327,2,"-","-","-","-",15958,2,"-","-","-","-",13298,2,"-","-",10999,8,"-","-","-","-","-","-","-","-","-","-","-","-","-","-","-","-","-","-","-","-","-","-","-","-","-","-","-","-",44879,1,8800,6,82497,1,49498,1,190104,1,"-","-","-","-",35452,2,"-","-","-","-","-","-",45581,1,"-","-","-","-","-","-","-","-","-","-","-","-","-","-","-","-","-","-",1757582,{"$f":"INDEX('Aircraft IDs'!A:G,MATCH(A45,'Aircraft IDs'!A:A,0),7)","v":"A320"}]
[298,"Business Jet","Large Jet","Wide body VIP","Boeing BBJ 777","General Electric GE90-115B",11206,2,59764,1,"-","-",48559,2,"-","-",11741,2,"-","-","-","-","-","-","-","-","-","-","-","-","-","-","-","-",19569,1,24461,1,"-","-",17612,2,17612,2,"-","-",4893,1,19569,1,"-","-",34245,1,"-","-","-","-","-","-","-","-","-","-",7828,1,"-","-","-","-",24461,2,48922,1,"-","-","-","-","-","-","-","-","-","-","-","-","-","-","-","-",34520,2,"-","-","-","-","-","-","-","-",34520,2,9205,1,23014,1,"-","-","-","-","-","-","-","-",27616,1,"-","-",28767,1,20243,1,"-","-","-","-",10121,1,50606,1,"-","-","-","-","-","-","-","-",50606,2,"-","-","-","-","-","-","-","-",20243,1,"-","-",30364,1,"-","-",111333,2,"-","-",35424,1,"-","-","-","-",85018,5,"-","-","-","-","-","-","-","-","-","-","-","-","-","-","-","-","-","-","-","-","-","-","-","-","-","-","-","-","-","-",117423,2,41750,2,15657,1,4470,1,31837,1,38500,1,7959,1,78114,2,182270,2,156228,1,"-","-","-","-","-","-","-","-",26038,14,"-","-","-","-","-","-","-","-","-","-","-","-","-","-","-","-","-","-","-","-","-","-","-","-","-","-",31029,2,13298,6,"-","-","-","-",10638,2,"-","-","-","-","-","-","-","-","-","-",13298,2,"-","-",39894,2,44327,2,"-","-","-","-",13298,2,"-","-","-","-","-","-","-","-",13200,14,"-","-","-","-","-","-","-","-","-","-","-","-","-","-","-","-","-","-","-","-","-","-","-","-","-","-","-","-","-","-","-","-",82497,1,49498,1,261865,1,"-","-","-","-",42542,2,"-","-","-","-","-","-",48620,1,"-","-",43555,1,"-","-","-","-","-","-","-","-","-",1,"-",1,"-",1,2329960,{"$f":"INDEX('Aircraft IDs'!A:G,MATCH(A46,'Aircraft IDs'!A:A,0),7)","v":"B777"}]
[553,"Business Jet","Large Jet","Wide body VIP","Boeing BBJ 777X","General Electric GE9X",22412,2,59764,1,"-","-","-","-","-","-",17612,2,24461,1,"-","-","-","-","-","-","-","-","-","-","-","-","-","-",17612,1,"-","-","-","-",17612,2,17612,3,"-","-",4893,1,24461,1,"-","-","-","-","-","-","-","-","-","-","-","-","-","-",7828,3,34245,3,"-","-","-","-",48922,1,"-","-","-","-","-","-","-","-","-","-","-","-","-","-","-","-",34520,2,46027,1,"-","-","-","-","-","-",34520,2,"-","-",23014,1,"-","-","-","-","-","-","-","-",20712,1,"-","-",28767,1,"-","-","-","-",10121,1,10121,1,"-","-","-","-",25303,2,"-","-","-","-",70849,3,"-","-","-","-","-","-","-","-",15182,1,"-","-",25303,1,"-","-","-","-","-","-",30364,1,"-","-","-","-",70849,6,"-","-","-","-","-","-","-","-","-","-","-","-","-","-","-","-","-","-",30364,2,"-","-","-","-","-","-","-","-",52188,2,97461,2,41750,3,31313,1,6169,1,43931,1,53125,1,10982,1,104151,2,"-","-","-","-","-","-","-","-","-","-","-","-","-","-","-","-","-","-","-","-","-","-","-","-","-","-","-","-","-","-","-","-","-","-","-","-","-","-",44327,3,"-","-",10638,8,"-","-","-","-","-","-","-","-","-","-","-","-","-","-","-","-","-","-","-","-","-","-",44327,2,"-","-","-","-",15958,2,"-","-","-","-",13298,2,"-","-",10999,8,"-","-","-","-","-","-","-","-","-","-","-","-","-","-","-","-","-","-","-","-","-","-","-","-","-","-","-","-","-","-",8800,6,82497,1,49498,1,190104,1,"-","-","-","-",35452,2,"-","-","-","-","-","-",45581,1,"-","-","-","-","-","-","-","-","-","-","-","-","-",1,"-",1,"-",1,1766100,{"$f":"INDEX('Aircraft IDs'!A:G,MATCH(A47,'Aircraft IDs'!A:A,0),7)","v":"B777"}]
[554,"Business Jet","Large Jet","Wide body VIP","Boeing BBJ 787","General Electric GEnx-1B",11206,2,59764,1,"-","-",48559,2,"-","-",11741,2,"-","-","-","-","-","-","-","-","-","-","-","-","-","-","-","-",19569,1,24461,1,"-","-",17612,2,17612,2,"-","-",4893,1,19569,1,"-","-",34245,1,"-","-","-","-","-","-","-","-","-","-",7828,1,"-","-","-","-",24461,2,48922,1,"-","-","-","-","-","-","-","-","-","-","-","-","-","-","-","-",34520,2,"-","-","-","-","-","-","-","-",34520,2,9205,1,23014,1,"-","-","-","-","-","-","-","-",27616,1,"-","-",28767,1,20243,1,"-","-","-","-",10121,1,50606,1,"-","-","-","-","-","-","-","-",50606,2,"-","-","-","-","-","-","-","-",20243,1,"-","-",30364,1,"-","-",111333,2,"-","-",35424,1,"-","-","-","-",85018,5,"-","-","-","-","-","-","-","-","-","-","-","-","-","-","-","-","-","-","-","-","-","-","-","-","-","-","-","-","-","-",117423,2,41750,2,15657,1,6038,1,43000,1,52000,1,10750,1,78114,2,182270,2,156228,1,"-","-","-","-","-","-","-","-",26038,14,"-","-","-","-","-","-","-","-","-","-","-","-","-","-","-","-","-","-","-","-","-","-","-","-","-","-",31029,2,13298,6,"-","-","-","-",10638,2,"-","-","-","-","-","-","-","-","-","-",13298,2,"-","-",39894,2,44327,2,"-","-","-","-",13298,2,"-","-","-","-","-","-","-","-",13200,14,"-","-","-","-","-","-","-","-","-","-","-","-","-","-","-","-","-","-","-","-","-","-","-","-","-","-","-","-","-","-","-","-",82497,1,49498,1,261865,1,"-","-","-","-",42542,2,"-","-","-","-","-","-",48620,1,"-","-",43555,1,"-","-","-","-","-","-","-","-","-",1,"-",1,"-",1,2358982,{"$f":"INDEX('Aircraft IDs'!A:G,MATCH(A48,'Aircraft IDs'!A:A,0),7)","v":"B787"}]
[555,"Business Jet","Large Jet","Wide body VIP","Boeing BBJ 787","Rolls-Royce Trent 1000",11206,2,59764,1,"-","-",48559,2,"-","-",11741,2,"-","-","-","-","-","-","-","-","-","-","-","-","-","-","-","-",19569,1,24461,1,"-","-",17612,2,17612,2,"-","-",4893,1,19569,1,"-","-",34245,1,"-","-","-","-","-","-","-","-","-","-",7828,1,"-","-","-","-",24461,2,48922,1,"-","-","-","-","-","-","-","-","-","-","-","-","-","-","-","-",34520,2,"-","-","-","-","-","-","-","-",34520,2,9205,1,23014,1,"-","-","-","-","-","-","-","-",27616,1,"-","-",28767,1,20243,1,"-","-","-","-",10121,1,50606,1,"-","-","-","-","-","-","-","-",50606,2,"-","-","-","-","-","-","-","-",20243,1,"-","-",30364,1,"-","-",111333,2,"-","-",35424,1,"-","-","-","-",85018,5,"-","-","-","-","-","-","-","-","-","-","-","-","-","-","-","-","-","-","-","-","-","-","-","-","-","-","-","-","-","-",117423,2,41750,2,15657,1,6038,1,43000,1,52000,1,10750,1,78114,2,182270,2,156228,1,"-","-","-","-","-","-","-","-",26038,14,"-","-","-","-","-","-","-","-","-","-","-","-","-","-","-","-","-","-","-","-","-","-","-","-","-","-",31029,2,13298,6,"-","-","-","-",10638,2,"-","-","-","-","-","-","-","-","-","-",13298,2,"-","-",39894,2,44327,2,"-","-","-","-",13298,2,"-","-","-","-","-","-","-","-",13200,14,"-","-","-","-","-","-","-","-","-","-","-","-","-","-","-","-","-","-","-","-","-","-","-","-","-","-","-","-","-","-","-","-","-","-",49498,1,261865,1,"-","-","-","-",42542,2,"-","-","-","-","-","-",48620,1,"-","-",43555,1,"-","-","-","-","-","-","-","-","-",1,"-",1,"-",1,2276484,{"$f":"INDEX('Aircraft IDs'!A:G,MATCH(A49,'Aircraft IDs'!A:A,0),7)","v":"B787"}]
[42,"Business Jet","Light Jet","Citation CJ3","Cessna Citation CJ3","Williams FJ44-3A","-","-",11475,1,"-","-",4590,1,"-","-","-","-","-","-","-","-","-","-",9017,2,"-","-","-","-","-","-","-","-",7515,1,"-","-",11134,2,"-","-","-","-","-","-","-","-","-","-","-","-","-","-","-","-","-","-","-","-",11021,3,12524,3,"-","-","-","-","-","-","-","-","-","-","-","-","-","-","-","-","-","-","-","-","-","-","-","-","-","-","-","-",17675,4,"-","-","-","-","-","-","-","-","-","-",8837,1,"-","-","-","-","-","-","-","-","-","-","-","-","-","-","-","-","-","-","-","-","-","-","-","-","-","-","-","-","-","-","-","-","-","-","-","-","-","-","-","-","-","-","-","-",4146,1,"-","-","-","-","-","-","-","-","-","-","-","-",20728,6,5182,2,18137,1,"-","-","-","-",4146,2,"-","-","-","-","-","-","-","-",12955,1,"-","-","-","-","-","-","-","-","-","-","-","-",24048,2,13360,2,"-","-",1306,1,9303,1,11250,1,2326,1,"-","-","-","-","-","-","-","-",38394,3,"-","-","-","-","-","-","-","-","-","-","-","-","-","-","-","-","-","-","-","-","-","-","-","-","-","-","-","-","-","-","-","-","-","-",13618,3,"-","-","-","-","-","-","-","-","-","-","-","-",18157,3,"-","-","-","-","-","-","-","-","-","-","-","-","-","-",9078,1,13298,1,"-","-","-","-","-","-",5632,4,3300,8,"-","-","-","-","-","-","-","-","-","-","-","-","-","-","-","-","-","-","-","-","-","-","-","-","-","-",30937,1,"-","-","-","-","-","-",50359,1,"-","-","-","-","-","-","-","-","-","-","-","-","-","-","-","-","-","-","-","-",20745,1,28488,1,"-",1,"-","-","-","-","-",1,452749,{"$f":"INDEX('Aircraft IDs'!A:G,MATCH(A50,'Aircraft IDs'!A:A,0),7)","v":"Citation"}]
[43,"Business Jet","Light Jet","Citation CJ4","Cessna Citation CJ4","Williams FJ44-4A","-","-",11475,1,"-","-",4590,1,"-","-","-","-","-","-","-","-","-","-",9017,2,"-","-","-","-","-","-","-","-",7515,1,"-","-",11134,2,"-","-","-","-","-","-","-","-","-","-","-","-","-","-","-","-","-","-","-","-",11021,3,12524,3,"-","-","-","-","-","-","-","-","-","-","-","-","-","-","-","-","-","-","-","-","-","-","-","-","-","-","-","-",17675,4,"-","-","-","-","-","-","-","-","-","-",8837,1,"-","-","-","-","-","-","-","-","-","-","-","-","-","-","-","-","-","-","-","-","-","-","-","-","-","-","-","-","-","-","-","-","-","-","-","-","-","-","-","-","-","-","-","-",4146,1,"-","-","-","-","-","-","-","-","-","-","-","-",20728,6,5182,2,18137,1,"-","-","-","-",4146,2,"-","-","-","-","-","-","-","-",12955,1,"-","-","-","-","-","-","-","-","-","-","-","-",24048,2,13360,2,"-","-",1306,1,9303,1,11250,1,2326,1,"-","-","-","-","-","-","-","-",38394,3,"-","-","-","-","-","-","-","-","-","-","-","-","-","-","-","-","-","-","-","-","-","-","-","-","-","-","-","-","-","-","-","-","-","-",13618,3,"-","-","-","-","-","-","-","-","-","-","-","-",18157,3,"-","-","-","-","-","-","-","-","-","-","-","-","-","-",9078,1,13298,1,"-","-","-","-","-","-",5632,4,3300,8,"-","-","-","-","-","-","-","-","-","-","-","-","-","-","-","-","-","-","-","-","-","-","-","-","-","-",30937,1,"-","-","-","-","-","-",50359,1,"-","-","-","-","-","-","-","-","-","-","-","-","-","-","-","-","-","-","-","-",20745,1,28488,1,"-",1,"-","-","-","-","-",1,452749,{"$f":"INDEX('Aircraft IDs'!A:G,MATCH(A51,'Aircraft IDs'!A:A,0),7)","v":"Citation"}]
[39,"Business Jet","Light Jet","Citation V","Cessna Citation Encore","Pratt & Whitney Canada JT15D","-","-",11475,1,"-","-",4590,1,"-","-","-","-","-","-","-","-","-","-",9017,2,"-","-","-","-","-","-","-","-",7515,1,"-","-",11134,2,"-","-","-","-","-","-","-","-","-","-","-","-","-","-","-","-","-","-","-","-",11021,3,12524,3,"-","-","-","-","-","-","-","-","-","-","-","-","-","-","-","-","-","-","-","-","-","-","-","-","-","-","-","-",17675,4,"-","-","-","-","-","-","-","-","-","-",8837,1,"-","-","-","-","-","-","-","-","-","-","-","-","-","-","-","-","-","-","-","-","-","-","-","-","-","-","-","-","-","-","-","-","-","-","-","-","-","-","-","-","-","-","-","-",4146,1,"-","-","-","-","-","-","-","-","-","-","-","-",20728,6,5182,2,18137,1,"-","-","-","-",4146,2,"-","-","-","-","-","-","-","-",12955,1,"-","-","-","-","-","-","-","-","-","-","-","-",24048,2,13360,2,"-","-",1306,1,9303,1,11250,1,2326,1,"-","-","-","-","-","-","-","-",38394,3,"-","-","-","-","-","-","-","-","-","-","-","-","-","-","-","-","-","-","-","-","-","-","-","-","-","-","-","-","-","-","-","-","-","-",13618,3,"-","-","-","-","-","-","-","-","-","-","-","-",18157,3,"-","-","-","-","-","-","-","-","-","-","-","-","-","-",9078,1,13298,1,"-","-","-","-","-","-",5632,4,3300,8,"-","-","-","-","-","-","-","-","-","-","-","-","-","-","-","-","-","-","-","-","-","-","-","-","-","-",30937,1,"-","-","-","-","-","-",50359,1,"-","-","-","-","-","-","-","-","-","-","-","-","-","-","-","-","-","-","-","-",20745,1,28488,1,"-",1,"-","-","-","-","-",1,452749,{"$f":"INDEX('Aircraft IDs'!A:G,MATCH(A52,'Aircraft IDs'!A:A,0),7)","v":"Citation"}]
[30,"Business Jet","Light Jet","Hawker 400","Hawker 400","Pratt & Whitney Canada JT15D","-","-",11475,1,"-","-",4590,1,"-","-","-","-","-","-","-","-","-","-",9017,2,"-","-","-","-","-","-","-","-",7515,1,"-","-",11134,2,"-","-","-","-","-","-","-","-","-","-","-","-","-","-","-","-","-","-","-","-",11021,3,12524,3,"-","-","-","-","-","-","-","-","-","-","-","-","-","-","-","-","-","-","-","-","-","-","-","-","-","-","-","-",17675,4,"-","-","-","-","-","-","-","-","-","-",8837,1,"-","-","-","-","-","-","-","-","-","-","-","-","-","-","-","-","-","-","-","-","-","-","-","-","-","-","-","-","-","-","-","-","-","-","-","-","-","-","-","-","-","-","-","-",4146,1,"-","-","-","-","-","-","-","-","-","-","-","-",20728,6,5182,2,18137,1,"-","-","-","-",4146,2,"-","-","-","-","-","-","-","-",12955,1,"-","-","-","-","-","-","-","-","-","-","-","-",24048,2,13360,2,"-","-",1306,1,9303,1,11250,1,2326,1,"-","-","-","-","-","-","-","-",38394,3,"-","-","-","-","-","-","-","-","-","-","-","-","-","-","-","-","-","-","-","-","-","-","-","-","-","-","-","-","-","-","-","-","-","-",13618,3,"-","-","-","-","-","-","-","-","-","-","-","-",18157,3,"-","-","-","-","-","-","-","-","-","-","-","-","-","-",9078,1,13298,1,"-","-","-","-","-","-",5632,4,3300,8,"-","-","-","-","-","-","-","-","-","-","-","-","-","-","-","-","-","-","-","-","-","-","-","-","-","-",30937,1,"-","-","-","-","-","-",50359,1,"-","-","-","-","-","-","-","-","-","-","-","-","-","-","-","-","-","-","-","-",20745,1,28488,1,"-",1,"-","-","-","-","-",1,452749,{"$f":"INDEX('Aircraft IDs'!A:G,MATCH(A53,'Aircraft IDs'!A:A,0),7)","v":"Hawker"}]
[56,"Business Jet","Light Jet","Phenom 300","Embraer Phenom 300","Pratt & Whitney Canada PW535E","-","-",11475,1,"-","-",4590,1,"-","-","-","-","-","-","-","-","-","-",9017,2,"-","-","-","-","-","-","-","-",7515,1,"-","-",11134,2,"-","-","-","-","-","-","-","-","-","-","-","-","-","-","-","-","-","-","-","-",11021,3,12524,3,"-","-","-","-","-","-","-","-","-","-","-","-","-","-","-","-","-","-","-","-","-","-","-","-","-","-","-","-",17675,4,"-","-","-","-","-","-","-","-","-","-",8837,1,"-","-","-","-","-","-","-","-","-","-","-","-","-","-","-","-","-","-","-","-","-","-","-","-","-","-","-","-","-","-","-","-","-","-","-","-","-","-","-","-","-","-","-","-",4146,1,"-","-","-","-","-","-","-","-","-","-","-","-",20728,6,5182,2,18137,1,"-","-","-","-",4146,2,"-","-","-","-","-","-","-","-",12955,1,"-","-","-","-","-","-","-","-","-","-","-","-",24048,2,13360,2,"-","-",1306,1,9303,1,11250,1,2326,1,"-","-","-","-","-","-","-","-",38394,3,"-","-","-","-","-","-","-","-","-","-","-","-","-","-","-","-","-","-","-","-","-","-","-","-","-","-","-","-","-","-","-","-","-","-",13618,3,"-","-","-","-","-","-","-","-","-","-","-","-",18157,3,"-","-","-","-","-","-","-","-","-","-","-","-","-","-",9078,1,13298,1,"-","-","-","-","-","-",5632,4,3300,8,"-","-","-","-","-","-","-","-","-","-","-","-","-","-","-","-","-","-","-","-","-","-","-","-","-","-",30937,1,"-","-","-","-","-","-",50359,1,"-","-","-","-","-","-","-","-","-","-","-","-","-","-","-","-","-","-","-","-",20745,1,28488,1,"-",1,"-","-","-","-","-",1,452749,{"$f":"INDEX('Aircraft IDs'!A:G,MATCH(A54,'Aircraft IDs'!A:A,0),7)","v":"Phenom"}]
[641,"Business Jet","Light Jet","Phenom 300X","Embraer Phenom 300X","Pratt & Whitney Canada PW535E","-","-",11475,1,"-","-",4590,1,"-","-","-","-","-","-","-","-","-","-",9017,2,"-","-","-","-","-","-","-","-",7515,1,"-","-",11134,2,"-","-","-","-","-","-","-","-","-","-","-","-","-","-","-","-","-","-","-","-",11021,3,12524,3,"-","-","-","-","-","-","-","-","-","-","-","-","-","-","-","-","-","-","-","-","-","-","-","-","-","-","-","-",17675,4,"-","-","-","-","-","-","-","-","-","-",8837,1,"-","-","-","-","-","-","-","-","-","-","-","-","-","-","-","-","-","-","-","-","-","-","-","-","-","-","-","-","-","-","-","-","-","-","-","-","-","-","-","-","-","-","-","-",4146,1,"-","-","-","-","-","-","-","-","-","-","-","-",20728,6,5182,2,18137,1,"-","-","-","-",4146,2,"-","-","-","-","-","-","-","-",12955,1,"-","-","-","-","-","-","-","-","-","-","-","-",24048,2,13360,2,"-","-",1306,1,9303,1,11250,1,2326,1,"-","-","-","-","-","-","-","-",38394,3,"-","-","-","-","-","-","-","-","-","-","-","-","-","-","-","-","-","-","-","-","-","-","-","-","-","-","-","-","-","-","-","-","-","-",13618,3,"-","-","-","-","-","-","-","-","-","-","-","-",18157,3,"-","-","-","-","-","-","-","-","-","-","-","-","-","-",9078,1,13298,1,"-","-","-","-","-","-",5632,4,3300,8,"-","-","-","-","-","-","-","-","-","-","-","-","-","-","-","-","-","-","-","-","-","-","-","-","-","-",30937,1,"-","-","-","-","-","-",50359,1,"-","-","-","-","-","-","-","-","-","-","-","-","-","-","-","-","-","-","-","-",20745,1,28488,1,"-",1,"-","-","-","-","-",1,452749,{"$f":"INDEX('Aircraft IDs'!A:G,MATCH(A55,'Aircraft IDs'!A:A,0),7)","v":"Phenom"}]
[34,"Business Jet","Mid Size Jet","Bombardier Challenger 300/350","Bombardier Challenger 300/350","Honeywell HTF7000 ","-","-",17929,1,"-","-",7172,1,"-","-","-","-","-","-","-","-","-","-",14090,2,"-","-","-","-","-","-","-","-",11741,1,"-","-",17395,2,"-","-","-","-","-","-","-","-","-","-","-","-","-","-","-","-","-","-","-","-",17221,3,19569,3,"-","-","-","-","-","-","-","-","-","-","-","-","-","-","-","-","-","-","-","-","-","-","-","-","-","-","-","-",27616,4,"-","-","-","-","-","-","-","-","-","-",13808,1,"-","-","-","-","-","-","-","-","-","-","-","-","-","-","-","-","-","-","-","-","-","-","-","-","-","-","-","-","-","-","-","-","-","-","-","-","-","-","-","-","-","-","-","-",6478,1,"-","-","-","-","-","-","-","-","-","-","-","-",32388,6,8097,2,28340,1,"-","-","-","-",6478,2,"-","-","-","-","-","-","-","-",20243,1,"-","-","-","-","-","-","-","-","-","-","-","-",37575,2,20876,2,"-","-",1800,1,12818,1,15500,1,3204,1,"-","-","-","-","-","-","-","-",59991,3,"-","-","-","-","-","-","-","-","-","-","-","-","-","-","-","-","-","-","-","-","-","-","-","-","-","-","-","-","-","-","-","-","-","-",21277,3,"-","-","-","-","-","-","-","-","-","-","-","-",28369,3,"-","-","-","-","-","-","-","-","-","-","-","-","-","-",14185,1,20833,1,"-","-","-","-","-","-",8800,4,7700,8,"-","-","-","-","-","-","-","-","-","-","-","-","-","-","-","-","-","-","-","-","-","-","-","-","-","-",61873,1,"-","-","-","-","-","-",79315,1,"-","-","-","-","-","-","-","-","-","-","-","-","-","-","-","-","-","-","-","-",32414,1,56977,1,"-",1,"-","-","-","-","-",1,732140,{"$f":"INDEX('Aircraft IDs'!A:G,MATCH(A56,'Aircraft IDs'!A:A,0),7)","v":"Challenger"}]
[649,"Business Jet","Mid Size Jet","Bombardier Challenger 3500","Bombardier Challenger 3500","Honeywell HTF7000 ","-","-",17929,1,"-","-",7172,1,"-","-","-","-","-","-","-","-","-","-",14090,2,"-","-","-","-","-","-","-","-",11741,1,"-","-",17395,2,"-","-","-","-","-","-","-","-","-","-","-","-","-","-","-","-","-","-","-","-",17221,3,19569,3,"-","-","-","-","-","-","-","-","-","-","-","-","-","-","-","-","-","-","-","-","-","-","-","-","-","-","-","-",27616,4,"-","-","-","-","-","-","-","-","-","-",13808,1,"-","-","-","-","-","-","-","-","-","-","-","-","-","-","-","-","-","-","-","-","-","-","-","-","-","-","-","-","-","-","-","-","-","-","-","-","-","-","-","-","-","-","-","-",6478,1,"-","-","-","-","-","-","-","-","-","-","-","-",32388,6,8097,2,28340,1,"-","-","-","-",6478,2,"-","-","-","-","-","-","-","-",20243,1,"-","-","-","-","-","-","-","-","-","-","-","-",37575,2,20876,2,"-","-",1800,1,12818,1,15500,1,3204,1,"-","-","-","-","-","-","-","-",59991,3,"-","-","-","-","-","-","-","-","-","-","-","-","-","-","-","-","-","-","-","-","-","-","-","-","-","-","-","-","-","-","-","-","-","-",21277,3,"-","-","-","-","-","-","-","-","-","-","-","-",28369,3,"-","-","-","-","-","-","-","-","-","-","-","-","-","-",14185,1,20833,1,"-","-","-","-","-","-",8800,4,7700,8,"-","-","-","-","-","-","-","-","-","-","-","-","-","-","-","-","-","-","-","-","-","-","-","-","-","-",61873,1,"-","-","-","-","-","-",79315,1,"-","-","-","-","-","-","-","-","-","-","-","-","-","-","-","-","-","-","-","-",32414,1,56977,1,"-",1,"-","-","-","-","-",1,732140,{"$f":"INDEX('Aircraft IDs'!A:G,MATCH(A57,'Aircraft IDs'!A:A,0),7)","v":"Challenger"}]
[46,"Business Jet","Mid Size Jet","Citation Latitude","Cessna Citation Latitude","Pratt & Whitney Canada PW306D","-","-",17929,1,"-","-",7172,1,"-","-","-","-","-","-","-","-","-","-",14090,2,"-","-","-","-","-","-","-","-",11741,1,"-","-",17395,2,"-","-","-","-","-","-","-","-","-","-","-","-","-","-","-","-","-","-","-","-",17221,3,19569,3,"-","-","-","-","-","-","-","-","-","-","-","-","-","-","-","-","-","-","-","-","-","-","-","-","-","-","-","-",27616,4,"-","-","-","-","-","-","-","-","-","-",13808,1,"-","-","-","-","-","-","-","-","-","-","-","-","-","-","-","-","-","-","-","-","-","-","-","-","-","-","-","-","-","-","-","-","-","-","-","-","-","-","-","-","-","-","-","-",6478,1,"-","-","-","-","-","-","-","-","-","-","-","-",32388,6,8097,2,28340,1,"-","-","-","-",6478,2,"-","-","-","-","-","-","-","-",20243,1,"-","-","-","-","-","-","-","-","-","-","-","-",37575,2,20876,2,"-","-",1452,1,10336,1,12500,1,2584,1,"-","-","-","-","-","-","-","-",59991,3,"-","-","-","-","-","-","-","-","-","-","-","-","-","-","-","-","-","-","-","-","-","-","-","-","-","-","-","-","-","-","-","-","-","-",21277,3,"-","-","-","-","-","-","-","-","-","-","-","-",28369,3,"-","-","-","-","-","-","-","-","-","-","-","-","-","-",14185,1,20833,1,"-","-","-","-","-","-",8800,4,7700,8,"-","-","-","-","-","-","-","-","-","-","-","-","-","-","-","-","-","-","-","-","-","-","-","-","-","-",61873,1,"-","-","-","-","-","-",79315,1,"-","-","-","-","-","-","-","-","-","-","-","-","-","-","-","-","-","-","-","-",32414,1,56977,1,"-",1,"-","-","-","-","-",1,725690,{"$f":"INDEX('Aircraft IDs'!A:G,MATCH(A58,'Aircraft IDs'!A:A,0),7)","v":"Citation"}]
[45,"Business Jet","Mid Size Jet","Citation Sovereign","Cessna Citation Sovereign","Pratt & Whitney Canada PW306D","-","-",17929,1,"-","-",7172,1,"-","-","-","-","-","-","-","-","-","-",14090,2,"-","-","-","-","-","-","-","-",11741,1,"-","-",17395,2,"-","-","-","-","-","-","-","-","-","-","-","-","-","-","-","-","-","-","-","-",17221,3,19569,3,"-","-","-","-","-","-","-","-","-","-","-","-","-","-","-","-","-","-","-","-","-","-","-","-","-","-","-","-",27616,4,"-","-","-","-","-","-","-","-","-","-",13808,1,"-","-","-","-","-","-","-","-","-","-","-","-","-","-","-","-","-","-","-","-","-","-","-","-","-","-","-","-","-","-","-","-","-","-","-","-","-","-","-","-","-","-","-","-",6478,1,"-","-","-","-","-","-","-","-","-","-","-","-",32388,6,8097,2,28340,1,"-","-","-","-",6478,2,"-","-","-","-","-","-","-","-",20243,1,"-","-","-","-","-","-","-","-","-","-","-","-",37575,2,20876,2,"-","-",1452,1,10336,1,12500,1,2584,1,"-","-","-","-","-","-","-","-",59991,3,"-","-","-","-","-","-","-","-","-","-","-","-","-","-","-","-","-","-","-","-","-","-","-","-","-","-","-","-","-","-","-","-","-","-",21277,3,"-","-","-","-","-","-","-","-","-","-","-","-",28369,3,"-","-","-","-","-","-","-","-","-","-","-","-","-","-",14185,1,20833,1,"-","-","-","-","-","-",8800,4,7700,8,"-","-","-","-","-","-","-","-","-","-","-","-","-","-","-","-","-","-","-","-","-","-","-","-","-","-",61873,1,"-","-","-","-","-","-",79315,1,"-","-","-","-","-","-","-","-","-","-","-","-","-","-","-","-","-","-","-","-",32414,1,56977,1,"-",1,"-","-","-","-","-",1,725690,{"$f":"INDEX('Aircraft IDs'!A:G,MATCH(A59,'Aircraft IDs'!A:A,0),7)","v":"Citation"}]
[49,"Business Jet","Mid Size Jet","Citation X","Cessna Citation X","Rolls-Royce AE 3007","-","-",17929,1,"-","-",7172,1,"-","-","-","-","-","-","-","-","-","-",14090,2,"-","-","-","-","-","-","-","-",11741,1,"-","-",17395,2,"-","-","-","-","-","-","-","-","-","-","-","-","-","-","-","-","-","-","-","-",17221,3,19569,3,"-","-","-","-","-","-","-","-","-","-","-","-","-","-","-","-","-","-","-","-","-","-","-","-","-","-","-","-",27616,4,"-","-","-","-","-","-","-","-","-","-",13808,1,"-","-","-","-","-","-","-","-","-","-","-","-","-","-","-","-","-","-","-","-","-","-","-","-","-","-","-","-","-","-","-","-","-","-","-","-","-","-","-","-","-","-","-","-",6478,1,"-","-","-","-","-","-","-","-","-","-","-","-",32388,6,8097,2,28340,1,"-","-","-","-",6478,2,"-","-","-","-","-","-","-","-",20243,1,"-","-","-","-","-","-","-","-","-","-","-","-",37575,2,20876,2,"-","-",1452,1,10336,1,12500,1,2584,1,"-","-","-","-","-","-","-","-",59991,3,"-","-","-","-","-","-","-","-","-","-","-","-","-","-","-","-","-","-","-","-","-","-","-","-","-","-","-","-","-","-","-","-","-","-",21277,3,"-","-","-","-","-","-","-","-","-","-","-","-",28369,3,"-","-","-","-","-","-","-","-","-","-","-","-","-","-",14185,1,20833,1,"-","-","-","-","-","-",8800,4,7700,8,"-","-","-","-","-","-","-","-","-","-","-","-","-","-","-","-","-","-","-","-","-","-","-","-","-","-",61873,1,"-","-","-","-","-","-",79315,1,"-","-","-","-","-","-","-","-","-","-","-","-","-","-","-","-","-","-","-","-",32414,1,56977,1,"-",1,"-","-","-","-","-",1,725690,{"$f":"INDEX('Aircraft IDs'!A:G,MATCH(A60,'Aircraft IDs'!A:A,0),7)","v":"Citation"}]
[40,"Business Jet","Mid Size Jet","Citation XLS","Cessna Citation XLS","Pratt & Whitney Canada PW545C","-","-",17929,1,"-","-",7172,1,"-","-","-","-","-","-","-","-","-","-",14090,2,"-","-","-","-","-","-","-","-",11741,1,"-","-",17395,2,"-","-","-","-","-","-","-","-","-","-","-","-","-","-","-","-","-","-","-","-",17221,3,19569,3,"-","-","-","-","-","-","-","-","-","-","-","-","-","-","-","-","-","-","-","-","-","-","-","-","-","-","-","-",27616,4,"-","-","-","-","-","-","-","-","-","-",13808,1,"-","-","-","-","-","-","-","-","-","-","-","-","-","-","-","-","-","-","-","-","-","-","-","-","-","-","-","-","-","-","-","-","-","-","-","-","-","-","-","-","-","-","-","-",6478,1,"-","-","-","-","-","-","-","-","-","-","-","-",32388,6,8097,2,28340,1,"-","-","-","-",6478,2,"-","-","-","-","-","-","-","-",20243,1,"-","-","-","-","-","-","-","-","-","-","-","-",37575,2,20876,2,"-","-",1452,1,10336,1,12500,1,2584,1,"-","-","-","-","-","-","-","-",59991,3,"-","-","-","-","-","-","-","-","-","-","-","-","-","-","-","-","-","-","-","-","-","-","-","-","-","-","-","-","-","-","-","-","-","-",21277,3,"-","-","-","-","-","-","-","-","-","-","-","-",28369,3,"-","-","-","-","-","-","-","-","-","-","-","-","-","-",14185,1,20833,1,"-","-","-","-","-","-",8800,4,7700,8,"-","-","-","-","-","-","-","-","-","-","-","-","-","-","-","-","-","-","-","-","-","-","-","-","-","-",61873,1,"-","-","-","-","-","-",79315,1,"-","-","-","-","-","-","-","-","-","-","-","-","-","-","-","-","-","-","-","-",32414,1,56977,1,"-",1,"-","-","-","-","-",1,725690,{"$f":"INDEX('Aircraft IDs'!A:G,MATCH(A61,'Aircraft IDs'!A:A,0),7)","v":"Citation"}]
[53,"Business Jet","Mid Size Jet","Falcon 2000","Dassault Falcon 2000","Pratt & Whitney Canada PW308A/C","-","-",17929,1,"-","-",7172,1,"-","-","-","-","-","-","-","-","-","-",14090,2,"-","-","-","-","-","-","-","-",11741,1,"-","-",17395,2,"-","-","-","-","-","-","-","-","-","-","-","-","-","-","-","-","-","-","-","-",17221,3,19569,3,"-","-","-","-","-","-","-","-","-","-","-","-","-","-","-","-","-","-","-","-","-","-","-","-","-","-","-","-",27616,4,"-","-","-","-","-","-","-","-","-","-",13808,1,"-","-","-","-","-","-","-","-","-","-","-","-","-","-","-","-","-","-","-","-","-","-","-","-","-","-","-","-","-","-","-","-","-","-","-","-","-","-","-","-","-","-","-","-",6478,1,"-","-","-","-","-","-","-","-","-","-","-","-",32388,6,8097,2,28340,1,"-","-","-","-",6478,2,"-","-","-","-","-","-","-","-",20243,1,"-","-","-","-","-","-","-","-","-","-","-","-",37575,2,20876,2,"-","-",1800,1,12818,1,15500,1,3204,1,"-","-",72906,2,41660,1,"-","-",59991,3,"-","-","-","-","-","-","-","-","-","-","-","-","-","-","-","-","-","-","-","-","-","-","-","-","-","-","-","-","-","-","-","-","-","-",21277,3,"-","-","-","-","-","-","-","-","-","-","-","-",28369,3,"-","-","-","-","-","-","-","-","-","-","-","-","-","-",14185,1,20833,1,"-","-","-","-","-","-",8800,4,7700,8,"-","-","-","-","-","-","-","-","-","-","-","-","-","-","-","-","-","-","-","-","-","-","-","-","-","-",61873,1,"-","-","-","-","-","-",79315,1,"-","-","-","-","-","-","-","-","-","-","-","-","-","-","-","-","-","-","-","-",32414,1,56977,1,"-",1,"-","-","-","-","-",1,846709,{"$f":"INDEX('Aircraft IDs'!A:G,MATCH(A62,'Aircraft IDs'!A:A,0),7)","v":"Falcon"}]
[640,"Business Jet","Mid Size Jet","Falcon 2X","Dassault Falcon 2X","Pratt & Whitney Canada PW308A/C","-","-",17929,1,"-","-",7172,1,"-","-","-","-","-","-","-","-","-","-",14090,2,"-","-","-","-","-","-","-","-",11741,1,"-","-",17395,2,"-","-","-","-","-","-","-","-","-","-","-","-","-","-","-","-","-","-","-","-",17221,3,19569,3,"-","-","-","-","-","-","-","-","-","-","-","-","-","-","-","-","-","-","-","-","-","-","-","-","-","-","-","-",27616,4,"-","-","-","-","-","-","-","-","-","-",13808,1,"-","-","-","-","-","-","-","-","-","-","-","-","-","-","-","-","-","-","-","-","-","-","-","-","-","-","-","-","-","-","-","-","-","-","-","-","-","-","-","-","-","-","-","-",6478,1,"-","-","-","-","-","-","-","-","-","-","-","-",32388,6,8097,2,28340,1,"-","-","-","-",6478,2,"-","-","-","-","-","-","-","-",20243,1,"-","-","-","-","-","-","-","-","-","-","-","-",37575,2,20876,2,"-","-",1800,1,12818,1,15500,1,3204,1,"-","-","-","-","-","-","-","-",59991,3,"-","-","-","-","-","-","-","-","-","-","-","-","-","-","-","-","-","-","-","-","-","-","-","-","-","-","-","-","-","-","-","-","-","-",21277,3,"-","-","-","-","-","-","-","-","-","-","-","-",28369,3,"-","-","-","-","-","-","-","-","-","-","-","-","-","-",14185,1,20833,1,"-","-","-","-","-","-",8800,4,7700,8,"-","-","-","-","-","-","-","-","-","-","-","-","-","-","-","-","-","-","-","-","-","-","-","-","-","-",61873,1,"-","-","-","-","-","-",79315,1,"-","-","-","-","-","-","-","-","-","-","-","-","-","-","-","-","-","-","-","-",32414,1,56977,1,"-",1,"-","-","-","-","-",1,732140,{"$f":"INDEX('Aircraft IDs'!A:G,MATCH(A63,'Aircraft IDs'!A:A,0),7)","v":"Falcon"}]
[68,"Business Jet","Mid Size Jet","Learjet 60","Learjet 60","Pratt & Whitney Canada PW305A","-","-",17929,1,"-","-",7172,1,"-","-","-","-","-","-","-","-","-","-",14090,2,"-","-","-","-","-","-","-","-",11741,1,"-","-",17395,2,"-","-","-","-","-","-","-","-","-","-","-","-","-","-","-","-","-","-","-","-",17221,3,19569,3,"-","-","-","-","-","-","-","-","-","-","-","-","-","-","-","-","-","-","-","-","-","-","-","-","-","-","-","-",27616,4,"-","-","-","-","-","-","-","-","-","-",13808,1,"-","-","-","-","-","-","-","-","-","-","-","-","-","-","-","-","-","-","-","-","-","-","-","-","-","-","-","-","-","-","-","-","-","-","-","-","-","-","-","-","-","-","-","-",6478,1,"-","-","-","-","-","-","-","-","-","-","-","-",32388,6,8097,2,28340,1,"-","-","-","-",6478,2,"-","-","-","-","-","-","-","-",20243,1,"-","-","-","-","-","-","-","-","-","-","-","-",37575,2,20876,2,"-","-",1800,1,12818,1,15500,1,3204,1,"-","-","-","-","-","-","-","-",59991,3,"-","-","-","-","-","-","-","-","-","-","-","-","-","-","-","-","-","-","-","-","-","-","-","-","-","-","-","-","-","-","-","-","-","-",21277,3,"-","-","-","-","-","-","-","-","-","-","-","-",28369,3,"-","-","-","-","-","-","-","-","-","-","-","-","-","-",14185,1,20833,1,"-","-","-","-","-","-",8800,4,7700,8,"-","-","-","-","-","-","-","-","-","-","-","-","-","-","-","-","-","-","-","-","-","-","-","-","-","-","-","-","-","-","-","-","-","-",79315,1,"-","-","-","-","-","-","-","-","-","-","-","-","-","-","-","-","-","-","-","-",32414,1,56977,1,"-",1,"-","-","-","-","-",1,670266,{"$f":"INDEX('Aircraft IDs'!A:G,MATCH(A69,'Aircraft IDs'!A:A,0),7)","v":"Learjet"}]
[550,"Business Jet","Very Light Jet","Cirrus Vision Jet SF50","Cirrus Vision Jet SF50","Williams FJ33","-","-",5902,1,"-","-",2391,1,"-","-","-","-","-","-","-","-","-","-",4893,2,"-","-","-","-","-","-","-","-",3913,1,"-","-",5654,2,"-","-","-","-","-","-","-","-","-","-","-","-","-","-","-","-","-","-","-","-",5597,3,6360,3,"-","-","-","-","-","-","-","-","-","-","-","-","-","-","-","-","-","-","-","-","-","-","-","-","-","-","-","-",9090,4,"-","-","-","-","-","-","-","-","-","-",4603,1,"-","-","-","-","-","-","-","-","-","-","-","-","-","-","-","-","-","-","-","-","-","-","-","-","-","-","-","-","-","-","-","-","-","-","-","-","-","-","-","-","-","-","-","-",2024,1,"-","-","-","-","-","-","-","-","-","-","-","-",10628,6,2530,2,9210,1,"-","-","-","-",2024,2,"-","-","-","-","-","-","-","-",6578,1,"-","-","-","-","-","-","-","-","-","-","-","-",12314,2,6842,2,"-","-",1103,1,7856,1,9500,1,1964,1,"-","-","-","-","-","-","-","-",2812,3,"-","-","-","-","-","-","-","-","-","-","-","-","-","-","-","-","-","-","-","-","-","-","-","-","-","-","-","-","-","-","-","-","-","-",6973,3,"-","-","-","-","-","-","-","-","-","-","-","-",9300,3,"-","-","-","-","-","-","-","-","-","-","-","-","-","-",4654,1,6915,1,"-","-","-","-","-","-",2750,4,2200,6,"-","-","-","-","-","-","-","-","-","-","-","-","-","-","-","-","-","-","-","-","-","-","-","-","-","-","-","-","-","-","-","-","-","-",23920,1,"-","-","-","-","-","-","-","-","-","-","-","-","-","-","-","-","-","-","-","-",10535,1,15193,1,"-",1,"-","-","-","-","-",1,206293,{"$f":"INDEX('Aircraft IDs'!A:G,MATCH(A74,'Aircraft IDs'!A:A,0),7)","v":"SF50"}]
[180,"Business Jet","Very Light Jet","Nextant 400XT","Nextant Aerospace - Nextant 400XT Aircraft","Williams FJ44-3A","-","-",5902,1,"-","-",2391,1,"-","-","-","-","-","-","-","-","-","-",4893,2,"-","-","-","-","-","-","-","-",3913,1,"-","-",5654,2,"-","-","-","-","-","-","-","-","-","-","-","-","-","-","-","-","-","-","-","-",5597,3,6360,3,"-","-","-","-","-","-","-","-","-","-","-","-","-","-","-","-","-","-","-","-","-","-","-","-","-","-","-","-",9090,4,"-","-","-","-","-","-","-","-","-","-",4603,1,"-","-","-","-","-","-","-","-","-","-","-","-","-","-","-","-","-","-","-","-","-","-","-","-","-","-","-","-","-","-","-","-","-","-","-","-","-","-","-","-","-","-","-","-",2024,1,"-","-","-","-","-","-","-","-","-","-","-","-",10628,6,2530,2,9210,1,"-","-","-","-",2024,2,"-","-","-","-","-","-","-","-",6578,1,"-","-","-","-","-","-","-","-","-","-","-","-",12314,2,6842,2,"-","-",1103,1,7856,1,9500,1,1964,1,"-","-","-","-","-","-","-","-",2812,3,"-","-","-","-","-","-","-","-","-","-","-","-","-","-","-","-","-","-","-","-","-","-","-","-","-","-","-","-","-","-","-","-","-","-",6973,3,"-","-","-","-","-","-","-","-","-","-","-","-",9300,3,"-","-","-","-","-","-","-","-","-","-","-","-","-","-",4654,1,6915,1,"-","-","-","-","-","-",2750,4,2200,6,"-","-","-","-","-","-","-","-","-","-","-","-","-","-","-","-","-","-","-","-","-","-","-","-","-","-","-","-","-","-","-","-","-","-",23920,1,"-","-","-","-","-","-","-","-","-","-","-","-","-","-","-","-","-","-","-","-",10535,1,15193,1,"-",1,"-","-","-","-","-",1,206293,{"$f":"INDEX('Aircraft IDs'!A:G,MATCH(A80,'Aircraft IDs'!A:A,0),7)","v":"Nextant 400XT"}]
[142,"Fighters and Jet Trainers","Attack","Eurofighter Typhoon","Eurofighter Typhoon","Eurojet EJ200","-","-","-","-","-","-","-","-","-","-","-","-","-","-",9784,6,"-","-","-","-","-","-","-","-","-","-","-","-","-","-","-","-","-","-","-","-","-","-",97844,1,"-","-","-","-","-","-","-","-","-","-","-","-","-","-","-","-","-","-","-","-","-","-","-","-","-","-","-","-","-","-","-","-","-","-","-","-","-","-","-","-",69041,1,"-","-","-","-","-","-","-","-","-","-","-","-","-","-","-","-","-","-",40274,2,"-","-","-","-",23014,1,"-","-",17261,1,"-","-","-","-","-","-","-","-","-","-","-","-","-","-","-","-","-","-","-","-","-","-","-","-","-","-","-","-","-","-","-","-","-","-","-","-","-","-","-","-","-","-","-","-","-","-","-","-","-","-","-","-",121454,2,161939,1,"-","-",202424,1,"-","-","-","-",28340,1,"-","-","-","-","-","-","-","-","-","-","-","-","-","-","-","-","-","-","-","-",2177,1,15505,1,18750,1,3876,1,"-","-","-","-","-","-","-","-","-","-",416606,1,"-","-",17498,10,"-","-","-","-","-","-","-","-","-","-","-","-","-","-",223213,2,"-","-",223213,2,"-","-","-","-","-","-","-","-","-","-",106385,1,"-","-","-","-","-","-","-","-","-","-","-","-","-","-","-","-","-","-","-","-","-","-","-","-","-","-","-","-","-","-","-","-","-","-",193869,1,"-","-",27499,4,"-","-","-","-",43999,6,32999,8,"-","-","-","-","-","-","-","-","-","-","-","-","-","-","-","-","-","-","-","-","-","-","-","-","-","-",255570,1,"-","-","-","-","-","-","-","-",184047,1,177261,1,"-","-","-","-","-","-","-","-","-","-","-","-","-","-","-","-","-","-","-","-",2713901,{"$f":"INDEX('Aircraft IDs'!A:G,MATCH(A85,'Aircraft IDs'!A:A,0),7)","v":"Attack"}]
[637,"Fighters and Jet Trainers","Attack","F-18","F-18 A/D","General Electric F404","-","-","-","-","-","-","-","-","-","-","-","-","-","-",9784,6,"-","-","-","-","-","-","-","-","-","-","-","-","-","-","-","-","-","-","-","-","-","-",97844,1,"-","-","-","-","-","-","-","-","-","-","-","-","-","-","-","-","-","-","-","-","-","-","-","-","-","-","-","-","-","-","-","-","-","-","-","-","-","-","-","-",69041,1,"-","-","-","-","-","-","-","-","-","-","-","-","-","-","-","-","-","-",40274,2,"-","-","-","-",23014,1,"-","-",17261,1,"-","-","-","-","-","-","-","-","-","-","-","-","-","-","-","-","-","-","-","-","-","-","-","-","-","-","-","-","-","-","-","-","-","-","-","-","-","-","-","-","-","-","-","-","-","-","-","-","-","-","-","-",121454,2,161939,1,"-","-",202424,1,"-","-","-","-",28340,1,"-","-","-","-","-","-","-","-","-","-","-","-","-","-","-","-","-","-","-","-",2950,1,21004,1,25400,1,5251,1,"-","-","-","-","-","-","-","-","-","-",416606,1,"-","-",17498,10,"-","-","-","-","-","-","-","-","-","-","-","-","-","-",223213,2,"-","-",223213,2,"-","-","-","-","-","-","-","-","-","-",106385,1,"-","-","-","-","-","-","-","-","-","-","-","-","-","-","-","-","-","-","-","-","-","-","-","-","-","-","-","-","-","-","-","-","-","-",193869,1,"-","-",27499,4,"-","-","-","-",43999,6,32999,8,"-","-","-","-","-","-","-","-","-","-","-","-","-","-","-","-","-","-","-","-","-","-","-","-","-","-",255570,1,"-","-","-","-","-","-","-","-",184047,1,177261,1,"-","-","-","-","-","-","-","-","-","-","-","-","-","-","-","-","-","-","-","-",2728198,{"$f":"INDEX('Aircraft IDs'!A:G,MATCH(A90,'Aircraft IDs'!A:A,0),7)","v":"Attack"}]
[585,"Fighters and Jet Trainers","Attack","TAI TF-X","TAI TF-X","General Electric F110","-","-","-","-","-","-","-","-","-","-","-","-","-","-",9784,6,"-","-","-","-","-","-","-","-","-","-","-","-","-","-","-","-","-","-","-","-","-","-",97844,1,"-","-","-","-","-","-","-","-","-","-","-","-","-","-","-","-","-","-","-","-","-","-","-","-","-","-","-","-","-","-","-","-","-","-","-","-","-","-","-","-",69041,1,"-","-","-","-","-","-","-","-","-","-","-","-","-","-","-","-","-","-",40274,2,"-","-","-","-",23014,1,"-","-",17261,1,"-","-","-","-","-","-","-","-","-","-","-","-","-","-","-","-","-","-","-","-","-","-","-","-","-","-","-","-","-","-","-","-","-","-","-","-","-","-","-","-","-","-","-","-","-","-","-","-","-","-","-","-",121454,2,161939,1,"-","-",202424,1,"-","-","-","-",28340,1,"-","-","-","-","-","-","-","-","-","-","-","-","-","-","-","-","-","-","-","-",1684,1,11990,1,14500,1,2998,1,"-","-","-","-","-","-","-","-","-","-",416606,1,"-","-",17498,10,"-","-","-","-","-","-","-","-","-","-","-","-","-","-",223213,2,"-","-",223213,2,"-","-","-","-","-","-","-","-","-","-",106385,1,"-","-","-","-","-","-","-","-","-","-","-","-","-","-","-","-","-","-","-","-","-","-","-","-","-","-","-","-","-","-","-","-","-","-",193869,1,"-","-",27499,4,"-","-","-","-",43999,6,32999,8,"-","-","-","-","-","-","-","-","-","-","-","-","-","-","-","-","-","-","-","-","-","-","-","-","-","-",255570,1,"-","-","-","-","-","-","-","-",184047,1,177261,1,"-","-","-","-","-","-","-","-","-","-","-","-","-","-","-","-","-","-","-","-",2704765,{"$f":"INDEX('Aircraft IDs'!A:G,MATCH(A96,'Aircraft IDs'!A:A,0),7)","v":"Attack"}]
[174,"Fighters and Jet Trainers","Fighters and Jet Trainers","HJT-36 Sitara","HAL HJT-36 Sitara","NPO Saturn AL-551","-","-","-","-","-","-","-","-","-","-","-","-","-","-","-","-","-","-","-","-","-","-","-","-","-","-","-","-","-","-","-","-","-","-","-","-","-","-","-","-","-","-","-","-","-","-","-","-","-","-","-","-","-","-","-","-","-","-","-","-","-","-",68491,1,"-","-","-","-","-","-","-","-","-","-","-","-","-","-","-","-","-","-","-","-","-","-","-","-",74794,1,"-","-","-","-","-","-","-","-","-","-","-","-","-","-","-","-","-","-","-","-","-","-","-","-","-","-","-","-","-","-","-","-","-","-","-","-","-","-","-","-","-","-","-","-",50606,1,75910,1,"-","-","-","-","-","-","-","-","-","-","-","-",70849,1,"-","-","-","-","-","-",60728,3,"-","-","-","-","-","-","-","-","-","-","-","-","-","-","-","-","-","-","-","-","-","-","-","-","-","-","-","-","-","-","-","-","-","-","-","-","-","-",575,1,4094,1,4950,1,1024,1,"-","-","-","-","-","-","-","-","-","-","-","-","-","-","-","-","-","-","-","-","-","-","-","-","-","-","-","-","-","-",111607,2,"-","-","-","-",78124,2,"-","-","-","-","-","-","-","-","-","-","-","-","-","-","-","-","-","-",48760,2,"-","-","-","-","-","-","-","-","-","-","-","-",26597,1,"-","-",17731,1,"-","-","-","-","-","-","-","-","-","-","-","-",49498,3,"-","-","-","-","-","-","-","-","-","-",54998,2,"-","-","-","-","-","-","-","-","-","-","-","-",82497,1,"-","-","-","-","-","-",114566,1,"-","-","-","-","-","-","-","-","-","-","-","-",81034,1,81034,1,"-","-","-","-","-","-","-","-","-","-","-",1,"-","-","-","-",1158497,{"$f":"INDEX('Aircraft IDs'!A:G,MATCH(A101,'Aircraft IDs'!A:A,0),7)","v":"Mil Fighter"}]
[149,"Fighters and Jet Trainers","Stealth","B-21","Northrop Grumman B-21 Raider","Pratt & Whitney F135","-","-","-","-","-","-","-","-","-","-","-","-","-","-",9784,6,"-","-","-","-","-","-","-","-","-","-","-","-","-","-","-","-","-","-","-","-","-","-",97844,1,"-","-","-","-","-","-","-","-","-","-","-","-","-","-","-","-","-","-","-","-","-","-","-","-","-","-","-","-","-","-","-","-","-","-","-","-","-","-","-","-",69041,1,"-","-","-","-","-","-","-","-","-","-","-","-","-","-","-","-","-","-",40274,2,"-","-","-","-",23014,1,"-","-",17261,1,"-","-","-","-","-","-","-","-","-","-","-","-","-","-","-","-","-","-","-","-","-","-","-","-","-","-","-","-","-","-","-","-","-","-","-","-","-","-","-","-","-","-","-","-","-","-","-","-","-","-","-","-",121454,2,161939,1,"-","-",202424,1,"-","-","-","-",28340,1,"-","-","-","-","-","-","-","-","-","-","-","-","-","-","-","-","-","-","-","-",2694,1,19185,1,23200,1,4796,1,"-","-","-","-","-","-","-","-","-","-",416606,1,"-","-",17498,10,"-","-","-","-","-","-","-","-","-","-","-","-","-","-",223213,2,"-","-",279016,1,"-","-","-","-","-","-","-","-","-","-",106385,1,"-","-","-","-","-","-","-","-","-","-","-","-","-","-","-","-","-","-","-","-","-","-","-","-","-","-","-","-","-","-","-","-","-","-",193869,1,"-","-",27499,4,"-","-","-","-",43999,6,32999,8,"-","-","-","-","-","-","-","-","-","-","-","-","-","-","-","-","-","-","-","-","-","-","-","-","-","-",255570,1,"-","-","-","-","-","-","-","-",184047,1,177261,1,"-","-","-","-","-","-","-","-","-","-","-","-","-","-","-","-","-","-","-","-",2779270,{"$f":"INDEX('Aircraft IDs'!A:G,MATCH(A107,'Aircraft IDs'!A:A,0),7)","v":"Stealth"}]
[592,"Freighter","Large Freighters","Boeing 747","Boeing 747-400CF","General Electric CF6-80C2",22412,2,74705,1,"-","-","-","-","-","-",17612,2,24461,1,"-","-","-","-","-","-","-","-","-","-","-","-","-","-",17612,1,"-","-","-","-",17612,2,17612,3,"-","-",4893,1,24461,1,"-","-","-","-","-","-","-","-","-","-","-","-","-","-",7828,3,34245,3,"-","-","-","-",48922,1,"-","-","-","-","-","-","-","-","-","-","-","-","-","-","-","-",34520,2,46027,1,"-","-","-","-","-","-",34520,2,"-","-",23014,1,"-","-","-","-","-","-","-","-",20712,1,"-","-",28767,1,"-","-","-","-",10121,1,10121,1,"-","-","-","-",25303,2,"-","-","-","-",70849,3,"-","-","-","-","-","-","-","-",15182,1,"-","-",25303,1,"-","-","-","-","-","-",30364,1,"-","-","-","-",50606,6,"-","-","-","-","-","-","-","-","-","-","-","-","-","-","-","-","-","-",45546,2,"-","-","-","-","-","-","-","-",52188,2,117423,2,41750,3,31313,1,6967,1,49616,1,60000,1,12404,1,78114,2,"-","-","-","-","-","-","-","-","-","-","-","-","-","-","-","-","-","-","-","-","-","-","-","-","-","-","-","-","-","-","-","-","-","-","-","-","-","-",44327,3,"-","-",13298,8,"-","-","-","-","-","-","-","-","-","-","-","-","-","-","-","-","-","-","-","-","-","-",44327,2,"-","-","-","-",15958,2,"-","-","-","-",13298,2,"-","-",10999,8,"-","-","-","-","-","-","-","-","-","-","-","-","-","-","-","-","-","-","-","-","-","-","-","-","-","-","-","-",44879,1,8800,6,82497,1,38499,1,190104,1,"-","-","-","-",30388,2,"-","-","-","-","-","-",42542,1,"-","-","-","-","-","-","-","-","-","-","-","-","-",1,"-",1,"-",1,1813123,{"$f":"INDEX('Aircraft IDs'!A:G,MATCH(A112,'Aircraft IDs'!A:A,0),7)","v":"B747"}]
[567,"Freighter","Large Freighters","Boeing 747","Boeing 747-8F","General Electric GEnx-2B",22412,2,74705,1,"-","-",48559,2,"-","-",11741,2,"-","-","-","-","-","-","-","-","-","-","-","-","-","-","-","-",19569,1,24461,1,"-","-",17612,2,17612,2,"-","-",4893,1,19569,1,"-","-",34245,1,"-","-","-","-","-","-","-","-","-","-",7828,1,"-","-","-","-",24461,2,48922,1,"-","-","-","-","-","-","-","-","-","-","-","-","-","-","-","-",34520,2,"-","-","-","-","-","-","-","-",34520,2,9205,1,23014,1,"-","-","-","-","-","-","-","-",27616,1,"-","-",28767,1,20243,1,"-","-","-","-",10121,1,50606,1,"-","-","-","-","-","-","-","-",50606,2,"-","-","-","-","-","-","-","-",20243,1,"-","-",30364,1,"-","-",111333,2,"-","-",35424,1,"-","-","-","-",60728,5,"-","-","-","-","-","-","-","-","-","-","-","-","-","-","-","-","-","-","-","-","-","-","-","-","-","-","-","-","-","-",117423,2,41750,2,15657,1,6967,1,49616,1,60000,1,12404,1,78114,2,156228,2,156228,1,"-","-","-","-","-","-","-","-",26038,14,"-","-","-","-","-","-","-","-","-","-","-","-","-","-","-","-","-","-","-","-","-","-","-","-","-","-",31029,2,17731,6,"-","-","-","-",10638,2,"-","-","-","-","-","-","-","-","-","-",13298,2,"-","-",39894,2,44327,2,"-","-","-","-",13298,2,"-","-","-","-","-","-","-","-",13200,14,"-","-","-","-","-","-","-","-","-","-","-","-","-","-","-","-","-","-","-","-","-","-","-","-","-","-","-","-",48179,1,"-","-",82497,1,38499,1,261865,1,"-","-","-","-",30388,2,"-","-","-","-","-","-",42542,1,"-","-",43555,1,"-","-","-","-","-","-","-","-","-",1,"-",1,"-",1,2375378,{"$f":"INDEX('Aircraft IDs'!A:G,MATCH(A117,'Aircraft IDs'!A:A,0),7)","v":"B747"}]
[664,"Freighter","Large Freighters","Boeing 777","Boeing 777-300 ERSF","General Electric GE90-115B",11206,2,59764,1,"-","-",48559,2,"-","-",11741,2,"-","-","-","-","-","-","-","-","-","-","-","-","-","-","-","-",19569,1,24461,1,"-","-",17612,2,17612,2,"-","-",4893,1,19569,1,"-","-",34245,1,"-","-","-","-","-","-","-","-","-","-",7828,1,"-","-","-","-",24461,2,48922,1,"-","-","-","-","-","-","-","-","-","-","-","-","-","-","-","-",34520,2,"-","-","-","-","-","-","-","-",34520,2,9205,1,23014,1,"-","-","-","-","-","-","-","-",27616,1,"-","-",28767,1,20243,1,"-","-","-","-",10121,1,50606,1,"-","-","-","-","-","-","-","-",50606,2,"-","-","-","-","-","-","-","-",20243,1,"-","-",30364,1,"-","-",111333,2,"-","-",35424,1,"-","-","-","-",85018,5,"-","-","-","-","-","-","-","-","-","-","-","-","-","-","-","-","-","-","-","-","-","-","-","-","-","-","-","-","-","-",117423,2,41750,2,15657,1,4470,1,31837,1,38500,1,7959,1,78114,2,182270,2,156228,1,"-","-","-","-","-","-","-","-",26038,14,"-","-","-","-","-","-","-","-","-","-","-","-","-","-","-","-","-","-","-","-","-","-","-","-","-","-",31029,2,13298,6,"-","-","-","-",10638,2,"-","-","-","-","-","-","-","-","-","-",13298,2,"-","-",39894,2,44327,2,"-","-","-","-",13298,2,"-","-","-","-","-","-","-","-",13200,14,"-","-","-","-","-","-","-","-","-","-","-","-","-","-","-","-","-","-","-","-","-","-","-","-","-","-","-","-",48179,1,"-","-",82497,1,49498,1,261865,1,"-","-","-","-",42542,2,"-","-","-","-","-","-",48620,1,"-","-",43555,1,"-","-","-","-","-","-","-","-","-",1,"-",1,"-",1,2378140,{"$f":"INDEX('Aircraft IDs'!A:G,MATCH(A118,'Aircraft IDs'!A:A,0),7)","v":"B777"}]
[566,"Freighter","Medium Widebody Freighters","A300","Airbus A300-600ST Beluga","General Electric CF6-80A2",22412,2,74705,1,"-","-","-","-","-","-",17612,2,24461,1,"-","-","-","-","-","-","-","-","-","-","-","-","-","-",17612,1,"-","-","-","-",17612,2,17612,3,"-","-",4893,1,24461,1,"-","-","-","-","-","-","-","-","-","-","-","-","-","-",7828,3,34245,3,"-","-","-","-",48922,1,"-","-","-","-","-","-","-","-","-","-","-","-","-","-","-","-",34520,2,46027,1,"-","-","-","-","-","-",34520,2,"-","-",23014,1,"-","-","-","-","-","-","-","-",20712,1,"-","-",28767,1,"-","-","-","-",10121,1,10121,1,"-","-","-","-",25303,2,"-","-","-","-",70849,3,"-","-","-","-","-","-","-","-",15182,1,"-","-",25303,1,"-","-","-","-","-","-",30364,1,"-","-","-","-",50606,6,"-","-","-","-","-","-","-","-","-","-","-","-","-","-","-","-","-","-",45546,2,"-","-","-","-","-","-","-","-",52188,2,117423,2,41750,3,31313,1,2787,1,19846,1,24000,1,4962,1,"-","-","-","-","-","-","-","-","-","-","-","-","-","-","-","-","-","-","-","-","-","-","-","-","-","-","-","-","-","-","-","-","-","-","-","-","-","-","-","-",44327,3,"-","-",13298,8,"-","-","-","-","-","-","-","-","-","-","-","-","-","-","-","-","-","-","-","-","-","-",44327,2,"-","-","-","-",15958,2,"-","-","-","-",13298,2,"-","-",10999,8,"-","-","-","-","-","-","-","-","-","-","-","-","-","-","-","-","-","-","-","-","-","-","-","-","-","-","-","-",44879,1,8800,6,"-","-",38499,1,190104,1,"-","-","-","-",30388,2,"-","-","-","-","-","-",42542,1,"-","-","-","-","-","-","-","-","-","-","-","-","-",1,"-",1,"-",1,1575117,{"$f":"INDEX('Aircraft IDs'!A:G,MATCH(A123,'Aircraft IDs'!A:A,0),7)","v":"A300"}]
[564,"Freighter","Medium Widebody Freighters","A330","Airbus A330-300P2F","Rolls-Royce Trent 700",22412,2,59764,1,"-","-","-","-","-","-",17612,2,24461,1,"-","-","-","-","-","-","-","-","-","-","-","-","-","-",17612,1,"-","-","-","-",17612,2,17612,3,"-","-",4893,1,24461,1,"-","-","-","-","-","-","-","-","-","-","-","-","-","-",7828,3,34245,3,"-","-","-","-",48922,1,"-","-","-","-","-","-","-","-","-","-","-","-","-","-","-","-",34520,2,46027,1,"-","-","-","-","-","-",34520,2,"-","-",23014,1,"-","-","-","-","-","-","-","-",20712,1,"-","-",28767,1,"-","-","-","-",10121,1,10121,1,"-","-","-","-",25303,2,"-","-","-","-",70849,3,"-","-","-","-","-","-","-","-",15182,1,"-","-",25303,1,"-","-","-","-","-","-",30364,1,"-","-","-","-",70849,6,"-","-","-","-","-","-","-","-","-","-","-","-","-","-","-","-","-","-",30364,2,"-","-","-","-","-","-","-","-",52188,2,97461,2,41750,3,31313,1,3890,1,27702,1,33500,1,6926,1,104151,2,"-","-","-","-","-","-","-","-","-","-","-","-","-","-","-","-","-","-","-","-","-","-","-","-","-","-","-","-","-","-","-","-","-","-","-","-","-","-",44327,3,"-","-",10638,8,"-","-","-","-","-","-","-","-","-","-","-","-","-","-","-","-","-","-","-","-","-","-",44327,2,"-","-","-","-",15958,2,"-","-","-","-",13298,2,"-","-",10999,8,"-","-","-","-","-","-","-","-","-","-","-","-","-","-","-","-","-","-","-","-","-","-","-","-","-","-","-","-",44879,1,8800,6,82497,1,49498,1,190104,1,"-","-","-","-",35452,2,"-","-","-","-","-","-",45581,1,"-","-","-","-","-","-","-","-","-","-","-","-","-",1,"-",1,"-",1,1768791,{"$f":"INDEX('Aircraft IDs'!A:G,MATCH(A128,'Aircraft IDs'!A:A,0),7)","v":"A330"}]
[665,"Freighter","Standard body Freighters","A320ceo","A320-200P2F","CFM International CFM56 - CFM56-5A",14941,2,56029,1,"-","-","-","-","-","-",13699,2,"-","-","-","-","-","-","-","-",5871,2,9784,1,"-","-","-","-",19569,1,"-","-","-","-",11741,2,11741,2,"-","-",5871,1,"-","-","-","-","-","-","-","-","-","-","-","-","-","-","-","-",5871,1,5871,2,"-","-","-","-","-","-","-","-","-","-","-","-","-","-",20712,1,17261,1,"-","-","-","-",11506,2,"-","-","-","-","-","-","-","-",23014,2,9205,1,17261,1,"-","-","-","-","-","-","-","-",28767,1,"-","-","-","-",15182,1,"-","-",8097,1,8097,1,"-","-","-","-","-","-",12145,1,"-","-",30364,3,"-","-","-","-",7085,2,30364,2,8097,2,"-","-","-","-","-","-",75910,1,"-","-",28340,1,"-","-","-","-","-","-",45546,2,"-","-","-","-","-","-","-","-","-","-",45546,2,"-","-","-","-",15182,2,20876,1,26094,2,12525,3,"-","-",10437,2,46970,2,26094,2,"-","-",2903,1,20674,1,25000,1,5168,1,"-","-","-","-","-","-","-","-","-","-","-","-","-","-","-","-","-","-","-","-","-","-","-","-","-","-","-","-","-","-","-","-","-","-","-","-","-","-","-","-",31029,3,"-","-",10638,8,"-","-","-","-",12412,2,"-","-","-","-","-","-","-","-","-","-","-","-","-","-","-","-",44327,1,"-","-","-","-","-","-","-","-","-","-","-","-","-","-",8800,12,"-","-","-","-","-","-","-","-","-","-","-","-","-","-","-","-","-","-","-","-","-","-","-","-","-","-","-","-","-","-","-","-","-","-",43999,1,137227,1,"-","-",6078,1,30388,2,"-","-","-","-","-","-",24310,1,"-","-","-","-","-","-","-","-","-","-","-",2,"-",1,"-",1,"-",1,1164718,{"$f":"INDEX('Aircraft IDs'!A:G,MATCH(A134,'Aircraft IDs'!A:A,0),7)","v":"A320"}]
[571,"Freighter","Standard body Freighters","Boeing 737NG","Boeing 737-700/-800CF","CFM International CFM56 - 7B",14941,2,56029,1,"-","-","-","-","-","-",13699,2,"-","-","-","-","-","-","-","-",5871,2,9784,1,"-","-","-","-",19569,1,"-","-","-","-",11741,2,11741,2,"-","-",5871,1,"-","-","-","-","-","-","-","-","-","-","-","-","-","-","-","-",5871,1,5871,2,"-","-","-","-","-","-","-","-","-","-","-","-","-","-",20712,1,17261,1,"-","-","-","-",11506,2,"-","-","-","-","-","-","-","-",23014,2,9205,1,17261,1,"-","-","-","-","-","-","-","-",28767,1,"-","-","-","-",15182,1,"-","-",8097,1,8097,1,"-","-","-","-","-","-",12145,1,"-","-",30364,3,"-","-","-","-",7085,2,30364,2,8097,2,"-","-","-","-","-","-",75910,1,"-","-",28340,1,"-","-","-","-","-","-",45546,2,"-","-","-","-","-","-","-","-","-","-",45546,2,"-","-","-","-",15182,2,20876,1,26094,2,12525,3,"-","-",10437,2,46970,2,26094,2,"-","-",2903,1,20674,1,25000,1,5168,1,"-","-","-","-","-","-","-","-","-","-","-","-","-","-","-","-","-","-","-","-","-","-","-","-","-","-","-","-","-","-","-","-","-","-","-","-","-","-","-","-",31029,3,"-","-",10638,8,"-","-","-","-",12412,2,"-","-","-","-","-","-","-","-","-","-","-","-","-","-","-","-",44327,1,"-","-","-","-","-","-","-","-","-","-","-","-","-","-",8800,12,"-","-","-","-","-","-","-","-","-","-","-","-","-","-","-","-","-","-","-","-","-","-","-","-","-","-","-","-","-","-","-","-","-","-",43999,1,137227,1,"-","-",6078,1,30388,2,"-","-","-","-","-","-",24310,1,"-","-","-","-","-","-","-","-","-","-","-",2,"-",1,"-",1,"-",1,1164718,{"$f":"INDEX('Aircraft IDs'!A:G,MATCH(A139,'Aircraft IDs'!A:A,0),7)","v":"B737"}]
[667,"Freighter","Turboprop Freighters","ATR 42/72","ATR 72/42 Freighter Conversion","Pratt & Whitney Canada PW120",8965,2,33617,1,"-","-","-","-","-","-",8219,2,"-","-","-","-","-","-","-","-",3523,2,5870,1,"-","-","-","-",11741,1,"-","-","-","-",7045,2,7045,2,"-","-",3523,1,"-","-","-","-","-","-","-","-","-","-","-","-","-","-","-","-",3523,1,3523,2,"-","-","-","-","-","-","-","-","-","-","-","-","-","-",12427,1,10357,1,"-","-","-","-",6904,2,"-","-","-","-","-","-","-","-",13808,2,5523,1,10357,1,"-","-","-","-","-","-","-","-",17260,1,"-","-","-","-",9109,1,"-","-",4858,1,4858,1,"-","-","-","-","-","-",7287,1,"-","-",18218,2,"-","-","-","-",4251,2,18218,2,4858,2,"-","-","-","-","-","-",45546,1,"-","-",17004,1,"-","-","-","-","-","-",27328,2,"-","-","-","-","-","-","-","-","-","-",27328,2,"-","-","-","-",9109,2,12526,1,15656,2,7515,2,"-","-",6262,2,28182,2,15656,2,"-","-",1742,1,12404,1,15000,1,3101,1,"-","-","-","-","-","-","-","-","-","-","-","-","-","-","-","-","-","-","-","-","-","-","-","-","-","-","-","-","-","-","-","-","-","-","-","-","-","-","-","-",18617,2,"-","-",6383,7,"-","-","-","-",7447,2,"-","-","-","-","-","-","-","-","-","-","-","-","-","-","-","-",26596,1,"-","-","-","-","-","-","-","-","-","-","-","-","-","-",5280,8,"-","-","-","-","-","-","-","-","-","-","-","-","-","-","-","-","-","-","-","-","-","-","-","-","-","-","-","-","-","-","-","-","-","-",26399,1,82336,1,"-","-",3647,1,18233,2,"-","-","-","-","-","-",14586,1,"-","-","-","-","-","-","-","-","-","-","-",1,"-",1,"-",1,"-",1,698861,{"$f":"INDEX('Aircraft IDs'!A:G,MATCH(A145,'Aircraft IDs'!A:A,0),7)","v":"ATR"}]
[132,"Helicopter","Attack","Future Attack Reconnaissance Aircraft","Bell V-280 Valor ","Rolls-Royce 1107","-","-",59764,1,"-","-","-","-","-","-","-","-","-","-","-","-","-","-","-","-","-","-","-","-","-","-","-","-","-","-","-","-","-","-","-","-","-","-","-","-","-","-","-","-","-","-","-","-",53814,1,"-","-","-","-","-","-","-","-","-","-","-","-","-","-","-","-","-","-",24461,1,"-","-","-","-","-","-","-","-","-","-","-","-","-","-","-","-","-","-","-","-","-","-","-","-","-","-","-","-","-","-","-","-",34520,1,28767,1,"-","-","-","-","-","-","-","-","-","-","-","-","-","-","-","-","-","-","-","-","-","-","-","-","-","-","-","-","-","-","-","-","-","-","-","-","-","-","-","-","-","-",25303,2,"-","-","-","-",25303,1,"-","-","-","-",50606,2,"-","-","-","-","-","-","-","-",101212,1,20243,1,"-","-","-","-","-","-","-","-","-","-","-","-","-","-","-","-","-","-","-","-","-","-","-","-",3338,1,23774,1,28750,1,5944,1,"-","-","-","-","-","-","-","-","-","-","-","-","-","-","-","-","-","-",44643,1,"-","-","-","-","-","-",83705,1,"-","-",111607,2,78124,1,"-","-","-","-","-","-","-","-","-","-","-","-","-","-","-","-","-","-",53193,2,"-","-","-","-","-","-","-","-","-","-","-","-","-","-","-","-","-","-","-","-","-","-","-","-","-","-","-","-","-","-","-","-","-","-","-","-","-","-","-","-","-","-",76997,1,"-","-","-","-",43999,1,82497,1,"-","-","-","-",54998,1,43999,2,"-","-","-","-","-","-","-","-",114566,1,"-","-","-","-","-","-","-","-","-","-",121551,1,"-","-","-","-","-","-","-","-",98253,1,"-","-","-","-","-","-","-","-","-","-",1493963,{"$f":"INDEX('Aircraft IDs'!A:G,MATCH(A150,'Aircraft IDs'!A:A,0),7)","v":"Attack Helo"}]
[646,"Helicopter","Transport & Utility","412X","Bell 412X","Pratt & Whitney Canada PT6T","-","-","-","-",39220,1,"-","-","-","-","-","-","-","-","-","-","-","-","-","-","-","-","-","-","-","-","-","-","-","-","-","-","-","-","-","-","-","-","-","-","-","-","-","-","-","-","-","-","-","-","-","-",44030,0,"-","-","-","-","-","-","-","-","-","-","-","-","-","-","-","-","-","-","-","-","-","-","-","-","-","-","-","-",20137,1,"-","-","-","-","-","-","-","-","-","-","-","-","-","-","-","-","-","-","-","-","-","-","-","-","-","-","-","-","-","-","-","-",31882,1,"-","-","-","-","-","-","-","-","-","-","-","-","-","-",31882,1,"-","-","-","-","-","-","-","-","-","-","-","-","-","-",14169,2,"-","-","-","-","-","-","-","-","-","-",31882,4,"-","-","-","-","-","-","-","-","-","-","-","-","-","-",17712,1,"-","-","-","-","-","-","-","-","-","-","-","-","-","-","-","-","-","-","-","-",118,1,844,1,1020,1,211,1,"-","-","-","-","-","-","-","-","-","-","-","-","-","-","-","-","-","-","-","-","-","-","-","-","-","-","-","-","-","-","-","-","-","-","-","-","-","-","-","-","-","-","-","-",21720,2,"-","-","-","-","-","-",18617,2,"-","-","-","-","-","-","-","-","-","-","-","-","-","-","-","-","-","-","-","-","-","-","-","-","-","-","-","-","-","-","-","-",32999,2,"-","-","-","-","-","-","-","-","-","-","-","-","-","-","-","-","-","-","-","-","-","-","-","-","-","-",28599,1,"-","-","-","-",30799,1,46581,1,"-","-","-","-","-","-","-","-","-","-","-","-",21676,1,"-","-","-","-","-","-","-","-","-","-","-","-","-",1,"-","-","-","-",434124,{"$f":"INDEX('Aircraft IDs'!A:G,MATCH(A155,'Aircraft IDs'!A:A,0),7)","v":"Helo"}]
[93,"Helicopter","Transport & Utility","Bell 525 Relentless","Bell 525 Relentless","General Electric T700","-","-","-","-",39220,1,"-","-","-","-","-","-","-","-","-","-","-","-","-","-","-","-","-","-","-","-","-","-","-","-","-","-","-","-","-","-","-","-","-","-","-","-","-","-","-","-","-","-","-","-","-","-",44030,0,"-","-","-","-","-","-","-","-","-","-","-","-","-","-","-","-","-","-","-","-","-","-","-","-","-","-","-","-",20137,1,"-","-","-","-","-","-","-","-","-","-","-","-","-","-","-","-","-","-","-","-","-","-","-","-","-","-","-","-","-","-","-","-",31882,1,"-","-","-","-","-","-","-","-","-","-","-","-","-","-",31882,1,"-","-","-","-","-","-","-","-","-","-","-","-","-","-",14169,2,"-","-","-","-","-","-","-","-","-","-",31882,4,"-","-","-","-","-","-","-","-","-","-","-","-","-","-",17712,1,"-","-","-","-","-","-","-","-","-","-","-","-","-","-","-","-","-","-","-","-",70,1,496,1,600,1,124,1,"-","-","-","-","-","-","-","-","-","-","-","-","-","-","-","-","-","-","-","-","-","-","-","-","-","-","-","-","-","-","-","-","-","-","-","-","-","-","-","-","-","-","-","-",21720,2,"-","-","-","-","-","-",18617,2,"-","-","-","-","-","-","-","-","-","-","-","-","-","-","-","-","-","-","-","-","-","-","-","-","-","-","-","-","-","-","-","-",32999,2,"-","-","-","-","-","-","-","-","-","-","-","-","-","-","-","-","-","-","-","-","-","-","-","-","-","-",54998,1,"-","-","-","-",30799,1,49099,1,"-","-","-","-","-","-","-","-","-","-","-","-",21676,1,"-","-","-","-","-","-","-","-","-","-","-","-","-",1,"-","-","-","-",462138,{"$f":"INDEX('Aircraft IDs'!A:G,MATCH(A161,'Aircraft IDs'!A:A,0),7)","v":"Helo"}]
[108,"Helicopter","Transport & Utility","H130","Airbus H130","Turbomeca Arriel","-","-","-","-",19222,1,"-","-","-","-","-","-","-","-","-","-","-","-","-","-","-","-","-","-","-","-","-","-","-","-","-","-","-","-","-","-","-","-","-","-","-","-","-","-","-","-","-","-","-","-","-","-",44030,0,"-","-","-","-","-","-","-","-","-","-","-","-","-","-","-","-","-","-","-","-","-","-","-","-","-","-","-","-",9873,1,"-","-","-","-","-","-","-","-","-","-","-","-","-","-","-","-","-","-","-","-","-","-","-","-","-","-","-","-","-","-","-","-",15627,1,"-","-","-","-","-","-","-","-","-","-","-","-","-","-",15627,1,"-","-","-","-","-","-","-","-","-","-","-","-","-","-",6943,2,"-","-","-","-","-","-","-","-","-","-",15627,4,"-","-","-","-","-","-","-","-","-","-","-","-","-","-",8684,1,"-","-","-","-","-","-","-","-","-","-","-","-","-","-","-","-","-","-","-","-",90,1,645,1,780,1,161,1,"-","-","-","-","-","-","-","-","-","-","-","-","-","-","-","-","-","-","-","-","-","-","-","-","-","-","-","-","-","-","-","-","-","-","-","-","-","-","-","-","-","-","-","-",10648,2,"-","-","-","-","-","-",9087,2,"-","-","-","-","-","-","-","-","-","-","-","-","-","-","-","-","-","-","-","-","-","-","-","-","-","-","-","-","-","-","-","-",32999,2,"-","-","-","-","-","-","-","-","-","-","-","-","-","-","-","-","-","-","-","-","-","-","-","-","-","-",28599,1,"-","-","-","-",15102,1,23920,1,"-","-","-","-","-","-","-","-","-","-","-","-",10636,1,"-","-","-","-","-","-","-","-","-","-","-","-","-",1,"-","-","-","-",268326,{"$f":"INDEX('Aircraft IDs'!A:G,MATCH(A166,'Aircraft IDs'!A:A,0),7)","v":"Helo"}]
[102,"Helicopter","Transport & Utility","H175","Airbus H175","Pratt & Whitney Canada PT6C","-","-","-","-",56029,1,"-","-","-","-","-","-","-","-","-","-","-","-","-","-","-","-","-","-","-","-","-","-","-","-","-","-","-","-","-","-","-","-","-","-","-","-","-","-","-","-","-","-","-","-","-","-",44030,0,"-","-","-","-","-","-","-","-","-","-","-","-","-","-","-","-","-","-","-","-","-","-","-","-","-","-","-","-",28767,1,"-","-","-","-","-","-","-","-","-","-","-","-","-","-","-","-","-","-","-","-","-","-","-","-","-","-","-","-","-","-","-","-",45546,1,"-","-","-","-","-","-","-","-","-","-","-","-","-","-",40485,1,"-","-","-","-","-","-","-","-","-","-","-","-","-","-",25303,2,"-","-","-","-","-","-","-","-","-","-",45546,4,"-","-","-","-","-","-","-","-","-","-","-","-","-","-",25303,1,"-","-","-","-","-","-","-","-","-","-","-","-","-","-","-","-","-","-","-","-",154,1,1092,1,1320,1,273,1,"-","-","-","-","-","-","-","-","-","-","-","-","-","-","-","-","-","-","-","-","-","-","-","-","-","-","-","-","-","-","-","-","-","-","-","-","-","-","-","-","-","-","-","-",22164,2,"-","-","-","-","-","-",31029,2,"-","-","-","-","-","-","-","-","-","-","-","-","-","-","-","-","-","-","-","-","-","-","-","-","-","-","-","-","-","-","-","-",32999,2,"-","-","-","-","-","-","-","-","-","-","-","-","-","-","-","-","-","-","-","-","-","-","-","-","-","-",54998,1,"-","-","-","-",43999,1,67985,1,"-","-","-","-","-","-","-","-","-","-","-","-",30388,1,"-","-","-","-","-","-","-","-","-","-","-","-","-",1,"-","-","-","-",597436,{"$f":"INDEX('Aircraft IDs'!A:G,MATCH(A172,'Aircraft IDs'!A:A,0),7)","v":"Helo"}]
[490,"Helicopter","Transport & Utility","HAL Dhruv","HAL Dhruv","Turbomeca TM 333","-","-",59764,1,"-","-","-","-","-","-","-","-","-","-","-","-","-","-","-","-","-","-","-","-","-","-","-","-","-","-","-","-","-","-","-","-","-","-","-","-","-","-","-","-","-","-","-","-",53814,1,"-","-","-","-","-","-","-","-","-","-","-","-","-","-","-","-","-","-",24461,1,"-","-","-","-","-","-","-","-","-","-","-","-","-","-","-","-","-","-","-","-","-","-","-","-","-","-","-","-","-","-","-","-",34520,1,28767,1,"-","-","-","-","-","-","-","-","-","-","-","-","-","-","-","-","-","-","-","-","-","-","-","-","-","-","-","-","-","-","-","-","-","-","-","-","-","-","-","-","-","-",16194,2,"-","-","-","-",25303,1,"-","-","-","-",31882,2,"-","-","-","-","-","-","-","-",101212,1,20243,1,"-","-","-","-","-","-","-","-","-","-","-","-","-","-","-","-","-","-","-","-","-","-","-","-",300,1,2134,1,2580,1,534,1,"-","-","-","-","-","-","-","-","-","-","-","-","-","-","-","-","-","-",44643,1,"-","-","-","-","-","-",83705,1,"-","-",111607,2,78124,1,"-","-","-","-","-","-","-","-","-","-","-","-","-","-","-","-","-","-",29788,2,"-","-","-","-","-","-","-","-","-","-","-","-","-","-","-","-","-","-","-","-","-","-","-","-","-","-","-","-","-","-","-","-","-","-","-","-","-","-","-","-","-","-",76997,1,"-","-","-","-",43999,1,82497,1,"-","-","-","-",54998,1,43999,2,"-","-","-","-","-","-","-","-",39028,1,"-","-","-","-","-","-","-","-","-","-",121551,1,"-","-","-","-","-","-","-","-",98253,1,"-","-","-","-","-","-","-","-","-","-",1310929,{"$f":"INDEX('Aircraft IDs'!A:G,MATCH(A177,'Aircraft IDs'!A:A,0),7)","v":"Helo"}]
[223,"Helicopter","Transport & Utility","Kawasaki BK 117","Kawasaki BK 117","Turbomeca Arriel","-","-","-","-",19222,1,"-","-","-","-","-","-","-","-","-","-","-","-","-","-","-","-","-","-","-","-","-","-","-","-","-","-","-","-","-","-","-","-","-","-","-","-","-","-","-","-","-","-","-","-","-","-",44030,0,"-","-","-","-","-","-","-","-","-","-","-","-","-","-","-","-","-","-","-","-","-","-","-","-","-","-","-","-",9873,1,"-","-","-","-","-","-","-","-","-","-","-","-","-","-","-","-","-","-","-","-","-","-","-","-","-","-","-","-","-","-","-","-",15627,1,"-","-","-","-","-","-","-","-","-","-","-","-","-","-",15627,1,"-","-","-","-","-","-","-","-","-","-","-","-","-","-",6943,2,"-","-","-","-","-","-","-","-","-","-",15627,4,"-","-","-","-","-","-","-","-","-","-","-","-","-","-",8684,1,"-","-","-","-","-","-","-","-","-","-","-","-","-","-","-","-","-","-","-","-",300,1,2134,1,2580,1,534,1,"-","-","-","-","-","-","-","-","-","-","-","-","-","-","-","-","-","-","-","-","-","-","-","-","-","-","-","-","-","-","-","-","-","-","-","-","-","-","-","-","-","-","-","-",10648,2,"-","-","-","-","-","-",9087,2,"-","-","-","-","-","-","-","-","-","-","-","-","-","-","-","-","-","-","-","-","-","-","-","-","-","-","-","-","-","-","-","-",32999,2,"-","-","-","-","-","-","-","-","-","-","-","-","-","-","-","-","-","-","-","-","-","-","-","-","-","-",54998,1,"-","-","-","-",15102,1,26439,1,"-","-","-","-","-","-","-","-","-","-","-","-",10636,1,"-","-","-","-","-","-","-","-","-","-","-","-","-",1,"-","-","-","-",301116,{"$f":"INDEX('Aircraft IDs'!A:G,MATCH(A182,'Aircraft IDs'!A:A,0),7)","v":"Helo"}]
[118,"Helicopter","Transport & Utility","Kawasaki OH-1","Kawasaki OH-1","Mitsubishi TS1","-","-",59764,1,"-","-","-","-","-","-","-","-","-","-","-","-","-","-","-","-","-","-","-","-","-","-","-","-","-","-","-","-","-","-","-","-","-","-","-","-","-","-","-","-","-","-","-","-",53814,1,"-","-","-","-","-","-","-","-","-","-","-","-","-","-","-","-","-","-",24461,1,"-","-","-","-","-","-","-","-","-","-","-","-","-","-","-","-","-","-","-","-","-","-","-","-","-","-","-","-","-","-","-","-",34520,1,28767,1,"-","-","-","-","-","-","-","-","-","-","-","-","-","-","-","-","-","-","-","-","-","-","-","-","-","-","-","-","-","-","-","-","-","-","-","-","-","-","-","-","-","-",8097,2,"-","-","-","-",25303,1,"-","-","-","-",15627,2,"-","-","-","-","-","-","-","-",101212,1,20243,1,"-","-","-","-","-","-","-","-","-","-","-","-","-","-","-","-","-","-","-","-","-","-","-","-",530,1,3771,1,4560,1,942,1,"-","-","-","-","-","-","-","-","-","-","-","-","-","-","-","-","-","-",44643,1,"-","-","-","-","-","-",83705,1,"-","-",111607,2,78124,1,"-","-","-","-","-","-","-","-","-","-","-","-","-","-","-","-","-","-",10947,2,"-","-","-","-","-","-","-","-","-","-","-","-","-","-","-","-","-","-","-","-","-","-","-","-","-","-","-","-","-","-","-","-","-","-","-","-","-","-","-","-","-","-",76997,1,"-","-","-","-",43999,1,82497,1,"-","-","-","-",54998,1,43999,2,"-","-","-","-","-","-","-","-",20144,1,"-","-","-","-","-","-","-","-","-","-",121551,1,"-","-","-","-","-","-","-","-",98253,1,"-","-","-","-","-","-","-","-","-","-",1253107,{"$f":"INDEX('Aircraft IDs'!A:G,MATCH(A183,'Aircraft IDs'!A:A,0),7)","v":"Helo"}]
[84,"Helicopter","Transport & Utility","Leonardo AW119 Koala","Leonardo AW119 Koala","Pratt & Whitney Canada PT6B","-","-","-","-",19222,1,"-","-","-","-","-","-","-","-","-","-","-","-","-","-","-","-","-","-","-","-","-","-","-","-","-","-","-","-","-","-","-","-","-","-","-","-","-","-","-","-","-","-","-","-","-","-",44030,0,"-","-","-","-","-","-","-","-","-","-","-","-","-","-","-","-","-","-","-","-","-","-","-","-","-","-","-","-",9873,1,"-","-","-","-","-","-","-","-","-","-","-","-","-","-","-","-","-","-","-","-","-","-","-","-","-","-","-","-","-","-","-","-",15627,1,"-","-","-","-","-","-","-","-","-","-","-","-","-","-",15627,1,"-","-","-","-","-","-","-","-","-","-","-","-","-","-",6943,2,"-","-","-","-","-","-","-","-","-","-",15627,4,"-","-","-","-","-","-","-","-","-","-","-","-","-","-",8684,1,"-","-","-","-","-","-","-","-","-","-","-","-","-","-","-","-","-","-","-","-",104,1,744,1,900,1,186,1,"-","-","-","-","-","-","-","-","-","-","-","-","-","-","-","-","-","-","-","-","-","-","-","-","-","-","-","-","-","-","-","-","-","-","-","-","-","-","-","-","-","-","-","-",10648,2,"-","-","-","-","-","-",9087,2,"-","-","-","-","-","-","-","-","-","-","-","-","-","-","-","-","-","-","-","-","-","-","-","-","-","-","-","-","-","-","-","-",32999,2,"-","-","-","-","-","-","-","-","-","-","-","-","-","-","-","-","-","-","-","-","-","-","-","-","-","-",28599,1,"-","-","-","-",15102,1,23920,1,"-","-","-","-","-","-","-","-","-","-","-","-",10636,1,"-","-","-","-","-","-","-","-","-","-","-","-","-",1,"-","-","-","-",268584,{"$f":"INDEX('Aircraft IDs'!A:G,MATCH(A188,'Aircraft IDs'!A:A,0),7)","v":"Helo"}]
[96,"Helicopter","Transport & Utility","Leonardo AW609","Leonardo AW609","Pratt & Whitney Canada PT6C","-","-","-","-",56029,1,"-","-","-","-","-","-","-","-","-","-","-","-","-","-","-","-","-","-","-","-","-","-","-","-","-","-","-","-","-","-","-","-","-","-","-","-","-","-","-","-","-","-","-","-","-","-",44030,0,"-","-","-","-","-","-","-","-","-","-","-","-","-","-","-","-","-","-","-","-","-","-","-","-","-","-","-","-",28767,1,"-","-","-","-","-","-","-","-","-","-","-","-","-","-","-","-","-","-","-","-","-","-","-","-","-","-","-","-","-","-","-","-",45546,1,"-","-","-","-","-","-","-","-","-","-","-","-","-","-",40485,1,"-","-","-","-","-","-","-","-","-","-","-","-","-","-",25303,2,"-","-","-","-","-","-","-","-","-","-",45546,4,"-","-","-","-","-","-","-","-","-","-","-","-","-","-",25303,1,"-","-","-","-","-","-","-","-","-","-","-","-","-","-","-","-","-","-","-","-",2612,1,18606,1,22500,1,4652,1,"-","-","-","-","-","-","-","-","-","-","-","-","-","-","-","-","-","-","-","-","-","-","-","-","-","-","-","-","-","-","-","-","-","-","-","-","-","-","-","-","-","-","-","-",22164,2,"-","-","-","-","-","-",31029,2,"-","-","-","-","-","-","-","-","-","-","-","-","-","-","-","-","-","-","-","-","-","-","-","-","-","-","-","-","-","-","-","-",32999,2,"-","-","-","-","-","-","-","-","-","-","-","-","-","-","-","-","-","-","-","-","-","-","-","-","-","-",54998,1,"-","-","-","-",43999,1,67985,1,"-","-","-","-","-","-","-","-","-","-","-","-",30388,1,"-","-","-","-","-","-","-","-","-","-","-","-","-",1,"-","-","-","-",642967,{"$f":"INDEX('Aircraft IDs'!A:G,MATCH(A193,'Aircraft IDs'!A:A,0),7)","v":"Helo"}]
[123,"Helicopter","Transport & Utility","NH90","NHIndustries Tactical Transport Helicopter","Safran RTM322","-","-",59764,1,"-","-","-","-","-","-","-","-","-","-","-","-","-","-","-","-","-","-","-","-","-","-","-","-","-","-","-","-","-","-","-","-","-","-","-","-","-","-","-","-","-","-","-","-",53814,1,"-","-","-","-","-","-","-","-","-","-","-","-","-","-","-","-","-","-",24461,1,"-","-","-","-","-","-","-","-","-","-","-","-","-","-","-","-","-","-","-","-","-","-","-","-","-","-","-","-","-","-","-","-",34520,1,28767,1,"-","-","-","-","-","-","-","-","-","-","-","-","-","-","-","-","-","-","-","-","-","-","-","-","-","-","-","-","-","-","-","-","-","-","-","-","-","-","-","-","-","-",25303,2,"-","-","-","-",25303,1,"-","-","-","-",50606,2,"-","-","-","-","-","-","-","-",101212,1,20243,1,"-","-","-","-","-","-","-","-","-","-","-","-","-","-","-","-","-","-","-","-","-","-","-","-",669,1,4763,1,5760,1,1191,1,"-","-","-","-","-","-","-","-","-","-","-","-","-","-","-","-","-","-",44643,1,"-","-","-","-","-","-",83705,1,"-","-",111607,2,78124,1,"-","-","-","-","-","-","-","-","-","-","-","-","-","-","-","-","-","-",53193,2,"-","-","-","-","-","-","-","-","-","-","-","-","-","-","-","-","-","-","-","-","-","-","-","-","-","-","-","-","-","-","-","-","-","-","-","-","-","-","-","-","-","-",76997,1,"-","-","-","-",43999,1,82497,1,"-","-","-","-",54998,1,43999,2,"-","-","-","-","-","-","-","-",114566,1,"-","-","-","-","-","-","-","-","-","-",121551,1,"-","-","-","-","-","-","-","-",98253,1,"-","-","-","-","-","-","-","-","-","-",1444540,{"$f":"INDEX('Aircraft IDs'!A:G,MATCH(A199,'Aircraft IDs'!A:A,0),7)","v":"Helo"}]
[129,"Helicopter","Transport & Utility","SH-60","Sikorsky SH-60 Seahawk - MH-60R","General Electric T700","-","-",59764,1,"-","-","-","-","-","-","-","-","-","-","-","-","-","-","-","-","-","-","-","-","-","-","-","-","-","-","-","-","-","-","-","-","-","-","-","-","-","-","-","-","-","-","-","-",53814,1,"-","-","-","-","-","-","-","-","-","-","-","-","-","-","-","-","-","-",24461,1,"-","-","-","-","-","-","-","-","-","-","-","-","-","-","-","-","-","-","-","-","-","-","-","-","-","-","-","-","-","-","-","-",34520,1,28767,1,"-","-","-","-","-","-","-","-","-","-","-","-","-","-","-","-","-","-","-","-","-","-","-","-","-","-","-","-","-","-","-","-","-","-","-","-","-","-","-","-","-","-",25303,2,"-","-","-","-",25303,1,"-","-","-","-",50606,2,"-","-","-","-","-","-","-","-",101212,1,20243,1,"-","-","-","-","-","-","-","-","-","-","-","-","-","-","-","-","-","-","-","-","-","-","-","-",1568,1,11164,1,13500,1,2791,1,"-","-","-","-","-","-","-","-","-","-","-","-","-","-","-","-","-","-",44643,1,"-","-","-","-","-","-",83705,1,"-","-",111607,2,78124,1,"-","-","-","-","-","-","-","-","-","-","-","-","-","-","-","-","-","-",53193,2,"-","-","-","-","-","-","-","-","-","-","-","-","-","-","-","-","-","-","-","-","-","-","-","-","-","-","-","-","-","-","-","-","-","-","-","-","-","-","-","-","-","-",76997,1,"-","-","-","-",43999,1,82497,1,"-","-","-","-",54998,1,43999,2,"-","-","-","-","-","-","-","-",114566,1,"-","-","-","-","-","-","-","-","-","-",121551,1,"-","-","-","-","-","-","-","-",98253,1,"-","-","-","-","-","-","-","-","-","-",1461180,{"$f":"INDEX('Aircraft IDs'!A:G,MATCH(A204,'Aircraft IDs'!A:A,0),7)","v":"Helo"}]
[95,"Helicopter","Transport & Utility","UH-1","Bell UH-1Y Venom","General Electric T700","-","-",59764,1,"-","-","-","-","-","-","-","-","-","-","-","-","-","-","-","-","-","-","-","-","-","-","-","-","-","-","-","-","-","-","-","-","-","-","-","-","-","-","-","-","-","-","-","-",53814,1,"-","-","-","-","-","-","-","-","-","-","-","-","-","-","-","-","-","-",24461,1,"-","-","-","-","-","-","-","-","-","-","-","-","-","-","-","-","-","-","-","-","-","-","-","-","-","-","-","-","-","-","-","-",34520,1,28767,1,"-","-","-","-","-","-","-","-","-","-","-","-","-","-","-","-","-","-","-","-","-","-","-","-","-","-","-","-","-","-","-","-","-","-","-","-","-","-","-","-","-","-",25303,2,"-","-","-","-",25303,1,"-","-","-","-",50606,2,"-","-","-","-","-","-","-","-",101212,1,20243,1,"-","-","-","-","-","-","-","-","-","-","-","-","-","-","-","-","-","-","-","-","-","-","-","-",1092,1,7773,1,9400,1,1944,1,"-","-","-","-","-","-","-","-","-","-","-","-","-","-","-","-","-","-",44643,1,"-","-","-","-","-","-",83705,1,"-","-",111607,2,78124,1,"-","-","-","-","-","-","-","-","-","-","-","-","-","-","-","-","-","-",53193,2,"-","-","-","-","-","-","-","-","-","-","-","-","-","-","-","-","-","-","-","-","-","-","-","-","-","-","-","-","-","-","-","-","-","-","-","-","-","-","-","-","-","-",76997,1,"-","-","-","-",43999,1,82497,1,"-","-","-","-",54998,1,43999,2,"-","-","-","-","-","-","-","-",114566,1,"-","-","-","-","-","-","-","-","-","-",121551,1,"-","-","-","-","-","-","-","-",98253,1,"-","-","-","-","-","-","-","-","-","-",1452366,{"$f":"INDEX('Aircraft IDs'!A:G,MATCH(A210,'Aircraft IDs'!A:A,0),7)","v":"Helo"}]
[634,"Large Commercial Aircraft","Single Aisle","A320ceo","A319-100","CFM International CFM56 - CFM56-5A",14941,2,56029,1,"-","-","-","-","-","-",13699,2,"-","-","-","-","-","-","-","-",5871,1,9784,1,"-","-","-","-",19569,1,"-","-","-","-",11741,2,11741,2,"-","-",5871,1,"-","-","-","-","-","-","-","-","-","-","-","-","-","-","-","-",5871,1,5871,2,"-","-","-","-","-","-","-","-","-","-","-","-","-","-",20712,1,17261,1,"-","-","-","-",11506,2,"-","-","-","-","-","-","-","-",23014,2,9205,1,17261,1,"-","-","-","-","-","-","-","-",28767,1,"-","-","-","-",15182,1,"-","-",8097,1,8097,1,"-","-","-","-","-","-",12145,1,"-","-",30364,3,"-","-","-","-",7085,2,30364,2,8097,2,"-","-","-","-","-","-",75910,1,"-","-",28340,1,"-","-","-","-","-","-",45546,2,"-","-","-","-","-","-","-","-","-","-",45546,2,"-","-","-","-",15182,2,20876,1,26094,2,12525,3,"-","-",10437,2,46970,2,26094,2,"-","-",2903,1,20674,1,25000,1,5168,1,"-","-","-","-","-","-","-","-","-","-","-","-","-","-","-","-","-","-","-","-","-","-","-","-","-","-","-","-","-","-","-","-","-","-","-","-","-","-","-","-",31029,3,"-","-",10638,8,"-","-","-","-",12412,2,"-","-","-","-","-","-","-","-","-","-","-","-","-","-","-","-",44327,1,"-","-","-","-","-","-","-","-","-","-","-","-","-","-",8800,12,"-","-","-","-","-","-","-","-","-","-","-","-","-","-","-","-","-","-","-","-","-","-","-","-","-","-","-","-","-","-","-","-",47519,1,43999,1,137227,1,"-","-",6078,1,30388,2,"-","-","-","-","-","-",24310,1,"-","-","-","-","-","-","-","-","-","-","-","-","-","-","-","-","-","-",1212232,{"$f":"INDEX('Aircraft IDs'!A:G,MATCH(A216,'Aircraft IDs'!A:A,0),7)","v":"A320"}]
[511,"Large Commercial Aircraft","Single Aisle","A320ceo","Airbus A320ceo","IAE V2500-A5",14941,2,56029,1,"-","-","-","-","-","-",13699,2,"-","-","-","-","-","-","-","-",5871,1,9784,1,"-","-","-","-",19569,1,"-","-","-","-",11741,2,11741,2,"-","-",5871,1,"-","-","-","-","-","-","-","-","-","-","-","-","-","-","-","-",5871,1,5871,2,"-","-","-","-","-","-","-","-","-","-","-","-","-","-",20712,1,17261,1,"-","-","-","-",11506,2,"-","-","-","-","-","-","-","-",23014,2,9205,1,17261,1,"-","-","-","-","-","-","-","-",28767,1,"-","-","-","-",15182,1,"-","-",8097,1,8097,1,"-","-","-","-","-","-",12145,1,"-","-",30364,3,"-","-","-","-",7085,2,30364,2,8097,2,"-","-","-","-","-","-",75910,1,"-","-",28340,1,"-","-","-","-","-","-",45546,2,"-","-","-","-","-","-","-","-","-","-",45546,2,"-","-","-","-",15182,2,20876,1,26094,2,12525,3,"-","-",10437,2,46970,2,26094,2,"-","-",2903,1,20674,1,25000,1,5168,1,"-","-","-","-","-","-","-","-","-","-","-","-","-","-","-","-","-","-","-","-","-","-","-","-","-","-","-","-","-","-","-","-","-","-","-","-","-","-","-","-",31029,3,"-","-",10638,8,"-","-","-","-",12412,2,"-","-","-","-","-","-","-","-","-","-","-","-","-","-","-","-",44327,1,"-","-","-","-","-","-","-","-","-","-","-","-","-","-",8800,12,"-","-","-","-","-","-","-","-","-","-","-","-","-","-","-","-","-","-","-","-","-","-","-","-","-","-","-","-","-","-","-","-",47519,1,43999,1,137227,1,"-","-",6078,1,30388,2,"-","-","-","-","-","-",24310,1,"-","-","-","-","-","-","-","-","-","-","-","-","-","-","-","-","-","-",1212232,{"$f":"INDEX('Aircraft IDs'!A:G,MATCH(A221,'Aircraft IDs'!A:A,0),7)","v":"A320"}]
[210,"Large Commercial Aircraft","Single Aisle","A320neo","Airbus A320neo","Pratt & Whitney PW1100G",14941,2,56029,1,"-","-","-","-","-","-",13699,2,"-","-","-","-","-","-","-","-",5871,1,9784,1,"-","-","-","-",19569,1,"-","-","-","-",11741,2,11741,2,"-","-",5871,1,"-","-","-","-","-","-","-","-","-","-","-","-","-","-","-","-",5871,1,5871,2,"-","-","-","-","-","-","-","-","-","-","-","-","-","-",20712,1,17261,1,"-","-","-","-",11506,2,"-","-","-","-","-","-","-","-",23014,2,9205,1,17261,1,"-","-","-","-","-","-","-","-",28767,1,"-","-","-","-",15182,1,"-","-",8097,1,8097,1,"-","-","-","-","-","-",12145,1,"-","-",30364,3,"-","-","-","-",7085,2,30364,2,8097,2,"-","-","-","-","-","-",75910,1,"-","-",28340,1,"-","-","-","-","-","-",45546,2,"-","-","-","-","-","-","-","-","-","-",45546,2,"-","-","-","-",15182,2,20876,1,26094,2,12525,3,"-","-",10437,2,46970,2,26094,2,"-","-",2903,1,20674,1,25000,1,5168,1,"-","-","-","-","-","-","-","-","-","-","-","-","-","-","-","-","-","-","-","-","-","-","-","-","-","-","-","-","-","-","-","-","-","-","-","-","-","-","-","-",31029,3,"-","-",10638,8,"-","-","-","-",12412,2,"-","-","-","-","-","-","-","-","-","-","-","-","-","-","-","-",44327,1,"-","-","-","-","-","-","-","-","-","-","-","-","-","-",8800,12,"-","-","-","-","-","-","-","-","-","-","-","-","-","-","-","-","-","-","-","-","-","-","-","-","-","-","-","-","-","-","-","-",47519,1,43999,1,137227,1,"-","-",6078,1,30388,2,"-","-","-","-","-","-",24310,1,"-","-","-","-","-","-","-","-","-","-","-","-","-","-","-","-","-","-",1212232,{"$f":"INDEX('Aircraft IDs'!A:G,MATCH(A227,'Aircraft IDs'!A:A,0),7)","v":"A320"}]
[515,"Large Commercial Aircraft","Single Aisle","A320neo","Airbus A321neo","CFM International LEAP-1A",14941,2,56029,1,"-","-","-","-","-","-",13699,2,"-","-","-","-","-","-","-","-",5871,1,9784,1,"-","-","-","-",19569,1,"-","-","-","-",11741,2,11741,2,"-","-",5871,1,"-","-","-","-","-","-","-","-","-","-","-","-","-","-","-","-",5871,1,5871,2,"-","-","-","-","-","-","-","-","-","-","-","-","-","-",20712,1,17261,1,"-","-","-","-",11506,2,"-","-","-","-","-","-","-","-",23014,2,9205,1,17261,1,"-","-","-","-","-","-","-","-",28767,1,"-","-","-","-",15182,1,"-","-",8097,1,8097,1,"-","-","-","-","-","-",12145,1,"-","-",30364,3,"-","-","-","-",7085,2,30364,2,8097,2,"-","-","-","-","-","-",75910,1,"-","-",28340,1,"-","-","-","-","-","-",45546,2,"-","-","-","-","-","-","-","-","-","-",45546,2,"-","-","-","-",15182,2,20876,1,26094,2,12525,3,"-","-",10437,2,46970,2,26094,2,"-","-",2903,1,20674,1,25000,1,5168,1,"-","-","-","-","-","-","-","-","-","-","-","-","-","-","-","-","-","-","-","-","-","-","-","-","-","-","-","-","-","-","-","-","-","-","-","-","-","-","-","-",31029,3,"-","-",10638,8,"-","-","-","-",12412,2,"-","-","-","-","-","-","-","-","-","-","-","-","-","-","-","-",44327,1,"-","-","-","-","-","-","-","-","-","-","-","-","-","-",8800,12,"-","-","-","-","-","-","-","-","-","-","-","-","-","-","-","-","-","-","-","-","-","-","-","-","-","-","-","-","-","-","-","-",47519,1,43999,1,137227,1,"-","-",6078,1,30388,2,"-","-","-","-","-","-",24310,1,"-","-","-","-","-","-","-","-","-","-","-","-","-","-","-","-","-","-",1212232,{"$f":"INDEX('Aircraft IDs'!A:G,MATCH(A232,'Aircraft IDs'!A:A,0),7)","v":"A320"}]
[534,"Large Commercial Aircraft","Single Aisle","Boeing 737 Classic","Boeing 737 Classic: 737-300","CFM International CFM56 - 3 ",14941,2,56029,1,"-","-","-","-","-","-",13699,2,"-","-","-","-","-","-","-","-",5871,1,9784,1,"-","-","-","-",19569,1,"-","-","-","-",11741,2,11741,2,"-","-",5871,1,"-","-","-","-","-","-","-","-","-","-","-","-","-","-","-","-",5871,1,5871,2,"-","-","-","-","-","-","-","-","-","-","-","-","-","-",20712,1,17261,1,"-","-","-","-",11506,2,"-","-","-","-","-","-","-","-",23014,2,9205,1,17261,1,"-","-","-","-","-","-","-","-",28767,1,"-","-","-","-",15182,1,"-","-",8097,1,8097,1,"-","-","-","-","-","-",12145,1,"-","-",30364,3,"-","-","-","-",7085,2,30364,2,8097,2,"-","-","-","-","-","-",75910,1,"-","-",28340,1,"-","-","-","-","-","-",45546,2,"-","-","-","-","-","-","-","-","-","-",45546,2,"-","-","-","-",15182,2,20876,1,26094,2,12525,3,"-","-",10437,2,46970,2,26094,2,"-","-",2903,1,20674,1,25000,1,5168,1,"-","-","-","-","-","-","-","-","-","-","-","-","-","-","-","-","-","-","-","-","-","-","-","-","-","-","-","-","-","-","-","-","-","-","-","-","-","-","-","-",31029,3,"-","-",10638,8,"-","-","-","-",12412,2,"-","-","-","-","-","-","-","-","-","-","-","-","-","-","-","-",44327,1,"-","-","-","-","-","-","-","-","-","-","-","-","-","-",8800,12,"-","-","-","-","-","-","-","-","-","-","-","-","-","-","-","-","-","-","-","-","-","-","-","-","-","-","-","-","-","-","-","-",47519,1,43999,1,137227,1,"-","-",6078,1,30388,2,"-","-","-","-","-","-",24310,1,"-","-","-","-","-","-","-","-","-","-","-","-","-","-","-","-","-","-",1212232,{"$f":"INDEX('Aircraft IDs'!A:G,MATCH(A237,'Aircraft IDs'!A:A,0),7)","v":"B737"}]
[197,"Large Commercial Aircraft","Single Aisle","Boeing 737MAX","Boeing 737 MAX: 737 MAX 9","CFM International LEAP-1B",14941,2,56029,1,"-","-","-","-","-","-",13699,2,"-","-","-","-","-","-","-","-",5871,1,9784,1,"-","-","-","-",19569,1,"-","-","-","-",11741,2,11741,2,"-","-",5871,1,"-","-","-","-","-","-","-","-","-","-","-","-","-","-","-","-",5871,1,5871,2,"-","-","-","-","-","-","-","-","-","-","-","-","-","-",20712,1,17261,1,"-","-","-","-",11506,2,"-","-","-","-","-","-","-","-",23014,2,9205,1,17261,1,"-","-","-","-","-","-","-","-",28767,1,"-","-","-","-",15182,1,"-","-",8097,1,8097,1,"-","-","-","-","-","-",12145,1,"-","-",30364,3,"-","-","-","-",7085,2,30364,2,8097,2,"-","-","-","-","-","-",75910,1,"-","-",28340,1,"-","-","-","-","-","-",45546,2,"-","-","-","-","-","-","-","-","-","-",45546,2,"-","-","-","-",15182,2,20876,1,26094,2,12525,3,"-","-",10437,2,46970,2,26094,2,"-","-",2903,1,20674,1,25000,1,5168,1,"-","-","-","-","-","-","-","-","-","-","-","-","-","-","-","-","-","-","-","-","-","-","-","-","-","-","-","-","-","-","-","-","-","-","-","-","-","-","-","-",31029,3,"-","-",10638,8,"-","-","-","-",12412,2,"-","-","-","-","-","-","-","-","-","-","-","-","-","-","-","-",44327,1,"-","-","-","-","-","-","-","-","-","-","-","-","-","-",8800,12,"-","-","-","-","-","-","-","-","-","-","-","-","-","-","-","-","-","-","-","-","-","-","-","-","-","-","-","-","-","-","-","-",47519,1,43999,1,137227,1,"-","-",6078,1,30388,2,"-","-","-","-","-","-",24310,1,"-","-","-","-","-","-","-","-","-","-","-","-","-","-","-","-","-","-",1212232,{"$f":"INDEX('Aircraft IDs'!A:G,MATCH(A243,'Aircraft IDs'!A:A,0),7)","v":"B737"}]
[522,"Large Commercial Aircraft","Single Aisle","Boeing 757","Boeing 757","Pratt & Whitney PW2000",14941,2,56029,1,"-","-","-","-","-","-",13699,2,"-","-","-","-","-","-","-","-",5871,2,9784,1,"-","-","-","-",19569,1,"-","-","-","-",11741,2,11741,2,"-","-",5871,1,"-","-","-","-","-","-","-","-","-","-","-","-","-","-","-","-",5871,1,5871,2,"-","-","-","-","-","-","-","-","-","-","-","-","-","-",20712,1,17261,1,"-","-","-","-",11506,2,"-","-","-","-","-","-","-","-",23014,2,9205,1,17261,1,"-","-","-","-","-","-","-","-",28767,1,"-","-","-","-",15182,1,"-","-",8097,1,8097,1,"-","-","-","-","-","-",12145,1,"-","-",30364,3,"-","-","-","-",7085,2,30364,2,8097,2,"-","-","-","-","-","-",75910,1,"-","-",28340,1,"-","-","-","-","-","-",45546,2,"-","-","-","-","-","-","-","-","-","-",45546,2,"-","-","-","-",15182,2,20876,1,26094,2,12525,3,"-","-",10437,2,46970,2,26094,2,"-","-",2903,1,20674,1,25000,1,5168,1,"-","-","-","-","-","-","-","-","-","-","-","-","-","-","-","-","-","-","-","-","-","-","-","-","-","-","-","-","-","-","-","-","-","-","-","-","-","-","-","-",31029,3,"-","-",10638,8,"-","-","-","-",12412,2,"-","-","-","-","-","-","-","-","-","-","-","-","-","-","-","-",44327,1,"-","-","-","-","-","-","-","-","-","-","-","-","-","-",8800,12,"-","-","-","-","-","-","-","-","-","-","-","-","-","-","-","-","-","-","-","-","-","-","-","-","-","-","-","-","-","-","-","-",47519,1,43999,1,137227,1,"-","-",6078,1,30388,2,"-","-","-","-","-","-",24310,1,"-","-","-","-","-","-","-","-","-","-","-","-","-","-","-","-","-","-",1212233,{"$f":"INDEX('Aircraft IDs'!A:G,MATCH(A248,'Aircraft IDs'!A:A,0),7)","v":"B757"}]
[230,"Large Commercial Aircraft","Single Aisle","Boeing 757","Boeing 757","Rolls-Royce RB211-534E4/E4B",14941,2,56029,1,"-","-","-","-","-","-",13699,2,"-","-","-","-","-","-","-","-",5871,2,9784,1,"-","-","-","-",19569,1,"-","-","-","-",11741,2,11741,2,"-","-",5871,1,"-","-","-","-","-","-","-","-","-","-","-","-","-","-","-","-",5871,1,5871,2,"-","-","-","-","-","-","-","-","-","-","-","-","-","-",20712,1,17261,1,"-","-","-","-",11506,2,"-","-","-","-","-","-","-","-",23014,2,9205,1,17261,1,"-","-","-","-","-","-","-","-",28767,1,"-","-","-","-",15182,1,"-","-",8097,1,8097,1,"-","-","-","-","-","-",12145,1,"-","-",30364,3,"-","-","-","-",7085,2,30364,2,8097,2,"-","-","-","-","-","-",75910,1,"-","-",28340,1,"-","-","-","-","-","-",45546,2,"-","-","-","-","-","-","-","-","-","-",45546,2,"-","-","-","-",15182,2,20876,1,26094,2,12525,3,"-","-",10437,2,46970,2,26094,2,"-","-",2903,1,20674,1,25000,1,5168,1,"-","-","-","-","-","-","-","-","-","-","-","-","-","-","-","-","-","-","-","-","-","-","-","-","-","-","-","-","-","-","-","-","-","-","-","-","-","-","-","-",31029,3,"-","-",10638,8,"-","-","-","-",12412,2,"-","-","-","-","-","-","-","-","-","-","-","-","-","-","-","-",44327,1,"-","-","-","-","-","-","-","-","-","-","-","-","-","-",8800,12,"-","-","-","-","-","-","-","-","-","-","-","-","-","-","-","-","-","-","-","-","-","-","-","-","-","-","-","-","-","-","-","-",47519,1,43999,1,137227,1,"-","-",6078,1,30388,2,"-","-","-","-","-","-",24310,1,"-","-","-","-","-","-","-","-","-","-","-","-","-","-","-","-","-","-",1212233,{"$f":"INDEX('Aircraft IDs'!A:G,MATCH(A249,'Aircraft IDs'!A:A,0),7)","v":"B757"}]
[212,"Large Commercial Aircraft","Twin Aisle","A330","Airbus A330-200","General Electric CF6-80E1",11206,2,59764,1,"-","-","-","-",17612,2,"-","-",24461,1,"-","-","-","-","-","-","-","-","-","-","-","-","-","-",17612,1,"-","-","-","-",17612,2,17612,3,"-","-",4893,1,24461,1,"-","-","-","-","-","-","-","-","-","-","-","-","-","-",7828,3,34245,3,"-","-","-","-",48922,1,"-","-","-","-","-","-","-","-","-","-","-","-","-","-","-","-",34520,2,46027,1,"-","-","-","-","-","-",34520,2,"-","-",23014,1,"-","-","-","-","-","-","-","-",20712,1,"-","-",28767,1,"-","-","-","-",10121,1,10121,1,"-","-","-","-",25303,2,"-","-","-","-",70849,3,"-","-","-","-","-","-","-","-",15182,1,"-","-",25303,1,"-","-","-","-","-","-",30364,1,"-","-","-","-",70849,6,"-","-","-","-","-","-","-","-","-","-","-","-","-","-","-","-","-","-",30364,2,"-","-","-","-","-","-","-","-",52188,2,97461,2,41750,3,31313,1,3890,1,27702,1,33500,1,6926,1,104151,2,"-","-","-","-","-","-","-","-","-","-","-","-","-","-","-","-","-","-","-","-","-","-","-","-","-","-","-","-","-","-","-","-","-","-","-","-","-","-",44327,3,"-","-",10638,8,"-","-","-","-","-","-","-","-","-","-","-","-","-","-","-","-","-","-","-","-","-","-",44327,2,"-","-","-","-",15958,2,"-","-","-","-",13298,2,"-","-",10999,8,"-","-","-","-","-","-","-","-","-","-","-","-","-","-","-","-","-","-","-","-","-","-","-","-","-","-","-","-",44879,1,8800,6,82497,1,49498,1,190104,1,"-","-","-","-",35452,2,"-","-","-","-","-","-",45581,1,"-","-","-","-","-","-","-","-","-","-","-","-","-","-","-","-","-","-",1757582,{"$f":"INDEX('Aircraft IDs'!A:G,MATCH(A254,'Aircraft IDs'!A:A,0),7)","v":"A330"}]
[519,"Large Commercial Aircraft","Twin Aisle","A330","Airbus A330-300","Rolls-Royce Trent 700",11206,2,59764,1,"-","-","-","-",17612,2,"-","-",24461,1,"-","-","-","-","-","-","-","-","-","-","-","-","-","-",17612,1,"-","-","-","-",17612,2,17612,3,"-","-",4893,1,24461,1,"-","-","-","-","-","-","-","-","-","-","-","-","-","-",7828,3,34245,3,"-","-","-","-",48922,1,"-","-","-","-","-","-","-","-","-","-","-","-","-","-","-","-",34520,2,46027,1,"-","-","-","-","-","-",34520,2,"-","-",23014,1,"-","-","-","-","-","-","-","-",20712,1,"-","-",28767,1,"-","-","-","-",10121,1,10121,1,"-","-","-","-",25303,2,"-","-","-","-",70849,3,"-","-","-","-","-","-","-","-",15182,1,"-","-",25303,1,"-","-","-","-","-","-",30364,1,"-","-","-","-",70849,6,"-","-","-","-","-","-","-","-","-","-","-","-","-","-","-","-","-","-",30364,2,"-","-","-","-","-","-","-","-",52188,2,97461,2,41750,3,31313,1,3890,1,27702,1,33500,1,6926,1,104151,2,"-","-","-","-","-","-","-","-","-","-","-","-","-","-","-","-","-","-","-","-","-","-","-","-","-","-","-","-","-","-","-","-","-","-","-","-","-","-",44327,3,"-","-",10638,8,"-","-","-","-","-","-","-","-","-","-","-","-","-","-","-","-","-","-","-","-","-","-",44327,2,"-","-","-","-",15958,2,"-","-","-","-",13298,2,"-","-",10999,8,"-","-","-","-","-","-","-","-","-","-","-","-","-","-","-","-","-","-","-","-","-","-","-","-","-","-","-","-",44879,1,8800,6,82497,1,49498,1,190104,1,"-","-","-","-",35452,2,"-","-","-","-","-","-",45581,1,"-","-","-","-","-","-","-","-","-","-","-","-","-","-","-","-","-","-",1757582,{"$f":"INDEX('Aircraft IDs'!A:G,MATCH(A259,'Aircraft IDs'!A:A,0),7)","v":"A330"}]
[7,"Large Commercial Aircraft","Twin Aisle","A350","Airbus A350-1000","Rolls-Royce Trent XWB-97",11206,2,59764,1,"-","-",48559,2,11741,2,"-","-","-","-","-","-","-","-","-","-","-","-","-","-","-","-","-","-",19569,1,24461,1,"-","-",17612,2,17612,2,"-","-",4893,1,19569,1,"-","-",34245,1,"-","-","-","-","-","-","-","-","-","-",7828,1,"-","-","-","-",24461,2,48922,1,"-","-","-","-","-","-","-","-","-","-","-","-","-","-","-","-",34520,2,"-","-","-","-","-","-","-","-",34520,2,9205,1,23014,1,"-","-","-","-","-","-","-","-",27616,1,"-","-",28767,1,20243,1,"-","-","-","-",10121,1,50606,1,"-","-","-","-","-","-","-","-",50606,2,"-","-","-","-","-","-","-","-",20243,1,"-","-",30364,1,"-","-",111333,2,"-","-",35424,1,"-","-","-","-",85018,5,"-","-","-","-","-","-","-","-","-","-","-","-","-","-","-","-","-","-","-","-","-","-","-","-","-","-","-","-","-","-",117423,2,41750,2,15657,1,5806,1,41346,1,50000,1,10336,1,"-","-",182270,2,156228,1,"-","-","-","-","-","-","-","-",26038,14,"-","-","-","-","-","-","-","-","-","-","-","-","-","-","-","-","-","-","-","-","-","-","-","-","-","-",31029,2,10638,8,"-","-","-","-",10638,2,"-","-","-","-","-","-","-","-","-","-",13298,2,"-","-",39894,2,44327,2,"-","-","-","-",13298,2,"-","-","-","-","-","-","-","-",13200,14,"-","-","-","-","-","-","-","-","-","-","-","-","-","-","-","-","-","-","-","-","-","-","-","-","-","-","-","-",48179,1,"-","-",82497,1,49498,1,261865,1,"-","-","-","-",42542,2,"-","-","-","-","-","-",48620,1,"-","-",43555,1,"-","-","-","-","-","-","-","-","-","-","-","-","-","-",2322085,{"$f":"INDEX('Aircraft IDs'!A:G,MATCH(A265,'Aircraft IDs'!A:A,0),7)","v":"A350"}]
[12,"Large Commercial Aircraft","Twin Aisle","Boeing 767","Boeing 767","General Electric CF6-80C2",22412,2,74705,1,"-","-","-","-",17612,2,"-","-",24461,1,"-","-","-","-","-","-","-","-","-","-","-","-","-","-",17612,1,"-","-","-","-",17612,2,17612,3,"-","-",4893,1,24461,1,"-","-","-","-","-","-","-","-","-","-","-","-","-","-",7828,3,34245,3,"-","-","-","-",48922,1,"-","-","-","-","-","-","-","-","-","-","-","-","-","-","-","-",34520,2,46027,1,"-","-","-","-","-","-",34520,2,"-","-",23014,1,"-","-","-","-","-","-","-","-",20712,1,"-","-",28767,1,"-","-","-","-",10121,1,10121,1,"-","-","-","-",25303,2,"-","-","-","-",70849,3,"-","-","-","-","-","-","-","-",15182,1,"-","-",25303,1,"-","-","-","-","-","-",30364,1,"-","-","-","-",50606,6,"-","-","-","-","-","-","-","-","-","-","-","-","-","-","-","-","-","-",45546,2,"-","-","-","-","-","-","-","-",52188,2,117423,2,41750,3,31313,1,3019,1,21500,1,26000,1,5375,1,78114,2,"-","-","-","-","-","-","-","-","-","-","-","-","-","-","-","-","-","-","-","-","-","-","-","-","-","-","-","-","-","-","-","-","-","-","-","-","-","-",44327,3,"-","-",10638,8,"-","-","-","-","-","-","-","-","-","-","-","-","-","-","-","-","-","-","-","-","-","-",44327,2,"-","-","-","-",15958,2,"-","-","-","-",13298,2,"-","-",10999,8,"-","-","-","-","-","-","-","-","-","-","-","-","-","-","-","-","-","-","-","-","-","-","-","-","-","-","-","-",44879,1,8800,6,82497,1,38499,1,190104,1,"-","-","-","-",30388,2,"-","-","-","-","-","-",42542,1,"-","-","-","-","-","-","-","-","-","-","-","-","-","-","-","-","-","-",1737367,{"$f":"INDEX('Aircraft IDs'!A:G,MATCH(A270,'Aircraft IDs'!A:A,0),7)","v":"B767"}]
[201,"Large Commercial Aircraft","Twin Aisle","Boeing 777","Boeing 777: 777-200LR","General Electric GE90-115B",11206,2,59764,1,"-","-",48559,2,11741,2,"-","-","-","-","-","-","-","-","-","-","-","-","-","-","-","-","-","-",19569,1,24461,1,"-","-",17612,2,17612,2,"-","-",4893,1,19569,1,"-","-",34245,1,"-","-","-","-","-","-","-","-","-","-",7828,1,"-","-","-","-",24461,2,48922,1,"-","-","-","-","-","-","-","-","-","-","-","-","-","-","-","-",34520,2,"-","-","-","-","-","-","-","-",34520,2,9205,1,23014,1,"-","-","-","-","-","-","-","-",27616,1,"-","-",28767,1,20243,1,"-","-","-","-",10121,1,50606,1,"-","-","-","-","-","-","-","-",50606,2,"-","-","-","-","-","-","-","-",20243,1,"-","-",30364,1,"-","-",111333,2,"-","-",35424,1,"-","-","-","-",85018,5,"-","-","-","-","-","-","-","-","-","-","-","-","-","-","-","-","-","-","-","-","-","-","-","-","-","-","-","-","-","-",117423,2,41750,2,15657,1,4470,1,31837,1,38500,1,7959,1,"-","-",182270,2,156228,1,"-","-","-","-","-","-","-","-",26038,14,"-","-","-","-","-","-","-","-","-","-","-","-","-","-","-","-","-","-","-","-","-","-","-","-","-","-",31029,2,10638,8,"-","-","-","-",10638,2,"-","-","-","-","-","-","-","-","-","-",13298,2,"-","-",39894,2,44327,2,"-","-","-","-",13298,2,"-","-","-","-","-","-","-","-",13200,14,"-","-","-","-","-","-","-","-","-","-","-","-","-","-","-","-","-","-","-","-","-","-","-","-","-","-","-","-",48179,1,"-","-",82497,1,49498,1,261865,1,"-","-","-","-",42542,2,"-","-","-","-","-","-",48620,1,"-","-",43555,1,"-","-","-","-","-","-","-","-","-","-","-","-","-","-",2297363,{"$f":"INDEX('Aircraft IDs'!A:G,MATCH(A276,'Aircraft IDs'!A:A,0),7)","v":"B777"}]
[204,"Large Commercial Aircraft","Twin Aisle","Boeing 777X","Boeing 777X: 777-9","General Electric GE9X",22412,2,59764,1,"-","-",48559,2,11741,2,"-","-","-","-","-","-","-","-","-","-","-","-","-","-","-","-","-","-",19569,1,24461,1,"-","-",17612,2,17612,2,"-","-",4893,1,19569,1,"-","-",34245,1,"-","-","-","-","-","-","-","-","-","-",7828,1,"-","-","-","-",24461,2,48922,1,"-","-","-","-","-","-","-","-","-","-","-","-","-","-","-","-",34520,2,"-","-","-","-","-","-","-","-",34520,2,9205,1,23014,1,"-","-","-","-","-","-","-","-",27616,1,"-","-",28767,1,20243,1,"-","-","-","-",10121,1,50606,1,"-","-","-","-","-","-","-","-",50606,2,"-","-","-","-","-","-","-","-",20243,1,"-","-",30364,1,"-","-",111333,2,"-","-",35424,1,"-","-","-","-",85018,5,"-","-","-","-","-","-","-","-","-","-","-","-","-","-","-","-","-","-","-","-","-","-","-","-","-","-","-","-","-","-",97461,2,41750,2,15657,1,4935,1,35144,1,42500,1,8786,1,"-","-",156228,2,156228,1,"-","-","-","-","-","-","-","-",26038,14,"-","-","-","-","-","-","-","-","-","-","-","-","-","-","-","-","-","-","-","-","-","-","-","-","-","-",31029,2,10638,8,"-","-","-","-",10638,2,"-","-","-","-","-","-","-","-","-","-",13298,2,"-","-",39894,2,44327,2,"-","-","-","-",13298,2,"-","-","-","-","-","-","-","-",13200,14,"-","-","-","-","-","-","-","-","-","-","-","-","-","-","-","-","-","-","-","-","-","-","-","-","-","-","-","-",48179,1,"-","-",82497,1,49498,1,261865,1,"-","-","-","-",35452,2,"-","-","-","-","-","-",45581,1,"-","-",43555,1,"-","-","-","-","-","-","-","-","-","-","-","-","-","-",2261035,{"$f":"INDEX('Aircraft IDs'!A:G,MATCH(A281,'Aircraft IDs'!A:A,0),7)","v":"B777"}]
[199,"Large Commercial Aircraft","Twin Aisle","Boeing 787","Boeing 787 Dreamliner: 787-9","General Electric GEnx-1B",11206,2,59764,1,"-","-",48559,2,11741,2,"-","-","-","-","-","-","-","-","-","-","-","-","-","-","-","-","-","-",19569,1,24461,1,"-","-",17612,2,17612,2,"-","-",4893,1,19569,1,"-","-",34245,1,"-","-","-","-","-","-","-","-","-","-",7828,1,"-","-","-","-",24461,2,48922,1,"-","-","-","-","-","-","-","-","-","-","-","-","-","-","-","-",34520,2,"-","-","-","-","-","-","-","-",34520,2,9205,1,23014,1,"-","-","-","-","-","-","-","-",27616,1,"-","-",28767,1,20243,1,"-","-","-","-",10121,1,50606,1,"-","-","-","-","-","-","-","-",50606,2,"-","-","-","-","-","-","-","-",20243,1,"-","-",30364,1,"-","-",111333,2,"-","-",35424,1,"-","-","-","-",85018,5,"-","-","-","-","-","-","-","-","-","-","-","-","-","-","-","-","-","-","-","-","-","-","-","-","-","-","-","-","-","-",117423,2,41750,2,15657,1,6038,1,43000,1,52000,1,10750,1,"-","-",182270,2,156228,1,"-","-","-","-","-","-","-","-",26038,14,"-","-","-","-","-","-","-","-","-","-","-","-","-","-","-","-","-","-","-","-","-","-","-","-","-","-",31029,2,10638,8,"-","-","-","-",10638,2,"-","-","-","-","-","-","-","-","-","-",13298,2,"-","-",39894,2,44327,2,"-","-","-","-",13298,2,"-","-","-","-","-","-","-","-",13200,14,"-","-","-","-","-","-","-","-","-","-","-","-","-","-","-","-","-","-","-","-","-","-","-","-","-","-","-","-",48179,1,"-","-",82497,1,49498,1,261865,1,"-","-","-","-",42542,2,"-","-","-","-","-","-",48620,1,"-","-",43555,1,"-","-","-","-","-","-","-","-","-","-","-","-","-","-",2326385,{"$f":"INDEX('Aircraft IDs'!A:G,MATCH(A286,'Aircraft IDs'!A:A,0),7)","v":"B787"}]
[531,"Large Commercial Aircraft","Very large aircraft","Boeing 747","Boeing 747-400","Rolls-Royce RB211-524G/H &T",22412,2,59764,1,"-","-","-","-",17612,2,"-","-",24461,1,"-","-","-","-","-","-","-","-","-","-","-","-","-","-",17612,1,"-","-","-","-",17612,2,17612,3,"-","-",4893,1,24461,1,"-","-","-","-","-","-","-","-","-","-","-","-","-","-",7828,3,34245,3,"-","-","-","-",48922,1,"-","-","-","-","-","-","-","-","-","-","-","-","-","-","-","-",34520,2,46027,1,"-","-","-","-","-","-",34520,2,"-","-",23014,1,"-","-","-","-","-","-","-","-",20712,1,"-","-",28767,1,"-","-","-","-",10121,1,10121,1,"-","-","-","-",25303,2,"-","-","-","-",70849,3,"-","-","-","-","-","-","-","-",15182,1,"-","-",25303,1,"-","-","-","-","-","-",30364,1,"-","-","-","-",70849,6,"-","-","-","-","-","-","-","-","-","-","-","-","-","-","-","-","-","-",45546,2,"-","-","-","-","-","-","-","-",52188,2,117423,2,41750,3,31313,1,6967,1,49616,1,60000,1,12404,1,78114,2,"-","-","-","-","-","-","-","-","-","-","-","-","-","-","-","-","-","-","-","-","-","-","-","-","-","-","-","-","-","-","-","-","-","-","-","-","-","-",44327,3,"-","-",10638,8,"-","-","-","-","-","-","-","-","-","-","-","-","-","-","-","-","-","-","-","-","-","-",44327,2,"-","-","-","-",15958,2,"-","-","-","-",13298,2,"-","-",10999,8,"-","-","-","-","-","-","-","-","-","-","-","-","-","-","-","-","-","-","-","-","-","-","-","-","-","-","-","-",44879,1,8800,6,82497,1,49498,1,190104,1,"-","-","-","-",42542,2,"-","-","-","-","-","-",48620,1,"-","-","-","-","-","-","-","-","-","-","-","-","-","-","-","-","-","-",1844993,{"$f":"INDEX('Aircraft IDs'!A:G,MATCH(A292,'Aircraft IDs'!A:A,0),7)","v":"B747"}]
[636,"Military Transport / Special Mission","Military Jet","B-52 Stratofortress","Boeing B-52 Stratofortress","Pratt & Whitney TF33-P-3/103",14941,2,56029,1,"-","-","-","-","-","-",13699,2,"-","-","-","-","-","-","-","-",5871,2,5871,1,"-","-","-","-",11741,1,"-","-","-","-",9784,2,9784,2,"-","-",3913,1,"-","-","-","-","-","-","-","-","-","-","-","-","-","-","-","-",4893,1,4893,2,"-","-","-","-","-","-","-","-","-","-","-","-","-","-",20712,1,17261,1,"-","-","-","-",11506,2,"-","-","-","-","-","-","-","-",23014,2,9205,1,17261,1,"-","-","-","-","-","-","-","-",28767,1,"-","-","-","-",15182,1,"-","-",8097,1,8097,1,"-","-","-","-","-","-",12145,1,"-","-",30364,3,"-","-","-","-",7085,2,30364,2,8097,2,"-","-","-","-","-","-",75910,1,"-","-",28340,1,"-","-","-","-","-","-",45546,2,"-","-","-","-","-","-","-","-","-","-",45546,2,"-","-","-","-",15182,2,20876,1,26094,2,12525,3,"-","-",10437,2,46970,2,26094,2,"-","-",2903,1,20674,1,25000,1,5168,1,78114,2,"-","-","-","-",676984,1,"-","-","-","-","-","-","-","-","-","-","-","-",167409,1,150669,1,195311,1,"-","-",167409,2,"-","-","-","-","-","-","-","-","-","-",31029,3,"-","-",10638,8,"-","-","-","-",12412,2,"-","-","-","-","-","-","-","-","-","-","-","-","-","-","-","-",33245,1,"-","-","-","-","-","-","-","-","-","-","-","-","-","-",8800,12,"-","-","-","-","-","-","-","-","-","-","-","-","-","-","-","-","-","-","-","-","-","-","-","-","-","-","-","-",137496,1,"-","-","-","-",38499,2,148558,1,"-","-",6078,1,30388,2,"-","-","-","-","-","-",24310,1,"-","-","-","-","-","-","-","-","-","-","-",2,"-",1,"-",1,"-",1,2713300,{"$f":"INDEX('Aircraft IDs'!A:G,MATCH(A297,'Aircraft IDs'!A:A,0),7)","v":"Military Jet"}]
[163,"Military Transport / Special Mission","Military Jet","C-5","Lockheed C-5 Galaxy","General Electric CF6-80C2","-","-",97116,1,"-","-","-","-","-","-","-","-","-","-","-","-","-","-","-","-","-","-","-","-",39138,2,58707,1,"-","-","-","-","-","-","-","-","-","-","-","-","-","-","-","-",73384,1,"-","-","-","-","-","-","-","-","-","-","-","-","-","-","-","-","-","-","-","-","-","-","-","-","-","-","-","-",115069,1,"-","-","-","-","-","-","-","-","-","-","-","-","-","-","-","-","-","-","-","-","-","-","-","-","-","-","-","-","-","-","-","-","-","-","-","-","-","-","-","-","-","-","-","-","-","-","-","-","-","-","-","-","-","-","-","-","-","-","-","-","-","-","-","-","-","-","-","-","-","-","-","-","-","-",151818,2,"-","-","-","-",20243,2,"-","-","-","-","-","-","-","-","-","-","-","-","-","-","-","-",65788,6,"-","-","-","-","-","-","-","-","-","-","-","-",78282,2,"-","-","-","-",46970,2,"-","-",6967,1,49616,1,60000,1,12404,1,78114,2,"-","-","-","-",676984,1,"-","-","-","-","-","-","-","-","-","-","-","-",167409,1,150669,1,195311,1,"-","-",167409,2,"-","-","-","-","-","-","-","-","-","-","-","-","-","-",26597,2,"-","-","-","-","-","-","-","-","-","-","-","-","-","-",44327,3,"-","-","-","-","-","-",44327,2,"-","-","-","-",15958,2,"-","-",22164,2,"-","-","-","-",13200,8,"-","-","-","-","-","-","-","-","-","-","-","-","-","-","-","-","-","-","-","-",54998,3,"-","-","-","-","-","-",137496,1,"-","-","-","-","-","-",210247,1,136744,1,"-","-","-","-","-","-","-","-","-","-","-","-",81034,3,"-","-","-","-","-","-","-","-","-","-","-","-","-","-","-","-",3098550,{"$f":"INDEX('Aircraft IDs'!A:G,MATCH(A302,'Aircraft IDs'!A:A,0),7)","v":"Military Jet"}]
[162,"Military Transport / Special Mission","Military Turboprop","C-130J","Lockheed Martin C-130J Super Hercules","Rolls-Royce AE 2100","-","-",97116,1,"-","-","-","-","-","-","-","-","-","-","-","-","-","-","-","-","-","-","-","-",39138,2,58707,1,"-","-","-","-","-","-","-","-","-","-","-","-","-","-","-","-",73384,1,"-","-","-","-","-","-","-","-","-","-","-","-","-","-","-","-","-","-","-","-","-","-","-","-","-","-","-","-",115069,1,"-","-","-","-","-","-","-","-","-","-","-","-","-","-","-","-","-","-","-","-","-","-","-","-","-","-","-","-","-","-","-","-","-","-","-","-","-","-","-","-","-","-","-","-","-","-","-","-","-","-","-","-","-","-","-","-","-","-","-","-","-","-","-","-","-","-","-","-","-","-","-","-","-","-",151818,2,"-","-","-","-",20243,2,"-","-","-","-","-","-","-","-","-","-","-","-","-","-","-","-",65788,6,"-","-","-","-","-","-","-","-","-","-","-","-",78282,2,"-","-","-","-",46970,2,"-","-",3658,1,26048,1,31500,1,6512,1,78114,2,"-","-","-","-",260379,1,"-","-","-","-","-","-","-","-","-","-","-","-",167409,1,150669,1,195311,1,"-","-",167409,2,"-","-","-","-","-","-","-","-","-","-","-","-","-","-",26597,2,"-","-","-","-","-","-","-","-","-","-","-","-","-","-",44327,3,"-","-","-","-","-","-",44327,2,"-","-","-","-",15958,2,"-","-",22164,2,"-","-","-","-",13200,8,"-","-","-","-","-","-","-","-","-","-","-","-","-","-","-","-","-","-","-","-",54998,3,"-","-","-","-","-","-",137496,1,"-","-","-","-","-","-",210247,1,136744,1,"-","-","-","-","-","-","-","-","-","-","-","-",81034,3,"-","-","-","-","-","-","-","-","-","-","-","-","-","-","-","-",2620676,{"$f":"INDEX('Aircraft IDs'!A:G,MATCH(A308,'Aircraft IDs'!A:A,0),7)","v":"Military TP"}]
[181,"Military Transport / Special Mission","Military Turboprop","ShinMaywa US-2","ShinMaywa US-2","Rolls-Royce AE 2100","-","-",97116,1,"-","-","-","-","-","-","-","-","-","-","-","-","-","-","-","-","-","-","-","-",39138,2,58707,1,"-","-","-","-","-","-","-","-","-","-","-","-","-","-","-","-",73384,1,"-","-","-","-","-","-","-","-","-","-","-","-","-","-","-","-","-","-","-","-","-","-","-","-","-","-","-","-",115069,1,"-","-","-","-","-","-","-","-","-","-","-","-","-","-","-","-","-","-","-","-","-","-","-","-","-","-","-","-","-","-","-","-","-","-","-","-","-","-","-","-","-","-","-","-","-","-","-","-","-","-","-","-","-","-","-","-","-","-","-","-","-","-","-","-","-","-","-","-","-","-","-","-","-","-",151818,2,"-","-","-","-",20243,2,"-","-","-","-","-","-","-","-","-","-","-","-","-","-","-","-",65788,6,"-","-","-","-","-","-","-","-","-","-","-","-",78282,2,"-","-","-","-",46970,2,"-","-",824,1,5871,1,7100,1,1468,1,78114,2,"-","-","-","-",676984,1,"-","-","-","-","-","-","-","-","-","-","-","-",167409,1,150669,1,195311,1,"-","-",167409,2,"-","-","-","-","-","-","-","-","-","-","-","-","-","-",26597,2,"-","-","-","-","-","-","-","-","-","-","-","-","-","-",44327,3,"-","-","-","-","-","-",44327,2,"-","-","-","-",15958,2,"-","-",22164,2,"-","-","-","-",13200,8,"-","-","-","-","-","-","-","-","-","-","-","-","-","-","-","-","-","-","-","-",54998,3,"-","-","-","-","-","-",137496,1,"-","-","-","-","-","-",210247,1,136744,1,"-","-","-","-","-","-","-","-","-","-","-","-",81034,3,"-","-","-","-","-","-","-","-","-","-","-","-","-","-","-","-",2984826,{"$f":"INDEX('Aircraft IDs'!A:G,MATCH(A313,'Aircraft IDs'!A:A,0),7)","v":"Military TP"}]
[574,"Military Transport / Special Mission","Transport & Utility","Boeing C-40 Clipper ","Boeing C-40 Clipper","CFM International CFM56 - 7B",14941,2,56029,1,"-","-","-","-","-","-",13699,2,"-","-","-","-","-","-","-","-",5871,2,5871,1,"-","-","-","-",11741,1,"-","-","-","-",9784,2,9784,2,"-","-",3913,1,"-","-","-","-","-","-","-","-","-","-","-","-","-","-","-","-",4893,1,4893,2,"-","-","-","-","-","-","-","-","-","-","-","-","-","-",20712,1,17261,1,"-","-","-","-",11506,2,"-","-","-","-","-","-","-","-",23014,2,9205,1,17261,1,"-","-","-","-","-","-","-","-",28767,1,"-","-","-","-",15182,1,"-","-",8097,1,8097,1,"-","-","-","-","-","-",12145,1,"-","-",30364,3,"-","-","-","-",7085,2,30364,2,8097,2,"-","-","-","-","-","-",75910,1,"-","-",28340,1,"-","-","-","-","-","-",45546,2,"-","-","-","-","-","-","-","-","-","-",45546,2,"-","-","-","-",15182,2,20876,1,26094,2,12525,3,"-","-",10437,2,46970,2,26094,2,"-","-",2903,1,20674,1,25000,1,5168,1,78114,2,"-","-","-","-",676984,1,"-","-","-","-","-","-","-","-","-","-","-","-",167409,1,150669,1,195311,1,"-","-",167409,2,"-","-","-","-","-","-","-","-","-","-",31029,3,"-","-",10638,8,"-","-","-","-",12412,2,"-","-","-","-","-","-","-","-","-","-","-","-","-","-","-","-",33245,1,"-","-","-","-","-","-","-","-","-","-","-","-","-","-",8800,12,"-","-","-","-","-","-","-","-","-","-","-","-","-","-","-","-","-","-","-","-","-","-","-","-","-","-","-","-",137496,1,"-","-","-","-",38499,2,148558,1,"-","-",6078,1,30388,2,"-","-","-","-","-","-",24310,1,"-","-","-","-","-","-","-","-","-","-","-",2,"-",1,"-",1,"-",1,2713300,{"$f":"INDEX('Aircraft IDs'!A:G,MATCH(A314,'Aircraft IDs'!A:A,0),7)","v":"Mil Transport"}]
[218,"Regional","Regional Jet","Bombardier CRJ","Bombardier CRJ700-700","General Electric CF34-8C","-","-","-","-","-","-",56029,1,"-","-","-","-","-","-","-","-","-","-","-","-",6849,3,"-","-","-","-","-","-","-","-","-","-","-","-","-","-","-","-","-","-","-","-","-","-","-","-","-","-","-","-","-","-","-","-","-","-",11741,4,"-","-",29353,2,"-","-","-","-","-","-","-","-","-","-","-","-","-","-","-","-","-","-","-","-","-","-","-","-","-","-","-","-","-","-",34520,1,13808,2,"-","-","-","-","-","-","-","-","-","-","-","-","-","-","-","-","-","-","-","-","-","-","-","-","-","-","-","-",3037,2,"-","-","-","-",60728,3,"-","-","-","-","-","-","-","-","-","-","-","-","-","-","-","-","-","-",65788,2,25303,1,"-","-","-","-","-","-","-","-","-","-","-","-","-","-","-","-","-","-","-","-",50606,5,"-","-","-","-","-","-","-","-","-","-","-","-","-","-","-","-",78282,2,31313,2,"-","-",2322,1,16538,1,20000,1,4134,1,"-","-","-","-","-","-","-","-","-","-","-","-",104151,3,"-","-","-","-","-","-","-","-","-","-","-","-","-","-","-","-","-","-","-","-","-","-","-","-","-","-",39894,3,"-","-","-","-","-","-","-","-","-","-","-","-","-","-","-","-","-","-","-","-","-","-",28369,4,"-","-","-","-","-","-","-","-",15958,1,"-","-","-","-","-","-","-","-","-","-",32999,2,"-","-","-","-","-","-","-","-","-","-","-","-","-","-","-","-","-","-","-","-",7700,8,"-","-","-","-","-","-","-","-","-","-",32999,1,101976,1,"-","-","-","-","-","-","-","-","-","-","-","-",50646,1,"-","-","-","-","-","-","-","-","-","-","-","-","-",1,"-","-","-","-",925102,{"$f":"INDEX('Aircraft IDs'!A:G,MATCH(A319,'Aircraft IDs'!A:A,0),7)","v":"CRJ"}]
[24,"Regional","Regional Jet","Embraer E170/190","Embraer E175-E2","Pratt & Whitney PW1700G","-","-","-","-","-","-",56029,1,"-","-","-","-","-","-","-","-","-","-","-","-",6849,3,"-","-","-","-","-","-","-","-","-","-","-","-","-","-","-","-","-","-","-","-","-","-","-","-","-","-","-","-","-","-","-","-","-","-",11741,4,"-","-",29353,2,"-","-","-","-","-","-","-","-","-","-","-","-","-","-","-","-","-","-","-","-","-","-","-","-","-","-","-","-","-","-",34520,1,13808,2,"-","-","-","-","-","-","-","-","-","-","-","-","-","-","-","-","-","-","-","-","-","-","-","-","-","-","-","-",3037,2,"-","-","-","-",60728,3,"-","-","-","-","-","-","-","-","-","-","-","-","-","-","-","-","-","-",65788,2,25303,1,"-","-","-","-","-","-","-","-","-","-","-","-","-","-","-","-","-","-","-","-",50606,5,"-","-","-","-","-","-","-","-","-","-","-","-","-","-","-","-",78282,2,31313,2,"-","-",2903,1,20674,1,25000,1,5168,1,"-","-","-","-","-","-","-","-","-","-","-","-",156228,3,"-","-","-","-","-","-","-","-","-","-","-","-","-","-","-","-","-","-","-","-","-","-","-","-","-","-",39894,3,"-","-","-","-","-","-","-","-","-","-","-","-","-","-","-","-","-","-","-","-","-","-",28369,4,"-","-","-","-","-","-","-","-",15958,1,"-","-","-","-","-","-","-","-","-","-",32999,2,"-","-","-","-","-","-","-","-","-","-","-","-","-","-","-","-","-","-","-","-",7700,8,"-","-","-","-","-","-","-","-","-","-",32999,1,101976,1,"-","-","-","-","-","-","-","-","-","-","-","-",50646,1,"-","-","-","-","-","-","-","-","-","-","-","-","-",1,"-","-","-","-",987930,{"$f":"INDEX('Aircraft IDs'!A:G,MATCH(A324,'Aircraft IDs'!A:A,0),7)","v":"EMB Regional"}]
[29,"Regional","Regional Jet","Sukhoi Superjet","Sukhoi Superjet 100","PowerJet SaM146","-","-","-","-","-","-",56029,1,"-","-","-","-","-","-","-","-","-","-","-","-",6849,3,"-","-","-","-","-","-","-","-","-","-","-","-","-","-","-","-","-","-","-","-","-","-","-","-","-","-","-","-","-","-","-","-","-","-",11741,4,"-","-",29353,2,"-","-","-","-","-","-","-","-","-","-","-","-","-","-","-","-","-","-","-","-","-","-","-","-","-","-","-","-","-","-",34520,1,13808,2,"-","-","-","-","-","-","-","-","-","-","-","-","-","-","-","-","-","-","-","-","-","-","-","-","-","-","-","-",3037,2,"-","-","-","-",60728,3,"-","-","-","-","-","-","-","-","-","-","-","-","-","-","-","-","-","-",65788,2,25303,1,"-","-","-","-","-","-","-","-","-","-","-","-","-","-","-","-","-","-","-","-",50606,5,"-","-","-","-","-","-","-","-","-","-","-","-","-","-","-","-",78282,2,31313,2,"-","-",2322,1,16538,1,20000,1,4134,1,"-","-","-","-","-","-","-","-","-","-","-","-",156228,3,"-","-","-","-","-","-","-","-","-","-","-","-","-","-","-","-","-","-","-","-","-","-","-","-","-","-",39894,3,"-","-","-","-","-","-","-","-","-","-","-","-","-","-","-","-","-","-","-","-","-","-",28369,4,"-","-","-","-","-","-","-","-",15958,1,"-","-","-","-","-","-","-","-","-","-",32999,2,"-","-","-","-","-","-","-","-","-","-","-","-","-","-","-","-","-","-","-","-",7700,8,"-","-","-","-","-","-","-","-","-","-",32999,1,101976,1,"-","-","-","-","-","-","-","-","-","-","-","-",50646,1,"-","-","-","-","-","-","-","-","-","-","-","-","-",1,"-","-","-","-",977179,{"$f":"INDEX('Aircraft IDs'!A:G,MATCH(A330,'Aircraft IDs'!A:A,0),7)","v":"Superjet 100"}]
[621,"Regional","Regional Turboprop","De Havilland Canada DHC-8","De Havilland Canada DHC-8-100","Pratt & Whitney Canada PW120","-","-","-","-","-","-",56029,1,"-","-","-","-","-","-","-","-","-","-","-","-",6849,3,"-","-","-","-","-","-","-","-","-","-","-","-","-","-","-","-","-","-","-","-","-","-","-","-","-","-","-","-","-","-","-","-","-","-",11741,4,"-","-",29353,2,"-","-","-","-","-","-","-","-","-","-","-","-","-","-","-","-","-","-","-","-","-","-","-","-","-","-","-","-","-","-",34520,1,13808,2,"-","-","-","-","-","-","-","-","-","-","-","-","-","-","-","-","-","-","-","-","-","-","-","-","-","-","-","-",3037,2,"-","-","-","-",60728,3,"-","-","-","-","-","-","-","-","-","-","-","-","-","-","-","-","-","-",65788,2,25303,1,"-","-","-","-","-","-","-","-","-","-","-","-","-","-","-","-","-","-","-","-",50606,5,"-","-","-","-","-","-","-","-","-","-","-","-","-","-","-","-",78282,2,31313,2,"-","-",2032,1,14472,1,17500,1,3618,1,"-","-","-","-","-","-","-","-","-","-","-","-",104151,3,"-","-","-","-","-","-","-","-","-","-","-","-","-","-","-","-","-","-","-","-","-","-","-","-","-","-",39894,3,"-","-","-","-","-","-","-","-","-","-","-","-","-","-","-","-","-","-","-","-","-","-",28369,4,"-","-","-","-","-","-","-","-",15958,1,"-","-","-","-","-","-","-","-","-","-",32999,2,"-","-","-","-","-","-","-","-","-","-","-","-","-","-","-","-","-","-","-","-",7700,8,"-","-","-","-","-","-","-","-","-","-",32999,1,101976,1,"-","-","-","-","-","-","-","-","-","-","-","-",50646,1,"-","-","-","-","-","-","-","-","-","-","-","-","-",1,"-","-","-","-",919730,{"$f":"INDEX('Aircraft IDs'!A:G,MATCH(A335,'Aircraft IDs'!A:A,0),7)","v":"Reg TP"}]
[625,"Regional","Regional Turboprop","Xian MA60","Xian MA60","Pratt & Whitney Canada PW120","-","-","-","-","-","-",56029,1,"-","-","-","-","-","-","-","-","-","-","-","-",6849,3,"-","-","-","-","-","-","-","-","-","-","-","-","-","-","-","-","-","-","-","-","-","-","-","-","-","-","-","-","-","-","-","-","-","-",11741,4,"-","-",29353,2,"-","-","-","-","-","-","-","-","-","-","-","-","-","-","-","-","-","-","-","-","-","-","-","-","-","-","-","-","-","-",34520,1,13808,2,"-","-","-","-","-","-","-","-","-","-","-","-","-","-","-","-","-","-","-","-","-","-","-","-","-","-","-","-",3037,2,"-","-","-","-",60728,3,"-","-","-","-","-","-","-","-","-","-","-","-","-","-","-","-","-","-",65788,2,25303,1,"-","-","-","-","-","-","-","-","-","-","-","-","-","-","-","-","-","-","-","-",50606,5,"-","-","-","-","-","-","-","-","-","-","-","-","-","-","-","-",78282,2,31313,2,"-","-",2032,1,14472,1,17500,1,3618,1,"-","-","-","-","-","-","-","-","-","-","-","-",104151,3,"-","-","-","-","-","-","-","-","-","-","-","-","-","-","-","-","-","-","-","-","-","-","-","-","-","-",39894,3,"-","-","-","-","-","-","-","-","-","-","-","-","-","-","-","-","-","-","-","-","-","-",28369,4,"-","-","-","-","-","-","-","-",15958,1,"-","-","-","-","-","-","-","-","-","-",32999,2,"-","-","-","-","-","-","-","-","-","-","-","-","-","-","-","-","-","-","-","-",7700,8,"-","-","-","-","-","-","-","-","-","-",32999,1,101976,1,"-","-","-","-","-","-","-","-","-","-","-","-",50646,1,"-","-","-","-","-","-","-","-","-","-","-","-","-",1,"-","-","-","-",919730,{"$f":"INDEX('Aircraft IDs'!A:G,MATCH(A341,'Aircraft IDs'!A:A,0),7)","v":"Reg TP"}]
[80,"Turbine GA","Turbine GA","Beechcraft King Air","Beechcraft King Air","Pratt & Whitney Canada PT6A","-","-","-","-",27454,1,"-","-","-","-","-","-","-","-","-","-","-","-","-","-","-","-","-","-","-","-","-","-","-","-","-","-","-","-","-","-","-","-","-","-","-","-","-","-","-","-","-","-","-","-","-","-","-","-","-","-","-","-","-","-","-","-","-","-","-","-","-","-","-","-","-","-","-","-","-","-","-","-","-","-","-","-",14096,1,"-","-","-","-","-","-","-","-","-","-","-","-","-","-","-","-","-","-","-","-","-","-","-","-","-","-","-","-","-","-","-","-",22317,1,"-","-","-","-","-","-","-","-","-","-","-","-","-","-",22317,1,"-","-","-","-","-","-","-","-","-","-","-","-","-","-",9918,2,"-","-","-","-","-","-","-","-","-","-",22317,4,"-","-","-","-","-","-","-","-","-","-","-","-","-","-",12398,1,"-","-","-","-","-","-","-","-","-","-","-","-","-","-","-","-","-","-","-","-",458,1,3266,1,3950,1,816,1,"-","-","-","-","-","-","-","-","-","-","-","-","-","-","-","-","-","-","-","-","-","-","-","-","-","-","-","-","-","-","-","-","-","-","-","-","-","-","-","-","-","-","-","-",15204,2,"-","-","-","-","-","-",26064,2,"-","-","-","-","-","-","-","-","-","-","-","-","-","-","-","-","-","-","-","-","-","-","-","-","-","-","-","-","-","-","-","-","-","-","-","-","-","-","-","-","-","-","-","-","-","-","-","-","-","-","-","-","-","-","-","-","-","-","-","-","-","-","-","-","-","-","-","-",27698,1,"-","-","-","-","-","-","-","-","-","-","-","-",8914,1,"-","-","-","-","-","-","-","-","-","-","-","-","-",1,"-","-","-","-",217209,{"$f":"INDEX('Aircraft IDs'!A:G,MATCH(A346,'Aircraft IDs'!A:A,0),7)","v":"Turbine GA"}]
[224,"Turbine GA","Turbine GA","Dornier Do 228","Dornier Do 228","Honeywell TPE331","-","-","-","-",27454,1,"-","-","-","-","-","-","-","-","-","-","-","-","-","-","-","-","-","-","-","-","-","-","-","-","-","-","-","-","-","-","-","-","-","-","-","-","-","-","-","-","-","-","-","-","-","-","-","-","-","-","-","-","-","-","-","-","-","-","-","-","-","-","-","-","-","-","-","-","-","-","-","-","-","-","-","-",14096,1,"-","-","-","-","-","-","-","-","-","-","-","-","-","-","-","-","-","-","-","-","-","-","-","-","-","-","-","-","-","-","-","-",22317,1,"-","-","-","-","-","-","-","-","-","-","-","-","-","-",22317,1,"-","-","-","-","-","-","-","-","-","-","-","-","-","-",9918,2,"-","-","-","-","-","-","-","-","-","-",22317,4,"-","-","-","-","-","-","-","-","-","-","-","-","-","-",12398,1,"-","-","-","-","-","-","-","-","-","-","-","-","-","-","-","-","-","-","-","-",1045,1,7442,1,9000,1,1860,1,"-","-","-","-","-","-","-","-","-","-","-","-","-","-","-","-","-","-","-","-","-","-","-","-","-","-","-","-","-","-","-","-","-","-","-","-","-","-","-","-","-","-","-","-",15204,2,"-","-","-","-","-","-",26064,2,"-","-","-","-","-","-","-","-","-","-","-","-","-","-","-","-","-","-","-","-","-","-","-","-","-","-","-","-","-","-","-","-","-","-","-","-","-","-","-","-","-","-","-","-","-","-","-","-","-","-","-","-","-","-","-","-","-","-","-","-","-","-","-","-","-","-","-","-",27698,1,"-","-","-","-","-","-","-","-","-","-","-","-",8914,1,"-","-","-","-","-","-","-","-","-","-","-","-","-",1,"-","-","-","-",228066,{"$f":"INDEX('Aircraft IDs'!A:G,MATCH(A351,'Aircraft IDs'!A:A,0),7)","v":"Turbine GA"}]
[75,"Turbine GA","Turbine GA","Piaggio P.180 Avanti","Piaggio P.180 Avanti","Pratt & Whitney Canada PT6A","-","-","-","-",27454,1,"-","-","-","-","-","-","-","-","-","-","-","-","-","-","-","-","-","-","-","-","-","-","-","-","-","-","-","-","-","-","-","-","-","-","-","-","-","-","-","-","-","-","-","-","-","-","-","-","-","-","-","-","-","-","-","-","-","-","-","-","-","-","-","-","-","-","-","-","-","-","-","-","-","-","-","-",14096,1,"-","-","-","-","-","-","-","-","-","-","-","-","-","-","-","-","-","-","-","-","-","-","-","-","-","-","-","-","-","-","-","-",22317,1,"-","-","-","-","-","-","-","-","-","-","-","-","-","-",22317,1,"-","-","-","-","-","-","-","-","-","-","-","-","-","-",9918,2,"-","-","-","-","-","-","-","-","-","-",22317,4,"-","-","-","-","-","-","-","-","-","-","-","-","-","-",12398,1,"-","-","-","-","-","-","-","-","-","-","-","-","-","-","-","-","-","-","-","-",203,1,1447,1,1750,1,362,1,"-","-","-","-","-","-","-","-","-","-","-","-","-","-","-","-","-","-","-","-","-","-","-","-","-","-","-","-","-","-","-","-","-","-","-","-","-","-","-","-","-","-","-","-",15204,2,"-","-","-","-","-","-",26064,2,"-","-","-","-","-","-","-","-","-","-","-","-","-","-","-","-","-","-","-","-","-","-","-","-","-","-","-","-","-","-","-","-","-","-","-","-","-","-","-","-","-","-","-","-","-","-","-","-","-","-","-","-","-","-","-","-","-","-","-","-","-","-","-","-","-","-","-","-",27698,1,"-","-","-","-","-","-","-","-","-","-","-","-",8914,1,"-","-","-","-","-","-","-","-","-","-","-","-","-",1,"-","-","-","-",212481,{"$f":"INDEX('Aircraft IDs'!A:G,MATCH(A357,'Aircraft IDs'!A:A,0),7)","v":"Turbine GA"}]
[79,"Turbine GA","Turbine GA","Reims-Cessna F406 Caravan II","Reims-Cessna F406 Caravan II","Pratt & Whitney Canada PT6A","-","-","-","-",27454,1,"-","-","-","-","-","-","-","-","-","-","-","-","-","-","-","-","-","-","-","-","-","-","-","-","-","-","-","-","-","-","-","-","-","-","-","-","-","-","-","-","-","-","-","-","-","-","-","-","-","-","-","-","-","-","-","-","-","-","-","-","-","-","-","-","-","-","-","-","-","-","-","-","-","-","-","-",14096,1,"-","-","-","-","-","-","-","-","-","-","-","-","-","-","-","-","-","-","-","-","-","-","-","-","-","-","-","-","-","-","-","-",22317,1,"-","-","-","-","-","-","-","-","-","-","-","-","-","-",22317,1,"-","-","-","-","-","-","-","-","-","-","-","-","-","-",9918,2,"-","-","-","-","-","-","-","-","-","-",22317,4,"-","-","-","-","-","-","-","-","-","-","-","-","-","-",12398,1,"-","-","-","-","-","-","-","-","-","-","-","-","-","-","-","-","-","-","-","-",203,1,1447,1,1750,1,362,1,"-","-","-","-","-","-","-","-","-","-","-","-","-","-","-","-","-","-","-","-","-","-","-","-","-","-","-","-","-","-","-","-","-","-","-","-","-","-","-","-","-","-","-","-",15204,2,"-","-","-","-","-","-",26064,2,"-","-","-","-","-","-","-","-","-","-","-","-","-","-","-","-","-","-","-","-","-","-","-","-","-","-","-","-","-","-","-","-","-","-","-","-","-","-","-","-","-","-","-","-","-","-","-","-","-","-","-","-","-","-","-","-","-","-","-","-","-","-","-","-","-","-","-","-",27698,1,"-","-","-","-","-","-","-","-","-","-","-","-",8914,1,"-","-","-","-","-","-","-","-","-","-","-","-","-",1,"-","-","-","-",212481,{"$f":"INDEX('Aircraft IDs'!A:G,MATCH(A362,'Aircraft IDs'!A:A,0),7)","v":"Turbine GA"}]
[169,"Turboprop Trainers / Light Attack","Turboprop Trainers / Light Attack","Beechcraft T-6 Texan II","Beechcraft T-6 Texan II","Pratt & Whitney Canada PT6A","-","-","-","-",19222,1,"-","-","-","-","-","-","-","-","-","-","-","-","-","-","-","-","-","-","-","-","-","-","-","-","-","-","-","-","-","-","-","-","-","-","-","-","-","-","-","-","-","-","-","-","-","-","-","-","-","-","-","-","-","-","-","-",58707,1,"-","-","-","-","-","-","-","-","-","-","-","-","-","-","-","-","-","-",9873,1,"-","-","-","-",63287,1,"-","-","-","-","-","-","-","-","-","-","-","-","-","-","-","-","-","-","-","-","-","-","-","-","-","-",15627,1,"-","-","-","-","-","-","-","-","-","-","-","-","-","-",15627,1,"-","-","-","-","-","-","-","-","-","-","-","-","-","-",6943,2,"-","-","-","-","-","-","-","-","-","-",15627,4,"-","-","-","-","-","-","-","-","-","-","-","-","-","-",8684,1,"-","-","-","-","-","-","-","-","-","-","-","-","-","-","-","-","-","-","-","-",308,1,2192,1,2650,1,548,1,"-","-","-","-","-","-","-","-","-","-","-","-","-","-","-","-","-","-","-","-","-","-","-","-","-","-","-","-","-","-",111607,2,"-","-","-","-",78124,2,"-","-","-","-","-","-",10648,2,"-","-","-","-","-","-",18245,2,"-","-","-","-","-","-","-","-","-","-","-","-","-","-","-","-","-","-","-","-","-","-","-","-","-","-","-","-","-","-","-","-","-","-","-","-","-","-","-","-","-","-","-","-","-","-","-","-","-","-","-","-","-","-","-","-","-","-","-","-","-","-","-","-","-","-","-","-",20144,1,"-","-","-","-","-","-","-","-","-","-","-","-",10434,1,"-","-","-","-","-","-","-","-","-","-","-","-","-",1,"-","-","-","-",468525,{"$f":"INDEX('Aircraft IDs'!A:G,MATCH(A367,'Aircraft IDs'!A:A,0),7)","v":"TP Trainer"}]
[677,"Turboprop Trainers / Light Attack","Turboprop Trainers / Light Attack","HHT-40","HAL HHT-40","Honeywell TPE331","-","-","-","-",19222,1,"-","-","-","-","-","-","-","-","-","-","-","-","-","-","-","-","-","-","-","-","-","-","-","-","-","-","-","-","-","-","-","-","-","-","-","-","-","-","-","-","-","-","-","-","-","-","-","-","-","-","-","-","-","-","-","-",58707,1,"-","-","-","-","-","-","-","-","-","-","-","-","-","-","-","-","-","-",9873,1,"-","-","-","-",63287,1,"-","-","-","-","-","-","-","-","-","-","-","-","-","-","-","-","-","-","-","-","-","-","-","-","-","-",15627,1,"-","-","-","-","-","-","-","-","-","-","-","-","-","-",15627,1,"-","-","-","-","-","-","-","-","-","-","-","-","-","-",6943,2,"-","-","-","-","-","-","-","-","-","-",15627,4,"-","-","-","-","-","-","-","-","-","-","-","-","-","-",8684,1,"-","-","-","-","-","-","-","-","-","-","-","-","-","-","-","-","-","-","-","-",308,1,2192,1,2650,1,548,1,"-","-","-","-","-","-","-","-","-","-","-","-","-","-","-","-","-","-","-","-","-","-","-","-","-","-","-","-","-","-",111607,2,"-","-","-","-",78124,2,"-","-","-","-","-","-",10648,2,"-","-","-","-","-","-",18245,2,"-","-","-","-","-","-","-","-","-","-","-","-","-","-","-","-","-","-","-","-","-","-","-","-","-","-","-","-","-","-","-","-","-","-","-","-","-","-","-","-","-","-","-","-","-","-","-","-","-","-","-","-","-","-","-","-","-","-","-","-","-","-","-","-","-","-","-","-",20144,1,"-","-","-","-","-","-","-","-","-","-","-","-",10434,1,"-","-","-","-","-","-","-","-","-","-","-","-","-",1,"-","-","-","-",468525,{"$f":"INDEX('Aircraft IDs'!A:G,MATCH(A369,'Aircraft IDs'!A:A,0),7)","v":"TP Trainer"}]
[901,"UAV","MALE/HALE","Bayraktar TB-2","Bayraktar TB-2","NULL","-","-",37353,1,"-","-","-","-","-","-","-","-","-","-","-","-",24461,2,"-","-","-","-","-","-","-","-","-","-","-","-","-","-","-","-","-","-","-","-","-","-","-","-","-","-","-","-","-","-","-","-",19569,2,11741,4,"-","-","-","-","-","-","-","-","-","-","-","-",24461,1,"-","-",11741,2,19569,1,"-","-","-","-","-","-","-","-","-","-","-","-",51781,1,"-","-",20712,1,"-","-","-","-","-","-","-","-","-","-","-","-","-","-","-","-","-","-","-","-","-","-","-","-","-","-","-","-","-","-","-","-","-","-","-","-","-","-","-","-","-","-","-","-","-","-","-","-","-","-","-","-","-","-","-","-","-","-","-","-","-","-","-","-","-","-","-","-","-","-","-","-","-","-","-","-","-","-","-","-","-","-","-","-","-","-","-","-","-","-","-","-","-","-","-","-","-","-","-","-","-","-","-","-","-","-","-","-","-","-","-","-","-","-","-","-","-","-","-","-","-","-","-","-","-","-","-","-","-","-","-","-","-","-","-","-",100446,1,"-","-","-","-","-","-",139508,1,"-","-","-","-","-","-","-","-","-","-","-","-","-","-","-","-",17731,2,"-","-",66491,1,13298,2,"-","-","-","-","-","-","-","-","-","-","-","-","-","-","-","-","-","-","-","-","-","-","-","-","-","-","-","-","-","-",19800,3,"-","-",43999,1,"-","-","-","-","-","-",87997,1,"-","-","-","-","-","-","-","-","-","-","-","-","-","-","-","-","-","-","-","-","-","-",91905,1,"-","-","-","-","-","-",70904,1,"-","-","-","-","-","-","-","-","-","-",40517,4,"-","-","-","-","-","-","-","-","-","-","-","-",914017,{"$f":"INDEX('Aircraft IDs'!A:G,MATCH(A375,'Aircraft IDs'!A:A,0),7)","v":"UAV"}]
[673,"UAV","MALE/HALE","Eurodrone","Eurodrone","General Electric Catalyst","-","-",39221,1,"-","-","-","-","-","-","-","-","-","-","-","-",25684,2,"-","-","-","-","-","-","-","-","-","-","-","-","-","-","-","-","-","-","-","-","-","-","-","-","-","-","-","-","-","-","-","-",20547,2,12328,4,"-","-","-","-","-","-","-","-","-","-","-","-",25684,1,"-","-",12328,2,20547,1,"-","-","-","-","-","-","-","-","-","-","-","-",54370,1,"-","-",21748,1,"-","-","-","-","-","-","-","-","-","-","-","-","-","-","-","-","-","-","-","-","-","-","-","-","-","-","-","-","-","-","-","-","-","-","-","-","-","-","-","-","-","-","-","-","-","-","-","-","-","-","-","-","-","-","-","-","-","-","-","-","-","-","-","-","-","-","-","-","-","-","-","-","-","-","-","-","-","-","-","-","-","-","-","-","-","-","-","-","-","-","-","-","-","-","-","-","-","-","-","-","-","-","-","-","-","-","-","-","-","-","-","-","-","-","-","-","-","-","-","-","-","-","-","-","-","-","-","-","-","-","-","-","-","-","-","-",105468,1,"-","-","-","-","-","-",146483,1,"-","-","-","-","-","-","-","-","-","-","-","-","-","-","-","-",18618,2,"-","-",69816,1,13963,2,"-","-","-","-","-","-","-","-","-","-","-","-","-","-","-","-","-","-","-","-","-","-","-","-","-","-","-","-","-","-",20790,3,"-","-",46199,1,"-","-","-","-","-","-",92397,1,"-","-","-","-","-","-","-","-","-","-","-","-","-","-","-","-","-","-","-","-","-","-",96500,1,"-","-","-","-","-","-",74449,1,"-","-","-","-","-","-","-","-","-","-",42543,4,"-","-","-","-","-","-","-","-","-","-","-","-",959716,{"$f":"INDEX('Aircraft IDs'!A:G,MATCH(A376,'Aircraft IDs'!A:A,0),7)","v":"UAV"}]
[449,"UAV","MALE/HALE","MQ-4C Triton","MQ-4C Triton","Rolls-Royce F137-RR-100","-","-",37353,1,"-","-","-","-","-","-","-","-","-","-","-","-",24461,2,"-","-","-","-","-","-","-","-","-","-","-","-","-","-","-","-","-","-","-","-","-","-","-","-","-","-","-","-","-","-","-","-",19569,2,11741,4,"-","-","-","-","-","-","-","-","-","-","-","-",24461,1,"-","-",11741,2,19569,1,"-","-","-","-","-","-","-","-","-","-","-","-",51781,1,"-","-",20712,1,"-","-","-","-","-","-","-","-","-","-","-","-","-","-","-","-","-","-","-","-","-","-","-","-","-","-","-","-","-","-","-","-","-","-","-","-","-","-","-","-","-","-","-","-","-","-","-","-","-","-","-","-","-","-","-","-","-","-","-","-","-","-","-","-","-","-","-","-","-","-","-","-","-","-","-","-","-","-","-","-","-","-","-","-","-","-","-","-","-","-","-","-","-","-","-","-","-","-","-","-","-","-","-","-","-","-","-","-","-","-","-","-","-","-","-","-","-","-","-","-","-","-","-","-","-","-","-","-","-","-","-","-","-","-","-","-",100446,1,"-","-","-","-","-","-",139508,1,"-","-","-","-","-","-","-","-","-","-","-","-","-","-","-","-",17731,2,"-","-",66491,1,13298,2,"-","-","-","-","-","-","-","-","-","-","-","-","-","-","-","-","-","-","-","-","-","-","-","-","-","-","-","-","-","-",19800,3,"-","-",43999,1,"-","-","-","-","-","-",87997,1,"-","-","-","-","-","-","-","-","-","-","-","-","-","-","-","-","-","-","-","-","-","-",91905,1,"-","-","-","-","-","-",70904,1,"-","-","-","-","-","-","-","-","-","-",40517,4,"-","-","-","-","-","-","-","-","-","-","-","-",914017,{"$f":"INDEX('Aircraft IDs'!A:G,MATCH(A377,'Aircraft IDs'!A:A,0),7)","v":"UAV"}]
[450,"UAV","MALE/HALE","MQ-9 Reaper","MQ-9 Reaper","Honeywell TPE331","-","-",37353,1,"-","-","-","-","-","-","-","-","-","-","-","-",24461,2,"-","-","-","-","-","-","-","-","-","-","-","-","-","-","-","-","-","-","-","-","-","-","-","-","-","-","-","-","-","-","-","-",19569,2,11741,4,"-","-","-","-","-","-","-","-","-","-","-","-",24461,1,"-","-",11741,2,19569,1,"-","-","-","-","-","-","-","-","-","-","-","-",51781,1,"-","-",20712,1,"-","-","-","-","-","-","-","-","-","-","-","-","-","-","-","-","-","-","-","-","-","-","-","-","-","-","-","-","-","-","-","-","-","-","-","-","-","-","-","-","-","-","-","-","-","-","-","-","-","-","-","-","-","-","-","-","-","-","-","-","-","-","-","-","-","-","-","-","-","-","-","-","-","-","-","-","-","-","-","-","-","-","-","-","-","-","-","-","-","-","-","-","-","-","-","-","-","-","-","-","-","-","-","-","-","-","-","-","-","-","-","-","-","-","-","-","-","-","-","-","-","-","-","-","-","-","-","-","-","-","-","-","-","-","-","-",100446,1,"-","-","-","-","-","-",139508,1,"-","-","-","-","-","-","-","-","-","-","-","-","-","-","-","-",17731,2,"-","-",66491,1,13298,2,"-","-","-","-","-","-","-","-","-","-","-","-","-","-","-","-","-","-","-","-","-","-","-","-","-","-","-","-","-","-",19800,3,"-","-",43999,1,"-","-","-","-","-","-",87997,1,"-","-","-","-","-","-","-","-","-","-","-","-","-","-","-","-","-","-","-","-","-","-",91905,1,"-","-","-","-","-","-",70904,1,"-","-","-","-","-","-","-","-","-","-",40517,4,"-","-","-","-","-","-","-","-","-","-","-","-",914017,{"$f":"INDEX('Aircraft IDs'!A:G,MATCH(A378,'Aircraft IDs'!A:A,0),7)","v":"UAV"}]
[902,"UAV","MALE/HALE","Other MALE/HALE","Other MALE/HALE","NULL","-","-",37353,1,"-","-","-","-","-","-","-","-","-","-","-","-",24461,2,"-","-","-","-","-","-","-","-","-","-","-","-","-","-","-","-","-","-","-","-","-","-","-","-","-","-","-","-","-","-","-","-",19569,2,11741,4,"-","-","-","-","-","-","-","-","-","-","-","-",24461,1,"-","-",11741,2,19569,1,"-","-","-","-","-","-","-","-","-","-","-","-",51781,1,"-","-",20712,1,"-","-","-","-","-","-","-","-","-","-","-","-","-","-","-","-","-","-","-","-","-","-","-","-","-","-","-","-","-","-","-","-","-","-","-","-","-","-","-","-","-","-","-","-","-","-","-","-","-","-","-","-","-","-","-","-","-","-","-","-","-","-","-","-","-","-","-","-","-","-","-","-","-","-","-","-","-","-","-","-","-","-","-","-","-","-","-","-","-","-","-","-","-","-","-","-","-","-","-","-","-","-","-","-","-","-","-","-","-","-","-","-","-","-","-","-","-","-","-","-","-","-","-","-","-","-","-","-","-","-","-","-","-","-","-","-",100446,1,"-","-","-","-","-","-",139508,1,"-","-","-","-","-","-","-","-","-","-","-","-","-","-","-","-",17731,2,"-","-",66491,1,13298,2,"-","-","-","-","-","-","-","-","-","-","-","-","-","-","-","-","-","-","-","-","-","-","-","-","-","-","-","-","-","-",19800,3,"-","-",43999,1,"-","-","-","-","-","-",87997,1,"-","-","-","-","-","-","-","-","-","-","-","-","-","-","-","-","-","-","-","-","-","-",91905,1,"-","-","-","-","-","-",70904,1,"-","-","-","-","-","-","-","-","-","-",40517,4,"-","-","-","-","-","-","-","-","-","-","-","-",914017,{"$f":"INDEX('Aircraft IDs'!A:G,MATCH(A379,'Aircraft IDs'!A:A,0),7)","v":"UAV"}]
[452,"UAV","MALE/HALE","RQ-4A Global Hawk","RQ-4A Global Hawk","Rolls-Royce F137-RR-100","-","-",37353,1,"-","-","-","-","-","-","-","-","-","-","-","-",24461,2,"-","-","-","-","-","-","-","-","-","-","-","-","-","-","-","-","-","-","-","-","-","-","-","-","-","-","-","-","-","-","-","-",19569,2,11741,4,"-","-","-","-","-","-","-","-","-","-","-","-",24461,1,"-","-",11741,2,19569,1,"-","-","-","-","-","-","-","-","-","-","-","-",51781,1,"-","-",20712,1,"-","-","-","-","-","-","-","-","-","-","-","-","-","-","-","-","-","-","-","-","-","-","-","-","-","-","-","-","-","-","-","-","-","-","-","-","-","-","-","-","-","-","-","-","-","-","-","-","-","-","-","-","-","-","-","-","-","-","-","-","-","-","-","-","-","-","-","-","-","-","-","-","-","-","-","-","-","-","-","-","-","-","-","-","-","-","-","-","-","-","-","-","-","-","-","-","-","-","-","-","-","-","-","-","-","-","-","-","-","-","-","-","-","-","-","-","-","-","-","-","-","-","-","-","-","-","-","-","-","-","-","-","-","-","-","-",100446,1,"-","-","-","-","-","-",139508,1,"-","-","-","-","-","-","-","-","-","-","-","-","-","-","-","-",17731,2,"-","-",66491,1,13298,2,"-","-","-","-","-","-","-","-","-","-","-","-","-","-","-","-","-","-","-","-","-","-","-","-","-","-","-","-","-","-",19800,3,"-","-",43999,1,"-","-","-","-","-","-",87997,1,"-","-","-","-","-","-","-","-","-","-","-","-","-","-","-","-","-","-","-","-","-","-",91905,1,"-","-","-","-","-","-",70904,1,"-","-","-","-","-","-","-","-","-","-",40517,4,"-","-","-","-","-","-","-","-","-","-","-","-",914017,{"$f":"INDEX('Aircraft IDs'!A:G,MATCH(A380,'Aircraft IDs'!A:A,0),7)","v":"UAV"}]
[907,"UAV","TUAV","Other TUAV","Other TUAV","NULL","-","-",37353,1,"-","-","-","-","-","-","-","-","-","-","-","-",24461,2,"-","-","-","-","-","-","-","-","-","-","-","-","-","-","-","-","-","-","-","-","-","-","-","-","-","-","-","-","-","-","-","-",19569,2,11741,4,"-","-","-","-","-","-","-","-","-","-","-","-",24461,1,"-","-",11741,2,19569,1,"-","-","-","-","-","-","-","-","-","-","-","-",51781,1,"-","-",20712,1,"-","-","-","-","-","-","-","-","-","-","-","-","-","-","-","-","-","-","-","-","-","-","-","-","-","-","-","-","-","-","-","-","-","-","-","-","-","-","-","-","-","-","-","-","-","-","-","-","-","-","-","-","-","-","-","-","-","-","-","-","-","-","-","-","-","-","-","-","-","-","-","-","-","-","-","-","-","-","-","-","-","-","-","-","-","-","-","-","-","-","-","-","-","-","-","-","-","-","-","-","-","-","-","-","-","-","-","-","-","-","-","-","-","-","-","-","-","-","-","-","-","-","-","-","-","-","-","-","-","-","-","-","-","-","-","-",100446,1,"-","-","-","-","-","-",139508,1,"-","-","-","-","-","-","-","-","-","-","-","-","-","-","-","-",17731,2,"-","-",66491,1,13298,2,"-","-","-","-","-","-","-","-","-","-","-","-","-","-","-","-","-","-","-","-","-","-","-","-","-","-","-","-","-","-",19800,3,"-","-",43999,1,"-","-","-","-","-","-",87997,1,"-","-","-","-","-","-","-","-","-","-","-","-","-","-","-","-","-","-","-","-","-","-",91905,1,"-","-","-","-","-","-",70904,1,"-","-","-","-","-","-","-","-","-","-",40517,4,"-","-","-","-","-","-","-","-","-","-","-","-",914017,{"$f":"INDEX('Aircraft IDs'!A:G,MATCH(A381,'Aircraft IDs'!A:A,0),7)","v":"UAV"}]
[906,"UAV","TUAV","RQ-7 Shadow","RQ-7 Shadow","NULL","-","-",37353,1,"-","-","-","-","-","-","-","-","-","-","-","-",24461,2,"-","-","-","-","-","-","-","-","-","-","-","-","-","-","-","-","-","-","-","-","-","-","-","-","-","-","-","-","-","-","-","-",19569,2,11741,4,"-","-","-","-","-","-","-","-","-","-","-","-",24461,1,"-","-",11741,2,19569,1,"-","-","-","-","-","-","-","-","-","-","-","-",51781,1,"-","-",20712,1,"-","-","-","-","-","-","-","-","-","-","-","-","-","-","-","-","-","-","-","-","-","-","-","-","-","-","-","-","-","-","-","-","-","-","-","-","-","-","-","-","-","-","-","-","-","-","-","-","-","-","-","-","-","-","-","-","-","-","-","-","-","-","-","-","-","-","-","-","-","-","-","-","-","-","-","-","-","-","-","-","-","-","-","-","-","-","-","-","-","-","-","-","-","-","-","-","-","-","-","-","-","-","-","-","-","-","-","-","-","-","-","-","-","-","-","-","-","-","-","-","-","-","-","-","-","-","-","-","-","-","-","-","-","-","-","-",100446,1,"-","-","-","-","-","-",139508,1,"-","-","-","-","-","-","-","-","-","-","-","-","-","-","-","-",17731,2,"-","-",66491,1,13298,2,"-","-","-","-","-","-","-","-","-","-","-","-","-","-","-","-","-","-","-","-","-","-","-","-","-","-","-","-","-","-",19800,3,"-","-",43999,1,"-","-","-","-","-","-",87997,1,"-","-","-","-","-","-","-","-","-","-","-","-","-","-","-","-","-","-","-","-","-","-",91905,1,"-","-","-","-","-","-",70904,1,"-","-","-","-","-","-","-","-","-","-",40517,4,"-","-","-","-","-","-","-","-","-","-","-","-",914017,{"$f":"INDEX('Aircraft IDs'!A:G,MATCH(A382,'Aircraft IDs'!A:A,0),7)","v":"UAV"}]
[903,"UAV","VTUAV","MQ-8","MQ-8","Allison Model 250 (B)","-","-",37353,1,"-","-","-","-","-","-","-","-","-","-","-","-",24461,2,"-","-","-","-","-","-","-","-","-","-","-","-","-","-","-","-","-","-","-","-","-","-","-","-","-","-","-","-","-","-","-","-",19569,2,11741,4,"-","-","-","-","-","-","-","-","-","-","-","-",24461,1,"-","-",11741,2,19569,1,"-","-","-","-","-","-","-","-","-","-","-","-",51781,1,"-","-",20712,1,"-","-","-","-","-","-","-","-","-","-","-","-","-","-","-","-","-","-","-","-","-","-","-","-","-","-","-","-","-","-","-","-","-","-","-","-","-","-","-","-","-","-","-","-","-","-","-","-","-","-","-","-","-","-","-","-","-","-","-","-","-","-","-","-","-","-","-","-","-","-","-","-","-","-","-","-","-","-","-","-","-","-","-","-","-","-","-","-","-","-","-","-","-","-","-","-","-","-","-","-","-","-","-","-","-","-","-","-","-","-","-","-","-","-","-","-","-","-","-","-","-","-","-","-","-","-","-","-","-","-","-","-","-","-","-","-",100446,1,"-","-","-","-","-","-",139508,1,"-","-","-","-","-","-","-","-","-","-","-","-","-","-","-","-",17731,2,"-","-",66491,1,13298,2,"-","-","-","-","-","-","-","-","-","-","-","-","-","-","-","-","-","-","-","-","-","-","-","-","-","-","-","-","-","-",19800,3,"-","-",43999,1,"-","-","-","-","-","-",87997,1,"-","-","-","-","-","-","-","-","-","-","-","-","-","-","-","-","-","-","-","-","-","-",91905,1,"-","-","-","-","-","-",70904,1,"-","-","-","-","-","-","-","-","-","-",40517,4,"-","-","-","-","-","-","-","-","-","-","-","-",914017,{"$f":"INDEX('Aircraft IDs'!A:G,MATCH(A383,'Aircraft IDs'!A:A,0),7)","v":"UAV"}]
[904,"UAV","VTUAV","Other VTUAV","Other VTUAV","NULL","-","-",37353,1,"-","-","-","-","-","-","-","-","-","-","-","-",24461,2,"-","-","-","-","-","-","-","-","-","-","-","-","-","-","-","-","-","-","-","-","-","-","-","-","-","-","-","-","-","-","-","-",19569,2,11741,4,"-","-","-","-","-","-","-","-","-","-","-","-",24461,1,"-","-",11741,2,19569,1,"-","-","-","-","-","-","-","-","-","-","-","-",51781,1,"-","-",20712,1,"-","-","-","-","-","-","-","-","-","-","-","-","-","-","-","-","-","-","-","-","-","-","-","-","-","-","-","-","-","-","-","-","-","-","-","-","-","-","-","-","-","-","-","-","-","-","-","-","-","-","-","-","-","-","-","-","-","-","-","-","-","-","-","-","-","-","-","-","-","-","-","-","-","-","-","-","-","-","-","-","-","-","-","-","-","-","-","-","-","-","-","-","-","-","-","-","-","-","-","-","-","-","-","-","-","-","-","-","-","-","-","-","-","-","-","-","-","-","-","-","-","-","-","-","-","-","-","-","-","-","-","-","-","-","-","-",100446,1,"-","-","-","-","-","-",139508,1,"-","-","-","-","-","-","-","-","-","-","-","-","-","-","-","-",17731,2,"-","-",66491,1,13298,2,"-","-","-","-","-","-","-","-","-","-","-","-","-","-","-","-","-","-","-","-","-","-","-","-","-","-","-","-","-","-",19800,3,"-","-",43999,1,"-","-","-","-","-","-",87997,1,"-","-","-","-","-","-","-","-","-","-","-","-","-","-","-","-","-","-","-","-","-","-",91905,1,"-","-","-","-","-","-",70904,1,"-","-","-","-","-","-","-","-","-","-",40517,4,"-","-","-","-","-","-","-","-","-","-","-","-",914017,{"$f":"INDEX('Aircraft IDs'!A:G,MATCH(A384,'Aircraft IDs'!A:A,0),7)","v":"UAV"}]
[]
[null,null,null,null,null,null,null,null,null,null,null,null,null,null,null,null,null,null,null,null,null,null,{"$f":"ISNUMBER(X373)","v":false}]
[null,null,null,null,null,null,null,null,null,null,null,null,null,null,null,null,null,null,null,null,null,null,{"$f":"ISNUMBER(X374)","v":true}]
[null,null,null,null,null,null,null,null,null,null,null,null,null,null,null,null,null,null,null,null,null,null,true]
[null,null,null,null,null,null,null,null,null,null,null,null,null,null,null,null,null,null,null,null,null,null,true]