{"text_format":"1","workbook":"xlsx","n_sheets":5,"sheets":["Upgrades","Avionics ID","Sheet2","Aircraft IDs","Pt1-AvionicsComponentCosts"],"not_rendered":{"charts":0,"images":0,"macros":0,"external_links":2,"defined_names":7,"comments":1,"pivot_tables":0},"unopened":[],"bounds":{"document_bytes":16777216,"sheet_cells":100000,"rows_first":2000,"rows_last":500,"rows_between":2000,"halvings":0,"cell_chars":16384,"cell_head_chars":4096},"cells_cut":0,"cells_raw":0,"read":"whole","date_system":"1900"}

{"sheet":"Upgrades","index":0,"n_rows":186,"n_cols":64,"rows_kept":186,"cut":false,"hidden":false,"merged":[[3,11,3,12],[3,13,3,14]]}
[false,"Repair rate, not replacement rate",null,null,null,null,40,25,null,null,null,null,2,null,null,null,null,null,null,null,null,null,null,null,null,null,null,null,null,null,null,null,null,null,null,null,null,null,null,null,null,null,null,null,null,null,null,null,0.15,0.25,0.45,0.15]
[false,"= use Counterpoint Annual spares",null,null,null,null,null,null,null,null,null,null,"initial",null,null,null,null,null,null,null,null,null,null,null,null,null,null,null,null,null,null,null,null,{"$f":"COLUMN()","v":34},{"$f":"COLUMN()","v":35},{"$f":"COLUMN()","v":36},{"$f":"COLUMN()","v":37},{"$f":"COLUMN()","v":38},{"$f":"COLUMN()","v":39}]
[null,"rotable stock rate per repair"]
[0.1,"Adjustment factor",5.0000000000000001E-3,null,null,null,null,null,5,null,null,null,null,"Price of Spares/Repairs Components\n(as % of Full Price)",null,"Check 1",null,null,"Check 2",null,null,"Check 3",null,null,"Check 4",null,null,"Check 5",null,null,"Check 6",null,null,"Check 7",null,null,"Check 8",null,null,"Check 9",null,null,"Check 10"]
["ID","Unit","Annual Replacement Rate","Annual Repair Rate","Regulatory Service","Target Operational Date","Product Life Cycle (years)","A, B, C, D Check",null,"Applicable class of A/C","Notes","annual Repairs","initial Spares","Repairs","Spares / exchange","Year","Repair %","Exchange %","Year","Repair %","Exchange %","Year","Repair %","Exchange %","Year","Repair %","Exchange %","Year","Repair %","Exchange %","Year","Repair %","Exchange %","Year","Repair %","Exchange %","Year","Repair %","Exchange %","Year","Repair %","Spares %","Year","Repair %","Spares %","END MARKER","Technology Service","Technology Price",2024,2025,2026,2027,2028,2029,2030,2031,2032,2033,2034,2035,"Number purchased over 40 years for 100 aircraft",null,"Number repaired over 40 years for 100 aircraft"]
[{"$f":"INDEX('Avionics ID'!A:E,MATCH(B6,'Avionics ID'!E:E,0),1)","v":713},"A/T Engine Control Unit",{"$f":"IFERROR(100%/G6,0)","v":2.5000000000000001E-2},0.03,null,null,40,{"$f":"IF(G6=0,\"\",IF(LEN(E6)>0,\"Technology / regulatory\",\"Obsolescence\"))","v":"Obsolescence"},{"$f":"SUBSTITUTE(ADDRESS(1,MATCH(A6,'Pt1-AvionicsComponentCosts'!$A$6:$NC$6,0)+1),\"$1\",\"\")","v":"$H"},{"$f":"_xlfn.TEXTJOIN(\", \",TRUE,_xlfn.UNIQUE(_xlfn._xlws.SORT(_xlfn._xlws.FILTER('Pt1-AvionicsComponentCosts'!$NF$12:$NF$384,ISNUMBER(INDIRECT(\"'Pt1-AvionicsComponentCosts'!\"&I6&\"$12:\"&I6&\"$384\"))))))","v":"A220, A300, A320, A321, A330, A340, A350, A380, ATR, B717, B737, B747, B757, B767, B777, B787, C919, EMB Regional, MC-21, MD-11, Mil Transport, Military Jet, NSA"},null,{"$f":"IF($A$1,D6,IF(C6=0,D6,D6))","v":0.03},{"$f":"IF($A$2,INDEX([1]Sheet1!$A$12:$AO$193,MATCH($A6,[1]Sheet1!$A$12:$A$193,0),8),2*$L6)","v":0.06},{"$f":"INDEX([1]Sheet1!$A$12:$AO$193,MATCH($A6,[1]Sheet1!$A$12:$A$193,0),9)*(1+$A$4)","v":0.44660000000000005},{"$f":"INDEX([1]Sheet1!$A$12:$AO$193,MATCH($A6,[1]Sheet1!$A$12:$A$193,0),10)*(1+$A$4)","v":2.2847},{"$f":"COUNTIF($P$5:P$5,\"Year\")*$I$4","v":5},{"$f":"0%","v":0},{"$f":"IF(MOD(P6,$G6)=0,$M6/2,IF(MOD(P6,MROUND($G6/2,$I$4))=0,$M6/2,0))","v":0},{"$f":"COUNTIF($P$5:S$5,\"Year\")*$I$4","v":10},{"$f":"0%","v":0},{"$f":"IF(MOD(S6,$G6)=0,$M6/2,IF(MOD(S6,MROUND($G6/2,$I$4))=0,$M6/2,0))","v":0},{"$f":"COUNTIF($P$5:V$5,\"Year\")*$I$4","v":15},{"$f":"0%","v":0},{"$f":"IF(MOD(V6,$G6)=0,$M6/2,IF(MOD(V6,MROUND($G6/2,$I$4))=0,$M6/2,0))","v":0},{"$f":"COUNTIF($P$5:Y$5,\"Year\")*$I$4","v":20},{"$f":"0%","v":0},{"$f":"IF(MOD(Y6,$G6)=0,$M6/2,IF(MOD(Y6,MROUND($G6/2,$I$4))=0,$M6/2,0))","v":0.03},{"$f":"COUNTIF($P$5:AB$5,\"Year\")*$I$4","v":25},{"$f":"0%","v":0},{"$f":"IF(MOD(AB6,$G6)=0,$M6/2,IF(MOD(AB6,MROUND($G6/2,$I$4))=0,$M6/2,0))","v":0},{"$f":"COUNTIF($P$5:AE$5,\"Year\")*$I$4","v":30},{"$f":"0%","v":0},{"$f":"IF(MOD(AE6,$G6)=0,$M6/2,IF(MOD(AE6,MROUND($G6/2,$I$4))=0,$M6/2,0))","v":0},{"$f":"COUNTIF($P$5:AH$5,\"Year\")*$I$4","v":35},{"$f":"0%","v":0},{"$f":"IF(MOD(AH6,$G6)=0,$M6/2,IF(MOD(AH6,MROUND($G6/2,$I$4))=0,$M6/2,0))","v":0},{"$f":"COUNTIF($P$5:AK$5,\"Year\")*$I$4","v":40},{"$f":"0%","v":0},{"$f":"IF(MOD(AK6,$G6)=0,$M6/2,IF(MOD(AK6,MROUND($G6/2,$I$4))=0,$M6/2,0))","v":0.03},null,null,null,null,null,null,null,{"$f":"IF(LEN($E6)=0,\"\",$E6)","v":""},{"$f":"IF($H6=\"Technology / regulatory\",$O6,0)","v":0},{"$f":"IF($H6=\"Technology / regulatory\",IF(AW$5=$F6-2,$AW$1,IF(AW$5=$F6-1,$AX$1,IF(AW$5=$F6,$AY$1,IF(AW$5=$F6+1,$AZ$1,0)))),0)","v":0},0,0,0,0,0,0,0,0,0,0,0,{"$f":"(SUM(AW6:BH6)+SUMIFS(P6:AS6,P$5:AS$5,\"Exchange %\")+$M6)*100","v":12},{"$f":"$M6*100","v":6},{"$f":"40*$L6*100","v":120},{"$f":"INDEX('Avionics ID'!A:E,MATCH(B6,'Avionics ID'!E:E,0),3)","v":"Auto-pilot"}]
[{"$f":"INDEX('Avionics ID'!A:E,MATCH(B7,'Avionics ID'!E:E,0),1)","v":763},"ADF radios",{"$f":"IFERROR(100%/G7,0)","v":0.05},0.03,null,null,20,{"$f":"IF(G7=0,\"\",IF(LEN(E7)>0,\"Technology / regulatory\",\"Obsolescence\"))","v":"Obsolescence"},{"$f":"SUBSTITUTE(ADDRESS(1,MATCH(A7,'Pt1-AvionicsComponentCosts'!$A$6:$NC$6,0)+1),\"$1\",\"\")","v":"$P"},{"$f":"_xlfn.TEXTJOIN(\", \",TRUE,_xlfn.UNIQUE(_xlfn._xlws.SORT(_xlfn._xlws.FILTER('Pt1-AvionicsComponentCosts'!$NF$12:$NF$384,ISNUMBER(INDIRECT(\"'Pt1-AvionicsComponentCosts'!\"&I7&\"$12:\"&I7&\"$384\"))))))","v":"A300, A320, A330, A340, A350, A380, B747, B767, B777, B787"},null,{"$f":"IF($A$1,D7,IF(C7=0,D7,D7))","v":0.03},{"$f":"IF($A$2,INDEX([1]Sheet1!$A$12:$AO$193,MATCH($A7,[1]Sheet1!$A$12:$A$193,0),8),2*$L7)","v":0.06},{"$f":"INDEX([1]Sheet1!$A$12:$AO$193,MATCH($A7,[1]Sheet1!$A$12:$A$193,0),9)*(1+$A$4)","v":0.55110000000000003},{"$f":"INDEX([1]Sheet1!$A$12:$AO$193,MATCH($A7,[1]Sheet1!$A$12:$A$193,0),10)*(1+$A$4)","v":1.4267000000000001},{"$f":"COUNTIF($P$5:P$5,\"Year\")*$I$4","v":5},{"$f":"0%","v":0},{"$f":"IF(MOD(P7,$G7)=0,$M7/2,IF(MOD(P7,MROUND($G7/2,$I$4))=0,$M7/2,0))","v":0},{"$f":"COUNTIF($P$5:S$5,\"Year\")*$I$4","v":10},{"$f":"0%","v":0},{"$f":"IF(MOD(S7,$G7)=0,$M7/2,IF(MOD(S7,MROUND($G7/2,$I$4))=0,$M7/2,0))","v":0.03},{"$f":"COUNTIF($P$5:V$5,\"Year\")*$I$4","v":15},{"$f":"0%","v":0},{"$f":"IF(MOD(V7,$G7)=0,$M7/2,IF(MOD(V7,MROUND($G7/2,$I$4))=0,$M7/2,0))","v":0},{"$f":"COUNTIF($P$5:Y$5,\"Year\")*$I$4","v":20},{"$f":"0%","v":0},{"$f":"IF(MOD(Y7,$G7)=0,$M7/2,IF(MOD(Y7,MROUND($G7/2,$I$4))=0,$M7/2,0))","v":0.03},{"$f":"COUNTIF($P$5:AB$5,\"Year\")*$I$4","v":25},{"$f":"0%","v":0},{"$f":"IF(MOD(AB7,$G7)=0,$M7/2,IF(MOD(AB7,MROUND($G7/2,$I$4))=0,$M7/2,0))","v":0},{"$f":"COUNTIF($P$5:AE$5,\"Year\")*$I$4","v":30},{"$f":"0%","v":0},{"$f":"IF(MOD(AE7,$G7)=0,$M7/2,IF(MOD(AE7,MROUND($G7/2,$I$4))=0,$M7/2,0))","v":0.03},{"$f":"COUNTIF($P$5:AH$5,\"Year\")*$I$4","v":35},{"$f":"0%","v":0},{"$f":"IF(MOD(AH7,$G7)=0,$M7/2,IF(MOD(AH7,MROUND($G7/2,$I$4))=0,$M7/2,0))","v":0},{"$f":"COUNTIF($P$5:AK$5,\"Year\")*$I$4","v":40},{"$f":"0%","v":0},{"$f":"IF(MOD(AK7,$G7)=0,$M7/2,IF(MOD(AK7,MROUND($G7/2,$I$4))=0,$M7/2,0))","v":0.03},null,null,null,null,null,null,null,{"$f":"IF(LEN($E7)=0,\"\",$E7)","v":""},{"$f":"IF($H7=\"Technology / regulatory\",$O7,0)","v":0},0,0,0,0,0,0,0,0,0,0,0,0,{"$f":"(SUM(AW7:BH7)+SUMIFS(P7:AS7,P$5:AS$5,\"Exchange %\")+$M7)*100","v":18},6,{"$f":"40*$L7*100","v":120},{"$f":"INDEX('Avionics ID'!A:E,MATCH(B7,'Avionics ID'!E:E,0),3)","v":"Communications"}]
[{"$f":"INDEX('Avionics ID'!A:E,MATCH(B8,'Avionics ID'!E:E,0),1)","v":724},"ADF system",0.1,0.03,null,null,10,"Obsolescence",{"$f":"SUBSTITUTE(ADDRESS(1,MATCH(A8,'Pt1-AvionicsComponentCosts'!$A$6:$NC$6,0)+1),\"$1\",\"\")","v":"$R"},{"$f":"_xlfn.TEXTJOIN(\", \",TRUE,_xlfn.UNIQUE(_xlfn._xlws.SORT(_xlfn._xlws.FILTER('Pt1-AvionicsComponentCosts'!$NF$12:$NF$384,ISNUMBER(INDIRECT(\"'Pt1-AvionicsComponentCosts'!\"&I8&\"$12:\"&I8&\"$384\"))))))","v":"A220, A300, A320, A321, A330, A340, A350, ATR, B717, B737, B747, B757, B767, B777, B787, C919, EMB Regional, MC-21, MD-11, Mil Transport, Military Jet, NSA"},null,0.03,{"$f":"IF($A$2,INDEX([1]Sheet1!$A$12:$AO$193,MATCH($A8,[1]Sheet1!$A$12:$A$193,0),8),2*$L8)","v":0.06},{"$f":"INDEX([1]Sheet1!$A$12:$AO$193,MATCH($A8,[1]Sheet1!$A$12:$A$193,0),9)*(1+$A$4)","v":0.55110000000000003},{"$f":"INDEX([1]Sheet1!$A$12:$AO$193,MATCH($A8,[1]Sheet1!$A$12:$A$193,0),10)*(1+$A$4)","v":1.4267000000000001},{"$f":"COUNTIF($P$5:P$5,\"Year\")*$I$4","v":5},{"$f":"0%","v":0},0.03,{"$f":"COUNTIF($P$5:S$5,\"Year\")*$I$4","v":10},{"$f":"0%","v":0},0.03,{"$f":"COUNTIF($P$5:V$5,\"Year\")*$I$4","v":15},{"$f":"0%","v":0},0.03,{"$f":"COUNTIF($P$5:Y$5,\"Year\")*$I$4","v":20},{"$f":"0%","v":0},0.03,{"$f":"COUNTIF($P$5:AB$5,\"Year\")*$I$4","v":25},{"$f":"0%","v":0},0.03,{"$f":"COUNTIF($P$5:AE$5,\"Year\")*$I$4","v":30},{"$f":"0%","v":0},0.03,{"$f":"COUNTIF($P$5:AH$5,\"Year\")*$I$4","v":35},{"$f":"0%","v":0},0.03,{"$f":"COUNTIF($P$5:AK$5,\"Year\")*$I$4","v":40},{"$f":"0%","v":0},0.03,null,null,null,null,null,null,null,"",0,0,0,0,0,0,0,0,0,0,0,0,0,30,6,120,{"$f":"INDEX('Avionics ID'!A:E,MATCH(B8,'Avionics ID'!E:E,0),3)","v":"Communications"}]
[{"$f":"INDEX('Avionics ID'!A:E,MATCH(B9,'Avionics ID'!E:E,0),1)","v":719},"ADIRS CDU",0.1,0.03,null,null,10,"Obsolescence",{"$f":"SUBSTITUTE(ADDRESS(1,MATCH(A9,'Pt1-AvionicsComponentCosts'!$A$6:$NC$6,0)+1),\"$1\",\"\")","v":"$DR"},{"$f":"_xlfn.TEXTJOIN(\", \",TRUE,_xlfn.UNIQUE(_xlfn._xlws.SORT(_xlfn._xlws.FILTER('Pt1-AvionicsComponentCosts'!$NF$12:$NF$384,ISNUMBER(INDIRECT(\"'Pt1-AvionicsComponentCosts'!\"&I9&\"$12:\"&I9&\"$384\"))))))","v":"A220, A320, A321, A350, ATR, B717, B737, B747, B757, B777, B787, C919, EMB Regional, MC-21, Mil Transport, Military Jet, NSA"},null,0.03,{"$f":"IF($A$2,INDEX([1]Sheet1!$A$12:$AO$193,MATCH($A9,[1]Sheet1!$A$12:$A$193,0),8),2*$L9)","v":0.06},{"$f":"INDEX([1]Sheet1!$A$12:$AO$193,MATCH($A9,[1]Sheet1!$A$12:$A$193,0),9)*(1+$A$4)","v":0.38830000000000003},{"$f":"INDEX([1]Sheet1!$A$12:$AO$193,MATCH($A9,[1]Sheet1!$A$12:$A$193,0),10)*(1+$A$4)","v":2.0306000000000002},{"$f":"COUNTIF($P$5:P$5,\"Year\")*$I$4","v":5},{"$f":"0%","v":0},0.03,{"$f":"COUNTIF($P$5:S$5,\"Year\")*$I$4","v":10},{"$f":"0%","v":0},0.03,{"$f":"COUNTIF($P$5:V$5,\"Year\")*$I$4","v":15},{"$f":"0%","v":0},0.03,{"$f":"COUNTIF($P$5:Y$5,\"Year\")*$I$4","v":20},{"$f":"0%","v":0},0.03,{"$f":"COUNTIF($P$5:AB$5,\"Year\")*$I$4","v":25},{"$f":"0%","v":0},0.03,{"$f":"COUNTIF($P$5:AE$5,\"Year\")*$I$4","v":30},{"$f":"0%","v":0},0.03,{"$f":"COUNTIF($P$5:AH$5,\"Year\")*$I$4","v":35},{"$f":"0%","v":0},0.03,{"$f":"COUNTIF($P$5:AK$5,\"Year\")*$I$4","v":40},{"$f":"0%","v":0},0.03,null,null,null,null,null,null,null,"",0,0,0,0,0,0,0,0,0,0,0,0,0,{"$f":"(SUM(AW9:BH9)+SUMIFS(P9:AS9,P$5:AS$5,\"Exchange %\"))*100","v":24},6,120,{"$f":"INDEX('Avionics ID'!A:E,MATCH(B9,'Avionics ID'!E:E,0),3)","v":"Display"}]
[{"$f":"INDEX('Avionics ID'!A:E,MATCH(B10,'Avionics ID'!E:E,0),1)","v":717},"ADIRU",0.1,0.03,null,null,10,"Obsolescence",{"$f":"SUBSTITUTE(ADDRESS(1,MATCH(A10,'Pt1-AvionicsComponentCosts'!$A$6:$NC$6,0)+1),\"$1\",\"\")","v":"$IT"},{"$f":"_xlfn.TEXTJOIN(\", \",TRUE,_xlfn.UNIQUE(_xlfn._xlws.SORT(_xlfn._xlws.FILTER('Pt1-AvionicsComponentCosts'!$NF$12:$NF$384,ISNUMBER(INDIRECT(\"'Pt1-AvionicsComponentCosts'!\"&I10&\"$12:\"&I10&\"$384\"))))))","v":"A220, A300, A320, A321, A330, A340, A350, A380, ARJ, ATR, B717, B737, B747, B757, B767, B777, C919, CRJ, EMB Regional, MC-21, MD-11, Mil Transport, Military Jet, NSA, Reg TP, Superjet 100, Turbine GA"},null,0.03,{"$f":"IF($A$2,INDEX([1]Sheet1!$A$12:$AO$193,MATCH($A10,[1]Sheet1!$A$12:$A$193,0),8),2*$L10)","v":0.06},{"$f":"INDEX([1]Sheet1!$A$12:$AO$193,MATCH($A10,[1]Sheet1!$A$12:$A$193,0),9)*(1+$A$4)","v":0.38940000000000002},{"$f":"INDEX([1]Sheet1!$A$12:$AO$193,MATCH($A10,[1]Sheet1!$A$12:$A$193,0),10)*(1+$A$4)","v":2.0119000000000002},{"$f":"COUNTIF($P$5:P$5,\"Year\")*$I$4","v":5},{"$f":"0%","v":0},0.03,{"$f":"COUNTIF($P$5:S$5,\"Year\")*$I$4","v":10},{"$f":"0%","v":0},0.03,{"$f":"COUNTIF($P$5:V$5,\"Year\")*$I$4","v":15},{"$f":"0%","v":0},0.03,{"$f":"COUNTIF($P$5:Y$5,\"Year\")*$I$4","v":20},{"$f":"0%","v":0},0.03,{"$f":"COUNTIF($P$5:AB$5,\"Year\")*$I$4","v":25},{"$f":"0%","v":0},0.03,{"$f":"COUNTIF($P$5:AE$5,\"Year\")*$I$4","v":30},{"$f":"0%","v":0},0.03,{"$f":"COUNTIF($P$5:AH$5,\"Year\")*$I$4","v":35},{"$f":"0%","v":0},0.03,{"$f":"COUNTIF($P$5:AK$5,\"Year\")*$I$4","v":40},{"$f":"0%","v":0},0.03,null,null,null,null,null,null,null,"",0,0,0,0,0,0,0,0,0,0,0,0,0,30,6,120,{"$f":"INDEX('Avionics ID'!A:E,MATCH(B10,'Avionics ID'!E:E,0),3)","v":"Navigation"}]
[{"$f":"INDEX('Avionics ID'!A:E,MATCH(B11,'Avionics ID'!E:E,0),1)","v":796},"AESA Radar",0.05,0.08,null,null,20,"Obsolescence",{"$f":"SUBSTITUTE(ADDRESS(1,MATCH(A11,'Pt1-AvionicsComponentCosts'!$A$6:$NC$6,0)+1),\"$1\",\"\")","v":"$KJ"},{"$f":"_xlfn.TEXTJOIN(\", \",TRUE,_xlfn.UNIQUE(_xlfn._xlws.SORT(_xlfn._xlws.FILTER('Pt1-AvionicsComponentCosts'!$NF$12:$NF$384,ISNUMBER(INDIRECT(\"'Pt1-AvionicsComponentCosts'!\"&I11&\"$12:\"&I11&\"$384\"))))))","v":"Attack, Stealth"},null,0.08,{"$f":"IF($A$2,INDEX([1]Sheet1!$A$12:$AO$193,MATCH($A11,[1]Sheet1!$A$12:$A$193,0),8),2*$L11)","v":0.16},{"$f":"INDEX([1]Sheet1!$A$12:$AO$193,MATCH($A11,[1]Sheet1!$A$12:$A$193,0),9)*(1+$A$4)","v":0.36850000000000005},{"$f":"INDEX([1]Sheet1!$A$12:$AO$193,MATCH($A11,[1]Sheet1!$A$12:$A$193,0),10)*(1+$A$4)","v":1.8513000000000002},{"$f":"COUNTIF($P$5:P$5,\"Year\")*$I$4","v":5},{"$f":"0%","v":0},0,{"$f":"COUNTIF($P$5:S$5,\"Year\")*$I$4","v":10},{"$f":"0%","v":0},0.08,{"$f":"COUNTIF($P$5:V$5,\"Year\")*$I$4","v":15},{"$f":"0%","v":0},0,{"$f":"COUNTIF($P$5:Y$5,\"Year\")*$I$4","v":20},{"$f":"0%","v":0},0.08,{"$f":"COUNTIF($P$5:AB$5,\"Year\")*$I$4","v":25},{"$f":"0%","v":0},0,{"$f":"COUNTIF($P$5:AE$5,\"Year\")*$I$4","v":30},{"$f":"0%","v":0},0.08,{"$f":"COUNTIF($P$5:AH$5,\"Year\")*$I$4","v":35},{"$f":"0%","v":0},0,{"$f":"COUNTIF($P$5:AK$5,\"Year\")*$I$4","v":40},{"$f":"0%","v":0},0.08,null,null,null,null,null,null,null,"",0,0,0,0,0,0,0,0,0,0,0,0,0,48,16,320,{"$f":"INDEX('Avionics ID'!A:E,MATCH(B11,'Avionics ID'!E:E,0),3)","v":"Sensors"}]
[{"$f":"INDEX('Avionics ID'!A:E,MATCH(B12,'Avionics ID'!E:E,0),1)","v":841},"AFDX databus",0.05,0.03,null,null,20,"Obsolescence",{"$f":"SUBSTITUTE(ADDRESS(1,MATCH(A12,'Pt1-AvionicsComponentCosts'!$A$6:$NC$6,0)+1),\"$1\",\"\")","v":"$CD"},{"$f":"_xlfn.TEXTJOIN(\", \",TRUE,_xlfn.UNIQUE(_xlfn._xlws.SORT(_xlfn._xlws.FILTER('Pt1-AvionicsComponentCosts'!$NF$12:$NF$384,ISNUMBER(INDIRECT(\"'Pt1-AvionicsComponentCosts'!\"&I12&\"$12:\"&I12&\"$384\"))))))","v":"A330 LMXT, A330 MRTT, Mil Transport, Military Jet, Military TP"},null,0.03,{"$f":"IF($A$2,INDEX([1]Sheet1!$A$12:$AO$193,MATCH($A12,[1]Sheet1!$A$12:$A$193,0),8),2*$L12)","v":0.06},{"$f":"INDEX([1]Sheet1!$A$12:$AO$193,MATCH($A12,[1]Sheet1!$A$12:$A$193,0),9)*(1+$A$4)","v":0.75130000000000008},{"$f":"INDEX([1]Sheet1!$A$12:$AO$193,MATCH($A12,[1]Sheet1!$A$12:$A$193,0),10)*(1+$A$4)","v":2.1241000000000003},{"$f":"COUNTIF($P$5:P$5,\"Year\")*$I$4","v":5},{"$f":"0%","v":0},0,{"$f":"COUNTIF($P$5:S$5,\"Year\")*$I$4","v":10},{"$f":"0%","v":0},0.03,{"$f":"COUNTIF($P$5:V$5,\"Year\")*$I$4","v":15},{"$f":"0%","v":0},0,{"$f":"COUNTIF($P$5:Y$5,\"Year\")*$I$4","v":20},{"$f":"0%","v":0},0.03,{"$f":"COUNTIF($P$5:AB$5,\"Year\")*$I$4","v":25},{"$f":"0%","v":0},0,{"$f":"COUNTIF($P$5:AE$5,\"Year\")*$I$4","v":30},{"$f":"0%","v":0},0.03,{"$f":"COUNTIF($P$5:AH$5,\"Year\")*$I$4","v":35},{"$f":"0%","v":0},0,{"$f":"COUNTIF($P$5:AK$5,\"Year\")*$I$4","v":40},{"$f":"0%","v":0},0.03,null,null,null,null,null,null,null,"",0,0,0,0,0,0,0,0,0,0,0,0,0,18,6,120,{"$f":"INDEX('Avionics ID'!A:E,MATCH(B12,'Avionics ID'!E:E,0),3)","v":"Data"}]
[{"$f":"INDEX('Avionics ID'!A:E,MATCH(B13,'Avionics ID'!E:E,0),1)","v":777},"AHRS package",0.1,0.03,null,null,10,"Obsolescence",{"$f":"SUBSTITUTE(ADDRESS(1,MATCH(A13,'Pt1-AvionicsComponentCosts'!$A$6:$NC$6,0)+1),\"$1\",\"\")","v":"$IV"},{"$f":"_xlfn.TEXTJOIN(\", \",TRUE,_xlfn.UNIQUE(_xlfn._xlws.SORT(_xlfn._xlws.FILTER('Pt1-AvionicsComponentCosts'!$NF$12:$NF$384,ISNUMBER(INDIRECT(\"'Pt1-AvionicsComponentCosts'!\"&I13&\"$12:\"&I13&\"$384\"))))))","v":"A350, B747, B777, B787"},null,0.03,{"$f":"IF($A$2,INDEX([1]Sheet1!$A$12:$AO$193,MATCH($A13,[1]Sheet1!$A$12:$A$193,0),8),2*$L13)","v":0.06},{"$f":"INDEX([1]Sheet1!$A$12:$AO$193,MATCH($A13,[1]Sheet1!$A$12:$A$193,0),9)*(1+$A$4)","v":0.38940000000000002},{"$f":"INDEX([1]Sheet1!$A$12:$AO$193,MATCH($A13,[1]Sheet1!$A$12:$A$193,0),10)*(1+$A$4)","v":2.0119000000000002},{"$f":"COUNTIF($P$5:P$5,\"Year\")*$I$4","v":5},{"$f":"0%","v":0},0.03,{"$f":"COUNTIF($P$5:S$5,\"Year\")*$I$4","v":10},{"$f":"0%","v":0},0.03,{"$f":"COUNTIF($P$5:V$5,\"Year\")*$I$4","v":15},{"$f":"0%","v":0},0.03,{"$f":"COUNTIF($P$5:Y$5,\"Year\")*$I$4","v":20},{"$f":"0%","v":0},0.03,{"$f":"COUNTIF($P$5:AB$5,\"Year\")*$I$4","v":25},{"$f":"0%","v":0},0.03,{"$f":"COUNTIF($P$5:AE$5,\"Year\")*$I$4","v":30},{"$f":"0%","v":0},0.03,{"$f":"COUNTIF($P$5:AH$5,\"Year\")*$I$4","v":35},{"$f":"0%","v":0},0.03,{"$f":"COUNTIF($P$5:AK$5,\"Year\")*$I$4","v":40},{"$f":"0%","v":0},0.03,null,null,null,null,null,null,null,"",0,0,0,0,0,0,0,0,0,0,0,0,0,30,6,120,{"$f":"INDEX('Avionics ID'!A:E,MATCH(B13,'Avionics ID'!E:E,0),3)","v":"Navigation"}]
[{"$f":"INDEX('Avionics ID'!A:E,MATCH(B14,'Avionics ID'!E:E,0),1)","v":721},"Air Data Modules (ADM)",6.6666666666666666E-2,0.06,null,null,15,"Obsolescence",{"$f":"SUBSTITUTE(ADDRESS(1,MATCH(A14,'Pt1-AvionicsComponentCosts'!$A$6:$NC$6,0)+1),\"$1\",\"\")","v":"$IX"},{"$f":"_xlfn.TEXTJOIN(\", \",TRUE,_xlfn.UNIQUE(_xlfn._xlws.SORT(_xlfn._xlws.FILTER('Pt1-AvionicsComponentCosts'!$NF$12:$NF$384,ISNUMBER(INDIRECT(\"'Pt1-AvionicsComponentCosts'!\"&I14&\"$12:\"&I14&\"$384\"))))))","v":"A220, A300, A320, A321, A330, A330 LMXT, A330 MRTT, A340, A350, A380, ATR, B717, B737, B747, B757, B767, B777, B787, C919, Challenger, Citation, E550, EMB Bizjet, EMB Regional, Falcon, Global, Gulfstream, Hawker, Helo, Hondajet, Learjet, MC-21, MD-11, Mil Transport, Military Jet, Military TP, Nextant 400XT, NSA, PC-24, Phenom, Praetor, SF50, TP Trainer, Turbine GA"},null,0.06,{"$f":"IF($A$2,INDEX([1]Sheet1!$A$12:$AO$193,MATCH($A14,[1]Sheet1!$A$12:$A$193,0),8),2*$L14)","v":0.12},{"$f":"INDEX([1]Sheet1!$A$12:$AO$193,MATCH($A14,[1]Sheet1!$A$12:$A$193,0),9)*(1+$A$4)","v":0.38940000000000002},{"$f":"INDEX([1]Sheet1!$A$12:$AO$193,MATCH($A14,[1]Sheet1!$A$12:$A$193,0),10)*(1+$A$4)","v":2.0119000000000002},{"$f":"COUNTIF($P$5:P$5,\"Year\")*$I$4","v":5},{"$f":"0%","v":0},0,{"$f":"COUNTIF($P$5:S$5,\"Year\")*$I$4","v":10},{"$f":"0%","v":0},0.06,{"$f":"COUNTIF($P$5:V$5,\"Year\")*$I$4","v":15},{"$f":"0%","v":0},0.06,{"$f":"COUNTIF($P$5:Y$5,\"Year\")*$I$4","v":20},{"$f":"0%","v":0},0.06,{"$f":"COUNTIF($P$5:AB$5,\"Year\")*$I$4","v":25},{"$f":"0%","v":0},0,{"$f":"COUNTIF($P$5:AE$5,\"Year\")*$I$4","v":30},{"$f":"0%","v":0},0.06,{"$f":"COUNTIF($P$5:AH$5,\"Year\")*$I$4","v":35},{"$f":"0%","v":0},0,{"$f":"COUNTIF($P$5:AK$5,\"Year\")*$I$4","v":40},{"$f":"0%","v":0},0.06,null,null,null,null,null,null,null,"",0,0,0,0,0,0,0,0,0,0,0,0,0,42,12,240,{"$f":"INDEX('Avionics ID'!A:E,MATCH(B14,'Avionics ID'!E:E,0),3)","v":"Navigation"}]
[{"$f":"INDEX('Avionics ID'!A:E,MATCH(B15,'Avionics ID'!E:E,0),1)","v":722},"Air data probes (pitot/static)",0.05,0.1,null,null,20,"Obsolescence",{"$f":"SUBSTITUTE(ADDRESS(1,MATCH(A15,'Pt1-AvionicsComponentCosts'!$A$6:$NC$6,0)+1),\"$1\",\"\")","v":"$KL"},{"$f":"_xlfn.TEXTJOIN(\", \",TRUE,_xlfn.UNIQUE(_xlfn._xlws.SORT(_xlfn._xlws.FILTER('Pt1-AvionicsComponentCosts'!$NF$12:$NF$384,ISNUMBER(INDIRECT(\"'Pt1-AvionicsComponentCosts'!\"&I15&\"$12:\"&I15&\"$384\"))))))","v":"A220, A300, A320, A321, A330, A330 LMXT, A330 MRTT, A340, A350, A380, ATR, B717, B737, B747, B757, B767, B777, B787, C919, Challenger, Citation, E550, EMB Bizjet, EMB Regional, Falcon, Global, Gulfstream, Hawker, Hondajet, Learjet, MC-21, MD-11, Mil Transport, Military Jet, Military TP, Nextant 400XT, NSA, PC-24, Phenom, Praetor, SF50"},null,0.1,{"$f":"IF($A$2,INDEX([1]Sheet1!$A$12:$AO$193,MATCH($A15,[1]Sheet1!$A$12:$A$193,0),8),2*$L15)","v":0.2},{"$f":"INDEX([1]Sheet1!$A$12:$AO$193,MATCH($A15,[1]Sheet1!$A$12:$A$193,0),9)*(1+$A$4)","v":0.36850000000000005},{"$f":"INDEX([1]Sheet1!$A$12:$AO$193,MATCH($A15,[1]Sheet1!$A$12:$A$193,0),10)*(1+$A$4)","v":1.8513000000000002},{"$f":"COUNTIF($P$5:P$5,\"Year\")*$I$4","v":5},{"$f":"0%","v":0},0,{"$f":"COUNTIF($P$5:S$5,\"Year\")*$I$4","v":10},{"$f":"0%","v":0},0.1,{"$f":"COUNTIF($P$5:V$5,\"Year\")*$I$4","v":15},{"$f":"0%","v":0},0,{"$f":"COUNTIF($P$5:Y$5,\"Year\")*$I$4","v":20},{"$f":"0%","v":0},0.1,{"$f":"COUNTIF($P$5:AB$5,\"Year\")*$I$4","v":25},{"$f":"0%","v":0},0,{"$f":"COUNTIF($P$5:AE$5,\"Year\")*$I$4","v":30},{"$f":"0%","v":0},0.1,{"$f":"COUNTIF($P$5:AH$5,\"Year\")*$I$4","v":35},{"$f":"0%","v":0},0,{"$f":"COUNTIF($P$5:AK$5,\"Year\")*$I$4","v":40},{"$f":"0%","v":0},0.1,null,null,null,null,null,null,null,"",0,0,0,0,0,0,0,0,0,0,0,0,0,60.000000000000007,20,400,{"$f":"INDEX('Avionics ID'!A:E,MATCH(B15,'Avionics ID'!E:E,0),3)","v":"Sensors"}]
[{"$f":"INDEX('Avionics ID'!A:E,MATCH(B16,'Avionics ID'!E:E,0),1)","v":880},"Air data sensors",0.05,0.1,null,null,20,"Obsolescence",{"$f":"SUBSTITUTE(ADDRESS(1,MATCH(A16,'Pt1-AvionicsComponentCosts'!$A$6:$NC$6,0)+1),\"$1\",\"\")","v":"$KN"},{"$f":"_xlfn.TEXTJOIN(\", \",TRUE,_xlfn.UNIQUE(_xlfn._xlws.SORT(_xlfn._xlws.FILTER('Pt1-AvionicsComponentCosts'!$NF$12:$NF$384,ISNUMBER(INDIRECT(\"'Pt1-AvionicsComponentCosts'!\"&I16&\"$12:\"&I16&\"$384\"))))))","v":"ARJ, Attack, Challenger, Citation, CRJ, E550, EMB Bizjet, EMB Regional, Falcon, Global, Gulfstream, Hawker, Helo, Hondajet, Learjet, Nextant 400XT, PC-24, Phenom, Praetor, Reg TP, SF50, Stealth, Superjet 100, Turbine GA, UAV"},null,0.1,{"$f":"IF($A$2,INDEX([1]Sheet1!$A$12:$AO$193,MATCH($A16,[1]Sheet1!$A$12:$A$193,0),8),2*$L16)","v":0.2},{"$f":"INDEX([1]Sheet1!$A$12:$AO$193,MATCH($A16,[1]Sheet1!$A$12:$A$193,0),9)*(1+$A$4)","v":0.36850000000000005},{"$f":"INDEX([1]Sheet1!$A$12:$AO$193,MATCH($A16,[1]Sheet1!$A$12:$A$193,0),10)*(1+$A$4)","v":1.8513000000000002},{"$f":"COUNTIF($P$5:P$5,\"Year\")*$I$4","v":5},{"$f":"0%","v":0},0,{"$f":"COUNTIF($P$5:S$5,\"Year\")*$I$4","v":10},{"$f":"0%","v":0},0.1,{"$f":"COUNTIF($P$5:V$5,\"Year\")*$I$4","v":15},{"$f":"0%","v":0},0,{"$f":"COUNTIF($P$5:Y$5,\"Year\")*$I$4","v":20},{"$f":"0%","v":0},0.1,{"$f":"COUNTIF($P$5:AB$5,\"Year\")*$I$4","v":25},{"$f":"0%","v":0},0,{"$f":"COUNTIF($P$5:AE$5,\"Year\")*$I$4","v":30},{"$f":"0%","v":0},0.1,{"$f":"COUNTIF($P$5:AH$5,\"Year\")*$I$4","v":35},{"$f":"0%","v":0},0,{"$f":"COUNTIF($P$5:AK$5,\"Year\")*$I$4","v":40},{"$f":"0%","v":0},0.1,null,null,null,null,null,null,null,"",0,{"$f":"IF($H16=\"Technology / regulatory\",IF(AW$5=$F16-2,$AW$1,IF(AW$5=$F16-1,$AX$1,IF(AW$5=$F16,$AY$1,IF(AW$5=$F16+1,$AZ$1,0)))),0)","v":0},0,0,0,0,0,0,0,0,0,0,0,60.000000000000007,20,400,{"$f":"INDEX('Avionics ID'!A:E,MATCH(B16,'Avionics ID'!E:E,0),3)","v":"Sensors"}]
[{"$f":"INDEX('Avionics ID'!A:E,MATCH(B17,'Avionics ID'!E:E,0),1)","v":815},"Air Data smart sensor",0.05,0.06,null,null,20,"Obsolescence",{"$f":"SUBSTITUTE(ADDRESS(1,MATCH(A17,'Pt1-AvionicsComponentCosts'!$A$6:$NC$6,0)+1),\"$1\",\"\")","v":"$KP"},{"$f":"_xlfn.TEXTJOIN(\", \",TRUE,_xlfn.UNIQUE(_xlfn._xlws.SORT(_xlfn._xlws.FILTER('Pt1-AvionicsComponentCosts'!$NF$12:$NF$384,ISNUMBER(INDIRECT(\"'Pt1-AvionicsComponentCosts'!\"&I17&\"$12:\"&I17&\"$384\"))))))","v":"Mil Fighter"},null,0.06,{"$f":"IF($A$2,INDEX([1]Sheet1!$A$12:$AO$193,MATCH($A17,[1]Sheet1!$A$12:$A$193,0),8),2*$L17)","v":0.12},{"$f":"INDEX([1]Sheet1!$A$12:$AO$193,MATCH($A17,[1]Sheet1!$A$12:$A$193,0),9)*(1+$A$4)","v":0.36850000000000005},{"$f":"INDEX([1]Sheet1!$A$12:$AO$193,MATCH($A17,[1]Sheet1!$A$12:$A$193,0),10)*(1+$A$4)","v":1.8513000000000002},{"$f":"COUNTIF($P$5:P$5,\"Year\")*$I$4","v":5},{"$f":"0%","v":0},0,{"$f":"COUNTIF($P$5:S$5,\"Year\")*$I$4","v":10},{"$f":"0%","v":0},0.06,{"$f":"COUNTIF($P$5:V$5,\"Year\")*$I$4","v":15},{"$f":"0%","v":0},0,{"$f":"COUNTIF($P$5:Y$5,\"Year\")*$I$4","v":20},{"$f":"0%","v":0},0.06,{"$f":"COUNTIF($P$5:AB$5,\"Year\")*$I$4","v":25},{"$f":"0%","v":0},0,{"$f":"COUNTIF($P$5:AE$5,\"Year\")*$I$4","v":30},{"$f":"0%","v":0},0.06,{"$f":"COUNTIF($P$5:AH$5,\"Year\")*$I$4","v":35},{"$f":"0%","v":0},0,{"$f":"COUNTIF($P$5:AK$5,\"Year\")*$I$4","v":40},{"$f":"0%","v":0},0.06,null,null,null,null,null,null,null,"",0,0,0,0,0,0,0,0,0,0,0,0,0,36,12,240,{"$f":"INDEX('Avionics ID'!A:E,MATCH(B17,'Avionics ID'!E:E,0),3)","v":"Sensors"}]
[{"$f":"INDEX('Avionics ID'!A:E,MATCH(B18,'Avionics ID'!E:E,0),1)","v":770},"Air Traffic Services Unit ",6.6666666666666666E-2,0.03,"CPDLC",2028,15,"Technology / regulatory",{"$f":"SUBSTITUTE(ADDRESS(1,MATCH(A18,'Pt1-AvionicsComponentCosts'!$A$6:$NC$6,0)+1),\"$1\",\"\")","v":"$T"},{"$f":"_xlfn.TEXTJOIN(\", \",TRUE,_xlfn.UNIQUE(_xlfn._xlws.SORT(_xlfn._xlws.FILTER('Pt1-AvionicsComponentCosts'!$NF$12:$NF$384,ISNUMBER(INDIRECT(\"'Pt1-AvionicsComponentCosts'!\"&I18&\"$12:\"&I18&\"$384\"))))))","v":"A300, A320, A330, A340, A350, A380, B747, B767, B777, MD-11"},null,0.03,{"$f":"IF($A$2,INDEX([1]Sheet1!$A$12:$AO$193,MATCH($A18,[1]Sheet1!$A$12:$A$193,0),8),2*$L18)","v":0.06},{"$f":"INDEX([1]Sheet1!$A$12:$AO$193,MATCH($A18,[1]Sheet1!$A$12:$A$193,0),9)*(1+$A$4)","v":0.55110000000000003},{"$f":"INDEX([1]Sheet1!$A$12:$AO$193,MATCH($A18,[1]Sheet1!$A$12:$A$193,0),10)*(1+$A$4)","v":1.4267000000000001},{"$f":"COUNTIF($P$5:P$5,\"Year\")*$I$4","v":5},{"$f":"0%","v":0},0,{"$f":"COUNTIF($P$5:S$5,\"Year\")*$I$4","v":10},{"$f":"0%","v":0},0.03,{"$f":"COUNTIF($P$5:V$5,\"Year\")*$I$4","v":15},{"$f":"0%","v":0},0.03,{"$f":"COUNTIF($P$5:Y$5,\"Year\")*$I$4","v":20},{"$f":"0%","v":0},0.03,{"$f":"COUNTIF($P$5:AB$5,\"Year\")*$I$4","v":25},{"$f":"0%","v":0},0,{"$f":"COUNTIF($P$5:AE$5,\"Year\")*$I$4","v":30},{"$f":"0%","v":0},0.03,{"$f":"COUNTIF($P$5:AH$5,\"Year\")*$I$4","v":35},{"$f":"0%","v":0},0,{"$f":"COUNTIF($P$5:AK$5,\"Year\")*$I$4","v":40},{"$f":"0%","v":0},0.03,null,null,null,null,null,null,null,"CPDLC",1.4267000000000001,0,0,0.15,0.25,0.45,0.15,0,0,0,0,0,0,121,6,120,{"$f":"INDEX('Avionics ID'!A:E,MATCH(B18,'Avionics ID'!E:E,0),3)","v":"Communications"}]
[{"$f":"INDEX('Avionics ID'!A:E,MATCH(B19,'Avionics ID'!E:E,0),1)","v":758},"Air Traffic Services Unit (ATSU)",6.6666666666666666E-2,0.03,"CPDLC",2028,15,"Technology / regulatory",{"$f":"SUBSTITUTE(ADDRESS(1,MATCH(A19,'Pt1-AvionicsComponentCosts'!$A$6:$NC$6,0)+1),\"$1\",\"\")","v":"$CF"},{"$f":"_xlfn.TEXTJOIN(\", \",TRUE,_xlfn.UNIQUE(_xlfn._xlws.SORT(_xlfn._xlws.FILTER('Pt1-AvionicsComponentCosts'!$NF$12:$NF$384,ISNUMBER(INDIRECT(\"'Pt1-AvionicsComponentCosts'!\"&I19&\"$12:\"&I19&\"$384\"))))))","v":"A220, A320, A321, ATR, B717, B737, B757, C919, EMB Regional, MC-21, Mil Transport, Military Jet, NSA"},null,0.03,{"$f":"IF($A$2,INDEX([1]Sheet1!$A$12:$AO$193,MATCH($A19,[1]Sheet1!$A$12:$A$193,0),8),2*$L19)","v":0.06},{"$f":"INDEX([1]Sheet1!$A$12:$AO$193,MATCH($A19,[1]Sheet1!$A$12:$A$193,0),9)*(1+$A$4)","v":0.75130000000000008},{"$f":"INDEX([1]Sheet1!$A$12:$AO$193,MATCH($A19,[1]Sheet1!$A$12:$A$193,0),10)*(1+$A$4)","v":2.1241000000000003},{"$f":"COUNTIF($P$5:P$5,\"Year\")*$I$4","v":5},{"$f":"0%","v":0},0,{"$f":"COUNTIF($P$5:S$5,\"Year\")*$I$4","v":10},{"$f":"0%","v":0},0.03,{"$f":"COUNTIF($P$5:V$5,\"Year\")*$I$4","v":15},{"$f":"0%","v":0},0.03,{"$f":"COUNTIF($P$5:Y$5,\"Year\")*$I$4","v":20},{"$f":"0%","v":0},0.03,{"$f":"COUNTIF($P$5:AB$5,\"Year\")*$I$4","v":25},{"$f":"0%","v":0},0,{"$f":"COUNTIF($P$5:AE$5,\"Year\")*$I$4","v":30},{"$f":"0%","v":0},0.03,{"$f":"COUNTIF($P$5:AH$5,\"Year\")*$I$4","v":35},{"$f":"0%","v":0},0,{"$f":"COUNTIF($P$5:AK$5,\"Year\")*$I$4","v":40},{"$f":"0%","v":0},0.03,null,null,null,null,null,null,null,"CPDLC",2.1241000000000003,0,0,0.15,0.25,0.45,0.15,0,0,0,0,0,0,121,6,120,{"$f":"INDEX('Avionics ID'!A:E,MATCH(B19,'Avionics ID'!E:E,0),3)","v":"Data"}]
[{"$f":"INDEX('Avionics ID'!A:E,MATCH(B20,'Avionics ID'!E:E,0),1)","v":868},"Airborne Systems Intelligence Payload sensor",0.05,0.03,null,null,20,"Obsolescence",{"$f":"SUBSTITUTE(ADDRESS(1,MATCH(A20,'Pt1-AvionicsComponentCosts'!$A$6:$NC$6,0)+1),\"$1\",\"\")","v":"$KR"},{"$f":"_xlfn.TEXTJOIN(\", \",TRUE,_xlfn.UNIQUE(_xlfn._xlws.SORT(_xlfn._xlws.FILTER('Pt1-AvionicsComponentCosts'!$NF$12:$NF$384,ISNUMBER(INDIRECT(\"'Pt1-AvionicsComponentCosts'!\"&I20&\"$12:\"&I20&\"$384\"))))))","v":"UAV"},null,0.03,{"$f":"IF($A$2,INDEX([1]Sheet1!$A$12:$AO$193,MATCH($A20,[1]Sheet1!$A$12:$A$193,0),8),2*$L20)","v":0.06},{"$f":"INDEX([1]Sheet1!$A$12:$AO$193,MATCH($A20,[1]Sheet1!$A$12:$A$193,0),9)*(1+$A$4)","v":0.36850000000000005},{"$f":"INDEX([1]Sheet1!$A$12:$AO$193,MATCH($A20,[1]Sheet1!$A$12:$A$193,0),10)*(1+$A$4)","v":1.8513000000000002},{"$f":"COUNTIF($P$5:P$5,\"Year\")*$I$4","v":5},{"$f":"0%","v":0},0,{"$f":"COUNTIF($P$5:S$5,\"Year\")*$I$4","v":10},{"$f":"0%","v":0},0.03,{"$f":"COUNTIF($P$5:V$5,\"Year\")*$I$4","v":15},{"$f":"0%","v":0},0,{"$f":"COUNTIF($P$5:Y$5,\"Year\")*$I$4","v":20},{"$f":"0%","v":0},0.03,{"$f":"COUNTIF($P$5:AB$5,\"Year\")*$I$4","v":25},{"$f":"0%","v":0},0,{"$f":"COUNTIF($P$5:AE$5,\"Year\")*$I$4","v":30},{"$f":"0%","v":0},0.03,{"$f":"COUNTIF($P$5:AH$5,\"Year\")*$I$4","v":35},{"$f":"0%","v":0},0,{"$f":"COUNTIF($P$5:AK$5,\"Year\")*$I$4","v":40},{"$f":"0%","v":0},0.03,null,null,null,null,null,null,null,"",0,0,0,0,0,0,0,0,0,0,0,0,0,18,6,120,{"$f":"INDEX('Avionics ID'!A:E,MATCH(B20,'Avionics ID'!E:E,0),3)","v":"Sensors"}]
[{"$f":"INDEX('Avionics ID'!A:E,MATCH(B21,'Avionics ID'!E:E,0),1)","v":882},"Aircraft avionics management unit",0.1,0.03,null,null,10,"Obsolescence",{"$f":"SUBSTITUTE(ADDRESS(1,MATCH(A21,'Pt1-AvionicsComponentCosts'!$A$6:$NC$6,0)+1),\"$1\",\"\")","v":"$HF"},{"$f":"_xlfn.TEXTJOIN(\", \",TRUE,_xlfn.UNIQUE(_xlfn._xlws.SORT(_xlfn._xlws.FILTER('Pt1-AvionicsComponentCosts'!$NF$12:$NF$384,ISNUMBER(INDIRECT(\"'Pt1-AvionicsComponentCosts'!\"&I21&\"$12:\"&I21&\"$384\"))))))","v":"A300, A320, A330, A330 LMXT, A330 MRTT, A340, A350, A380, B747, B767, B777, B787, MD-11, Mil Transport, Military Jet, Military TP"},null,0.03,{"$f":"IF($A$2,INDEX([1]Sheet1!$A$12:$AO$193,MATCH($A21,[1]Sheet1!$A$12:$A$193,0),8),2*$L21)","v":0.06},{"$f":"INDEX([1]Sheet1!$A$12:$AO$193,MATCH($A21,[1]Sheet1!$A$12:$A$193,0),9)*(1+$A$4)","v":0.39050000000000001},{"$f":"INDEX([1]Sheet1!$A$12:$AO$193,MATCH($A21,[1]Sheet1!$A$12:$A$193,0),10)*(1+$A$4)","v":1.1561000000000001},{"$f":"COUNTIF($P$5:P$5,\"Year\")*$I$4","v":5},{"$f":"0%","v":0},0.03,{"$f":"COUNTIF($P$5:S$5,\"Year\")*$I$4","v":10},{"$f":"0%","v":0},0.03,{"$f":"COUNTIF($P$5:V$5,\"Year\")*$I$4","v":15},{"$f":"0%","v":0},0.03,{"$f":"COUNTIF($P$5:Y$5,\"Year\")*$I$4","v":20},{"$f":"0%","v":0},0.03,{"$f":"COUNTIF($P$5:AB$5,\"Year\")*$I$4","v":25},{"$f":"0%","v":0},0.03,{"$f":"COUNTIF($P$5:AE$5,\"Year\")*$I$4","v":30},{"$f":"0%","v":0},0.03,{"$f":"COUNTIF($P$5:AH$5,\"Year\")*$I$4","v":35},{"$f":"0%","v":0},0.03,{"$f":"COUNTIF($P$5:AK$5,\"Year\")*$I$4","v":40},{"$f":"0%","v":0},0.03,null,null,null,null,null,null,null,"",0,0,0,0,0,0,0,0,0,0,0,0,0,30,6,120,{"$f":"INDEX('Avionics ID'!A:E,MATCH(B21,'Avionics ID'!E:E,0),3)","v":"IMA"}]
[{"$f":"INDEX('Avionics ID'!A:E,MATCH(B22,'Avionics ID'!E:E,0),1)","v":839},"Aircraft Environment Surveillance System (AESS)",0.05,0.03,null,null,20,"Obsolescence",{"$f":"SUBSTITUTE(ADDRESS(1,MATCH(A22,'Pt1-AvionicsComponentCosts'!$A$6:$NC$6,0)+1),\"$1\",\"\")","v":"$LZ"},{"$f":"_xlfn.TEXTJOIN(\", \",TRUE,_xlfn.UNIQUE(_xlfn._xlws.SORT(_xlfn._xlws.FILTER('Pt1-AvionicsComponentCosts'!$NF$12:$NF$384,ISNUMBER(INDIRECT(\"'Pt1-AvionicsComponentCosts'!\"&I22&\"$12:\"&I22&\"$384\"))))))","v":"A330 LMXT, A330 MRTT, Mil Transport, Military Jet, Military TP"},null,0.03,{"$f":"IF($A$2,INDEX([1]Sheet1!$A$12:$AO$193,MATCH($A22,[1]Sheet1!$A$12:$A$193,0),8),2*$L22)","v":0.06},{"$f":"INDEX([1]Sheet1!$A$12:$AO$193,MATCH($A22,[1]Sheet1!$A$12:$A$193,0),9)*(1+$A$4)","v":0.49280000000000007},{"$f":"INDEX([1]Sheet1!$A$12:$AO$193,MATCH($A22,[1]Sheet1!$A$12:$A$193,0),10)*(1+$A$4)","v":1.4278000000000002},{"$f":"COUNTIF($P$5:P$5,\"Year\")*$I$4","v":5},{"$f":"0%","v":0},0,{"$f":"COUNTIF($P$5:S$5,\"Year\")*$I$4","v":10},{"$f":"0%","v":0},0.03,{"$f":"COUNTIF($P$5:V$5,\"Year\")*$I$4","v":15},{"$f":"0%","v":0},0,{"$f":"COUNTIF($P$5:Y$5,\"Year\")*$I$4","v":20},{"$f":"0%","v":0},0.03,{"$f":"COUNTIF($P$5:AB$5,\"Year\")*$I$4","v":25},{"$f":"0%","v":0},0,{"$f":"COUNTIF($P$5:AE$5,\"Year\")*$I$4","v":30},{"$f":"0%","v":0},0.03,{"$f":"COUNTIF($P$5:AH$5,\"Year\")*$I$4","v":35},{"$f":"0%","v":0},0,{"$f":"COUNTIF($P$5:AK$5,\"Year\")*$I$4","v":40},{"$f":"0%","v":0},0.03,null,null,null,null,null,null,null,"",0,0,0,0,0,0,0,0,0,0,0,0,0,18,6,120,{"$f":"INDEX('Avionics ID'!A:E,MATCH(B22,'Avionics ID'!E:E,0),3)","v":"Surveillance"}]
[757,"Aircraft Integrated Data System (AIDS)",0.05,0.03,null,null,20,"Obsolescence",{"$f":"SUBSTITUTE(ADDRESS(1,MATCH(A23,'Pt1-AvionicsComponentCosts'!$A$6:$NC$6,0)+1),\"$1\",\"\")","v":"$CH"},{"$f":"_xlfn.TEXTJOIN(\", \",TRUE,_xlfn.UNIQUE(_xlfn._xlws.SORT(_xlfn._xlws.FILTER('Pt1-AvionicsComponentCosts'!$NF$12:$NF$384,ISNUMBER(INDIRECT(\"'Pt1-AvionicsComponentCosts'!\"&I23&\"$12:\"&I23&\"$384\"))))))","v":"A220, A320, A321, ATR, B717, B737, B757, C919, EMB Regional, MC-21, Mil Transport, Military Jet, NSA"},null,0.03,{"$f":"IF($A$2,INDEX([1]Sheet1!$A$12:$AO$193,MATCH($A23,[1]Sheet1!$A$12:$A$193,0),8),2*$L23)","v":0.06},{"$f":"INDEX([1]Sheet1!$A$12:$AO$193,MATCH($A23,[1]Sheet1!$A$12:$A$193,0),9)*(1+$A$4)","v":0.75130000000000008},{"$f":"INDEX([1]Sheet1!$A$12:$AO$193,MATCH($A23,[1]Sheet1!$A$12:$A$193,0),10)*(1+$A$4)","v":2.1241000000000003},{"$f":"COUNTIF($P$5:P$5,\"Year\")*$I$4","v":5},{"$f":"0%","v":0},0,{"$f":"COUNTIF($P$5:S$5,\"Year\")*$I$4","v":10},{"$f":"0%","v":0},0.03,{"$f":"COUNTIF($P$5:V$5,\"Year\")*$I$4","v":15},{"$f":"0%","v":0},0,{"$f":"COUNTIF($P$5:Y$5,\"Year\")*$I$4","v":20},{"$f":"0%","v":0},0.03,{"$f":"COUNTIF($P$5:AB$5,\"Year\")*$I$4","v":25},{"$f":"0%","v":0},0,{"$f":"COUNTIF($P$5:AE$5,\"Year\")*$I$4","v":30},{"$f":"0%","v":0},0.03,{"$f":"COUNTIF($P$5:AH$5,\"Year\")*$I$4","v":35},{"$f":"0%","v":0},0,{"$f":"COUNTIF($P$5:AK$5,\"Year\")*$I$4","v":40},{"$f":"0%","v":0},0.03,null,null,null,null,null,null,null,"",0,0,0,0,0,0,0,0,0,0,0,0,0,18,6,120,{"$f":"INDEX('Avionics ID'!A:E,MATCH(B23,'Avionics ID'!E:E,0),3)","v":{"$error":"#N/A"}}]
[{"$f":"INDEX('Avionics ID'!A:E,MATCH(B24,'Avionics ID'!E:E,0),1)","v":797},"Aircraft memory system",0.1,0.03,null,null,10,"Obsolescence",{"$f":"SUBSTITUTE(ADDRESS(1,MATCH(A24,'Pt1-AvionicsComponentCosts'!$A$6:$NC$6,0)+1),\"$1\",\"\")","v":"$CJ"},{"$f":"_xlfn.TEXTJOIN(\", \",TRUE,_xlfn.UNIQUE(_xlfn._xlws.SORT(_xlfn._xlws.FILTER('Pt1-AvionicsComponentCosts'!$NF$12:$NF$384,ISNUMBER(INDIRECT(\"'Pt1-AvionicsComponentCosts'!\"&I24&\"$12:\"&I24&\"$384\"))))))","v":"Attack, Stealth"},null,0.03,{"$f":"IF($A$2,INDEX([1]Sheet1!$A$12:$AO$193,MATCH($A24,[1]Sheet1!$A$12:$A$193,0),8),2*$L24)","v":0.06},{"$f":"INDEX([1]Sheet1!$A$12:$AO$193,MATCH($A24,[1]Sheet1!$A$12:$A$193,0),9)*(1+$A$4)","v":0.75130000000000008},{"$f":"INDEX([1]Sheet1!$A$12:$AO$193,MATCH($A24,[1]Sheet1!$A$12:$A$193,0),10)*(1+$A$4)","v":2.1241000000000003},{"$f":"COUNTIF($P$5:P$5,\"Year\")*$I$4","v":5},{"$f":"0%","v":0},0.03,{"$f":"COUNTIF($P$5:S$5,\"Year\")*$I$4","v":10},{"$f":"0%","v":0},0.03,{"$f":"COUNTIF($P$5:V$5,\"Year\")*$I$4","v":15},{"$f":"0%","v":0},0.03,{"$f":"COUNTIF($P$5:Y$5,\"Year\")*$I$4","v":20},{"$f":"0%","v":0},0.03,{"$f":"COUNTIF($P$5:AB$5,\"Year\")*$I$4","v":25},{"$f":"0%","v":0},0.03,{"$f":"COUNTIF($P$5:AE$5,\"Year\")*$I$4","v":30},{"$f":"0%","v":0},0.03,{"$f":"COUNTIF($P$5:AH$5,\"Year\")*$I$4","v":35},{"$f":"0%","v":0},0.03,{"$f":"COUNTIF($P$5:AK$5,\"Year\")*$I$4","v":40},{"$f":"0%","v":0},0.03,null,null,null,null,null,null,null,"",0,0,0,0,0,0,0,0,0,0,0,0,0,30,6,120,{"$f":"INDEX('Avionics ID'!A:E,MATCH(B24,'Avionics ID'!E:E,0),3)","v":"Data"}]
[{"$f":"INDEX('Avionics ID'!A:E,MATCH(B25,'Avionics ID'!E:E,0),1)","v":799},"Antenna suite",0.05,0.1,null,null,20,"Obsolescence",{"$f":"SUBSTITUTE(ADDRESS(1,MATCH(A25,'Pt1-AvionicsComponentCosts'!$A$6:$NC$6,0)+1),\"$1\",\"\")","v":"$V"},{"$f":"_xlfn.TEXTJOIN(\", \",TRUE,_xlfn.UNIQUE(_xlfn._xlws.SORT(_xlfn._xlws.FILTER('Pt1-AvionicsComponentCosts'!$NF$12:$NF$384,ISNUMBER(INDIRECT(\"'Pt1-AvionicsComponentCosts'!\"&I25&\"$12:\"&I25&\"$384\"))))))","v":"Attack, Stealth"},null,0.1,{"$f":"IF($A$2,INDEX([1]Sheet1!$A$12:$AO$193,MATCH($A25,[1]Sheet1!$A$12:$A$193,0),8),2*$L25)","v":0.2},{"$f":"INDEX([1]Sheet1!$A$12:$AO$193,MATCH($A25,[1]Sheet1!$A$12:$A$193,0),9)*(1+$A$4)","v":0.55110000000000003},{"$f":"INDEX([1]Sheet1!$A$12:$AO$193,MATCH($A25,[1]Sheet1!$A$12:$A$193,0),10)*(1+$A$4)","v":1.4267000000000001},{"$f":"COUNTIF($P$5:P$5,\"Year\")*$I$4","v":5},{"$f":"0%","v":0},0,{"$f":"COUNTIF($P$5:S$5,\"Year\")*$I$4","v":10},{"$f":"0%","v":0},0.1,{"$f":"COUNTIF($P$5:V$5,\"Year\")*$I$4","v":15},{"$f":"0%","v":0},0,{"$f":"COUNTIF($P$5:Y$5,\"Year\")*$I$4","v":20},{"$f":"0%","v":0},0.1,{"$f":"COUNTIF($P$5:AB$5,\"Year\")*$I$4","v":25},{"$f":"0%","v":0},0,{"$f":"COUNTIF($P$5:AE$5,\"Year\")*$I$4","v":30},{"$f":"0%","v":0},0.1,{"$f":"COUNTIF($P$5:AH$5,\"Year\")*$I$4","v":35},{"$f":"0%","v":0},0,{"$f":"COUNTIF($P$5:AK$5,\"Year\")*$I$4","v":40},{"$f":"0%","v":0},0.1,null,null,null,null,null,null,null,"",0,0,0,0,0,0,0,0,0,0,0,0,0,60.000000000000007,20,400,{"$f":"INDEX('Avionics ID'!A:E,MATCH(B25,'Avionics ID'!E:E,0),3)","v":"Communications"}]
[{"$f":"INDEX('Avionics ID'!A:E,MATCH(B26,'Avionics ID'!E:E,0),1)","v":875},"ARC 210 radios",0.05,0.06,null,null,20,"Obsolescence",{"$f":"SUBSTITUTE(ADDRESS(1,MATCH(A26,'Pt1-AvionicsComponentCosts'!$A$6:$NC$6,0)+1),\"$1\",\"\")","v":"$X"},{"$f":"_xlfn.TEXTJOIN(\", \",TRUE,_xlfn.UNIQUE(_xlfn._xlws.SORT(_xlfn._xlws.FILTER('Pt1-AvionicsComponentCosts'!$NF$12:$NF$384,ISNUMBER(INDIRECT(\"'Pt1-AvionicsComponentCosts'!\"&I26&\"$12:\"&I26&\"$384\"))))))","v":"UAV"},null,0.06,{"$f":"IF($A$2,INDEX([1]Sheet1!$A$12:$AO$193,MATCH($A26,[1]Sheet1!$A$12:$A$193,0),8),2*$L26)","v":0.12},{"$f":"INDEX([1]Sheet1!$A$12:$AO$193,MATCH($A26,[1]Sheet1!$A$12:$A$193,0),9)*(1+$A$4)","v":0.55110000000000003},{"$f":"INDEX([1]Sheet1!$A$12:$AO$193,MATCH($A26,[1]Sheet1!$A$12:$A$193,0),10)*(1+$A$4)","v":1.4267000000000001},{"$f":"COUNTIF($P$5:P$5,\"Year\")*$I$4","v":5},{"$f":"0%","v":0},0,{"$f":"COUNTIF($P$5:S$5,\"Year\")*$I$4","v":10},{"$f":"0%","v":0},0.06,{"$f":"COUNTIF($P$5:V$5,\"Year\")*$I$4","v":15},{"$f":"0%","v":0},0,{"$f":"COUNTIF($P$5:Y$5,\"Year\")*$I$4","v":20},{"$f":"0%","v":0},0.06,{"$f":"COUNTIF($P$5:AB$5,\"Year\")*$I$4","v":25},{"$f":"0%","v":0},0,{"$f":"COUNTIF($P$5:AE$5,\"Year\")*$I$4","v":30},{"$f":"0%","v":0},0.06,{"$f":"COUNTIF($P$5:AH$5,\"Year\")*$I$4","v":35},{"$f":"0%","v":0},0,{"$f":"COUNTIF($P$5:AK$5,\"Year\")*$I$4","v":40},{"$f":"0%","v":0},0.06,null,null,null,null,null,null,null,"",0,{"$f":"IF($H26=\"Technology / regulatory\",IF(AW$5=$F26-2,$AW$1,IF(AW$5=$F26-1,$AX$1,IF(AW$5=$F26,$AY$1,IF(AW$5=$F26+1,$AZ$1,0)))),0)","v":0},0,0,0,0,0,0,0,0,0,0,0,36,12,240,{"$f":"INDEX('Avionics ID'!A:E,MATCH(B26,'Avionics ID'!E:E,0),3)","v":"Communications"}]
[{"$f":"INDEX('Avionics ID'!A:E,MATCH(B27,'Avionics ID'!E:E,0),1)","v":745},"ATC control box",6.6666666666666666E-2,0.08,null,null,15,"Obsolescence",{"$f":"SUBSTITUTE(ADDRESS(1,MATCH(A27,'Pt1-AvionicsComponentCosts'!$A$6:$NC$6,0)+1),\"$1\",\"\")","v":"$MB"},{"$f":"_xlfn.TEXTJOIN(\", \",TRUE,_xlfn.UNIQUE(_xlfn._xlws.SORT(_xlfn._xlws.FILTER('Pt1-AvionicsComponentCosts'!$NF$12:$NF$384,ISNUMBER(INDIRECT(\"'Pt1-AvionicsComponentCosts'!\"&I27&\"$12:\"&I27&\"$384\"))))))","v":"A220, A320, A321, ATR, B717, B737, B757, C919, EMB Regional, MC-21, Mil Transport, Military Jet, NSA"},null,0.08,{"$f":"IF($A$2,INDEX([1]Sheet1!$A$12:$AO$193,MATCH($A27,[1]Sheet1!$A$12:$A$193,0),8),2*$L27)","v":0.16},{"$f":"INDEX([1]Sheet1!$A$12:$AO$193,MATCH($A27,[1]Sheet1!$A$12:$A$193,0),9)*(1+$A$4)","v":0.49280000000000007},{"$f":"INDEX([1]Sheet1!$A$12:$AO$193,MATCH($A27,[1]Sheet1!$A$12:$A$193,0),10)*(1+$A$4)","v":1.4278000000000002},{"$f":"COUNTIF($P$5:P$5,\"Year\")*$I$4","v":5},{"$f":"0%","v":0},0,{"$f":"COUNTIF($P$5:S$5,\"Year\")*$I$4","v":10},{"$f":"0%","v":0},0.08,{"$f":"COUNTIF($P$5:V$5,\"Year\")*$I$4","v":15},{"$f":"0%","v":0},0.08,{"$f":"COUNTIF($P$5:Y$5,\"Year\")*$I$4","v":20},{"$f":"0%","v":0},0.08,{"$f":"COUNTIF($P$5:AB$5,\"Year\")*$I$4","v":25},{"$f":"0%","v":0},0,{"$f":"COUNTIF($P$5:AE$5,\"Year\")*$I$4","v":30},{"$f":"0%","v":0},0.08,{"$f":"COUNTIF($P$5:AH$5,\"Year\")*$I$4","v":35},{"$f":"0%","v":0},0,{"$f":"COUNTIF($P$5:AK$5,\"Year\")*$I$4","v":40},{"$f":"0%","v":0},0.08,null,null,null,null,null,null,null,"",0,0,0,0,0,0,0,0,0,0,0,0,0,56.000000000000007,16,320,{"$f":"INDEX('Avionics ID'!A:E,MATCH(B27,'Avionics ID'!E:E,0),3)","v":"Surveillance"}]
[{"$f":"INDEX('Avionics ID'!A:E,MATCH(B28,'Avionics ID'!E:E,0),1)","v":744},"ATC Mode S Transponders (TCAS)",6.6666666666666666E-2,0.03,null,null,15,"Obsolescence",{"$f":"SUBSTITUTE(ADDRESS(1,MATCH(A28,'Pt1-AvionicsComponentCosts'!$A$6:$NC$6,0)+1),\"$1\",\"\")","v":"$MD"},{"$f":"_xlfn.TEXTJOIN(\", \",TRUE,_xlfn.UNIQUE(_xlfn._xlws.SORT(_xlfn._xlws.FILTER('Pt1-AvionicsComponentCosts'!$NF$12:$NF$384,ISNUMBER(INDIRECT(\"'Pt1-AvionicsComponentCosts'!\"&I28&\"$12:\"&I28&\"$384\"))))))","v":"A220, A300, A320, A321, A330, A340, A350, A380, ATR, B717, B737, B747, B757, B767, B777, B787, C919, EMB Regional, MC-21, MD-11, Mil Transport, Military Jet, NSA"},null,0.03,{"$f":"IF($A$2,INDEX([1]Sheet1!$A$12:$AO$193,MATCH($A28,[1]Sheet1!$A$12:$A$193,0),8),2*$L28)","v":0.06},{"$f":"INDEX([1]Sheet1!$A$12:$AO$193,MATCH($A28,[1]Sheet1!$A$12:$A$193,0),9)*(1+$A$4)","v":0.49280000000000007},{"$f":"INDEX([1]Sheet1!$A$12:$AO$193,MATCH($A28,[1]Sheet1!$A$12:$A$193,0),10)*(1+$A$4)","v":1.4278000000000002},{"$f":"COUNTIF($P$5:P$5,\"Year\")*$I$4","v":5},{"$f":"0%","v":0},0,{"$f":"COUNTIF($P$5:S$5,\"Year\")*$I$4","v":10},{"$f":"0%","v":0},0.03,{"$f":"COUNTIF($P$5:V$5,\"Year\")*$I$4","v":15},{"$f":"0%","v":0},0.03,{"$f":"COUNTIF($P$5:Y$5,\"Year\")*$I$4","v":20},{"$f":"0%","v":0},0.03,{"$f":"COUNTIF($P$5:AB$5,\"Year\")*$I$4","v":25},{"$f":"0%","v":0},0,{"$f":"COUNTIF($P$5:AE$5,\"Year\")*$I$4","v":30},{"$f":"0%","v":0},0.03,{"$f":"COUNTIF($P$5:AH$5,\"Year\")*$I$4","v":35},{"$f":"0%","v":0},0,{"$f":"COUNTIF($P$5:AK$5,\"Year\")*$I$4","v":40},{"$f":"0%","v":0},0.03,null,null,null,null,null,null,null,"",0,0,0,0,0,0,0,0,0,0,0,0,0,21,6,120,{"$f":"INDEX('Avionics ID'!A:E,MATCH(B28,'Avionics ID'!E:E,0),3)","v":"Surveillance"}]
[{"$f":"INDEX('Avionics ID'!A:E,MATCH(B29,'Avionics ID'!E:E,0),1)","v":828},"ATC Transponder",6.6666666666666666E-2,0.03,null,null,15,"Obsolescence",{"$f":"SUBSTITUTE(ADDRESS(1,MATCH(A29,'Pt1-AvionicsComponentCosts'!$A$6:$NC$6,0)+1),\"$1\",\"\")","v":"$Z"},{"$f":"_xlfn.TEXTJOIN(\", \",TRUE,_xlfn.UNIQUE(_xlfn._xlws.SORT(_xlfn._xlws.FILTER('Pt1-AvionicsComponentCosts'!$NF$12:$NF$384,ISNUMBER(INDIRECT(\"'Pt1-AvionicsComponentCosts'!\"&I29&\"$12:\"&I29&\"$384\"))))))","v":"Challenger, Citation, E550, EMB Bizjet, Falcon, Global, Gulfstream, Hawker, Hondajet, Learjet, Nextant 400XT, PC-24, Phenom, Praetor, SF50"},null,0.03,{"$f":"IF($A$2,INDEX([1]Sheet1!$A$12:$AO$193,MATCH($A29,[1]Sheet1!$A$12:$A$193,0),8),2*$L29)","v":0.06},{"$f":"INDEX([1]Sheet1!$A$12:$AO$193,MATCH($A29,[1]Sheet1!$A$12:$A$193,0),9)*(1+$A$4)","v":0.55110000000000003},{"$f":"INDEX([1]Sheet1!$A$12:$AO$193,MATCH($A29,[1]Sheet1!$A$12:$A$193,0),10)*(1+$A$4)","v":1.4267000000000001},{"$f":"COUNTIF($P$5:P$5,\"Year\")*$I$4","v":5},{"$f":"0%","v":0},0,{"$f":"COUNTIF($P$5:S$5,\"Year\")*$I$4","v":10},{"$f":"0%","v":0},0.03,{"$f":"COUNTIF($P$5:V$5,\"Year\")*$I$4","v":15},{"$f":"0%","v":0},0.03,{"$f":"COUNTIF($P$5:Y$5,\"Year\")*$I$4","v":20},{"$f":"0%","v":0},0.03,{"$f":"COUNTIF($P$5:AB$5,\"Year\")*$I$4","v":25},{"$f":"0%","v":0},0,{"$f":"COUNTIF($P$5:AE$5,\"Year\")*$I$4","v":30},{"$f":"0%","v":0},0.03,{"$f":"COUNTIF($P$5:AH$5,\"Year\")*$I$4","v":35},{"$f":"0%","v":0},0,{"$f":"COUNTIF($P$5:AK$5,\"Year\")*$I$4","v":40},{"$f":"0%","v":0},0.03,null,null,null,null,null,null,null,"",0,0,0,0,0,0,0,0,0,0,0,0,0,21,6,120,{"$f":"INDEX('Avionics ID'!A:E,MATCH(B29,'Avionics ID'!E:E,0),3)","v":"Communications"}]
[{"$f":"INDEX('Avionics ID'!A:E,MATCH(B30,'Avionics ID'!E:E,0),1)","v":742},"Audio Control Panel",0.1,0.08,null,null,10,"Obsolescence",{"$f":"SUBSTITUTE(ADDRESS(1,MATCH(A30,'Pt1-AvionicsComponentCosts'!$A$6:$NC$6,0)+1),\"$1\",\"\")","v":"$AB"},{"$f":"_xlfn.TEXTJOIN(\", \",TRUE,_xlfn.UNIQUE(_xlfn._xlws.SORT(_xlfn._xlws.FILTER('Pt1-AvionicsComponentCosts'!$NF$12:$NF$384,ISNUMBER(INDIRECT(\"'Pt1-AvionicsComponentCosts'!\"&I30&\"$12:\"&I30&\"$384\"))))))","v":"A220, A320, A321, ARJ, ATR, B717, B737, B757, C919, CRJ, EMB Regional, MC-21, Mil Transport, Military Jet, NSA, Reg TP, Superjet 100, Turbine GA"},null,0.08,{"$f":"IF($A$2,INDEX([1]Sheet1!$A$12:$AO$193,MATCH($A30,[1]Sheet1!$A$12:$A$193,0),8),2*$L30)","v":0.16},{"$f":"INDEX([1]Sheet1!$A$12:$AO$193,MATCH($A30,[1]Sheet1!$A$12:$A$193,0),9)*(1+$A$4)","v":0.55110000000000003},{"$f":"INDEX([1]Sheet1!$A$12:$AO$193,MATCH($A30,[1]Sheet1!$A$12:$A$193,0),10)*(1+$A$4)","v":1.4267000000000001},{"$f":"COUNTIF($P$5:P$5,\"Year\")*$I$4","v":5},{"$f":"0%","v":0},0.08,{"$f":"COUNTIF($P$5:S$5,\"Year\")*$I$4","v":10},{"$f":"0%","v":0},0.08,{"$f":"COUNTIF($P$5:V$5,\"Year\")*$I$4","v":15},{"$f":"0%","v":0},0.08,{"$f":"COUNTIF($P$5:Y$5,\"Year\")*$I$4","v":20},{"$f":"0%","v":0},0.08,{"$f":"COUNTIF($P$5:AB$5,\"Year\")*$I$4","v":25},{"$f":"0%","v":0},0.08,{"$f":"COUNTIF($P$5:AE$5,\"Year\")*$I$4","v":30},{"$f":"0%","v":0},0.08,{"$f":"COUNTIF($P$5:AH$5,\"Year\")*$I$4","v":35},{"$f":"0%","v":0},0.08,{"$f":"COUNTIF($P$5:AK$5,\"Year\")*$I$4","v":40},{"$f":"0%","v":0},0.08,null,null,null,null,null,null,null,"",0,0,0,0,0,0,0,0,0,0,0,0,0,80,16,320,{"$f":"INDEX('Avionics ID'!A:E,MATCH(B30,'Avionics ID'!E:E,0),3)","v":"Communications"}]
[{"$f":"INDEX('Avionics ID'!A:E,MATCH(B31,'Avionics ID'!E:E,0),1)","v":740},"Audio Management Unit",0.05,0.03,null,null,20,"Obsolescence",{"$f":"SUBSTITUTE(ADDRESS(1,MATCH(A31,'Pt1-AvionicsComponentCosts'!$A$6:$NC$6,0)+1),\"$1\",\"\")","v":"$AD"},{"$f":"_xlfn.TEXTJOIN(\", \",TRUE,_xlfn.UNIQUE(_xlfn._xlws.SORT(_xlfn._xlws.FILTER('Pt1-AvionicsComponentCosts'!$NF$12:$NF$384,ISNUMBER(INDIRECT(\"'Pt1-AvionicsComponentCosts'!\"&I31&\"$12:\"&I31&\"$384\"))))))","v":"A220, A320, A321, ATR, B717, B737, B757, C919, EMB Regional, MC-21, Mil Transport, Military Jet, NSA"},null,0.03,{"$f":"IF($A$2,INDEX([1]Sheet1!$A$12:$AO$193,MATCH($A31,[1]Sheet1!$A$12:$A$193,0),8),2*$L31)","v":0.06},{"$f":"INDEX([1]Sheet1!$A$12:$AO$193,MATCH($A31,[1]Sheet1!$A$12:$A$193,0),9)*(1+$A$4)","v":0.55110000000000003},{"$f":"INDEX([1]Sheet1!$A$12:$AO$193,MATCH($A31,[1]Sheet1!$A$12:$A$193,0),10)*(1+$A$4)","v":1.4267000000000001},{"$f":"COUNTIF($P$5:P$5,\"Year\")*$I$4","v":5},{"$f":"0%","v":0},0,{"$f":"COUNTIF($P$5:S$5,\"Year\")*$I$4","v":10},{"$f":"0%","v":0},0.03,{"$f":"COUNTIF($P$5:V$5,\"Year\")*$I$4","v":15},{"$f":"0%","v":0},0,{"$f":"COUNTIF($P$5:Y$5,\"Year\")*$I$4","v":20},{"$f":"0%","v":0},0.03,{"$f":"COUNTIF($P$5:AB$5,\"Year\")*$I$4","v":25},{"$f":"0%","v":0},0,{"$f":"COUNTIF($P$5:AE$5,\"Year\")*$I$4","v":30},{"$f":"0%","v":0},0.03,{"$f":"COUNTIF($P$5:AH$5,\"Year\")*$I$4","v":35},{"$f":"0%","v":0},0,{"$f":"COUNTIF($P$5:AK$5,\"Year\")*$I$4","v":40},{"$f":"0%","v":0},0.03,null,null,null,null,null,null,null,"",0,0,0,0,0,0,0,0,0,0,0,0,0,18,6,120,{"$f":"INDEX('Avionics ID'!A:E,MATCH(B31,'Avionics ID'!E:E,0),3)","v":"Communications"}]
[{"$f":"INDEX('Avionics ID'!A:E,MATCH(B32,'Avionics ID'!E:E,0),1)","v":825},"Auto pilot system",3.3333333333333333E-2,0.03,null,null,30,"Obsolescence",{"$f":"SUBSTITUTE(ADDRESS(1,MATCH(A32,'Pt1-AvionicsComponentCosts'!$A$6:$NC$6,0)+1),\"$1\",\"\")","v":"$J"},{"$f":"_xlfn.TEXTJOIN(\", \",TRUE,_xlfn.UNIQUE(_xlfn._xlws.SORT(_xlfn._xlws.FILTER('Pt1-AvionicsComponentCosts'!$NF$12:$NF$384,ISNUMBER(INDIRECT(\"'Pt1-AvionicsComponentCosts'!\"&I32&\"$12:\"&I32&\"$384\"))))))","v":"A220, A300, A320, A321, A330, A330 LMXT, A330 MRTT, A340, A350, ATR, Attack Helo, B717, B737, B747, B757, B767, B777, B787, C919, Challenger, Citation, E550, EMB Bizjet, EMB Regional, Falcon, Global, Gulfstream, Hawker, Helo, Hondajet, Learjet, MC-21, MD-11, Mil Transport, Military Jet, Military TP, Nextant 400XT, NSA, PC-24, Phenom, Praetor, SF50, UAV"},null,0.03,{"$f":"IF($A$2,INDEX([1]Sheet1!$A$12:$AO$193,MATCH($A32,[1]Sheet1!$A$12:$A$193,0),8),2*$L32)","v":0.06},{"$f":"INDEX([1]Sheet1!$A$12:$AO$193,MATCH($A32,[1]Sheet1!$A$12:$A$193,0),9)*(1+$A$4)","v":0.44660000000000005},{"$f":"INDEX([1]Sheet1!$A$12:$AO$193,MATCH($A32,[1]Sheet1!$A$12:$A$193,0),10)*(1+$A$4)","v":2.2847},{"$f":"COUNTIF($P$5:P$5,\"Year\")*$I$4","v":5},{"$f":"0%","v":0},0,{"$f":"COUNTIF($P$5:S$5,\"Year\")*$I$4","v":10},{"$f":"0%","v":0},0,{"$f":"COUNTIF($P$5:V$5,\"Year\")*$I$4","v":15},{"$f":"0%","v":0},0.03,{"$f":"COUNTIF($P$5:Y$5,\"Year\")*$I$4","v":20},{"$f":"0%","v":0},0,{"$f":"COUNTIF($P$5:AB$5,\"Year\")*$I$4","v":25},{"$f":"0%","v":0},0,{"$f":"COUNTIF($P$5:AE$5,\"Year\")*$I$4","v":30},{"$f":"0%","v":0},0.03,{"$f":"COUNTIF($P$5:AH$5,\"Year\")*$I$4","v":35},{"$f":"0%","v":0},0,{"$f":"COUNTIF($P$5:AK$5,\"Year\")*$I$4","v":40},{"$f":"0%","v":0},0,null,null,null,null,null,null,null,"",0,0,0,0,0,0,0,0,0,0,0,0,0,12,6,120,{"$f":"INDEX('Avionics ID'!A:E,MATCH(B32,'Avionics ID'!E:E,0),3)","v":"Auto-pilot"}]
[{"$f":"INDEX('Avionics ID'!A:E,MATCH(B33,'Avionics ID'!E:E,0),1)","v":842},"Avionics Comms Router (ACR)",6.6666666666666666E-2,0.03,null,null,15,"Obsolescence",{"$f":"SUBSTITUTE(ADDRESS(1,MATCH(A33,'Pt1-AvionicsComponentCosts'!$A$6:$NC$6,0)+1),\"$1\",\"\")","v":"$AF"},{"$f":"_xlfn.TEXTJOIN(\", \",TRUE,_xlfn.UNIQUE(_xlfn._xlws.SORT(_xlfn._xlws.FILTER('Pt1-AvionicsComponentCosts'!$NF$12:$NF$384,ISNUMBER(INDIRECT(\"'Pt1-AvionicsComponentCosts'!\"&I33&\"$12:\"&I33&\"$384\"))))))","v":"A330 LMXT, A330 MRTT, Mil Transport, Military Jet, Military TP"},null,0.03,{"$f":"IF($A$2,INDEX([1]Sheet1!$A$12:$AO$193,MATCH($A33,[1]Sheet1!$A$12:$A$193,0),8),2*$L33)","v":0.06},{"$f":"INDEX([1]Sheet1!$A$12:$AO$193,MATCH($A33,[1]Sheet1!$A$12:$A$193,0),9)*(1+$A$4)","v":0.55110000000000003},{"$f":"INDEX([1]Sheet1!$A$12:$AO$193,MATCH($A33,[1]Sheet1!$A$12:$A$193,0),10)*(1+$A$4)","v":1.4267000000000001},{"$f":"COUNTIF($P$5:P$5,\"Year\")*$I$4","v":5},{"$f":"0%","v":0},0,{"$f":"COUNTIF($P$5:S$5,\"Year\")*$I$4","v":10},{"$f":"0%","v":0},0.03,{"$f":"COUNTIF($P$5:V$5,\"Year\")*$I$4","v":15},{"$f":"0%","v":0},0.03,{"$f":"COUNTIF($P$5:Y$5,\"Year\")*$I$4","v":20},{"$f":"0%","v":0},0.03,{"$f":"COUNTIF($P$5:AB$5,\"Year\")*$I$4","v":25},{"$f":"0%","v":0},0,{"$f":"COUNTIF($P$5:AE$5,\"Year\")*$I$4","v":30},{"$f":"0%","v":0},0.03,{"$f":"COUNTIF($P$5:AH$5,\"Year\")*$I$4","v":35},{"$f":"0%","v":0},0,{"$f":"COUNTIF($P$5:AK$5,\"Year\")*$I$4","v":40},{"$f":"0%","v":0},0.03,null,null,null,null,null,null,null,"",0,0,0,0,0,0,0,0,0,0,0,0,0,21,6,120,{"$f":"INDEX('Avionics ID'!A:E,MATCH(B33,'Avionics ID'!E:E,0),3)","v":"Communications"}]
[{"$f":"INDEX('Avionics ID'!A:E,MATCH(B34,'Avionics ID'!E:E,0),1)","v":1056},"Avionics Harnesses",0.1,0.03,null,null,10,"Obsolescence",{"$f":"SUBSTITUTE(ADDRESS(1,MATCH(A34,'Pt1-AvionicsComponentCosts'!$A$6:$NC$6,0)+1),\"$1\",\"\")","v":"$GX"},{"$f":"_xlfn.TEXTJOIN(\", \",TRUE,_xlfn.UNIQUE(_xlfn._xlws.SORT(_xlfn._xlws.FILTER('Pt1-AvionicsComponentCosts'!$NF$12:$NF$384,ISNUMBER(INDIRECT(\"'Pt1-AvionicsComponentCosts'!\"&I34&\"$12:\"&I34&\"$384\"))))))","v":"A220, A300, A320, A321, A330, A330 LMXT, A330 MRTT, A340, A350, A380, ARJ, ATR, Attack, Attack Helo, B717, B737, B747, B757, B767, B777, B787, C919, Challenger, Citation, CRJ, E550, EMB Bizjet, EMB Regional, Falcon, Global, Gulfstream, Hawker, Helo, Hondajet, Learjet, MC-21, MD-11, Mil Fighter, Mil Transport, Military Jet, Military TP, Nextant 400XT, NSA, PC-24, Phenom, Praetor, Reg TP, SF50, Stealth, Superjet 100, TP Trainer, Turbine GA"},null,0.03,{"$f":"IF($A$2,INDEX([1]Sheet1!$A$12:$AO$193,MATCH($A34,[1]Sheet1!$A$12:$A$193,0),8),2*$L34)","v":0.06},{"$f":"INDEX([1]Sheet1!$A$12:$AO$193,MATCH($A34,[1]Sheet1!$A$12:$A$193,0),9)*(1+$A$4)","v":0.40810000000000002},{"$f":"INDEX([1]Sheet1!$A$12:$AO$193,MATCH($A34,[1]Sheet1!$A$12:$A$193,0),10)*(1+$A$4)","v":1.3541000000000003},{"$f":"COUNTIF($P$5:P$5,\"Year\")*$I$4","v":5},{"$f":"0%","v":0},0.03,{"$f":"COUNTIF($P$5:S$5,\"Year\")*$I$4","v":10},{"$f":"0%","v":0},0.03,{"$f":"COUNTIF($P$5:V$5,\"Year\")*$I$4","v":15},{"$f":"0%","v":0},0.03,{"$f":"COUNTIF($P$5:Y$5,\"Year\")*$I$4","v":20},{"$f":"0%","v":0},0.03,{"$f":"COUNTIF($P$5:AB$5,\"Year\")*$I$4","v":25},{"$f":"0%","v":0},0.03,{"$f":"COUNTIF($P$5:AE$5,\"Year\")*$I$4","v":30},{"$f":"0%","v":0},0.03,{"$f":"COUNTIF($P$5:AH$5,\"Year\")*$I$4","v":35},{"$f":"0%","v":0},0.03,{"$f":"COUNTIF($P$5:AK$5,\"Year\")*$I$4","v":40},{"$f":"0%","v":0},0.03,null,null,null,null,null,null,null,"",0,0,0,0,0,0,0,0,0,0,0,0,0,30,6,120,{"$f":"INDEX('Avionics ID'!A:E,MATCH(B34,'Avionics ID'!E:E,0),3)","v":"Harnesses"}]
[1057,"Avionics Harnesses",0.1,0.03,null,null,10,"Obsolescence",{"$f":"SUBSTITUTE(ADDRESS(1,MATCH(A35,'Pt1-AvionicsComponentCosts'!$A$6:$NC$6,0)+1),\"$1\",\"\")","v":"$GZ"},{"$f":"_xlfn.TEXTJOIN(\", \",TRUE,_xlfn.UNIQUE(_xlfn._xlws.SORT(_xlfn._xlws.FILTER('Pt1-AvionicsComponentCosts'!$NF$12:$NF$384,ISNUMBER(INDIRECT(\"'Pt1-AvionicsComponentCosts'!\"&I35&\"$12:\"&I35&\"$384\"))))))","v":"A220, A300, A320, A321, A330, A330 LMXT, A330 MRTT, A340, A350, A380, ARJ, ATR, Attack, Attack Helo, B717, B737, B747, B757, B767, B777, B787, C919, Challenger, Citation, CRJ, E550, EMB Bizjet, EMB Regional, Falcon, Global, Gulfstream, Hawker, Helo, Hondajet, Learjet, MC-21, MD-11, Mil Fighter, Mil Transport, Military Jet, Military TP, Nextant 400XT, NSA, PC-24, Phenom, Praetor, Reg TP, SF50, Stealth, Superjet 100, TP Trainer, Turbine GA"},null,0.03,{"$f":"IF($A$2,INDEX([1]Sheet1!$A$12:$AO$193,MATCH($A35,[1]Sheet1!$A$12:$A$193,0),8),2*$L35)","v":0.06},{"$f":"INDEX([1]Sheet1!$A$12:$AO$193,MATCH($A35,[1]Sheet1!$A$12:$A$193,0),9)*(1+$A$4)","v":0.40810000000000002},{"$f":"INDEX([1]Sheet1!$A$12:$AO$193,MATCH($A35,[1]Sheet1!$A$12:$A$193,0),10)*(1+$A$4)","v":1.3541000000000003},{"$f":"COUNTIF($P$5:P$5,\"Year\")*$I$4","v":5},{"$f":"0%","v":0},0.03,{"$f":"COUNTIF($P$5:S$5,\"Year\")*$I$4","v":10},{"$f":"0%","v":0},0.03,{"$f":"COUNTIF($P$5:V$5,\"Year\")*$I$4","v":15},{"$f":"0%","v":0},0.03,{"$f":"COUNTIF($P$5:Y$5,\"Year\")*$I$4","v":20},{"$f":"0%","v":0},0.03,{"$f":"COUNTIF($P$5:AB$5,\"Year\")*$I$4","v":25},{"$f":"0%","v":0},0.03,{"$f":"COUNTIF($P$5:AE$5,\"Year\")*$I$4","v":30},{"$f":"0%","v":0},0.03,{"$f":"COUNTIF($P$5:AH$5,\"Year\")*$I$4","v":35},{"$f":"0%","v":0},0.03,{"$f":"COUNTIF($P$5:AK$5,\"Year\")*$I$4","v":40},{"$f":"0%","v":0},0.03,null,null,null,null,null,null,null,"",0,0,0,0,0,0,0,0,0,0,0,0,0,30,6,120,{"$f":"INDEX('Avionics ID'!A:E,MATCH(B35,'Avionics ID'!E:E,0),3)","v":"Harnesses"}]
[1058,"Avionics Harnesses",0.1,0.03,null,null,10,"Obsolescence",{"$f":"SUBSTITUTE(ADDRESS(1,MATCH(A36,'Pt1-AvionicsComponentCosts'!$A$6:$NC$6,0)+1),\"$1\",\"\")","v":"$HB"},{"$f":"_xlfn.TEXTJOIN(\", \",TRUE,_xlfn.UNIQUE(_xlfn._xlws.SORT(_xlfn._xlws.FILTER('Pt1-AvionicsComponentCosts'!$NF$12:$NF$384,ISNUMBER(INDIRECT(\"'Pt1-AvionicsComponentCosts'!\"&I36&\"$12:\"&I36&\"$384\"))))))","v":"A220, A300, A320, A321, A330, A330 LMXT, A330 MRTT, A340, A350, A380, ARJ, ATR, Attack, Attack Helo, B717, B737, B747, B757, B767, B777, B787, C919, Challenger, Citation, CRJ, E550, EMB Bizjet, EMB Regional, Falcon, Global, Gulfstream, Hawker, Helo, Hondajet, Learjet, MC-21, MD-11, Mil Fighter, Mil Transport, Military Jet, Military TP, Nextant 400XT, NSA, PC-24, Phenom, Praetor, Reg TP, SF50, Stealth, Superjet 100, TP Trainer, Turbine GA"},null,0.03,{"$f":"IF($A$2,INDEX([1]Sheet1!$A$12:$AO$193,MATCH($A36,[1]Sheet1!$A$12:$A$193,0),8),2*$L36)","v":0.06},{"$f":"INDEX([1]Sheet1!$A$12:$AO$193,MATCH($A36,[1]Sheet1!$A$12:$A$193,0),9)*(1+$A$4)","v":0.40810000000000002},{"$f":"INDEX([1]Sheet1!$A$12:$AO$193,MATCH($A36,[1]Sheet1!$A$12:$A$193,0),10)*(1+$A$4)","v":1.3541000000000003},{"$f":"COUNTIF($P$5:P$5,\"Year\")*$I$4","v":5},{"$f":"0%","v":0},0.03,{"$f":"COUNTIF($P$5:S$5,\"Year\")*$I$4","v":10},{"$f":"0%","v":0},0.03,{"$f":"COUNTIF($P$5:V$5,\"Year\")*$I$4","v":15},{"$f":"0%","v":0},0.03,{"$f":"COUNTIF($P$5:Y$5,\"Year\")*$I$4","v":20},{"$f":"0%","v":0},0.03,{"$f":"COUNTIF($P$5:AB$5,\"Year\")*$I$4","v":25},{"$f":"0%","v":0},0.03,{"$f":"COUNTIF($P$5:AE$5,\"Year\")*$I$4","v":30},{"$f":"0%","v":0},0.03,{"$f":"COUNTIF($P$5:AH$5,\"Year\")*$I$4","v":35},{"$f":"0%","v":0},0.03,{"$f":"COUNTIF($P$5:AK$5,\"Year\")*$I$4","v":40},{"$f":"0%","v":0},0.03,null,null,null,null,null,null,null,"",0,{"$f":"IF($H36=\"Technology / regulatory\",IF(AW$5=$F36-2,$AW$1,IF(AW$5=$F36-1,$AX$1,IF(AW$5=$F36,$AY$1,IF(AW$5=$F36+1,$AZ$1,0)))),0)","v":0},0,0,0,0,0,0,0,0,0,0,0,30,6,120,{"$f":"INDEX('Avionics ID'!A:E,MATCH(B36,'Avionics ID'!E:E,0),3)","v":"Harnesses"}]
[1059,"Avionics Harnesses",0.1,0.03,null,null,10,"Obsolescence",{"$f":"SUBSTITUTE(ADDRESS(1,MATCH(A37,'Pt1-AvionicsComponentCosts'!$A$6:$NC$6,0)+1),\"$1\",\"\")","v":"$HD"},{"$f":"_xlfn.TEXTJOIN(\", \",TRUE,_xlfn.UNIQUE(_xlfn._xlws.SORT(_xlfn._xlws.FILTER('Pt1-AvionicsComponentCosts'!$NF$12:$NF$384,ISNUMBER(INDIRECT(\"'Pt1-AvionicsComponentCosts'!\"&I37&\"$12:\"&I37&\"$384\"))))))","v":"A220, A300, A320, A321, A330, A330 LMXT, A330 MRTT, A340, A350, A380, ARJ, ATR, Attack, Attack Helo, B717, B737, B747, B757, B767, B777, B787, C919, Challenger, Citation, CRJ, E550, EMB Bizjet, EMB Regional, Falcon, Global, Gulfstream, Hawker, Helo, Hondajet, Learjet, MC-21, MD-11, Mil Fighter, Mil Transport, Military Jet, Military TP, Nextant 400XT, NSA, PC-24, Phenom, Praetor, Reg TP, SF50, Stealth, Superjet 100, TP Trainer, Turbine GA"},null,0.03,{"$f":"IF($A$2,INDEX([1]Sheet1!$A$12:$AO$193,MATCH($A37,[1]Sheet1!$A$12:$A$193,0),8),2*$L37)","v":0.06},{"$f":"INDEX([1]Sheet1!$A$12:$AO$193,MATCH($A37,[1]Sheet1!$A$12:$A$193,0),9)*(1+$A$4)","v":0.40810000000000002},{"$f":"INDEX([1]Sheet1!$A$12:$AO$193,MATCH($A37,[1]Sheet1!$A$12:$A$193,0),10)*(1+$A$4)","v":1.3541000000000003},{"$f":"COUNTIF($P$5:P$5,\"Year\")*$I$4","v":5},{"$f":"0%","v":0},0.03,{"$f":"COUNTIF($P$5:S$5,\"Year\")*$I$4","v":10},{"$f":"0%","v":0},0.03,{"$f":"COUNTIF($P$5:V$5,\"Year\")*$I$4","v":15},{"$f":"0%","v":0},0.03,{"$f":"COUNTIF($P$5:Y$5,\"Year\")*$I$4","v":20},{"$f":"0%","v":0},0.03,{"$f":"COUNTIF($P$5:AB$5,\"Year\")*$I$4","v":25},{"$f":"0%","v":0},0.03,{"$f":"COUNTIF($P$5:AE$5,\"Year\")*$I$4","v":30},{"$f":"0%","v":0},0.03,{"$f":"COUNTIF($P$5:AH$5,\"Year\")*$I$4","v":35},{"$f":"0%","v":0},0.03,{"$f":"COUNTIF($P$5:AK$5,\"Year\")*$I$4","v":40},{"$f":"0%","v":0},0.03,null,null,null,null,null,null,null,"",0,0,0,0,0,0,0,0,0,0,0,0,0,30,6,120,{"$f":"INDEX('Avionics ID'!A:E,MATCH(B37,'Avionics ID'!E:E,0),3)","v":"Harnesses"}]
[{"$f":"INDEX('Avionics ID'!A:E,MATCH(B38,'Avionics ID'!E:E,0),1)","v":843},"Central Crypto System",0.1,0.06,null,null,10,"Obsolescence",{"$f":"SUBSTITUTE(ADDRESS(1,MATCH(A38,'Pt1-AvionicsComponentCosts'!$A$6:$NC$6,0)+1),\"$1\",\"\")","v":"$AH"},{"$f":"_xlfn.TEXTJOIN(\", \",TRUE,_xlfn.UNIQUE(_xlfn._xlws.SORT(_xlfn._xlws.FILTER('Pt1-AvionicsComponentCosts'!$NF$12:$NF$384,ISNUMBER(INDIRECT(\"'Pt1-AvionicsComponentCosts'!\"&I38&\"$12:\"&I38&\"$384\"))))))","v":"A330 LMXT, A330 MRTT, Mil Transport, Military Jet, Military TP"},null,0.06,{"$f":"IF($A$2,INDEX([1]Sheet1!$A$12:$AO$193,MATCH($A38,[1]Sheet1!$A$12:$A$193,0),8),2*$L38)","v":0.12},{"$f":"INDEX([1]Sheet1!$A$12:$AO$193,MATCH($A38,[1]Sheet1!$A$12:$A$193,0),9)*(1+$A$4)","v":0.55110000000000003},{"$f":"INDEX([1]Sheet1!$A$12:$AO$193,MATCH($A38,[1]Sheet1!$A$12:$A$193,0),10)*(1+$A$4)","v":1.4267000000000001},{"$f":"COUNTIF($P$5:P$5,\"Year\")*$I$4","v":5},{"$f":"0%","v":0},0.06,{"$f":"COUNTIF($P$5:S$5,\"Year\")*$I$4","v":10},{"$f":"0%","v":0},0.06,{"$f":"COUNTIF($P$5:V$5,\"Year\")*$I$4","v":15},{"$f":"0%","v":0},0.06,{"$f":"COUNTIF($P$5:Y$5,\"Year\")*$I$4","v":20},{"$f":"0%","v":0},0.06,{"$f":"COUNTIF($P$5:AB$5,\"Year\")*$I$4","v":25},{"$f":"0%","v":0},0.06,{"$f":"COUNTIF($P$5:AE$5,\"Year\")*$I$4","v":30},{"$f":"0%","v":0},0.06,{"$f":"COUNTIF($P$5:AH$5,\"Year\")*$I$4","v":35},{"$f":"0%","v":0},0.06,{"$f":"COUNTIF($P$5:AK$5,\"Year\")*$I$4","v":40},{"$f":"0%","v":0},0.06,null,null,null,null,null,null,null,"",0,0,0,0,0,0,0,0,0,0,0,0,0,60,12,240,{"$f":"INDEX('Avionics ID'!A:E,MATCH(B38,'Avionics ID'!E:E,0),3)","v":"Communications"}]
[{"$f":"INDEX('Avionics ID'!A:E,MATCH(B39,'Avionics ID'!E:E,0),1)","v":862},"Central Mission display",6.6666666666666666E-2,0.06,null,null,15,"Obsolescence",{"$f":"SUBSTITUTE(ADDRESS(1,MATCH(A39,'Pt1-AvionicsComponentCosts'!$A$6:$NC$6,0)+1),\"$1\",\"\")","v":"$DT"},{"$f":"_xlfn.TEXTJOIN(\", \",TRUE,_xlfn.UNIQUE(_xlfn._xlws.SORT(_xlfn._xlws.FILTER('Pt1-AvionicsComponentCosts'!$NF$12:$NF$384,ISNUMBER(INDIRECT(\"'Pt1-AvionicsComponentCosts'!\"&I39&\"$12:\"&I39&\"$384\"))))))","v":"Helo, TP Trainer, Turbine GA"},null,0.06,{"$f":"IF($A$2,INDEX([1]Sheet1!$A$12:$AO$193,MATCH($A39,[1]Sheet1!$A$12:$A$193,0),8),2*$L39)","v":0.12},{"$f":"INDEX([1]Sheet1!$A$12:$AO$193,MATCH($A39,[1]Sheet1!$A$12:$A$193,0),9)*(1+$A$4)","v":0.38830000000000003},{"$f":"INDEX([1]Sheet1!$A$12:$AO$193,MATCH($A39,[1]Sheet1!$A$12:$A$193,0),10)*(1+$A$4)","v":2.0306000000000002},{"$f":"COUNTIF($P$5:P$5,\"Year\")*$I$4","v":5},{"$f":"0%","v":0},0,{"$f":"COUNTIF($P$5:S$5,\"Year\")*$I$4","v":10},{"$f":"0%","v":0},0.06,{"$f":"COUNTIF($P$5:V$5,\"Year\")*$I$4","v":15},{"$f":"0%","v":0},0.06,{"$f":"COUNTIF($P$5:Y$5,\"Year\")*$I$4","v":20},{"$f":"0%","v":0},0.06,{"$f":"COUNTIF($P$5:AB$5,\"Year\")*$I$4","v":25},{"$f":"0%","v":0},0,{"$f":"COUNTIF($P$5:AE$5,\"Year\")*$I$4","v":30},{"$f":"0%","v":0},0.06,{"$f":"COUNTIF($P$5:AH$5,\"Year\")*$I$4","v":35},{"$f":"0%","v":0},0,{"$f":"COUNTIF($P$5:AK$5,\"Year\")*$I$4","v":40},{"$f":"0%","v":0},0.06,null,null,null,null,null,null,null,"",0,0,0,0,0,0,0,0,0,0,0,0,0,42,12,240,{"$f":"INDEX('Avionics ID'!A:E,MATCH(B39,'Avionics ID'!E:E,0),3)","v":"Display"}]
[{"$f":"INDEX('Avionics ID'!A:E,MATCH(B40,'Avionics ID'!E:E,0),1)","v":737},"Clock",0.1,0.03,null,null,10,"Obsolescence",{"$f":"SUBSTITUTE(ADDRESS(1,MATCH(A40,'Pt1-AvionicsComponentCosts'!$A$6:$NC$6,0)+1),\"$1\",\"\")","v":"$DV"},{"$f":"_xlfn.TEXTJOIN(\", \",TRUE,_xlfn.UNIQUE(_xlfn._xlws.SORT(_xlfn._xlws.FILTER('Pt1-AvionicsComponentCosts'!$NF$12:$NF$384,ISNUMBER(INDIRECT(\"'Pt1-AvionicsComponentCosts'!\"&I40&\"$12:\"&I40&\"$384\"))))))","v":"A220, A300, A320, A321, A330, A340, A350, A380, ATR, B717, B737, B747, B757, B767, B777, C919, EMB Regional, MC-21, MD-11, Mil Transport, Military Jet, NSA"},null,0.03,{"$f":"IF($A$2,INDEX([1]Sheet1!$A$12:$AO$193,MATCH($A40,[1]Sheet1!$A$12:$A$193,0),8),2*$L40)","v":0.06},{"$f":"INDEX([1]Sheet1!$A$12:$AO$193,MATCH($A40,[1]Sheet1!$A$12:$A$193,0),9)*(1+$A$4)","v":0.38830000000000003},{"$f":"INDEX([1]Sheet1!$A$12:$AO$193,MATCH($A40,[1]Sheet1!$A$12:$A$193,0),10)*(1+$A$4)","v":2.0306000000000002},{"$f":"COUNTIF($P$5:P$5,\"Year\")*$I$4","v":5},{"$f":"0%","v":0},0.03,{"$f":"COUNTIF($P$5:S$5,\"Year\")*$I$4","v":10},{"$f":"0%","v":0},0.03,{"$f":"COUNTIF($P$5:V$5,\"Year\")*$I$4","v":15},{"$f":"0%","v":0},0.03,{"$f":"COUNTIF($P$5:Y$5,\"Year\")*$I$4","v":20},{"$f":"0%","v":0},0.03,{"$f":"COUNTIF($P$5:AB$5,\"Year\")*$I$4","v":25},{"$f":"0%","v":0},0.03,{"$f":"COUNTIF($P$5:AE$5,\"Year\")*$I$4","v":30},{"$f":"0%","v":0},0.03,{"$f":"COUNTIF($P$5:AH$5,\"Year\")*$I$4","v":35},{"$f":"0%","v":0},0.03,{"$f":"COUNTIF($P$5:AK$5,\"Year\")*$I$4","v":40},{"$f":"0%","v":0},0.03,null,null,null,null,null,null,null,"",0,0,0,0,0,0,0,0,0,0,0,0,0,30,6,120,{"$f":"INDEX('Avionics ID'!A:E,MATCH(B40,'Avionics ID'!E:E,0),3)","v":"Display"}]
[{"$f":"INDEX('Avionics ID'!A:E,MATCH(B41,'Avionics ID'!E:E,0),1)","v":752},"Cockpit Voice Recorder",6.6666666666666666E-2,0.06,"CPDLC",2028,15,"Technology / regulatory",{"$f":"SUBSTITUTE(ADDRESS(1,MATCH(A41,'Pt1-AvionicsComponentCosts'!$A$6:$NC$6,0)+1),\"$1\",\"\")","v":"$AJ"},{"$f":"_xlfn.TEXTJOIN(\", \",TRUE,_xlfn.UNIQUE(_xlfn._xlws.SORT(_xlfn._xlws.FILTER('Pt1-AvionicsComponentCosts'!$NF$12:$NF$384,ISNUMBER(INDIRECT(\"'Pt1-AvionicsComponentCosts'!\"&I41&\"$12:\"&I41&\"$384\"))))))","v":"A220, A300, A320, A321, A330, A340, A350, A380, ATR, B717, B737, B747, B757, B767, B777, B787, C919, Challenger, Citation, E550, EMB Bizjet, EMB Regional, Falcon, Global, Gulfstream, Hawker, Hondajet, Learjet, MC-21, MD-11, Mil Transport, Military Jet, Nextant 400XT, NSA, PC-24, Phenom, Praetor, SF50"},null,0.06,{"$f":"IF($A$2,INDEX([1]Sheet1!$A$12:$AO$193,MATCH($A41,[1]Sheet1!$A$12:$A$193,0),8),2*$L41)","v":0.12},{"$f":"INDEX([1]Sheet1!$A$12:$AO$193,MATCH($A41,[1]Sheet1!$A$12:$A$193,0),9)*(1+$A$4)","v":0.55110000000000003},{"$f":"INDEX([1]Sheet1!$A$12:$AO$193,MATCH($A41,[1]Sheet1!$A$12:$A$193,0),10)*(1+$A$4)","v":1.4267000000000001},{"$f":"COUNTIF($P$5:P$5,\"Year\")*$I$4","v":5},{"$f":"0%","v":0},0,{"$f":"COUNTIF($P$5:S$5,\"Year\")*$I$4","v":10},{"$f":"0%","v":0},0.06,{"$f":"COUNTIF($P$5:V$5,\"Year\")*$I$4","v":15},{"$f":"0%","v":0},0.06,{"$f":"COUNTIF($P$5:Y$5,\"Year\")*$I$4","v":20},{"$f":"0%","v":0},0.06,{"$f":"COUNTIF($P$5:AB$5,\"Year\")*$I$4","v":25},{"$f":"0%","v":0},0,{"$f":"COUNTIF($P$5:AE$5,\"Year\")*$I$4","v":30},{"$f":"0%","v":0},0.06,{"$f":"COUNTIF($P$5:AH$5,\"Year\")*$I$4","v":35},{"$f":"0%","v":0},0,{"$f":"COUNTIF($P$5:AK$5,\"Year\")*$I$4","v":40},{"$f":"0%","v":0},0.06,null,null,null,null,null,null,null,"CPDLC",1.4267000000000001,0,0,0.15,0.25,0.45,0.15,0,0,0,0,0,0,142,12,240,{"$f":"INDEX('Avionics ID'!A:E,MATCH(B41,'Avionics ID'!E:E,0),3)","v":"Communications"}]
[{"$f":"INDEX('Avionics ID'!A:E,MATCH(B42,'Avionics ID'!E:E,0),1)","v":864},"Combined cockpit voice and data recorder",6.6666666666666666E-2,0.06,"CPDLC",2028,15,"Technology / regulatory",{"$f":"SUBSTITUTE(ADDRESS(1,MATCH(A42,'Pt1-AvionicsComponentCosts'!$A$6:$NC$6,0)+1),\"$1\",\"\")","v":"$CL"},{"$f":"_xlfn.TEXTJOIN(\", \",TRUE,_xlfn.UNIQUE(_xlfn._xlws.SORT(_xlfn._xlws.FILTER('Pt1-AvionicsComponentCosts'!$NF$12:$NF$384,ISNUMBER(INDIRECT(\"'Pt1-AvionicsComponentCosts'!\"&I42&\"$12:\"&I42&\"$384\"))))))","v":"Helo, TP Trainer, Turbine GA"},null,0.06,{"$f":"IF($A$2,INDEX([1]Sheet1!$A$12:$AO$193,MATCH($A42,[1]Sheet1!$A$12:$A$193,0),8),2*$L42)","v":0.12},{"$f":"INDEX([1]Sheet1!$A$12:$AO$193,MATCH($A42,[1]Sheet1!$A$12:$A$193,0),9)*(1+$A$4)","v":0.75130000000000008},{"$f":"INDEX([1]Sheet1!$A$12:$AO$193,MATCH($A42,[1]Sheet1!$A$12:$A$193,0),10)*(1+$A$4)","v":2.1241000000000003},{"$f":"COUNTIF($P$5:P$5,\"Year\")*$I$4","v":5},{"$f":"0%","v":0},0,{"$f":"COUNTIF($P$5:S$5,\"Year\")*$I$4","v":10},{"$f":"0%","v":0},0.06,{"$f":"COUNTIF($P$5:V$5,\"Year\")*$I$4","v":15},{"$f":"0%","v":0},0.06,{"$f":"COUNTIF($P$5:Y$5,\"Year\")*$I$4","v":20},{"$f":"0%","v":0},0.06,{"$f":"COUNTIF($P$5:AB$5,\"Year\")*$I$4","v":25},{"$f":"0%","v":0},0,{"$f":"COUNTIF($P$5:AE$5,\"Year\")*$I$4","v":30},{"$f":"0%","v":0},0.06,{"$f":"COUNTIF($P$5:AH$5,\"Year\")*$I$4","v":35},{"$f":"0%","v":0},0,{"$f":"COUNTIF($P$5:AK$5,\"Year\")*$I$4","v":40},{"$f":"0%","v":0},0.06,null,null,null,null,null,null,null,"CPDLC",2.1241000000000003,0,0,0.15,0.25,0.45,0.15,0,0,0,0,0,0,142,12,240,{"$f":"INDEX('Avionics ID'!A:E,MATCH(B42,'Avionics ID'!E:E,0),3)","v":"Data"}]
[{"$f":"INDEX('Avionics ID'!A:E,MATCH(B43,'Avionics ID'!E:E,0),1)","v":773},"Common Core processing",6.6666666666666666E-2,0.03,null,null,15,"Obsolescence",{"$f":"SUBSTITUTE(ADDRESS(1,MATCH(A43,'Pt1-AvionicsComponentCosts'!$A$6:$NC$6,0)+1),\"$1\",\"\")","v":"$HH"},{"$f":"_xlfn.TEXTJOIN(\", \",TRUE,_xlfn.UNIQUE(_xlfn._xlws.SORT(_xlfn._xlws.FILTER('Pt1-AvionicsComponentCosts'!$NF$12:$NF$384,ISNUMBER(INDIRECT(\"'Pt1-AvionicsComponentCosts'!\"&I43&\"$12:\"&I43&\"$384\"))))))","v":"A220, A320, A350, A380, B747, B777, B787, C919, Falcon, Global, Gulfstream, NSA, Reg TP"},null,0.03,{"$f":"IF($A$2,INDEX([1]Sheet1!$A$12:$AO$193,MATCH($A43,[1]Sheet1!$A$12:$A$193,0),8),2*$L43)","v":0.06},{"$f":"INDEX([1]Sheet1!$A$12:$AO$193,MATCH($A43,[1]Sheet1!$A$12:$A$193,0),9)*(1+$A$4)","v":0.39050000000000001},{"$f":"INDEX([1]Sheet1!$A$12:$AO$193,MATCH($A43,[1]Sheet1!$A$12:$A$193,0),10)*(1+$A$4)","v":1.1561000000000001},{"$f":"COUNTIF($P$5:P$5,\"Year\")*$I$4","v":5},{"$f":"0%","v":0},0,{"$f":"COUNTIF($P$5:S$5,\"Year\")*$I$4","v":10},{"$f":"0%","v":0},0.03,{"$f":"COUNTIF($P$5:V$5,\"Year\")*$I$4","v":15},{"$f":"0%","v":0},0.03,{"$f":"COUNTIF($P$5:Y$5,\"Year\")*$I$4","v":20},{"$f":"0%","v":0},0.03,{"$f":"COUNTIF($P$5:AB$5,\"Year\")*$I$4","v":25},{"$f":"0%","v":0},0,{"$f":"COUNTIF($P$5:AE$5,\"Year\")*$I$4","v":30},{"$f":"0%","v":0},0.03,{"$f":"COUNTIF($P$5:AH$5,\"Year\")*$I$4","v":35},{"$f":"0%","v":0},0,{"$f":"COUNTIF($P$5:AK$5,\"Year\")*$I$4","v":40},{"$f":"0%","v":0},0.03,null,null,null,null,null,null,null,"",0,0,0,0,0,0,0,0,0,0,0,0,0,21,6,120,{"$f":"INDEX('Avionics ID'!A:E,MATCH(B43,'Avionics ID'!E:E,0),3)","v":"IMA"}]
[{"$f":"INDEX('Avionics ID'!A:E,MATCH(B44,'Avionics ID'!E:E,0),1)","v":775},"Common Data Network",6.6666666666666666E-2,0.03,null,null,15,"Obsolescence",{"$f":"SUBSTITUTE(ADDRESS(1,MATCH(A44,'Pt1-AvionicsComponentCosts'!$A$6:$NC$6,0)+1),\"$1\",\"\")","v":"$HJ"},{"$f":"_xlfn.TEXTJOIN(\", \",TRUE,_xlfn.UNIQUE(_xlfn._xlws.SORT(_xlfn._xlws.FILTER('Pt1-AvionicsComponentCosts'!$NF$12:$NF$384,ISNUMBER(INDIRECT(\"'Pt1-AvionicsComponentCosts'!\"&I44&\"$12:\"&I44&\"$384\"))))))","v":"A220, A320, A350, A380, B747, B777, B787, C919, Falcon, Global, Gulfstream, NSA, Reg TP"},null,0.03,{"$f":"IF($A$2,INDEX([1]Sheet1!$A$12:$AO$193,MATCH($A44,[1]Sheet1!$A$12:$A$193,0),8),2*$L44)","v":0.06},{"$f":"INDEX([1]Sheet1!$A$12:$AO$193,MATCH($A44,[1]Sheet1!$A$12:$A$193,0),9)*(1+$A$4)","v":0.39050000000000001},{"$f":"INDEX([1]Sheet1!$A$12:$AO$193,MATCH($A44,[1]Sheet1!$A$12:$A$193,0),10)*(1+$A$4)","v":1.1561000000000001},{"$f":"COUNTIF($P$5:P$5,\"Year\")*$I$4","v":5},{"$f":"0%","v":0},0,{"$f":"COUNTIF($P$5:S$5,\"Year\")*$I$4","v":10},{"$f":"0%","v":0},0.03,{"$f":"COUNTIF($P$5:V$5,\"Year\")*$I$4","v":15},{"$f":"0%","v":0},0.03,{"$f":"COUNTIF($P$5:Y$5,\"Year\")*$I$4","v":20},{"$f":"0%","v":0},0.03,{"$f":"COUNTIF($P$5:AB$5,\"Year\")*$I$4","v":25},{"$f":"0%","v":0},0,{"$f":"COUNTIF($P$5:AE$5,\"Year\")*$I$4","v":30},{"$f":"0%","v":0},0.03,{"$f":"COUNTIF($P$5:AH$5,\"Year\")*$I$4","v":35},{"$f":"0%","v":0},0,{"$f":"COUNTIF($P$5:AK$5,\"Year\")*$I$4","v":40},{"$f":"0%","v":0},0.03,null,null,null,null,null,null,null,"",0,0,0,0,0,0,0,0,0,0,0,0,0,21,6,120,{"$f":"INDEX('Avionics ID'!A:E,MATCH(B44,'Avionics ID'!E:E,0),3)","v":"IMA"}]
[{"$f":"INDEX('Avionics ID'!A:E,MATCH(B45,'Avionics ID'!E:E,0),1)","v":782},"Comms Management Function (CMF)",0.05,0.03,null,null,20,"Obsolescence",{"$f":"SUBSTITUTE(ADDRESS(1,MATCH(A45,'Pt1-AvionicsComponentCosts'!$A$6:$NC$6,0)+1),\"$1\",\"\")","v":"$AL"},{"$f":"_xlfn.TEXTJOIN(\", \",TRUE,_xlfn.UNIQUE(_xlfn._xlws.SORT(_xlfn._xlws.FILTER('Pt1-AvionicsComponentCosts'!$NF$12:$NF$384,ISNUMBER(INDIRECT(\"'Pt1-AvionicsComponentCosts'!\"&I45&\"$12:\"&I45&\"$384\"))))))","v":"A350, B747, B777, B787"},null,0.03,{"$f":"IF($A$2,INDEX([1]Sheet1!$A$12:$AO$193,MATCH($A45,[1]Sheet1!$A$12:$A$193,0),8),2*$L45)","v":0.06},{"$f":"INDEX([1]Sheet1!$A$12:$AO$193,MATCH($A45,[1]Sheet1!$A$12:$A$193,0),9)*(1+$A$4)","v":0.55110000000000003},{"$f":"INDEX([1]Sheet1!$A$12:$AO$193,MATCH($A45,[1]Sheet1!$A$12:$A$193,0),10)*(1+$A$4)","v":1.4267000000000001},{"$f":"COUNTIF($P$5:P$5,\"Year\")*$I$4","v":5},{"$f":"0%","v":0},0,{"$f":"COUNTIF($P$5:S$5,\"Year\")*$I$4","v":10},{"$f":"0%","v":0},0.03,{"$f":"COUNTIF($P$5:V$5,\"Year\")*$I$4","v":15},{"$f":"0%","v":0},0,{"$f":"COUNTIF($P$5:Y$5,\"Year\")*$I$4","v":20},{"$f":"0%","v":0},0.03,{"$f":"COUNTIF($P$5:AB$5,\"Year\")*$I$4","v":25},{"$f":"0%","v":0},0,{"$f":"COUNTIF($P$5:AE$5,\"Year\")*$I$4","v":30},{"$f":"0%","v":0},0.03,{"$f":"COUNTIF($P$5:AH$5,\"Year\")*$I$4","v":35},{"$f":"0%","v":0},0,{"$f":"COUNTIF($P$5:AK$5,\"Year\")*$I$4","v":40},{"$f":"0%","v":0},0.03,null,null,null,null,null,null,null,"",0,0,0,0,0,0,0,0,0,0,0,0,0,18,6,120,{"$f":"INDEX('Avionics ID'!A:E,MATCH(B45,'Avionics ID'!E:E,0),3)","v":"Communications"}]
[{"$f":"INDEX('Avionics ID'!A:E,MATCH(B46,'Avionics ID'!E:E,0),1)","v":832},"Comms Management System",0.05,0.03,null,null,20,"Obsolescence",{"$f":"SUBSTITUTE(ADDRESS(1,MATCH(A46,'Pt1-AvionicsComponentCosts'!$A$6:$NC$6,0)+1),\"$1\",\"\")","v":"$AN"},{"$f":"_xlfn.TEXTJOIN(\", \",TRUE,_xlfn.UNIQUE(_xlfn._xlws.SORT(_xlfn._xlws.FILTER('Pt1-AvionicsComponentCosts'!$NF$12:$NF$384,ISNUMBER(INDIRECT(\"'Pt1-AvionicsComponentCosts'!\"&I46&\"$12:\"&I46&\"$384\"))))))","v":"Challenger, Citation, E550, EMB Bizjet, Falcon, Global, Gulfstream, Hawker, Hondajet, Learjet, Nextant 400XT, PC-24, Phenom, Praetor, SF50"},null,0.03,{"$f":"IF($A$2,INDEX([1]Sheet1!$A$12:$AO$193,MATCH($A46,[1]Sheet1!$A$12:$A$193,0),8),2*$L46)","v":0.06},{"$f":"INDEX([1]Sheet1!$A$12:$AO$193,MATCH($A46,[1]Sheet1!$A$12:$A$193,0),9)*(1+$A$4)","v":0.55110000000000003},{"$f":"INDEX([1]Sheet1!$A$12:$AO$193,MATCH($A46,[1]Sheet1!$A$12:$A$193,0),10)*(1+$A$4)","v":1.4267000000000001},{"$f":"COUNTIF($P$5:P$5,\"Year\")*$I$4","v":5},{"$f":"0%","v":0},0,{"$f":"COUNTIF($P$5:S$5,\"Year\")*$I$4","v":10},{"$f":"0%","v":0},0.03,{"$f":"COUNTIF($P$5:V$5,\"Year\")*$I$4","v":15},{"$f":"0%","v":0},0,{"$f":"COUNTIF($P$5:Y$5,\"Year\")*$I$4","v":20},{"$f":"0%","v":0},0.03,{"$f":"COUNTIF($P$5:AB$5,\"Year\")*$I$4","v":25},{"$f":"0%","v":0},0,{"$f":"COUNTIF($P$5:AE$5,\"Year\")*$I$4","v":30},{"$f":"0%","v":0},0.03,{"$f":"COUNTIF($P$5:AH$5,\"Year\")*$I$4","v":35},{"$f":"0%","v":0},0,{"$f":"COUNTIF($P$5:AK$5,\"Year\")*$I$4","v":40},{"$f":"0%","v":0},0.03,null,null,null,null,null,null,null,"",0,{"$f":"IF($H46=\"Technology / regulatory\",IF(AW$5=$F46-2,$AW$1,IF(AW$5=$F46-1,$AX$1,IF(AW$5=$F46,$AY$1,IF(AW$5=$F46+1,$AZ$1,0)))),0)","v":0},0,0,0,0,0,0,0,0,0,0,0,18,6,120,{"$f":"INDEX('Avionics ID'!A:E,MATCH(B46,'Avionics ID'!E:E,0),3)","v":"Communications"}]
[{"$f":"INDEX('Avionics ID'!A:E,MATCH(B47,'Avionics ID'!E:E,0),1)","v":739},"Comms Receivers UF (transceiver/antenna)",0.1,0.06,null,null,10,"Obsolescence",{"$f":"SUBSTITUTE(ADDRESS(1,MATCH(A47,'Pt1-AvionicsComponentCosts'!$A$6:$NC$6,0)+1),\"$1\",\"\")","v":"$AP"},{"$f":"_xlfn.TEXTJOIN(\", \",TRUE,_xlfn.UNIQUE(_xlfn._xlws.SORT(_xlfn._xlws.FILTER('Pt1-AvionicsComponentCosts'!$NF$12:$NF$384,ISNUMBER(INDIRECT(\"'Pt1-AvionicsComponentCosts'!\"&I47&\"$12:\"&I47&\"$384\"))))))","v":"A220, A300, A320, A321, A330, A340, A350, A380, ATR, B717, B737, B747, B757, B767, B777, B787, C919, EMB Regional, MC-21, MD-11, Mil Transport, Military Jet, NSA"},null,0.06,{"$f":"IF($A$2,INDEX([1]Sheet1!$A$12:$AO$193,MATCH($A47,[1]Sheet1!$A$12:$A$193,0),8),2*$L47)","v":0.12},{"$f":"INDEX([1]Sheet1!$A$12:$AO$193,MATCH($A47,[1]Sheet1!$A$12:$A$193,0),9)*(1+$A$4)","v":0.55110000000000003},{"$f":"INDEX([1]Sheet1!$A$12:$AO$193,MATCH($A47,[1]Sheet1!$A$12:$A$193,0),10)*(1+$A$4)","v":1.4267000000000001},{"$f":"COUNTIF($P$5:P$5,\"Year\")*$I$4","v":5},{"$f":"0%","v":0},0.06,{"$f":"COUNTIF($P$5:S$5,\"Year\")*$I$4","v":10},{"$f":"0%","v":0},0.06,{"$f":"COUNTIF($P$5:V$5,\"Year\")*$I$4","v":15},{"$f":"0%","v":0},0.06,{"$f":"COUNTIF($P$5:Y$5,\"Year\")*$I$4","v":20},{"$f":"0%","v":0},0.06,{"$f":"COUNTIF($P$5:AB$5,\"Year\")*$I$4","v":25},{"$f":"0%","v":0},0.06,{"$f":"COUNTIF($P$5:AE$5,\"Year\")*$I$4","v":30},{"$f":"0%","v":0},0.06,{"$f":"COUNTIF($P$5:AH$5,\"Year\")*$I$4","v":35},{"$f":"0%","v":0},0.06,{"$f":"COUNTIF($P$5:AK$5,\"Year\")*$I$4","v":40},{"$f":"0%","v":0},0.06,null,null,null,null,null,null,null,"",0,0,0,0,0,0,0,0,0,0,0,0,0,60,12,240,{"$f":"INDEX('Avionics ID'!A:E,MATCH(B47,'Avionics ID'!E:E,0),3)","v":"Communications"}]
[{"$f":"INDEX('Avionics ID'!A:E,MATCH(B48,'Avionics ID'!E:E,0),1)","v":738},"Comms Receivers VH (transceiver/antenna)",0.1,0.06,null,null,10,"Obsolescence",{"$f":"SUBSTITUTE(ADDRESS(1,MATCH(A48,'Pt1-AvionicsComponentCosts'!$A$6:$NC$6,0)+1),\"$1\",\"\")","v":"$AR"},{"$f":"_xlfn.TEXTJOIN(\", \",TRUE,_xlfn.UNIQUE(_xlfn._xlws.SORT(_xlfn._xlws.FILTER('Pt1-AvionicsComponentCosts'!$NF$12:$NF$384,ISNUMBER(INDIRECT(\"'Pt1-AvionicsComponentCosts'!\"&I48&\"$12:\"&I48&\"$384\"))))))","v":"A220, A300, A320, A321, A330, A340, A350, A380, ATR, B717, B737, B747, B757, B767, B777, B787, C919, EMB Regional, MC-21, MD-11, Mil Transport, Military Jet, NSA"},null,0.06,{"$f":"IF($A$2,INDEX([1]Sheet1!$A$12:$AO$193,MATCH($A48,[1]Sheet1!$A$12:$A$193,0),8),2*$L48)","v":0.12},{"$f":"INDEX([1]Sheet1!$A$12:$AO$193,MATCH($A48,[1]Sheet1!$A$12:$A$193,0),9)*(1+$A$4)","v":0.55110000000000003},{"$f":"INDEX([1]Sheet1!$A$12:$AO$193,MATCH($A48,[1]Sheet1!$A$12:$A$193,0),10)*(1+$A$4)","v":1.4267000000000001},{"$f":"COUNTIF($P$5:P$5,\"Year\")*$I$4","v":5},{"$f":"0%","v":0},0.06,{"$f":"COUNTIF($P$5:S$5,\"Year\")*$I$4","v":10},{"$f":"0%","v":0},0.06,{"$f":"COUNTIF($P$5:V$5,\"Year\")*$I$4","v":15},{"$f":"0%","v":0},0.06,{"$f":"COUNTIF($P$5:Y$5,\"Year\")*$I$4","v":20},{"$f":"0%","v":0},0.06,{"$f":"COUNTIF($P$5:AB$5,\"Year\")*$I$4","v":25},{"$f":"0%","v":0},0.06,{"$f":"COUNTIF($P$5:AE$5,\"Year\")*$I$4","v":30},{"$f":"0%","v":0},0.06,{"$f":"COUNTIF($P$5:AH$5,\"Year\")*$I$4","v":35},{"$f":"0%","v":0},0.06,{"$f":"COUNTIF($P$5:AK$5,\"Year\")*$I$4","v":40},{"$f":"0%","v":0},0.06,null,null,null,null,null,null,null,"",0,0,0,0,0,0,0,0,0,0,0,0,0,60,12,240,{"$f":"INDEX('Avionics ID'!A:E,MATCH(B48,'Avionics ID'!E:E,0),3)","v":"Communications"}]
[{"$f":"INDEX('Avionics ID'!A:E,MATCH(B49,'Avionics ID'!E:E,0),1)","v":787},"Communication, Navigation, Identification Unit AN/ASQ-242",0.05,0.03,null,null,20,"Obsolescence",{"$f":"SUBSTITUTE(ADDRESS(1,MATCH(A49,'Pt1-AvionicsComponentCosts'!$A$6:$NC$6,0)+1),\"$1\",\"\")","v":"$AT"},{"$f":"_xlfn.TEXTJOIN(\", \",TRUE,_xlfn.UNIQUE(_xlfn._xlws.SORT(_xlfn._xlws.FILTER('Pt1-AvionicsComponentCosts'!$NF$12:$NF$384,ISNUMBER(INDIRECT(\"'Pt1-AvionicsComponentCosts'!\"&I49&\"$12:\"&I49&\"$384\"))))))","v":"Attack, Stealth"},null,0.03,{"$f":"IF($A$2,INDEX([1]Sheet1!$A$12:$AO$193,MATCH($A49,[1]Sheet1!$A$12:$A$193,0),8),2*$L49)","v":0.06},{"$f":"INDEX([1]Sheet1!$A$12:$AO$193,MATCH($A49,[1]Sheet1!$A$12:$A$193,0),9)*(1+$A$4)","v":0.55110000000000003},{"$f":"INDEX([1]Sheet1!$A$12:$AO$193,MATCH($A49,[1]Sheet1!$A$12:$A$193,0),10)*(1+$A$4)","v":1.4267000000000001},{"$f":"COUNTIF($P$5:P$5,\"Year\")*$I$4","v":5},{"$f":"0%","v":0},0,{"$f":"COUNTIF($P$5:S$5,\"Year\")*$I$4","v":10},{"$f":"0%","v":0},0.03,{"$f":"COUNTIF($P$5:V$5,\"Year\")*$I$4","v":15},{"$f":"0%","v":0},0,{"$f":"COUNTIF($P$5:Y$5,\"Year\")*$I$4","v":20},{"$f":"0%","v":0},0.03,{"$f":"COUNTIF($P$5:AB$5,\"Year\")*$I$4","v":25},{"$f":"0%","v":0},0,{"$f":"COUNTIF($P$5:AE$5,\"Year\")*$I$4","v":30},{"$f":"0%","v":0},0.03,{"$f":"COUNTIF($P$5:AH$5,\"Year\")*$I$4","v":35},{"$f":"0%","v":0},0,{"$f":"COUNTIF($P$5:AK$5,\"Year\")*$I$4","v":40},{"$f":"0%","v":0},0.03,null,null,null,null,null,null,null,"",0,0,0,0,0,0,0,0,0,0,0,0,0,18,6,120,{"$f":"INDEX('Avionics ID'!A:E,MATCH(B49,'Avionics ID'!E:E,0),3)","v":"Communications"}]
[{"$f":"INDEX('Avionics ID'!A:E,MATCH(B50,'Avionics ID'!E:E,0),1)","v":734},"Compass",2.5000000000000001E-2,0.03,null,null,40,"Obsolescence",{"$f":"SUBSTITUTE(ADDRESS(1,MATCH(A50,'Pt1-AvionicsComponentCosts'!$A$6:$NC$6,0)+1),\"$1\",\"\")","v":"$DX"},{"$f":"_xlfn.TEXTJOIN(\", \",TRUE,_xlfn.UNIQUE(_xlfn._xlws.SORT(_xlfn._xlws.FILTER('Pt1-AvionicsComponentCosts'!$NF$12:$NF$384,ISNUMBER(INDIRECT(\"'Pt1-AvionicsComponentCosts'!\"&I50&\"$12:\"&I50&\"$384\"))))))","v":"A220, A300, A320, A321, A330, A340, A350, A380, ATR, B717, B737, B747, B757, B767, B777, B787, C919, EMB Regional, MC-21, MD-11, Mil Transport, Military Jet, NSA"},null,0.03,{"$f":"IF($A$2,INDEX([1]Sheet1!$A$12:$AO$193,MATCH($A50,[1]Sheet1!$A$12:$A$193,0),8),2*$L50)","v":0.06},{"$f":"INDEX([1]Sheet1!$A$12:$AO$193,MATCH($A50,[1]Sheet1!$A$12:$A$193,0),9)*(1+$A$4)","v":0.38830000000000003},{"$f":"INDEX([1]Sheet1!$A$12:$AO$193,MATCH($A50,[1]Sheet1!$A$12:$A$193,0),10)*(1+$A$4)","v":2.0306000000000002},{"$f":"COUNTIF($P$5:P$5,\"Year\")*$I$4","v":5},{"$f":"0%","v":0},0,{"$f":"COUNTIF($P$5:S$5,\"Year\")*$I$4","v":10},{"$f":"0%","v":0},0,{"$f":"COUNTIF($P$5:V$5,\"Year\")*$I$4","v":15},{"$f":"0%","v":0},0,{"$f":"COUNTIF($P$5:Y$5,\"Year\")*$I$4","v":20},{"$f":"0%","v":0},0.03,{"$f":"COUNTIF($P$5:AB$5,\"Year\")*$I$4","v":25},{"$f":"0%","v":0},0,{"$f":"COUNTIF($P$5:AE$5,\"Year\")*$I$4","v":30},{"$f":"0%","v":0},0,{"$f":"COUNTIF($P$5:AH$5,\"Year\")*$I$4","v":35},{"$f":"0%","v":0},0,{"$f":"COUNTIF($P$5:AK$5,\"Year\")*$I$4","v":40},{"$f":"0%","v":0},0.03,null,null,null,null,null,null,null,"",0,0,0,0,0,0,0,0,0,0,0,0,0,12,6,120,{"$f":"INDEX('Avionics ID'!A:E,MATCH(B50,'Avionics ID'!E:E,0),3)","v":"Display"}]
[{"$f":"INDEX('Avionics ID'!A:E,MATCH(B51,'Avionics ID'!E:E,0),1)","v":779},"Crew Info System/Maint System",0.05,0.03,null,null,20,"Obsolescence",{"$f":"SUBSTITUTE(ADDRESS(1,MATCH(A51,'Pt1-AvionicsComponentCosts'!$A$6:$NC$6,0)+1),\"$1\",\"\")","v":"$DZ"},{"$f":"_xlfn.TEXTJOIN(\", \",TRUE,_xlfn.UNIQUE(_xlfn._xlws.SORT(_xlfn._xlws.FILTER('Pt1-AvionicsComponentCosts'!$NF$12:$NF$384,ISNUMBER(INDIRECT(\"'Pt1-AvionicsComponentCosts'!\"&I51&\"$12:\"&I51&\"$384\"))))))","v":"A350, B747, B777, B787"},null,0.03,{"$f":"IF($A$2,INDEX([1]Sheet1!$A$12:$AO$193,MATCH($A51,[1]Sheet1!$A$12:$A$193,0),8),2*$L51)","v":0.06},{"$f":"INDEX([1]Sheet1!$A$12:$AO$193,MATCH($A51,[1]Sheet1!$A$12:$A$193,0),9)*(1+$A$4)","v":0.38830000000000003},{"$f":"INDEX([1]Sheet1!$A$12:$AO$193,MATCH($A51,[1]Sheet1!$A$12:$A$193,0),10)*(1+$A$4)","v":2.0306000000000002},{"$f":"COUNTIF($P$5:P$5,\"Year\")*$I$4","v":5},{"$f":"0%","v":0},0,{"$f":"COUNTIF($P$5:S$5,\"Year\")*$I$4","v":10},{"$f":"0%","v":0},0.03,{"$f":"COUNTIF($P$5:V$5,\"Year\")*$I$4","v":15},{"$f":"0%","v":0},0,{"$f":"COUNTIF($P$5:Y$5,\"Year\")*$I$4","v":20},{"$f":"0%","v":0},0.03,{"$f":"COUNTIF($P$5:AB$5,\"Year\")*$I$4","v":25},{"$f":"0%","v":0},0,{"$f":"COUNTIF($P$5:AE$5,\"Year\")*$I$4","v":30},{"$f":"0%","v":0},0.03,{"$f":"COUNTIF($P$5:AH$5,\"Year\")*$I$4","v":35},{"$f":"0%","v":0},0,{"$f":"COUNTIF($P$5:AK$5,\"Year\")*$I$4","v":40},{"$f":"0%","v":0},0.03,null,null,null,null,null,null,null,"",0,0,0,0,0,0,0,0,0,0,0,0,0,18,6,120,{"$f":"INDEX('Avionics ID'!A:E,MATCH(B51,'Avionics ID'!E:E,0),3)","v":"Display"}]
[{"$f":"INDEX('Avionics ID'!A:E,MATCH(B52,'Avionics ID'!E:E,0),1)","v":808},"Cursor Control Device",0.05,0.08,null,null,20,"Obsolescence",{"$f":"SUBSTITUTE(ADDRESS(1,MATCH(A52,'Pt1-AvionicsComponentCosts'!$A$6:$NC$6,0)+1),\"$1\",\"\")","v":"$EB"},{"$f":"_xlfn.TEXTJOIN(\", \",TRUE,_xlfn.UNIQUE(_xlfn._xlws.SORT(_xlfn._xlws.FILTER('Pt1-AvionicsComponentCosts'!$NF$12:$NF$384,ISNUMBER(INDIRECT(\"'Pt1-AvionicsComponentCosts'!\"&I52&\"$12:\"&I52&\"$384\"))))))","v":"ARJ, CRJ, EMB Regional, Reg TP, Superjet 100, Turbine GA"},null,0.08,{"$f":"IF($A$2,INDEX([1]Sheet1!$A$12:$AO$193,MATCH($A52,[1]Sheet1!$A$12:$A$193,0),8),2*$L52)","v":0.16},{"$f":"INDEX([1]Sheet1!$A$12:$AO$193,MATCH($A52,[1]Sheet1!$A$12:$A$193,0),9)*(1+$A$4)","v":0.38830000000000003},{"$f":"INDEX([1]Sheet1!$A$12:$AO$193,MATCH($A52,[1]Sheet1!$A$12:$A$193,0),10)*(1+$A$4)","v":2.0306000000000002},{"$f":"COUNTIF($P$5:P$5,\"Year\")*$I$4","v":5},{"$f":"0%","v":0},0,{"$f":"COUNTIF($P$5:S$5,\"Year\")*$I$4","v":10},{"$f":"0%","v":0},0.08,{"$f":"COUNTIF($P$5:V$5,\"Year\")*$I$4","v":15},{"$f":"0%","v":0},0,{"$f":"COUNTIF($P$5:Y$5,\"Year\")*$I$4","v":20},{"$f":"0%","v":0},0.08,{"$f":"COUNTIF($P$5:AB$5,\"Year\")*$I$4","v":25},{"$f":"0%","v":0},0,{"$f":"COUNTIF($P$5:AE$5,\"Year\")*$I$4","v":30},{"$f":"0%","v":0},0.08,{"$f":"COUNTIF($P$5:AH$5,\"Year\")*$I$4","v":35},{"$f":"0%","v":0},0,{"$f":"COUNTIF($P$5:AK$5,\"Year\")*$I$4","v":40},{"$f":"0%","v":0},0.08,null,null,null,null,null,null,null,"",0,0,0,0,0,0,0,0,0,0,0,0,0,48,16,320,{"$f":"INDEX('Avionics ID'!A:E,MATCH(B52,'Avionics ID'!E:E,0),3)","v":"Display"}]
[{"$f":"INDEX('Avionics ID'!A:E,MATCH(B53,'Avionics ID'!E:E,0),1)","v":753},"CVR control panel",0.05,0.08,null,null,20,"Obsolescence",{"$f":"SUBSTITUTE(ADDRESS(1,MATCH(A53,'Pt1-AvionicsComponentCosts'!$A$6:$NC$6,0)+1),\"$1\",\"\")","v":"$AV"},{"$f":"_xlfn.TEXTJOIN(\", \",TRUE,_xlfn.UNIQUE(_xlfn._xlws.SORT(_xlfn._xlws.FILTER('Pt1-AvionicsComponentCosts'!$NF$12:$NF$384,ISNUMBER(INDIRECT(\"'Pt1-AvionicsComponentCosts'!\"&I53&\"$12:\"&I53&\"$384\"))))))","v":"A220, A300, A320, A321, A330, A340, A350, A380, ATR, B717, B737, B747, B757, B767, B777, B787, C919, EMB Regional, MC-21, MD-11, Mil Transport, Military Jet, NSA"},null,0.08,{"$f":"IF($A$2,INDEX([1]Sheet1!$A$12:$AO$193,MATCH($A53,[1]Sheet1!$A$12:$A$193,0),8),2*$L53)","v":0.16},{"$f":"INDEX([1]Sheet1!$A$12:$AO$193,MATCH($A53,[1]Sheet1!$A$12:$A$193,0),9)*(1+$A$4)","v":0.55110000000000003},{"$f":"INDEX([1]Sheet1!$A$12:$AO$193,MATCH($A53,[1]Sheet1!$A$12:$A$193,0),10)*(1+$A$4)","v":1.4267000000000001},{"$f":"COUNTIF($P$5:P$5,\"Year\")*$I$4","v":5},{"$f":"0%","v":0},0,{"$f":"COUNTIF($P$5:S$5,\"Year\")*$I$4","v":10},{"$f":"0%","v":0},0.08,{"$f":"COUNTIF($P$5:V$5,\"Year\")*$I$4","v":15},{"$f":"0%","v":0},0,{"$f":"COUNTIF($P$5:Y$5,\"Year\")*$I$4","v":20},{"$f":"0%","v":0},0.08,{"$f":"COUNTIF($P$5:AB$5,\"Year\")*$I$4","v":25},{"$f":"0%","v":0},0,{"$f":"COUNTIF($P$5:AE$5,\"Year\")*$I$4","v":30},{"$f":"0%","v":0},0.08,{"$f":"COUNTIF($P$5:AH$5,\"Year\")*$I$4","v":35},{"$f":"0%","v":0},0,{"$f":"COUNTIF($P$5:AK$5,\"Year\")*$I$4","v":40},{"$f":"0%","v":0},0.08,null,null,null,null,null,null,null,"",0,0,0,0,0,0,0,0,0,0,0,0,0,48,16,320,{"$f":"INDEX('Avionics ID'!A:E,MATCH(B53,'Avionics ID'!E:E,0),3)","v":"Communications"}]
[{"$f":"INDEX('Avionics ID'!A:E,MATCH(B54,'Avionics ID'!E:E,0),1)","v":714},"Data Base loader",6.6666666666666666E-2,0.03,null,null,15,"Obsolescence",{"$f":"SUBSTITUTE(ADDRESS(1,MATCH(A54,'Pt1-AvionicsComponentCosts'!$A$6:$NC$6,0)+1),\"$1\",\"\")","v":"$CN"},{"$f":"_xlfn.TEXTJOIN(\", \",TRUE,_xlfn.UNIQUE(_xlfn._xlws.SORT(_xlfn._xlws.FILTER('Pt1-AvionicsComponentCosts'!$NF$12:$NF$384,ISNUMBER(INDIRECT(\"'Pt1-AvionicsComponentCosts'!\"&I54&\"$12:\"&I54&\"$384\"))))))","v":"A220, A300, A320, A321, A330, A340, A350, A380, ATR, B717, B737, B747, B757, B767, B777, B787, C919, EMB Regional, MC-21, MD-11, Mil Transport, Military Jet, NSA"},null,0.03,{"$f":"IF($A$2,INDEX([1]Sheet1!$A$12:$AO$193,MATCH($A54,[1]Sheet1!$A$12:$A$193,0),8),2*$L54)","v":0.06},{"$f":"INDEX([1]Sheet1!$A$12:$AO$193,MATCH($A54,[1]Sheet1!$A$12:$A$193,0),9)*(1+$A$4)","v":0.75130000000000008},{"$f":"INDEX([1]Sheet1!$A$12:$AO$193,MATCH($A54,[1]Sheet1!$A$12:$A$193,0),10)*(1+$A$4)","v":2.1241000000000003},{"$f":"COUNTIF($P$5:P$5,\"Year\")*$I$4","v":5},{"$f":"0%","v":0},0,{"$f":"COUNTIF($P$5:S$5,\"Year\")*$I$4","v":10},{"$f":"0%","v":0},0.03,{"$f":"COUNTIF($P$5:V$5,\"Year\")*$I$4","v":15},{"$f":"0%","v":0},0.03,{"$f":"COUNTIF($P$5:Y$5,\"Year\")*$I$4","v":20},{"$f":"0%","v":0},0.03,{"$f":"COUNTIF($P$5:AB$5,\"Year\")*$I$4","v":25},{"$f":"0%","v":0},0,{"$f":"COUNTIF($P$5:AE$5,\"Year\")*$I$4","v":30},{"$f":"0%","v":0},0.03,{"$f":"COUNTIF($P$5:AH$5,\"Year\")*$I$4","v":35},{"$f":"0%","v":0},0,{"$f":"COUNTIF($P$5:AK$5,\"Year\")*$I$4","v":40},{"$f":"0%","v":0},0.03,null,null,null,null,null,null,null,"",0,0,0,0,0,0,0,0,0,0,0,0,0,21,6,120,{"$f":"INDEX('Avionics ID'!A:E,MATCH(B54,'Avionics ID'!E:E,0),3)","v":"Data"}]
[{"$f":"INDEX('Avionics ID'!A:E,MATCH(B55,'Avionics ID'!E:E,0),1)","v":771},"Data Management Unit",0.05,0.03,null,null,20,"Obsolescence",{"$f":"SUBSTITUTE(ADDRESS(1,MATCH(A55,'Pt1-AvionicsComponentCosts'!$A$6:$NC$6,0)+1),\"$1\",\"\")","v":"$CP"},{"$f":"_xlfn.TEXTJOIN(\", \",TRUE,_xlfn.UNIQUE(_xlfn._xlws.SORT(_xlfn._xlws.FILTER('Pt1-AvionicsComponentCosts'!$NF$12:$NF$384,ISNUMBER(INDIRECT(\"'Pt1-AvionicsComponentCosts'!\"&I55&\"$12:\"&I55&\"$384\"))))))","v":"A300, A320, A330, A340, A350, A380, B747, B767, B777, Challenger, Citation, E550, EMB Bizjet, Falcon, Global, Gulfstream, Hawker, Hondajet, Learjet, MD-11, Nextant 400XT, PC-24, Phenom, Praetor, SF50, UAV"},null,0.03,{"$f":"IF($A$2,INDEX([1]Sheet1!$A$12:$AO$193,MATCH($A55,[1]Sheet1!$A$12:$A$193,0),8),2*$L55)","v":0.06},{"$f":"INDEX([1]Sheet1!$A$12:$AO$193,MATCH($A55,[1]Sheet1!$A$12:$A$193,0),9)*(1+$A$4)","v":0.75130000000000008},{"$f":"INDEX([1]Sheet1!$A$12:$AO$193,MATCH($A55,[1]Sheet1!$A$12:$A$193,0),10)*(1+$A$4)","v":2.1241000000000003},{"$f":"COUNTIF($P$5:P$5,\"Year\")*$I$4","v":5},{"$f":"0%","v":0},0,{"$f":"COUNTIF($P$5:S$5,\"Year\")*$I$4","v":10},{"$f":"0%","v":0},0.03,{"$f":"COUNTIF($P$5:V$5,\"Year\")*$I$4","v":15},{"$f":"0%","v":0},0,{"$f":"COUNTIF($P$5:Y$5,\"Year\")*$I$4","v":20},{"$f":"0%","v":0},0.03,{"$f":"COUNTIF($P$5:AB$5,\"Year\")*$I$4","v":25},{"$f":"0%","v":0},0,{"$f":"COUNTIF($P$5:AE$5,\"Year\")*$I$4","v":30},{"$f":"0%","v":0},0.03,{"$f":"COUNTIF($P$5:AH$5,\"Year\")*$I$4","v":35},{"$f":"0%","v":0},0,{"$f":"COUNTIF($P$5:AK$5,\"Year\")*$I$4","v":40},{"$f":"0%","v":0},0.03,null,null,null,null,null,null,null,"",0,0,0,0,0,0,0,0,0,0,0,0,0,18,6,120,{"$f":"INDEX('Avionics ID'!A:E,MATCH(B55,'Avionics ID'!E:E,0),3)","v":"Data"}]
[{"$f":"INDEX('Avionics ID'!A:E,MATCH(B56,'Avionics ID'!E:E,0),1)","v":861},"Data Transfer module",0.05,0.03,null,null,20,"Obsolescence",{"$f":"SUBSTITUTE(ADDRESS(1,MATCH(A56,'Pt1-AvionicsComponentCosts'!$A$6:$NC$6,0)+1),\"$1\",\"\")","v":"$HX"},{"$f":"_xlfn.TEXTJOIN(\", \",TRUE,_xlfn.UNIQUE(_xlfn._xlws.SORT(_xlfn._xlws.FILTER('Pt1-AvionicsComponentCosts'!$NF$12:$NF$384,ISNUMBER(INDIRECT(\"'Pt1-AvionicsComponentCosts'!\"&I56&\"$12:\"&I56&\"$384\"))))))","v":"Attack Helo, Helo"},null,0.03,{"$f":"IF($A$2,INDEX([1]Sheet1!$A$12:$AO$193,MATCH($A56,[1]Sheet1!$A$12:$A$193,0),8),2*$L56)","v":0.06},{"$f":"INDEX([1]Sheet1!$A$12:$AO$193,MATCH($A56,[1]Sheet1!$A$12:$A$193,0),9)*(1+$A$4)","v":0.39600000000000002},{"$f":"INDEX([1]Sheet1!$A$12:$AO$193,MATCH($A56,[1]Sheet1!$A$12:$A$193,0),10)*(1+$A$4)","v":2.0570000000000004},{"$f":"COUNTIF($P$5:P$5,\"Year\")*$I$4","v":5},{"$f":"0%","v":0},0,{"$f":"COUNTIF($P$5:S$5,\"Year\")*$I$4","v":10},{"$f":"0%","v":0},0.03,{"$f":"COUNTIF($P$5:V$5,\"Year\")*$I$4","v":15},{"$f":"0%","v":0},0,{"$f":"COUNTIF($P$5:Y$5,\"Year\")*$I$4","v":20},{"$f":"0%","v":0},0.03,{"$f":"COUNTIF($P$5:AB$5,\"Year\")*$I$4","v":25},{"$f":"0%","v":0},0,{"$f":"COUNTIF($P$5:AE$5,\"Year\")*$I$4","v":30},{"$f":"0%","v":0},0.03,{"$f":"COUNTIF($P$5:AH$5,\"Year\")*$I$4","v":35},{"$f":"0%","v":0},0,{"$f":"COUNTIF($P$5:AK$5,\"Year\")*$I$4","v":40},{"$f":"0%","v":0},0.03,null,null,null,null,null,null,null,"",0,{"$f":"IF($H56=\"Technology / regulatory\",IF(AW$5=$F56-2,$AW$1,IF(AW$5=$F56-1,$AX$1,IF(AW$5=$F56,$AY$1,IF(AW$5=$F56+1,$AZ$1,0)))),0)","v":0},0,0,0,0,0,0,0,0,0,0,0,18,6,120,{"$f":"INDEX('Avionics ID'!A:E,MATCH(B56,'Avionics ID'!E:E,0),3)","v":"Mission"}]
[{"$f":"INDEX('Avionics ID'!A:E,MATCH(B57,'Avionics ID'!E:E,0),1)","v":767},"Datalink cockpit Display Unit",6.6666666666666666E-2,0.06,"CPDLC",2028,15,"Technology / regulatory",{"$f":"SUBSTITUTE(ADDRESS(1,MATCH(A57,'Pt1-AvionicsComponentCosts'!$A$6:$NC$6,0)+1),\"$1\",\"\")","v":"$ED"},{"$f":"_xlfn.TEXTJOIN(\", \",TRUE,_xlfn.UNIQUE(_xlfn._xlws.SORT(_xlfn._xlws.FILTER('Pt1-AvionicsComponentCosts'!$NF$12:$NF$384,ISNUMBER(INDIRECT(\"'Pt1-AvionicsComponentCosts'!\"&I57&\"$12:\"&I57&\"$384\"))))))","v":"A300, A320, A330, A340, A350, A380, B747, B767, B777, MD-11"},null,0.06,{"$f":"IF($A$2,INDEX([1]Sheet1!$A$12:$AO$193,MATCH($A57,[1]Sheet1!$A$12:$A$193,0),8),2*$L57)","v":0.12},{"$f":"INDEX([1]Sheet1!$A$12:$AO$193,MATCH($A57,[1]Sheet1!$A$12:$A$193,0),9)*(1+$A$4)","v":0.38830000000000003},{"$f":"INDEX([1]Sheet1!$A$12:$AO$193,MATCH($A57,[1]Sheet1!$A$12:$A$193,0),10)*(1+$A$4)","v":2.0306000000000002},{"$f":"COUNTIF($P$5:P$5,\"Year\")*$I$4","v":5},{"$f":"0%","v":0},0,{"$f":"COUNTIF($P$5:S$5,\"Year\")*$I$4","v":10},{"$f":"0%","v":0},0.06,{"$f":"COUNTIF($P$5:V$5,\"Year\")*$I$4","v":15},{"$f":"0%","v":0},0.06,{"$f":"COUNTIF($P$5:Y$5,\"Year\")*$I$4","v":20},{"$f":"0%","v":0},0.06,{"$f":"COUNTIF($P$5:AB$5,\"Year\")*$I$4","v":25},{"$f":"0%","v":0},0,{"$f":"COUNTIF($P$5:AE$5,\"Year\")*$I$4","v":30},{"$f":"0%","v":0},0.06,{"$f":"COUNTIF($P$5:AH$5,\"Year\")*$I$4","v":35},{"$f":"0%","v":0},0,{"$f":"COUNTIF($P$5:AK$5,\"Year\")*$I$4","v":40},{"$f":"0%","v":0},0.06,null,null,null,null,null,null,null,"CPDLC",2.0306000000000002,0,0,0.15,0.25,0.45,0.15,0,0,0,0,0,0,142,12,240,{"$f":"INDEX('Avionics ID'!A:E,MATCH(B57,'Avionics ID'!E:E,0),3)","v":"Display"}]
[{"$f":"INDEX('Avionics ID'!A:E,MATCH(B58,'Avionics ID'!E:E,0),1)","v":736},"DDRMI display",0.1,0.06,null,null,10,"Obsolescence",{"$f":"SUBSTITUTE(ADDRESS(1,MATCH(A58,'Pt1-AvionicsComponentCosts'!$A$6:$NC$6,0)+1),\"$1\",\"\")","v":"$EF"},{"$f":"_xlfn.TEXTJOIN(\", \",TRUE,_xlfn.UNIQUE(_xlfn._xlws.SORT(_xlfn._xlws.FILTER('Pt1-AvionicsComponentCosts'!$NF$12:$NF$384,ISNUMBER(INDIRECT(\"'Pt1-AvionicsComponentCosts'!\"&I58&\"$12:\"&I58&\"$384\"))))))","v":"A220, A320, A321, ATR, B717, B737, B757, C919, EMB Regional, MC-21, Mil Transport, Military Jet, NSA"},null,0.06,{"$f":"IF($A$2,INDEX([1]Sheet1!$A$12:$AO$193,MATCH($A58,[1]Sheet1!$A$12:$A$193,0),8),2*$L58)","v":0.12},{"$f":"INDEX([1]Sheet1!$A$12:$AO$193,MATCH($A58,[1]Sheet1!$A$12:$A$193,0),9)*(1+$A$4)","v":0.38830000000000003},{"$f":"INDEX([1]Sheet1!$A$12:$AO$193,MATCH($A58,[1]Sheet1!$A$12:$A$193,0),10)*(1+$A$4)","v":2.0306000000000002},{"$f":"COUNTIF($P$5:P$5,\"Year\")*$I$4","v":5},{"$f":"0%","v":0},0.06,{"$f":"COUNTIF($P$5:S$5,\"Year\")*$I$4","v":10},{"$f":"0%","v":0},0.06,{"$f":"COUNTIF($P$5:V$5,\"Year\")*$I$4","v":15},{"$f":"0%","v":0},0.06,{"$f":"COUNTIF($P$5:Y$5,\"Year\")*$I$4","v":20},{"$f":"0%","v":0},0.06,{"$f":"COUNTIF($P$5:AB$5,\"Year\")*$I$4","v":25},{"$f":"0%","v":0},0.06,{"$f":"COUNTIF($P$5:AE$5,\"Year\")*$I$4","v":30},{"$f":"0%","v":0},0.06,{"$f":"COUNTIF($P$5:AH$5,\"Year\")*$I$4","v":35},{"$f":"0%","v":0},0.06,{"$f":"COUNTIF($P$5:AK$5,\"Year\")*$I$4","v":40},{"$f":"0%","v":0},0.06,null,null,null,null,null,null,null,"",0,0,0,0,0,0,0,0,0,0,0,0,0,60,12,240,{"$f":"INDEX('Avionics ID'!A:E,MATCH(B58,'Avionics ID'!E:E,0),3)","v":"Display"}]
[{"$f":"INDEX('Avionics ID'!A:E,MATCH(B59,'Avionics ID'!E:E,0),1)","v":846},"Defensive Aids Computer",0.1,0.03,null,null,10,"Obsolescence",{"$f":"SUBSTITUTE(ADDRESS(1,MATCH(A59,'Pt1-AvionicsComponentCosts'!$A$6:$NC$6,0)+1),\"$1\",\"\")","v":"$HZ"},{"$f":"_xlfn.TEXTJOIN(\", \",TRUE,_xlfn.UNIQUE(_xlfn._xlws.SORT(_xlfn._xlws.FILTER('Pt1-AvionicsComponentCosts'!$NF$12:$NF$384,ISNUMBER(INDIRECT(\"'Pt1-AvionicsComponentCosts'!\"&I59&\"$12:\"&I59&\"$384\"))))))","v":"A330 LMXT, A330 MRTT, Mil Transport, Military Jet, Military TP"},null,0.03,{"$f":"IF($A$2,INDEX([1]Sheet1!$A$12:$AO$193,MATCH($A59,[1]Sheet1!$A$12:$A$193,0),8),2*$L59)","v":0.06},{"$f":"INDEX([1]Sheet1!$A$12:$AO$193,MATCH($A59,[1]Sheet1!$A$12:$A$193,0),9)*(1+$A$4)","v":0.39600000000000002},{"$f":"INDEX([1]Sheet1!$A$12:$AO$193,MATCH($A59,[1]Sheet1!$A$12:$A$193,0),10)*(1+$A$4)","v":2.0570000000000004},{"$f":"COUNTIF($P$5:P$5,\"Year\")*$I$4","v":5},{"$f":"0%","v":0},0.03,{"$f":"COUNTIF($P$5:S$5,\"Year\")*$I$4","v":10},{"$f":"0%","v":0},0.03,{"$f":"COUNTIF($P$5:V$5,\"Year\")*$I$4","v":15},{"$f":"0%","v":0},0.03,{"$f":"COUNTIF($P$5:Y$5,\"Year\")*$I$4","v":20},{"$f":"0%","v":0},0.03,{"$f":"COUNTIF($P$5:AB$5,\"Year\")*$I$4","v":25},{"$f":"0%","v":0},0.03,{"$f":"COUNTIF($P$5:AE$5,\"Year\")*$I$4","v":30},{"$f":"0%","v":0},0.03,{"$f":"COUNTIF($P$5:AH$5,\"Year\")*$I$4","v":35},{"$f":"0%","v":0},0.03,{"$f":"COUNTIF($P$5:AK$5,\"Year\")*$I$4","v":40},{"$f":"0%","v":0},0.03,null,null,null,null,null,null,null,"",0,0,0,0,0,0,0,0,0,0,0,0,0,30,6,120,{"$f":"INDEX('Avionics ID'!A:E,MATCH(B59,'Avionics ID'!E:E,0),3)","v":"Mission"}]
[{"$f":"INDEX('Avionics ID'!A:E,MATCH(B60,'Avionics ID'!E:E,0),1)","v":866},"Defensive counter measures",0.1,0.03,null,null,10,"Obsolescence",{"$f":"SUBSTITUTE(ADDRESS(1,MATCH(A60,'Pt1-AvionicsComponentCosts'!$A$6:$NC$6,0)+1),\"$1\",\"\")","v":"$IB"},{"$f":"_xlfn.TEXTJOIN(\", \",TRUE,_xlfn.UNIQUE(_xlfn._xlws.SORT(_xlfn._xlws.FILTER('Pt1-AvionicsComponentCosts'!$NF$12:$NF$384,ISNUMBER(INDIRECT(\"'Pt1-AvionicsComponentCosts'!\"&I60&\"$12:\"&I60&\"$384\"))))))","v":"A330 LMXT, A330 MRTT, Mil Transport, Military Jet, Military TP, UAV"},null,0.03,{"$f":"IF($A$2,INDEX([1]Sheet1!$A$12:$AO$193,MATCH($A60,[1]Sheet1!$A$12:$A$193,0),8),2*$L60)","v":0.06},{"$f":"INDEX([1]Sheet1!$A$12:$AO$193,MATCH($A60,[1]Sheet1!$A$12:$A$193,0),9)*(1+$A$4)","v":0.39600000000000002},{"$f":"INDEX([1]Sheet1!$A$12:$AO$193,MATCH($A60,[1]Sheet1!$A$12:$A$193,0),10)*(1+$A$4)","v":2.0570000000000004},{"$f":"COUNTIF($P$5:P$5,\"Year\")*$I$4","v":5},{"$f":"0%","v":0},0.03,{"$f":"COUNTIF($P$5:S$5,\"Year\")*$I$4","v":10},{"$f":"0%","v":0},0.03,{"$f":"COUNTIF($P$5:V$5,\"Year\")*$I$4","v":15},{"$f":"0%","v":0},0.03,{"$f":"COUNTIF($P$5:Y$5,\"Year\")*$I$4","v":20},{"$f":"0%","v":0},0.03,{"$f":"COUNTIF($P$5:AB$5,\"Year\")*$I$4","v":25},{"$f":"0%","v":0},0.03,{"$f":"COUNTIF($P$5:AE$5,\"Year\")*$I$4","v":30},{"$f":"0%","v":0},0.03,{"$f":"COUNTIF($P$5:AH$5,\"Year\")*$I$4","v":35},{"$f":"0%","v":0},0.03,{"$f":"COUNTIF($P$5:AK$5,\"Year\")*$I$4","v":40},{"$f":"0%","v":0},0.03,null,null,null,null,null,null,null,"",0,0,0,0,0,0,0,0,0,0,0,0,0,30,6,120,{"$f":"INDEX('Avionics ID'!A:E,MATCH(B60,'Avionics ID'!E:E,0),3)","v":"Mission"}]
[{"$f":"INDEX('Avionics ID'!A:E,MATCH(B61,'Avionics ID'!E:E,0),1)","v":874},"Differential GPS antenna",0.05,0.1,null,null,20,"Obsolescence",{"$f":"SUBSTITUTE(ADDRESS(1,MATCH(A61,'Pt1-AvionicsComponentCosts'!$A$6:$NC$6,0)+1),\"$1\",\"\")","v":"$JB"},{"$f":"_xlfn.TEXTJOIN(\", \",TRUE,_xlfn.UNIQUE(_xlfn._xlws.SORT(_xlfn._xlws.FILTER('Pt1-AvionicsComponentCosts'!$NF$12:$NF$384,ISNUMBER(INDIRECT(\"'Pt1-AvionicsComponentCosts'!\"&I61&\"$12:\"&I61&\"$384\"))))))","v":"UAV"},null,0.1,{"$f":"IF($A$2,INDEX([1]Sheet1!$A$12:$AO$193,MATCH($A61,[1]Sheet1!$A$12:$A$193,0),8),2*$L61)","v":0.2},{"$f":"INDEX([1]Sheet1!$A$12:$AO$193,MATCH($A61,[1]Sheet1!$A$12:$A$193,0),9)*(1+$A$4)","v":0.38940000000000002},{"$f":"INDEX([1]Sheet1!$A$12:$AO$193,MATCH($A61,[1]Sheet1!$A$12:$A$193,0),10)*(1+$A$4)","v":2.0119000000000002},{"$f":"COUNTIF($P$5:P$5,\"Year\")*$I$4","v":5},{"$f":"0%","v":0},0,{"$f":"COUNTIF($P$5:S$5,\"Year\")*$I$4","v":10},{"$f":"0%","v":0},0.1,{"$f":"COUNTIF($P$5:V$5,\"Year\")*$I$4","v":15},{"$f":"0%","v":0},0,{"$f":"COUNTIF($P$5:Y$5,\"Year\")*$I$4","v":20},{"$f":"0%","v":0},0.1,{"$f":"COUNTIF($P$5:AB$5,\"Year\")*$I$4","v":25},{"$f":"0%","v":0},0,{"$f":"COUNTIF($P$5:AE$5,\"Year\")*$I$4","v":30},{"$f":"0%","v":0},0.1,{"$f":"COUNTIF($P$5:AH$5,\"Year\")*$I$4","v":35},{"$f":"0%","v":0},0,{"$f":"COUNTIF($P$5:AK$5,\"Year\")*$I$4","v":40},{"$f":"0%","v":0},0.1,null,null,null,null,null,null,null,"",0,0,0,0,0,0,0,0,0,0,0,0,0,60.000000000000007,20,400,{"$f":"INDEX('Avionics ID'!A:E,MATCH(B61,'Avionics ID'!E:E,0),3)","v":"Navigation"}]
[{"$f":"INDEX('Avionics ID'!A:E,MATCH(B62,'Avionics ID'!E:E,0),1)","v":821},"Digital Data link/transfer",0.05,0.03,null,null,20,"Obsolescence",{"$f":"SUBSTITUTE(ADDRESS(1,MATCH(A62,'Pt1-AvionicsComponentCosts'!$A$6:$NC$6,0)+1),\"$1\",\"\")","v":"$CR"},{"$f":"_xlfn.TEXTJOIN(\", \",TRUE,_xlfn.UNIQUE(_xlfn._xlws.SORT(_xlfn._xlws.FILTER('Pt1-AvionicsComponentCosts'!$NF$12:$NF$384,ISNUMBER(INDIRECT(\"'Pt1-AvionicsComponentCosts'!\"&I62&\"$12:\"&I62&\"$384\"))))))","v":"Mil Fighter, TP Trainer"},null,0.03,{"$f":"IF($A$2,INDEX([1]Sheet1!$A$12:$AO$193,MATCH($A62,[1]Sheet1!$A$12:$A$193,0),8),2*$L62)","v":0.06},{"$f":"INDEX([1]Sheet1!$A$12:$AO$193,MATCH($A62,[1]Sheet1!$A$12:$A$193,0),9)*(1+$A$4)","v":0.75130000000000008},{"$f":"INDEX([1]Sheet1!$A$12:$AO$193,MATCH($A62,[1]Sheet1!$A$12:$A$193,0),10)*(1+$A$4)","v":2.1241000000000003},{"$f":"COUNTIF($P$5:P$5,\"Year\")*$I$4","v":5},{"$f":"0%","v":0},0,{"$f":"COUNTIF($P$5:S$5,\"Year\")*$I$4","v":10},{"$f":"0%","v":0},0.03,{"$f":"COUNTIF($P$5:V$5,\"Year\")*$I$4","v":15},{"$f":"0%","v":0},0,{"$f":"COUNTIF($P$5:Y$5,\"Year\")*$I$4","v":20},{"$f":"0%","v":0},0.03,{"$f":"COUNTIF($P$5:AB$5,\"Year\")*$I$4","v":25},{"$f":"0%","v":0},0,{"$f":"COUNTIF($P$5:AE$5,\"Year\")*$I$4","v":30},{"$f":"0%","v":0},0.03,{"$f":"COUNTIF($P$5:AH$5,\"Year\")*$I$4","v":35},{"$f":"0%","v":0},0,{"$f":"COUNTIF($P$5:AK$5,\"Year\")*$I$4","v":40},{"$f":"0%","v":0},0.03,null,null,null,null,null,null,null,"",0,0,0,0,0,0,0,0,0,0,0,0,0,18,6,120,{"$f":"INDEX('Avionics ID'!A:E,MATCH(B62,'Avionics ID'!E:E,0),3)","v":"Data"}]
[{"$f":"INDEX('Avionics ID'!A:E,MATCH(B63,'Avionics ID'!E:E,0),1)","v":871},"Digital recorder",0.05,0.06,null,null,20,"Obsolescence",{"$f":"SUBSTITUTE(ADDRESS(1,MATCH(A63,'Pt1-AvionicsComponentCosts'!$A$6:$NC$6,0)+1),\"$1\",\"\")","v":"$CT"},{"$f":"_xlfn.TEXTJOIN(\", \",TRUE,_xlfn.UNIQUE(_xlfn._xlws.SORT(_xlfn._xlws.FILTER('Pt1-AvionicsComponentCosts'!$NF$12:$NF$384,ISNUMBER(INDIRECT(\"'Pt1-AvionicsComponentCosts'!\"&I63&\"$12:\"&I63&\"$384\"))))))","v":"UAV"},null,0.06,{"$f":"IF($A$2,INDEX([1]Sheet1!$A$12:$AO$193,MATCH($A63,[1]Sheet1!$A$12:$A$193,0),8),2*$L63)","v":0.12},{"$f":"INDEX([1]Sheet1!$A$12:$AO$193,MATCH($A63,[1]Sheet1!$A$12:$A$193,0),9)*(1+$A$4)","v":0.75130000000000008},{"$f":"INDEX([1]Sheet1!$A$12:$AO$193,MATCH($A63,[1]Sheet1!$A$12:$A$193,0),10)*(1+$A$4)","v":2.1241000000000003},{"$f":"COUNTIF($P$5:P$5,\"Year\")*$I$4","v":5},{"$f":"0%","v":0},0,{"$f":"COUNTIF($P$5:S$5,\"Year\")*$I$4","v":10},{"$f":"0%","v":0},0.06,{"$f":"COUNTIF($P$5:V$5,\"Year\")*$I$4","v":15},{"$f":"0%","v":0},0,{"$f":"COUNTIF($P$5:Y$5,\"Year\")*$I$4","v":20},{"$f":"0%","v":0},0.06,{"$f":"COUNTIF($P$5:AB$5,\"Year\")*$I$4","v":25},{"$f":"0%","v":0},0,{"$f":"COUNTIF($P$5:AE$5,\"Year\")*$I$4","v":30},{"$f":"0%","v":0},0.06,{"$f":"COUNTIF($P$5:AH$5,\"Year\")*$I$4","v":35},{"$f":"0%","v":0},0,{"$f":"COUNTIF($P$5:AK$5,\"Year\")*$I$4","v":40},{"$f":"0%","v":0},0.06,null,null,null,null,null,null,null,"",0,0,0,0,0,0,0,0,0,0,0,0,0,36,12,240,{"$f":"INDEX('Avionics ID'!A:E,MATCH(B63,'Avionics ID'!E:E,0),3)","v":"Data"}]
[{"$f":"INDEX('Avionics ID'!A:E,MATCH(B64,'Avionics ID'!E:E,0),1)","v":809},"Digital Voice & Data Recorder",6.6666666666666666E-2,0.06,"CPDLC",2028,15,"Technology / regulatory",{"$f":"SUBSTITUTE(ADDRESS(1,MATCH(A64,'Pt1-AvionicsComponentCosts'!$A$6:$NC$6,0)+1),\"$1\",\"\")","v":"$CV"},{"$f":"_xlfn.TEXTJOIN(\", \",TRUE,_xlfn.UNIQUE(_xlfn._xlws.SORT(_xlfn._xlws.FILTER('Pt1-AvionicsComponentCosts'!$NF$12:$NF$384,ISNUMBER(INDIRECT(\"'Pt1-AvionicsComponentCosts'!\"&I64&\"$12:\"&I64&\"$384\"))))))","v":"ARJ, CRJ, EMB Regional, Reg TP, Superjet 100, Turbine GA"},null,0.06,{"$f":"IF($A$2,INDEX([1]Sheet1!$A$12:$AO$193,MATCH($A64,[1]Sheet1!$A$12:$A$193,0),8),2*$L64)","v":0.12},{"$f":"INDEX([1]Sheet1!$A$12:$AO$193,MATCH($A64,[1]Sheet1!$A$12:$A$193,0),9)*(1+$A$4)","v":0.75130000000000008},{"$f":"INDEX([1]Sheet1!$A$12:$AO$193,MATCH($A64,[1]Sheet1!$A$12:$A$193,0),10)*(1+$A$4)","v":2.1241000000000003},{"$f":"COUNTIF($P$5:P$5,\"Year\")*$I$4","v":5},{"$f":"0%","v":0},0,{"$f":"COUNTIF($P$5:S$5,\"Year\")*$I$4","v":10},{"$f":"0%","v":0},0.06,{"$f":"COUNTIF($P$5:V$5,\"Year\")*$I$4","v":15},{"$f":"0%","v":0},0.06,{"$f":"COUNTIF($P$5:Y$5,\"Year\")*$I$4","v":20},{"$f":"0%","v":0},0.06,{"$f":"COUNTIF($P$5:AB$5,\"Year\")*$I$4","v":25},{"$f":"0%","v":0},0,{"$f":"COUNTIF($P$5:AE$5,\"Year\")*$I$4","v":30},{"$f":"0%","v":0},0.06,{"$f":"COUNTIF($P$5:AH$5,\"Year\")*$I$4","v":35},{"$f":"0%","v":0},0,{"$f":"COUNTIF($P$5:AK$5,\"Year\")*$I$4","v":40},{"$f":"0%","v":0},0.06,null,null,null,null,null,null,null,"CPDLC",2.1241000000000003,0,0,0.15,0.25,0.45,0.15,0,0,0,0,0,0,142,12,240,{"$f":"INDEX('Avionics ID'!A:E,MATCH(B64,'Avionics ID'!E:E,0),3)","v":"Data"}]
[{"$f":"INDEX('Avionics ID'!A:E,MATCH(B65,'Avionics ID'!E:E,0),1)","v":845},"Directed InfraRed Counter Measures",0.05,0.06,null,null,20,"Obsolescence",{"$f":"SUBSTITUTE(ADDRESS(1,MATCH(A65,'Pt1-AvionicsComponentCosts'!$A$6:$NC$6,0)+1),\"$1\",\"\")","v":"$ID"},{"$f":"_xlfn.TEXTJOIN(\", \",TRUE,_xlfn.UNIQUE(_xlfn._xlws.SORT(_xlfn._xlws.FILTER('Pt1-AvionicsComponentCosts'!$NF$12:$NF$384,ISNUMBER(INDIRECT(\"'Pt1-AvionicsComponentCosts'!\"&I65&\"$12:\"&I65&\"$384\"))))))","v":"A330 LMXT, A330 MRTT, Mil Transport, Military Jet, Military TP"},null,0.06,{"$f":"IF($A$2,INDEX([1]Sheet1!$A$12:$AO$193,MATCH($A65,[1]Sheet1!$A$12:$A$193,0),8),2*$L65)","v":0.12},{"$f":"INDEX([1]Sheet1!$A$12:$AO$193,MATCH($A65,[1]Sheet1!$A$12:$A$193,0),9)*(1+$A$4)","v":0.39600000000000002},{"$f":"INDEX([1]Sheet1!$A$12:$AO$193,MATCH($A65,[1]Sheet1!$A$12:$A$193,0),10)*(1+$A$4)","v":2.0570000000000004},{"$f":"COUNTIF($P$5:P$5,\"Year\")*$I$4","v":5},{"$f":"0%","v":0},0,{"$f":"COUNTIF($P$5:S$5,\"Year\")*$I$4","v":10},{"$f":"0%","v":0},0.06,{"$f":"COUNTIF($P$5:V$5,\"Year\")*$I$4","v":15},{"$f":"0%","v":0},0,{"$f":"COUNTIF($P$5:Y$5,\"Year\")*$I$4","v":20},{"$f":"0%","v":0},0.06,{"$f":"COUNTIF($P$5:AB$5,\"Year\")*$I$4","v":25},{"$f":"0%","v":0},0,{"$f":"COUNTIF($P$5:AE$5,\"Year\")*$I$4","v":30},{"$f":"0%","v":0},0.06,{"$f":"COUNTIF($P$5:AH$5,\"Year\")*$I$4","v":35},{"$f":"0%","v":0},0,{"$f":"COUNTIF($P$5:AK$5,\"Year\")*$I$4","v":40},{"$f":"0%","v":0},0.06,null,null,null,null,null,null,null,"",0,0,0,0,0,0,0,0,0,0,0,0,0,36,12,240,{"$f":"INDEX('Avionics ID'!A:E,MATCH(B65,'Avionics ID'!E:E,0),3)","v":"Mission"}]
[{"$f":"INDEX('Avionics ID'!A:E,MATCH(B66,'Avionics ID'!E:E,0),1)","v":802},"Display Controllers",6.6666666666666666E-2,0.06,"PBN",2030,15,"Technology / regulatory",{"$f":"SUBSTITUTE(ADDRESS(1,MATCH(A66,'Pt1-AvionicsComponentCosts'!$A$6:$NC$6,0)+1),\"$1\",\"\")","v":"$EH"},{"$f":"_xlfn.TEXTJOIN(\", \",TRUE,_xlfn.UNIQUE(_xlfn._xlws.SORT(_xlfn._xlws.FILTER('Pt1-AvionicsComponentCosts'!$NF$12:$NF$384,ISNUMBER(INDIRECT(\"'Pt1-AvionicsComponentCosts'!\"&I66&\"$12:\"&I66&\"$384\"))))))","v":"ARJ, CRJ, EMB Regional, Reg TP, Superjet 100, Turbine GA"},null,0.06,{"$f":"IF($A$2,INDEX([1]Sheet1!$A$12:$AO$193,MATCH($A66,[1]Sheet1!$A$12:$A$193,0),8),2*$L66)","v":0.12},{"$f":"INDEX([1]Sheet1!$A$12:$AO$193,MATCH($A66,[1]Sheet1!$A$12:$A$193,0),9)*(1+$A$4)","v":0.38830000000000003},{"$f":"INDEX([1]Sheet1!$A$12:$AO$193,MATCH($A66,[1]Sheet1!$A$12:$A$193,0),10)*(1+$A$4)","v":2.0306000000000002},{"$f":"COUNTIF($P$5:P$5,\"Year\")*$I$4","v":5},{"$f":"0%","v":0},0,{"$f":"COUNTIF($P$5:S$5,\"Year\")*$I$4","v":10},{"$f":"0%","v":0},0.06,{"$f":"COUNTIF($P$5:V$5,\"Year\")*$I$4","v":15},{"$f":"0%","v":0},0.06,{"$f":"COUNTIF($P$5:Y$5,\"Year\")*$I$4","v":20},{"$f":"0%","v":0},0.06,{"$f":"COUNTIF($P$5:AB$5,\"Year\")*$I$4","v":25},{"$f":"0%","v":0},0,{"$f":"COUNTIF($P$5:AE$5,\"Year\")*$I$4","v":30},{"$f":"0%","v":0},0.06,{"$f":"COUNTIF($P$5:AH$5,\"Year\")*$I$4","v":35},{"$f":"0%","v":0},0,{"$f":"COUNTIF($P$5:AK$5,\"Year\")*$I$4","v":40},{"$f":"0%","v":0},0.06,null,null,null,null,null,null,null,"PBN",2.0306000000000002,{"$f":"IF($H66=\"Technology / regulatory\",IF(AW$5=$F66-2,$AW$1,IF(AW$5=$F66-1,$AX$1,IF(AW$5=$F66,$AY$1,IF(AW$5=$F66+1,$AZ$1,0)))),0)","v":0},0,0,0,0.15,0.25,0.45,0.15,0,0,0,0,142,12,240,{"$f":"INDEX('Avionics ID'!A:E,MATCH(B66,'Avionics ID'!E:E,0),3)","v":"Display"}]
[{"$f":"INDEX('Avionics ID'!A:E,MATCH(B67,'Avionics ID'!E:E,0),1)","v":733},"Display Management Computer (DMC/EFIS)",6.6666666666666666E-2,0.06,"PBN",2030,15,"Technology / regulatory",{"$f":"SUBSTITUTE(ADDRESS(1,MATCH(A67,'Pt1-AvionicsComponentCosts'!$A$6:$NC$6,0)+1),\"$1\",\"\")","v":"$EJ"},{"$f":"_xlfn.TEXTJOIN(\", \",TRUE,_xlfn.UNIQUE(_xlfn._xlws.SORT(_xlfn._xlws.FILTER('Pt1-AvionicsComponentCosts'!$NF$12:$NF$384,ISNUMBER(INDIRECT(\"'Pt1-AvionicsComponentCosts'!\"&I67&\"$12:\"&I67&\"$384\"))))))","v":"A220, A300, A320, A321, A330, A340, A350, A380, ATR, B717, B737, B747, B757, B767, B777, B787, C919, EMB Regional, Helo, MC-21, MD-11, Mil Transport, Military Jet, NSA, TP Trainer, Turbine GA"},null,0.06,{"$f":"IF($A$2,INDEX([1]Sheet1!$A$12:$AO$193,MATCH($A67,[1]Sheet1!$A$12:$A$193,0),8),2*$L67)","v":0.12},{"$f":"INDEX([1]Sheet1!$A$12:$AO$193,MATCH($A67,[1]Sheet1!$A$12:$A$193,0),9)*(1+$A$4)","v":0.38830000000000003},{"$f":"INDEX([1]Sheet1!$A$12:$AO$193,MATCH($A67,[1]Sheet1!$A$12:$A$193,0),10)*(1+$A$4)","v":2.0306000000000002},{"$f":"COUNTIF($P$5:P$5,\"Year\")*$I$4","v":5},{"$f":"0%","v":0},0,{"$f":"COUNTIF($P$5:S$5,\"Year\")*$I$4","v":10},{"$f":"0%","v":0},0.06,{"$f":"COUNTIF($P$5:V$5,\"Year\")*$I$4","v":15},{"$f":"0%","v":0},0.06,{"$f":"COUNTIF($P$5:Y$5,\"Year\")*$I$4","v":20},{"$f":"0%","v":0},0.06,{"$f":"COUNTIF($P$5:AB$5,\"Year\")*$I$4","v":25},{"$f":"0%","v":0},0,{"$f":"COUNTIF($P$5:AE$5,\"Year\")*$I$4","v":30},{"$f":"0%","v":0},0.06,{"$f":"COUNTIF($P$5:AH$5,\"Year\")*$I$4","v":35},{"$f":"0%","v":0},0,{"$f":"COUNTIF($P$5:AK$5,\"Year\")*$I$4","v":40},{"$f":"0%","v":0},0.06,null,null,null,null,null,null,null,"PBN",2.0306000000000002,0,0,0,0,0.15,0.25,0.45,0.15,0,0,0,0,142,12,240,{"$f":"INDEX('Avionics ID'!A:E,MATCH(B67,'Avionics ID'!E:E,0),3)","v":"Display"}]
[{"$f":"INDEX('Avionics ID'!A:E,MATCH(B68,'Avionics ID'!E:E,0),1)","v":812},"Display processor",6.6666666666666666E-2,0.06,null,null,15,"Obsolescence",{"$f":"SUBSTITUTE(ADDRESS(1,MATCH(A68,'Pt1-AvionicsComponentCosts'!$A$6:$NC$6,0)+1),\"$1\",\"\")","v":"$EL"},{"$f":"_xlfn.TEXTJOIN(\", \",TRUE,_xlfn.UNIQUE(_xlfn._xlws.SORT(_xlfn._xlws.FILTER('Pt1-AvionicsComponentCosts'!$NF$12:$NF$384,ISNUMBER(INDIRECT(\"'Pt1-AvionicsComponentCosts'!\"&I68&\"$12:\"&I68&\"$384\"))))))","v":"Mil Fighter"},null,0.06,{"$f":"IF($A$2,INDEX([1]Sheet1!$A$12:$AO$193,MATCH($A68,[1]Sheet1!$A$12:$A$193,0),8),2*$L68)","v":0.12},{"$f":"INDEX([1]Sheet1!$A$12:$AO$193,MATCH($A68,[1]Sheet1!$A$12:$A$193,0),9)*(1+$A$4)","v":0.38830000000000003},{"$f":"INDEX([1]Sheet1!$A$12:$AO$193,MATCH($A68,[1]Sheet1!$A$12:$A$193,0),10)*(1+$A$4)","v":2.0306000000000002},{"$f":"COUNTIF($P$5:P$5,\"Year\")*$I$4","v":5},{"$f":"0%","v":0},0,{"$f":"COUNTIF($P$5:S$5,\"Year\")*$I$4","v":10},{"$f":"0%","v":0},0.06,{"$f":"COUNTIF($P$5:V$5,\"Year\")*$I$4","v":15},{"$f":"0%","v":0},0.06,{"$f":"COUNTIF($P$5:Y$5,\"Year\")*$I$4","v":20},{"$f":"0%","v":0},0.06,{"$f":"COUNTIF($P$5:AB$5,\"Year\")*$I$4","v":25},{"$f":"0%","v":0},0,{"$f":"COUNTIF($P$5:AE$5,\"Year\")*$I$4","v":30},{"$f":"0%","v":0},0.06,{"$f":"COUNTIF($P$5:AH$5,\"Year\")*$I$4","v":35},{"$f":"0%","v":0},0,{"$f":"COUNTIF($P$5:AK$5,\"Year\")*$I$4","v":40},{"$f":"0%","v":0},0.06,null,null,null,null,null,null,null,"",0,0,0,0,0,0,0,0,0,0,0,0,0,42,12,240,{"$f":"INDEX('Avionics ID'!A:E,MATCH(B68,'Avionics ID'!E:E,0),3)","v":"Display"}]
[{"$f":"INDEX('Avionics ID'!A:E,MATCH(B69,'Avionics ID'!E:E,0),1)","v":798},"Distributed Aperture System (electro-optical)",0.05,0.06,null,null,20,"Obsolescence",{"$f":"SUBSTITUTE(ADDRESS(1,MATCH(A69,'Pt1-AvionicsComponentCosts'!$A$6:$NC$6,0)+1),\"$1\",\"\")","v":"$KT"},{"$f":"_xlfn.TEXTJOIN(\", \",TRUE,_xlfn.UNIQUE(_xlfn._xlws.SORT(_xlfn._xlws.FILTER('Pt1-AvionicsComponentCosts'!$NF$12:$NF$384,ISNUMBER(INDIRECT(\"'Pt1-AvionicsComponentCosts'!\"&I69&\"$12:\"&I69&\"$384\"))))))","v":"Attack, Stealth"},null,0.06,{"$f":"IF($A$2,INDEX([1]Sheet1!$A$12:$AO$193,MATCH($A69,[1]Sheet1!$A$12:$A$193,0),8),2*$L69)","v":0.12},{"$f":"INDEX([1]Sheet1!$A$12:$AO$193,MATCH($A69,[1]Sheet1!$A$12:$A$193,0),9)*(1+$A$4)","v":0.36850000000000005},{"$f":"INDEX([1]Sheet1!$A$12:$AO$193,MATCH($A69,[1]Sheet1!$A$12:$A$193,0),10)*(1+$A$4)","v":1.8513000000000002},{"$f":"COUNTIF($P$5:P$5,\"Year\")*$I$4","v":5},{"$f":"0%","v":0},0,{"$f":"COUNTIF($P$5:S$5,\"Year\")*$I$4","v":10},{"$f":"0%","v":0},0.06,{"$f":"COUNTIF($P$5:V$5,\"Year\")*$I$4","v":15},{"$f":"0%","v":0},0,{"$f":"COUNTIF($P$5:Y$5,\"Year\")*$I$4","v":20},{"$f":"0%","v":0},0.06,{"$f":"COUNTIF($P$5:AB$5,\"Year\")*$I$4","v":25},{"$f":"0%","v":0},0,{"$f":"COUNTIF($P$5:AE$5,\"Year\")*$I$4","v":30},{"$f":"0%","v":0},0.06,{"$f":"COUNTIF($P$5:AH$5,\"Year\")*$I$4","v":35},{"$f":"0%","v":0},0,{"$f":"COUNTIF($P$5:AK$5,\"Year\")*$I$4","v":40},{"$f":"0%","v":0},0.06,null,null,null,null,null,null,null,"",0,0,0,0,0,0,0,0,0,0,0,0,0,36,12,240,{"$f":"INDEX('Avionics ID'!A:E,MATCH(B69,'Avionics ID'!E:E,0),3)","v":"Sensors"}]
[{"$f":"INDEX('Avionics ID'!A:E,MATCH(B70,'Avionics ID'!E:E,0),1)","v":725},"DME receivers",0.04,0.03,null,null,25,"Obsolescence",{"$f":"SUBSTITUTE(ADDRESS(1,MATCH(A70,'Pt1-AvionicsComponentCosts'!$A$6:$NC$6,0)+1),\"$1\",\"\")","v":"$JD"},{"$f":"_xlfn.TEXTJOIN(\", \",TRUE,_xlfn.UNIQUE(_xlfn._xlws.SORT(_xlfn._xlws.FILTER('Pt1-AvionicsComponentCosts'!$NF$12:$NF$384,ISNUMBER(INDIRECT(\"'Pt1-AvionicsComponentCosts'!\"&I70&\"$12:\"&I70&\"$384\"))))))","v":"A220, A320, A321, A350, ATR, B717, B737, B747, B757, B777, B787, C919, EMB Regional, MC-21, Mil Transport, Military Jet, NSA"},null,0.03,{"$f":"IF($A$2,INDEX([1]Sheet1!$A$12:$AO$193,MATCH($A70,[1]Sheet1!$A$12:$A$193,0),8),2*$L70)","v":0.06},{"$f":"INDEX([1]Sheet1!$A$12:$AO$193,MATCH($A70,[1]Sheet1!$A$12:$A$193,0),9)*(1+$A$4)","v":0.38940000000000002},{"$f":"INDEX([1]Sheet1!$A$12:$AO$193,MATCH($A70,[1]Sheet1!$A$12:$A$193,0),10)*(1+$A$4)","v":2.0119000000000002},{"$f":"COUNTIF($P$5:P$5,\"Year\")*$I$4","v":5},{"$f":"0%","v":0},0,{"$f":"COUNTIF($P$5:S$5,\"Year\")*$I$4","v":10},{"$f":"0%","v":0},0,{"$f":"COUNTIF($P$5:V$5,\"Year\")*$I$4","v":15},{"$f":"0%","v":0},0.03,{"$f":"COUNTIF($P$5:Y$5,\"Year\")*$I$4","v":20},{"$f":"0%","v":0},0,{"$f":"COUNTIF($P$5:AB$5,\"Year\")*$I$4","v":25},{"$f":"0%","v":0},0.03,{"$f":"COUNTIF($P$5:AE$5,\"Year\")*$I$4","v":30},{"$f":"0%","v":0},0.03,{"$f":"COUNTIF($P$5:AH$5,\"Year\")*$I$4","v":35},{"$f":"0%","v":0},0,{"$f":"COUNTIF($P$5:AK$5,\"Year\")*$I$4","v":40},{"$f":"0%","v":0},0,null,null,null,null,null,null,null,"",0,0,0,0,0,0,0,0,0,0,0,0,0,15,{"$f":"$M70*100","v":6},120,{"$f":"INDEX('Avionics ID'!A:E,MATCH(B70,'Avionics ID'!E:E,0),3)","v":"Navigation"}]
[{"$f":"INDEX('Avionics ID'!A:E,MATCH(B71,'Avionics ID'!E:E,0),1)","v":863},"Dual axis dual system Auto-pilot",{"$f":"IFERROR(100%/G71,0)","v":3.3333333333333333E-2},0.03,null,null,30,{"$f":"IF(G71=0,\"\",IF(LEN(E71)>0,\"Technology / regulatory\",\"Obsolescence\"))","v":"Obsolescence"},{"$f":"SUBSTITUTE(ADDRESS(1,MATCH(A71,'Pt1-AvionicsComponentCosts'!$A$6:$NC$6,0)+1),\"$1\",\"\")","v":"$L"},{"$f":"_xlfn.TEXTJOIN(\", \",TRUE,_xlfn.UNIQUE(_xlfn._xlws.SORT(_xlfn._xlws.FILTER('Pt1-AvionicsComponentCosts'!$NF$12:$NF$384,ISNUMBER(INDIRECT(\"'Pt1-AvionicsComponentCosts'!\"&I71&\"$12:\"&I71&\"$384\"))))))","v":"Helo, TP Trainer, Turbine GA"},null,{"$f":"IF($A$1,D71,IF(C71=0,D71,D71))","v":0.03},{"$f":"IF($A$2,INDEX([1]Sheet1!$A$12:$AO$193,MATCH($A71,[1]Sheet1!$A$12:$A$193,0),8),2*$L71)","v":0.06},{"$f":"INDEX([1]Sheet1!$A$12:$AO$193,MATCH($A71,[1]Sheet1!$A$12:$A$193,0),9)*(1+$A$4)","v":0.44660000000000005},{"$f":"INDEX([1]Sheet1!$A$12:$AO$193,MATCH($A71,[1]Sheet1!$A$12:$A$193,0),10)*(1+$A$4)","v":2.2847},{"$f":"COUNTIF($P$5:P$5,\"Year\")*$I$4","v":5},{"$f":"0%","v":0},{"$f":"IF(MOD(P71,$G71)=0,$M71/2,IF(MOD(P71,MROUND($G71/2,$I$4))=0,$M71/2,0))","v":0},{"$f":"COUNTIF($P$5:S$5,\"Year\")*$I$4","v":10},{"$f":"0%","v":0},{"$f":"IF(MOD(S71,$G71)=0,$M71/2,IF(MOD(S71,MROUND($G71/2,$I$4))=0,$M71/2,0))","v":0},{"$f":"COUNTIF($P$5:V$5,\"Year\")*$I$4","v":15},{"$f":"0%","v":0},{"$f":"IF(MOD(V71,$G71)=0,$M71/2,IF(MOD(V71,MROUND($G71/2,$I$4))=0,$M71/2,0))","v":0.03},{"$f":"COUNTIF($P$5:Y$5,\"Year\")*$I$4","v":20},{"$f":"0%","v":0},{"$f":"IF(MOD(Y71,$G71)=0,$M71/2,IF(MOD(Y71,MROUND($G71/2,$I$4))=0,$M71/2,0))","v":0},{"$f":"COUNTIF($P$5:AB$5,\"Year\")*$I$4","v":25},{"$f":"0%","v":0},{"$f":"IF(MOD(AB71,$G71)=0,$M71/2,IF(MOD(AB71,MROUND($G71/2,$I$4))=0,$M71/2,0))","v":0},{"$f":"COUNTIF($P$5:AE$5,\"Year\")*$I$4","v":30},{"$f":"0%","v":0},{"$f":"IF(MOD(AE71,$G71)=0,$M71/2,IF(MOD(AE71,MROUND($G71/2,$I$4))=0,$M71/2,0))","v":0.03},{"$f":"COUNTIF($P$5:AH$5,\"Year\")*$I$4","v":35},{"$f":"0%","v":0},{"$f":"IF(MOD(AH71,$G71)=0,$M71/2,IF(MOD(AH71,MROUND($G71/2,$I$4))=0,$M71/2,0))","v":0},{"$f":"COUNTIF($P$5:AK$5,\"Year\")*$I$4","v":40},{"$f":"0%","v":0},{"$f":"IF(MOD(AK71,$G71)=0,$M71/2,IF(MOD(AK71,MROUND($G71/2,$I$4))=0,$M71/2,0))","v":0},null,null,null,null,null,null,null,{"$f":"IF(LEN($E71)=0,\"\",$E71)","v":""},{"$f":"IF($H71=\"Technology / regulatory\",$O71,0)","v":0},0,0,0,0,0,0,0,0,0,0,0,0,{"$f":"(SUM(AW71:BH71)+SUMIFS(P71:AS71,P$5:AS$5,\"Exchange %\")+$M71)*100","v":12},6,{"$f":"40*$L71*100","v":120},{"$f":"INDEX('Avionics ID'!A:E,MATCH(B71,'Avionics ID'!E:E,0),3)","v":"Auto-pilot"}]
[{"$f":"INDEX('Avionics ID'!A:E,MATCH(B72,'Avionics ID'!E:E,0),1)","v":820},"Dual redundant digital bus",0.05,0.03,null,null,20,"Obsolescence",{"$f":"SUBSTITUTE(ADDRESS(1,MATCH(A72,'Pt1-AvionicsComponentCosts'!$A$6:$NC$6,0)+1),\"$1\",\"\")","v":"$EN"},{"$f":"_xlfn.TEXTJOIN(\", \",TRUE,_xlfn.UNIQUE(_xlfn._xlws.SORT(_xlfn._xlws.FILTER('Pt1-AvionicsComponentCosts'!$NF$12:$NF$384,ISNUMBER(INDIRECT(\"'Pt1-AvionicsComponentCosts'!\"&I72&\"$12:\"&I72&\"$384\"))))))","v":"Mil Fighter"},null,0.03,{"$f":"IF($A$2,INDEX([1]Sheet1!$A$12:$AO$193,MATCH($A72,[1]Sheet1!$A$12:$A$193,0),8),2*$L72)","v":0.06},{"$f":"INDEX([1]Sheet1!$A$12:$AO$193,MATCH($A72,[1]Sheet1!$A$12:$A$193,0),9)*(1+$A$4)","v":0.38830000000000003},{"$f":"INDEX([1]Sheet1!$A$12:$AO$193,MATCH($A72,[1]Sheet1!$A$12:$A$193,0),10)*(1+$A$4)","v":2.0306000000000002},{"$f":"COUNTIF($P$5:P$5,\"Year\")*$I$4","v":5},{"$f":"0%","v":0},0,{"$f":"COUNTIF($P$5:S$5,\"Year\")*$I$4","v":10},{"$f":"0%","v":0},0.03,{"$f":"COUNTIF($P$5:V$5,\"Year\")*$I$4","v":15},{"$f":"0%","v":0},0,{"$f":"COUNTIF($P$5:Y$5,\"Year\")*$I$4","v":20},{"$f":"0%","v":0},0.03,{"$f":"COUNTIF($P$5:AB$5,\"Year\")*$I$4","v":25},{"$f":"0%","v":0},0,{"$f":"COUNTIF($P$5:AE$5,\"Year\")*$I$4","v":30},{"$f":"0%","v":0},0.03,{"$f":"COUNTIF($P$5:AH$5,\"Year\")*$I$4","v":35},{"$f":"0%","v":0},0,{"$f":"COUNTIF($P$5:AK$5,\"Year\")*$I$4","v":40},{"$f":"0%","v":0},0.03,null,null,null,null,null,null,null,"",0,0,0,0,0,0,0,0,0,0,0,0,0,18,6,120,{"$f":"INDEX('Avionics ID'!A:E,MATCH(B72,'Avionics ID'!E:E,0),3)","v":"Display"}]
[{"$f":"INDEX('Avionics ID'!A:E,MATCH(B73,'Avionics ID'!E:E,0),1)","v":731},"ECAM Control panel",0.1,0.03,null,null,10,"Obsolescence",{"$f":"SUBSTITUTE(ADDRESS(1,MATCH(A73,'Pt1-AvionicsComponentCosts'!$A$6:$NC$6,0)+1),\"$1\",\"\")","v":"$EP"},{"$f":"_xlfn.TEXTJOIN(\", \",TRUE,_xlfn.UNIQUE(_xlfn._xlws.SORT(_xlfn._xlws.FILTER('Pt1-AvionicsComponentCosts'!$NF$12:$NF$384,ISNUMBER(INDIRECT(\"'Pt1-AvionicsComponentCosts'!\"&I73&\"$12:\"&I73&\"$384\"))))))","v":"A220, A320, A321, ATR, B717, B737, B757, C919, EMB Regional, MC-21, Mil Transport, Military Jet, NSA"},null,0.03,{"$f":"IF($A$2,INDEX([1]Sheet1!$A$12:$AO$193,MATCH($A73,[1]Sheet1!$A$12:$A$193,0),8),2*$L73)","v":0.06},{"$f":"INDEX([1]Sheet1!$A$12:$AO$193,MATCH($A73,[1]Sheet1!$A$12:$A$193,0),9)*(1+$A$4)","v":0.38830000000000003},{"$f":"INDEX([1]Sheet1!$A$12:$AO$193,MATCH($A73,[1]Sheet1!$A$12:$A$193,0),10)*(1+$A$4)","v":2.0306000000000002},{"$f":"COUNTIF($P$5:P$5,\"Year\")*$I$4","v":5},{"$f":"0%","v":0},0.03,{"$f":"COUNTIF($P$5:S$5,\"Year\")*$I$4","v":10},{"$f":"0%","v":0},0.03,{"$f":"COUNTIF($P$5:V$5,\"Year\")*$I$4","v":15},{"$f":"0%","v":0},0.03,{"$f":"COUNTIF($P$5:Y$5,\"Year\")*$I$4","v":20},{"$f":"0%","v":0},0.03,{"$f":"COUNTIF($P$5:AB$5,\"Year\")*$I$4","v":25},{"$f":"0%","v":0},0.03,{"$f":"COUNTIF($P$5:AE$5,\"Year\")*$I$4","v":30},{"$f":"0%","v":0},0.03,{"$f":"COUNTIF($P$5:AH$5,\"Year\")*$I$4","v":35},{"$f":"0%","v":0},0.03,{"$f":"COUNTIF($P$5:AK$5,\"Year\")*$I$4","v":40},{"$f":"0%","v":0},0.03,null,null,null,null,null,null,null,"",0,0,0,0,0,0,0,0,0,0,0,0,0,30,6,120,{"$f":"INDEX('Avionics ID'!A:E,MATCH(B73,'Avionics ID'!E:E,0),3)","v":"Display"}]
[{"$f":"INDEX('Avionics ID'!A:E,MATCH(B74,'Avionics ID'!E:E,0),1)","v":729},"ECAM display",0.1,0.03,null,null,10,"Obsolescence",{"$f":"SUBSTITUTE(ADDRESS(1,MATCH(A74,'Pt1-AvionicsComponentCosts'!$A$6:$NC$6,0)+1),\"$1\",\"\")","v":"$ER"},{"$f":"_xlfn.TEXTJOIN(\", \",TRUE,_xlfn.UNIQUE(_xlfn._xlws.SORT(_xlfn._xlws.FILTER('Pt1-AvionicsComponentCosts'!$NF$12:$NF$384,ISNUMBER(INDIRECT(\"'Pt1-AvionicsComponentCosts'!\"&I74&\"$12:\"&I74&\"$384\"))))))","v":"A220, A320, A321, ATR, B717, B737, B757, C919, EMB Regional, MC-21, Mil Transport, Military Jet, NSA"},null,0.03,{"$f":"IF($A$2,INDEX([1]Sheet1!$A$12:$AO$193,MATCH($A74,[1]Sheet1!$A$12:$A$193,0),8),2*$L74)","v":0.06},{"$f":"INDEX([1]Sheet1!$A$12:$AO$193,MATCH($A74,[1]Sheet1!$A$12:$A$193,0),9)*(1+$A$4)","v":0.38830000000000003},{"$f":"INDEX([1]Sheet1!$A$12:$AO$193,MATCH($A74,[1]Sheet1!$A$12:$A$193,0),10)*(1+$A$4)","v":2.0306000000000002},{"$f":"COUNTIF($P$5:P$5,\"Year\")*$I$4","v":5},{"$f":"0%","v":0},0.03,{"$f":"COUNTIF($P$5:S$5,\"Year\")*$I$4","v":10},{"$f":"0%","v":0},0.03,{"$f":"COUNTIF($P$5:V$5,\"Year\")*$I$4","v":15},{"$f":"0%","v":0},0.03,{"$f":"COUNTIF($P$5:Y$5,\"Year\")*$I$4","v":20},{"$f":"0%","v":0},0.03,{"$f":"COUNTIF($P$5:AB$5,\"Year\")*$I$4","v":25},{"$f":"0%","v":0},0.03,{"$f":"COUNTIF($P$5:AE$5,\"Year\")*$I$4","v":30},{"$f":"0%","v":0},0.03,{"$f":"COUNTIF($P$5:AH$5,\"Year\")*$I$4","v":35},{"$f":"0%","v":0},0.03,{"$f":"COUNTIF($P$5:AK$5,\"Year\")*$I$4","v":40},{"$f":"0%","v":0},0.03,null,null,null,null,null,null,null,"",0,0,0,0,0,0,0,0,0,0,0,0,0,30,6,120,{"$f":"INDEX('Avionics ID'!A:E,MATCH(B74,'Avionics ID'!E:E,0),3)","v":"Display"}]
[{"$f":"INDEX('Avionics ID'!A:E,MATCH(B75,'Avionics ID'!E:E,0),1)","v":728},"EFIS Control panel",6.6666666666666666E-2,0.06,"PBN",2030,15,"Technology / regulatory",{"$f":"SUBSTITUTE(ADDRESS(1,MATCH(A75,'Pt1-AvionicsComponentCosts'!$A$6:$NC$6,0)+1),\"$1\",\"\")","v":"$ET"},{"$f":"_xlfn.TEXTJOIN(\", \",TRUE,_xlfn.UNIQUE(_xlfn._xlws.SORT(_xlfn._xlws.FILTER('Pt1-AvionicsComponentCosts'!$NF$12:$NF$384,ISNUMBER(INDIRECT(\"'Pt1-AvionicsComponentCosts'!\"&I75&\"$12:\"&I75&\"$384\"))))))","v":"A220, A300, A320, A321, A330, A340, A350, A380, ATR, B717, B737, B747, B757, B767, B777, B787, C919, EMB Regional, MC-21, MD-11, Mil Transport, Military Jet, NSA"},null,0.06,{"$f":"IF($A$2,INDEX([1]Sheet1!$A$12:$AO$193,MATCH($A75,[1]Sheet1!$A$12:$A$193,0),8),2*$L75)","v":0.12},{"$f":"INDEX([1]Sheet1!$A$12:$AO$193,MATCH($A75,[1]Sheet1!$A$12:$A$193,0),9)*(1+$A$4)","v":0.38830000000000003},{"$f":"INDEX([1]Sheet1!$A$12:$AO$193,MATCH($A75,[1]Sheet1!$A$12:$A$193,0),10)*(1+$A$4)","v":2.0306000000000002},{"$f":"COUNTIF($P$5:P$5,\"Year\")*$I$4","v":5},{"$f":"0%","v":0},0,{"$f":"COUNTIF($P$5:S$5,\"Year\")*$I$4","v":10},{"$f":"0%","v":0},0.06,{"$f":"COUNTIF($P$5:V$5,\"Year\")*$I$4","v":15},{"$f":"0%","v":0},0.06,{"$f":"COUNTIF($P$5:Y$5,\"Year\")*$I$4","v":20},{"$f":"0%","v":0},0.06,{"$f":"COUNTIF($P$5:AB$5,\"Year\")*$I$4","v":25},{"$f":"0%","v":0},0,{"$f":"COUNTIF($P$5:AE$5,\"Year\")*$I$4","v":30},{"$f":"0%","v":0},0.06,{"$f":"COUNTIF($P$5:AH$5,\"Year\")*$I$4","v":35},{"$f":"0%","v":0},0,{"$f":"COUNTIF($P$5:AK$5,\"Year\")*$I$4","v":40},{"$f":"0%","v":0},0.06,null,null,null,null,null,null,null,"PBN",2.0306000000000002,0,0,0,0,0.15,0.25,0.45,0.15,0,0,0,0,142,12,240,{"$f":"INDEX('Avionics ID'!A:E,MATCH(B75,'Avionics ID'!E:E,0),3)","v":"Display"}]
[{"$f":"INDEX('Avionics ID'!A:E,MATCH(B76,'Avionics ID'!E:E,0),1)","v":827},"EICAS Controller panel",0.1,0.08,null,null,10,"Obsolescence",{"$f":"SUBSTITUTE(ADDRESS(1,MATCH(A76,'Pt1-AvionicsComponentCosts'!$A$6:$NC$6,0)+1),\"$1\",\"\")","v":"$EV"},{"$f":"_xlfn.TEXTJOIN(\", \",TRUE,_xlfn.UNIQUE(_xlfn._xlws.SORT(_xlfn._xlws.FILTER('Pt1-AvionicsComponentCosts'!$NF$12:$NF$384,ISNUMBER(INDIRECT(\"'Pt1-AvionicsComponentCosts'!\"&I76&\"$12:\"&I76&\"$384\"))))))","v":"Challenger, Citation, E550, EMB Bizjet, Falcon, Global, Gulfstream, Hawker, Hondajet, Learjet, Nextant 400XT, PC-24, Phenom, Praetor, SF50"},null,0.08,{"$f":"IF($A$2,INDEX([1]Sheet1!$A$12:$AO$193,MATCH($A76,[1]Sheet1!$A$12:$A$193,0),8),2*$L76)","v":0.16},{"$f":"INDEX([1]Sheet1!$A$12:$AO$193,MATCH($A76,[1]Sheet1!$A$12:$A$193,0),9)*(1+$A$4)","v":0.38830000000000003},{"$f":"INDEX([1]Sheet1!$A$12:$AO$193,MATCH($A76,[1]Sheet1!$A$12:$A$193,0),10)*(1+$A$4)","v":2.0306000000000002},{"$f":"COUNTIF($P$5:P$5,\"Year\")*$I$4","v":5},{"$f":"0%","v":0},0.08,{"$f":"COUNTIF($P$5:S$5,\"Year\")*$I$4","v":10},{"$f":"0%","v":0},0.08,{"$f":"COUNTIF($P$5:V$5,\"Year\")*$I$4","v":15},{"$f":"0%","v":0},0.08,{"$f":"COUNTIF($P$5:Y$5,\"Year\")*$I$4","v":20},{"$f":"0%","v":0},0.08,{"$f":"COUNTIF($P$5:AB$5,\"Year\")*$I$4","v":25},{"$f":"0%","v":0},0.08,{"$f":"COUNTIF($P$5:AE$5,\"Year\")*$I$4","v":30},{"$f":"0%","v":0},0.08,{"$f":"COUNTIF($P$5:AH$5,\"Year\")*$I$4","v":35},{"$f":"0%","v":0},0.08,{"$f":"COUNTIF($P$5:AK$5,\"Year\")*$I$4","v":40},{"$f":"0%","v":0},0.08,null,null,null,null,null,null,null,"",0,{"$f":"IF($H76=\"Technology / regulatory\",IF(AW$5=$F76-2,$AW$1,IF(AW$5=$F76-1,$AX$1,IF(AW$5=$F76,$AY$1,IF(AW$5=$F76+1,$AZ$1,0)))),0)","v":0},0,0,0,0,0,0,0,0,0,0,0,80,16,320,{"$f":"INDEX('Avionics ID'!A:E,MATCH(B76,'Avionics ID'!E:E,0),3)","v":"Display"}]
[{"$f":"INDEX('Avionics ID'!A:E,MATCH(B77,'Avionics ID'!E:E,0),1)","v":766},"EICAS Crew alerting System",0.1,0.06,null,null,10,"Obsolescence",{"$f":"SUBSTITUTE(ADDRESS(1,MATCH(A77,'Pt1-AvionicsComponentCosts'!$A$6:$NC$6,0)+1),\"$1\",\"\")","v":"$EX"},{"$f":"_xlfn.TEXTJOIN(\", \",TRUE,_xlfn.UNIQUE(_xlfn._xlws.SORT(_xlfn._xlws.FILTER('Pt1-AvionicsComponentCosts'!$NF$12:$NF$384,ISNUMBER(INDIRECT(\"'Pt1-AvionicsComponentCosts'!\"&I77&\"$12:\"&I77&\"$384\"))))))","v":"A300, A320, A330, A340, A350, A380, B747, B767, B777, B787, MD-11"},null,0.06,{"$f":"IF($A$2,INDEX([1]Sheet1!$A$12:$AO$193,MATCH($A77,[1]Sheet1!$A$12:$A$193,0),8),2*$L77)","v":0.12},{"$f":"INDEX([1]Sheet1!$A$12:$AO$193,MATCH($A77,[1]Sheet1!$A$12:$A$193,0),9)*(1+$A$4)","v":0.38830000000000003},{"$f":"INDEX([1]Sheet1!$A$12:$AO$193,MATCH($A77,[1]Sheet1!$A$12:$A$193,0),10)*(1+$A$4)","v":2.0306000000000002},{"$f":"COUNTIF($P$5:P$5,\"Year\")*$I$4","v":5},{"$f":"0%","v":0},0.06,{"$f":"COUNTIF($P$5:S$5,\"Year\")*$I$4","v":10},{"$f":"0%","v":0},0.06,{"$f":"COUNTIF($P$5:V$5,\"Year\")*$I$4","v":15},{"$f":"0%","v":0},0.06,{"$f":"COUNTIF($P$5:Y$5,\"Year\")*$I$4","v":20},{"$f":"0%","v":0},0.06,{"$f":"COUNTIF($P$5:AB$5,\"Year\")*$I$4","v":25},{"$f":"0%","v":0},0.06,{"$f":"COUNTIF($P$5:AE$5,\"Year\")*$I$4","v":30},{"$f":"0%","v":0},0.06,{"$f":"COUNTIF($P$5:AH$5,\"Year\")*$I$4","v":35},{"$f":"0%","v":0},0.06,{"$f":"COUNTIF($P$5:AK$5,\"Year\")*$I$4","v":40},{"$f":"0%","v":0},0.06,null,null,null,null,null,null,null,"",0,0,0,0,0,0,0,0,0,0,0,0,0,60,12,240,{"$f":"INDEX('Avionics ID'!A:E,MATCH(B77,'Avionics ID'!E:E,0),3)","v":"Display"}]
[{"$f":"INDEX('Avionics ID'!A:E,MATCH(B78,'Avionics ID'!E:E,0),1)","v":792},"Electro Optical Targeting System (FLIR & IRST)",0.05,0.03,null,null,20,"Obsolescence",{"$f":"SUBSTITUTE(ADDRESS(1,MATCH(A78,'Pt1-AvionicsComponentCosts'!$A$6:$NC$6,0)+1),\"$1\",\"\")","v":"$KV"},{"$f":"_xlfn.TEXTJOIN(\", \",TRUE,_xlfn.UNIQUE(_xlfn._xlws.SORT(_xlfn._xlws.FILTER('Pt1-AvionicsComponentCosts'!$NF$12:$NF$384,ISNUMBER(INDIRECT(\"'Pt1-AvionicsComponentCosts'!\"&I78&\"$12:\"&I78&\"$384\"))))))","v":"Attack, Stealth"},null,0.03,{"$f":"IF($A$2,INDEX([1]Sheet1!$A$12:$AO$193,MATCH($A78,[1]Sheet1!$A$12:$A$193,0),8),2*$L78)","v":0.06},{"$f":"INDEX([1]Sheet1!$A$12:$AO$193,MATCH($A78,[1]Sheet1!$A$12:$A$193,0),9)*(1+$A$4)","v":0.36850000000000005},{"$f":"INDEX([1]Sheet1!$A$12:$AO$193,MATCH($A78,[1]Sheet1!$A$12:$A$193,0),10)*(1+$A$4)","v":1.8513000000000002},{"$f":"COUNTIF($P$5:P$5,\"Year\")*$I$4","v":5},{"$f":"0%","v":0},0,{"$f":"COUNTIF($P$5:S$5,\"Year\")*$I$4","v":10},{"$f":"0%","v":0},0.03,{"$f":"COUNTIF($P$5:V$5,\"Year\")*$I$4","v":15},{"$f":"0%","v":0},0,{"$f":"COUNTIF($P$5:Y$5,\"Year\")*$I$4","v":20},{"$f":"0%","v":0},0.03,{"$f":"COUNTIF($P$5:AB$5,\"Year\")*$I$4","v":25},{"$f":"0%","v":0},0,{"$f":"COUNTIF($P$5:AE$5,\"Year\")*$I$4","v":30},{"$f":"0%","v":0},0.03,{"$f":"COUNTIF($P$5:AH$5,\"Year\")*$I$4","v":35},{"$f":"0%","v":0},0,{"$f":"COUNTIF($P$5:AK$5,\"Year\")*$I$4","v":40},{"$f":"0%","v":0},0.03,null,null,null,null,null,null,null,"",0,0,0,0,0,0,0,0,0,0,0,0,0,18,6,120,{"$f":"INDEX('Avionics ID'!A:E,MATCH(B78,'Avionics ID'!E:E,0),3)","v":"Sensors"}]
[{"$f":"INDEX('Avionics ID'!A:E,MATCH(B79,'Avionics ID'!E:E,0),1)","v":759},"Electronic Flight Bags (EFBs)",6.6666666666666666E-2,0.06,"PBN",2030,15,"Technology / regulatory",{"$f":"SUBSTITUTE(ADDRESS(1,MATCH(A79,'Pt1-AvionicsComponentCosts'!$A$6:$NC$6,0)+1),\"$1\",\"\")","v":"$CX"},{"$f":"_xlfn.TEXTJOIN(\", \",TRUE,_xlfn.UNIQUE(_xlfn._xlws.SORT(_xlfn._xlws.FILTER('Pt1-AvionicsComponentCosts'!$NF$12:$NF$384,ISNUMBER(INDIRECT(\"'Pt1-AvionicsComponentCosts'!\"&I79&\"$12:\"&I79&\"$384\"))))))","v":"A220, A300, A320, A321, A330, A340, A350, A380, ARJ, ATR, B717, B737, B747, B757, B767, B777, B787, C919, CRJ, EMB Regional, MC-21, MD-11, Mil Transport, Military Jet, NSA, Reg TP, Superjet 100, Turbine GA"},null,0.06,{"$f":"IF($A$2,INDEX([1]Sheet1!$A$12:$AO$193,MATCH($A79,[1]Sheet1!$A$12:$A$193,0),8),2*$L79)","v":0.12},{"$f":"INDEX([1]Sheet1!$A$12:$AO$193,MATCH($A79,[1]Sheet1!$A$12:$A$193,0),9)*(1+$A$4)","v":0.75130000000000008},{"$f":"INDEX([1]Sheet1!$A$12:$AO$193,MATCH($A79,[1]Sheet1!$A$12:$A$193,0),10)*(1+$A$4)","v":2.1241000000000003},{"$f":"COUNTIF($P$5:P$5,\"Year\")*$I$4","v":5},{"$f":"0%","v":0},0,{"$f":"COUNTIF($P$5:S$5,\"Year\")*$I$4","v":10},{"$f":"0%","v":0},0.06,{"$f":"COUNTIF($P$5:V$5,\"Year\")*$I$4","v":15},{"$f":"0%","v":0},0.06,{"$f":"COUNTIF($P$5:Y$5,\"Year\")*$I$4","v":20},{"$f":"0%","v":0},0.06,{"$f":"COUNTIF($P$5:AB$5,\"Year\")*$I$4","v":25},{"$f":"0%","v":0},0,{"$f":"COUNTIF($P$5:AE$5,\"Year\")*$I$4","v":30},{"$f":"0%","v":0},0.06,{"$f":"COUNTIF($P$5:AH$5,\"Year\")*$I$4","v":35},{"$f":"0%","v":0},0,{"$f":"COUNTIF($P$5:AK$5,\"Year\")*$I$4","v":40},{"$f":"0%","v":0},0.06,null,null,null,null,null,null,null,"PBN",2.1241000000000003,0,0,0,0,0.15,0.25,0.45,0.15,0,0,0,0,142,12,240,{"$f":"INDEX('Avionics ID'!A:E,MATCH(B79,'Avionics ID'!E:E,0),3)","v":"Data"}]
[{"$f":"INDEX('Avionics ID'!A:E,MATCH(B80,'Avionics ID'!E:E,0),1)","v":856},"Electronic Interferometer Frequency Radar Supports target acquisition systems",0.05,0.06,null,null,20,"Obsolescence",{"$f":"SUBSTITUTE(ADDRESS(1,MATCH(A80,'Pt1-AvionicsComponentCosts'!$A$6:$NC$6,0)+1),\"$1\",\"\")","v":"$KX"},{"$f":"_xlfn.TEXTJOIN(\", \",TRUE,_xlfn.UNIQUE(_xlfn._xlws.SORT(_xlfn._xlws.FILTER('Pt1-AvionicsComponentCosts'!$NF$12:$NF$384,ISNUMBER(INDIRECT(\"'Pt1-AvionicsComponentCosts'!\"&I80&\"$12:\"&I80&\"$384\"))))))","v":"Attack Helo, Helo"},null,0.06,{"$f":"IF($A$2,INDEX([1]Sheet1!$A$12:$AO$193,MATCH($A80,[1]Sheet1!$A$12:$A$193,0),8),2*$L80)","v":0.12},{"$f":"INDEX([1]Sheet1!$A$12:$AO$193,MATCH($A80,[1]Sheet1!$A$12:$A$193,0),9)*(1+$A$4)","v":0.36850000000000005},{"$f":"INDEX([1]Sheet1!$A$12:$AO$193,MATCH($A80,[1]Sheet1!$A$12:$A$193,0),10)*(1+$A$4)","v":1.8513000000000002},{"$f":"COUNTIF($P$5:P$5,\"Year\")*$I$4","v":5},{"$f":"0%","v":0},0,{"$f":"COUNTIF($P$5:S$5,\"Year\")*$I$4","v":10},{"$f":"0%","v":0},0.06,{"$f":"COUNTIF($P$5:V$5,\"Year\")*$I$4","v":15},{"$f":"0%","v":0},0,{"$f":"COUNTIF($P$5:Y$5,\"Year\")*$I$4","v":20},{"$f":"0%","v":0},0.06,{"$f":"COUNTIF($P$5:AB$5,\"Year\")*$I$4","v":25},{"$f":"0%","v":0},0,{"$f":"COUNTIF($P$5:AE$5,\"Year\")*$I$4","v":30},{"$f":"0%","v":0},0.06,{"$f":"COUNTIF($P$5:AH$5,\"Year\")*$I$4","v":35},{"$f":"0%","v":0},0,{"$f":"COUNTIF($P$5:AK$5,\"Year\")*$I$4","v":40},{"$f":"0%","v":0},0.06,null,null,null,null,null,null,null,"",0,0,0,0,0,0,0,0,0,0,0,0,0,36,12,240,{"$f":"INDEX('Avionics ID'!A:E,MATCH(B80,'Avionics ID'!E:E,0),3)","v":"Sensors"}]
[{"$f":"INDEX('Avionics ID'!A:E,MATCH(B81,'Avionics ID'!E:E,0),1)","v":788},"Electronic Warfare suite AN/ASQ-239 (evasion, engagement,  jamming, c/measures)",0.05,0.06,null,null,20,"Obsolescence",{"$f":"SUBSTITUTE(ADDRESS(1,MATCH(A81,'Pt1-AvionicsComponentCosts'!$A$6:$NC$6,0)+1),\"$1\",\"\")","v":"$MH"},{"$f":"_xlfn.TEXTJOIN(\", \",TRUE,_xlfn.UNIQUE(_xlfn._xlws.SORT(_xlfn._xlws.FILTER('Pt1-AvionicsComponentCosts'!$NF$12:$NF$384,ISNUMBER(INDIRECT(\"'Pt1-AvionicsComponentCosts'!\"&I81&\"$12:\"&I81&\"$384\"))))))","v":"Attack, Stealth"},null,0.06,{"$f":"IF($A$2,INDEX([1]Sheet1!$A$12:$AO$193,MATCH($A81,[1]Sheet1!$A$12:$A$193,0),8),2*$L81)","v":0.12},{"$f":"INDEX([1]Sheet1!$A$12:$AO$193,MATCH($A81,[1]Sheet1!$A$12:$A$193,0),9)*(1+$A$4)","v":0.49280000000000007},{"$f":"INDEX([1]Sheet1!$A$12:$AO$193,MATCH($A81,[1]Sheet1!$A$12:$A$193,0),10)*(1+$A$4)","v":1.4278000000000002},{"$f":"COUNTIF($P$5:P$5,\"Year\")*$I$4","v":5},{"$f":"0%","v":0},0,{"$f":"COUNTIF($P$5:S$5,\"Year\")*$I$4","v":10},{"$f":"0%","v":0},0.06,{"$f":"COUNTIF($P$5:V$5,\"Year\")*$I$4","v":15},{"$f":"0%","v":0},0,{"$f":"COUNTIF($P$5:Y$5,\"Year\")*$I$4","v":20},{"$f":"0%","v":0},0.06,{"$f":"COUNTIF($P$5:AB$5,\"Year\")*$I$4","v":25},{"$f":"0%","v":0},0,{"$f":"COUNTIF($P$5:AE$5,\"Year\")*$I$4","v":30},{"$f":"0%","v":0},0.06,{"$f":"COUNTIF($P$5:AH$5,\"Year\")*$I$4","v":35},{"$f":"0%","v":0},0,{"$f":"COUNTIF($P$5:AK$5,\"Year\")*$I$4","v":40},{"$f":"0%","v":0},0.06,null,null,null,null,null,null,null,"",0,0,0,0,0,0,0,0,0,0,0,0,0,36,12,240,{"$f":"INDEX('Avionics ID'!A:E,MATCH(B81,'Avionics ID'!E:E,0),3)","v":"Surveillance"}]
[{"$f":"INDEX('Avionics ID'!A:E,MATCH(B82,'Avionics ID'!E:E,0),1)","v":867},"Electro-optical reconnaissance sesnor",0.05,0.06,null,null,20,"Obsolescence",{"$f":"SUBSTITUTE(ADDRESS(1,MATCH(A82,'Pt1-AvionicsComponentCosts'!$A$6:$NC$6,0)+1),\"$1\",\"\")","v":"$MF"},{"$f":"_xlfn.TEXTJOIN(\", \",TRUE,_xlfn.UNIQUE(_xlfn._xlws.SORT(_xlfn._xlws.FILTER('Pt1-AvionicsComponentCosts'!$NF$12:$NF$384,ISNUMBER(INDIRECT(\"'Pt1-AvionicsComponentCosts'!\"&I82&\"$12:\"&I82&\"$384\"))))))","v":"UAV"},null,0.06,{"$f":"IF($A$2,INDEX([1]Sheet1!$A$12:$AO$193,MATCH($A82,[1]Sheet1!$A$12:$A$193,0),8),2*$L82)","v":0.12},{"$f":"INDEX([1]Sheet1!$A$12:$AO$193,MATCH($A82,[1]Sheet1!$A$12:$A$193,0),9)*(1+$A$4)","v":0.49280000000000007},{"$f":"INDEX([1]Sheet1!$A$12:$AO$193,MATCH($A82,[1]Sheet1!$A$12:$A$193,0),10)*(1+$A$4)","v":1.4278000000000002},{"$f":"COUNTIF($P$5:P$5,\"Year\")*$I$4","v":5},{"$f":"0%","v":0},0,{"$f":"COUNTIF($P$5:S$5,\"Year\")*$I$4","v":10},{"$f":"0%","v":0},0.06,{"$f":"COUNTIF($P$5:V$5,\"Year\")*$I$4","v":15},{"$f":"0%","v":0},0,{"$f":"COUNTIF($P$5:Y$5,\"Year\")*$I$4","v":20},{"$f":"0%","v":0},0.06,{"$f":"COUNTIF($P$5:AB$5,\"Year\")*$I$4","v":25},{"$f":"0%","v":0},0,{"$f":"COUNTIF($P$5:AE$5,\"Year\")*$I$4","v":30},{"$f":"0%","v":0},0.06,{"$f":"COUNTIF($P$5:AH$5,\"Year\")*$I$4","v":35},{"$f":"0%","v":0},0,{"$f":"COUNTIF($P$5:AK$5,\"Year\")*$I$4","v":40},{"$f":"0%","v":0},0.06,null,null,null,null,null,null,null,"",0,0,0,0,0,0,0,0,0,0,0,0,0,36,12,240,{"$f":"INDEX('Avionics ID'!A:E,MATCH(B82,'Avionics ID'!E:E,0),3)","v":"Surveillance"}]
[{"$f":"INDEX('Avionics ID'!A:E,MATCH(B83,'Avionics ID'!E:E,0),1)","v":848},"Embedded GPS/INS",0.05,0.03,null,null,20,"Obsolescence",{"$f":"SUBSTITUTE(ADDRESS(1,MATCH(A83,'Pt1-AvionicsComponentCosts'!$A$6:$NC$6,0)+1),\"$1\",\"\")","v":"$JF"},{"$f":"_xlfn.TEXTJOIN(\", \",TRUE,_xlfn.UNIQUE(_xlfn._xlws.SORT(_xlfn._xlws.FILTER('Pt1-AvionicsComponentCosts'!$NF$12:$NF$384,ISNUMBER(INDIRECT(\"'Pt1-AvionicsComponentCosts'!\"&I83&\"$12:\"&I83&\"$384\"))))))","v":"Attack Helo, Helo, TP Trainer, Turbine GA, UAV"},null,0.03,{"$f":"IF($A$2,INDEX([1]Sheet1!$A$12:$AO$193,MATCH($A83,[1]Sheet1!$A$12:$A$193,0),8),2*$L83)","v":0.06},{"$f":"INDEX([1]Sheet1!$A$12:$AO$193,MATCH($A83,[1]Sheet1!$A$12:$A$193,0),9)*(1+$A$4)","v":0.38940000000000002},{"$f":"INDEX([1]Sheet1!$A$12:$AO$193,MATCH($A83,[1]Sheet1!$A$12:$A$193,0),10)*(1+$A$4)","v":2.0119000000000002},{"$f":"COUNTIF($P$5:P$5,\"Year\")*$I$4","v":5},{"$f":"0%","v":0},0,{"$f":"COUNTIF($P$5:S$5,\"Year\")*$I$4","v":10},{"$f":"0%","v":0},0.03,{"$f":"COUNTIF($P$5:V$5,\"Year\")*$I$4","v":15},{"$f":"0%","v":0},0,{"$f":"COUNTIF($P$5:Y$5,\"Year\")*$I$4","v":20},{"$f":"0%","v":0},0.03,{"$f":"COUNTIF($P$5:AB$5,\"Year\")*$I$4","v":25},{"$f":"0%","v":0},0,{"$f":"COUNTIF($P$5:AE$5,\"Year\")*$I$4","v":30},{"$f":"0%","v":0},0.03,{"$f":"COUNTIF($P$5:AH$5,\"Year\")*$I$4","v":35},{"$f":"0%","v":0},0,{"$f":"COUNTIF($P$5:AK$5,\"Year\")*$I$4","v":40},{"$f":"0%","v":0},0.03,null,null,null,null,null,null,null,"",0,0,0,0,0,0,0,0,0,0,0,0,0,18,6,120,{"$f":"INDEX('Avionics ID'!A:E,MATCH(B83,'Avionics ID'!E:E,0),3)","v":"Navigation"}]
[{"$f":"INDEX('Avionics ID'!A:E,MATCH(B84,'Avionics ID'!E:E,0),1)","v":847},"Engine/fuel/ displays",0.05,0.06,null,null,20,"Obsolescence",{"$f":"SUBSTITUTE(ADDRESS(1,MATCH(A84,'Pt1-AvionicsComponentCosts'!$A$6:$NC$6,0)+1),\"$1\",\"\")","v":"$EZ"},{"$f":"_xlfn.TEXTJOIN(\", \",TRUE,_xlfn.UNIQUE(_xlfn._xlws.SORT(_xlfn._xlws.FILTER('Pt1-AvionicsComponentCosts'!$NF$12:$NF$384,ISNUMBER(INDIRECT(\"'Pt1-AvionicsComponentCosts'!\"&I84&\"$12:\"&I84&\"$384\"))))))","v":"Attack Helo, Helo, TP Trainer, Turbine GA"},null,0.06,{"$f":"IF($A$2,INDEX([1]Sheet1!$A$12:$AO$193,MATCH($A84,[1]Sheet1!$A$12:$A$193,0),8),2*$L84)","v":0.12},{"$f":"INDEX([1]Sheet1!$A$12:$AO$193,MATCH($A84,[1]Sheet1!$A$12:$A$193,0),9)*(1+$A$4)","v":0.38830000000000003},{"$f":"INDEX([1]Sheet1!$A$12:$AO$193,MATCH($A84,[1]Sheet1!$A$12:$A$193,0),10)*(1+$A$4)","v":2.0306000000000002},{"$f":"COUNTIF($P$5:P$5,\"Year\")*$I$4","v":5},{"$f":"0%","v":0},0,{"$f":"COUNTIF($P$5:S$5,\"Year\")*$I$4","v":10},{"$f":"0%","v":0},0.06,{"$f":"COUNTIF($P$5:V$5,\"Year\")*$I$4","v":15},{"$f":"0%","v":0},0,{"$f":"COUNTIF($P$5:Y$5,\"Year\")*$I$4","v":20},{"$f":"0%","v":0},0.06,{"$f":"COUNTIF($P$5:AB$5,\"Year\")*$I$4","v":25},{"$f":"0%","v":0},0,{"$f":"COUNTIF($P$5:AE$5,\"Year\")*$I$4","v":30},{"$f":"0%","v":0},0.06,{"$f":"COUNTIF($P$5:AH$5,\"Year\")*$I$4","v":35},{"$f":"0%","v":0},0,{"$f":"COUNTIF($P$5:AK$5,\"Year\")*$I$4","v":40},{"$f":"0%","v":0},0.06,null,null,null,null,null,null,null,"",0,0,0,0,0,0,0,0,0,0,0,0,0,36,12,240,{"$f":"INDEX('Avionics ID'!A:E,MATCH(B84,'Avionics ID'!E:E,0),3)","v":"Display"}]
[{"$f":"INDEX('Avionics ID'!A:E,MATCH(B85,'Avionics ID'!E:E,0),1)","v":869},"Enhanced Integrated Sensor Suite",0.05,0.06,null,null,20,"Obsolescence",{"$f":"SUBSTITUTE(ADDRESS(1,MATCH(A85,'Pt1-AvionicsComponentCosts'!$A$6:$NC$6,0)+1),\"$1\",\"\")","v":"$KZ"},{"$f":"_xlfn.TEXTJOIN(\", \",TRUE,_xlfn.UNIQUE(_xlfn._xlws.SORT(_xlfn._xlws.FILTER('Pt1-AvionicsComponentCosts'!$NF$12:$NF$384,ISNUMBER(INDIRECT(\"'Pt1-AvionicsComponentCosts'!\"&I85&\"$12:\"&I85&\"$384\"))))))","v":"UAV"},null,0.06,{"$f":"IF($A$2,INDEX([1]Sheet1!$A$12:$AO$193,MATCH($A85,[1]Sheet1!$A$12:$A$193,0),8),2*$L85)","v":0.12},{"$f":"INDEX([1]Sheet1!$A$12:$AO$193,MATCH($A85,[1]Sheet1!$A$12:$A$193,0),9)*(1+$A$4)","v":0.36850000000000005},{"$f":"INDEX([1]Sheet1!$A$12:$AO$193,MATCH($A85,[1]Sheet1!$A$12:$A$193,0),10)*(1+$A$4)","v":1.8513000000000002},{"$f":"COUNTIF($P$5:P$5,\"Year\")*$I$4","v":5},{"$f":"0%","v":0},0,{"$f":"COUNTIF($P$5:S$5,\"Year\")*$I$4","v":10},{"$f":"0%","v":0},0.06,{"$f":"COUNTIF($P$5:V$5,\"Year\")*$I$4","v":15},{"$f":"0%","v":0},0,{"$f":"COUNTIF($P$5:Y$5,\"Year\")*$I$4","v":20},{"$f":"0%","v":0},0.06,{"$f":"COUNTIF($P$5:AB$5,\"Year\")*$I$4","v":25},{"$f":"0%","v":0},0,{"$f":"COUNTIF($P$5:AE$5,\"Year\")*$I$4","v":30},{"$f":"0%","v":0},0.06,{"$f":"COUNTIF($P$5:AH$5,\"Year\")*$I$4","v":35},{"$f":"0%","v":0},0,{"$f":"COUNTIF($P$5:AK$5,\"Year\")*$I$4","v":40},{"$f":"0%","v":0},0.06,null,null,null,null,null,null,null,"",0,0,0,0,0,0,0,0,0,0,0,0,0,36,12,240,{"$f":"INDEX('Avionics ID'!A:E,MATCH(B85,'Avionics ID'!E:E,0),3)","v":"Sensors"}]
[{"$f":"INDEX('Avionics ID'!A:E,MATCH(B86,'Avionics ID'!E:E,0),1)","v":885},"Enhanced Vision system",0.05,0.08,null,null,20,"Obsolescence",{"$f":"SUBSTITUTE(ADDRESS(1,MATCH(A86,'Pt1-AvionicsComponentCosts'!$A$6:$NC$6,0)+1),\"$1\",\"\")","v":"$MJ"},{"$f":"_xlfn.TEXTJOIN(\", \",TRUE,_xlfn.UNIQUE(_xlfn._xlws.SORT(_xlfn._xlws.FILTER('Pt1-AvionicsComponentCosts'!$NF$12:$NF$384,ISNUMBER(INDIRECT(\"'Pt1-AvionicsComponentCosts'!\"&I86&\"$12:\"&I86&\"$384\"))))))","v":"Attack, Attack Helo, Helo, Stealth"},null,0.08,{"$f":"IF($A$2,INDEX([1]Sheet1!$A$12:$AO$193,MATCH($A86,[1]Sheet1!$A$12:$A$193,0),8),2*$L86)","v":0.16},{"$f":"INDEX([1]Sheet1!$A$12:$AO$193,MATCH($A86,[1]Sheet1!$A$12:$A$193,0),9)*(1+$A$4)","v":0.49280000000000007},{"$f":"INDEX([1]Sheet1!$A$12:$AO$193,MATCH($A86,[1]Sheet1!$A$12:$A$193,0),10)*(1+$A$4)","v":1.4278000000000002},{"$f":"COUNTIF($P$5:P$5,\"Year\")*$I$4","v":5},{"$f":"0%","v":0},0,{"$f":"COUNTIF($P$5:S$5,\"Year\")*$I$4","v":10},{"$f":"0%","v":0},0.08,{"$f":"COUNTIF($P$5:V$5,\"Year\")*$I$4","v":15},{"$f":"0%","v":0},0,{"$f":"COUNTIF($P$5:Y$5,\"Year\")*$I$4","v":20},{"$f":"0%","v":0},0.08,{"$f":"COUNTIF($P$5:AB$5,\"Year\")*$I$4","v":25},{"$f":"0%","v":0},0,{"$f":"COUNTIF($P$5:AE$5,\"Year\")*$I$4","v":30},{"$f":"0%","v":0},0.08,{"$f":"COUNTIF($P$5:AH$5,\"Year\")*$I$4","v":35},{"$f":"0%","v":0},0,{"$f":"COUNTIF($P$5:AK$5,\"Year\")*$I$4","v":40},{"$f":"0%","v":0},0.08,null,null,null,null,null,null,null,"",0,{"$f":"IF($H86=\"Technology / regulatory\",IF(AW$5=$F86-2,$AW$1,IF(AW$5=$F86-1,$AX$1,IF(AW$5=$F86,$AY$1,IF(AW$5=$F86+1,$AZ$1,0)))),0)","v":0},0,0,0,0,0,0,0,0,0,0,0,48,16,320,{"$f":"INDEX('Avionics ID'!A:E,MATCH(B86,'Avionics ID'!E:E,0),3)","v":"Surveillance"}]
[{"$f":"INDEX('Avionics ID'!A:E,MATCH(B87,'Avionics ID'!E:E,0),1)","v":711},"FCU",3.3333333333333333E-2,0.03,null,null,30,"Obsolescence",{"$f":"SUBSTITUTE(ADDRESS(1,MATCH(A87,'Pt1-AvionicsComponentCosts'!$A$6:$NC$6,0)+1),\"$1\",\"\")","v":"$GH"},{"$f":"_xlfn.TEXTJOIN(\", \",TRUE,_xlfn.UNIQUE(_xlfn._xlws.SORT(_xlfn._xlws.FILTER('Pt1-AvionicsComponentCosts'!$NF$12:$NF$384,ISNUMBER(INDIRECT(\"'Pt1-AvionicsComponentCosts'!\"&I87&\"$12:\"&I87&\"$384\"))))))","v":"A220, A320, A321, ATR, B717, B737, B757, C919, EMB Regional, MC-21, Mil Transport, Military Jet, NSA"},null,0.03,{"$f":"IF($A$2,INDEX([1]Sheet1!$A$12:$AO$193,MATCH($A87,[1]Sheet1!$A$12:$A$193,0),8),2*$L87)","v":0.06},{"$f":"INDEX([1]Sheet1!$A$12:$AO$193,MATCH($A87,[1]Sheet1!$A$12:$A$193,0),9)*(1+$A$4)","v":0.40810000000000002},{"$f":"INDEX([1]Sheet1!$A$12:$AO$193,MATCH($A87,[1]Sheet1!$A$12:$A$193,0),10)*(1+$A$4)","v":1.3541000000000003},{"$f":"COUNTIF($P$5:P$5,\"Year\")*$I$4","v":5},{"$f":"0%","v":0},0,{"$f":"COUNTIF($P$5:S$5,\"Year\")*$I$4","v":10},{"$f":"0%","v":0},0,{"$f":"COUNTIF($P$5:V$5,\"Year\")*$I$4","v":15},{"$f":"0%","v":0},0.03,{"$f":"COUNTIF($P$5:Y$5,\"Year\")*$I$4","v":20},{"$f":"0%","v":0},0,{"$f":"COUNTIF($P$5:AB$5,\"Year\")*$I$4","v":25},{"$f":"0%","v":0},0,{"$f":"COUNTIF($P$5:AE$5,\"Year\")*$I$4","v":30},{"$f":"0%","v":0},0.03,{"$f":"COUNTIF($P$5:AH$5,\"Year\")*$I$4","v":35},{"$f":"0%","v":0},0,{"$f":"COUNTIF($P$5:AK$5,\"Year\")*$I$4","v":40},{"$f":"0%","v":0},0,null,null,null,null,null,null,null,"",0,0,0,0,0,0,0,0,0,0,0,0,0,12,6,120,{"$f":"INDEX('Avionics ID'!A:E,MATCH(B87,'Avionics ID'!E:E,0),3)","v":"FMS"}]
[{"$f":"INDEX('Avionics ID'!A:E,MATCH(B88,'Avionics ID'!E:E,0),1)","v":755},"FD Interface Unit",3.3333333333333333E-2,0.06,null,null,30,"Obsolescence",{"$f":"SUBSTITUTE(ADDRESS(1,MATCH(A88,'Pt1-AvionicsComponentCosts'!$A$6:$NC$6,0)+1),\"$1\",\"\")","v":"$CZ"},{"$f":"_xlfn.TEXTJOIN(\", \",TRUE,_xlfn.UNIQUE(_xlfn._xlws.SORT(_xlfn._xlws.FILTER('Pt1-AvionicsComponentCosts'!$NF$12:$NF$384,ISNUMBER(INDIRECT(\"'Pt1-AvionicsComponentCosts'!\"&I88&\"$12:\"&I88&\"$384\"))))))","v":"A220, A320, A321, A350, ATR, B717, B737, B747, B757, B777, B787, C919, EMB Regional, MC-21, Mil Transport, Military Jet, NSA"},null,0.06,{"$f":"IF($A$2,INDEX([1]Sheet1!$A$12:$AO$193,MATCH($A88,[1]Sheet1!$A$12:$A$193,0),8),2*$L88)","v":0.12},{"$f":"INDEX([1]Sheet1!$A$12:$AO$193,MATCH($A88,[1]Sheet1!$A$12:$A$193,0),9)*(1+$A$4)","v":0.75130000000000008},{"$f":"INDEX([1]Sheet1!$A$12:$AO$193,MATCH($A88,[1]Sheet1!$A$12:$A$193,0),10)*(1+$A$4)","v":2.1241000000000003},{"$f":"COUNTIF($P$5:P$5,\"Year\")*$I$4","v":5},{"$f":"0%","v":0},0,{"$f":"COUNTIF($P$5:S$5,\"Year\")*$I$4","v":10},{"$f":"0%","v":0},0,{"$f":"COUNTIF($P$5:V$5,\"Year\")*$I$4","v":15},{"$f":"0%","v":0},0.06,{"$f":"COUNTIF($P$5:Y$5,\"Year\")*$I$4","v":20},{"$f":"0%","v":0},0,{"$f":"COUNTIF($P$5:AB$5,\"Year\")*$I$4","v":25},{"$f":"0%","v":0},0,{"$f":"COUNTIF($P$5:AE$5,\"Year\")*$I$4","v":30},{"$f":"0%","v":0},0.06,{"$f":"COUNTIF($P$5:AH$5,\"Year\")*$I$4","v":35},{"$f":"0%","v":0},0,{"$f":"COUNTIF($P$5:AK$5,\"Year\")*$I$4","v":40},{"$f":"0%","v":0},0,null,null,null,null,null,null,null,"",0,0,0,0,0,0,0,0,0,0,0,0,0,24,12,240,{"$f":"INDEX('Avionics ID'!A:E,MATCH(B88,'Avionics ID'!E:E,0),3)","v":"Data"}]
[{"$f":"INDEX('Avionics ID'!A:E,MATCH(B89,'Avionics ID'!E:E,0),1)","v":712},"Flight Augmentation Computers",3.3333333333333333E-2,0.06,null,null,30,"Obsolescence",{"$f":"SUBSTITUTE(ADDRESS(1,MATCH(A89,'Pt1-AvionicsComponentCosts'!$A$6:$NC$6,0)+1),\"$1\",\"\")","v":"$GJ"},{"$f":"_xlfn.TEXTJOIN(\", \",TRUE,_xlfn.UNIQUE(_xlfn._xlws.SORT(_xlfn._xlws.FILTER('Pt1-AvionicsComponentCosts'!$NF$12:$NF$384,ISNUMBER(INDIRECT(\"'Pt1-AvionicsComponentCosts'!\"&I89&\"$12:\"&I89&\"$384\"))))))","v":"A220, A320, A321, ATR, B717, B737, B757, C919, EMB Regional, MC-21, Mil Transport, Military Jet, NSA"},null,0.06,{"$f":"IF($A$2,INDEX([1]Sheet1!$A$12:$AO$193,MATCH($A89,[1]Sheet1!$A$12:$A$193,0),8),2*$L89)","v":0.12},{"$f":"INDEX([1]Sheet1!$A$12:$AO$193,MATCH($A89,[1]Sheet1!$A$12:$A$193,0),9)*(1+$A$4)","v":0.40810000000000002},{"$f":"INDEX([1]Sheet1!$A$12:$AO$193,MATCH($A89,[1]Sheet1!$A$12:$A$193,0),10)*(1+$A$4)","v":1.3541000000000003},{"$f":"COUNTIF($P$5:P$5,\"Year\")*$I$4","v":5},{"$f":"0%","v":0},0,{"$f":"COUNTIF($P$5:S$5,\"Year\")*$I$4","v":10},{"$f":"0%","v":0},0,{"$f":"COUNTIF($P$5:V$5,\"Year\")*$I$4","v":15},{"$f":"0%","v":0},0.06,{"$f":"COUNTIF($P$5:Y$5,\"Year\")*$I$4","v":20},{"$f":"0%","v":0},0,{"$f":"COUNTIF($P$5:AB$5,\"Year\")*$I$4","v":25},{"$f":"0%","v":0},0,{"$f":"COUNTIF($P$5:AE$5,\"Year\")*$I$4","v":30},{"$f":"0%","v":0},0.06,{"$f":"COUNTIF($P$5:AH$5,\"Year\")*$I$4","v":35},{"$f":"0%","v":0},0,{"$f":"COUNTIF($P$5:AK$5,\"Year\")*$I$4","v":40},{"$f":"0%","v":0},0,null,null,null,null,null,null,null,"",0,0,0,0,0,0,0,0,0,0,0,0,0,24,12,240,{"$f":"INDEX('Avionics ID'!A:E,MATCH(B89,'Avionics ID'!E:E,0),3)","v":"FMS"}]
[{"$f":"INDEX('Avionics ID'!A:E,MATCH(B90,'Avionics ID'!E:E,0),1)","v":715},"Flight Control Unit (FCU) panel",0.1,0.08,null,null,10,"Obsolescence",{"$f":"SUBSTITUTE(ADDRESS(1,MATCH(A90,'Pt1-AvionicsComponentCosts'!$A$6:$NC$6,0)+1),\"$1\",\"\")","v":"$GL"},{"$f":"_xlfn.TEXTJOIN(\", \",TRUE,_xlfn.UNIQUE(_xlfn._xlws.SORT(_xlfn._xlws.FILTER('Pt1-AvionicsComponentCosts'!$NF$12:$NF$384,ISNUMBER(INDIRECT(\"'Pt1-AvionicsComponentCosts'!\"&I90&\"$12:\"&I90&\"$384\"))))))","v":"A220, A320, A321, ATR, B717, B737, B757, C919, EMB Regional, MC-21, Mil Transport, Military Jet, NSA"},null,0.08,{"$f":"IF($A$2,INDEX([1]Sheet1!$A$12:$AO$193,MATCH($A90,[1]Sheet1!$A$12:$A$193,0),8),2*$L90)","v":0.16},{"$f":"INDEX([1]Sheet1!$A$12:$AO$193,MATCH($A90,[1]Sheet1!$A$12:$A$193,0),9)*(1+$A$4)","v":0.40810000000000002},{"$f":"INDEX([1]Sheet1!$A$12:$AO$193,MATCH($A90,[1]Sheet1!$A$12:$A$193,0),10)*(1+$A$4)","v":1.3541000000000003},{"$f":"COUNTIF($P$5:P$5,\"Year\")*$I$4","v":5},{"$f":"0%","v":0},0.08,{"$f":"COUNTIF($P$5:S$5,\"Year\")*$I$4","v":10},{"$f":"0%","v":0},0.08,{"$f":"COUNTIF($P$5:V$5,\"Year\")*$I$4","v":15},{"$f":"0%","v":0},0.08,{"$f":"COUNTIF($P$5:Y$5,\"Year\")*$I$4","v":20},{"$f":"0%","v":0},0.08,{"$f":"COUNTIF($P$5:AB$5,\"Year\")*$I$4","v":25},{"$f":"0%","v":0},0.08,{"$f":"COUNTIF($P$5:AE$5,\"Year\")*$I$4","v":30},{"$f":"0%","v":0},0.08,{"$f":"COUNTIF($P$5:AH$5,\"Year\")*$I$4","v":35},{"$f":"0%","v":0},0.08,{"$f":"COUNTIF($P$5:AK$5,\"Year\")*$I$4","v":40},{"$f":"0%","v":0},0.08,null,null,null,null,null,null,null,"",0,0,0,0,0,0,0,0,0,0,0,0,0,80,16,320,{"$f":"INDEX('Avionics ID'!A:E,MATCH(B90,'Avionics ID'!E:E,0),3)","v":"FMS"}]
[{"$f":"INDEX('Avionics ID'!A:E,MATCH(B91,'Avionics ID'!E:E,0),1)","v":754},"Flight Data Recorder",6.6666666666666666E-2,0.06,"CPDLC",2028,15,"Technology / regulatory",{"$f":"SUBSTITUTE(ADDRESS(1,MATCH(A91,'Pt1-AvionicsComponentCosts'!$A$6:$NC$6,0)+1),\"$1\",\"\")","v":"$DB"},{"$f":"_xlfn.TEXTJOIN(\", \",TRUE,_xlfn.UNIQUE(_xlfn._xlws.SORT(_xlfn._xlws.FILTER('Pt1-AvionicsComponentCosts'!$NF$12:$NF$384,ISNUMBER(INDIRECT(\"'Pt1-AvionicsComponentCosts'!\"&I91&\"$12:\"&I91&\"$384\"))))))","v":"A220, A300, A320, A321, A330, A340, A350, A380, ATR, B717, B737, B747, B757, B767, B777, B787, C919, Challenger, Citation, E550, EMB Bizjet, EMB Regional, Falcon, Global, Gulfstream, Hawker, Hondajet, Learjet, MC-21, MD-11, Mil Transport, Military Jet, Nextant 400XT, NSA, PC-24, Phenom, Praetor, SF50"},null,0.06,{"$f":"IF($A$2,INDEX([1]Sheet1!$A$12:$AO$193,MATCH($A91,[1]Sheet1!$A$12:$A$193,0),8),2*$L91)","v":0.12},{"$f":"INDEX([1]Sheet1!$A$12:$AO$193,MATCH($A91,[1]Sheet1!$A$12:$A$193,0),9)*(1+$A$4)","v":0.75130000000000008},{"$f":"INDEX([1]Sheet1!$A$12:$AO$193,MATCH($A91,[1]Sheet1!$A$12:$A$193,0),10)*(1+$A$4)","v":2.1241000000000003},{"$f":"COUNTIF($P$5:P$5,\"Year\")*$I$4","v":5},{"$f":"0%","v":0},0,{"$f":"COUNTIF($P$5:S$5,\"Year\")*$I$4","v":10},{"$f":"0%","v":0},0.06,{"$f":"COUNTIF($P$5:V$5,\"Year\")*$I$4","v":15},{"$f":"0%","v":0},0.06,{"$f":"COUNTIF($P$5:Y$5,\"Year\")*$I$4","v":20},{"$f":"0%","v":0},0.06,{"$f":"COUNTIF($P$5:AB$5,\"Year\")*$I$4","v":25},{"$f":"0%","v":0},0,{"$f":"COUNTIF($P$5:AE$5,\"Year\")*$I$4","v":30},{"$f":"0%","v":0},0.06,{"$f":"COUNTIF($P$5:AH$5,\"Year\")*$I$4","v":35},{"$f":"0%","v":0},0,{"$f":"COUNTIF($P$5:AK$5,\"Year\")*$I$4","v":40},{"$f":"0%","v":0},0.06,null,null,null,null,null,null,null,"CPDLC",2.1241000000000003,0,0,0.15,0.25,0.45,0.15,0,0,0,0,0,0,142,12,240,{"$f":"INDEX('Avionics ID'!A:E,MATCH(B91,'Avionics ID'!E:E,0),3)","v":"Data"}]
[{"$f":"INDEX('Avionics ID'!A:E,MATCH(B92,'Avionics ID'!E:E,0),1)","v":804},"Flight Guidance System (A/Pilot)",0.1,0.06,null,null,10,"Obsolescence",{"$f":"SUBSTITUTE(ADDRESS(1,MATCH(A92,'Pt1-AvionicsComponentCosts'!$A$6:$NC$6,0)+1),\"$1\",\"\")","v":"$N"},{"$f":"_xlfn.TEXTJOIN(\", \",TRUE,_xlfn.UNIQUE(_xlfn._xlws.SORT(_xlfn._xlws.FILTER('Pt1-AvionicsComponentCosts'!$NF$12:$NF$384,ISNUMBER(INDIRECT(\"'Pt1-AvionicsComponentCosts'!\"&I92&\"$12:\"&I92&\"$384\"))))))","v":"A350, ARJ, B747, B777, B787, Challenger, Citation, CRJ, E550, EMB Bizjet, EMB Regional, Falcon, Global, Gulfstream, Hawker, Hondajet, Learjet, Nextant 400XT, PC-24, Phenom, Praetor, Reg TP, SF50, Superjet 100, Turbine GA"},null,0.06,{"$f":"IF($A$2,INDEX([1]Sheet1!$A$12:$AO$193,MATCH($A92,[1]Sheet1!$A$12:$A$193,0),8),2*$L92)","v":0.12},{"$f":"INDEX([1]Sheet1!$A$12:$AO$193,MATCH($A92,[1]Sheet1!$A$12:$A$193,0),9)*(1+$A$4)","v":0.44660000000000005},{"$f":"INDEX([1]Sheet1!$A$12:$AO$193,MATCH($A92,[1]Sheet1!$A$12:$A$193,0),10)*(1+$A$4)","v":2.2847},{"$f":"COUNTIF($P$5:P$5,\"Year\")*$I$4","v":5},{"$f":"0%","v":0},0.06,{"$f":"COUNTIF($P$5:S$5,\"Year\")*$I$4","v":10},{"$f":"0%","v":0},0.06,{"$f":"COUNTIF($P$5:V$5,\"Year\")*$I$4","v":15},{"$f":"0%","v":0},0.06,{"$f":"COUNTIF($P$5:Y$5,\"Year\")*$I$4","v":20},{"$f":"0%","v":0},0.06,{"$f":"COUNTIF($P$5:AB$5,\"Year\")*$I$4","v":25},{"$f":"0%","v":0},0.06,{"$f":"COUNTIF($P$5:AE$5,\"Year\")*$I$4","v":30},{"$f":"0%","v":0},0.06,{"$f":"COUNTIF($P$5:AH$5,\"Year\")*$I$4","v":35},{"$f":"0%","v":0},0.06,{"$f":"COUNTIF($P$5:AK$5,\"Year\")*$I$4","v":40},{"$f":"0%","v":0},0.06,null,null,null,null,null,null,null,"",0,0,0,0,0,0,0,0,0,0,0,0,0,60,12,240,{"$f":"INDEX('Avionics ID'!A:E,MATCH(B92,'Avionics ID'!E:E,0),3)","v":"Auto-pilot"}]
[{"$f":"INDEX('Avionics ID'!A:E,MATCH(B93,'Avionics ID'!E:E,0),1)","v":835},"Flight Management System",6.6666666666666666E-2,0.06,"CPDLC",2028,15,"Technology / regulatory",{"$f":"SUBSTITUTE(ADDRESS(1,MATCH(A93,'Pt1-AvionicsComponentCosts'!$A$6:$NC$6,0)+1),\"$1\",\"\")","v":"$GN"},{"$f":"_xlfn.TEXTJOIN(\", \",TRUE,_xlfn.UNIQUE(_xlfn._xlws.SORT(_xlfn._xlws.FILTER('Pt1-AvionicsComponentCosts'!$NF$12:$NF$384,ISNUMBER(INDIRECT(\"'Pt1-AvionicsComponentCosts'!\"&I93&\"$12:\"&I93&\"$384\"))))))","v":"A330 LMXT, A330 MRTT, Mil Transport, Military Jet, Military TP"},null,0.06,{"$f":"IF($A$2,INDEX([1]Sheet1!$A$12:$AO$193,MATCH($A93,[1]Sheet1!$A$12:$A$193,0),8),2*$L93)","v":0.12},{"$f":"INDEX([1]Sheet1!$A$12:$AO$193,MATCH($A93,[1]Sheet1!$A$12:$A$193,0),9)*(1+$A$4)","v":0.40810000000000002},{"$f":"INDEX([1]Sheet1!$A$12:$AO$193,MATCH($A93,[1]Sheet1!$A$12:$A$193,0),10)*(1+$A$4)","v":1.3541000000000003},{"$f":"COUNTIF($P$5:P$5,\"Year\")*$I$4","v":5},{"$f":"0%","v":0},0,{"$f":"COUNTIF($P$5:S$5,\"Year\")*$I$4","v":10},{"$f":"0%","v":0},0.06,{"$f":"COUNTIF($P$5:V$5,\"Year\")*$I$4","v":15},{"$f":"0%","v":0},0.06,{"$f":"COUNTIF($P$5:Y$5,\"Year\")*$I$4","v":20},{"$f":"0%","v":0},0.06,{"$f":"COUNTIF($P$5:AB$5,\"Year\")*$I$4","v":25},{"$f":"0%","v":0},0,{"$f":"COUNTIF($P$5:AE$5,\"Year\")*$I$4","v":30},{"$f":"0%","v":0},0.06,{"$f":"COUNTIF($P$5:AH$5,\"Year\")*$I$4","v":35},{"$f":"0%","v":0},0,{"$f":"COUNTIF($P$5:AK$5,\"Year\")*$I$4","v":40},{"$f":"0%","v":0},0.06,null,null,null,null,null,null,null,"CPDLC",1.3541000000000003,0,0,0.15,0.25,0.45,0.15,0,0,0,0,0,0,142,12,240,{"$f":"INDEX('Avionics ID'!A:E,MATCH(B93,'Avionics ID'!E:E,0),3)","v":"FMS"}]
[{"$f":"INDEX('Avionics ID'!A:E,MATCH(B94,'Avionics ID'!E:E,0),1)","v":716},"Flight Warning Computer (FWC)",0.1,0.06,null,null,10,"Obsolescence",{"$f":"SUBSTITUTE(ADDRESS(1,MATCH(A94,'Pt1-AvionicsComponentCosts'!$A$6:$NC$6,0)+1),\"$1\",\"\")","v":"$GP"},{"$f":"_xlfn.TEXTJOIN(\", \",TRUE,_xlfn.UNIQUE(_xlfn._xlws.SORT(_xlfn._xlws.FILTER('Pt1-AvionicsComponentCosts'!$NF$12:$NF$384,ISNUMBER(INDIRECT(\"'Pt1-AvionicsComponentCosts'!\"&I94&\"$12:\"&I94&\"$384\"))))))","v":"A220, A300, A320, A321, A330, A340, A350, A380, ATR, B717, B737, B747, B757, B767, B777, C919, EMB Regional, MC-21, MD-11, Mil Transport, Military Jet, NSA"},null,0.06,{"$f":"IF($A$2,INDEX([1]Sheet1!$A$12:$AO$193,MATCH($A94,[1]Sheet1!$A$12:$A$193,0),8),2*$L94)","v":0.12},{"$f":"INDEX([1]Sheet1!$A$12:$AO$193,MATCH($A94,[1]Sheet1!$A$12:$A$193,0),9)*(1+$A$4)","v":0.40810000000000002},{"$f":"INDEX([1]Sheet1!$A$12:$AO$193,MATCH($A94,[1]Sheet1!$A$12:$A$193,0),10)*(1+$A$4)","v":1.3541000000000003},{"$f":"COUNTIF($P$5:P$5,\"Year\")*$I$4","v":5},{"$f":"0%","v":0},0.06,{"$f":"COUNTIF($P$5:S$5,\"Year\")*$I$4","v":10},{"$f":"0%","v":0},0.06,{"$f":"COUNTIF($P$5:V$5,\"Year\")*$I$4","v":15},{"$f":"0%","v":0},0.06,{"$f":"COUNTIF($P$5:Y$5,\"Year\")*$I$4","v":20},{"$f":"0%","v":0},0.06,{"$f":"COUNTIF($P$5:AB$5,\"Year\")*$I$4","v":25},{"$f":"0%","v":0},0.06,{"$f":"COUNTIF($P$5:AE$5,\"Year\")*$I$4","v":30},{"$f":"0%","v":0},0.06,{"$f":"COUNTIF($P$5:AH$5,\"Year\")*$I$4","v":35},{"$f":"0%","v":0},0.06,{"$f":"COUNTIF($P$5:AK$5,\"Year\")*$I$4","v":40},{"$f":"0%","v":0},0.06,null,null,null,null,null,null,null,"",0,0,0,0,0,0,0,0,0,0,0,0,0,60,12,240,{"$f":"INDEX('Avionics ID'!A:E,MATCH(B94,'Avionics ID'!E:E,0),3)","v":"FMS"}]
[{"$f":"INDEX('Avionics ID'!A:E,MATCH(B95,'Avionics ID'!E:E,0),1)","v":816},"FLIR sensors",0.05,0.1,null,null,20,"Obsolescence",{"$f":"SUBSTITUTE(ADDRESS(1,MATCH(A95,'Pt1-AvionicsComponentCosts'!$A$6:$NC$6,0)+1),\"$1\",\"\")","v":"$LB"},{"$f":"_xlfn.TEXTJOIN(\", \",TRUE,_xlfn.UNIQUE(_xlfn._xlws.SORT(_xlfn._xlws.FILTER('Pt1-AvionicsComponentCosts'!$NF$12:$NF$384,ISNUMBER(INDIRECT(\"'Pt1-AvionicsComponentCosts'!\"&I95&\"$12:\"&I95&\"$384\"))))))","v":"Mil Fighter"},null,0.1,{"$f":"IF($A$2,INDEX([1]Sheet1!$A$12:$AO$193,MATCH($A95,[1]Sheet1!$A$12:$A$193,0),8),2*$L95)","v":0.2},{"$f":"INDEX([1]Sheet1!$A$12:$AO$193,MATCH($A95,[1]Sheet1!$A$12:$A$193,0),9)*(1+$A$4)","v":0.36850000000000005},{"$f":"INDEX([1]Sheet1!$A$12:$AO$193,MATCH($A95,[1]Sheet1!$A$12:$A$193,0),10)*(1+$A$4)","v":1.8513000000000002},{"$f":"COUNTIF($P$5:P$5,\"Year\")*$I$4","v":5},{"$f":"0%","v":0},0,{"$f":"COUNTIF($P$5:S$5,\"Year\")*$I$4","v":10},{"$f":"0%","v":0},0.1,{"$f":"COUNTIF($P$5:V$5,\"Year\")*$I$4","v":15},{"$f":"0%","v":0},0,{"$f":"COUNTIF($P$5:Y$5,\"Year\")*$I$4","v":20},{"$f":"0%","v":0},0.1,{"$f":"COUNTIF($P$5:AB$5,\"Year\")*$I$4","v":25},{"$f":"0%","v":0},0,{"$f":"COUNTIF($P$5:AE$5,\"Year\")*$I$4","v":30},{"$f":"0%","v":0},0.1,{"$f":"COUNTIF($P$5:AH$5,\"Year\")*$I$4","v":35},{"$f":"0%","v":0},0,{"$f":"COUNTIF($P$5:AK$5,\"Year\")*$I$4","v":40},{"$f":"0%","v":0},0.1,null,null,null,null,null,null,null,"",0,0,0,0,0,0,0,0,0,0,0,0,0,60.000000000000007,20,400,{"$f":"INDEX('Avionics ID'!A:E,MATCH(B95,'Avionics ID'!E:E,0),3)","v":"Sensors"}]
[{"$f":"INDEX('Avionics ID'!A:E,MATCH(B96,'Avionics ID'!E:E,0),1)","v":709},"FMGC",6.6666666666666666E-2,0.06,"CPDLC",2028,15,"Technology / regulatory",{"$f":"SUBSTITUTE(ADDRESS(1,MATCH(A96,'Pt1-AvionicsComponentCosts'!$A$6:$NC$6,0)+1),\"$1\",\"\")","v":"$GR"},{"$f":"_xlfn.TEXTJOIN(\", \",TRUE,_xlfn.UNIQUE(_xlfn._xlws.SORT(_xlfn._xlws.FILTER('Pt1-AvionicsComponentCosts'!$NF$12:$NF$384,ISNUMBER(INDIRECT(\"'Pt1-AvionicsComponentCosts'!\"&I96&\"$12:\"&I96&\"$384\"))))))","v":"A220, A300, A320, A321, A330, A340, A350, A380, ARJ, ATR, B717, B737, B747, B757, B767, B777, B787, C919, Challenger, Citation, CRJ, E550, EMB Bizjet, EMB Regional, Falcon, Global, Gulfstream, Hawker, Hondajet, Learjet, MC-21, MD-11, Mil Transport, Military Jet, Nextant 400XT, NSA, PC-24, Phenom, Praetor, Reg TP, SF50, Superjet 100, Turbine GA"},null,0.06,{"$f":"IF($A$2,INDEX([1]Sheet1!$A$12:$AO$193,MATCH($A96,[1]Sheet1!$A$12:$A$193,0),8),2*$L96)","v":0.12},{"$f":"INDEX([1]Sheet1!$A$12:$AO$193,MATCH($A96,[1]Sheet1!$A$12:$A$193,0),9)*(1+$A$4)","v":0.40810000000000002},{"$f":"INDEX([1]Sheet1!$A$12:$AO$193,MATCH($A96,[1]Sheet1!$A$12:$A$193,0),10)*(1+$A$4)","v":1.3541000000000003},{"$f":"COUNTIF($P$5:P$5,\"Year\")*$I$4","v":5},{"$f":"0%","v":0},0,{"$f":"COUNTIF($P$5:S$5,\"Year\")*$I$4","v":10},{"$f":"0%","v":0},0.06,{"$f":"COUNTIF($P$5:V$5,\"Year\")*$I$4","v":15},{"$f":"0%","v":0},0.06,{"$f":"COUNTIF($P$5:Y$5,\"Year\")*$I$4","v":20},{"$f":"0%","v":0},0.06,{"$f":"COUNTIF($P$5:AB$5,\"Year\")*$I$4","v":25},{"$f":"0%","v":0},0,{"$f":"COUNTIF($P$5:AE$5,\"Year\")*$I$4","v":30},{"$f":"0%","v":0},0.06,{"$f":"COUNTIF($P$5:AH$5,\"Year\")*$I$4","v":35},{"$f":"0%","v":0},0,{"$f":"COUNTIF($P$5:AK$5,\"Year\")*$I$4","v":40},{"$f":"0%","v":0},0.06,null,null,null,null,null,null,null,"CPDLC",1.3541000000000003,{"$f":"IF($H96=\"Technology / regulatory\",IF(AW$5=$F96-2,$AW$1,IF(AW$5=$F96-1,$AX$1,IF(AW$5=$F96,$AY$1,IF(AW$5=$F96+1,$AZ$1,0)))),0)","v":0},0,0.15,0.25,0.45,0.15,0,0,0,0,0,0,142,12,240,{"$f":"INDEX('Avionics ID'!A:E,MATCH(B96,'Avionics ID'!E:E,0),3)","v":"FMS"}]
[{"$f":"INDEX('Avionics ID'!A:E,MATCH(B97,'Avionics ID'!E:E,0),1)","v":873},"GPS antenna",0.05,0.1,null,null,20,"Obsolescence",{"$f":"SUBSTITUTE(ADDRESS(1,MATCH(A97,'Pt1-AvionicsComponentCosts'!$A$6:$NC$6,0)+1),\"$1\",\"\")","v":"$JH"},{"$f":"_xlfn.TEXTJOIN(\", \",TRUE,_xlfn.UNIQUE(_xlfn._xlws.SORT(_xlfn._xlws.FILTER('Pt1-AvionicsComponentCosts'!$NF$12:$NF$384,ISNUMBER(INDIRECT(\"'Pt1-AvionicsComponentCosts'!\"&I97&\"$12:\"&I97&\"$384\"))))))","v":"UAV"},null,0.1,{"$f":"IF($A$2,INDEX([1]Sheet1!$A$12:$AO$193,MATCH($A97,[1]Sheet1!$A$12:$A$193,0),8),2*$L97)","v":0.2},{"$f":"INDEX([1]Sheet1!$A$12:$AO$193,MATCH($A97,[1]Sheet1!$A$12:$A$193,0),9)*(1+$A$4)","v":0.38940000000000002},{"$f":"INDEX([1]Sheet1!$A$12:$AO$193,MATCH($A97,[1]Sheet1!$A$12:$A$193,0),10)*(1+$A$4)","v":2.0119000000000002},{"$f":"COUNTIF($P$5:P$5,\"Year\")*$I$4","v":5},{"$f":"0%","v":0},0,{"$f":"COUNTIF($P$5:S$5,\"Year\")*$I$4","v":10},{"$f":"0%","v":0},0.1,{"$f":"COUNTIF($P$5:V$5,\"Year\")*$I$4","v":15},{"$f":"0%","v":0},0,{"$f":"COUNTIF($P$5:Y$5,\"Year\")*$I$4","v":20},{"$f":"0%","v":0},0.1,{"$f":"COUNTIF($P$5:AB$5,\"Year\")*$I$4","v":25},{"$f":"0%","v":0},0,{"$f":"COUNTIF($P$5:AE$5,\"Year\")*$I$4","v":30},{"$f":"0%","v":0},0.1,{"$f":"COUNTIF($P$5:AH$5,\"Year\")*$I$4","v":35},{"$f":"0%","v":0},0,{"$f":"COUNTIF($P$5:AK$5,\"Year\")*$I$4","v":40},{"$f":"0%","v":0},0.1,null,null,null,null,null,null,null,"",0,0,0,0,0,0,0,0,0,0,0,0,0,60.000000000000007,20,400,{"$f":"INDEX('Avionics ID'!A:E,MATCH(B97,'Avionics ID'!E:E,0),3)","v":"Navigation"}]
[{"$f":"INDEX('Avionics ID'!A:E,MATCH(B98,'Avionics ID'!E:E,0),1)","v":748},"Ground Proximity Warning System (GPWS/EGPWS)",0.1,0.06,null,null,10,"Obsolescence",{"$f":"SUBSTITUTE(ADDRESS(1,MATCH(A98,'Pt1-AvionicsComponentCosts'!$A$6:$NC$6,0)+1),\"$1\",\"\")","v":"$ML"},{"$f":"_xlfn.TEXTJOIN(\", \",TRUE,_xlfn.UNIQUE(_xlfn._xlws.SORT(_xlfn._xlws.FILTER('Pt1-AvionicsComponentCosts'!$NF$12:$NF$384,ISNUMBER(INDIRECT(\"'Pt1-AvionicsComponentCosts'!\"&I98&\"$12:\"&I98&\"$384\"))))))","v":"A220, A300, A320, A321, A330, A340, A350, A380, ARJ, ATR, B717, B737, B747, B757, B767, B777, B787, C919, CRJ, EMB Regional, Helo, MC-21, MD-11, Mil Fighter, Mil Transport, Military Jet, NSA, Reg TP, Superjet 100, TP Trainer, Turbine GA"},null,0.06,{"$f":"IF($A$2,INDEX([1]Sheet1!$A$12:$AO$193,MATCH($A98,[1]Sheet1!$A$12:$A$193,0),8),2*$L98)","v":0.12},{"$f":"INDEX([1]Sheet1!$A$12:$AO$193,MATCH($A98,[1]Sheet1!$A$12:$A$193,0),9)*(1+$A$4)","v":0.49280000000000007},{"$f":"INDEX([1]Sheet1!$A$12:$AO$193,MATCH($A98,[1]Sheet1!$A$12:$A$193,0),10)*(1+$A$4)","v":1.4278000000000002},{"$f":"COUNTIF($P$5:P$5,\"Year\")*$I$4","v":5},{"$f":"0%","v":0},0.06,{"$f":"COUNTIF($P$5:S$5,\"Year\")*$I$4","v":10},{"$f":"0%","v":0},0.06,{"$f":"COUNTIF($P$5:V$5,\"Year\")*$I$4","v":15},{"$f":"0%","v":0},0.06,{"$f":"COUNTIF($P$5:Y$5,\"Year\")*$I$4","v":20},{"$f":"0%","v":0},0.06,{"$f":"COUNTIF($P$5:AB$5,\"Year\")*$I$4","v":25},{"$f":"0%","v":0},0.06,{"$f":"COUNTIF($P$5:AE$5,\"Year\")*$I$4","v":30},{"$f":"0%","v":0},0.06,{"$f":"COUNTIF($P$5:AH$5,\"Year\")*$I$4","v":35},{"$f":"0%","v":0},0.06,{"$f":"COUNTIF($P$5:AK$5,\"Year\")*$I$4","v":40},{"$f":"0%","v":0},0.06,null,null,null,null,null,null,null,"",0,0,0,0,0,0,0,0,0,0,0,0,0,60,12,240,{"$f":"INDEX('Avionics ID'!A:E,MATCH(B98,'Avionics ID'!E:E,0),3)","v":"Surveillance"}]
[{"$f":"INDEX('Avionics ID'!A:E,MATCH(B99,'Avionics ID'!E:E,0),1)","v":768},"HF Radio",3.3333333333333333E-2,0.03,null,null,30,"Obsolescence",{"$f":"SUBSTITUTE(ADDRESS(1,MATCH(A99,'Pt1-AvionicsComponentCosts'!$A$6:$NC$6,0)+1),\"$1\",\"\")","v":"$AX"},{"$f":"_xlfn.TEXTJOIN(\", \",TRUE,_xlfn.UNIQUE(_xlfn._xlws.SORT(_xlfn._xlws.FILTER('Pt1-AvionicsComponentCosts'!$NF$12:$NF$384,ISNUMBER(INDIRECT(\"'Pt1-AvionicsComponentCosts'!\"&I99&\"$12:\"&I99&\"$384\"))))))","v":"A300, A320, A330, A340, A350, A380, B747, B767, B777, B787, MD-11"},null,0.03,{"$f":"IF($A$2,INDEX([1]Sheet1!$A$12:$AO$193,MATCH($A99,[1]Sheet1!$A$12:$A$193,0),8),2*$L99)","v":0.06},{"$f":"INDEX([1]Sheet1!$A$12:$AO$193,MATCH($A99,[1]Sheet1!$A$12:$A$193,0),9)*(1+$A$4)","v":0.55110000000000003},{"$f":"INDEX([1]Sheet1!$A$12:$AO$193,MATCH($A99,[1]Sheet1!$A$12:$A$193,0),10)*(1+$A$4)","v":1.4267000000000001},{"$f":"COUNTIF($P$5:P$5,\"Year\")*$I$4","v":5},{"$f":"0%","v":0},0,{"$f":"COUNTIF($P$5:S$5,\"Year\")*$I$4","v":10},{"$f":"0%","v":0},0,{"$f":"COUNTIF($P$5:V$5,\"Year\")*$I$4","v":15},{"$f":"0%","v":0},0.03,{"$f":"COUNTIF($P$5:Y$5,\"Year\")*$I$4","v":20},{"$f":"0%","v":0},0,{"$f":"COUNTIF($P$5:AB$5,\"Year\")*$I$4","v":25},{"$f":"0%","v":0},0,{"$f":"COUNTIF($P$5:AE$5,\"Year\")*$I$4","v":30},{"$f":"0%","v":0},0.03,{"$f":"COUNTIF($P$5:AH$5,\"Year\")*$I$4","v":35},{"$f":"0%","v":0},0,{"$f":"COUNTIF($P$5:AK$5,\"Year\")*$I$4","v":40},{"$f":"0%","v":0},0,null,null,null,null,null,null,null,"",0,0,0,0,0,0,0,0,0,0,0,0,0,12,6,120,{"$f":"INDEX('Avionics ID'!A:E,MATCH(B99,'Avionics ID'!E:E,0),3)","v":"Communications"}]
[{"$f":"INDEX('Avionics ID'!A:E,MATCH(B100,'Avionics ID'!E:E,0),1)","v":840},"HF-9500 High Frequency Communications System",3.3333333333333333E-2,0.03,null,null,30,"Obsolescence",{"$f":"SUBSTITUTE(ADDRESS(1,MATCH(A100,'Pt1-AvionicsComponentCosts'!$A$6:$NC$6,0)+1),\"$1\",\"\")","v":"$AZ"},{"$f":"_xlfn.TEXTJOIN(\", \",TRUE,_xlfn.UNIQUE(_xlfn._xlws.SORT(_xlfn._xlws.FILTER('Pt1-AvionicsComponentCosts'!$NF$12:$NF$384,ISNUMBER(INDIRECT(\"'Pt1-AvionicsComponentCosts'!\"&I100&\"$12:\"&I100&\"$384\"))))))","v":"A330 LMXT, A330 MRTT, Mil Transport, Military Jet, Military TP"},null,0.03,{"$f":"IF($A$2,INDEX([1]Sheet1!$A$12:$AO$193,MATCH($A100,[1]Sheet1!$A$12:$A$193,0),8),2*$L100)","v":0.06},{"$f":"INDEX([1]Sheet1!$A$12:$AO$193,MATCH($A100,[1]Sheet1!$A$12:$A$193,0),9)*(1+$A$4)","v":0.55110000000000003},{"$f":"INDEX([1]Sheet1!$A$12:$AO$193,MATCH($A100,[1]Sheet1!$A$12:$A$193,0),10)*(1+$A$4)","v":1.4267000000000001},{"$f":"COUNTIF($P$5:P$5,\"Year\")*$I$4","v":5},{"$f":"0%","v":0},0,{"$f":"COUNTIF($P$5:S$5,\"Year\")*$I$4","v":10},{"$f":"0%","v":0},0,{"$f":"COUNTIF($P$5:V$5,\"Year\")*$I$4","v":15},{"$f":"0%","v":0},0.03,{"$f":"COUNTIF($P$5:Y$5,\"Year\")*$I$4","v":20},{"$f":"0%","v":0},0,{"$f":"COUNTIF($P$5:AB$5,\"Year\")*$I$4","v":25},{"$f":"0%","v":0},0,{"$f":"COUNTIF($P$5:AE$5,\"Year\")*$I$4","v":30},{"$f":"0%","v":0},0.03,{"$f":"COUNTIF($P$5:AH$5,\"Year\")*$I$4","v":35},{"$f":"0%","v":0},0,{"$f":"COUNTIF($P$5:AK$5,\"Year\")*$I$4","v":40},{"$f":"0%","v":0},0,null,null,null,null,null,null,null,"",0,0,0,0,0,0,0,0,0,0,0,0,0,12,6,120,{"$f":"INDEX('Avionics ID'!A:E,MATCH(B100,'Avionics ID'!E:E,0),3)","v":"Communications"}]
[{"$f":"INDEX('Avionics ID'!A:E,MATCH(B101,'Avionics ID'!E:E,0),1)","v":800},"High speed and fibre optics data/signalling network databuses",0.05,0.03,null,null,20,"Obsolescence",{"$f":"SUBSTITUTE(ADDRESS(1,MATCH(A101,'Pt1-AvionicsComponentCosts'!$A$6:$NC$6,0)+1),\"$1\",\"\")","v":"$DD"},{"$f":"_xlfn.TEXTJOIN(\", \",TRUE,_xlfn.UNIQUE(_xlfn._xlws.SORT(_xlfn._xlws.FILTER('Pt1-AvionicsComponentCosts'!$NF$12:$NF$384,ISNUMBER(INDIRECT(\"'Pt1-AvionicsComponentCosts'!\"&I101&\"$12:\"&I101&\"$384\"))))))","v":"Attack, Stealth"},null,0.03,{"$f":"IF($A$2,INDEX([1]Sheet1!$A$12:$AO$193,MATCH($A101,[1]Sheet1!$A$12:$A$193,0),8),2*$L101)","v":0.06},{"$f":"INDEX([1]Sheet1!$A$12:$AO$193,MATCH($A101,[1]Sheet1!$A$12:$A$193,0),9)*(1+$A$4)","v":0.75130000000000008},{"$f":"INDEX([1]Sheet1!$A$12:$AO$193,MATCH($A101,[1]Sheet1!$A$12:$A$193,0),10)*(1+$A$4)","v":2.1241000000000003},{"$f":"COUNTIF($P$5:P$5,\"Year\")*$I$4","v":5},{"$f":"0%","v":0},0,{"$f":"COUNTIF($P$5:S$5,\"Year\")*$I$4","v":10},{"$f":"0%","v":0},0.03,{"$f":"COUNTIF($P$5:V$5,\"Year\")*$I$4","v":15},{"$f":"0%","v":0},0,{"$f":"COUNTIF($P$5:Y$5,\"Year\")*$I$4","v":20},{"$f":"0%","v":0},0.03,{"$f":"COUNTIF($P$5:AB$5,\"Year\")*$I$4","v":25},{"$f":"0%","v":0},0,{"$f":"COUNTIF($P$5:AE$5,\"Year\")*$I$4","v":30},{"$f":"0%","v":0},0.03,{"$f":"COUNTIF($P$5:AH$5,\"Year\")*$I$4","v":35},{"$f":"0%","v":0},0,{"$f":"COUNTIF($P$5:AK$5,\"Year\")*$I$4","v":40},{"$f":"0%","v":0},0.03,null,null,null,null,null,null,null,"",0,0,0,0,0,0,0,0,0,0,0,0,0,18,6,120,{"$f":"INDEX('Avionics ID'!A:E,MATCH(B101,'Avionics ID'!E:E,0),3)","v":"Data"}]
[{"$f":"INDEX('Avionics ID'!A:E,MATCH(B102,'Avionics ID'!E:E,0),1)","v":781},"HST 2100 ",0.1,0.08,null,null,10,"Obsolescence",{"$f":"SUBSTITUTE(ADDRESS(1,MATCH(A102,'Pt1-AvionicsComponentCosts'!$A$6:$NC$6,0)+1),\"$1\",\"\")","v":"$BB"},{"$f":"_xlfn.TEXTJOIN(\", \",TRUE,_xlfn.UNIQUE(_xlfn._xlws.SORT(_xlfn._xlws.FILTER('Pt1-AvionicsComponentCosts'!$NF$12:$NF$384,ISNUMBER(INDIRECT(\"'Pt1-AvionicsComponentCosts'!\"&I102&\"$12:\"&I102&\"$384\"))))))","v":"A350, B747, B777, B787"},null,0.08,{"$f":"IF($A$2,INDEX([1]Sheet1!$A$12:$AO$193,MATCH($A102,[1]Sheet1!$A$12:$A$193,0),8),2*$L102)","v":0.16},{"$f":"INDEX([1]Sheet1!$A$12:$AO$193,MATCH($A102,[1]Sheet1!$A$12:$A$193,0),9)*(1+$A$4)","v":0.55110000000000003},{"$f":"INDEX([1]Sheet1!$A$12:$AO$193,MATCH($A102,[1]Sheet1!$A$12:$A$193,0),10)*(1+$A$4)","v":1.4267000000000001},{"$f":"COUNTIF($P$5:P$5,\"Year\")*$I$4","v":5},{"$f":"0%","v":0},0.08,{"$f":"COUNTIF($P$5:S$5,\"Year\")*$I$4","v":10},{"$f":"0%","v":0},0.08,{"$f":"COUNTIF($P$5:V$5,\"Year\")*$I$4","v":15},{"$f":"0%","v":0},0.08,{"$f":"COUNTIF($P$5:Y$5,\"Year\")*$I$4","v":20},{"$f":"0%","v":0},0.08,{"$f":"COUNTIF($P$5:AB$5,\"Year\")*$I$4","v":25},{"$f":"0%","v":0},0.08,{"$f":"COUNTIF($P$5:AE$5,\"Year\")*$I$4","v":30},{"$f":"0%","v":0},0.08,{"$f":"COUNTIF($P$5:AH$5,\"Year\")*$I$4","v":35},{"$f":"0%","v":0},0.08,{"$f":"COUNTIF($P$5:AK$5,\"Year\")*$I$4","v":40},{"$f":"0%","v":0},0.08,null,null,null,null,null,null,null,"",0,0,0,0,0,0,0,0,0,0,0,0,0,80,16,320,{"$f":"INDEX('Avionics ID'!A:E,MATCH(B102,'Avionics ID'!E:E,0),3)","v":"Communications"}]
[{"$f":"INDEX('Avionics ID'!A:E,MATCH(B103,'Avionics ID'!E:E,0),1)","v":730},"HUD display system",6.6666666666666666E-2,0.06,"PBN",2030,15,"Technology / regulatory",{"$f":"SUBSTITUTE(ADDRESS(1,MATCH(A103,'Pt1-AvionicsComponentCosts'!$A$6:$NC$6,0)+1),\"$1\",\"\")","v":"$FB"},{"$f":"_xlfn.TEXTJOIN(\", \",TRUE,_xlfn.UNIQUE(_xlfn._xlws.SORT(_xlfn._xlws.FILTER('Pt1-AvionicsComponentCosts'!$NF$12:$NF$384,ISNUMBER(INDIRECT(\"'Pt1-AvionicsComponentCosts'!\"&I103&\"$12:\"&I103&\"$384\"))))))","v":"A220, A320, A321, A330 LMXT, A330 MRTT, A350, ARJ, ATR, B717, B737, B747, B757, B777, B787, C919, CRJ, EMB Regional, MC-21, Mil Fighter, Mil Transport, Military Jet, Military TP, NSA, Reg TP, Superjet 100, Turbine GA"},null,0.06,{"$f":"IF($A$2,INDEX([1]Sheet1!$A$12:$AO$193,MATCH($A103,[1]Sheet1!$A$12:$A$193,0),8),2*$L103)","v":0.12},{"$f":"INDEX([1]Sheet1!$A$12:$AO$193,MATCH($A103,[1]Sheet1!$A$12:$A$193,0),9)*(1+$A$4)","v":0.38830000000000003},{"$f":"INDEX([1]Sheet1!$A$12:$AO$193,MATCH($A103,[1]Sheet1!$A$12:$A$193,0),10)*(1+$A$4)","v":2.0306000000000002},{"$f":"COUNTIF($P$5:P$5,\"Year\")*$I$4","v":5},{"$f":"0%","v":0},0,{"$f":"COUNTIF($P$5:S$5,\"Year\")*$I$4","v":10},{"$f":"0%","v":0},0.06,{"$f":"COUNTIF($P$5:V$5,\"Year\")*$I$4","v":15},{"$f":"0%","v":0},0.06,{"$f":"COUNTIF($P$5:Y$5,\"Year\")*$I$4","v":20},{"$f":"0%","v":0},0.06,{"$f":"COUNTIF($P$5:AB$5,\"Year\")*$I$4","v":25},{"$f":"0%","v":0},0,{"$f":"COUNTIF($P$5:AE$5,\"Year\")*$I$4","v":30},{"$f":"0%","v":0},0.06,{"$f":"COUNTIF($P$5:AH$5,\"Year\")*$I$4","v":35},{"$f":"0%","v":0},0,{"$f":"COUNTIF($P$5:AK$5,\"Year\")*$I$4","v":40},{"$f":"0%","v":0},0.06,null,null,null,null,null,null,null,"PBN",2.0306000000000002,0,0,0,0,0.15,0.25,0.45,0.15,0,0,0,0,142,12,240,{"$f":"INDEX('Avionics ID'!A:E,MATCH(B103,'Avionics ID'!E:E,0),3)","v":"Display"}]
[{"$f":"INDEX('Avionics ID'!A:E,MATCH(B104,'Avionics ID'!E:E,0),1)","v":833},"IMA",6.6666666666666666E-2,0.03,null,null,15,"Obsolescence",{"$f":"SUBSTITUTE(ADDRESS(1,MATCH(A104,'Pt1-AvionicsComponentCosts'!$A$6:$NC$6,0)+1),\"$1\",\"\")","v":"$HL"},{"$f":"_xlfn.TEXTJOIN(\", \",TRUE,_xlfn.UNIQUE(_xlfn._xlws.SORT(_xlfn._xlws.FILTER('Pt1-AvionicsComponentCosts'!$NF$12:$NF$384,ISNUMBER(INDIRECT(\"'Pt1-AvionicsComponentCosts'!\"&I104&\"$12:\"&I104&\"$384\"))))))","v":"A330 LMXT, A330 MRTT, Attack Helo, Helo, Mil Transport, Military Jet, Military TP"},null,0.03,{"$f":"IF($A$2,INDEX([1]Sheet1!$A$12:$AO$193,MATCH($A104,[1]Sheet1!$A$12:$A$193,0),8),2*$L104)","v":0.06},{"$f":"INDEX([1]Sheet1!$A$12:$AO$193,MATCH($A104,[1]Sheet1!$A$12:$A$193,0),9)*(1+$A$4)","v":0.39050000000000001},{"$f":"INDEX([1]Sheet1!$A$12:$AO$193,MATCH($A104,[1]Sheet1!$A$12:$A$193,0),10)*(1+$A$4)","v":1.1561000000000001},{"$f":"COUNTIF($P$5:P$5,\"Year\")*$I$4","v":5},{"$f":"0%","v":0},0,{"$f":"COUNTIF($P$5:S$5,\"Year\")*$I$4","v":10},{"$f":"0%","v":0},0.03,{"$f":"COUNTIF($P$5:V$5,\"Year\")*$I$4","v":15},{"$f":"0%","v":0},0.03,{"$f":"COUNTIF($P$5:Y$5,\"Year\")*$I$4","v":20},{"$f":"0%","v":0},0.03,{"$f":"COUNTIF($P$5:AB$5,\"Year\")*$I$4","v":25},{"$f":"0%","v":0},0,{"$f":"COUNTIF($P$5:AE$5,\"Year\")*$I$4","v":30},{"$f":"0%","v":0},0.03,{"$f":"COUNTIF($P$5:AH$5,\"Year\")*$I$4","v":35},{"$f":"0%","v":0},0,{"$f":"COUNTIF($P$5:AK$5,\"Year\")*$I$4","v":40},{"$f":"0%","v":0},0.03,null,null,null,null,null,null,null,"",0,0,0,0,0,0,0,0,0,0,0,0,0,21,6,120,{"$f":"INDEX('Avionics ID'!A:E,MATCH(B104,'Avionics ID'!E:E,0),3)","v":"IMA"}]
[{"$f":"INDEX('Avionics ID'!A:E,MATCH(B105,'Avionics ID'!E:E,0),1)","v":813},"IN/GPS system ",0.05,0.03,null,null,20,"Obsolescence",{"$f":"SUBSTITUTE(ADDRESS(1,MATCH(A105,'Pt1-AvionicsComponentCosts'!$A$6:$NC$6,0)+1),\"$1\",\"\")","v":"$JJ"},{"$f":"_xlfn.TEXTJOIN(\", \",TRUE,_xlfn.UNIQUE(_xlfn._xlws.SORT(_xlfn._xlws.FILTER('Pt1-AvionicsComponentCosts'!$NF$12:$NF$384,ISNUMBER(INDIRECT(\"'Pt1-AvionicsComponentCosts'!\"&I105&\"$12:\"&I105&\"$384\"))))))","v":"Mil Fighter"},null,0.03,{"$f":"IF($A$2,INDEX([1]Sheet1!$A$12:$AO$193,MATCH($A105,[1]Sheet1!$A$12:$A$193,0),8),2*$L105)","v":0.06},{"$f":"INDEX([1]Sheet1!$A$12:$AO$193,MATCH($A105,[1]Sheet1!$A$12:$A$193,0),9)*(1+$A$4)","v":0.38940000000000002},{"$f":"INDEX([1]Sheet1!$A$12:$AO$193,MATCH($A105,[1]Sheet1!$A$12:$A$193,0),10)*(1+$A$4)","v":2.0119000000000002},{"$f":"COUNTIF($P$5:P$5,\"Year\")*$I$4","v":5},{"$f":"0%","v":0},0,{"$f":"COUNTIF($P$5:S$5,\"Year\")*$I$4","v":10},{"$f":"0%","v":0},0.03,{"$f":"COUNTIF($P$5:V$5,\"Year\")*$I$4","v":15},{"$f":"0%","v":0},0,{"$f":"COUNTIF($P$5:Y$5,\"Year\")*$I$4","v":20},{"$f":"0%","v":0},0.03,{"$f":"COUNTIF($P$5:AB$5,\"Year\")*$I$4","v":25},{"$f":"0%","v":0},0,{"$f":"COUNTIF($P$5:AE$5,\"Year\")*$I$4","v":30},{"$f":"0%","v":0},0.03,{"$f":"COUNTIF($P$5:AH$5,\"Year\")*$I$4","v":35},{"$f":"0%","v":0},0,{"$f":"COUNTIF($P$5:AK$5,\"Year\")*$I$4","v":40},{"$f":"0%","v":0},0.03,null,null,null,null,null,null,null,"",0,0,0,0,0,0,0,0,0,0,0,0,0,18,6,120,{"$f":"INDEX('Avionics ID'!A:E,MATCH(B105,'Avionics ID'!E:E,0),3)","v":"Navigation"}]
[{"$f":"INDEX('Avionics ID'!A:E,MATCH(B106,'Avionics ID'!E:E,0),1)","v":826},"Inertial Ref Unit (IRU)",0.1,0.03,null,null,10,"Obsolescence",{"$f":"SUBSTITUTE(ADDRESS(1,MATCH(A106,'Pt1-AvionicsComponentCosts'!$A$6:$NC$6,0)+1),\"$1\",\"\")","v":"$JL"},{"$f":"_xlfn.TEXTJOIN(\", \",TRUE,_xlfn.UNIQUE(_xlfn._xlws.SORT(_xlfn._xlws.FILTER('Pt1-AvionicsComponentCosts'!$NF$12:$NF$384,ISNUMBER(INDIRECT(\"'Pt1-AvionicsComponentCosts'!\"&I106&\"$12:\"&I106&\"$384\"))))))","v":"Challenger, Citation, E550, EMB Bizjet, Falcon, Global, Gulfstream, Hawker, Hondajet, Learjet, Nextant 400XT, PC-24, Phenom, Praetor, SF50"},null,0.03,{"$f":"IF($A$2,INDEX([1]Sheet1!$A$12:$AO$193,MATCH($A106,[1]Sheet1!$A$12:$A$193,0),8),2*$L106)","v":0.06},{"$f":"INDEX([1]Sheet1!$A$12:$AO$193,MATCH($A106,[1]Sheet1!$A$12:$A$193,0),9)*(1+$A$4)","v":0.38940000000000002},{"$f":"INDEX([1]Sheet1!$A$12:$AO$193,MATCH($A106,[1]Sheet1!$A$12:$A$193,0),10)*(1+$A$4)","v":2.0119000000000002},{"$f":"COUNTIF($P$5:P$5,\"Year\")*$I$4","v":5},{"$f":"0%","v":0},0.03,{"$f":"COUNTIF($P$5:S$5,\"Year\")*$I$4","v":10},{"$f":"0%","v":0},0.03,{"$f":"COUNTIF($P$5:V$5,\"Year\")*$I$4","v":15},{"$f":"0%","v":0},0.03,{"$f":"COUNTIF($P$5:Y$5,\"Year\")*$I$4","v":20},{"$f":"0%","v":0},0.03,{"$f":"COUNTIF($P$5:AB$5,\"Year\")*$I$4","v":25},{"$f":"0%","v":0},0.03,{"$f":"COUNTIF($P$5:AE$5,\"Year\")*$I$4","v":30},{"$f":"0%","v":0},0.03,{"$f":"COUNTIF($P$5:AH$5,\"Year\")*$I$4","v":35},{"$f":"0%","v":0},0.03,{"$f":"COUNTIF($P$5:AK$5,\"Year\")*$I$4","v":40},{"$f":"0%","v":0},0.03,null,null,null,null,null,null,null,"",0,{"$f":"IF($H106=\"Technology / regulatory\",IF(AW$5=$F106-2,$AW$1,IF(AW$5=$F106-1,$AX$1,IF(AW$5=$F106,$AY$1,IF(AW$5=$F106+1,$AZ$1,0)))),0)","v":0},0,0,0,0,0,0,0,0,0,0,0,30,6,120,{"$f":"INDEX('Avionics ID'!A:E,MATCH(B106,'Avionics ID'!E:E,0),3)","v":"Navigation"}]
[{"$f":"INDEX('Avionics ID'!A:E,MATCH(B107,'Avionics ID'!E:E,0),1)","v":834},"Inertial Reference System",0.1,0.03,null,null,10,"Obsolescence",{"$f":"SUBSTITUTE(ADDRESS(1,MATCH(A107,'Pt1-AvionicsComponentCosts'!$A$6:$NC$6,0)+1),\"$1\",\"\")","v":"$JN"},{"$f":"_xlfn.TEXTJOIN(\", \",TRUE,_xlfn.UNIQUE(_xlfn._xlws.SORT(_xlfn._xlws.FILTER('Pt1-AvionicsComponentCosts'!$NF$12:$NF$384,ISNUMBER(INDIRECT(\"'Pt1-AvionicsComponentCosts'!\"&I107&\"$12:\"&I107&\"$384\"))))))","v":"A330 LMXT, A330 MRTT, Mil Transport, Military Jet, Military TP"},null,0.03,{"$f":"IF($A$2,INDEX([1]Sheet1!$A$12:$AO$193,MATCH($A107,[1]Sheet1!$A$12:$A$193,0),8),2*$L107)","v":0.06},{"$f":"INDEX([1]Sheet1!$A$12:$AO$193,MATCH($A107,[1]Sheet1!$A$12:$A$193,0),9)*(1+$A$4)","v":0.38940000000000002},{"$f":"INDEX([1]Sheet1!$A$12:$AO$193,MATCH($A107,[1]Sheet1!$A$12:$A$193,0),10)*(1+$A$4)","v":2.0119000000000002},{"$f":"COUNTIF($P$5:P$5,\"Year\")*$I$4","v":5},{"$f":"0%","v":0},0.03,{"$f":"COUNTIF($P$5:S$5,\"Year\")*$I$4","v":10},{"$f":"0%","v":0},0.03,{"$f":"COUNTIF($P$5:V$5,\"Year\")*$I$4","v":15},{"$f":"0%","v":0},0.03,{"$f":"COUNTIF($P$5:Y$5,\"Year\")*$I$4","v":20},{"$f":"0%","v":0},0.03,{"$f":"COUNTIF($P$5:AB$5,\"Year\")*$I$4","v":25},{"$f":"0%","v":0},0.03,{"$f":"COUNTIF($P$5:AE$5,\"Year\")*$I$4","v":30},{"$f":"0%","v":0},0.03,{"$f":"COUNTIF($P$5:AH$5,\"Year\")*$I$4","v":35},{"$f":"0%","v":0},0.03,{"$f":"COUNTIF($P$5:AK$5,\"Year\")*$I$4","v":40},{"$f":"0%","v":0},0.03,null,null,null,null,null,null,null,"",0,0,0,0,0,0,0,0,0,0,0,0,0,30,6,120,{"$f":"INDEX('Avionics ID'!A:E,MATCH(B107,'Avionics ID'!E:E,0),3)","v":"Navigation"}]
[{"$f":"INDEX('Avionics ID'!A:E,MATCH(B108,'Avionics ID'!E:E,0),1)","v":857},"Infra-red countermeasure",0.05,0.06,null,null,20,"Obsolescence",{"$f":"SUBSTITUTE(ADDRESS(1,MATCH(A108,'Pt1-AvionicsComponentCosts'!$A$6:$NC$6,0)+1),\"$1\",\"\")","v":"$IF"},{"$f":"_xlfn.TEXTJOIN(\", \",TRUE,_xlfn.UNIQUE(_xlfn._xlws.SORT(_xlfn._xlws.FILTER('Pt1-AvionicsComponentCosts'!$NF$12:$NF$384,ISNUMBER(INDIRECT(\"'Pt1-AvionicsComponentCosts'!\"&I108&\"$12:\"&I108&\"$384\"))))))","v":"Attack Helo, Helo"},null,0.06,{"$f":"IF($A$2,INDEX([1]Sheet1!$A$12:$AO$193,MATCH($A108,[1]Sheet1!$A$12:$A$193,0),8),2*$L108)","v":0.12},{"$f":"INDEX([1]Sheet1!$A$12:$AO$193,MATCH($A108,[1]Sheet1!$A$12:$A$193,0),9)*(1+$A$4)","v":0.39600000000000002},{"$f":"INDEX([1]Sheet1!$A$12:$AO$193,MATCH($A108,[1]Sheet1!$A$12:$A$193,0),10)*(1+$A$4)","v":2.0570000000000004},{"$f":"COUNTIF($P$5:P$5,\"Year\")*$I$4","v":5},{"$f":"0%","v":0},0,{"$f":"COUNTIF($P$5:S$5,\"Year\")*$I$4","v":10},{"$f":"0%","v":0},0.06,{"$f":"COUNTIF($P$5:V$5,\"Year\")*$I$4","v":15},{"$f":"0%","v":0},0,{"$f":"COUNTIF($P$5:Y$5,\"Year\")*$I$4","v":20},{"$f":"0%","v":0},0.06,{"$f":"COUNTIF($P$5:AB$5,\"Year\")*$I$4","v":25},{"$f":"0%","v":0},0,{"$f":"COUNTIF($P$5:AE$5,\"Year\")*$I$4","v":30},{"$f":"0%","v":0},0.06,{"$f":"COUNTIF($P$5:AH$5,\"Year\")*$I$4","v":35},{"$f":"0%","v":0},0,{"$f":"COUNTIF($P$5:AK$5,\"Year\")*$I$4","v":40},{"$f":"0%","v":0},0.06,null,null,null,null,null,null,null,"",0,0,0,0,0,0,0,0,0,0,0,0,0,36,12,240,{"$f":"INDEX('Avionics ID'!A:E,MATCH(B108,'Avionics ID'!E:E,0),3)","v":"Mission"}]
[{"$f":"INDEX('Avionics ID'!A:E,MATCH(B109,'Avionics ID'!E:E,0),1)","v":822},"Integrated Avionics computers (IACs)",6.6666666666666666E-2,0.03,null,null,15,"Obsolescence",{"$f":"SUBSTITUTE(ADDRESS(1,MATCH(A109,'Pt1-AvionicsComponentCosts'!$A$6:$NC$6,0)+1),\"$1\",\"\")","v":"$HN"},{"$f":"_xlfn.TEXTJOIN(\", \",TRUE,_xlfn.UNIQUE(_xlfn._xlws.SORT(_xlfn._xlws.FILTER('Pt1-AvionicsComponentCosts'!$NF$12:$NF$384,ISNUMBER(INDIRECT(\"'Pt1-AvionicsComponentCosts'!\"&I109&\"$12:\"&I109&\"$384\"))))))","v":"Challenger, Citation, E550, EMB Bizjet, Falcon, Global, Gulfstream, Hawker, Hondajet, Learjet, Nextant 400XT, PC-24, Phenom, Praetor, SF50"},null,0.03,{"$f":"IF($A$2,INDEX([1]Sheet1!$A$12:$AO$193,MATCH($A109,[1]Sheet1!$A$12:$A$193,0),8),2*$L109)","v":0.06},{"$f":"INDEX([1]Sheet1!$A$12:$AO$193,MATCH($A109,[1]Sheet1!$A$12:$A$193,0),9)*(1+$A$4)","v":0.39050000000000001},{"$f":"INDEX([1]Sheet1!$A$12:$AO$193,MATCH($A109,[1]Sheet1!$A$12:$A$193,0),10)*(1+$A$4)","v":1.1561000000000001},{"$f":"COUNTIF($P$5:P$5,\"Year\")*$I$4","v":5},{"$f":"0%","v":0},0,{"$f":"COUNTIF($P$5:S$5,\"Year\")*$I$4","v":10},{"$f":"0%","v":0},0.03,{"$f":"COUNTIF($P$5:V$5,\"Year\")*$I$4","v":15},{"$f":"0%","v":0},0.03,{"$f":"COUNTIF($P$5:Y$5,\"Year\")*$I$4","v":20},{"$f":"0%","v":0},0.03,{"$f":"COUNTIF($P$5:AB$5,\"Year\")*$I$4","v":25},{"$f":"0%","v":0},0,{"$f":"COUNTIF($P$5:AE$5,\"Year\")*$I$4","v":30},{"$f":"0%","v":0},0.03,{"$f":"COUNTIF($P$5:AH$5,\"Year\")*$I$4","v":35},{"$f":"0%","v":0},0,{"$f":"COUNTIF($P$5:AK$5,\"Year\")*$I$4","v":40},{"$f":"0%","v":0},0.03,null,null,null,null,null,null,null,"",0,0,0,0,0,0,0,0,0,0,0,0,0,21,6,120,{"$f":"INDEX('Avionics ID'!A:E,MATCH(B109,'Avionics ID'!E:E,0),3)","v":"IMA"}]
[{"$f":"INDEX('Avionics ID'!A:E,MATCH(B110,'Avionics ID'!E:E,0),1)","v":785},"Integrated Core Processor (ICP)",0.05,0.06,null,null,20,"Obsolescence",{"$f":"SUBSTITUTE(ADDRESS(1,MATCH(A110,'Pt1-AvionicsComponentCosts'!$A$6:$NC$6,0)+1),\"$1\",\"\")","v":"$HP"},{"$f":"_xlfn.TEXTJOIN(\", \",TRUE,_xlfn.UNIQUE(_xlfn._xlws.SORT(_xlfn._xlws.FILTER('Pt1-AvionicsComponentCosts'!$NF$12:$NF$384,ISNUMBER(INDIRECT(\"'Pt1-AvionicsComponentCosts'!\"&I110&\"$12:\"&I110&\"$384\"))))))","v":"Attack, Stealth"},null,0.06,{"$f":"IF($A$2,INDEX([1]Sheet1!$A$12:$AO$193,MATCH($A110,[1]Sheet1!$A$12:$A$193,0),8),2*$L110)","v":0.12},{"$f":"INDEX([1]Sheet1!$A$12:$AO$193,MATCH($A110,[1]Sheet1!$A$12:$A$193,0),9)*(1+$A$4)","v":0.39050000000000001},{"$f":"INDEX([1]Sheet1!$A$12:$AO$193,MATCH($A110,[1]Sheet1!$A$12:$A$193,0),10)*(1+$A$4)","v":1.1561000000000001},{"$f":"COUNTIF($P$5:P$5,\"Year\")*$I$4","v":5},{"$f":"0%","v":0},0,{"$f":"COUNTIF($P$5:S$5,\"Year\")*$I$4","v":10},{"$f":"0%","v":0},0.06,{"$f":"COUNTIF($P$5:V$5,\"Year\")*$I$4","v":15},{"$f":"0%","v":0},0,{"$f":"COUNTIF($P$5:Y$5,\"Year\")*$I$4","v":20},{"$f":"0%","v":0},0.06,{"$f":"COUNTIF($P$5:AB$5,\"Year\")*$I$4","v":25},{"$f":"0%","v":0},0,{"$f":"COUNTIF($P$5:AE$5,\"Year\")*$I$4","v":30},{"$f":"0%","v":0},0.06,{"$f":"COUNTIF($P$5:AH$5,\"Year\")*$I$4","v":35},{"$f":"0%","v":0},0,{"$f":"COUNTIF($P$5:AK$5,\"Year\")*$I$4","v":40},{"$f":"0%","v":0},0.06,null,null,null,null,null,null,null,"",0,0,0,0,0,0,0,0,0,0,0,0,0,36,12,240,{"$f":"INDEX('Avionics ID'!A:E,MATCH(B110,'Avionics ID'!E:E,0),3)","v":"IMA"}]
[{"$f":"INDEX('Avionics ID'!A:E,MATCH(B111,'Avionics ID'!E:E,0),1)","v":860},"Integrated data modem",0.05,0.06,null,null,20,"Obsolescence",{"$f":"SUBSTITUTE(ADDRESS(1,MATCH(A111,'Pt1-AvionicsComponentCosts'!$A$6:$NC$6,0)+1),\"$1\",\"\")","v":"$DF"},{"$f":"_xlfn.TEXTJOIN(\", \",TRUE,_xlfn.UNIQUE(_xlfn._xlws.SORT(_xlfn._xlws.FILTER('Pt1-AvionicsComponentCosts'!$NF$12:$NF$384,ISNUMBER(INDIRECT(\"'Pt1-AvionicsComponentCosts'!\"&I111&\"$12:\"&I111&\"$384\"))))))","v":"Attack Helo, Helo"},null,0.06,{"$f":"IF($A$2,INDEX([1]Sheet1!$A$12:$AO$193,MATCH($A111,[1]Sheet1!$A$12:$A$193,0),8),2*$L111)","v":0.12},{"$f":"INDEX([1]Sheet1!$A$12:$AO$193,MATCH($A111,[1]Sheet1!$A$12:$A$193,0),9)*(1+$A$4)","v":0.75130000000000008},{"$f":"INDEX([1]Sheet1!$A$12:$AO$193,MATCH($A111,[1]Sheet1!$A$12:$A$193,0),10)*(1+$A$4)","v":2.1241000000000003},{"$f":"COUNTIF($P$5:P$5,\"Year\")*$I$4","v":5},{"$f":"0%","v":0},0,{"$f":"COUNTIF($P$5:S$5,\"Year\")*$I$4","v":10},{"$f":"0%","v":0},0.06,{"$f":"COUNTIF($P$5:V$5,\"Year\")*$I$4","v":15},{"$f":"0%","v":0},0,{"$f":"COUNTIF($P$5:Y$5,\"Year\")*$I$4","v":20},{"$f":"0%","v":0},0.06,{"$f":"COUNTIF($P$5:AB$5,\"Year\")*$I$4","v":25},{"$f":"0%","v":0},0,{"$f":"COUNTIF($P$5:AE$5,\"Year\")*$I$4","v":30},{"$f":"0%","v":0},0.06,{"$f":"COUNTIF($P$5:AH$5,\"Year\")*$I$4","v":35},{"$f":"0%","v":0},0,{"$f":"COUNTIF($P$5:AK$5,\"Year\")*$I$4","v":40},{"$f":"0%","v":0},0.06,null,null,null,null,null,null,null,"",0,0,0,0,0,0,0,0,0,0,0,0,0,36,12,240,{"$f":"INDEX('Avionics ID'!A:E,MATCH(B111,'Avionics ID'!E:E,0),3)","v":"Data"}]
[{"$f":"INDEX('Avionics ID'!A:E,MATCH(B112,'Avionics ID'!E:E,0),1)","v":810},"Integrated Electronic Standby System",0.1,0.06,null,null,10,"Obsolescence",{"$f":"SUBSTITUTE(ADDRESS(1,MATCH(A112,'Pt1-AvionicsComponentCosts'!$A$6:$NC$6,0)+1),\"$1\",\"\")","v":"$FD"},{"$f":"_xlfn.TEXTJOIN(\", \",TRUE,_xlfn.UNIQUE(_xlfn._xlws.SORT(_xlfn._xlws.FILTER('Pt1-AvionicsComponentCosts'!$NF$12:$NF$384,ISNUMBER(INDIRECT(\"'Pt1-AvionicsComponentCosts'!\"&I112&\"$12:\"&I112&\"$384\"))))))","v":"ARJ, CRJ, EMB Regional, Reg TP, Superjet 100, Turbine GA"},null,0.06,{"$f":"IF($A$2,INDEX([1]Sheet1!$A$12:$AO$193,MATCH($A112,[1]Sheet1!$A$12:$A$193,0),8),2*$L112)","v":0.12},{"$f":"INDEX([1]Sheet1!$A$12:$AO$193,MATCH($A112,[1]Sheet1!$A$12:$A$193,0),9)*(1+$A$4)","v":0.38830000000000003},{"$f":"INDEX([1]Sheet1!$A$12:$AO$193,MATCH($A112,[1]Sheet1!$A$12:$A$193,0),10)*(1+$A$4)","v":2.0306000000000002},{"$f":"COUNTIF($P$5:P$5,\"Year\")*$I$4","v":5},{"$f":"0%","v":0},0.06,{"$f":"COUNTIF($P$5:S$5,\"Year\")*$I$4","v":10},{"$f":"0%","v":0},0.06,{"$f":"COUNTIF($P$5:V$5,\"Year\")*$I$4","v":15},{"$f":"0%","v":0},0.06,{"$f":"COUNTIF($P$5:Y$5,\"Year\")*$I$4","v":20},{"$f":"0%","v":0},0.06,{"$f":"COUNTIF($P$5:AB$5,\"Year\")*$I$4","v":25},{"$f":"0%","v":0},0.06,{"$f":"COUNTIF($P$5:AE$5,\"Year\")*$I$4","v":30},{"$f":"0%","v":0},0.06,{"$f":"COUNTIF($P$5:AH$5,\"Year\")*$I$4","v":35},{"$f":"0%","v":0},0.06,{"$f":"COUNTIF($P$5:AK$5,\"Year\")*$I$4","v":40},{"$f":"0%","v":0},0.06,null,null,null,null,null,null,null,"",0,0,0,0,0,0,0,0,0,0,0,0,0,60,12,240,{"$f":"INDEX('Avionics ID'!A:E,MATCH(B112,'Avionics ID'!E:E,0),3)","v":"Display"}]
[{"$f":"INDEX('Avionics ID'!A:E,MATCH(B113,'Avionics ID'!E:E,0),1)","v":735},"Integrated Standby Instrument System",0.1,0.06,null,null,10,"Obsolescence",{"$f":"SUBSTITUTE(ADDRESS(1,MATCH(A113,'Pt1-AvionicsComponentCosts'!$A$6:$NC$6,0)+1),\"$1\",\"\")","v":"$FF"},{"$f":"_xlfn.TEXTJOIN(\", \",TRUE,_xlfn.UNIQUE(_xlfn._xlws.SORT(_xlfn._xlws.FILTER('Pt1-AvionicsComponentCosts'!$NF$12:$NF$384,ISNUMBER(INDIRECT(\"'Pt1-AvionicsComponentCosts'!\"&I113&\"$12:\"&I113&\"$384\"))))))","v":"A220, A300, A320, A321, A330, A340, A350, A380, ATR, Attack Helo, B717, B737, B747, B757, B767, B777, B787, C919, EMB Regional, Helo, MC-21, MD-11, Mil Transport, Military Jet, NSA"},null,0.06,{"$f":"IF($A$2,INDEX([1]Sheet1!$A$12:$AO$193,MATCH($A113,[1]Sheet1!$A$12:$A$193,0),8),2*$L113)","v":0.12},{"$f":"INDEX([1]Sheet1!$A$12:$AO$193,MATCH($A113,[1]Sheet1!$A$12:$A$193,0),9)*(1+$A$4)","v":0.38830000000000003},{"$f":"INDEX([1]Sheet1!$A$12:$AO$193,MATCH($A113,[1]Sheet1!$A$12:$A$193,0),10)*(1+$A$4)","v":2.0306000000000002},{"$f":"COUNTIF($P$5:P$5,\"Year\")*$I$4","v":5},{"$f":"0%","v":0},0.06,{"$f":"COUNTIF($P$5:S$5,\"Year\")*$I$4","v":10},{"$f":"0%","v":0},0.06,{"$f":"COUNTIF($P$5:V$5,\"Year\")*$I$4","v":15},{"$f":"0%","v":0},0.06,{"$f":"COUNTIF($P$5:Y$5,\"Year\")*$I$4","v":20},{"$f":"0%","v":0},0.06,{"$f":"COUNTIF($P$5:AB$5,\"Year\")*$I$4","v":25},{"$f":"0%","v":0},0.06,{"$f":"COUNTIF($P$5:AE$5,\"Year\")*$I$4","v":30},{"$f":"0%","v":0},0.06,{"$f":"COUNTIF($P$5:AH$5,\"Year\")*$I$4","v":35},{"$f":"0%","v":0},0.06,{"$f":"COUNTIF($P$5:AK$5,\"Year\")*$I$4","v":40},{"$f":"0%","v":0},0.06,null,null,null,null,null,null,null,"",0,0,0,0,0,0,0,0,0,0,0,0,0,60,12,240,{"$f":"INDEX('Avionics ID'!A:E,MATCH(B113,'Avionics ID'!E:E,0),3)","v":"Display"}]
[{"$f":"INDEX('Avionics ID'!A:E,MATCH(B114,'Avionics ID'!E:E,0),1)","v":853},"Interface maintenance data recorders",0.1,0.03,null,null,10,"Obsolescence",{"$f":"SUBSTITUTE(ADDRESS(1,MATCH(A114,'Pt1-AvionicsComponentCosts'!$A$6:$NC$6,0)+1),\"$1\",\"\")","v":"$DH"},{"$f":"_xlfn.TEXTJOIN(\", \",TRUE,_xlfn.UNIQUE(_xlfn._xlws.SORT(_xlfn._xlws.FILTER('Pt1-AvionicsComponentCosts'!$NF$12:$NF$384,ISNUMBER(INDIRECT(\"'Pt1-AvionicsComponentCosts'!\"&I114&\"$12:\"&I114&\"$384\"))))))","v":"Attack Helo, Helo"},null,0.03,{"$f":"IF($A$2,INDEX([1]Sheet1!$A$12:$AO$193,MATCH($A114,[1]Sheet1!$A$12:$A$193,0),8),2*$L114)","v":0.06},{"$f":"INDEX([1]Sheet1!$A$12:$AO$193,MATCH($A114,[1]Sheet1!$A$12:$A$193,0),9)*(1+$A$4)","v":0.75130000000000008},{"$f":"INDEX([1]Sheet1!$A$12:$AO$193,MATCH($A114,[1]Sheet1!$A$12:$A$193,0),10)*(1+$A$4)","v":2.1241000000000003},{"$f":"COUNTIF($P$5:P$5,\"Year\")*$I$4","v":5},{"$f":"0%","v":0},0.03,{"$f":"COUNTIF($P$5:S$5,\"Year\")*$I$4","v":10},{"$f":"0%","v":0},0.03,{"$f":"COUNTIF($P$5:V$5,\"Year\")*$I$4","v":15},{"$f":"0%","v":0},0.03,{"$f":"COUNTIF($P$5:Y$5,\"Year\")*$I$4","v":20},{"$f":"0%","v":0},0.03,{"$f":"COUNTIF($P$5:AB$5,\"Year\")*$I$4","v":25},{"$f":"0%","v":0},0.03,{"$f":"COUNTIF($P$5:AE$5,\"Year\")*$I$4","v":30},{"$f":"0%","v":0},0.03,{"$f":"COUNTIF($P$5:AH$5,\"Year\")*$I$4","v":35},{"$f":"0%","v":0},0.03,{"$f":"COUNTIF($P$5:AK$5,\"Year\")*$I$4","v":40},{"$f":"0%","v":0},0.03,null,null,null,null,null,null,null,"",0,0,0,0,0,0,0,0,0,0,0,0,0,30,6,120,{"$f":"INDEX('Avionics ID'!A:E,MATCH(B114,'Avionics ID'!E:E,0),3)","v":"Data"}]
[{"$f":"INDEX('Avionics ID'!A:E,MATCH(B115,'Avionics ID'!E:E,0),1)","v":778},"Intergated Nav Receivers (INRs)",0.1,0.03,null,null,10,"Obsolescence",{"$f":"SUBSTITUTE(ADDRESS(1,MATCH(A115,'Pt1-AvionicsComponentCosts'!$A$6:$NC$6,0)+1),\"$1\",\"\")","v":"$JP"},{"$f":"_xlfn.TEXTJOIN(\", \",TRUE,_xlfn.UNIQUE(_xlfn._xlws.SORT(_xlfn._xlws.FILTER('Pt1-AvionicsComponentCosts'!$NF$12:$NF$384,ISNUMBER(INDIRECT(\"'Pt1-AvionicsComponentCosts'!\"&I115&\"$12:\"&I115&\"$384\"))))))","v":"A350, B747, B777, B787"},null,0.03,{"$f":"IF($A$2,INDEX([1]Sheet1!$A$12:$AO$193,MATCH($A115,[1]Sheet1!$A$12:$A$193,0),8),2*$L115)","v":0.06},{"$f":"INDEX([1]Sheet1!$A$12:$AO$193,MATCH($A115,[1]Sheet1!$A$12:$A$193,0),9)*(1+$A$4)","v":0.38940000000000002},{"$f":"INDEX([1]Sheet1!$A$12:$AO$193,MATCH($A115,[1]Sheet1!$A$12:$A$193,0),10)*(1+$A$4)","v":2.0119000000000002},{"$f":"COUNTIF($P$5:P$5,\"Year\")*$I$4","v":5},{"$f":"0%","v":0},0.03,{"$f":"COUNTIF($P$5:S$5,\"Year\")*$I$4","v":10},{"$f":"0%","v":0},0.03,{"$f":"COUNTIF($P$5:V$5,\"Year\")*$I$4","v":15},{"$f":"0%","v":0},0.03,{"$f":"COUNTIF($P$5:Y$5,\"Year\")*$I$4","v":20},{"$f":"0%","v":0},0.03,{"$f":"COUNTIF($P$5:AB$5,\"Year\")*$I$4","v":25},{"$f":"0%","v":0},0.03,{"$f":"COUNTIF($P$5:AE$5,\"Year\")*$I$4","v":30},{"$f":"0%","v":0},0.03,{"$f":"COUNTIF($P$5:AH$5,\"Year\")*$I$4","v":35},{"$f":"0%","v":0},0.03,{"$f":"COUNTIF($P$5:AK$5,\"Year\")*$I$4","v":40},{"$f":"0%","v":0},0.03,null,null,null,null,null,null,null,"",0,0,0,0,0,0,0,0,0,0,0,0,0,30,6,120,{"$f":"INDEX('Avionics ID'!A:E,MATCH(B115,'Avionics ID'!E:E,0),3)","v":"Navigation"}]
[{"$f":"INDEX('Avionics ID'!A:E,MATCH(B116,'Avionics ID'!E:E,0),1)","v":803},"IRS Gyroscope System",0.1,0.06,null,null,10,"Obsolescence",{"$f":"SUBSTITUTE(ADDRESS(1,MATCH(A116,'Pt1-AvionicsComponentCosts'!$A$6:$NC$6,0)+1),\"$1\",\"\")","v":"$JR"},{"$f":"_xlfn.TEXTJOIN(\", \",TRUE,_xlfn.UNIQUE(_xlfn._xlws.SORT(_xlfn._xlws.FILTER('Pt1-AvionicsComponentCosts'!$NF$12:$NF$384,ISNUMBER(INDIRECT(\"'Pt1-AvionicsComponentCosts'!\"&I116&\"$12:\"&I116&\"$384\"))))))","v":"ARJ, CRJ, EMB Regional, Reg TP, Superjet 100, Turbine GA"},null,0.06,{"$f":"IF($A$2,INDEX([1]Sheet1!$A$12:$AO$193,MATCH($A116,[1]Sheet1!$A$12:$A$193,0),8),2*$L116)","v":0.12},{"$f":"INDEX([1]Sheet1!$A$12:$AO$193,MATCH($A116,[1]Sheet1!$A$12:$A$193,0),9)*(1+$A$4)","v":0.38940000000000002},{"$f":"INDEX([1]Sheet1!$A$12:$AO$193,MATCH($A116,[1]Sheet1!$A$12:$A$193,0),10)*(1+$A$4)","v":2.0119000000000002},{"$f":"COUNTIF($P$5:P$5,\"Year\")*$I$4","v":5},{"$f":"0%","v":0},0.06,{"$f":"COUNTIF($P$5:S$5,\"Year\")*$I$4","v":10},{"$f":"0%","v":0},0.06,{"$f":"COUNTIF($P$5:V$5,\"Year\")*$I$4","v":15},{"$f":"0%","v":0},0.06,{"$f":"COUNTIF($P$5:Y$5,\"Year\")*$I$4","v":20},{"$f":"0%","v":0},0.06,{"$f":"COUNTIF($P$5:AB$5,\"Year\")*$I$4","v":25},{"$f":"0%","v":0},0.06,{"$f":"COUNTIF($P$5:AE$5,\"Year\")*$I$4","v":30},{"$f":"0%","v":0},0.06,{"$f":"COUNTIF($P$5:AH$5,\"Year\")*$I$4","v":35},{"$f":"0%","v":0},0.06,{"$f":"COUNTIF($P$5:AK$5,\"Year\")*$I$4","v":40},{"$f":"0%","v":0},0.06,null,null,null,null,null,null,null,"",0,{"$f":"IF($H116=\"Technology / regulatory\",IF(AW$5=$F116-2,$AW$1,IF(AW$5=$F116-1,$AX$1,IF(AW$5=$F116,$AY$1,IF(AW$5=$F116+1,$AZ$1,0)))),0)","v":0},0,0,0,0,0,0,0,0,0,0,0,60,12,240,{"$f":"INDEX('Avionics ID'!A:E,MATCH(B116,'Avionics ID'!E:E,0),3)","v":"Navigation"}]
[{"$f":"INDEX('Avionics ID'!A:E,MATCH(B117,'Avionics ID'!E:E,0),1)","v":776},"IRU package",0.1,0.03,null,null,10,"Obsolescence",{"$f":"SUBSTITUTE(ADDRESS(1,MATCH(A117,'Pt1-AvionicsComponentCosts'!$A$6:$NC$6,0)+1),\"$1\",\"\")","v":"$JT"},{"$f":"_xlfn.TEXTJOIN(\", \",TRUE,_xlfn.UNIQUE(_xlfn._xlws.SORT(_xlfn._xlws.FILTER('Pt1-AvionicsComponentCosts'!$NF$12:$NF$384,ISNUMBER(INDIRECT(\"'Pt1-AvionicsComponentCosts'!\"&I117&\"$12:\"&I117&\"$384\"))))))","v":"A350, B747, B777, B787"},null,0.03,{"$f":"IF($A$2,INDEX([1]Sheet1!$A$12:$AO$193,MATCH($A117,[1]Sheet1!$A$12:$A$193,0),8),2*$L117)","v":0.06},{"$f":"INDEX([1]Sheet1!$A$12:$AO$193,MATCH($A117,[1]Sheet1!$A$12:$A$193,0),9)*(1+$A$4)","v":0.38940000000000002},{"$f":"INDEX([1]Sheet1!$A$12:$AO$193,MATCH($A117,[1]Sheet1!$A$12:$A$193,0),10)*(1+$A$4)","v":2.0119000000000002},{"$f":"COUNTIF($P$5:P$5,\"Year\")*$I$4","v":5},{"$f":"0%","v":0},0.03,{"$f":"COUNTIF($P$5:S$5,\"Year\")*$I$4","v":10},{"$f":"0%","v":0},0.03,{"$f":"COUNTIF($P$5:V$5,\"Year\")*$I$4","v":15},{"$f":"0%","v":0},0.03,{"$f":"COUNTIF($P$5:Y$5,\"Year\")*$I$4","v":20},{"$f":"0%","v":0},0.03,{"$f":"COUNTIF($P$5:AB$5,\"Year\")*$I$4","v":25},{"$f":"0%","v":0},0.03,{"$f":"COUNTIF($P$5:AE$5,\"Year\")*$I$4","v":30},{"$f":"0%","v":0},0.03,{"$f":"COUNTIF($P$5:AH$5,\"Year\")*$I$4","v":35},{"$f":"0%","v":0},0.03,{"$f":"COUNTIF($P$5:AK$5,\"Year\")*$I$4","v":40},{"$f":"0%","v":0},0.03,null,null,null,null,null,null,null,"",0,0,0,0,0,0,0,0,0,0,0,0,0,30,6,120,{"$f":"INDEX('Avionics ID'!A:E,MATCH(B117,'Avionics ID'!E:E,0),3)","v":"Navigation"}]
[{"$f":"INDEX('Avionics ID'!A:E,MATCH(B118,'Avionics ID'!E:E,0),1)","v":849},"Joint tactical radio system (JTRS),",0.05,0.06,null,null,20,"Obsolescence",{"$f":"SUBSTITUTE(ADDRESS(1,MATCH(A118,'Pt1-AvionicsComponentCosts'!$A$6:$NC$6,0)+1),\"$1\",\"\")","v":"$BD"},{"$f":"_xlfn.TEXTJOIN(\", \",TRUE,_xlfn.UNIQUE(_xlfn._xlws.SORT(_xlfn._xlws.FILTER('Pt1-AvionicsComponentCosts'!$NF$12:$NF$384,ISNUMBER(INDIRECT(\"'Pt1-AvionicsComponentCosts'!\"&I118&\"$12:\"&I118&\"$384\"))))))","v":"Attack Helo, Helo"},null,0.06,{"$f":"IF($A$2,INDEX([1]Sheet1!$A$12:$AO$193,MATCH($A118,[1]Sheet1!$A$12:$A$193,0),8),2*$L118)","v":0.12},{"$f":"INDEX([1]Sheet1!$A$12:$AO$193,MATCH($A118,[1]Sheet1!$A$12:$A$193,0),9)*(1+$A$4)","v":0.55110000000000003},{"$f":"INDEX([1]Sheet1!$A$12:$AO$193,MATCH($A118,[1]Sheet1!$A$12:$A$193,0),10)*(1+$A$4)","v":1.4267000000000001},{"$f":"COUNTIF($P$5:P$5,\"Year\")*$I$4","v":5},{"$f":"0%","v":0},0,{"$f":"COUNTIF($P$5:S$5,\"Year\")*$I$4","v":10},{"$f":"0%","v":0},0.06,{"$f":"COUNTIF($P$5:V$5,\"Year\")*$I$4","v":15},{"$f":"0%","v":0},0,{"$f":"COUNTIF($P$5:Y$5,\"Year\")*$I$4","v":20},{"$f":"0%","v":0},0.06,{"$f":"COUNTIF($P$5:AB$5,\"Year\")*$I$4","v":25},{"$f":"0%","v":0},0,{"$f":"COUNTIF($P$5:AE$5,\"Year\")*$I$4","v":30},{"$f":"0%","v":0},0.06,{"$f":"COUNTIF($P$5:AH$5,\"Year\")*$I$4","v":35},{"$f":"0%","v":0},0,{"$f":"COUNTIF($P$5:AK$5,\"Year\")*$I$4","v":40},{"$f":"0%","v":0},0.06,null,null,null,null,null,null,null,"",0,0,0,0,0,0,0,0,0,0,0,0,0,36,12,240,{"$f":"INDEX('Avionics ID'!A:E,MATCH(B118,'Avionics ID'!E:E,0),3)","v":"Communications"}]
[{"$f":"INDEX('Avionics ID'!A:E,MATCH(B119,'Avionics ID'!E:E,0),1)","v":836},"Keyboard cursor Control Units (KCCU)",0.05,0.08,null,null,20,"Obsolescence",{"$f":"SUBSTITUTE(ADDRESS(1,MATCH(A119,'Pt1-AvionicsComponentCosts'!$A$6:$NC$6,0)+1),\"$1\",\"\")","v":"$FH"},{"$f":"_xlfn.TEXTJOIN(\", \",TRUE,_xlfn.UNIQUE(_xlfn._xlws.SORT(_xlfn._xlws.FILTER('Pt1-AvionicsComponentCosts'!$NF$12:$NF$384,ISNUMBER(INDIRECT(\"'Pt1-AvionicsComponentCosts'!\"&I119&\"$12:\"&I119&\"$384\"))))))","v":"A330 LMXT, A330 MRTT, Mil Transport, Military Jet, Military TP"},null,0.08,{"$f":"IF($A$2,INDEX([1]Sheet1!$A$12:$AO$193,MATCH($A119,[1]Sheet1!$A$12:$A$193,0),8),2*$L119)","v":0.16},{"$f":"INDEX([1]Sheet1!$A$12:$AO$193,MATCH($A119,[1]Sheet1!$A$12:$A$193,0),9)*(1+$A$4)","v":0.38830000000000003},{"$f":"INDEX([1]Sheet1!$A$12:$AO$193,MATCH($A119,[1]Sheet1!$A$12:$A$193,0),10)*(1+$A$4)","v":2.0306000000000002},{"$f":"COUNTIF($P$5:P$5,\"Year\")*$I$4","v":5},{"$f":"0%","v":0},0,{"$f":"COUNTIF($P$5:S$5,\"Year\")*$I$4","v":10},{"$f":"0%","v":0},0.08,{"$f":"COUNTIF($P$5:V$5,\"Year\")*$I$4","v":15},{"$f":"0%","v":0},0,{"$f":"COUNTIF($P$5:Y$5,\"Year\")*$I$4","v":20},{"$f":"0%","v":0},0.08,{"$f":"COUNTIF($P$5:AB$5,\"Year\")*$I$4","v":25},{"$f":"0%","v":0},0,{"$f":"COUNTIF($P$5:AE$5,\"Year\")*$I$4","v":30},{"$f":"0%","v":0},0.08,{"$f":"COUNTIF($P$5:AH$5,\"Year\")*$I$4","v":35},{"$f":"0%","v":0},0,{"$f":"COUNTIF($P$5:AK$5,\"Year\")*$I$4","v":40},{"$f":"0%","v":0},0.08,null,null,null,null,null,null,null,"",0,0,0,0,0,0,0,0,0,0,0,0,0,48,16,320,{"$f":"INDEX('Avionics ID'!A:E,MATCH(B119,'Avionics ID'!E:E,0),3)","v":"Display"}]
[{"$f":"INDEX('Avionics ID'!A:E,MATCH(B120,'Avionics ID'!E:E,0),1)","v":858},"Laser warning receiver",0.05,0.06,null,null,20,"Obsolescence",{"$f":"SUBSTITUTE(ADDRESS(1,MATCH(A120,'Pt1-AvionicsComponentCosts'!$A$6:$NC$6,0)+1),\"$1\",\"\")","v":"$LD"},{"$f":"_xlfn.TEXTJOIN(\", \",TRUE,_xlfn.UNIQUE(_xlfn._xlws.SORT(_xlfn._xlws.FILTER('Pt1-AvionicsComponentCosts'!$NF$12:$NF$384,ISNUMBER(INDIRECT(\"'Pt1-AvionicsComponentCosts'!\"&I120&\"$12:\"&I120&\"$384\"))))))","v":"Attack Helo, Helo"},null,0.06,{"$f":"IF($A$2,INDEX([1]Sheet1!$A$12:$AO$193,MATCH($A120,[1]Sheet1!$A$12:$A$193,0),8),2*$L120)","v":0.12},{"$f":"INDEX([1]Sheet1!$A$12:$AO$193,MATCH($A120,[1]Sheet1!$A$12:$A$193,0),9)*(1+$A$4)","v":0.36850000000000005},{"$f":"INDEX([1]Sheet1!$A$12:$AO$193,MATCH($A120,[1]Sheet1!$A$12:$A$193,0),10)*(1+$A$4)","v":1.8513000000000002},{"$f":"COUNTIF($P$5:P$5,\"Year\")*$I$4","v":5},{"$f":"0%","v":0},0,{"$f":"COUNTIF($P$5:S$5,\"Year\")*$I$4","v":10},{"$f":"0%","v":0},0.06,{"$f":"COUNTIF($P$5:V$5,\"Year\")*$I$4","v":15},{"$f":"0%","v":0},0,{"$f":"COUNTIF($P$5:Y$5,\"Year\")*$I$4","v":20},{"$f":"0%","v":0},0.06,{"$f":"COUNTIF($P$5:AB$5,\"Year\")*$I$4","v":25},{"$f":"0%","v":0},0,{"$f":"COUNTIF($P$5:AE$5,\"Year\")*$I$4","v":30},{"$f":"0%","v":0},0.06,{"$f":"COUNTIF($P$5:AH$5,\"Year\")*$I$4","v":35},{"$f":"0%","v":0},0,{"$f":"COUNTIF($P$5:AK$5,\"Year\")*$I$4","v":40},{"$f":"0%","v":0},0.06,null,null,null,null,null,null,null,"",0,0,0,0,0,0,0,0,0,0,0,0,0,36,12,240,{"$f":"INDEX('Avionics ID'!A:E,MATCH(B120,'Avionics ID'!E:E,0),3)","v":"Sensors"}]
[{"$f":"INDEX('Avionics ID'!A:E,MATCH(B121,'Avionics ID'!E:E,0),1)","v":811},"Main displays",6.6666666666666666E-2,0.06,"PBN",2030,15,"Technology / regulatory",{"$f":"SUBSTITUTE(ADDRESS(1,MATCH(A121,'Pt1-AvionicsComponentCosts'!$A$6:$NC$6,0)+1),\"$1\",\"\")","v":"$FJ"},{"$f":"_xlfn.TEXTJOIN(\", \",TRUE,_xlfn.UNIQUE(_xlfn._xlws.SORT(_xlfn._xlws.FILTER('Pt1-AvionicsComponentCosts'!$NF$12:$NF$384,ISNUMBER(INDIRECT(\"'Pt1-AvionicsComponentCosts'!\"&I121&\"$12:\"&I121&\"$384\"))))))","v":"Challenger, Citation, E550, EMB Bizjet, Falcon, Global, Gulfstream, Hawker, Hondajet, Learjet, Mil Fighter, Nextant 400XT, PC-24, Phenom, Praetor, SF50"},null,0.06,{"$f":"IF($A$2,INDEX([1]Sheet1!$A$12:$AO$193,MATCH($A121,[1]Sheet1!$A$12:$A$193,0),8),2*$L121)","v":0.12},{"$f":"INDEX([1]Sheet1!$A$12:$AO$193,MATCH($A121,[1]Sheet1!$A$12:$A$193,0),9)*(1+$A$4)","v":0.38830000000000003},{"$f":"INDEX([1]Sheet1!$A$12:$AO$193,MATCH($A121,[1]Sheet1!$A$12:$A$193,0),10)*(1+$A$4)","v":2.0306000000000002},{"$f":"COUNTIF($P$5:P$5,\"Year\")*$I$4","v":5},{"$f":"0%","v":0},0,{"$f":"COUNTIF($P$5:S$5,\"Year\")*$I$4","v":10},{"$f":"0%","v":0},0.06,{"$f":"COUNTIF($P$5:V$5,\"Year\")*$I$4","v":15},{"$f":"0%","v":0},0.06,{"$f":"COUNTIF($P$5:Y$5,\"Year\")*$I$4","v":20},{"$f":"0%","v":0},0.06,{"$f":"COUNTIF($P$5:AB$5,\"Year\")*$I$4","v":25},{"$f":"0%","v":0},0,{"$f":"COUNTIF($P$5:AE$5,\"Year\")*$I$4","v":30},{"$f":"0%","v":0},0.06,{"$f":"COUNTIF($P$5:AH$5,\"Year\")*$I$4","v":35},{"$f":"0%","v":0},0,{"$f":"COUNTIF($P$5:AK$5,\"Year\")*$I$4","v":40},{"$f":"0%","v":0},0.06,null,null,null,null,null,null,null,"PBN",2.0306000000000002,0,0,0,0,0.15,0.25,0.45,0.15,0,0,0,0,142,12,240,{"$f":"INDEX('Avionics ID'!A:E,MATCH(B121,'Avionics ID'!E:E,0),3)","v":"Display"}]
[{"$f":"INDEX('Avionics ID'!A:E,MATCH(B122,'Avionics ID'!E:E,0),1)","v":710},"MCDU",0.1,0.08,null,null,10,"Obsolescence",{"$f":"SUBSTITUTE(ADDRESS(1,MATCH(A122,'Pt1-AvionicsComponentCosts'!$A$6:$NC$6,0)+1),\"$1\",\"\")","v":"$GT"},{"$f":"_xlfn.TEXTJOIN(\", \",TRUE,_xlfn.UNIQUE(_xlfn._xlws.SORT(_xlfn._xlws.FILTER('Pt1-AvionicsComponentCosts'!$NF$12:$NF$384,ISNUMBER(INDIRECT(\"'Pt1-AvionicsComponentCosts'!\"&I122&\"$12:\"&I122&\"$384\"))))))","v":"A220, A300, A320, A321, A330, A330 LMXT, A330 MRTT, A340, A350, A380, ARJ, ATR, B717, B737, B747, B757, B767, B777, B787, C919, Challenger, Citation, CRJ, E550, EMB Bizjet, EMB Regional, Falcon, Global, Gulfstream, Hawker, Hondajet, Learjet, MC-21, MD-11, Mil Transport, Military Jet, Military TP, Nextant 400XT, NSA, PC-24, Phenom, Praetor, Reg TP, SF50, Superjet 100, Turbine GA"},null,0.08,{"$f":"IF($A$2,INDEX([1]Sheet1!$A$12:$AO$193,MATCH($A122,[1]Sheet1!$A$12:$A$193,0),8),2*$L122)","v":0.16},{"$f":"INDEX([1]Sheet1!$A$12:$AO$193,MATCH($A122,[1]Sheet1!$A$12:$A$193,0),9)*(1+$A$4)","v":0.40810000000000002},{"$f":"INDEX([1]Sheet1!$A$12:$AO$193,MATCH($A122,[1]Sheet1!$A$12:$A$193,0),10)*(1+$A$4)","v":1.3541000000000003},{"$f":"COUNTIF($P$5:P$5,\"Year\")*$I$4","v":5},{"$f":"0%","v":0},0.08,{"$f":"COUNTIF($P$5:S$5,\"Year\")*$I$4","v":10},{"$f":"0%","v":0},0.08,{"$f":"COUNTIF($P$5:V$5,\"Year\")*$I$4","v":15},{"$f":"0%","v":0},0.08,{"$f":"COUNTIF($P$5:Y$5,\"Year\")*$I$4","v":20},{"$f":"0%","v":0},0.08,{"$f":"COUNTIF($P$5:AB$5,\"Year\")*$I$4","v":25},{"$f":"0%","v":0},0.08,{"$f":"COUNTIF($P$5:AE$5,\"Year\")*$I$4","v":30},{"$f":"0%","v":0},0.08,{"$f":"COUNTIF($P$5:AH$5,\"Year\")*$I$4","v":35},{"$f":"0%","v":0},0.08,{"$f":"COUNTIF($P$5:AK$5,\"Year\")*$I$4","v":40},{"$f":"0%","v":0},0.08,null,null,null,null,null,null,null,"",0,0,0,0,0,0,0,0,0,0,0,0,0,80,16,320,{"$f":"INDEX('Avionics ID'!A:E,MATCH(B122,'Avionics ID'!E:E,0),3)","v":"FMS"}]
[{"$f":"INDEX('Avionics ID'!A:E,MATCH(B123,'Avionics ID'!E:E,0),1)","v":837},"Military Mission Management System",0.1,0.06,null,null,10,"Obsolescence",{"$f":"SUBSTITUTE(ADDRESS(1,MATCH(A123,'Pt1-AvionicsComponentCosts'!$A$6:$NC$6,0)+1),\"$1\",\"\")","v":"$IH"},{"$f":"_xlfn.TEXTJOIN(\", \",TRUE,_xlfn.UNIQUE(_xlfn._xlws.SORT(_xlfn._xlws.FILTER('Pt1-AvionicsComponentCosts'!$NF$12:$NF$384,ISNUMBER(INDIRECT(\"'Pt1-AvionicsComponentCosts'!\"&I123&\"$12:\"&I123&\"$384\"))))))","v":"A330 LMXT, A330 MRTT, Mil Transport, Military Jet, Military TP"},null,0.06,{"$f":"IF($A$2,INDEX([1]Sheet1!$A$12:$AO$193,MATCH($A123,[1]Sheet1!$A$12:$A$193,0),8),2*$L123)","v":0.12},{"$f":"INDEX([1]Sheet1!$A$12:$AO$193,MATCH($A123,[1]Sheet1!$A$12:$A$193,0),9)*(1+$A$4)","v":0.39600000000000002},{"$f":"INDEX([1]Sheet1!$A$12:$AO$193,MATCH($A123,[1]Sheet1!$A$12:$A$193,0),10)*(1+$A$4)","v":2.0570000000000004},{"$f":"COUNTIF($P$5:P$5,\"Year\")*$I$4","v":5},{"$f":"0%","v":0},0.06,{"$f":"COUNTIF($P$5:S$5,\"Year\")*$I$4","v":10},{"$f":"0%","v":0},0.06,{"$f":"COUNTIF($P$5:V$5,\"Year\")*$I$4","v":15},{"$f":"0%","v":0},0.06,{"$f":"COUNTIF($P$5:Y$5,\"Year\")*$I$4","v":20},{"$f":"0%","v":0},0.06,{"$f":"COUNTIF($P$5:AB$5,\"Year\")*$I$4","v":25},{"$f":"0%","v":0},0.06,{"$f":"COUNTIF($P$5:AE$5,\"Year\")*$I$4","v":30},{"$f":"0%","v":0},0.06,{"$f":"COUNTIF($P$5:AH$5,\"Year\")*$I$4","v":35},{"$f":"0%","v":0},0.06,{"$f":"COUNTIF($P$5:AK$5,\"Year\")*$I$4","v":40},{"$f":"0%","v":0},0.06,null,null,null,null,null,null,null,"",0,0,0,0,0,0,0,0,0,0,0,0,0,60,12,240,{"$f":"INDEX('Avionics ID'!A:E,MATCH(B123,'Avionics ID'!E:E,0),3)","v":"Mission"}]
[{"$f":"INDEX('Avionics ID'!A:E,MATCH(B124,'Avionics ID'!E:E,0),1)","v":851},"Millimeter wave fire-control radar, frequency interferometer, fire-and-forget radar",0.05,0.06,null,null,20,"Obsolescence",{"$f":"SUBSTITUTE(ADDRESS(1,MATCH(A124,'Pt1-AvionicsComponentCosts'!$A$6:$NC$6,0)+1),\"$1\",\"\")","v":"$LF"},{"$f":"_xlfn.TEXTJOIN(\", \",TRUE,_xlfn.UNIQUE(_xlfn._xlws.SORT(_xlfn._xlws.FILTER('Pt1-AvionicsComponentCosts'!$NF$12:$NF$384,ISNUMBER(INDIRECT(\"'Pt1-AvionicsComponentCosts'!\"&I124&\"$12:\"&I124&\"$384\"))))))","v":"Attack Helo, Helo"},null,0.06,{"$f":"IF($A$2,INDEX([1]Sheet1!$A$12:$AO$193,MATCH($A124,[1]Sheet1!$A$12:$A$193,0),8),2*$L124)","v":0.12},{"$f":"INDEX([1]Sheet1!$A$12:$AO$193,MATCH($A124,[1]Sheet1!$A$12:$A$193,0),9)*(1+$A$4)","v":0.36850000000000005},{"$f":"INDEX([1]Sheet1!$A$12:$AO$193,MATCH($A124,[1]Sheet1!$A$12:$A$193,0),10)*(1+$A$4)","v":1.8513000000000002},{"$f":"COUNTIF($P$5:P$5,\"Year\")*$I$4","v":5},{"$f":"0%","v":0},0,{"$f":"COUNTIF($P$5:S$5,\"Year\")*$I$4","v":10},{"$f":"0%","v":0},0.06,{"$f":"COUNTIF($P$5:V$5,\"Year\")*$I$4","v":15},{"$f":"0%","v":0},0,{"$f":"COUNTIF($P$5:Y$5,\"Year\")*$I$4","v":20},{"$f":"0%","v":0},0.06,{"$f":"COUNTIF($P$5:AB$5,\"Year\")*$I$4","v":25},{"$f":"0%","v":0},0,{"$f":"COUNTIF($P$5:AE$5,\"Year\")*$I$4","v":30},{"$f":"0%","v":0},0.06,{"$f":"COUNTIF($P$5:AH$5,\"Year\")*$I$4","v":35},{"$f":"0%","v":0},0,{"$f":"COUNTIF($P$5:AK$5,\"Year\")*$I$4","v":40},{"$f":"0%","v":0},0.06,null,null,null,null,null,null,null,"",0,0,0,0,0,0,0,0,0,0,0,0,0,36,12,240,{"$f":"INDEX('Avionics ID'!A:E,MATCH(B124,'Avionics ID'!E:E,0),3)","v":"Sensors"}]
[{"$f":"INDEX('Avionics ID'!A:E,MATCH(B125,'Avionics ID'!E:E,0),1)","v":795},"Mission computers",0.05,0.06,null,null,20,"Obsolescence",{"$f":"SUBSTITUTE(ADDRESS(1,MATCH(A125,'Pt1-AvionicsComponentCosts'!$A$6:$NC$6,0)+1),\"$1\",\"\")","v":"$IJ"},{"$f":"_xlfn.TEXTJOIN(\", \",TRUE,_xlfn.UNIQUE(_xlfn._xlws.SORT(_xlfn._xlws.FILTER('Pt1-AvionicsComponentCosts'!$NF$12:$NF$384,ISNUMBER(INDIRECT(\"'Pt1-AvionicsComponentCosts'!\"&I125&\"$12:\"&I125&\"$384\"))))))","v":"Attack, Attack Helo, Helo, Mil Fighter, Stealth, TP Trainer, UAV"},null,0.06,{"$f":"IF($A$2,INDEX([1]Sheet1!$A$12:$AO$193,MATCH($A125,[1]Sheet1!$A$12:$A$193,0),8),2*$L125)","v":0.12},{"$f":"INDEX([1]Sheet1!$A$12:$AO$193,MATCH($A125,[1]Sheet1!$A$12:$A$193,0),9)*(1+$A$4)","v":0.39600000000000002},{"$f":"INDEX([1]Sheet1!$A$12:$AO$193,MATCH($A125,[1]Sheet1!$A$12:$A$193,0),10)*(1+$A$4)","v":2.0570000000000004},{"$f":"COUNTIF($P$5:P$5,\"Year\")*$I$4","v":5},{"$f":"0%","v":0},0,{"$f":"COUNTIF($P$5:S$5,\"Year\")*$I$4","v":10},{"$f":"0%","v":0},0.06,{"$f":"COUNTIF($P$5:V$5,\"Year\")*$I$4","v":15},{"$f":"0%","v":0},0,{"$f":"COUNTIF($P$5:Y$5,\"Year\")*$I$4","v":20},{"$f":"0%","v":0},0.06,{"$f":"COUNTIF($P$5:AB$5,\"Year\")*$I$4","v":25},{"$f":"0%","v":0},0,{"$f":"COUNTIF($P$5:AE$5,\"Year\")*$I$4","v":30},{"$f":"0%","v":0},0.06,{"$f":"COUNTIF($P$5:AH$5,\"Year\")*$I$4","v":35},{"$f":"0%","v":0},0,{"$f":"COUNTIF($P$5:AK$5,\"Year\")*$I$4","v":40},{"$f":"0%","v":0},0.06,null,null,null,null,null,null,null,"",0,0,0,0,0,0,0,0,0,0,0,0,0,36,12,240,{"$f":"INDEX('Avionics ID'!A:E,MATCH(B125,'Avionics ID'!E:E,0),3)","v":"Mission"}]
[{"$f":"INDEX('Avionics ID'!A:E,MATCH(B126,'Avionics ID'!E:E,0),1)","v":760},"Mode control Panel (Auto/Pilot control)",3.3333333333333333E-2,0.08,null,null,30,"Obsolescence",{"$f":"SUBSTITUTE(ADDRESS(1,MATCH(A126,'Pt1-AvionicsComponentCosts'!$A$6:$NC$6,0)+1),\"$1\",\"\")","v":"$GV"},{"$f":"_xlfn.TEXTJOIN(\", \",TRUE,_xlfn.UNIQUE(_xlfn._xlws.SORT(_xlfn._xlws.FILTER('Pt1-AvionicsComponentCosts'!$NF$12:$NF$384,ISNUMBER(INDIRECT(\"'Pt1-AvionicsComponentCosts'!\"&I126&\"$12:\"&I126&\"$384\"))))))","v":"A300, A320, A330, A340, A350, A380, B747, B767, B777, B787, MD-11"},null,0.08,{"$f":"IF($A$2,INDEX([1]Sheet1!$A$12:$AO$193,MATCH($A126,[1]Sheet1!$A$12:$A$193,0),8),2*$L126)","v":0.16},{"$f":"INDEX([1]Sheet1!$A$12:$AO$193,MATCH($A126,[1]Sheet1!$A$12:$A$193,0),9)*(1+$A$4)","v":0.40810000000000002},{"$f":"INDEX([1]Sheet1!$A$12:$AO$193,MATCH($A126,[1]Sheet1!$A$12:$A$193,0),10)*(1+$A$4)","v":1.3541000000000003},{"$f":"COUNTIF($P$5:P$5,\"Year\")*$I$4","v":5},{"$f":"0%","v":0},0,{"$f":"COUNTIF($P$5:S$5,\"Year\")*$I$4","v":10},{"$f":"0%","v":0},0,{"$f":"COUNTIF($P$5:V$5,\"Year\")*$I$4","v":15},{"$f":"0%","v":0},0.08,{"$f":"COUNTIF($P$5:Y$5,\"Year\")*$I$4","v":20},{"$f":"0%","v":0},0,{"$f":"COUNTIF($P$5:AB$5,\"Year\")*$I$4","v":25},{"$f":"0%","v":0},0,{"$f":"COUNTIF($P$5:AE$5,\"Year\")*$I$4","v":30},{"$f":"0%","v":0},0.08,{"$f":"COUNTIF($P$5:AH$5,\"Year\")*$I$4","v":35},{"$f":"0%","v":0},0,{"$f":"COUNTIF($P$5:AK$5,\"Year\")*$I$4","v":40},{"$f":"0%","v":0},0,null,null,null,null,null,null,null,"",0,{"$f":"IF($H126=\"Technology / regulatory\",IF(AW$5=$F126-2,$AW$1,IF(AW$5=$F126-1,$AX$1,IF(AW$5=$F126,$AY$1,IF(AW$5=$F126+1,$AZ$1,0)))),0)","v":0},0,0,0,0,0,0,0,0,0,0,0,32,16,320,{"$f":"INDEX('Avionics ID'!A:E,MATCH(B126,'Avionics ID'!E:E,0),3)","v":"FMS"}]
[{"$f":"INDEX('Avionics ID'!A:E,MATCH(B127,'Avionics ID'!E:E,0),1)","v":852},"Modernized Target Acquisition Designation Sight (M-TADS) ",0.05,0.06,null,null,20,"Obsolescence",{"$f":"SUBSTITUTE(ADDRESS(1,MATCH(A127,'Pt1-AvionicsComponentCosts'!$A$6:$NC$6,0)+1),\"$1\",\"\")","v":"$IL"},{"$f":"_xlfn.TEXTJOIN(\", \",TRUE,_xlfn.UNIQUE(_xlfn._xlws.SORT(_xlfn._xlws.FILTER('Pt1-AvionicsComponentCosts'!$NF$12:$NF$384,ISNUMBER(INDIRECT(\"'Pt1-AvionicsComponentCosts'!\"&I127&\"$12:\"&I127&\"$384\"))))))","v":"Attack Helo, Helo"},null,0.06,{"$f":"IF($A$2,INDEX([1]Sheet1!$A$12:$AO$193,MATCH($A127,[1]Sheet1!$A$12:$A$193,0),8),2*$L127)","v":0.12},{"$f":"INDEX([1]Sheet1!$A$12:$AO$193,MATCH($A127,[1]Sheet1!$A$12:$A$193,0),9)*(1+$A$4)","v":0.39600000000000002},{"$f":"INDEX([1]Sheet1!$A$12:$AO$193,MATCH($A127,[1]Sheet1!$A$12:$A$193,0),10)*(1+$A$4)","v":2.0570000000000004},{"$f":"COUNTIF($P$5:P$5,\"Year\")*$I$4","v":5},{"$f":"0%","v":0},0,{"$f":"COUNTIF($P$5:S$5,\"Year\")*$I$4","v":10},{"$f":"0%","v":0},0.06,{"$f":"COUNTIF($P$5:V$5,\"Year\")*$I$4","v":15},{"$f":"0%","v":0},0,{"$f":"COUNTIF($P$5:Y$5,\"Year\")*$I$4","v":20},{"$f":"0%","v":0},0.06,{"$f":"COUNTIF($P$5:AB$5,\"Year\")*$I$4","v":25},{"$f":"0%","v":0},0,{"$f":"COUNTIF($P$5:AE$5,\"Year\")*$I$4","v":30},{"$f":"0%","v":0},0.06,{"$f":"COUNTIF($P$5:AH$5,\"Year\")*$I$4","v":35},{"$f":"0%","v":0},0,{"$f":"COUNTIF($P$5:AK$5,\"Year\")*$I$4","v":40},{"$f":"0%","v":0},0.06,null,null,null,null,null,null,null,"",0,0,0,0,0,0,0,0,0,0,0,0,0,36,12,240,{"$f":"INDEX('Avionics ID'!A:E,MATCH(B127,'Avionics ID'!E:E,0),3)","v":"Mission"}]
[{"$f":"INDEX('Avionics ID'!A:E,MATCH(B128,'Avionics ID'!E:E,0),1)","v":805},"Modular Avionic Unit, 1,2 and 3",0.1,0.03,null,null,10,"Obsolescence",{"$f":"SUBSTITUTE(ADDRESS(1,MATCH(A128,'Pt1-AvionicsComponentCosts'!$A$6:$NC$6,0)+1),\"$1\",\"\")","v":"$HR"},{"$f":"_xlfn.TEXTJOIN(\", \",TRUE,_xlfn.UNIQUE(_xlfn._xlws.SORT(_xlfn._xlws.FILTER('Pt1-AvionicsComponentCosts'!$NF$12:$NF$384,ISNUMBER(INDIRECT(\"'Pt1-AvionicsComponentCosts'!\"&I128&\"$12:\"&I128&\"$384\"))))))","v":"ARJ, CRJ, EMB Regional, Reg TP, Superjet 100, Turbine GA"},null,0.03,{"$f":"IF($A$2,INDEX([1]Sheet1!$A$12:$AO$193,MATCH($A128,[1]Sheet1!$A$12:$A$193,0),8),2*$L128)","v":0.06},{"$f":"INDEX([1]Sheet1!$A$12:$AO$193,MATCH($A128,[1]Sheet1!$A$12:$A$193,0),9)*(1+$A$4)","v":0.39050000000000001},{"$f":"INDEX([1]Sheet1!$A$12:$AO$193,MATCH($A128,[1]Sheet1!$A$12:$A$193,0),10)*(1+$A$4)","v":1.1561000000000001},{"$f":"COUNTIF($P$5:P$5,\"Year\")*$I$4","v":5},{"$f":"0%","v":0},0.03,{"$f":"COUNTIF($P$5:S$5,\"Year\")*$I$4","v":10},{"$f":"0%","v":0},0.03,{"$f":"COUNTIF($P$5:V$5,\"Year\")*$I$4","v":15},{"$f":"0%","v":0},0.03,{"$f":"COUNTIF($P$5:Y$5,\"Year\")*$I$4","v":20},{"$f":"0%","v":0},0.03,{"$f":"COUNTIF($P$5:AB$5,\"Year\")*$I$4","v":25},{"$f":"0%","v":0},0.03,{"$f":"COUNTIF($P$5:AE$5,\"Year\")*$I$4","v":30},{"$f":"0%","v":0},0.03,{"$f":"COUNTIF($P$5:AH$5,\"Year\")*$I$4","v":35},{"$f":"0%","v":0},0.03,{"$f":"COUNTIF($P$5:AK$5,\"Year\")*$I$4","v":40},{"$f":"0%","v":0},0.03,null,null,null,null,null,null,null,"",0,0,0,0,0,0,0,0,0,0,0,0,0,30,6,120,{"$f":"INDEX('Avionics ID'!A:E,MATCH(B128,'Avionics ID'!E:E,0),3)","v":"IMA"}]
[{"$f":"INDEX('Avionics ID'!A:E,MATCH(B129,'Avionics ID'!E:E,0),1)","v":844},"Mulit InfraRed alerting System (MIRAS) Sensors",0.1,0.1,null,null,10,"Obsolescence",{"$f":"SUBSTITUTE(ADDRESS(1,MATCH(A129,'Pt1-AvionicsComponentCosts'!$A$6:$NC$6,0)+1),\"$1\",\"\")","v":"$LH"},{"$f":"_xlfn.TEXTJOIN(\", \",TRUE,_xlfn.UNIQUE(_xlfn._xlws.SORT(_xlfn._xlws.FILTER('Pt1-AvionicsComponentCosts'!$NF$12:$NF$384,ISNUMBER(INDIRECT(\"'Pt1-AvionicsComponentCosts'!\"&I129&\"$12:\"&I129&\"$384\"))))))","v":"A330 LMXT, A330 MRTT, Mil Transport, Military Jet, Military TP"},null,0.1,{"$f":"IF($A$2,INDEX([1]Sheet1!$A$12:$AO$193,MATCH($A129,[1]Sheet1!$A$12:$A$193,0),8),2*$L129)","v":0.2},{"$f":"INDEX([1]Sheet1!$A$12:$AO$193,MATCH($A129,[1]Sheet1!$A$12:$A$193,0),9)*(1+$A$4)","v":0.36850000000000005},{"$f":"INDEX([1]Sheet1!$A$12:$AO$193,MATCH($A129,[1]Sheet1!$A$12:$A$193,0),10)*(1+$A$4)","v":1.8513000000000002},{"$f":"COUNTIF($P$5:P$5,\"Year\")*$I$4","v":5},{"$f":"0%","v":0},0.1,{"$f":"COUNTIF($P$5:S$5,\"Year\")*$I$4","v":10},{"$f":"0%","v":0},0.1,{"$f":"COUNTIF($P$5:V$5,\"Year\")*$I$4","v":15},{"$f":"0%","v":0},0.1,{"$f":"COUNTIF($P$5:Y$5,\"Year\")*$I$4","v":20},{"$f":"0%","v":0},0.1,{"$f":"COUNTIF($P$5:AB$5,\"Year\")*$I$4","v":25},{"$f":"0%","v":0},0.1,{"$f":"COUNTIF($P$5:AE$5,\"Year\")*$I$4","v":30},{"$f":"0%","v":0},0.1,{"$f":"COUNTIF($P$5:AH$5,\"Year\")*$I$4","v":35},{"$f":"0%","v":0},0.1,{"$f":"COUNTIF($P$5:AK$5,\"Year\")*$I$4","v":40},{"$f":"0%","v":0},0.1,null,null,null,null,null,null,null,"",0,0,0,0,0,0,0,0,0,0,0,0,0,100,20,400,{"$f":"INDEX('Avionics ID'!A:E,MATCH(B129,'Avionics ID'!E:E,0),3)","v":"Sensors"}]
[{"$f":"INDEX('Avionics ID'!A:E,MATCH(B130,'Avionics ID'!E:E,0),1)","v":794},"Multi function Advanced Data link AAA Array",0.05,0.06,null,null,20,"Obsolescence",{"$f":"SUBSTITUTE(ADDRESS(1,MATCH(A130,'Pt1-AvionicsComponentCosts'!$A$6:$NC$6,0)+1),\"$1\",\"\")","v":"$DJ"},{"$f":"_xlfn.TEXTJOIN(\", \",TRUE,_xlfn.UNIQUE(_xlfn._xlws.SORT(_xlfn._xlws.FILTER('Pt1-AvionicsComponentCosts'!$NF$12:$NF$384,ISNUMBER(INDIRECT(\"'Pt1-AvionicsComponentCosts'!\"&I130&\"$12:\"&I130&\"$384\"))))))","v":"Attack, Stealth"},null,0.06,{"$f":"IF($A$2,INDEX([1]Sheet1!$A$12:$AO$193,MATCH($A130,[1]Sheet1!$A$12:$A$193,0),8),2*$L130)","v":0.12},{"$f":"INDEX([1]Sheet1!$A$12:$AO$193,MATCH($A130,[1]Sheet1!$A$12:$A$193,0),9)*(1+$A$4)","v":0.75130000000000008},{"$f":"INDEX([1]Sheet1!$A$12:$AO$193,MATCH($A130,[1]Sheet1!$A$12:$A$193,0),10)*(1+$A$4)","v":2.1241000000000003},{"$f":"COUNTIF($P$5:P$5,\"Year\")*$I$4","v":5},{"$f":"0%","v":0},0,{"$f":"COUNTIF($P$5:S$5,\"Year\")*$I$4","v":10},{"$f":"0%","v":0},0.06,{"$f":"COUNTIF($P$5:V$5,\"Year\")*$I$4","v":15},{"$f":"0%","v":0},0,{"$f":"COUNTIF($P$5:Y$5,\"Year\")*$I$4","v":20},{"$f":"0%","v":0},0.06,{"$f":"COUNTIF($P$5:AB$5,\"Year\")*$I$4","v":25},{"$f":"0%","v":0},0,{"$f":"COUNTIF($P$5:AE$5,\"Year\")*$I$4","v":30},{"$f":"0%","v":0},0.06,{"$f":"COUNTIF($P$5:AH$5,\"Year\")*$I$4","v":35},{"$f":"0%","v":0},0,{"$f":"COUNTIF($P$5:AK$5,\"Year\")*$I$4","v":40},{"$f":"0%","v":0},0.06,null,null,null,null,null,null,null,"",0,0,0,0,0,0,0,0,0,0,0,0,0,36,12,240,{"$f":"INDEX('Avionics ID'!A:E,MATCH(B130,'Avionics ID'!E:E,0),3)","v":"Data"}]
[{"$f":"INDEX('Avionics ID'!A:E,MATCH(B131,'Avionics ID'!E:E,0),1)","v":765},"Multi Function Display",6.6666666666666666E-2,0.06,"CPDLC",2028,15,"Technology / regulatory",{"$f":"SUBSTITUTE(ADDRESS(1,MATCH(A131,'Pt1-AvionicsComponentCosts'!$A$6:$NC$6,0)+1),\"$1\",\"\")","v":"$FL"},{"$f":"_xlfn.TEXTJOIN(\", \",TRUE,_xlfn.UNIQUE(_xlfn._xlws.SORT(_xlfn._xlws.FILTER('Pt1-AvionicsComponentCosts'!$NF$12:$NF$384,ISNUMBER(INDIRECT(\"'Pt1-AvionicsComponentCosts'!\"&I131&\"$12:\"&I131&\"$384\"))))))","v":"A300, A320, A330, A340, A350, A380, Attack Helo, B747, B767, B777, B787, Challenger, Citation, E550, EMB Bizjet, Falcon, Global, Gulfstream, Hawker, Helo, Hondajet, Learjet, MD-11, Nextant 400XT, PC-24, Phenom, Praetor, SF50, TP Trainer, Turbine GA"},null,0.06,{"$f":"IF($A$2,INDEX([1]Sheet1!$A$12:$AO$193,MATCH($A131,[1]Sheet1!$A$12:$A$193,0),8),2*$L131)","v":0.12},{"$f":"INDEX([1]Sheet1!$A$12:$AO$193,MATCH($A131,[1]Sheet1!$A$12:$A$193,0),9)*(1+$A$4)","v":0.38830000000000003},{"$f":"INDEX([1]Sheet1!$A$12:$AO$193,MATCH($A131,[1]Sheet1!$A$12:$A$193,0),10)*(1+$A$4)","v":2.0306000000000002},{"$f":"COUNTIF($P$5:P$5,\"Year\")*$I$4","v":5},{"$f":"0%","v":0},0,{"$f":"COUNTIF($P$5:S$5,\"Year\")*$I$4","v":10},{"$f":"0%","v":0},0.06,{"$f":"COUNTIF($P$5:V$5,\"Year\")*$I$4","v":15},{"$f":"0%","v":0},0.06,{"$f":"COUNTIF($P$5:Y$5,\"Year\")*$I$4","v":20},{"$f":"0%","v":0},0.06,{"$f":"COUNTIF($P$5:AB$5,\"Year\")*$I$4","v":25},{"$f":"0%","v":0},0,{"$f":"COUNTIF($P$5:AE$5,\"Year\")*$I$4","v":30},{"$f":"0%","v":0},0.06,{"$f":"COUNTIF($P$5:AH$5,\"Year\")*$I$4","v":35},{"$f":"0%","v":0},0,{"$f":"COUNTIF($P$5:AK$5,\"Year\")*$I$4","v":40},{"$f":"0%","v":0},0.06,null,null,null,null,null,null,null,"CPDLC",2.0306000000000002,0,0,0.15,0.25,0.45,0.15,0,0,0,0,0,0,142,12,240,{"$f":"INDEX('Avionics ID'!A:E,MATCH(B131,'Avionics ID'!E:E,0),3)","v":"Display"}]
[{"$f":"INDEX('Avionics ID'!A:E,MATCH(B132,'Avionics ID'!E:E,0),1)","v":814},"Multi mode radar",0.05,0.08,null,null,20,"Obsolescence",{"$f":"SUBSTITUTE(ADDRESS(1,MATCH(A132,'Pt1-AvionicsComponentCosts'!$A$6:$NC$6,0)+1),\"$1\",\"\")","v":"$MN"},{"$f":"_xlfn.TEXTJOIN(\", \",TRUE,_xlfn.UNIQUE(_xlfn._xlws.SORT(_xlfn._xlws.FILTER('Pt1-AvionicsComponentCosts'!$NF$12:$NF$384,ISNUMBER(INDIRECT(\"'Pt1-AvionicsComponentCosts'!\"&I132&\"$12:\"&I132&\"$384\"))))))","v":"A330 LMXT, A330 MRTT, Mil Fighter, Mil Transport, Military Jet, Military TP"},null,0.08,{"$f":"IF($A$2,INDEX([1]Sheet1!$A$12:$AO$193,MATCH($A132,[1]Sheet1!$A$12:$A$193,0),8),2*$L132)","v":0.16},{"$f":"INDEX([1]Sheet1!$A$12:$AO$193,MATCH($A132,[1]Sheet1!$A$12:$A$193,0),9)*(1+$A$4)","v":0.49280000000000007},{"$f":"INDEX([1]Sheet1!$A$12:$AO$193,MATCH($A132,[1]Sheet1!$A$12:$A$193,0),10)*(1+$A$4)","v":1.4278000000000002},{"$f":"COUNTIF($P$5:P$5,\"Year\")*$I$4","v":5},{"$f":"0%","v":0},0,{"$f":"COUNTIF($P$5:S$5,\"Year\")*$I$4","v":10},{"$f":"0%","v":0},0.08,{"$f":"COUNTIF($P$5:V$5,\"Year\")*$I$4","v":15},{"$f":"0%","v":0},0,{"$f":"COUNTIF($P$5:Y$5,\"Year\")*$I$4","v":20},{"$f":"0%","v":0},0.08,{"$f":"COUNTIF($P$5:AB$5,\"Year\")*$I$4","v":25},{"$f":"0%","v":0},0,{"$f":"COUNTIF($P$5:AE$5,\"Year\")*$I$4","v":30},{"$f":"0%","v":0},0.08,{"$f":"COUNTIF($P$5:AH$5,\"Year\")*$I$4","v":35},{"$f":"0%","v":0},0,{"$f":"COUNTIF($P$5:AK$5,\"Year\")*$I$4","v":40},{"$f":"0%","v":0},0.08,null,null,null,null,null,null,null,"",0,0,0,0,0,0,0,0,0,0,0,0,0,48,16,320,{"$f":"INDEX('Avionics ID'!A:E,MATCH(B132,'Avionics ID'!E:E,0),3)","v":"Surveillance"}]
[{"$f":"INDEX('Avionics ID'!A:E,MATCH(B133,'Avionics ID'!E:E,0),1)","v":723},"Multi Mode Receiver (MMR)",0.1,0.06,null,null,10,"Obsolescence",{"$f":"SUBSTITUTE(ADDRESS(1,MATCH(A133,'Pt1-AvionicsComponentCosts'!$A$6:$NC$6,0)+1),\"$1\",\"\")","v":"$JV"},{"$f":"_xlfn.TEXTJOIN(\", \",TRUE,_xlfn.UNIQUE(_xlfn._xlws.SORT(_xlfn._xlws.FILTER('Pt1-AvionicsComponentCosts'!$NF$12:$NF$384,ISNUMBER(INDIRECT(\"'Pt1-AvionicsComponentCosts'!\"&I133&\"$12:\"&I133&\"$384\"))))))","v":"A220, A300, A320, A321, A330, A330 LMXT, A330 MRTT, A340, A350, A380, ATR, B717, B737, B747, B757, B767, B777, B787, C919, EMB Regional, MC-21, MD-11, Mil Transport, Military Jet, Military TP, NSA"},null,0.06,{"$f":"IF($A$2,INDEX([1]Sheet1!$A$12:$AO$193,MATCH($A133,[1]Sheet1!$A$12:$A$193,0),8),2*$L133)","v":0.12},{"$f":"INDEX([1]Sheet1!$A$12:$AO$193,MATCH($A133,[1]Sheet1!$A$12:$A$193,0),9)*(1+$A$4)","v":0.38940000000000002},{"$f":"INDEX([1]Sheet1!$A$12:$AO$193,MATCH($A133,[1]Sheet1!$A$12:$A$193,0),10)*(1+$A$4)","v":2.0119000000000002},{"$f":"COUNTIF($P$5:P$5,\"Year\")*$I$4","v":5},{"$f":"0%","v":0},0.06,{"$f":"COUNTIF($P$5:S$5,\"Year\")*$I$4","v":10},{"$f":"0%","v":0},0.06,{"$f":"COUNTIF($P$5:V$5,\"Year\")*$I$4","v":15},{"$f":"0%","v":0},0.06,{"$f":"COUNTIF($P$5:Y$5,\"Year\")*$I$4","v":20},{"$f":"0%","v":0},0.06,{"$f":"COUNTIF($P$5:AB$5,\"Year\")*$I$4","v":25},{"$f":"0%","v":0},0.06,{"$f":"COUNTIF($P$5:AE$5,\"Year\")*$I$4","v":30},{"$f":"0%","v":0},0.06,{"$f":"COUNTIF($P$5:AH$5,\"Year\")*$I$4","v":35},{"$f":"0%","v":0},0.06,{"$f":"COUNTIF($P$5:AK$5,\"Year\")*$I$4","v":40},{"$f":"0%","v":0},0.06,null,null,null,null,null,null,null,"",0,0,0,0,0,0,0,0,0,0,0,0,0,60,12,240,{"$f":"INDEX('Avionics ID'!A:E,MATCH(B133,'Avionics ID'!E:E,0),3)","v":"Navigation"}]
[{"$f":"INDEX('Avionics ID'!A:E,MATCH(B134,'Avionics ID'!E:E,0),1)","v":783},"Multi Scan Hazard Detection System",0.1,0.06,null,null,10,"Obsolescence",{"$f":"SUBSTITUTE(ADDRESS(1,MATCH(A134,'Pt1-AvionicsComponentCosts'!$A$6:$NC$6,0)+1),\"$1\",\"\")","v":"$MP"},{"$f":"_xlfn.TEXTJOIN(\", \",TRUE,_xlfn.UNIQUE(_xlfn._xlws.SORT(_xlfn._xlws.FILTER('Pt1-AvionicsComponentCosts'!$NF$12:$NF$384,ISNUMBER(INDIRECT(\"'Pt1-AvionicsComponentCosts'!\"&I134&\"$12:\"&I134&\"$384\"))))))","v":"A350, B747, B777, B787"},null,0.06,{"$f":"IF($A$2,INDEX([1]Sheet1!$A$12:$AO$193,MATCH($A134,[1]Sheet1!$A$12:$A$193,0),8),2*$L134)","v":0.12},{"$f":"INDEX([1]Sheet1!$A$12:$AO$193,MATCH($A134,[1]Sheet1!$A$12:$A$193,0),9)*(1+$A$4)","v":0.49280000000000007},{"$f":"INDEX([1]Sheet1!$A$12:$AO$193,MATCH($A134,[1]Sheet1!$A$12:$A$193,0),10)*(1+$A$4)","v":1.4278000000000002},{"$f":"COUNTIF($P$5:P$5,\"Year\")*$I$4","v":5},{"$f":"0%","v":0},0.06,{"$f":"COUNTIF($P$5:S$5,\"Year\")*$I$4","v":10},{"$f":"0%","v":0},0.06,{"$f":"COUNTIF($P$5:V$5,\"Year\")*$I$4","v":15},{"$f":"0%","v":0},0.06,{"$f":"COUNTIF($P$5:Y$5,\"Year\")*$I$4","v":20},{"$f":"0%","v":0},0.06,{"$f":"COUNTIF($P$5:AB$5,\"Year\")*$I$4","v":25},{"$f":"0%","v":0},0.06,{"$f":"COUNTIF($P$5:AE$5,\"Year\")*$I$4","v":30},{"$f":"0%","v":0},0.06,{"$f":"COUNTIF($P$5:AH$5,\"Year\")*$I$4","v":35},{"$f":"0%","v":0},0.06,{"$f":"COUNTIF($P$5:AK$5,\"Year\")*$I$4","v":40},{"$f":"0%","v":0},0.06,null,null,null,null,null,null,null,"",0,0,0,0,0,0,0,0,0,0,0,0,0,60,{"$f":"$M134*100","v":12},240,{"$f":"INDEX('Avionics ID'!A:E,MATCH(B134,'Avionics ID'!E:E,0),3)","v":"Surveillance"}]
[{"$f":"INDEX('Avionics ID'!A:E,MATCH(B135,'Avionics ID'!E:E,0),1)","v":865},"Multi spectral camera",{"$f":"IFERROR(100%/G135,0)","v":0.05},0.06,null,null,20,{"$f":"IF(G135=0,\"\",IF(LEN(E135)>0,\"Technology / regulatory\",\"Obsolescence\"))","v":"Obsolescence"},{"$f":"SUBSTITUTE(ADDRESS(1,MATCH(A135,'Pt1-AvionicsComponentCosts'!$A$6:$NC$6,0)+1),\"$1\",\"\")","v":"$MR"},{"$f":"_xlfn.TEXTJOIN(\", \",TRUE,_xlfn.UNIQUE(_xlfn._xlws.SORT(_xlfn._xlws.FILTER('Pt1-AvionicsComponentCosts'!$NF$12:$NF$384,ISNUMBER(INDIRECT(\"'Pt1-AvionicsComponentCosts'!\"&I135&\"$12:\"&I135&\"$384\"))))))","v":"UAV"},null,{"$f":"IF($A$1,D135,IF(C135=0,D135,D135))","v":0.06},{"$f":"IF($A$2,INDEX([1]Sheet1!$A$12:$AO$193,MATCH($A135,[1]Sheet1!$A$12:$A$193,0),8),2*$L135)","v":0.12},{"$f":"INDEX([1]Sheet1!$A$12:$AO$193,MATCH($A135,[1]Sheet1!$A$12:$A$193,0),9)*(1+$A$4)","v":0.49280000000000007},{"$f":"INDEX([1]Sheet1!$A$12:$AO$193,MATCH($A135,[1]Sheet1!$A$12:$A$193,0),10)*(1+$A$4)","v":1.4278000000000002},{"$f":"COUNTIF($P$5:P$5,\"Year\")*$I$4","v":5},{"$f":"0%","v":0},{"$f":"IF(MOD(P135,$G135)=0,$M135/2,IF(MOD(P135,MROUND($G135/2,$I$4))=0,$M135/2,0))","v":0},{"$f":"COUNTIF($P$5:S$5,\"Year\")*$I$4","v":10},{"$f":"0%","v":0},{"$f":"IF(MOD(S135,$G135)=0,$M135/2,IF(MOD(S135,MROUND($G135/2,$I$4))=0,$M135/2,0))","v":0.06},{"$f":"COUNTIF($P$5:V$5,\"Year\")*$I$4","v":15},{"$f":"0%","v":0},{"$f":"IF(MOD(V135,$G135)=0,$M135/2,IF(MOD(V135,MROUND($G135/2,$I$4))=0,$M135/2,0))","v":0},{"$f":"COUNTIF($P$5:Y$5,\"Year\")*$I$4","v":20},{"$f":"0%","v":0},{"$f":"IF(MOD(Y135,$G135)=0,$M135/2,IF(MOD(Y135,MROUND($G135/2,$I$4))=0,$M135/2,0))","v":0.06},{"$f":"COUNTIF($P$5:AB$5,\"Year\")*$I$4","v":25},{"$f":"0%","v":0},{"$f":"IF(MOD(AB135,$G135)=0,$M135/2,IF(MOD(AB135,MROUND($G135/2,$I$4))=0,$M135/2,0))","v":0},{"$f":"COUNTIF($P$5:AE$5,\"Year\")*$I$4","v":30},{"$f":"0%","v":0},{"$f":"IF(MOD(AE135,$G135)=0,$M135/2,IF(MOD(AE135,MROUND($G135/2,$I$4))=0,$M135/2,0))","v":0.06},{"$f":"COUNTIF($P$5:AH$5,\"Year\")*$I$4","v":35},{"$f":"0%","v":0},{"$f":"IF(MOD(AH135,$G135)=0,$M135/2,IF(MOD(AH135,MROUND($G135/2,$I$4))=0,$M135/2,0))","v":0},{"$f":"COUNTIF($P$5:AK$5,\"Year\")*$I$4","v":40},{"$f":"0%","v":0},{"$f":"IF(MOD(AK135,$G135)=0,$M135/2,IF(MOD(AK135,MROUND($G135/2,$I$4))=0,$M135/2,0))","v":0.06},null,null,null,null,null,null,null,{"$f":"IF(LEN($E135)=0,\"\",$E135)","v":""},{"$f":"IF($H135=\"Technology / regulatory\",$O135,0)","v":0},0,0,0,0,0,0,0,0,0,0,0,0,{"$f":"(SUM(AW135:BH135)+SUMIFS(P135:AS135,P$5:AS$5,\"Exchange %\")+$M135)*100","v":36},12,{"$f":"40*$L135*100","v":240},{"$f":"INDEX('Avionics ID'!A:E,MATCH(B135,'Avionics ID'!E:E,0),3)","v":"Surveillance"}]
[{"$f":"INDEX('Avionics ID'!A:E,MATCH(B136,'Avionics ID'!E:E,0),1)","v":727},"Navigation display (EFIS)",6.6666666666666666E-2,0.06,"PBN",2030,15,"Technology / regulatory",{"$f":"SUBSTITUTE(ADDRESS(1,MATCH(A136,'Pt1-AvionicsComponentCosts'!$A$6:$NC$6,0)+1),\"$1\",\"\")","v":"$FN"},{"$f":"_xlfn.TEXTJOIN(\", \",TRUE,_xlfn.UNIQUE(_xlfn._xlws.SORT(_xlfn._xlws.FILTER('Pt1-AvionicsComponentCosts'!$NF$12:$NF$384,ISNUMBER(INDIRECT(\"'Pt1-AvionicsComponentCosts'!\"&I136&\"$12:\"&I136&\"$384\"))))))","v":"A220, A320, A321, ATR, B717, B737, B757, C919, Challenger, Citation, E550, EMB Bizjet, EMB Regional, Falcon, Global, Gulfstream, Hawker, Hondajet, Learjet, MC-21, Mil Transport, Military Jet, Nextant 400XT, NSA, PC-24, Phenom, Praetor, SF50"},null,0.06,{"$f":"IF($A$2,INDEX([1]Sheet1!$A$12:$AO$193,MATCH($A136,[1]Sheet1!$A$12:$A$193,0),8),2*$L136)","v":0.12},{"$f":"INDEX([1]Sheet1!$A$12:$AO$193,MATCH($A136,[1]Sheet1!$A$12:$A$193,0),9)*(1+$A$4)","v":0.38830000000000003},{"$f":"INDEX([1]Sheet1!$A$12:$AO$193,MATCH($A136,[1]Sheet1!$A$12:$A$193,0),10)*(1+$A$4)","v":2.0306000000000002},{"$f":"COUNTIF($P$5:P$5,\"Year\")*$I$4","v":5},{"$f":"0%","v":0},0,{"$f":"COUNTIF($P$5:S$5,\"Year\")*$I$4","v":10},{"$f":"0%","v":0},0.06,{"$f":"COUNTIF($P$5:V$5,\"Year\")*$I$4","v":15},{"$f":"0%","v":0},0.06,{"$f":"COUNTIF($P$5:Y$5,\"Year\")*$I$4","v":20},{"$f":"0%","v":0},0.06,{"$f":"COUNTIF($P$5:AB$5,\"Year\")*$I$4","v":25},{"$f":"0%","v":0},0,{"$f":"COUNTIF($P$5:AE$5,\"Year\")*$I$4","v":30},{"$f":"0%","v":0},0.06,{"$f":"COUNTIF($P$5:AH$5,\"Year\")*$I$4","v":35},{"$f":"0%","v":0},0,{"$f":"COUNTIF($P$5:AK$5,\"Year\")*$I$4","v":40},{"$f":"0%","v":0},0.06,null,null,null,null,null,null,null,"PBN",2.0306000000000002,{"$f":"IF($H136=\"Technology / regulatory\",IF(AW$5=$F136-2,$AW$1,IF(AW$5=$F136-1,$AX$1,IF(AW$5=$F136,$AY$1,IF(AW$5=$F136+1,$AZ$1,0)))),0)","v":0},0,0,0,0.15,0.25,0.45,0.15,0,0,0,0,142,12,240,{"$f":"INDEX('Avionics ID'!A:E,MATCH(B136,'Avionics ID'!E:E,0),3)","v":"Display"}]
[{"$f":"INDEX('Avionics ID'!A:E,MATCH(B137,'Avionics ID'!E:E,0),1)","v":817},"Navigation receiver",0.05,0.06,null,null,20,"Obsolescence",{"$f":"SUBSTITUTE(ADDRESS(1,MATCH(A137,'Pt1-AvionicsComponentCosts'!$A$6:$NC$6,0)+1),\"$1\",\"\")","v":"$JX"},{"$f":"_xlfn.TEXTJOIN(\", \",TRUE,_xlfn.UNIQUE(_xlfn._xlws.SORT(_xlfn._xlws.FILTER('Pt1-AvionicsComponentCosts'!$NF$12:$NF$384,ISNUMBER(INDIRECT(\"'Pt1-AvionicsComponentCosts'!\"&I137&\"$12:\"&I137&\"$384\"))))))","v":"Mil Fighter"},null,0.06,{"$f":"IF($A$2,INDEX([1]Sheet1!$A$12:$AO$193,MATCH($A137,[1]Sheet1!$A$12:$A$193,0),8),2*$L137)","v":0.12},{"$f":"INDEX([1]Sheet1!$A$12:$AO$193,MATCH($A137,[1]Sheet1!$A$12:$A$193,0),9)*(1+$A$4)","v":0.38940000000000002},{"$f":"INDEX([1]Sheet1!$A$12:$AO$193,MATCH($A137,[1]Sheet1!$A$12:$A$193,0),10)*(1+$A$4)","v":2.0119000000000002},{"$f":"COUNTIF($P$5:P$5,\"Year\")*$I$4","v":5},{"$f":"0%","v":0},0,{"$f":"COUNTIF($P$5:S$5,\"Year\")*$I$4","v":10},{"$f":"0%","v":0},0.06,{"$f":"COUNTIF($P$5:V$5,\"Year\")*$I$4","v":15},{"$f":"0%","v":0},0,{"$f":"COUNTIF($P$5:Y$5,\"Year\")*$I$4","v":20},{"$f":"0%","v":0},0.06,{"$f":"COUNTIF($P$5:AB$5,\"Year\")*$I$4","v":25},{"$f":"0%","v":0},0,{"$f":"COUNTIF($P$5:AE$5,\"Year\")*$I$4","v":30},{"$f":"0%","v":0},0.06,{"$f":"COUNTIF($P$5:AH$5,\"Year\")*$I$4","v":35},{"$f":"0%","v":0},0,{"$f":"COUNTIF($P$5:AK$5,\"Year\")*$I$4","v":40},{"$f":"0%","v":0},0.06,null,null,null,null,null,null,null,"",0,0,0,0,0,0,0,0,0,0,0,0,0,36,12,240,{"$f":"INDEX('Avionics ID'!A:E,MATCH(B137,'Avionics ID'!E:E,0),3)","v":"Navigation"}]
[{"$f":"INDEX('Avionics ID'!A:E,MATCH(B138,'Avionics ID'!E:E,0),1)","v":789},"Panoramic Display Cockpit Electronic Unit",0.05,0.06,null,null,20,"Obsolescence",{"$f":"SUBSTITUTE(ADDRESS(1,MATCH(A138,'Pt1-AvionicsComponentCosts'!$A$6:$NC$6,0)+1),\"$1\",\"\")","v":"$FP"},{"$f":"_xlfn.TEXTJOIN(\", \",TRUE,_xlfn.UNIQUE(_xlfn._xlws.SORT(_xlfn._xlws.FILTER('Pt1-AvionicsComponentCosts'!$NF$12:$NF$384,ISNUMBER(INDIRECT(\"'Pt1-AvionicsComponentCosts'!\"&I138&\"$12:\"&I138&\"$384\"))))))","v":"Attack, Stealth"},null,0.06,{"$f":"IF($A$2,INDEX([1]Sheet1!$A$12:$AO$193,MATCH($A138,[1]Sheet1!$A$12:$A$193,0),8),2*$L138)","v":0.12},{"$f":"INDEX([1]Sheet1!$A$12:$AO$193,MATCH($A138,[1]Sheet1!$A$12:$A$193,0),9)*(1+$A$4)","v":0.38830000000000003},{"$f":"INDEX([1]Sheet1!$A$12:$AO$193,MATCH($A138,[1]Sheet1!$A$12:$A$193,0),10)*(1+$A$4)","v":2.0306000000000002},{"$f":"COUNTIF($P$5:P$5,\"Year\")*$I$4","v":5},{"$f":"0%","v":0},0,{"$f":"COUNTIF($P$5:S$5,\"Year\")*$I$4","v":10},{"$f":"0%","v":0},0.06,{"$f":"COUNTIF($P$5:V$5,\"Year\")*$I$4","v":15},{"$f":"0%","v":0},0,{"$f":"COUNTIF($P$5:Y$5,\"Year\")*$I$4","v":20},{"$f":"0%","v":0},0.06,{"$f":"COUNTIF($P$5:AB$5,\"Year\")*$I$4","v":25},{"$f":"0%","v":0},0,{"$f":"COUNTIF($P$5:AE$5,\"Year\")*$I$4","v":30},{"$f":"0%","v":0},0.06,{"$f":"COUNTIF($P$5:AH$5,\"Year\")*$I$4","v":35},{"$f":"0%","v":0},0,{"$f":"COUNTIF($P$5:AK$5,\"Year\")*$I$4","v":40},{"$f":"0%","v":0},0.06,null,null,null,null,null,null,null,"",0,0,0,0,0,0,0,0,0,0,0,0,0,36,12,240,{"$f":"INDEX('Avionics ID'!A:E,MATCH(B138,'Avionics ID'!E:E,0),3)","v":"Display"}]
[{"$f":"INDEX('Avionics ID'!A:E,MATCH(B139,'Avionics ID'!E:E,0),1)","v":790},"Panormic Cockpit Display",0.05,0.06,null,null,20,"Obsolescence",{"$f":"SUBSTITUTE(ADDRESS(1,MATCH(A139,'Pt1-AvionicsComponentCosts'!$A$6:$NC$6,0)+1),\"$1\",\"\")","v":"$FR"},{"$f":"_xlfn.TEXTJOIN(\", \",TRUE,_xlfn.UNIQUE(_xlfn._xlws.SORT(_xlfn._xlws.FILTER('Pt1-AvionicsComponentCosts'!$NF$12:$NF$384,ISNUMBER(INDIRECT(\"'Pt1-AvionicsComponentCosts'!\"&I139&\"$12:\"&I139&\"$384\"))))))","v":"Attack, Stealth"},null,0.06,{"$f":"IF($A$2,INDEX([1]Sheet1!$A$12:$AO$193,MATCH($A139,[1]Sheet1!$A$12:$A$193,0),8),2*$L139)","v":0.12},{"$f":"INDEX([1]Sheet1!$A$12:$AO$193,MATCH($A139,[1]Sheet1!$A$12:$A$193,0),9)*(1+$A$4)","v":0.38830000000000003},{"$f":"INDEX([1]Sheet1!$A$12:$AO$193,MATCH($A139,[1]Sheet1!$A$12:$A$193,0),10)*(1+$A$4)","v":2.0306000000000002},{"$f":"COUNTIF($P$5:P$5,\"Year\")*$I$4","v":5},{"$f":"0%","v":0},0,{"$f":"COUNTIF($P$5:S$5,\"Year\")*$I$4","v":10},{"$f":"0%","v":0},0.06,{"$f":"COUNTIF($P$5:V$5,\"Year\")*$I$4","v":15},{"$f":"0%","v":0},0,{"$f":"COUNTIF($P$5:Y$5,\"Year\")*$I$4","v":20},{"$f":"0%","v":0},0.06,{"$f":"COUNTIF($P$5:AB$5,\"Year\")*$I$4","v":25},{"$f":"0%","v":0},0,{"$f":"COUNTIF($P$5:AE$5,\"Year\")*$I$4","v":30},{"$f":"0%","v":0},0.06,{"$f":"COUNTIF($P$5:AH$5,\"Year\")*$I$4","v":35},{"$f":"0%","v":0},0,{"$f":"COUNTIF($P$5:AK$5,\"Year\")*$I$4","v":40},{"$f":"0%","v":0},0.06,null,null,null,null,null,null,null,"",0,0,0,0,0,0,0,0,0,0,0,0,0,36,12,240,{"$f":"INDEX('Avionics ID'!A:E,MATCH(B139,'Avionics ID'!E:E,0),3)","v":"Display"}]
[{"$f":"INDEX('Avionics ID'!A:E,MATCH(B140,'Avionics ID'!E:E,0),1)","v":824},"PFD Control panels",0.1,0.06,null,null,10,"Obsolescence",{"$f":"SUBSTITUTE(ADDRESS(1,MATCH(A140,'Pt1-AvionicsComponentCosts'!$A$6:$NC$6,0)+1),\"$1\",\"\")","v":"$FT"},{"$f":"_xlfn.TEXTJOIN(\", \",TRUE,_xlfn.UNIQUE(_xlfn._xlws.SORT(_xlfn._xlws.FILTER('Pt1-AvionicsComponentCosts'!$NF$12:$NF$384,ISNUMBER(INDIRECT(\"'Pt1-AvionicsComponentCosts'!\"&I140&\"$12:\"&I140&\"$384\"))))))","v":"Challenger, Citation, E550, EMB Bizjet, Falcon, Global, Gulfstream, Hawker, Hondajet, Learjet, Nextant 400XT, PC-24, Phenom, Praetor, SF50"},null,0.06,{"$f":"IF($A$2,INDEX([1]Sheet1!$A$12:$AO$193,MATCH($A140,[1]Sheet1!$A$12:$A$193,0),8),2*$L140)","v":0.12},{"$f":"INDEX([1]Sheet1!$A$12:$AO$193,MATCH($A140,[1]Sheet1!$A$12:$A$193,0),9)*(1+$A$4)","v":0.38830000000000003},{"$f":"INDEX([1]Sheet1!$A$12:$AO$193,MATCH($A140,[1]Sheet1!$A$12:$A$193,0),10)*(1+$A$4)","v":2.0306000000000002},{"$f":"COUNTIF($P$5:P$5,\"Year\")*$I$4","v":5},{"$f":"0%","v":0},0.06,{"$f":"COUNTIF($P$5:S$5,\"Year\")*$I$4","v":10},{"$f":"0%","v":0},0.06,{"$f":"COUNTIF($P$5:V$5,\"Year\")*$I$4","v":15},{"$f":"0%","v":0},0.06,{"$f":"COUNTIF($P$5:Y$5,\"Year\")*$I$4","v":20},{"$f":"0%","v":0},0.06,{"$f":"COUNTIF($P$5:AB$5,\"Year\")*$I$4","v":25},{"$f":"0%","v":0},0.06,{"$f":"COUNTIF($P$5:AE$5,\"Year\")*$I$4","v":30},{"$f":"0%","v":0},0.06,{"$f":"COUNTIF($P$5:AH$5,\"Year\")*$I$4","v":35},{"$f":"0%","v":0},0.06,{"$f":"COUNTIF($P$5:AK$5,\"Year\")*$I$4","v":40},{"$f":"0%","v":0},0.06,null,null,null,null,null,null,null,"",0,0,0,0,0,0,0,0,0,0,0,0,0,60,12,240,{"$f":"INDEX('Avionics ID'!A:E,MATCH(B140,'Avionics ID'!E:E,0),3)","v":"Display"}]
[{"$f":"INDEX('Avionics ID'!A:E,MATCH(B141,'Avionics ID'!E:E,0),1)","v":793},"Pilot Helmet Mounted Display System",0.05,0.06,null,null,20,"Obsolescence",{"$f":"SUBSTITUTE(ADDRESS(1,MATCH(A141,'Pt1-AvionicsComponentCosts'!$A$6:$NC$6,0)+1),\"$1\",\"\")","v":"$FV"},{"$f":"_xlfn.TEXTJOIN(\", \",TRUE,_xlfn.UNIQUE(_xlfn._xlws.SORT(_xlfn._xlws.FILTER('Pt1-AvionicsComponentCosts'!$NF$12:$NF$384,ISNUMBER(INDIRECT(\"'Pt1-AvionicsComponentCosts'!\"&I141&\"$12:\"&I141&\"$384\"))))))","v":"Attack, Attack Helo, Helo, Stealth"},null,0.06,{"$f":"IF($A$2,INDEX([1]Sheet1!$A$12:$AO$193,MATCH($A141,[1]Sheet1!$A$12:$A$193,0),8),2*$L141)","v":0.12},{"$f":"INDEX([1]Sheet1!$A$12:$AO$193,MATCH($A141,[1]Sheet1!$A$12:$A$193,0),9)*(1+$A$4)","v":0.38830000000000003},{"$f":"INDEX([1]Sheet1!$A$12:$AO$193,MATCH($A141,[1]Sheet1!$A$12:$A$193,0),10)*(1+$A$4)","v":2.0306000000000002},{"$f":"COUNTIF($P$5:P$5,\"Year\")*$I$4","v":5},{"$f":"0%","v":0},0,{"$f":"COUNTIF($P$5:S$5,\"Year\")*$I$4","v":10},{"$f":"0%","v":0},0.06,{"$f":"COUNTIF($P$5:V$5,\"Year\")*$I$4","v":15},{"$f":"0%","v":0},0,{"$f":"COUNTIF($P$5:Y$5,\"Year\")*$I$4","v":20},{"$f":"0%","v":0},0.06,{"$f":"COUNTIF($P$5:AB$5,\"Year\")*$I$4","v":25},{"$f":"0%","v":0},0,{"$f":"COUNTIF($P$5:AE$5,\"Year\")*$I$4","v":30},{"$f":"0%","v":0},0.06,{"$f":"COUNTIF($P$5:AH$5,\"Year\")*$I$4","v":35},{"$f":"0%","v":0},0,{"$f":"COUNTIF($P$5:AK$5,\"Year\")*$I$4","v":40},{"$f":"0%","v":0},0.06,null,null,null,null,null,null,null,"",0,0,0,0,0,0,0,0,0,0,0,0,0,36,12,240,{"$f":"INDEX('Avionics ID'!A:E,MATCH(B141,'Avionics ID'!E:E,0),3)","v":"Display"}]
[{"$f":"INDEX('Avionics ID'!A:E,MATCH(B142,'Avionics ID'!E:E,0),1)","v":850},"Pilot Night Vision Sensors (PNVS) systems",0.05,0.06,null,null,20,"Obsolescence",{"$f":"SUBSTITUTE(ADDRESS(1,MATCH(A142,'Pt1-AvionicsComponentCosts'!$A$6:$NC$6,0)+1),\"$1\",\"\")","v":"$FX"},{"$f":"_xlfn.TEXTJOIN(\", \",TRUE,_xlfn.UNIQUE(_xlfn._xlws.SORT(_xlfn._xlws.FILTER('Pt1-AvionicsComponentCosts'!$NF$12:$NF$384,ISNUMBER(INDIRECT(\"'Pt1-AvionicsComponentCosts'!\"&I142&\"$12:\"&I142&\"$384\"))))))","v":"Attack Helo, Helo"},null,0.06,{"$f":"IF($A$2,INDEX([1]Sheet1!$A$12:$AO$193,MATCH($A142,[1]Sheet1!$A$12:$A$193,0),8),2*$L142)","v":0.12},{"$f":"INDEX([1]Sheet1!$A$12:$AO$193,MATCH($A142,[1]Sheet1!$A$12:$A$193,0),9)*(1+$A$4)","v":0.38830000000000003},{"$f":"INDEX([1]Sheet1!$A$12:$AO$193,MATCH($A142,[1]Sheet1!$A$12:$A$193,0),10)*(1+$A$4)","v":2.0306000000000002},{"$f":"COUNTIF($P$5:P$5,\"Year\")*$I$4","v":5},{"$f":"0%","v":0},0,{"$f":"COUNTIF($P$5:S$5,\"Year\")*$I$4","v":10},{"$f":"0%","v":0},0.06,{"$f":"COUNTIF($P$5:V$5,\"Year\")*$I$4","v":15},{"$f":"0%","v":0},0,{"$f":"COUNTIF($P$5:Y$5,\"Year\")*$I$4","v":20},{"$f":"0%","v":0},0.06,{"$f":"COUNTIF($P$5:AB$5,\"Year\")*$I$4","v":25},{"$f":"0%","v":0},0,{"$f":"COUNTIF($P$5:AE$5,\"Year\")*$I$4","v":30},{"$f":"0%","v":0},0.06,{"$f":"COUNTIF($P$5:AH$5,\"Year\")*$I$4","v":35},{"$f":"0%","v":0},0,{"$f":"COUNTIF($P$5:AK$5,\"Year\")*$I$4","v":40},{"$f":"0%","v":0},0.06,null,null,null,null,null,null,null,"",0,0,0,0,0,0,0,0,0,0,0,0,0,36,12,240,{"$f":"INDEX('Avionics ID'!A:E,MATCH(B142,'Avionics ID'!E:E,0),3)","v":"Display"}]
[{"$f":"INDEX('Avionics ID'!A:E,MATCH(B143,'Avionics ID'!E:E,0),1)","v":807},"Pitot Static sensors",0.1,0.1,null,null,10,"Obsolescence",{"$f":"SUBSTITUTE(ADDRESS(1,MATCH(A143,'Pt1-AvionicsComponentCosts'!$A$6:$NC$6,0)+1),\"$1\",\"\")","v":"$LJ"},{"$f":"_xlfn.TEXTJOIN(\", \",TRUE,_xlfn.UNIQUE(_xlfn._xlws.SORT(_xlfn._xlws.FILTER('Pt1-AvionicsComponentCosts'!$NF$12:$NF$384,ISNUMBER(INDIRECT(\"'Pt1-AvionicsComponentCosts'!\"&I143&\"$12:\"&I143&\"$384\"))))))","v":"ARJ, CRJ, EMB Regional, Reg TP, Superjet 100, Turbine GA"},null,0.1,{"$f":"IF($A$2,INDEX([1]Sheet1!$A$12:$AO$193,MATCH($A143,[1]Sheet1!$A$12:$A$193,0),8),2*$L143)","v":0.2},{"$f":"INDEX([1]Sheet1!$A$12:$AO$193,MATCH($A143,[1]Sheet1!$A$12:$A$193,0),9)*(1+$A$4)","v":0.36850000000000005},{"$f":"INDEX([1]Sheet1!$A$12:$AO$193,MATCH($A143,[1]Sheet1!$A$12:$A$193,0),10)*(1+$A$4)","v":1.8513000000000002},{"$f":"COUNTIF($P$5:P$5,\"Year\")*$I$4","v":5},{"$f":"0%","v":0},0.1,{"$f":"COUNTIF($P$5:S$5,\"Year\")*$I$4","v":10},{"$f":"0%","v":0},0.1,{"$f":"COUNTIF($P$5:V$5,\"Year\")*$I$4","v":15},{"$f":"0%","v":0},0.1,{"$f":"COUNTIF($P$5:Y$5,\"Year\")*$I$4","v":20},{"$f":"0%","v":0},0.1,{"$f":"COUNTIF($P$5:AB$5,\"Year\")*$I$4","v":25},{"$f":"0%","v":0},0.1,{"$f":"COUNTIF($P$5:AE$5,\"Year\")*$I$4","v":30},{"$f":"0%","v":0},0.1,{"$f":"COUNTIF($P$5:AH$5,\"Year\")*$I$4","v":35},{"$f":"0%","v":0},0.1,{"$f":"COUNTIF($P$5:AK$5,\"Year\")*$I$4","v":40},{"$f":"0%","v":0},0.1,null,null,null,null,null,null,null,"",0,0,0,0,0,0,0,0,0,0,0,0,0,100,20,400,{"$f":"INDEX('Avionics ID'!A:E,MATCH(B143,'Avionics ID'!E:E,0),3)","v":"Sensors"}]
[{"$f":"INDEX('Avionics ID'!A:E,MATCH(B144,'Avionics ID'!E:E,0),1)","v":726},"Primary Flight Display (EFIS)",6.6666666666666666E-2,0.06,"PBN",2030,15,"Technology / regulatory",{"$f":"SUBSTITUTE(ADDRESS(1,MATCH(A144,'Pt1-AvionicsComponentCosts'!$A$6:$NC$6,0)+1),\"$1\",\"\")","v":"$FZ"},{"$f":"_xlfn.TEXTJOIN(\", \",TRUE,_xlfn.UNIQUE(_xlfn._xlws.SORT(_xlfn._xlws.FILTER('Pt1-AvionicsComponentCosts'!$NF$12:$NF$384,ISNUMBER(INDIRECT(\"'Pt1-AvionicsComponentCosts'!\"&I144&\"$12:\"&I144&\"$384\"))))))","v":"A220, A320, A321, A330 LMXT, A330 MRTT, ARJ, ATR, B717, B737, B757, C919, CRJ, EMB Regional, MC-21, Mil Transport, Military Jet, Military TP, NSA, Reg TP, Superjet 100, Turbine GA"},null,0.06,{"$f":"IF($A$2,INDEX([1]Sheet1!$A$12:$AO$193,MATCH($A144,[1]Sheet1!$A$12:$A$193,0),8),2*$L144)","v":0.12},{"$f":"INDEX([1]Sheet1!$A$12:$AO$193,MATCH($A144,[1]Sheet1!$A$12:$A$193,0),9)*(1+$A$4)","v":0.38830000000000003},{"$f":"INDEX([1]Sheet1!$A$12:$AO$193,MATCH($A144,[1]Sheet1!$A$12:$A$193,0),10)*(1+$A$4)","v":2.0306000000000002},{"$f":"COUNTIF($P$5:P$5,\"Year\")*$I$4","v":5},{"$f":"0%","v":0},0,{"$f":"COUNTIF($P$5:S$5,\"Year\")*$I$4","v":10},{"$f":"0%","v":0},0.06,{"$f":"COUNTIF($P$5:V$5,\"Year\")*$I$4","v":15},{"$f":"0%","v":0},0.06,{"$f":"COUNTIF($P$5:Y$5,\"Year\")*$I$4","v":20},{"$f":"0%","v":0},0.06,{"$f":"COUNTIF($P$5:AB$5,\"Year\")*$I$4","v":25},{"$f":"0%","v":0},0,{"$f":"COUNTIF($P$5:AE$5,\"Year\")*$I$4","v":30},{"$f":"0%","v":0},0.06,{"$f":"COUNTIF($P$5:AH$5,\"Year\")*$I$4","v":35},{"$f":"0%","v":0},0,{"$f":"COUNTIF($P$5:AK$5,\"Year\")*$I$4","v":40},{"$f":"0%","v":0},0.06,null,null,null,null,null,null,null,"PBN",2.0306000000000002,0,0,0,0,0.15,0.25,0.45,0.15,0,0,0,0,142,12,240,{"$f":"INDEX('Avionics ID'!A:E,MATCH(B144,'Avionics ID'!E:E,0),3)","v":"Display"}]
[{"$f":"INDEX('Avionics ID'!A:E,MATCH(B145,'Avionics ID'!E:E,0),1)","v":756},"Quick Access Recorder (QAR)",0.1,0.06,null,null,10,"Obsolescence",{"$f":"SUBSTITUTE(ADDRESS(1,MATCH(A145,'Pt1-AvionicsComponentCosts'!$A$6:$NC$6,0)+1),\"$1\",\"\")","v":"$DL"},{"$f":"_xlfn.TEXTJOIN(\", \",TRUE,_xlfn.UNIQUE(_xlfn._xlws.SORT(_xlfn._xlws.FILTER('Pt1-AvionicsComponentCosts'!$NF$12:$NF$384,ISNUMBER(INDIRECT(\"'Pt1-AvionicsComponentCosts'!\"&I145&\"$12:\"&I145&\"$384\"))))))","v":"A220, A300, A320, A321, A330, A340, A350, A380, ATR, B717, B737, B747, B757, B767, B777, B787, C919, EMB Regional, MC-21, MD-11, Mil Transport, Military Jet, NSA"},null,0.06,{"$f":"IF($A$2,INDEX([1]Sheet1!$A$12:$AO$193,MATCH($A145,[1]Sheet1!$A$12:$A$193,0),8),2*$L145)","v":0.12},{"$f":"INDEX([1]Sheet1!$A$12:$AO$193,MATCH($A145,[1]Sheet1!$A$12:$A$193,0),9)*(1+$A$4)","v":0.75130000000000008},{"$f":"INDEX([1]Sheet1!$A$12:$AO$193,MATCH($A145,[1]Sheet1!$A$12:$A$193,0),10)*(1+$A$4)","v":2.1241000000000003},{"$f":"COUNTIF($P$5:P$5,\"Year\")*$I$4","v":5},{"$f":"0%","v":0},0.06,{"$f":"COUNTIF($P$5:S$5,\"Year\")*$I$4","v":10},{"$f":"0%","v":0},0.06,{"$f":"COUNTIF($P$5:V$5,\"Year\")*$I$4","v":15},{"$f":"0%","v":0},0.06,{"$f":"COUNTIF($P$5:Y$5,\"Year\")*$I$4","v":20},{"$f":"0%","v":0},0.06,{"$f":"COUNTIF($P$5:AB$5,\"Year\")*$I$4","v":25},{"$f":"0%","v":0},0.06,{"$f":"COUNTIF($P$5:AE$5,\"Year\")*$I$4","v":30},{"$f":"0%","v":0},0.06,{"$f":"COUNTIF($P$5:AH$5,\"Year\")*$I$4","v":35},{"$f":"0%","v":0},0.06,{"$f":"COUNTIF($P$5:AK$5,\"Year\")*$I$4","v":40},{"$f":"0%","v":0},0.06,null,null,null,null,null,null,null,"",0,0,0,0,0,0,0,0,0,0,0,0,0,60,12,240,{"$f":"INDEX('Avionics ID'!A:E,MATCH(B145,'Avionics ID'!E:E,0),3)","v":"Data"}]
[{"$f":"INDEX('Avionics ID'!A:E,MATCH(B146,'Avionics ID'!E:E,0),1)","v":801},"Radar altimeter",0.05,0.03,null,null,20,"Obsolescence",{"$f":"SUBSTITUTE(ADDRESS(1,MATCH(A146,'Pt1-AvionicsComponentCosts'!$A$6:$NC$6,0)+1),\"$1\",\"\")","v":"$DN"},{"$f":"_xlfn.TEXTJOIN(\", \",TRUE,_xlfn.UNIQUE(_xlfn._xlws.SORT(_xlfn._xlws.FILTER('Pt1-AvionicsComponentCosts'!$NF$12:$NF$384,ISNUMBER(INDIRECT(\"'Pt1-AvionicsComponentCosts'!\"&I146&\"$12:\"&I146&\"$384\"))))))","v":"Attack, Stealth"},null,0.03,{"$f":"IF($A$2,INDEX([1]Sheet1!$A$12:$AO$193,MATCH($A146,[1]Sheet1!$A$12:$A$193,0),8),2*$L146)","v":0.06},{"$f":"INDEX([1]Sheet1!$A$12:$AO$193,MATCH($A146,[1]Sheet1!$A$12:$A$193,0),9)*(1+$A$4)","v":0.75130000000000008},{"$f":"INDEX([1]Sheet1!$A$12:$AO$193,MATCH($A146,[1]Sheet1!$A$12:$A$193,0),10)*(1+$A$4)","v":2.1241000000000003},{"$f":"COUNTIF($P$5:P$5,\"Year\")*$I$4","v":5},{"$f":"0%","v":0},0,{"$f":"COUNTIF($P$5:S$5,\"Year\")*$I$4","v":10},{"$f":"0%","v":0},0.03,{"$f":"COUNTIF($P$5:V$5,\"Year\")*$I$4","v":15},{"$f":"0%","v":0},0,{"$f":"COUNTIF($P$5:Y$5,\"Year\")*$I$4","v":20},{"$f":"0%","v":0},0.03,{"$f":"COUNTIF($P$5:AB$5,\"Year\")*$I$4","v":25},{"$f":"0%","v":0},0,{"$f":"COUNTIF($P$5:AE$5,\"Year\")*$I$4","v":30},{"$f":"0%","v":0},0.03,{"$f":"COUNTIF($P$5:AH$5,\"Year\")*$I$4","v":35},{"$f":"0%","v":0},0,{"$f":"COUNTIF($P$5:AK$5,\"Year\")*$I$4","v":40},{"$f":"0%","v":0},0.03,null,null,null,null,null,null,null,"",0,{"$f":"IF($H146=\"Technology / regulatory\",IF(AW$5=$F146-2,$AW$1,IF(AW$5=$F146-1,$AX$1,IF(AW$5=$F146,$AY$1,IF(AW$5=$F146+1,$AZ$1,0)))),0)","v":0},0,0,0,0,0,0,0,0,0,0,0,18,6,120,{"$f":"INDEX('Avionics ID'!A:E,MATCH(B146,'Avionics ID'!E:E,0),3)","v":"Data"}]
[{"$f":"INDEX('Avionics ID'!A:E,MATCH(B147,'Avionics ID'!E:E,0),1)","v":764},"Radar altimeters",0.1,0.03,null,null,10,"Obsolescence",{"$f":"SUBSTITUTE(ADDRESS(1,MATCH(A147,'Pt1-AvionicsComponentCosts'!$A$6:$NC$6,0)+1),\"$1\",\"\")","v":"$KB"},{"$f":"_xlfn.TEXTJOIN(\", \",TRUE,_xlfn.UNIQUE(_xlfn._xlws.SORT(_xlfn._xlws.FILTER('Pt1-AvionicsComponentCosts'!$NF$12:$NF$384,ISNUMBER(INDIRECT(\"'Pt1-AvionicsComponentCosts'!\"&I147&\"$12:\"&I147&\"$384\"))))))","v":"A300, A320, A330, A330 LMXT, A330 MRTT, A340, A350, A380, ARJ, B747, B767, B777, B787, Challenger, Citation, CRJ, E550, EMB Bizjet, EMB Regional, Falcon, Global, Gulfstream, Hawker, Hondajet, Learjet, MD-11, Mil Fighter, Mil Transport, Military Jet, Military TP, Nextant 400XT, PC-24, Phenom, Praetor, Reg TP, SF50, Superjet 100, Turbine GA"},null,0.03,{"$f":"IF($A$2,INDEX([1]Sheet1!$A$12:$AO$193,MATCH($A147,[1]Sheet1!$A$12:$A$193,0),8),2*$L147)","v":0.06},{"$f":"INDEX([1]Sheet1!$A$12:$AO$193,MATCH($A147,[1]Sheet1!$A$12:$A$193,0),9)*(1+$A$4)","v":0.38940000000000002},{"$f":"INDEX([1]Sheet1!$A$12:$AO$193,MATCH($A147,[1]Sheet1!$A$12:$A$193,0),10)*(1+$A$4)","v":2.0119000000000002},{"$f":"COUNTIF($P$5:P$5,\"Year\")*$I$4","v":5},{"$f":"0%","v":0},0.03,{"$f":"COUNTIF($P$5:S$5,\"Year\")*$I$4","v":10},{"$f":"0%","v":0},0.03,{"$f":"COUNTIF($P$5:V$5,\"Year\")*$I$4","v":15},{"$f":"0%","v":0},0.03,{"$f":"COUNTIF($P$5:Y$5,\"Year\")*$I$4","v":20},{"$f":"0%","v":0},0.03,{"$f":"COUNTIF($P$5:AB$5,\"Year\")*$I$4","v":25},{"$f":"0%","v":0},0.03,{"$f":"COUNTIF($P$5:AE$5,\"Year\")*$I$4","v":30},{"$f":"0%","v":0},0.03,{"$f":"COUNTIF($P$5:AH$5,\"Year\")*$I$4","v":35},{"$f":"0%","v":0},0.03,{"$f":"COUNTIF($P$5:AK$5,\"Year\")*$I$4","v":40},{"$f":"0%","v":0},0.03,null,null,null,null,null,null,null,"",0,0,0,0,0,0,0,0,0,0,0,0,0,30,6,120,{"$f":"INDEX('Avionics ID'!A:E,MATCH(B147,'Avionics ID'!E:E,0),3)","v":"Navigation"}]
[{"$f":"INDEX('Avionics ID'!A:E,MATCH(B148,'Avionics ID'!E:E,0),1)","v":829},"Radar Antenna (nose nounted)",0.05,0.1,null,null,20,"Obsolescence",{"$f":"SUBSTITUTE(ADDRESS(1,MATCH(A148,'Pt1-AvionicsComponentCosts'!$A$6:$NC$6,0)+1),\"$1\",\"\")","v":"$MT"},{"$f":"_xlfn.TEXTJOIN(\", \",TRUE,_xlfn.UNIQUE(_xlfn._xlws.SORT(_xlfn._xlws.FILTER('Pt1-AvionicsComponentCosts'!$NF$12:$NF$384,ISNUMBER(INDIRECT(\"'Pt1-AvionicsComponentCosts'!\"&I148&\"$12:\"&I148&\"$384\"))))))","v":"Attack Helo, Challenger, Citation, E550, EMB Bizjet, Falcon, Global, Gulfstream, Hawker, Helo, Hondajet, Learjet, Nextant 400XT, PC-24, Phenom, Praetor, SF50"},null,0.1,{"$f":"IF($A$2,INDEX([1]Sheet1!$A$12:$AO$193,MATCH($A148,[1]Sheet1!$A$12:$A$193,0),8),2*$L148)","v":0.2},{"$f":"INDEX([1]Sheet1!$A$12:$AO$193,MATCH($A148,[1]Sheet1!$A$12:$A$193,0),9)*(1+$A$4)","v":0.49280000000000007},{"$f":"INDEX([1]Sheet1!$A$12:$AO$193,MATCH($A148,[1]Sheet1!$A$12:$A$193,0),10)*(1+$A$4)","v":1.4278000000000002},{"$f":"COUNTIF($P$5:P$5,\"Year\")*$I$4","v":5},{"$f":"0%","v":0},0,{"$f":"COUNTIF($P$5:S$5,\"Year\")*$I$4","v":10},{"$f":"0%","v":0},0.1,{"$f":"COUNTIF($P$5:V$5,\"Year\")*$I$4","v":15},{"$f":"0%","v":0},0,{"$f":"COUNTIF($P$5:Y$5,\"Year\")*$I$4","v":20},{"$f":"0%","v":0},0.1,{"$f":"COUNTIF($P$5:AB$5,\"Year\")*$I$4","v":25},{"$f":"0%","v":0},0,{"$f":"COUNTIF($P$5:AE$5,\"Year\")*$I$4","v":30},{"$f":"0%","v":0},0.1,{"$f":"COUNTIF($P$5:AH$5,\"Year\")*$I$4","v":35},{"$f":"0%","v":0},0,{"$f":"COUNTIF($P$5:AK$5,\"Year\")*$I$4","v":40},{"$f":"0%","v":0},0.1,null,null,null,null,null,null,null,"",0,0,0,0,0,0,0,0,0,0,0,0,0,60.000000000000007,20,400,{"$f":"INDEX('Avionics ID'!A:E,MATCH(B148,'Avionics ID'!E:E,0),3)","v":"Surveillance"}]
[{"$f":"INDEX('Avionics ID'!A:E,MATCH(B149,'Avionics ID'!E:E,0),1)","v":859},"Radar jammer",0.05,0.03,null,null,20,"Obsolescence",{"$f":"SUBSTITUTE(ADDRESS(1,MATCH(A149,'Pt1-AvionicsComponentCosts'!$A$6:$NC$6,0)+1),\"$1\",\"\")","v":"$LL"},{"$f":"_xlfn.TEXTJOIN(\", \",TRUE,_xlfn.UNIQUE(_xlfn._xlws.SORT(_xlfn._xlws.FILTER('Pt1-AvionicsComponentCosts'!$NF$12:$NF$384,ISNUMBER(INDIRECT(\"'Pt1-AvionicsComponentCosts'!\"&I149&\"$12:\"&I149&\"$384\"))))))","v":"Attack Helo, Helo"},null,0.03,{"$f":"IF($A$2,INDEX([1]Sheet1!$A$12:$AO$193,MATCH($A149,[1]Sheet1!$A$12:$A$193,0),8),2*$L149)","v":0.06},{"$f":"INDEX([1]Sheet1!$A$12:$AO$193,MATCH($A149,[1]Sheet1!$A$12:$A$193,0),9)*(1+$A$4)","v":0.36850000000000005},{"$f":"INDEX([1]Sheet1!$A$12:$AO$193,MATCH($A149,[1]Sheet1!$A$12:$A$193,0),10)*(1+$A$4)","v":1.8513000000000002},{"$f":"COUNTIF($P$5:P$5,\"Year\")*$I$4","v":5},{"$f":"0%","v":0},0,{"$f":"COUNTIF($P$5:S$5,\"Year\")*$I$4","v":10},{"$f":"0%","v":0},0.03,{"$f":"COUNTIF($P$5:V$5,\"Year\")*$I$4","v":15},{"$f":"0%","v":0},0,{"$f":"COUNTIF($P$5:Y$5,\"Year\")*$I$4","v":20},{"$f":"0%","v":0},0.03,{"$f":"COUNTIF($P$5:AB$5,\"Year\")*$I$4","v":25},{"$f":"0%","v":0},0,{"$f":"COUNTIF($P$5:AE$5,\"Year\")*$I$4","v":30},{"$f":"0%","v":0},0.03,{"$f":"COUNTIF($P$5:AH$5,\"Year\")*$I$4","v":35},{"$f":"0%","v":0},0,{"$f":"COUNTIF($P$5:AK$5,\"Year\")*$I$4","v":40},{"$f":"0%","v":0},0.03,null,null,null,null,null,null,null,"",0,0,0,0,0,0,0,0,0,0,0,0,0,18,6,120,{"$f":"INDEX('Avionics ID'!A:E,MATCH(B149,'Avionics ID'!E:E,0),3)","v":"Sensors"}]
[{"$f":"INDEX('Avionics ID'!A:E,MATCH(B150,'Avionics ID'!E:E,0),1)","v":855},"Radar warning receivers",0.05,0.03,null,null,20,"Obsolescence",{"$f":"SUBSTITUTE(ADDRESS(1,MATCH(A150,'Pt1-AvionicsComponentCosts'!$A$6:$NC$6,0)+1),\"$1\",\"\")","v":"$LN"},{"$f":"_xlfn.TEXTJOIN(\", \",TRUE,_xlfn.UNIQUE(_xlfn._xlws.SORT(_xlfn._xlws.FILTER('Pt1-AvionicsComponentCosts'!$NF$12:$NF$384,ISNUMBER(INDIRECT(\"'Pt1-AvionicsComponentCosts'!\"&I150&\"$12:\"&I150&\"$384\"))))))","v":"Attack Helo, Helo"},null,0.03,{"$f":"IF($A$2,INDEX([1]Sheet1!$A$12:$AO$193,MATCH($A150,[1]Sheet1!$A$12:$A$193,0),8),2*$L150)","v":0.06},{"$f":"INDEX([1]Sheet1!$A$12:$AO$193,MATCH($A150,[1]Sheet1!$A$12:$A$193,0),9)*(1+$A$4)","v":0.36850000000000005},{"$f":"INDEX([1]Sheet1!$A$12:$AO$193,MATCH($A150,[1]Sheet1!$A$12:$A$193,0),10)*(1+$A$4)","v":1.8513000000000002},{"$f":"COUNTIF($P$5:P$5,\"Year\")*$I$4","v":5},{"$f":"0%","v":0},0,{"$f":"COUNTIF($P$5:S$5,\"Year\")*$I$4","v":10},{"$f":"0%","v":0},0.03,{"$f":"COUNTIF($P$5:V$5,\"Year\")*$I$4","v":15},{"$f":"0%","v":0},0,{"$f":"COUNTIF($P$5:Y$5,\"Year\")*$I$4","v":20},{"$f":"0%","v":0},0.03,{"$f":"COUNTIF($P$5:AB$5,\"Year\")*$I$4","v":25},{"$f":"0%","v":0},0,{"$f":"COUNTIF($P$5:AE$5,\"Year\")*$I$4","v":30},{"$f":"0%","v":0},0.03,{"$f":"COUNTIF($P$5:AH$5,\"Year\")*$I$4","v":35},{"$f":"0%","v":0},0,{"$f":"COUNTIF($P$5:AK$5,\"Year\")*$I$4","v":40},{"$f":"0%","v":0},0.03,null,null,null,null,null,null,null,"",0,0,0,0,0,0,0,0,0,0,0,0,0,18,6,120,{"$f":"INDEX('Avionics ID'!A:E,MATCH(B150,'Avionics ID'!E:E,0),3)","v":"Sensors"}]
[{"$f":"INDEX('Avionics ID'!A:E,MATCH(B151,'Avionics ID'!E:E,0),1)","v":870},"Radio Altimeters",0.05,0.03,null,null,20,"Obsolescence",{"$f":"SUBSTITUTE(ADDRESS(1,MATCH(A151,'Pt1-AvionicsComponentCosts'!$A$6:$NC$6,0)+1),\"$1\",\"\")","v":"$BF"},{"$f":"_xlfn.TEXTJOIN(\", \",TRUE,_xlfn.UNIQUE(_xlfn._xlws.SORT(_xlfn._xlws.FILTER('Pt1-AvionicsComponentCosts'!$NF$12:$NF$384,ISNUMBER(INDIRECT(\"'Pt1-AvionicsComponentCosts'!\"&I151&\"$12:\"&I151&\"$384\"))))))","v":"UAV"},null,0.03,{"$f":"IF($A$2,INDEX([1]Sheet1!$A$12:$AO$193,MATCH($A151,[1]Sheet1!$A$12:$A$193,0),8),2*$L151)","v":0.06},{"$f":"INDEX([1]Sheet1!$A$12:$AO$193,MATCH($A151,[1]Sheet1!$A$12:$A$193,0),9)*(1+$A$4)","v":0.55110000000000003},{"$f":"INDEX([1]Sheet1!$A$12:$AO$193,MATCH($A151,[1]Sheet1!$A$12:$A$193,0),10)*(1+$A$4)","v":1.4267000000000001},{"$f":"COUNTIF($P$5:P$5,\"Year\")*$I$4","v":5},{"$f":"0%","v":0},0,{"$f":"COUNTIF($P$5:S$5,\"Year\")*$I$4","v":10},{"$f":"0%","v":0},0.03,{"$f":"COUNTIF($P$5:V$5,\"Year\")*$I$4","v":15},{"$f":"0%","v":0},0,{"$f":"COUNTIF($P$5:Y$5,\"Year\")*$I$4","v":20},{"$f":"0%","v":0},0.03,{"$f":"COUNTIF($P$5:AB$5,\"Year\")*$I$4","v":25},{"$f":"0%","v":0},0,{"$f":"COUNTIF($P$5:AE$5,\"Year\")*$I$4","v":30},{"$f":"0%","v":0},0.03,{"$f":"COUNTIF($P$5:AH$5,\"Year\")*$I$4","v":35},{"$f":"0%","v":0},0,{"$f":"COUNTIF($P$5:AK$5,\"Year\")*$I$4","v":40},{"$f":"0%","v":0},0.03,null,null,null,null,null,null,null,"",0,0,0,0,0,0,0,0,0,0,0,0,0,18,6,120,{"$f":"INDEX('Avionics ID'!A:E,MATCH(B151,'Avionics ID'!E:E,0),3)","v":"Communications"}]
[{"$f":"INDEX('Avionics ID'!A:E,MATCH(B152,'Avionics ID'!E:E,0),1)","v":876},"Radio antenna receivers/transmitters",0.05,0.06,null,null,20,"Obsolescence",{"$f":"SUBSTITUTE(ADDRESS(1,MATCH(A152,'Pt1-AvionicsComponentCosts'!$A$6:$NC$6,0)+1),\"$1\",\"\")","v":"$BH"},{"$f":"_xlfn.TEXTJOIN(\", \",TRUE,_xlfn.UNIQUE(_xlfn._xlws.SORT(_xlfn._xlws.FILTER('Pt1-AvionicsComponentCosts'!$NF$12:$NF$384,ISNUMBER(INDIRECT(\"'Pt1-AvionicsComponentCosts'!\"&I152&\"$12:\"&I152&\"$384\"))))))","v":"Helo, UAV"},null,0.06,{"$f":"IF($A$2,INDEX([1]Sheet1!$A$12:$AO$193,MATCH($A152,[1]Sheet1!$A$12:$A$193,0),8),2*$L152)","v":0.12},{"$f":"INDEX([1]Sheet1!$A$12:$AO$193,MATCH($A152,[1]Sheet1!$A$12:$A$193,0),9)*(1+$A$4)","v":0.55110000000000003},{"$f":"INDEX([1]Sheet1!$A$12:$AO$193,MATCH($A152,[1]Sheet1!$A$12:$A$193,0),10)*(1+$A$4)","v":1.4267000000000001},{"$f":"COUNTIF($P$5:P$5,\"Year\")*$I$4","v":5},{"$f":"0%","v":0},0,{"$f":"COUNTIF($P$5:S$5,\"Year\")*$I$4","v":10},{"$f":"0%","v":0},0.06,{"$f":"COUNTIF($P$5:V$5,\"Year\")*$I$4","v":15},{"$f":"0%","v":0},0,{"$f":"COUNTIF($P$5:Y$5,\"Year\")*$I$4","v":20},{"$f":"0%","v":0},0.06,{"$f":"COUNTIF($P$5:AB$5,\"Year\")*$I$4","v":25},{"$f":"0%","v":0},0,{"$f":"COUNTIF($P$5:AE$5,\"Year\")*$I$4","v":30},{"$f":"0%","v":0},0.06,{"$f":"COUNTIF($P$5:AH$5,\"Year\")*$I$4","v":35},{"$f":"0%","v":0},0,{"$f":"COUNTIF($P$5:AK$5,\"Year\")*$I$4","v":40},{"$f":"0%","v":0},0.06,null,null,null,null,null,null,null,"",0,0,0,0,0,0,0,0,0,0,0,0,0,36,12,240,{"$f":"INDEX('Avionics ID'!A:E,MATCH(B152,'Avionics ID'!E:E,0),3)","v":"Communications"}]
[{"$f":"INDEX('Avionics ID'!A:E,MATCH(B153,'Avionics ID'!E:E,0),1)","v":830},"Radio antenna, amplifier, sat data",0.1,0.08,null,null,10,"Obsolescence",{"$f":"SUBSTITUTE(ADDRESS(1,MATCH(A153,'Pt1-AvionicsComponentCosts'!$A$6:$NC$6,0)+1),\"$1\",\"\")","v":"$BJ"},{"$f":"_xlfn.TEXTJOIN(\", \",TRUE,_xlfn.UNIQUE(_xlfn._xlws.SORT(_xlfn._xlws.FILTER('Pt1-AvionicsComponentCosts'!$NF$12:$NF$384,ISNUMBER(INDIRECT(\"'Pt1-AvionicsComponentCosts'!\"&I153&\"$12:\"&I153&\"$384\"))))))","v":"Challenger, Citation, E550, EMB Bizjet, Falcon, Global, Gulfstream, Hawker, Hondajet, Learjet, Nextant 400XT, PC-24, Phenom, Praetor, SF50"},null,0.08,{"$f":"IF($A$2,INDEX([1]Sheet1!$A$12:$AO$193,MATCH($A153,[1]Sheet1!$A$12:$A$193,0),8),2*$L153)","v":0.16},{"$f":"INDEX([1]Sheet1!$A$12:$AO$193,MATCH($A153,[1]Sheet1!$A$12:$A$193,0),9)*(1+$A$4)","v":0.55110000000000003},{"$f":"INDEX([1]Sheet1!$A$12:$AO$193,MATCH($A153,[1]Sheet1!$A$12:$A$193,0),10)*(1+$A$4)","v":1.4267000000000001},{"$f":"COUNTIF($P$5:P$5,\"Year\")*$I$4","v":5},{"$f":"0%","v":0},0.08,{"$f":"COUNTIF($P$5:S$5,\"Year\")*$I$4","v":10},{"$f":"0%","v":0},0.08,{"$f":"COUNTIF($P$5:V$5,\"Year\")*$I$4","v":15},{"$f":"0%","v":0},0.08,{"$f":"COUNTIF($P$5:Y$5,\"Year\")*$I$4","v":20},{"$f":"0%","v":0},0.08,{"$f":"COUNTIF($P$5:AB$5,\"Year\")*$I$4","v":25},{"$f":"0%","v":0},0.08,{"$f":"COUNTIF($P$5:AE$5,\"Year\")*$I$4","v":30},{"$f":"0%","v":0},0.08,{"$f":"COUNTIF($P$5:AH$5,\"Year\")*$I$4","v":35},{"$f":"0%","v":0},0.08,{"$f":"COUNTIF($P$5:AK$5,\"Year\")*$I$4","v":40},{"$f":"0%","v":0},0.08,null,null,null,null,null,null,null,"",0,0,0,0,0,0,0,0,0,0,0,0,0,80,16,320,{"$f":"INDEX('Avionics ID'!A:E,MATCH(B153,'Avionics ID'!E:E,0),3)","v":"Communications"}]
[{"$f":"INDEX('Avionics ID'!A:E,MATCH(B154,'Avionics ID'!E:E,0),1)","v":806},"Radio Antennas",0.1,0.1,null,null,10,"Obsolescence",{"$f":"SUBSTITUTE(ADDRESS(1,MATCH(A154,'Pt1-AvionicsComponentCosts'!$A$6:$NC$6,0)+1),\"$1\",\"\")","v":"$BL"},{"$f":"_xlfn.TEXTJOIN(\", \",TRUE,_xlfn.UNIQUE(_xlfn._xlws.SORT(_xlfn._xlws.FILTER('Pt1-AvionicsComponentCosts'!$NF$12:$NF$384,ISNUMBER(INDIRECT(\"'Pt1-AvionicsComponentCosts'!\"&I154&\"$12:\"&I154&\"$384\"))))))","v":"ARJ, Challenger, Citation, CRJ, E550, EMB Bizjet, EMB Regional, Falcon, Global, Gulfstream, Hawker, Hondajet, Learjet, Nextant 400XT, PC-24, Phenom, Praetor, Reg TP, SF50, Superjet 100, Turbine GA"},null,0.1,{"$f":"IF($A$2,INDEX([1]Sheet1!$A$12:$AO$193,MATCH($A154,[1]Sheet1!$A$12:$A$193,0),8),2*$L154)","v":0.2},{"$f":"INDEX([1]Sheet1!$A$12:$AO$193,MATCH($A154,[1]Sheet1!$A$12:$A$193,0),9)*(1+$A$4)","v":0.55110000000000003},{"$f":"INDEX([1]Sheet1!$A$12:$AO$193,MATCH($A154,[1]Sheet1!$A$12:$A$193,0),10)*(1+$A$4)","v":1.4267000000000001},{"$f":"COUNTIF($P$5:P$5,\"Year\")*$I$4","v":5},{"$f":"0%","v":0},0.1,{"$f":"COUNTIF($P$5:S$5,\"Year\")*$I$4","v":10},{"$f":"0%","v":0},0.1,{"$f":"COUNTIF($P$5:V$5,\"Year\")*$I$4","v":15},{"$f":"0%","v":0},0.1,{"$f":"COUNTIF($P$5:Y$5,\"Year\")*$I$4","v":20},{"$f":"0%","v":0},0.1,{"$f":"COUNTIF($P$5:AB$5,\"Year\")*$I$4","v":25},{"$f":"0%","v":0},0.1,{"$f":"COUNTIF($P$5:AE$5,\"Year\")*$I$4","v":30},{"$f":"0%","v":0},0.1,{"$f":"COUNTIF($P$5:AH$5,\"Year\")*$I$4","v":35},{"$f":"0%","v":0},0.1,{"$f":"COUNTIF($P$5:AK$5,\"Year\")*$I$4","v":40},{"$f":"0%","v":0},0.1,null,null,null,null,null,null,null,"",0,0,0,0,0,0,0,0,0,0,0,0,0,100,20,400,{"$f":"INDEX('Avionics ID'!A:E,MATCH(B154,'Avionics ID'!E:E,0),3)","v":"Communications"}]
[{"$f":"INDEX('Avionics ID'!A:E,MATCH(B155,'Avionics ID'!E:E,0),1)","v":743},"Radio Management Panel",6.6666666666666666E-2,0.08,"CPDLC",2028,15,"Technology / regulatory",{"$f":"SUBSTITUTE(ADDRESS(1,MATCH(A155,'Pt1-AvionicsComponentCosts'!$A$6:$NC$6,0)+1),\"$1\",\"\")","v":"$BN"},{"$f":"_xlfn.TEXTJOIN(\", \",TRUE,_xlfn.UNIQUE(_xlfn._xlws.SORT(_xlfn._xlws.FILTER('Pt1-AvionicsComponentCosts'!$NF$12:$NF$384,ISNUMBER(INDIRECT(\"'Pt1-AvionicsComponentCosts'!\"&I155&\"$12:\"&I155&\"$384\"))))))","v":"A220, A300, A320, A321, A330, A340, A350, A380, ATR, B717, B737, B747, B757, B767, B777, B787, C919, EMB Regional, MC-21, MD-11, Mil Transport, Military Jet, NSA"},null,0.08,{"$f":"IF($A$2,INDEX([1]Sheet1!$A$12:$AO$193,MATCH($A155,[1]Sheet1!$A$12:$A$193,0),8),2*$L155)","v":0.16},{"$f":"INDEX([1]Sheet1!$A$12:$AO$193,MATCH($A155,[1]Sheet1!$A$12:$A$193,0),9)*(1+$A$4)","v":0.55110000000000003},{"$f":"INDEX([1]Sheet1!$A$12:$AO$193,MATCH($A155,[1]Sheet1!$A$12:$A$193,0),10)*(1+$A$4)","v":1.4267000000000001},{"$f":"COUNTIF($P$5:P$5,\"Year\")*$I$4","v":5},{"$f":"0%","v":0},0,{"$f":"COUNTIF($P$5:S$5,\"Year\")*$I$4","v":10},{"$f":"0%","v":0},0.08,{"$f":"COUNTIF($P$5:V$5,\"Year\")*$I$4","v":15},{"$f":"0%","v":0},0.08,{"$f":"COUNTIF($P$5:Y$5,\"Year\")*$I$4","v":20},{"$f":"0%","v":0},0.08,{"$f":"COUNTIF($P$5:AB$5,\"Year\")*$I$4","v":25},{"$f":"0%","v":0},0,{"$f":"COUNTIF($P$5:AE$5,\"Year\")*$I$4","v":30},{"$f":"0%","v":0},0.08,{"$f":"COUNTIF($P$5:AH$5,\"Year\")*$I$4","v":35},{"$f":"0%","v":0},0,{"$f":"COUNTIF($P$5:AK$5,\"Year\")*$I$4","v":40},{"$f":"0%","v":0},0.08,null,null,null,null,null,null,null,"CPDLC",1.4267000000000001,0,0,0.15,0.25,0.45,0.15,0,0,0,0,0,0,155.99999999999997,16,320,{"$f":"INDEX('Avionics ID'!A:E,MATCH(B155,'Avionics ID'!E:E,0),3)","v":"Communications"}]
[{"$f":"INDEX('Avionics ID'!A:E,MATCH(B156,'Avionics ID'!E:E,0),1)","v":741},"Radio management system",6.6666666666666666E-2,0.06,"CPDLC",2028,15,"Technology / regulatory",{"$f":"SUBSTITUTE(ADDRESS(1,MATCH(A156,'Pt1-AvionicsComponentCosts'!$A$6:$NC$6,0)+1),\"$1\",\"\")","v":"$BP"},{"$f":"_xlfn.TEXTJOIN(\", \",TRUE,_xlfn.UNIQUE(_xlfn._xlws.SORT(_xlfn._xlws.FILTER('Pt1-AvionicsComponentCosts'!$NF$12:$NF$384,ISNUMBER(INDIRECT(\"'Pt1-AvionicsComponentCosts'!\"&I156&\"$12:\"&I156&\"$384\"))))))","v":"A220, A300, A320, A321, A330, A340, A350, A380, ARJ, ATR, B717, B737, B747, B757, B767, B777, C919, CRJ, EMB Regional, MC-21, MD-11, Mil Transport, Military Jet, NSA, Reg TP, Superjet 100, Turbine GA"},null,0.06,{"$f":"IF($A$2,INDEX([1]Sheet1!$A$12:$AO$193,MATCH($A156,[1]Sheet1!$A$12:$A$193,0),8),2*$L156)","v":0.12},{"$f":"INDEX([1]Sheet1!$A$12:$AO$193,MATCH($A156,[1]Sheet1!$A$12:$A$193,0),9)*(1+$A$4)","v":0.55110000000000003},{"$f":"INDEX([1]Sheet1!$A$12:$AO$193,MATCH($A156,[1]Sheet1!$A$12:$A$193,0),10)*(1+$A$4)","v":1.4267000000000001},{"$f":"COUNTIF($P$5:P$5,\"Year\")*$I$4","v":5},{"$f":"0%","v":0},0,{"$f":"COUNTIF($P$5:S$5,\"Year\")*$I$4","v":10},{"$f":"0%","v":0},0.06,{"$f":"COUNTIF($P$5:V$5,\"Year\")*$I$4","v":15},{"$f":"0%","v":0},0.06,{"$f":"COUNTIF($P$5:Y$5,\"Year\")*$I$4","v":20},{"$f":"0%","v":0},0.06,{"$f":"COUNTIF($P$5:AB$5,\"Year\")*$I$4","v":25},{"$f":"0%","v":0},0,{"$f":"COUNTIF($P$5:AE$5,\"Year\")*$I$4","v":30},{"$f":"0%","v":0},0.06,{"$f":"COUNTIF($P$5:AH$5,\"Year\")*$I$4","v":35},{"$f":"0%","v":0},0,{"$f":"COUNTIF($P$5:AK$5,\"Year\")*$I$4","v":40},{"$f":"0%","v":0},0.06,null,null,null,null,null,null,null,"CPDLC",1.4267000000000001,{"$f":"IF($H156=\"Technology / regulatory\",IF(AW$5=$F156-2,$AW$1,IF(AW$5=$F156-1,$AX$1,IF(AW$5=$F156,$AY$1,IF(AW$5=$F156+1,$AZ$1,0)))),0)","v":0},0,0.15,0.25,0.45,0.15,0,0,0,0,0,0,142,12,240,{"$f":"INDEX('Avionics ID'!A:E,MATCH(B156,'Avionics ID'!E:E,0),3)","v":"Communications"}]
[{"$f":"INDEX('Avionics ID'!A:E,MATCH(B157,'Avionics ID'!E:E,0),1)","v":818},"Radio receivers",0.05,0.03,null,null,20,"Obsolescence",{"$f":"SUBSTITUTE(ADDRESS(1,MATCH(A157,'Pt1-AvionicsComponentCosts'!$A$6:$NC$6,0)+1),\"$1\",\"\")","v":"$BR"},{"$f":"_xlfn.TEXTJOIN(\", \",TRUE,_xlfn.UNIQUE(_xlfn._xlws.SORT(_xlfn._xlws.FILTER('Pt1-AvionicsComponentCosts'!$NF$12:$NF$384,ISNUMBER(INDIRECT(\"'Pt1-AvionicsComponentCosts'!\"&I157&\"$12:\"&I157&\"$384\"))))))","v":"Mil Fighter, TP Trainer"},null,0.03,{"$f":"IF($A$2,INDEX([1]Sheet1!$A$12:$AO$193,MATCH($A157,[1]Sheet1!$A$12:$A$193,0),8),2*$L157)","v":0.06},{"$f":"INDEX([1]Sheet1!$A$12:$AO$193,MATCH($A157,[1]Sheet1!$A$12:$A$193,0),9)*(1+$A$4)","v":0.55110000000000003},{"$f":"INDEX([1]Sheet1!$A$12:$AO$193,MATCH($A157,[1]Sheet1!$A$12:$A$193,0),10)*(1+$A$4)","v":1.4267000000000001},{"$f":"COUNTIF($P$5:P$5,\"Year\")*$I$4","v":5},{"$f":"0%","v":0},0,{"$f":"COUNTIF($P$5:S$5,\"Year\")*$I$4","v":10},{"$f":"0%","v":0},0.03,{"$f":"COUNTIF($P$5:V$5,\"Year\")*$I$4","v":15},{"$f":"0%","v":0},0,{"$f":"COUNTIF($P$5:Y$5,\"Year\")*$I$4","v":20},{"$f":"0%","v":0},0.03,{"$f":"COUNTIF($P$5:AB$5,\"Year\")*$I$4","v":25},{"$f":"0%","v":0},0,{"$f":"COUNTIF($P$5:AE$5,\"Year\")*$I$4","v":30},{"$f":"0%","v":0},0.03,{"$f":"COUNTIF($P$5:AH$5,\"Year\")*$I$4","v":35},{"$f":"0%","v":0},0,{"$f":"COUNTIF($P$5:AK$5,\"Year\")*$I$4","v":40},{"$f":"0%","v":0},0.03,null,null,null,null,null,null,null,"",0,0,0,0,0,0,0,0,0,0,0,0,0,18,6,120,{"$f":"INDEX('Avionics ID'!A:E,MATCH(B157,'Avionics ID'!E:E,0),3)","v":"Communications"}]
[{"$f":"INDEX('Avionics ID'!A:E,MATCH(B158,'Avionics ID'!E:E,0),1)","v":780},"Radio Tuning control Panels",0.1,0.08,null,null,10,"Obsolescence",{"$f":"SUBSTITUTE(ADDRESS(1,MATCH(A158,'Pt1-AvionicsComponentCosts'!$A$6:$NC$6,0)+1),\"$1\",\"\")","v":"$BT"},{"$f":"_xlfn.TEXTJOIN(\", \",TRUE,_xlfn.UNIQUE(_xlfn._xlws.SORT(_xlfn._xlws.FILTER('Pt1-AvionicsComponentCosts'!$NF$12:$NF$384,ISNUMBER(INDIRECT(\"'Pt1-AvionicsComponentCosts'!\"&I158&\"$12:\"&I158&\"$384\"))))))","v":"A350, B747, B777, B787"},null,0.08,{"$f":"IF($A$2,INDEX([1]Sheet1!$A$12:$AO$193,MATCH($A158,[1]Sheet1!$A$12:$A$193,0),8),2*$L158)","v":0.16},{"$f":"INDEX([1]Sheet1!$A$12:$AO$193,MATCH($A158,[1]Sheet1!$A$12:$A$193,0),9)*(1+$A$4)","v":0.55110000000000003},{"$f":"INDEX([1]Sheet1!$A$12:$AO$193,MATCH($A158,[1]Sheet1!$A$12:$A$193,0),10)*(1+$A$4)","v":1.4267000000000001},{"$f":"COUNTIF($P$5:P$5,\"Year\")*$I$4","v":5},{"$f":"0%","v":0},0.08,{"$f":"COUNTIF($P$5:S$5,\"Year\")*$I$4","v":10},{"$f":"0%","v":0},0.08,{"$f":"COUNTIF($P$5:V$5,\"Year\")*$I$4","v":15},{"$f":"0%","v":0},0.08,{"$f":"COUNTIF($P$5:Y$5,\"Year\")*$I$4","v":20},{"$f":"0%","v":0},0.08,{"$f":"COUNTIF($P$5:AB$5,\"Year\")*$I$4","v":25},{"$f":"0%","v":0},0.08,{"$f":"COUNTIF($P$5:AE$5,\"Year\")*$I$4","v":30},{"$f":"0%","v":0},0.08,{"$f":"COUNTIF($P$5:AH$5,\"Year\")*$I$4","v":35},{"$f":"0%","v":0},0.08,{"$f":"COUNTIF($P$5:AK$5,\"Year\")*$I$4","v":40},{"$f":"0%","v":0},0.08,null,null,null,null,null,null,null,"",0,0,0,0,0,0,0,0,0,0,0,0,0,80,16,320,{"$f":"INDEX('Avionics ID'!A:E,MATCH(B158,'Avionics ID'!E:E,0),3)","v":"Communications"}]
[{"$f":"INDEX('Avionics ID'!A:E,MATCH(B159,'Avionics ID'!E:E,0),1)","v":774},"Remote Data Concentrators",0.05,0.06,null,null,20,"Obsolescence",{"$f":"SUBSTITUTE(ADDRESS(1,MATCH(A159,'Pt1-AvionicsComponentCosts'!$A$6:$NC$6,0)+1),\"$1\",\"\")","v":"$HV"},{"$f":"_xlfn.TEXTJOIN(\", \",TRUE,_xlfn.UNIQUE(_xlfn._xlws.SORT(_xlfn._xlws.FILTER('Pt1-AvionicsComponentCosts'!$NF$12:$NF$384,ISNUMBER(INDIRECT(\"'Pt1-AvionicsComponentCosts'!\"&I159&\"$12:\"&I159&\"$384\"))))))","v":{"$error":"#VALUE!"}},null,0.06,{"$f":"IF($A$2,INDEX([1]Sheet1!$A$12:$AO$193,MATCH($A159,[1]Sheet1!$A$12:$A$193,0),8),2*$L159)","v":0.12},{"$f":"INDEX([1]Sheet1!$A$12:$AO$193,MATCH($A159,[1]Sheet1!$A$12:$A$193,0),9)*(1+$A$4)","v":0.39050000000000001},{"$f":"INDEX([1]Sheet1!$A$12:$AO$193,MATCH($A159,[1]Sheet1!$A$12:$A$193,0),10)*(1+$A$4)","v":1.1561000000000001},{"$f":"COUNTIF($P$5:P$5,\"Year\")*$I$4","v":5},{"$f":"0%","v":0},0,{"$f":"COUNTIF($P$5:S$5,\"Year\")*$I$4","v":10},{"$f":"0%","v":0},0.06,{"$f":"COUNTIF($P$5:V$5,\"Year\")*$I$4","v":15},{"$f":"0%","v":0},0,{"$f":"COUNTIF($P$5:Y$5,\"Year\")*$I$4","v":20},{"$f":"0%","v":0},0.06,{"$f":"COUNTIF($P$5:AB$5,\"Year\")*$I$4","v":25},{"$f":"0%","v":0},0,{"$f":"COUNTIF($P$5:AE$5,\"Year\")*$I$4","v":30},{"$f":"0%","v":0},0.06,{"$f":"COUNTIF($P$5:AH$5,\"Year\")*$I$4","v":35},{"$f":"0%","v":0},0,{"$f":"COUNTIF($P$5:AK$5,\"Year\")*$I$4","v":40},{"$f":"0%","v":0},0.06,null,null,null,null,null,null,null,"",0,0,0,0,0,0,0,0,0,0,0,0,0,36,12,240,{"$f":"INDEX('Avionics ID'!A:E,MATCH(B159,'Avionics ID'!E:E,0),3)","v":"IMA"}]
[784,"Remote Data concentrators",0.05,0.06,null,null,20,"Obsolescence",{"$f":"SUBSTITUTE(ADDRESS(1,MATCH(A160,'Pt1-AvionicsComponentCosts'!$A$6:$NC$6,0)+1),\"$1\",\"\")","v":"$HT"},{"$f":"_xlfn.TEXTJOIN(\", \",TRUE,_xlfn.UNIQUE(_xlfn._xlws.SORT(_xlfn._xlws.FILTER('Pt1-AvionicsComponentCosts'!$NF$12:$NF$384,ISNUMBER(INDIRECT(\"'Pt1-AvionicsComponentCosts'!\"&I160&\"$12:\"&I160&\"$384\"))))))","v":"A350, Attack, B747, B777, B787, Stealth"},null,0.06,{"$f":"IF($A$2,INDEX([1]Sheet1!$A$12:$AO$193,MATCH($A160,[1]Sheet1!$A$12:$A$193,0),8),2*$L160)","v":0.12},{"$f":"INDEX([1]Sheet1!$A$12:$AO$193,MATCH($A160,[1]Sheet1!$A$12:$A$193,0),9)*(1+$A$4)","v":0.39050000000000001},{"$f":"INDEX([1]Sheet1!$A$12:$AO$193,MATCH($A160,[1]Sheet1!$A$12:$A$193,0),10)*(1+$A$4)","v":1.1561000000000001},{"$f":"COUNTIF($P$5:P$5,\"Year\")*$I$4","v":5},{"$f":"0%","v":0},0,{"$f":"COUNTIF($P$5:S$5,\"Year\")*$I$4","v":10},{"$f":"0%","v":0},0.06,{"$f":"COUNTIF($P$5:V$5,\"Year\")*$I$4","v":15},{"$f":"0%","v":0},0,{"$f":"COUNTIF($P$5:Y$5,\"Year\")*$I$4","v":20},{"$f":"0%","v":0},0.06,{"$f":"COUNTIF($P$5:AB$5,\"Year\")*$I$4","v":25},{"$f":"0%","v":0},0,{"$f":"COUNTIF($P$5:AE$5,\"Year\")*$I$4","v":30},{"$f":"0%","v":0},0.06,{"$f":"COUNTIF($P$5:AH$5,\"Year\")*$I$4","v":35},{"$f":"0%","v":0},0,{"$f":"COUNTIF($P$5:AK$5,\"Year\")*$I$4","v":40},{"$f":"0%","v":0},0.06,null,null,null,null,null,null,null,"",0,0,0,0,0,0,0,0,0,0,0,0,0,36,12,240,{"$f":"INDEX('Avionics ID'!A:E,MATCH(B160,'Avionics ID'!E:E,0),3)","v":"IMA"}]
[{"$f":"INDEX('Avionics ID'!A:E,MATCH(B161,'Avionics ID'!E:E,0),1)","v":769},"SATCOM",0.1,0.08,null,null,10,"Obsolescence",{"$f":"SUBSTITUTE(ADDRESS(1,MATCH(A161,'Pt1-AvionicsComponentCosts'!$A$6:$NC$6,0)+1),\"$1\",\"\")","v":"$BV"},{"$f":"_xlfn.TEXTJOIN(\", \",TRUE,_xlfn.UNIQUE(_xlfn._xlws.SORT(_xlfn._xlws.FILTER('Pt1-AvionicsComponentCosts'!$NF$12:$NF$384,ISNUMBER(INDIRECT(\"'Pt1-AvionicsComponentCosts'!\"&I161&\"$12:\"&I161&\"$384\"))))))","v":"A300, A320, A330, A340, A350, A380, B747, B767, B777, B787, MD-11, UAV"},null,0.08,{"$f":"IF($A$2,INDEX([1]Sheet1!$A$12:$AO$193,MATCH($A161,[1]Sheet1!$A$12:$A$193,0),8),2*$L161)","v":0.16},{"$f":"INDEX([1]Sheet1!$A$12:$AO$193,MATCH($A161,[1]Sheet1!$A$12:$A$193,0),9)*(1+$A$4)","v":0.55110000000000003},{"$f":"INDEX([1]Sheet1!$A$12:$AO$193,MATCH($A161,[1]Sheet1!$A$12:$A$193,0),10)*(1+$A$4)","v":1.4267000000000001},{"$f":"COUNTIF($P$5:P$5,\"Year\")*$I$4","v":5},{"$f":"0%","v":0},0.08,{"$f":"COUNTIF($P$5:S$5,\"Year\")*$I$4","v":10},{"$f":"0%","v":0},0.08,{"$f":"COUNTIF($P$5:V$5,\"Year\")*$I$4","v":15},{"$f":"0%","v":0},0.08,{"$f":"COUNTIF($P$5:Y$5,\"Year\")*$I$4","v":20},{"$f":"0%","v":0},0.08,{"$f":"COUNTIF($P$5:AB$5,\"Year\")*$I$4","v":25},{"$f":"0%","v":0},0.08,{"$f":"COUNTIF($P$5:AE$5,\"Year\")*$I$4","v":30},{"$f":"0%","v":0},0.08,{"$f":"COUNTIF($P$5:AH$5,\"Year\")*$I$4","v":35},{"$f":"0%","v":0},0.08,{"$f":"COUNTIF($P$5:AK$5,\"Year\")*$I$4","v":40},{"$f":"0%","v":0},0.08,null,null,null,null,null,null,null,"",0,0,0,0,0,0,0,0,0,0,0,0,0,80,16,320,{"$f":"INDEX('Avionics ID'!A:E,MATCH(B161,'Avionics ID'!E:E,0),3)","v":"Communications"}]
[{"$f":"INDEX('Avionics ID'!A:E,MATCH(B162,'Avionics ID'!E:E,0),1)","v":884},"Sensor suite WX radar etc",0.1,0.08,null,null,10,"Obsolescence",{"$f":"SUBSTITUTE(ADDRESS(1,MATCH(A162,'Pt1-AvionicsComponentCosts'!$A$6:$NC$6,0)+1),\"$1\",\"\")","v":"$MV"},{"$f":"_xlfn.TEXTJOIN(\", \",TRUE,_xlfn.UNIQUE(_xlfn._xlws.SORT(_xlfn._xlws.FILTER('Pt1-AvionicsComponentCosts'!$NF$12:$NF$384,ISNUMBER(INDIRECT(\"'Pt1-AvionicsComponentCosts'!\"&I162&\"$12:\"&I162&\"$384\"))))))","v":"Challenger, Citation, E550, EMB Bizjet, Falcon, Global, Gulfstream, Hawker, Hondajet, Learjet, Nextant 400XT, PC-24, Phenom, Praetor, SF50"},null,0.08,{"$f":"IF($A$2,INDEX([1]Sheet1!$A$12:$AO$193,MATCH($A162,[1]Sheet1!$A$12:$A$193,0),8),2*$L162)","v":0.16},{"$f":"INDEX([1]Sheet1!$A$12:$AO$193,MATCH($A162,[1]Sheet1!$A$12:$A$193,0),9)*(1+$A$4)","v":0.49280000000000007},{"$f":"INDEX([1]Sheet1!$A$12:$AO$193,MATCH($A162,[1]Sheet1!$A$12:$A$193,0),10)*(1+$A$4)","v":1.4278000000000002},{"$f":"COUNTIF($P$5:P$5,\"Year\")*$I$4","v":5},{"$f":"0%","v":0},0.08,{"$f":"COUNTIF($P$5:S$5,\"Year\")*$I$4","v":10},{"$f":"0%","v":0},0.08,{"$f":"COUNTIF($P$5:V$5,\"Year\")*$I$4","v":15},{"$f":"0%","v":0},0.08,{"$f":"COUNTIF($P$5:Y$5,\"Year\")*$I$4","v":20},{"$f":"0%","v":0},0.08,{"$f":"COUNTIF($P$5:AB$5,\"Year\")*$I$4","v":25},{"$f":"0%","v":0},0.08,{"$f":"COUNTIF($P$5:AE$5,\"Year\")*$I$4","v":30},{"$f":"0%","v":0},0.08,{"$f":"COUNTIF($P$5:AH$5,\"Year\")*$I$4","v":35},{"$f":"0%","v":0},0.08,{"$f":"COUNTIF($P$5:AK$5,\"Year\")*$I$4","v":40},{"$f":"0%","v":0},0.08,null,null,null,null,null,null,null,"",0,0,0,0,0,0,0,0,0,0,0,0,0,80,16,320,{"$f":"INDEX('Avionics ID'!A:E,MATCH(B162,'Avionics ID'!E:E,0),3)","v":"Surveillance"}]
[{"$f":"INDEX('Avionics ID'!A:E,MATCH(B163,'Avionics ID'!E:E,0),1)","v":878},"Sensors IFF, other",0.1,0.06,null,null,10,"Obsolescence",{"$f":"SUBSTITUTE(ADDRESS(1,MATCH(A163,'Pt1-AvionicsComponentCosts'!$A$6:$NC$6,0)+1),\"$1\",\"\")","v":"$LP"},{"$f":"_xlfn.TEXTJOIN(\", \",TRUE,_xlfn.UNIQUE(_xlfn._xlws.SORT(_xlfn._xlws.FILTER('Pt1-AvionicsComponentCosts'!$NF$12:$NF$384,ISNUMBER(INDIRECT(\"'Pt1-AvionicsComponentCosts'!\"&I163&\"$12:\"&I163&\"$384\"))))))","v":"A300, A320, A330, A330 LMXT, A330 MRTT, A340, A350, A380, B747, B767, B777, B787, Challenger, Citation, EMB Bizjet, Falcon, Global, Gulfstream, Hawker, Helo, Learjet, MD-11, Mil Fighter, Mil Transport, Military Jet, Military TP, Phenom, Praetor"},null,0.06,{"$f":"IF($A$2,INDEX([1]Sheet1!$A$12:$AO$193,MATCH($A163,[1]Sheet1!$A$12:$A$193,0),8),2*$L163)","v":0.12},{"$f":"INDEX([1]Sheet1!$A$12:$AO$193,MATCH($A163,[1]Sheet1!$A$12:$A$193,0),9)*(1+$A$4)","v":0.36850000000000005},{"$f":"INDEX([1]Sheet1!$A$12:$AO$193,MATCH($A163,[1]Sheet1!$A$12:$A$193,0),10)*(1+$A$4)","v":1.8513000000000002},{"$f":"COUNTIF($P$5:P$5,\"Year\")*$I$4","v":5},{"$f":"0%","v":0},0.06,{"$f":"COUNTIF($P$5:S$5,\"Year\")*$I$4","v":10},{"$f":"0%","v":0},0.06,{"$f":"COUNTIF($P$5:V$5,\"Year\")*$I$4","v":15},{"$f":"0%","v":0},0.06,{"$f":"COUNTIF($P$5:Y$5,\"Year\")*$I$4","v":20},{"$f":"0%","v":0},0.06,{"$f":"COUNTIF($P$5:AB$5,\"Year\")*$I$4","v":25},{"$f":"0%","v":0},0.06,{"$f":"COUNTIF($P$5:AE$5,\"Year\")*$I$4","v":30},{"$f":"0%","v":0},0.06,{"$f":"COUNTIF($P$5:AH$5,\"Year\")*$I$4","v":35},{"$f":"0%","v":0},0.06,{"$f":"COUNTIF($P$5:AK$5,\"Year\")*$I$4","v":40},{"$f":"0%","v":0},0.06,null,null,null,null,null,null,null,"",0,0,0,0,0,0,0,0,0,0,0,0,0,60,12,240,{"$f":"INDEX('Avionics ID'!A:E,MATCH(B163,'Avionics ID'!E:E,0),3)","v":"Sensors"}]
[{"$f":"INDEX('Avionics ID'!A:E,MATCH(B164,'Avionics ID'!E:E,0),1)","v":879},"Software",0.2,0.06,null,null,5,"Obsolescence",{"$f":"SUBSTITUTE(ADDRESS(1,MATCH(A164,'Pt1-AvionicsComponentCosts'!$A$6:$NC$6,0)+1),\"$1\",\"\")","v":"$LX"},{"$f":"_xlfn.TEXTJOIN(\", \",TRUE,_xlfn.UNIQUE(_xlfn._xlws.SORT(_xlfn._xlws.FILTER('Pt1-AvionicsComponentCosts'!$NF$12:$NF$384,ISNUMBER(INDIRECT(\"'Pt1-AvionicsComponentCosts'!\"&I164&\"$12:\"&I164&\"$384\"))))))","v":"A220, A300, A320, A321, A330, A330 LMXT, A330 MRTT, A340, A350, A380, ARJ, ATR, Attack, Attack Helo, B717, B737, B747, B757, B767, B777, B787, C919, Challenger, Citation, CRJ, E550, EMB Bizjet, EMB Regional, Falcon, Global, Gulfstream, Hawker, Helo, Hondajet, Learjet, MC-21, MD-11, Mil Fighter, Mil Transport, Military Jet, Military TP, Nextant 400XT, NSA, PC-24, Phenom, Praetor, Reg TP, SF50, Stealth, Superjet 100, TP Trainer, Turbine GA, UAV"},null,0.06,{"$f":"IF($A$2,INDEX([1]Sheet1!$A$12:$AO$193,MATCH($A164,[1]Sheet1!$A$12:$A$193,0),8),2*$L164)","v":0.12},{"$f":"INDEX([1]Sheet1!$A$12:$AO$193,MATCH($A164,[1]Sheet1!$A$12:$A$193,0),9)*(1+$A$4)","v":0.57860000000000011},{"$f":"INDEX([1]Sheet1!$A$12:$AO$193,MATCH($A164,[1]Sheet1!$A$12:$A$193,0),10)*(1+$A$4)","v":0.57310000000000005},{"$f":"COUNTIF($P$5:P$5,\"Year\")*$I$4","v":5},{"$f":"0%","v":0},0.06,{"$f":"COUNTIF($P$5:S$5,\"Year\")*$I$4","v":10},{"$f":"0%","v":0},0.06,{"$f":"COUNTIF($P$5:V$5,\"Year\")*$I$4","v":15},{"$f":"0%","v":0},0.06,{"$f":"COUNTIF($P$5:Y$5,\"Year\")*$I$4","v":20},{"$f":"0%","v":0},0.06,{"$f":"COUNTIF($P$5:AB$5,\"Year\")*$I$4","v":25},{"$f":"0%","v":0},0.06,{"$f":"COUNTIF($P$5:AE$5,\"Year\")*$I$4","v":30},{"$f":"0%","v":0},0.06,{"$f":"COUNTIF($P$5:AH$5,\"Year\")*$I$4","v":35},{"$f":"0%","v":0},0.06,{"$f":"COUNTIF($P$5:AK$5,\"Year\")*$I$4","v":40},{"$f":"0%","v":0},0.06,null,null,null,null,null,null,null,"",0,0,0,0,0,0,0,0,0,0,0,0,0,60,12,240,{"$f":"INDEX('Avionics ID'!A:E,MATCH(B164,'Avionics ID'!E:E,0),3)","v":"Software"}]
[{"$f":"INDEX('Avionics ID'!A:E,MATCH(B165,'Avionics ID'!E:E,0),1)","v":791},"Standby display",0.05,0.06,null,null,20,"Obsolescence",{"$f":"SUBSTITUTE(ADDRESS(1,MATCH(A165,'Pt1-AvionicsComponentCosts'!$A$6:$NC$6,0)+1),\"$1\",\"\")","v":"$GB"},{"$f":"_xlfn.TEXTJOIN(\", \",TRUE,_xlfn.UNIQUE(_xlfn._xlws.SORT(_xlfn._xlws.FILTER('Pt1-AvionicsComponentCosts'!$NF$12:$NF$384,ISNUMBER(INDIRECT(\"'Pt1-AvionicsComponentCosts'!\"&I165&\"$12:\"&I165&\"$384\"))))))","v":"Attack, Helo, Stealth, TP Trainer, Turbine GA"},null,0.06,{"$f":"IF($A$2,INDEX([1]Sheet1!$A$12:$AO$193,MATCH($A165,[1]Sheet1!$A$12:$A$193,0),8),2*$L165)","v":0.12},{"$f":"INDEX([1]Sheet1!$A$12:$AO$193,MATCH($A165,[1]Sheet1!$A$12:$A$193,0),9)*(1+$A$4)","v":0.38830000000000003},{"$f":"INDEX([1]Sheet1!$A$12:$AO$193,MATCH($A165,[1]Sheet1!$A$12:$A$193,0),10)*(1+$A$4)","v":2.0306000000000002},{"$f":"COUNTIF($P$5:P$5,\"Year\")*$I$4","v":5},{"$f":"0%","v":0},0,{"$f":"COUNTIF($P$5:S$5,\"Year\")*$I$4","v":10},{"$f":"0%","v":0},0.06,{"$f":"COUNTIF($P$5:V$5,\"Year\")*$I$4","v":15},{"$f":"0%","v":0},0,{"$f":"COUNTIF($P$5:Y$5,\"Year\")*$I$4","v":20},{"$f":"0%","v":0},0.06,{"$f":"COUNTIF($P$5:AB$5,\"Year\")*$I$4","v":25},{"$f":"0%","v":0},0,{"$f":"COUNTIF($P$5:AE$5,\"Year\")*$I$4","v":30},{"$f":"0%","v":0},0.06,{"$f":"COUNTIF($P$5:AH$5,\"Year\")*$I$4","v":35},{"$f":"0%","v":0},0,{"$f":"COUNTIF($P$5:AK$5,\"Year\")*$I$4","v":40},{"$f":"0%","v":0},0.06,null,null,null,null,null,null,null,"",0,0,0,0,0,0,0,0,0,0,0,0,0,36,12,240,{"$f":"INDEX('Avionics ID'!A:E,MATCH(B165,'Avionics ID'!E:E,0),3)","v":"Display"}]
[{"$f":"INDEX('Avionics ID'!A:E,MATCH(B166,'Avionics ID'!E:E,0),1)","v":823},"Standby display unit",0.1,0.06,null,null,10,"Obsolescence",{"$f":"SUBSTITUTE(ADDRESS(1,MATCH(A166,'Pt1-AvionicsComponentCosts'!$A$6:$NC$6,0)+1),\"$1\",\"\")","v":"$GD"},{"$f":"_xlfn.TEXTJOIN(\", \",TRUE,_xlfn.UNIQUE(_xlfn._xlws.SORT(_xlfn._xlws.FILTER('Pt1-AvionicsComponentCosts'!$NF$12:$NF$384,ISNUMBER(INDIRECT(\"'Pt1-AvionicsComponentCosts'!\"&I166&\"$12:\"&I166&\"$384\"))))))","v":"Challenger, Citation, E550, EMB Bizjet, Falcon, Global, Gulfstream, Hawker, Hondajet, Learjet, Nextant 400XT, PC-24, Phenom, Praetor, SF50"},null,0.06,{"$f":"IF($A$2,INDEX([1]Sheet1!$A$12:$AO$193,MATCH($A166,[1]Sheet1!$A$12:$A$193,0),8),2*$L166)","v":0.12},{"$f":"INDEX([1]Sheet1!$A$12:$AO$193,MATCH($A166,[1]Sheet1!$A$12:$A$193,0),9)*(1+$A$4)","v":0.38830000000000003},{"$f":"INDEX([1]Sheet1!$A$12:$AO$193,MATCH($A166,[1]Sheet1!$A$12:$A$193,0),10)*(1+$A$4)","v":2.0306000000000002},{"$f":"COUNTIF($P$5:P$5,\"Year\")*$I$4","v":5},{"$f":"0%","v":0},0.06,{"$f":"COUNTIF($P$5:S$5,\"Year\")*$I$4","v":10},{"$f":"0%","v":0},0.06,{"$f":"COUNTIF($P$5:V$5,\"Year\")*$I$4","v":15},{"$f":"0%","v":0},0.06,{"$f":"COUNTIF($P$5:Y$5,\"Year\")*$I$4","v":20},{"$f":"0%","v":0},0.06,{"$f":"COUNTIF($P$5:AB$5,\"Year\")*$I$4","v":25},{"$f":"0%","v":0},0.06,{"$f":"COUNTIF($P$5:AE$5,\"Year\")*$I$4","v":30},{"$f":"0%","v":0},0.06,{"$f":"COUNTIF($P$5:AH$5,\"Year\")*$I$4","v":35},{"$f":"0%","v":0},0.06,{"$f":"COUNTIF($P$5:AK$5,\"Year\")*$I$4","v":40},{"$f":"0%","v":0},0.06,null,null,null,null,null,null,null,"",0,{"$f":"IF($H166=\"Technology / regulatory\",IF(AW$5=$F166-2,$AW$1,IF(AW$5=$F166-1,$AX$1,IF(AW$5=$F166,$AY$1,IF(AW$5=$F166+1,$AZ$1,0)))),0)","v":0},0,0,0,0,0,0,0,0,0,0,0,60,12,240,{"$f":"INDEX('Avionics ID'!A:E,MATCH(B166,'Avionics ID'!E:E,0),3)","v":"Display"}]
[{"$f":"INDEX('Avionics ID'!A:E,MATCH(B167,'Avionics ID'!E:E,0),1)","v":761},"Static/standby sensors",0.05,0.1,null,null,20,"Obsolescence",{"$f":"SUBSTITUTE(ADDRESS(1,MATCH(A167,'Pt1-AvionicsComponentCosts'!$A$6:$NC$6,0)+1),\"$1\",\"\")","v":"$LR"},{"$f":"_xlfn.TEXTJOIN(\", \",TRUE,_xlfn.UNIQUE(_xlfn._xlws.SORT(_xlfn._xlws.FILTER('Pt1-AvionicsComponentCosts'!$NF$12:$NF$384,ISNUMBER(INDIRECT(\"'Pt1-AvionicsComponentCosts'!\"&I167&\"$12:\"&I167&\"$384\"))))))","v":"A300, A320, A330, A340, A350, A380, B747, B767, B777, MD-11"},null,0.1,{"$f":"IF($A$2,INDEX([1]Sheet1!$A$12:$AO$193,MATCH($A167,[1]Sheet1!$A$12:$A$193,0),8),2*$L167)","v":0.2},{"$f":"INDEX([1]Sheet1!$A$12:$AO$193,MATCH($A167,[1]Sheet1!$A$12:$A$193,0),9)*(1+$A$4)","v":0.36850000000000005},{"$f":"INDEX([1]Sheet1!$A$12:$AO$193,MATCH($A167,[1]Sheet1!$A$12:$A$193,0),10)*(1+$A$4)","v":1.8513000000000002},{"$f":"COUNTIF($P$5:P$5,\"Year\")*$I$4","v":5},{"$f":"0%","v":0},0,{"$f":"COUNTIF($P$5:S$5,\"Year\")*$I$4","v":10},{"$f":"0%","v":0},0.1,{"$f":"COUNTIF($P$5:V$5,\"Year\")*$I$4","v":15},{"$f":"0%","v":0},0,{"$f":"COUNTIF($P$5:Y$5,\"Year\")*$I$4","v":20},{"$f":"0%","v":0},0.1,{"$f":"COUNTIF($P$5:AB$5,\"Year\")*$I$4","v":25},{"$f":"0%","v":0},0,{"$f":"COUNTIF($P$5:AE$5,\"Year\")*$I$4","v":30},{"$f":"0%","v":0},0.1,{"$f":"COUNTIF($P$5:AH$5,\"Year\")*$I$4","v":35},{"$f":"0%","v":0},0,{"$f":"COUNTIF($P$5:AK$5,\"Year\")*$I$4","v":40},{"$f":"0%","v":0},0.1,null,null,null,null,null,null,null,"",0,0,0,0,0,0,0,0,0,0,0,0,0,60.000000000000007,20,400,{"$f":"INDEX('Avionics ID'!A:E,MATCH(B167,'Avionics ID'!E:E,0),3)","v":"Sensors"}]
[{"$f":"INDEX('Avionics ID'!A:E,MATCH(B168,'Avionics ID'!E:E,0),1)","v":881},"Stores management computer",0.05,0.06,null,null,20,"Obsolescence",{"$f":"SUBSTITUTE(ADDRESS(1,MATCH(A168,'Pt1-AvionicsComponentCosts'!$A$6:$NC$6,0)+1),\"$1\",\"\")","v":"$IN"},{"$f":"_xlfn.TEXTJOIN(\", \",TRUE,_xlfn.UNIQUE(_xlfn._xlws.SORT(_xlfn._xlws.FILTER('Pt1-AvionicsComponentCosts'!$NF$12:$NF$384,ISNUMBER(INDIRECT(\"'Pt1-AvionicsComponentCosts'!\"&I168&\"$12:\"&I168&\"$384\"))))))","v":"Attack, Stealth"},null,0.06,{"$f":"IF($A$2,INDEX([1]Sheet1!$A$12:$AO$193,MATCH($A168,[1]Sheet1!$A$12:$A$193,0),8),2*$L168)","v":0.12},{"$f":"INDEX([1]Sheet1!$A$12:$AO$193,MATCH($A168,[1]Sheet1!$A$12:$A$193,0),9)*(1+$A$4)","v":0.39600000000000002},{"$f":"INDEX([1]Sheet1!$A$12:$AO$193,MATCH($A168,[1]Sheet1!$A$12:$A$193,0),10)*(1+$A$4)","v":2.0570000000000004},{"$f":"COUNTIF($P$5:P$5,\"Year\")*$I$4","v":5},{"$f":"0%","v":0},0,{"$f":"COUNTIF($P$5:S$5,\"Year\")*$I$4","v":10},{"$f":"0%","v":0},0.06,{"$f":"COUNTIF($P$5:V$5,\"Year\")*$I$4","v":15},{"$f":"0%","v":0},0,{"$f":"COUNTIF($P$5:Y$5,\"Year\")*$I$4","v":20},{"$f":"0%","v":0},0.06,{"$f":"COUNTIF($P$5:AB$5,\"Year\")*$I$4","v":25},{"$f":"0%","v":0},0,{"$f":"COUNTIF($P$5:AE$5,\"Year\")*$I$4","v":30},{"$f":"0%","v":0},0.06,{"$f":"COUNTIF($P$5:AH$5,\"Year\")*$I$4","v":35},{"$f":"0%","v":0},0,{"$f":"COUNTIF($P$5:AK$5,\"Year\")*$I$4","v":40},{"$f":"0%","v":0},0.06,null,null,null,null,null,null,null,"",0,0,0,0,0,0,0,0,0,0,0,0,0,36,12,240,{"$f":"INDEX('Avionics ID'!A:E,MATCH(B168,'Avionics ID'!E:E,0),3)","v":"Mission"}]
[{"$f":"INDEX('Avionics ID'!A:E,MATCH(B169,'Avionics ID'!E:E,0),1)","v":819},"Stores Management System",0.05,0.06,null,null,20,"Obsolescence",{"$f":"SUBSTITUTE(ADDRESS(1,MATCH(A169,'Pt1-AvionicsComponentCosts'!$A$6:$NC$6,0)+1),\"$1\",\"\")","v":"$IP"},{"$f":"_xlfn.TEXTJOIN(\", \",TRUE,_xlfn.UNIQUE(_xlfn._xlws.SORT(_xlfn._xlws.FILTER('Pt1-AvionicsComponentCosts'!$NF$12:$NF$384,ISNUMBER(INDIRECT(\"'Pt1-AvionicsComponentCosts'!\"&I169&\"$12:\"&I169&\"$384\"))))))","v":"Mil Fighter, TP Trainer"},null,0.06,{"$f":"IF($A$2,INDEX([1]Sheet1!$A$12:$AO$193,MATCH($A169,[1]Sheet1!$A$12:$A$193,0),8),2*$L169)","v":0.12},{"$f":"INDEX([1]Sheet1!$A$12:$AO$193,MATCH($A169,[1]Sheet1!$A$12:$A$193,0),9)*(1+$A$4)","v":0.39600000000000002},{"$f":"INDEX([1]Sheet1!$A$12:$AO$193,MATCH($A169,[1]Sheet1!$A$12:$A$193,0),10)*(1+$A$4)","v":2.0570000000000004},{"$f":"COUNTIF($P$5:P$5,\"Year\")*$I$4","v":5},{"$f":"0%","v":0},0,{"$f":"COUNTIF($P$5:S$5,\"Year\")*$I$4","v":10},{"$f":"0%","v":0},0.06,{"$f":"COUNTIF($P$5:V$5,\"Year\")*$I$4","v":15},{"$f":"0%","v":0},0,{"$f":"COUNTIF($P$5:Y$5,\"Year\")*$I$4","v":20},{"$f":"0%","v":0},0.06,{"$f":"COUNTIF($P$5:AB$5,\"Year\")*$I$4","v":25},{"$f":"0%","v":0},0,{"$f":"COUNTIF($P$5:AE$5,\"Year\")*$I$4","v":30},{"$f":"0%","v":0},0.06,{"$f":"COUNTIF($P$5:AH$5,\"Year\")*$I$4","v":35},{"$f":"0%","v":0},0,{"$f":"COUNTIF($P$5:AK$5,\"Year\")*$I$4","v":40},{"$f":"0%","v":0},0.06,null,null,null,null,null,null,null,"",0,0,0,0,0,0,0,0,0,0,0,0,0,36,12,240,{"$f":"INDEX('Avionics ID'!A:E,MATCH(B169,'Avionics ID'!E:E,0),3)","v":"Mission"}]
[{"$f":"INDEX('Avionics ID'!A:E,MATCH(B170,'Avionics ID'!E:E,0),1)","v":883},"Surveillance Sensors",0.1,0.08,null,null,10,"Obsolescence",{"$f":"SUBSTITUTE(ADDRESS(1,MATCH(A170,'Pt1-AvionicsComponentCosts'!$A$6:$NC$6,0)+1),\"$1\",\"\")","v":"$LT"},{"$f":"_xlfn.TEXTJOIN(\", \",TRUE,_xlfn.UNIQUE(_xlfn._xlws.SORT(_xlfn._xlws.FILTER('Pt1-AvionicsComponentCosts'!$NF$12:$NF$384,ISNUMBER(INDIRECT(\"'Pt1-AvionicsComponentCosts'!\"&I170&\"$12:\"&I170&\"$384\"))))))","v":"A220, A300, A320, A330, A330 LMXT, A330 MRTT, A340, A350, A380, B717, B737, B747, B757, B767, B777, B787, C919, MC-21, MD-11, Military Jet, NSA"},null,0.08,{"$f":"IF($A$2,INDEX([1]Sheet1!$A$12:$AO$193,MATCH($A170,[1]Sheet1!$A$12:$A$193,0),8),2*$L170)","v":0.16},{"$f":"INDEX([1]Sheet1!$A$12:$AO$193,MATCH($A170,[1]Sheet1!$A$12:$A$193,0),9)*(1+$A$4)","v":0.36850000000000005},{"$f":"INDEX([1]Sheet1!$A$12:$AO$193,MATCH($A170,[1]Sheet1!$A$12:$A$193,0),10)*(1+$A$4)","v":1.8513000000000002},{"$f":"COUNTIF($P$5:P$5,\"Year\")*$I$4","v":5},{"$f":"0%","v":0},0.08,{"$f":"COUNTIF($P$5:S$5,\"Year\")*$I$4","v":10},{"$f":"0%","v":0},0.08,{"$f":"COUNTIF($P$5:V$5,\"Year\")*$I$4","v":15},{"$f":"0%","v":0},0.08,{"$f":"COUNTIF($P$5:Y$5,\"Year\")*$I$4","v":20},{"$f":"0%","v":0},0.08,{"$f":"COUNTIF($P$5:AB$5,\"Year\")*$I$4","v":25},{"$f":"0%","v":0},0.08,{"$f":"COUNTIF($P$5:AE$5,\"Year\")*$I$4","v":30},{"$f":"0%","v":0},0.08,{"$f":"COUNTIF($P$5:AH$5,\"Year\")*$I$4","v":35},{"$f":"0%","v":0},0.08,{"$f":"COUNTIF($P$5:AK$5,\"Year\")*$I$4","v":40},{"$f":"0%","v":0},0.08,null,null,null,null,null,null,null,"",0,0,0,0,0,0,0,0,0,0,0,0,0,80,16,320,{"$f":"INDEX('Avionics ID'!A:E,MATCH(B170,'Avionics ID'!E:E,0),3)","v":"Sensors"}]
[{"$f":"INDEX('Avionics ID'!A:E,MATCH(B171,'Avionics ID'!E:E,0),1)","v":732},"System Data Acquisition Concentrator (SDAC)",3.3333333333333333E-2,0.06,null,null,30,"Obsolescence",{"$f":"SUBSTITUTE(ADDRESS(1,MATCH(A171,'Pt1-AvionicsComponentCosts'!$A$6:$NC$6,0)+1),\"$1\",\"\")","v":"$GF"},{"$f":"_xlfn.TEXTJOIN(\", \",TRUE,_xlfn.UNIQUE(_xlfn._xlws.SORT(_xlfn._xlws.FILTER('Pt1-AvionicsComponentCosts'!$NF$12:$NF$384,ISNUMBER(INDIRECT(\"'Pt1-AvionicsComponentCosts'!\"&I171&\"$12:\"&I171&\"$384\"))))))","v":"A220, A300, A320, A321, A330, A340, A350, A380, ATR, B717, B737, B747, B757, B767, B777, C919, EMB Regional, MC-21, MD-11, Mil Transport, Military Jet, NSA"},null,0.06,{"$f":"IF($A$2,INDEX([1]Sheet1!$A$12:$AO$193,MATCH($A171,[1]Sheet1!$A$12:$A$193,0),8),2*$L171)","v":0.12},{"$f":"INDEX([1]Sheet1!$A$12:$AO$193,MATCH($A171,[1]Sheet1!$A$12:$A$193,0),9)*(1+$A$4)","v":0.38830000000000003},{"$f":"INDEX([1]Sheet1!$A$12:$AO$193,MATCH($A171,[1]Sheet1!$A$12:$A$193,0),10)*(1+$A$4)","v":2.0306000000000002},{"$f":"COUNTIF($P$5:P$5,\"Year\")*$I$4","v":5},{"$f":"0%","v":0},0,{"$f":"COUNTIF($P$5:S$5,\"Year\")*$I$4","v":10},{"$f":"0%","v":0},0,{"$f":"COUNTIF($P$5:V$5,\"Year\")*$I$4","v":15},{"$f":"0%","v":0},0.06,{"$f":"COUNTIF($P$5:Y$5,\"Year\")*$I$4","v":20},{"$f":"0%","v":0},0,{"$f":"COUNTIF($P$5:AB$5,\"Year\")*$I$4","v":25},{"$f":"0%","v":0},0,{"$f":"COUNTIF($P$5:AE$5,\"Year\")*$I$4","v":30},{"$f":"0%","v":0},0.06,{"$f":"COUNTIF($P$5:AH$5,\"Year\")*$I$4","v":35},{"$f":"0%","v":0},0,{"$f":"COUNTIF($P$5:AK$5,\"Year\")*$I$4","v":40},{"$f":"0%","v":0},0,null,null,null,null,null,null,null,"",0,0,0,0,0,0,0,0,0,0,0,0,0,24,12,240,{"$f":"INDEX('Avionics ID'!A:E,MATCH(B171,'Avionics ID'!E:E,0),3)","v":"Display"}]
[{"$f":"INDEX('Avionics ID'!A:E,MATCH(B172,'Avionics ID'!E:E,0),1)","v":838},"TACAN",0.1,0.06,null,null,10,"Obsolescence",{"$f":"SUBSTITUTE(ADDRESS(1,MATCH(A172,'Pt1-AvionicsComponentCosts'!$A$6:$NC$6,0)+1),\"$1\",\"\")","v":"$KF"},{"$f":"_xlfn.TEXTJOIN(\", \",TRUE,_xlfn.UNIQUE(_xlfn._xlws.SORT(_xlfn._xlws.FILTER('Pt1-AvionicsComponentCosts'!$NF$12:$NF$384,ISNUMBER(INDIRECT(\"'Pt1-AvionicsComponentCosts'!\"&I172&\"$12:\"&I172&\"$384\"))))))","v":"A330 LMXT, A330 MRTT, Mil Transport, Military Jet, Military TP"},null,0.06,{"$f":"IF($A$2,INDEX([1]Sheet1!$A$12:$AO$193,MATCH($A172,[1]Sheet1!$A$12:$A$193,0),8),2*$L172)","v":0.12},{"$f":"INDEX([1]Sheet1!$A$12:$AO$193,MATCH($A172,[1]Sheet1!$A$12:$A$193,0),9)*(1+$A$4)","v":0.38940000000000002},{"$f":"INDEX([1]Sheet1!$A$12:$AO$193,MATCH($A172,[1]Sheet1!$A$12:$A$193,0),10)*(1+$A$4)","v":2.0119000000000002},{"$f":"COUNTIF($P$5:P$5,\"Year\")*$I$4","v":5},{"$f":"0%","v":0},0.06,{"$f":"COUNTIF($P$5:S$5,\"Year\")*$I$4","v":10},{"$f":"0%","v":0},0.06,{"$f":"COUNTIF($P$5:V$5,\"Year\")*$I$4","v":15},{"$f":"0%","v":0},0.06,{"$f":"COUNTIF($P$5:Y$5,\"Year\")*$I$4","v":20},{"$f":"0%","v":0},0.06,{"$f":"COUNTIF($P$5:AB$5,\"Year\")*$I$4","v":25},{"$f":"0%","v":0},0.06,{"$f":"COUNTIF($P$5:AE$5,\"Year\")*$I$4","v":30},{"$f":"0%","v":0},0.06,{"$f":"COUNTIF($P$5:AH$5,\"Year\")*$I$4","v":35},{"$f":"0%","v":0},0.06,{"$f":"COUNTIF($P$5:AK$5,\"Year\")*$I$4","v":40},{"$f":"0%","v":0},0.06,null,null,null,null,null,null,null,"",0,0,0,0,0,0,0,0,0,0,0,0,0,60,12,240,{"$f":"INDEX('Avionics ID'!A:E,MATCH(B172,'Avionics ID'!E:E,0),3)","v":"Navigation"}]
[{"$f":"INDEX('Avionics ID'!A:E,MATCH(B173,'Avionics ID'!E:E,0),1)","v":854},"Target data acquisition",0.05,0.06,null,null,20,"Obsolescence",{"$f":"SUBSTITUTE(ADDRESS(1,MATCH(A173,'Pt1-AvionicsComponentCosts'!$A$6:$NC$6,0)+1),\"$1\",\"\")","v":"$BX"},{"$f":"_xlfn.TEXTJOIN(\", \",TRUE,_xlfn.UNIQUE(_xlfn._xlws.SORT(_xlfn._xlws.FILTER('Pt1-AvionicsComponentCosts'!$NF$12:$NF$384,ISNUMBER(INDIRECT(\"'Pt1-AvionicsComponentCosts'!\"&I173&\"$12:\"&I173&\"$384\"))))))","v":"Attack Helo, Helo"},null,0.06,{"$f":"IF($A$2,INDEX([1]Sheet1!$A$12:$AO$193,MATCH($A173,[1]Sheet1!$A$12:$A$193,0),8),2*$L173)","v":0.12},{"$f":"INDEX([1]Sheet1!$A$12:$AO$193,MATCH($A173,[1]Sheet1!$A$12:$A$193,0),9)*(1+$A$4)","v":0.55110000000000003},{"$f":"INDEX([1]Sheet1!$A$12:$AO$193,MATCH($A173,[1]Sheet1!$A$12:$A$193,0),10)*(1+$A$4)","v":1.4267000000000001},{"$f":"COUNTIF($P$5:P$5,\"Year\")*$I$4","v":5},{"$f":"0%","v":0},0,{"$f":"COUNTIF($P$5:S$5,\"Year\")*$I$4","v":10},{"$f":"0%","v":0},0.06,{"$f":"COUNTIF($P$5:V$5,\"Year\")*$I$4","v":15},{"$f":"0%","v":0},0,{"$f":"COUNTIF($P$5:Y$5,\"Year\")*$I$4","v":20},{"$f":"0%","v":0},0.06,{"$f":"COUNTIF($P$5:AB$5,\"Year\")*$I$4","v":25},{"$f":"0%","v":0},0,{"$f":"COUNTIF($P$5:AE$5,\"Year\")*$I$4","v":30},{"$f":"0%","v":0},0.06,{"$f":"COUNTIF($P$5:AH$5,\"Year\")*$I$4","v":35},{"$f":"0%","v":0},0,{"$f":"COUNTIF($P$5:AK$5,\"Year\")*$I$4","v":40},{"$f":"0%","v":0},0.06,null,null,null,null,null,null,null,"",0,0,0,0,0,0,0,0,0,0,0,0,0,36,12,240,{"$f":"INDEX('Avionics ID'!A:E,MATCH(B173,'Avionics ID'!E:E,0),3)","v":"Communications"}]
[{"$f":"INDEX('Avionics ID'!A:E,MATCH(B174,'Avionics ID'!E:E,0),1)","v":750},"TCAS antennas",3.3333333333333333E-2,0.1,null,null,30,"Obsolescence",{"$f":"SUBSTITUTE(ADDRESS(1,MATCH(A174,'Pt1-AvionicsComponentCosts'!$A$6:$NC$6,0)+1),\"$1\",\"\")","v":"$MX"},{"$f":"_xlfn.TEXTJOIN(\", \",TRUE,_xlfn.UNIQUE(_xlfn._xlws.SORT(_xlfn._xlws.FILTER('Pt1-AvionicsComponentCosts'!$NF$12:$NF$384,ISNUMBER(INDIRECT(\"'Pt1-AvionicsComponentCosts'!\"&I174&\"$12:\"&I174&\"$384\"))))))","v":"A320, A321, ATR, B737, B757, Challenger, Citation, E550, EMB Bizjet, EMB Regional, Falcon, Global, Gulfstream, Hawker, Hondajet, Learjet, Mil Transport, Military Jet, Nextant 400XT, PC-24, Phenom, Praetor, SF50"},null,0.1,{"$f":"IF($A$2,INDEX([1]Sheet1!$A$12:$AO$193,MATCH($A174,[1]Sheet1!$A$12:$A$193,0),8),2*$L174)","v":0.2},{"$f":"INDEX([1]Sheet1!$A$12:$AO$193,MATCH($A174,[1]Sheet1!$A$12:$A$193,0),9)*(1+$A$4)","v":0.49280000000000007},{"$f":"INDEX([1]Sheet1!$A$12:$AO$193,MATCH($A174,[1]Sheet1!$A$12:$A$193,0),10)*(1+$A$4)","v":1.4278000000000002},{"$f":"COUNTIF($P$5:P$5,\"Year\")*$I$4","v":5},{"$f":"0%","v":0},0,{"$f":"COUNTIF($P$5:S$5,\"Year\")*$I$4","v":10},{"$f":"0%","v":0},0,{"$f":"COUNTIF($P$5:V$5,\"Year\")*$I$4","v":15},{"$f":"0%","v":0},0.1,{"$f":"COUNTIF($P$5:Y$5,\"Year\")*$I$4","v":20},{"$f":"0%","v":0},0,{"$f":"COUNTIF($P$5:AB$5,\"Year\")*$I$4","v":25},{"$f":"0%","v":0},0,{"$f":"COUNTIF($P$5:AE$5,\"Year\")*$I$4","v":30},{"$f":"0%","v":0},0.1,{"$f":"COUNTIF($P$5:AH$5,\"Year\")*$I$4","v":35},{"$f":"0%","v":0},0,{"$f":"COUNTIF($P$5:AK$5,\"Year\")*$I$4","v":40},{"$f":"0%","v":0},0,null,null,null,null,null,null,null,"",0,0,0,0,0,0,0,0,0,0,0,0,0,40,20,400,{"$f":"INDEX('Avionics ID'!A:E,MATCH(B174,'Avionics ID'!E:E,0),3)","v":"Surveillance"}]
[{"$f":"INDEX('Avionics ID'!A:E,MATCH(B175,'Avionics ID'!E:E,0),1)","v":749},"TCAS computer",0.1,0.06,null,null,10,"Obsolescence",{"$f":"SUBSTITUTE(ADDRESS(1,MATCH(A175,'Pt1-AvionicsComponentCosts'!$A$6:$NC$6,0)+1),\"$1\",\"\")","v":"$MZ"},{"$f":"_xlfn.TEXTJOIN(\", \",TRUE,_xlfn.UNIQUE(_xlfn._xlws.SORT(_xlfn._xlws.FILTER('Pt1-AvionicsComponentCosts'!$NF$12:$NF$384,ISNUMBER(INDIRECT(\"'Pt1-AvionicsComponentCosts'!\"&I175&\"$12:\"&I175&\"$384\"))))))","v":"A300, A320, A321, A330, A340, A350, ARJ, ATR, B737, B747, B757, B767, B777, B787, CRJ, EMB Regional, Helo, MD-11, Mil Fighter, Mil Transport, Military Jet, Reg TP, Superjet 100, TP Trainer, Turbine GA"},null,0.06,{"$f":"IF($A$2,INDEX([1]Sheet1!$A$12:$AO$193,MATCH($A175,[1]Sheet1!$A$12:$A$193,0),8),2*$L175)","v":0.12},{"$f":"INDEX([1]Sheet1!$A$12:$AO$193,MATCH($A175,[1]Sheet1!$A$12:$A$193,0),9)*(1+$A$4)","v":0.49280000000000007},{"$f":"INDEX([1]Sheet1!$A$12:$AO$193,MATCH($A175,[1]Sheet1!$A$12:$A$193,0),10)*(1+$A$4)","v":1.4278000000000002},{"$f":"COUNTIF($P$5:P$5,\"Year\")*$I$4","v":5},{"$f":"0%","v":0},0.06,{"$f":"COUNTIF($P$5:S$5,\"Year\")*$I$4","v":10},{"$f":"0%","v":0},0.06,{"$f":"COUNTIF($P$5:V$5,\"Year\")*$I$4","v":15},{"$f":"0%","v":0},0.06,{"$f":"COUNTIF($P$5:Y$5,\"Year\")*$I$4","v":20},{"$f":"0%","v":0},0.06,{"$f":"COUNTIF($P$5:AB$5,\"Year\")*$I$4","v":25},{"$f":"0%","v":0},0.06,{"$f":"COUNTIF($P$5:AE$5,\"Year\")*$I$4","v":30},{"$f":"0%","v":0},0.06,{"$f":"COUNTIF($P$5:AH$5,\"Year\")*$I$4","v":35},{"$f":"0%","v":0},0.06,{"$f":"COUNTIF($P$5:AK$5,\"Year\")*$I$4","v":40},{"$f":"0%","v":0},0.06,null,null,null,null,null,null,null,"",0,0,0,0,0,0,0,0,0,0,0,0,0,60,12,240,{"$f":"INDEX('Avionics ID'!A:E,MATCH(B175,'Avionics ID'!E:E,0),3)","v":"Surveillance"}]
[{"$f":"INDEX('Avionics ID'!A:E,MATCH(B176,'Avionics ID'!E:E,0),1)","v":751},"TCAS control panel",0.05,0.06,null,null,20,"Obsolescence",{"$f":"SUBSTITUTE(ADDRESS(1,MATCH(A176,'Pt1-AvionicsComponentCosts'!$A$6:$NC$6,0)+1),\"$1\",\"\")","v":"$NB"},{"$f":"_xlfn.TEXTJOIN(\", \",TRUE,_xlfn.UNIQUE(_xlfn._xlws.SORT(_xlfn._xlws.FILTER('Pt1-AvionicsComponentCosts'!$NF$12:$NF$384,ISNUMBER(INDIRECT(\"'Pt1-AvionicsComponentCosts'!\"&I176&\"$12:\"&I176&\"$384\"))))))","v":"A300, A320, A321, A330, A340, A350, ATR, B737, B747, B757, B767, B777, B787, EMB Regional, MD-11, Mil Transport, Military Jet"},null,0.06,{"$f":"IF($A$2,INDEX([1]Sheet1!$A$12:$AO$193,MATCH($A176,[1]Sheet1!$A$12:$A$193,0),8),2*$L176)","v":0.12},{"$f":"INDEX([1]Sheet1!$A$12:$AO$193,MATCH($A176,[1]Sheet1!$A$12:$A$193,0),9)*(1+$A$4)","v":0.49280000000000007},{"$f":"INDEX([1]Sheet1!$A$12:$AO$193,MATCH($A176,[1]Sheet1!$A$12:$A$193,0),10)*(1+$A$4)","v":1.4278000000000002},{"$f":"COUNTIF($P$5:P$5,\"Year\")*$I$4","v":5},{"$f":"0%","v":0},0,{"$f":"COUNTIF($P$5:S$5,\"Year\")*$I$4","v":10},{"$f":"0%","v":0},0.06,{"$f":"COUNTIF($P$5:V$5,\"Year\")*$I$4","v":15},{"$f":"0%","v":0},0,{"$f":"COUNTIF($P$5:Y$5,\"Year\")*$I$4","v":20},{"$f":"0%","v":0},0.06,{"$f":"COUNTIF($P$5:AB$5,\"Year\")*$I$4","v":25},{"$f":"0%","v":0},0,{"$f":"COUNTIF($P$5:AE$5,\"Year\")*$I$4","v":30},{"$f":"0%","v":0},0.06,{"$f":"COUNTIF($P$5:AH$5,\"Year\")*$I$4","v":35},{"$f":"0%","v":0},0,{"$f":"COUNTIF($P$5:AK$5,\"Year\")*$I$4","v":40},{"$f":"0%","v":0},0.06,null,null,null,null,null,null,null,"",0,{"$f":"IF($H176=\"Technology / regulatory\",IF(AW$5=$F176-2,$AW$1,IF(AW$5=$F176-1,$AX$1,IF(AW$5=$F176,$AY$1,IF(AW$5=$F176+1,$AZ$1,0)))),0)","v":0},0,0,0,0,0,0,0,0,0,0,0,36,12,240,{"$f":"INDEX('Avionics ID'!A:E,MATCH(B176,'Avionics ID'!E:E,0),3)","v":"Surveillance"}]
[{"$f":"INDEX('Avionics ID'!A:E,MATCH(B177,'Avionics ID'!E:E,0),1)","v":877},"UHF LOS antennas",0.05,0.1,null,null,20,"Obsolescence",{"$f":"SUBSTITUTE(ADDRESS(1,MATCH(A177,'Pt1-AvionicsComponentCosts'!$A$6:$NC$6,0)+1),\"$1\",\"\")","v":"$BZ"},{"$f":"_xlfn.TEXTJOIN(\", \",TRUE,_xlfn.UNIQUE(_xlfn._xlws.SORT(_xlfn._xlws.FILTER('Pt1-AvionicsComponentCosts'!$NF$12:$NF$384,ISNUMBER(INDIRECT(\"'Pt1-AvionicsComponentCosts'!\"&I177&\"$12:\"&I177&\"$384\"))))))","v":"UAV"},null,0.1,{"$f":"IF($A$2,INDEX([1]Sheet1!$A$12:$AO$193,MATCH($A177,[1]Sheet1!$A$12:$A$193,0),8),2*$L177)","v":0.2},{"$f":"INDEX([1]Sheet1!$A$12:$AO$193,MATCH($A177,[1]Sheet1!$A$12:$A$193,0),9)*(1+$A$4)","v":0.55110000000000003},{"$f":"INDEX([1]Sheet1!$A$12:$AO$193,MATCH($A177,[1]Sheet1!$A$12:$A$193,0),10)*(1+$A$4)","v":1.4267000000000001},{"$f":"COUNTIF($P$5:P$5,\"Year\")*$I$4","v":5},{"$f":"0%","v":0},0,{"$f":"COUNTIF($P$5:S$5,\"Year\")*$I$4","v":10},{"$f":"0%","v":0},0.1,{"$f":"COUNTIF($P$5:V$5,\"Year\")*$I$4","v":15},{"$f":"0%","v":0},0,{"$f":"COUNTIF($P$5:Y$5,\"Year\")*$I$4","v":20},{"$f":"0%","v":0},0.1,{"$f":"COUNTIF($P$5:AB$5,\"Year\")*$I$4","v":25},{"$f":"0%","v":0},0,{"$f":"COUNTIF($P$5:AE$5,\"Year\")*$I$4","v":30},{"$f":"0%","v":0},0.1,{"$f":"COUNTIF($P$5:AH$5,\"Year\")*$I$4","v":35},{"$f":"0%","v":0},0,{"$f":"COUNTIF($P$5:AK$5,\"Year\")*$I$4","v":40},{"$f":"0%","v":0},0.1,null,null,null,null,null,null,null,"",0,0,0,0,0,0,0,0,0,0,0,0,0,60.000000000000007,20,400,{"$f":"INDEX('Avionics ID'!A:E,MATCH(B177,'Avionics ID'!E:E,0),3)","v":"Communications"}]
[{"$f":"INDEX('Avionics ID'!A:E,MATCH(B178,'Avionics ID'!E:E,0),1)","v":872},"UHF SATCOM antenna",0.1,0.1,null,null,10,"Obsolescence",{"$f":"SUBSTITUTE(ADDRESS(1,MATCH(A178,'Pt1-AvionicsComponentCosts'!$A$6:$NC$6,0)+1),\"$1\",\"\")","v":"$CB"},{"$f":"_xlfn.TEXTJOIN(\", \",TRUE,_xlfn.UNIQUE(_xlfn._xlws.SORT(_xlfn._xlws.FILTER('Pt1-AvionicsComponentCosts'!$NF$12:$NF$384,ISNUMBER(INDIRECT(\"'Pt1-AvionicsComponentCosts'!\"&I178&\"$12:\"&I178&\"$384\"))))))","v":"UAV"},null,0.1,{"$f":"IF($A$2,INDEX([1]Sheet1!$A$12:$AO$193,MATCH($A178,[1]Sheet1!$A$12:$A$193,0),8),2*$L178)","v":0.2},{"$f":"INDEX([1]Sheet1!$A$12:$AO$193,MATCH($A178,[1]Sheet1!$A$12:$A$193,0),9)*(1+$A$4)","v":0.55110000000000003},{"$f":"INDEX([1]Sheet1!$A$12:$AO$193,MATCH($A178,[1]Sheet1!$A$12:$A$193,0),10)*(1+$A$4)","v":1.4267000000000001},{"$f":"COUNTIF($P$5:P$5,\"Year\")*$I$4","v":5},{"$f":"0%","v":0},0.1,{"$f":"COUNTIF($P$5:S$5,\"Year\")*$I$4","v":10},{"$f":"0%","v":0},0.1,{"$f":"COUNTIF($P$5:V$5,\"Year\")*$I$4","v":15},{"$f":"0%","v":0},0.1,{"$f":"COUNTIF($P$5:Y$5,\"Year\")*$I$4","v":20},{"$f":"0%","v":0},0.1,{"$f":"COUNTIF($P$5:AB$5,\"Year\")*$I$4","v":25},{"$f":"0%","v":0},0.1,{"$f":"COUNTIF($P$5:AE$5,\"Year\")*$I$4","v":30},{"$f":"0%","v":0},0.1,{"$f":"COUNTIF($P$5:AH$5,\"Year\")*$I$4","v":35},{"$f":"0%","v":0},0.1,{"$f":"COUNTIF($P$5:AK$5,\"Year\")*$I$4","v":40},{"$f":"0%","v":0},0.1,null,null,null,null,null,null,null,"",0,0,0,0,0,0,0,0,0,0,0,0,0,100,20,400,{"$f":"INDEX('Avionics ID'!A:E,MATCH(B178,'Avionics ID'!E:E,0),3)","v":"Communications"}]
[{"$f":"INDEX('Avionics ID'!A:E,MATCH(B179,'Avionics ID'!E:E,0),1)","v":762},"VOR receivers",6.6666666666666666E-2,0.06,null,null,15,"Obsolescence",{"$f":"SUBSTITUTE(ADDRESS(1,MATCH(A179,'Pt1-AvionicsComponentCosts'!$A$6:$NC$6,0)+1),\"$1\",\"\")","v":"$KH"},{"$f":"_xlfn.TEXTJOIN(\", \",TRUE,_xlfn.UNIQUE(_xlfn._xlws.SORT(_xlfn._xlws.FILTER('Pt1-AvionicsComponentCosts'!$NF$12:$NF$384,ISNUMBER(INDIRECT(\"'Pt1-AvionicsComponentCosts'!\"&I179&\"$12:\"&I179&\"$384\"))))))","v":"A300, A320, A330, A340, A350, A380, B747, B767, B777, MD-11"},null,0.06,{"$f":"IF($A$2,INDEX([1]Sheet1!$A$12:$AO$193,MATCH($A179,[1]Sheet1!$A$12:$A$193,0),8),2*$L179)","v":0.12},{"$f":"INDEX([1]Sheet1!$A$12:$AO$193,MATCH($A179,[1]Sheet1!$A$12:$A$193,0),9)*(1+$A$4)","v":0.38940000000000002},{"$f":"INDEX([1]Sheet1!$A$12:$AO$193,MATCH($A179,[1]Sheet1!$A$12:$A$193,0),10)*(1+$A$4)","v":2.0119000000000002},{"$f":"COUNTIF($P$5:P$5,\"Year\")*$I$4","v":5},{"$f":"0%","v":0},0,{"$f":"COUNTIF($P$5:S$5,\"Year\")*$I$4","v":10},{"$f":"0%","v":0},0.06,{"$f":"COUNTIF($P$5:V$5,\"Year\")*$I$4","v":15},{"$f":"0%","v":0},0.06,{"$f":"COUNTIF($P$5:Y$5,\"Year\")*$I$4","v":20},{"$f":"0%","v":0},0.06,{"$f":"COUNTIF($P$5:AB$5,\"Year\")*$I$4","v":25},{"$f":"0%","v":0},0,{"$f":"COUNTIF($P$5:AE$5,\"Year\")*$I$4","v":30},{"$f":"0%","v":0},0.06,{"$f":"COUNTIF($P$5:AH$5,\"Year\")*$I$4","v":35},{"$f":"0%","v":0},0,{"$f":"COUNTIF($P$5:AK$5,\"Year\")*$I$4","v":40},{"$f":"0%","v":0},0.06,null,null,null,null,null,null,null,"",0,0,0,0,0,0,0,0,0,0,0,0,0,42,12,240,{"$f":"INDEX('Avionics ID'!A:E,MATCH(B179,'Avionics ID'!E:E,0),3)","v":"Navigation"}]
[{"$f":"INDEX('Avionics ID'!A:E,MATCH(B180,'Avionics ID'!E:E,0),1)","v":746},"Weather WX radar system",0.05,0.08,null,null,20,"Obsolescence",{"$f":"SUBSTITUTE(ADDRESS(1,MATCH(A180,'Pt1-AvionicsComponentCosts'!$A$6:$NC$6,0)+1),\"$1\",\"\")","v":"$LV"},{"$f":"_xlfn.TEXTJOIN(\", \",TRUE,_xlfn.UNIQUE(_xlfn._xlws.SORT(_xlfn._xlws.FILTER('Pt1-AvionicsComponentCosts'!$NF$12:$NF$384,ISNUMBER(INDIRECT(\"'Pt1-AvionicsComponentCosts'!\"&I180&\"$12:\"&I180&\"$384\"))))))","v":"A220, A300, A320, A321, A330, A340, A350, A380, ARJ, ATR, B717, B737, B747, B757, B767, B777, B787, C919, CRJ, EMB Regional, Helo, MC-21, MD-11, Mil Transport, Military Jet, NSA, Reg TP, Superjet 100, Turbine GA"},null,0.08,{"$f":"IF($A$2,INDEX([1]Sheet1!$A$12:$AO$193,MATCH($A180,[1]Sheet1!$A$12:$A$193,0),8),2*$L180)","v":0.16},{"$f":"INDEX([1]Sheet1!$A$12:$AO$193,MATCH($A180,[1]Sheet1!$A$12:$A$193,0),9)*(1+$A$4)","v":0.36850000000000005},{"$f":"INDEX([1]Sheet1!$A$12:$AO$193,MATCH($A180,[1]Sheet1!$A$12:$A$193,0),10)*(1+$A$4)","v":1.8513000000000002},{"$f":"COUNTIF($P$5:P$5,\"Year\")*$I$4","v":5},{"$f":"0%","v":0},0,{"$f":"COUNTIF($P$5:S$5,\"Year\")*$I$4","v":10},{"$f":"0%","v":0},0.08,{"$f":"COUNTIF($P$5:V$5,\"Year\")*$I$4","v":15},{"$f":"0%","v":0},0,{"$f":"COUNTIF($P$5:Y$5,\"Year\")*$I$4","v":20},{"$f":"0%","v":0},0.08,{"$f":"COUNTIF($P$5:AB$5,\"Year\")*$I$4","v":25},{"$f":"0%","v":0},0,{"$f":"COUNTIF($P$5:AE$5,\"Year\")*$I$4","v":30},{"$f":"0%","v":0},0.08,{"$f":"COUNTIF($P$5:AH$5,\"Year\")*$I$4","v":35},{"$f":"0%","v":0},0,{"$f":"COUNTIF($P$5:AK$5,\"Year\")*$I$4","v":40},{"$f":"0%","v":0},0.08,null,null,null,null,null,null,null,"",0,0,0,0,0,0,0,0,0,0,0,0,0,48,16,320,{"$f":"INDEX('Avionics ID'!A:E,MATCH(B180,'Avionics ID'!E:E,0),3)","v":"Sensors"}]
[{"$f":"INDEX('Avionics ID'!A:E,MATCH(B181,'Avionics ID'!E:E,0),1)","v":772},"Wireless LAN data loader",6.6666666666666666E-2,0.06,null,null,15,"Obsolescence",{"$f":"SUBSTITUTE(ADDRESS(1,MATCH(A181,'Pt1-AvionicsComponentCosts'!$A$6:$NC$6,0)+1),\"$1\",\"\")","v":"$DP"},{"$f":"_xlfn.TEXTJOIN(\", \",TRUE,_xlfn.UNIQUE(_xlfn._xlws.SORT(_xlfn._xlws.FILTER('Pt1-AvionicsComponentCosts'!$NF$12:$NF$384,ISNUMBER(INDIRECT(\"'Pt1-AvionicsComponentCosts'!\"&I181&\"$12:\"&I181&\"$384\"))))))","v":"A300, A320, A330, A340, A350, A380, B747, B767, B777, B787, MD-11"},null,0.06,{"$f":"IF($A$2,INDEX([1]Sheet1!$A$12:$AO$193,MATCH($A181,[1]Sheet1!$A$12:$A$193,0),8),2*$L181)","v":0.12},{"$f":"INDEX([1]Sheet1!$A$12:$AO$193,MATCH($A181,[1]Sheet1!$A$12:$A$193,0),9)*(1+$A$4)","v":0.75130000000000008},{"$f":"INDEX([1]Sheet1!$A$12:$AO$193,MATCH($A181,[1]Sheet1!$A$12:$A$193,0),10)*(1+$A$4)","v":2.1241000000000003},{"$f":"COUNTIF($P$5:P$5,\"Year\")*$I$4","v":5},{"$f":"0%","v":0},0,{"$f":"COUNTIF($P$5:S$5,\"Year\")*$I$4","v":10},{"$f":"0%","v":0},0.06,{"$f":"COUNTIF($P$5:V$5,\"Year\")*$I$4","v":15},{"$f":"0%","v":0},0.06,{"$f":"COUNTIF($P$5:Y$5,\"Year\")*$I$4","v":20},{"$f":"0%","v":0},0.06,{"$f":"COUNTIF($P$5:AB$5,\"Year\")*$I$4","v":25},{"$f":"0%","v":0},0,{"$f":"COUNTIF($P$5:AE$5,\"Year\")*$I$4","v":30},{"$f":"0%","v":0},0.06,{"$f":"COUNTIF($P$5:AH$5,\"Year\")*$I$4","v":35},{"$f":"0%","v":0},0,{"$f":"COUNTIF($P$5:AK$5,\"Year\")*$I$4","v":40},{"$f":"0%","v":0},0.06,null,null,null,null,null,null,null,"",0,0,0,0,0,0,0,0,0,0,0,0,0,42,12,240,{"$f":"INDEX('Avionics ID'!A:E,MATCH(B181,'Avionics ID'!E:E,0),3)","v":"Data"}]
[{"$f":"INDEX('Avionics ID'!A:E,MATCH(B182,'Avionics ID'!E:E,0),1)","v":747},"WX control panel",0.05,0.08,null,null,20,"Obsolescence",{"$f":"SUBSTITUTE(ADDRESS(1,MATCH(A182,'Pt1-AvionicsComponentCosts'!$A$6:$NC$6,0)+1),\"$1\",\"\")","v":"$ND"},{"$f":"_xlfn.TEXTJOIN(\", \",TRUE,_xlfn.UNIQUE(_xlfn._xlws.SORT(_xlfn._xlws.FILTER('Pt1-AvionicsComponentCosts'!$NF$12:$NF$384,ISNUMBER(INDIRECT(\"'Pt1-AvionicsComponentCosts'!\"&I182&\"$12:\"&I182&\"$384\"))))))","v":"A300, A320, A321, A330, A340, A350, ATR, B737, B747, B757, B767, B777, B787, Challenger, Citation, E550, EMB Bizjet, EMB Regional, Falcon, Global, Gulfstream, Hawker, Hondajet, Learjet, MD-11, Mil Transport, Military Jet, Nextant 400XT, PC-24, Phenom, Praetor, SF50"},null,0.08,{"$f":"IF($A$2,INDEX([1]Sheet1!$A$12:$AO$193,MATCH($A182,[1]Sheet1!$A$12:$A$193,0),8),2*$L182)","v":0.16},{"$f":"INDEX([1]Sheet1!$A$12:$AO$193,MATCH($A182,[1]Sheet1!$A$12:$A$193,0),9)*(1+$A$4)","v":0.49280000000000007},{"$f":"INDEX([1]Sheet1!$A$12:$AO$193,MATCH($A182,[1]Sheet1!$A$12:$A$193,0),10)*(1+$A$4)","v":1.4278000000000002},{"$f":"COUNTIF($P$5:P$5,\"Year\")*$I$4","v":5},{"$f":"0%","v":0},0,{"$f":"COUNTIF($P$5:S$5,\"Year\")*$I$4","v":10},{"$f":"0%","v":0},0.08,{"$f":"COUNTIF($P$5:V$5,\"Year\")*$I$4","v":15},{"$f":"0%","v":0},0,{"$f":"COUNTIF($P$5:Y$5,\"Year\")*$I$4","v":20},{"$f":"0%","v":0},0.08,{"$f":"COUNTIF($P$5:AB$5,\"Year\")*$I$4","v":25},{"$f":"0%","v":0},0,{"$f":"COUNTIF($P$5:AE$5,\"Year\")*$I$4","v":30},{"$f":"0%","v":0},0.08,{"$f":"COUNTIF($P$5:AH$5,\"Year\")*$I$4","v":35},{"$f":"0%","v":0},0,{"$f":"COUNTIF($P$5:AK$5,\"Year\")*$I$4","v":40},{"$f":"0%","v":0},0.08,null,null,null,null,null,null,null,"",0,0,0,0,0,0,0,0,0,0,0,0,0,48,16,320,{"$f":"INDEX('Avionics ID'!A:E,MATCH(B182,'Avionics ID'!E:E,0),3)","v":"Surveillance"}]
[718,"ADIRS control panel",0.05,0.08,null,null,20,"Obsolescence",{"$f":"SUBSTITUTE(ADDRESS(1,MATCH(A183,'Pt1-AvionicsComponentCosts'!$A$6:$NC$6,0)+1),\"$1\",\"\")","v":"$IR"},{"$f":"_xlfn.TEXTJOIN(\", \",TRUE,_xlfn.UNIQUE(_xlfn._xlws.SORT(_xlfn._xlws.FILTER('Pt1-AvionicsComponentCosts'!$NF$12:$NF$384,ISNUMBER(INDIRECT(\"'Pt1-AvionicsComponentCosts'!\"&I183&\"$12:\"&I183&\"$384\"))))))","v":{"$error":"#VALUE!"}},null,0.08,{"$f":"IF($A$2,INDEX([1]Sheet1!$A$12:$AO$193,MATCH($A183,[1]Sheet1!$A$12:$A$193,0),8),2*$L183)","v":0.16},{"$f":"INDEX([1]Sheet1!$A$12:$AO$193,MATCH($A183,[1]Sheet1!$A$12:$A$193,0),9)*(1+$A$4)","v":0.38940000000000002},{"$f":"INDEX([1]Sheet1!$A$12:$AO$193,MATCH($A183,[1]Sheet1!$A$12:$A$193,0),10)*(1+$A$4)","v":2.0119000000000002},{"$f":"COUNTIF($P$5:P$5,\"Year\")*$I$4","v":5},{"$f":"0%","v":0},0,{"$f":"COUNTIF($P$5:S$5,\"Year\")*$I$4","v":10},{"$f":"0%","v":0},0.08,{"$f":"COUNTIF($P$5:V$5,\"Year\")*$I$4","v":15},{"$f":"0%","v":0},0,{"$f":"COUNTIF($P$5:Y$5,\"Year\")*$I$4","v":20},{"$f":"0%","v":0},0.08,{"$f":"COUNTIF($P$5:AB$5,\"Year\")*$I$4","v":25},{"$f":"0%","v":0},0,{"$f":"COUNTIF($P$5:AE$5,\"Year\")*$I$4","v":30},{"$f":"0%","v":0},0.08,{"$f":"COUNTIF($P$5:AH$5,\"Year\")*$I$4","v":35},{"$f":"0%","v":0},0,{"$f":"COUNTIF($P$5:AK$5,\"Year\")*$I$4","v":40},{"$f":"0%","v":0},0.08,null,null,null,null,null,null,null,"",0,0,0,0,0,0,0,0,0,0,0,0,0,48,16,320,{"$f":"INDEX('Avionics ID'!A:E,MATCH(B183,'Avionics ID'!E:E,0),3)","v":"Navigation"}]
[786,"Communication, Navigation, Identification Unit AN/ASQ-242",0.05,0.06,null,null,20,"Obsolescence",{"$f":"SUBSTITUTE(ADDRESS(1,MATCH(A184,'Pt1-AvionicsComponentCosts'!$A$6:$NC$6,0)+1),\"$1\",\"\")","v":"$IZ"},{"$f":"_xlfn.TEXTJOIN(\", \",TRUE,_xlfn.UNIQUE(_xlfn._xlws.SORT(_xlfn._xlws.FILTER('Pt1-AvionicsComponentCosts'!$NF$12:$NF$384,ISNUMBER(INDIRECT(\"'Pt1-AvionicsComponentCosts'!\"&I184&\"$12:\"&I184&\"$384\"))))))","v":"Attack, Stealth"},null,0.06,{"$f":"IF($A$2,INDEX([1]Sheet1!$A$12:$AO$193,MATCH($A184,[1]Sheet1!$A$12:$A$193,0),8),2*$L184)","v":0.12},{"$f":"INDEX([1]Sheet1!$A$12:$AO$193,MATCH($A184,[1]Sheet1!$A$12:$A$193,0),9)*(1+$A$4)","v":0.38940000000000002},{"$f":"INDEX([1]Sheet1!$A$12:$AO$193,MATCH($A184,[1]Sheet1!$A$12:$A$193,0),10)*(1+$A$4)","v":2.0119000000000002},{"$f":"COUNTIF($P$5:P$5,\"Year\")*$I$4","v":5},{"$f":"0%","v":0},0,{"$f":"COUNTIF($P$5:S$5,\"Year\")*$I$4","v":10},{"$f":"0%","v":0},0.06,{"$f":"COUNTIF($P$5:V$5,\"Year\")*$I$4","v":15},{"$f":"0%","v":0},0,{"$f":"COUNTIF($P$5:Y$5,\"Year\")*$I$4","v":20},{"$f":"0%","v":0},0.06,{"$f":"COUNTIF($P$5:AB$5,\"Year\")*$I$4","v":25},{"$f":"0%","v":0},0,{"$f":"COUNTIF($P$5:AE$5,\"Year\")*$I$4","v":30},{"$f":"0%","v":0},0.06,{"$f":"COUNTIF($P$5:AH$5,\"Year\")*$I$4","v":35},{"$f":"0%","v":0},0,{"$f":"COUNTIF($P$5:AK$5,\"Year\")*$I$4","v":40},{"$f":"0%","v":0},0.06,null,null,null,null,null,null,null,"",0,0,0,0,0,0,0,0,0,0,0,0,0,36,12,240,{"$f":"INDEX('Avionics ID'!A:E,MATCH(B184,'Avionics ID'!E:E,0),3)","v":"Communications"}]
[720,"Pedestal ADS select",0.05,0.08,null,null,20,"Obsolescence",{"$f":"SUBSTITUTE(ADDRESS(1,MATCH(A185,'Pt1-AvionicsComponentCosts'!$A$6:$NC$6,0)+1),\"$1\",\"\")","v":"$JZ"},{"$f":"_xlfn.TEXTJOIN(\", \",TRUE,_xlfn.UNIQUE(_xlfn._xlws.SORT(_xlfn._xlws.FILTER('Pt1-AvionicsComponentCosts'!$NF$12:$NF$384,ISNUMBER(INDIRECT(\"'Pt1-AvionicsComponentCosts'!\"&I185&\"$12:\"&I185&\"$384\"))))))","v":{"$error":"#VALUE!"}},null,0.08,{"$f":"IF($A$2,INDEX([1]Sheet1!$A$12:$AO$193,MATCH($A185,[1]Sheet1!$A$12:$A$193,0),8),2*$L185)","v":0.16},{"$f":"INDEX([1]Sheet1!$A$12:$AO$193,MATCH($A185,[1]Sheet1!$A$12:$A$193,0),9)*(1+$A$4)","v":0.38940000000000002},{"$f":"INDEX([1]Sheet1!$A$12:$AO$193,MATCH($A185,[1]Sheet1!$A$12:$A$193,0),10)*(1+$A$4)","v":2.0119000000000002},{"$f":"COUNTIF($P$5:P$5,\"Year\")*$I$4","v":5},{"$f":"0%","v":0},0,{"$f":"COUNTIF($P$5:S$5,\"Year\")*$I$4","v":10},{"$f":"0%","v":0},0.08,{"$f":"COUNTIF($P$5:V$5,\"Year\")*$I$4","v":15},{"$f":"0%","v":0},0,{"$f":"COUNTIF($P$5:Y$5,\"Year\")*$I$4","v":20},{"$f":"0%","v":0},0.08,{"$f":"COUNTIF($P$5:AB$5,\"Year\")*$I$4","v":25},{"$f":"0%","v":0},0,{"$f":"COUNTIF($P$5:AE$5,\"Year\")*$I$4","v":30},{"$f":"0%","v":0},0.08,{"$f":"COUNTIF($P$5:AH$5,\"Year\")*$I$4","v":35},{"$f":"0%","v":0},0,{"$f":"COUNTIF($P$5:AK$5,\"Year\")*$I$4","v":40},{"$f":"0%","v":0},0.08,null,null,null,null,null,null,null,"",0,0,0,0,0,0,0,0,0,0,0,0,0,48,16,320,{"$f":"INDEX('Avionics ID'!A:E,MATCH(B185,'Avionics ID'!E:E,0),3)","v":"Navigation"}]
[831,"Radio antenna, amplifier, sat data",0.1,0.08,null,null,10,"Obsolescence",{"$f":"SUBSTITUTE(ADDRESS(1,MATCH(A186,'Pt1-AvionicsComponentCosts'!$A$6:$NC$6,0)+1),\"$1\",\"\")","v":"$KD"},{"$f":"_xlfn.TEXTJOIN(\", \",TRUE,_xlfn.UNIQUE(_xlfn._xlws.SORT(_xlfn._xlws.FILTER('Pt1-AvionicsComponentCosts'!$NF$12:$NF$384,ISNUMBER(INDIRECT(\"'Pt1-AvionicsComponentCosts'!\"&I186&\"$12:\"&I186&\"$384\"))))))","v":"Challenger, Citation, E550, EMB Bizjet, Falcon, Global, Gulfstream, Hawker, Hondajet, Learjet, Nextant 400XT, PC-24, Phenom, Praetor, SF50"},null,0.08,{"$f":"IF($A$2,INDEX([1]Sheet1!$A$12:$AO$193,MATCH($A186,[1]Sheet1!$A$12:$A$193,0),8),2*$L186)","v":0.16},{"$f":"INDEX([1]Sheet1!$A$12:$AO$193,MATCH($A186,[1]Sheet1!$A$12:$A$193,0),9)*(1+$A$4)","v":0.38940000000000002},{"$f":"INDEX([1]Sheet1!$A$12:$AO$193,MATCH($A186,[1]Sheet1!$A$12:$A$193,0),10)*(1+$A$4)","v":2.0119000000000002},{"$f":"COUNTIF($P$5:P$5,\"Year\")*$I$4","v":5},{"$f":"0%","v":0},0.08,{"$f":"COUNTIF($P$5:S$5,\"Year\")*$I$4","v":10},{"$f":"0%","v":0},0.08,{"$f":"COUNTIF($P$5:V$5,\"Year\")*$I$4","v":15},{"$f":"0%","v":0},0.08,{"$f":"COUNTIF($P$5:Y$5,\"Year\")*$I$4","v":20},{"$f":"0%","v":0},0.08,{"$f":"COUNTIF($P$5:AB$5,\"Year\")*$I$4","v":25},{"$f":"0%","v":0},0.08,{"$f":"COUNTIF($P$5:AE$5,\"Year\")*$I$4","v":30},{"$f":"0%","v":0},0.08,{"$f":"COUNTIF($P$5:AH$5,\"Year\")*$I$4","v":35},{"$f":"0%","v":0},0.08,{"$f":"COUNTIF($P$5:AK$5,\"Year\")*$I$4","v":40},{"$f":"0%","v":0},0.08,null,null,null,null,null,null,null,"",0,0,0,0,0,0,0,0,0,0,0,0,0,80,16,320,{"$f":"INDEX('Avionics ID'!A:E,MATCH(B186,'Avionics ID'!E:E,0),3)","v":"Communications"}]

{"sheet":"Avionics ID","index":1,"n_rows":181,"n_cols":5,"rows_kept":181,"cut":false,"hidden":false,"merged":[]}
[713,"Avionics","Auto-pilot","A/T Engine Control Unit","A/T Engine Control Unit"]
[825,"Avionics","Auto-pilot","Auto pilot system","Auto pilot system"]
[863,"Avionics","Auto-pilot","Dual axis dual system Auto-pilot","Dual axis dual system Auto-pilot"]
[804,"Avionics","Auto-pilot","Flight Guidance System (A/Pilot)","Flight Guidance System (A/Pilot)"]
[763,"Avionics","Communications","ADF radios","ADF radios"]
[724,"Avionics","Communications","ADF system","ADF system"]
[770,"Avionics","Communications","Air Traffic Services Unit ","Air Traffic Services Unit "]
[799,"Avionics","Communications","Antenna suite","Antenna suite"]
[875,"Avionics","Communications","ARC 210 radios","ARC 210 radios"]
[828,"Avionics","Communications","ATC Transponder","ATC Transponder"]
[742,"Avionics","Communications","Audio Control Panel","Audio Control Panel"]
[740,"Avionics","Communications","Audio Management Unit","Audio Management Unit"]
[842,"Avionics","Communications","Avionics Comms Router (ACR)","Avionics Comms Router (ACR)"]
[843,"Avionics","Communications","Central Crypto System","Central Crypto System"]
[752,"Avionics","Communications","Cockpit Voice Recorder","Cockpit Voice Recorder"]
[782,"Avionics","Communications","Comms Management Function (CMF)","Comms Management Function (CMF)"]
[832,"Avionics","Communications","Comms Management System","Comms Management System"]
[739,"Avionics","Communications","Comms Receivers UF (transceiver/antenna)","Comms Receivers UF (transceiver/antenna)"]
[738,"Avionics","Communications","Comms Receivers VH (transceiver/antenna)","Comms Receivers VH (transceiver/antenna)"]
[787,"Avionics","Communications","Communication, Navigation, Identification Unit AN/ASQ-242","Communication, Navigation, Identification Unit AN/ASQ-242"]
[753,"Avionics","Communications","CVR control panel","CVR control panel"]
[768,"Avionics","Communications","HF Radio","HF Radio"]
[840,"Avionics","Communications","HF-9500 High Frequency Communications System","HF-9500 High Frequency Communications System"]
[781,"Avionics","Communications","HST 2100 ","HST 2100 "]
[849,"Avionics","Communications","Joint tactical radio system (JTRS),","Joint tactical radio system (JTRS),"]
[870,"Avionics","Communications","Radio Altimeters","Radio Altimeters"]
[876,"Avionics","Communications","Radio antenna receivers/transmitters","Radio antenna receivers/transmitters"]
[830,"Avionics","Communications","Radio antenna, amplifier, sat data","Radio antenna, amplifier, sat data"]
[806,"Avionics","Communications","Radio Antennas","Radio Antennas"]
[743,"Avionics","Communications","Radio Management Panel","Radio Management Panel"]
[741,"Avionics","Communications","Radio management system","Radio management system"]
[818,"Avionics","Communications","Radio receivers","Radio receivers"]
[780,"Avionics","Communications","Radio Tuning control Panels","Radio Tuning control Panels"]
[769,"Avionics","Communications","SATCOM","SATCOM"]
[854,"Avionics","Communications","Target data acquisition","Target data acquisition"]
[877,"Avionics","Communications","UHF LOS antennas","UHF LOS antennas"]
[872,"Avionics","Communications","UHF SATCOM antenna","UHF SATCOM antenna"]
[841,"Avionics","Data","AFDX databus","AFDX databus"]
[758,"Avionics","Data","Air Traffic Services Unit (ATSU)","Air Traffic Services Unit (ATSU)"]
[757,"Avionics","Data","Aircraft Intergated Data System (AIDS)","Aircraft Intergated Data System (AIDS)"]
[797,"Avionics","Data","Aircraft memory system","Aircraft memory system"]
[864,"Avionics","Data","Combined cockpit voice and data recorder","Combined cockpit voice and data recorder"]
[714,"Avionics","Data","Data Base loader","Data Base loader"]
[771,"Avionics","Data","Data Management Unit","Data Management Unit"]
[821,"Avionics","Data","Digital Data link/transfer","Digital Data link/transfer"]
[871,"Avionics","Data","Digital recorder","Digital recorder"]
[809,"Avionics","Data","Digital Voice & Data Recorder","Digital Voice & Data Recorder"]
[759,"Avionics","Data","Electronic Flight Bags (EFBs)","Electronic Flight Bags (EFBs)"]
[755,"Avionics","Data","FD Interface Unit","FD Interface Unit"]
[754,"Avionics","Data","Flight Data Recorder","Flight Data Recorder"]
[800,"Avionics","Data","High speed and fibre optics data/signalling network databuses","High speed and fibre optics data/signalling network databuses"]
[860,"Avionics","Data","Integrated data modem","Integrated data modem"]
[853,"Avionics","Data","Interface maintenance data recorders","Interface maintenance data recorders"]
[794,"Avionics","Data","Multi function Advanced Data link AAA Array","Multi function Advanced Data link AAA Array"]
[756,"Avionics","Data","Quick Access Recorder (QAR)","Quick Access Recorder (QAR)"]
[801,"Avionics","Data","Radar altimeter","Radar altimeter"]
[772,"Avionics","Data","Wireless LAN data loader","Wireless LAN data loader"]
[719,"Avionics","Display","ADIRS CDU","ADIRS CDU"]
[862,"Avionics","Display","Central Mission display","Central Mission display"]
[737,"Avionics","Display","Clock","Clock"]
[734,"Avionics","Display","Compass","Compass"]
[779,"Avionics","Display","Crew Info System/Maint System","Crew Info System/Maint System"]
[808,"Avionics","Display","Cursor Control Device","Cursor Control Device"]
[767,"Avionics","Display","Datalink cockpit Display Unit","Datalink cockpit Display Unit"]
[736,"Avionics","Display","DDRMI display","DDRMI display"]
[802,"Avionics","Display","Display Controllers","Display Controllers"]
[733,"Avionics","Display","Display Management Computer (DMC/EFIS)","Display Management Computer (DMC/EFIS)"]
[812,"Avionics","Display","Display processor","Display processor"]
[820,"Avionics","Display","Dual redundant digital bus","Dual redundant digital bus"]
[731,"Avionics","Display","ECAM Control panel","ECAM Control panel"]
[729,"Avionics","Display","ECAM display","ECAM display"]
[728,"Avionics","Display","EFIS Control panel","EFIS Control panel"]
[827,"Avionics","Display","EICAS Controller panel","EICAS Controller panel"]
[766,"Avionics","Display","EICAS Crew alerting System","EICAS Crew alerting System"]
[847,"Avionics","Display","Engine/fuel/ displays","Engine/fuel/ displays"]
[730,"Avionics","Display","HUD display system","HUD display system"]
[810,"Avionics","Display","Integrated Electronic Standby System","Integrated Electronic Standby System"]
[735,"Avionics","Display","Integrated Standby Instrument System","Integrated Standby Instrument System"]
[836,"Avionics","Display","Keyboard cursor Control Units (KCCU)","Keyboard cursor Control Units (KCCU)"]
[811,"Avionics","Display","Main displays","Main displays"]
[765,"Avionics","Display","Multi Function Display","Multi Function Display"]
[727,"Avionics","Display","Navigation display (EFIS)","Navigation display (EFIS)"]
[789,"Avionics","Display","Panoramic Display Cockpit Electronic Unit","Panoramic Display Cockpit Electronic Unit"]
[790,"Avionics","Display","Panormic Cockpit Display","Panormic Cockpit Display"]
[824,"Avionics","Display","PFD Control panels","PFD Control panels"]
[793,"Avionics","Display","Pilot Helmet Mounted Display System","Pilot Helmet Mounted Display System"]
[850,"Avionics","Display","Pilot Night Vision Sensors (PNVS) systems","Pilot Night Vision Sensors (PNVS) systems"]
[726,"Avionics","Display","Primary Flight Display (EFIS)","Primary Flight Display (EFIS)"]
[791,"Avionics","Display","Standby display","Standby display"]
[823,"Avionics","Display","Standby display unit","Standby display unit"]
[732,"Avionics","Display","System Data Acquisition Concentrator (SDAC)","System Data Acquisition Concentrator (SDAC)"]
[711,"Avionics","FMS","FCU","FCU"]
[712,"Avionics","FMS","Flight Augmentation Computers","Flight Augmentation Computers"]
[715,"Avionics","FMS","Flight Control Unit (FCU) panel","Flight Control Unit (FCU) panel"]
[835,"Avionics","FMS","Flight Management System","Flight Management System"]
[716,"Avionics","FMS","Flight Warning Computer (FWC)","Flight Warning Computer (FWC)"]
[709,"Avionics","FMS","FMGC","FMGC"]
[710,"Avionics","FMS","MCDU","MCDU"]
[760,"Avionics","FMS","Mode control Panel (Auto/Pilot control)","Mode control Panel (Auto/Pilot control)"]
[1056,"Avionics","Harnesses","Cables and wires","Avionics Harnesses"]
[1057,"Avionics","Harnesses","Connectors & back shells","Avionics Harnesses"]
[1058,"Avionics","Harnesses","Harnesses, cable assemblies & racks","Avionics Harnesses"]
[1059,"Avionics","Harnesses","Relays, contactors & other standard electrical parts","Avionics Harnesses"]
[882,"Avionics","IMA","Aircraft avionics management unit","Aircraft avionics management unit"]
[773,"Avionics","IMA","Common Core processing","Common Core processing"]
[775,"Avionics","IMA","Common Data Network","Common Data Network"]
[833,"Avionics","IMA","IMA","IMA"]
[822,"Avionics","IMA","Integrated Avionics computers (IACs)","Integrated Avionics computers (IACs)"]
[785,"Avionics","IMA","Integrated Core Processor (ICP)","Integrated Core Processor (ICP)"]
[805,"Avionics","IMA","Modular Avionic Unit, 1,2 and 3","Modular Avionic Unit, 1,2 and 3"]
[774,"Avionics","IMA","Remote Data Concentrators","Remote Data Concentrators"]
[784,"Avionics","IMA","Remote Data concentrators","Remote Data concentrators"]
[861,"Avionics","Mission","Data Transfer module","Data Transfer module"]
[846,"Avionics","Mission","Defensive Aids Computer","Defensive Aids Computer"]
[866,"Avionics","Mission","Defensive counter measures","Defensive counter measures"]
[845,"Avionics","Mission","Directed InfraRed Counter Measures","Directed InfraRed Counter Measures"]
[857,"Avionics","Mission","Infra-red countermeasure","Infra-red countermeasure"]
[837,"Avionics","Mission","Military Mission Management System","Military Mission Management System"]
[795,"Avionics","Mission","Mission computers","Mission computers"]
[852,"Avionics","Mission","Modernized Target Acquisition Designation Sight (M-TADS) ","Modernized Target Acquisition Designation Sight (M-TADS) "]
[881,"Avionics","Mission","Stores management computer","Stores management computer"]
[819,"Avionics","Mission","Stores Management System","Stores Management System"]
[718,"Avionics","Navigation","ADIRS control panel","ADIRS control panel"]
[717,"Avionics","Navigation","ADIRU","ADIRU"]
[777,"Avionics","Navigation","AHRS package","AHRS package"]
[721,"Avionics","Navigation","Air Data Modules (ADM)","Air Data Modules (ADM)"]
[786,"Avionics","Navigation","Communication, Navigation, Identification Unit AN/ASQ-242","Communication, Navigation, Identification Unit AN/ASQ-242"]
[874,"Avionics","Navigation","Differential GPS antenna","Differential GPS antenna"]
[725,"Avionics","Navigation","DME receivers","DME receivers"]
[848,"Avionics","Navigation","Embedded GPS/INS","Embedded GPS/INS"]
[873,"Avionics","Navigation","GPS antenna","GPS antenna"]
[813,"Avionics","Navigation","IN/GPS system ","IN/GPS system "]
[826,"Avionics","Navigation","Inertial Ref Unit (IRU)","Inertial Ref Unit (IRU)"]
[834,"Avionics","Navigation","Inertial Reference System","Inertial Reference System"]
[778,"Avionics","Navigation","Intergated Nav Receivers (INRs)","Intergated Nav Receivers (INRs)"]
[803,"Avionics","Navigation","IRS Gyroscope System","IRS Gyroscope System"]
[776,"Avionics","Navigation","IRU package","IRU package"]
[723,"Avionics","Navigation","Multi Mode Receiver (MMR)","Multi Mode Receiver (MMR)"]
[817,"Avionics","Navigation","Navigation receiver","Navigation receiver"]
[720,"Avionics","Navigation","Pedestal ADS select","Pedestal ADS select"]
[764,"Avionics","Navigation","Radar altimeters","Radar altimeters"]
[831,"Avionics","Navigation","Radio antenna, amplifier, sat data","Radio antenna, amplifier, sat data"]
[838,"Avionics","Navigation","TACAN","TACAN"]
[762,"Avionics","Navigation","VOR receivers","VOR receivers"]
[796,"Avionics","Sensors","AESA Radar","AESA Radar"]
[722,"Avionics","Sensors","Air data probes (pitot/static)","Air data probes (pitot/static)"]
[880,"Avionics","Sensors","Air data sensors","Air data sensors"]
[815,"Avionics","Sensors","Air Data smart sensor","Air Data smart sensor"]
[868,"Avionics","Sensors","Airborne Systems Intelligence Payload sensor","Airborne Systems Intelligence Payload sensor"]
[798,"Avionics","Sensors","Distributed Aperture System (electro-optical)","Distributed Aperture System (electro-optical)"]
[792,"Avionics","Sensors","Electro Optical Targeting System (FLIR & IRST)","Electro Optical Targeting System (FLIR & IRST)"]
[856,"Avionics","Sensors","Electronic Interferometer Frequency Radar Supports target acquisition systems","Electronic Interferometer Frequency Radar Supports target acquisition systems"]
[869,"Avionics","Sensors","Enhanced Integrated Sensor Suite","Enhanced Integrated Sensor Suite"]
[816,"Avionics","Sensors","FLIR sensors","FLIR sensors"]
[858,"Avionics","Sensors","Laser warning receiver","Laser warning receiver"]
[851,"Avionics","Sensors","Millimeter wave fire-control radar, frequency interferometer, fire-and-forget radar","Millimeter wave fire-control radar, frequency interferometer, fire-and-forget radar"]
[844,"Avionics","Sensors","Mulit InfraRed alerting System (MIRAS) Sensors","Mulit InfraRed alerting System (MIRAS) Sensors"]
[807,"Avionics","Sensors","Pitot Static sensors","Pitot Static sensors"]
[859,"Avionics","Sensors","Radar jammer","Radar jammer"]
[855,"Avionics","Sensors","Radar warning receivers","Radar warning receivers"]
[878,"Avionics","Sensors","Sensors IFF, other","Sensors IFF, other"]
[761,"Avionics","Sensors","Static/standby sensors","Static/standby sensors"]
[883,"Avionics","Sensors","Surveillance Sensors","Surveillance Sensors"]
[746,"Avionics","Sensors","Weather WX radar system","Weather WX radar system"]
[879,"Avionics","Software","Software","Software"]
[839,"Avionics","Surveillance","Aircraft Environment Surveillance System (AESS)","Aircraft Environment Surveillance System (AESS)"]
[745,"Avionics","Surveillance","ATC control box","ATC control box"]
[744,"Avionics","Surveillance","ATC Mode S Transponders (TCAS)","ATC Mode S Transponders (TCAS)"]
[867,"Avionics","Surveillance","Electro-optical reconnaissance sesnor","Electro-optical reconnaissance sesnor"]
[788,"Avionics","Surveillance","Electronic Warfare suite AN/ASQ-239 (evasion, engagement,  jamming, c/measures)","Electronic Warfare suite AN/ASQ-239 (evasion, engagement,  jamming, c/measures)"]
[885,"Avionics","Surveillance","Enhanced Vision system","Enhanced Vision system"]
[748,"Avionics","Surveillance","Ground Proximity Warning System (GPWS/EGPWS)","Ground Proximity Warning System (GPWS/EGPWS)"]
[814,"Avionics","Surveillance","Multi mode radar","Multi mode radar"]
[783,"Avionics","Surveillance","Multi Scan Hazard Detection System","Multi Scan Hazard Detection System"]
[865,"Avionics","Surveillance","Multi spectral camera","Multi spectral camera"]
[829,"Avionics","Surveillance","Radar Antenna (nose nounted)","Radar Antenna (nose nounted)"]
[884,"Avionics","Surveillance","Sensor suite WX radar etc","Sensor suite WX radar etc"]
[750,"Avionics","Surveillance","TCAS antennas","TCAS antennas"]
[749,"Avionics","Surveillance","TCAS computer","TCAS computer"]
[751,"Avionics","Surveillance","TCAS control panel","TCAS control panel"]
[747,"Avionics","Surveillance","WX control panel","WX control panel"]

{"sheet":"Sheet2","index":2,"n_rows":182,"n_cols":2,"rows_kept":182,"cut":false,"hidden":false,"merged":[]}
[]
["A/T Engine Control Unit",{"$f":"MATCH(A2,Upgrades!B:B,0)","v":6}]
["Auto pilot system",{"$f":"MATCH(A3,Upgrades!B:B,0)","v":32}]
["Dual axis dual system Auto-pilot",{"$f":"MATCH(A4,Upgrades!B:B,0)","v":71}]
["Flight Guidance System (A/Pilot)",{"$f":"MATCH(A5,Upgrades!B:B,0)","v":92}]
["ADF radios",{"$f":"MATCH(A6,Upgrades!B:B,0)","v":7}]
["ADF system",{"$f":"MATCH(A7,Upgrades!B:B,0)","v":8}]
["Air Traffic Services Unit ",{"$f":"MATCH(A8,Upgrades!B:B,0)","v":18}]
["Antenna suite",{"$f":"MATCH(A9,Upgrades!B:B,0)","v":25}]
["ARC 210 radios",{"$f":"MATCH(A10,Upgrades!B:B,0)","v":26}]
["ATC Transponder",{"$f":"MATCH(A11,Upgrades!B:B,0)","v":29}]
["Audio Control Panel",{"$f":"MATCH(A12,Upgrades!B:B,0)","v":30}]
["Audio Management Unit",{"$f":"MATCH(A13,Upgrades!B:B,0)","v":31}]
["Avionics Comms Router (ACR)",{"$f":"MATCH(A14,Upgrades!B:B,0)","v":33}]
["Central Crypto System",{"$f":"MATCH(A15,Upgrades!B:B,0)","v":38}]
["Cockpit Voice Recorder",{"$f":"MATCH(A16,Upgrades!B:B,0)","v":41}]
["Comms Management Function (CMF)",{"$f":"MATCH(A17,Upgrades!B:B,0)","v":45}]
["Comms Management System",{"$f":"MATCH(A18,Upgrades!B:B,0)","v":46}]
["Comms Receivers UF (transceiver/antenna)",{"$f":"MATCH(A19,Upgrades!B:B,0)","v":47}]
["Comms Receivers VH (transceiver/antenna)",{"$f":"MATCH(A20,Upgrades!B:B,0)","v":48}]
["Communication, Navigation, Identification Unit AN/ASQ-242",{"$f":"MATCH(A21,Upgrades!B:B,0)","v":49}]
["CVR control panel",{"$f":"MATCH(A22,Upgrades!B:B,0)","v":53}]
["HF Radio",{"$f":"MATCH(A23,Upgrades!B:B,0)","v":99}]
["HF-9500 High Frequency Communications System",{"$f":"MATCH(A24,Upgrades!B:B,0)","v":100}]
["HST 2100 ",{"$f":"MATCH(A25,Upgrades!B:B,0)","v":102}]
["Joint tactical radio system (JTRS),",{"$f":"MATCH(A26,Upgrades!B:B,0)","v":118}]
["Radio Altimeters",{"$f":"MATCH(A27,Upgrades!B:B,0)","v":151}]
["Radio antenna receivers/transmitters",{"$f":"MATCH(A28,Upgrades!B:B,0)","v":152}]
["Radio antenna, amplifier, sat data",{"$f":"MATCH(A29,Upgrades!B:B,0)","v":153}]
["Radio Antennas",{"$f":"MATCH(A30,Upgrades!B:B,0)","v":154}]
["Radio Management Panel",{"$f":"MATCH(A31,Upgrades!B:B,0)","v":155}]
["Radio management system",{"$f":"MATCH(A32,Upgrades!B:B,0)","v":156}]
["Radio receivers",{"$f":"MATCH(A33,Upgrades!B:B,0)","v":157}]
["Radio Tuning control Panels",{"$f":"MATCH(A34,Upgrades!B:B,0)","v":158}]
["SATCOM",{"$f":"MATCH(A35,Upgrades!B:B,0)","v":161}]
["Target data acquisition",{"$f":"MATCH(A36,Upgrades!B:B,0)","v":173}]
["UHF LOS antennas",{"$f":"MATCH(A37,Upgrades!B:B,0)","v":177}]
["UHF SATCOM antenna",{"$f":"MATCH(A38,Upgrades!B:B,0)","v":178}]
["AFDX databus",{"$f":"MATCH(A39,Upgrades!B:B,0)","v":12}]
["Air Traffic Services Unit (ATSU)",{"$f":"MATCH(A40,Upgrades!B:B,0)","v":19}]
["Aircraft Intergated Data System (AIDS)",{"$f":"MATCH(A41,Upgrades!B:B,0)","v":{"$error":"#N/A"}}]
["Aircraft memory system",{"$f":"MATCH(A42,Upgrades!B:B,0)","v":24}]
["Combined cockpit voice and data recorder",{"$f":"MATCH(A43,Upgrades!B:B,0)","v":42}]
["Data Base loader",{"$f":"MATCH(A44,Upgrades!B:B,0)","v":54}]
["Data Management Unit",{"$f":"MATCH(A45,Upgrades!B:B,0)","v":55}]
["Digital Data link/transfer",{"$f":"MATCH(A46,Upgrades!B:B,0)","v":62}]
["Digital recorder",{"$f":"MATCH(A47,Upgrades!B:B,0)","v":63}]
["Digital Voice & Data Recorder",{"$f":"MATCH(A48,Upgrades!B:B,0)","v":64}]
["Electronic Flight Bags (EFBs)",{"$f":"MATCH(A49,Upgrades!B:B,0)","v":79}]
["FD Interface Unit",{"$f":"MATCH(A50,Upgrades!B:B,0)","v":88}]
["Flight Data Recorder",{"$f":"MATCH(A51,Upgrades!B:B,0)","v":91}]
["High speed and fibre optics data/signalling network databuses",{"$f":"MATCH(A52,Upgrades!B:B,0)","v":101}]
["Integrated data modem",{"$f":"MATCH(A53,Upgrades!B:B,0)","v":111}]
["Interface maintenance data recorders",{"$f":"MATCH(A54,Upgrades!B:B,0)","v":114}]
["Multi function Advanced Data link AAA Array",{"$f":"MATCH(A55,Upgrades!B:B,0)","v":130}]
["Quick Access Recorder (QAR)",{"$f":"MATCH(A56,Upgrades!B:B,0)","v":145}]
["Radar altimeter",{"$f":"MATCH(A57,Upgrades!B:B,0)","v":146}]
["Wireless LAN data loader",{"$f":"MATCH(A58,Upgrades!B:B,0)","v":181}]
["ADIRS CDU",{"$f":"MATCH(A59,Upgrades!B:B,0)","v":9}]
["Central Mission display",{"$f":"MATCH(A60,Upgrades!B:B,0)","v":39}]
["Clock",{"$f":"MATCH(A61,Upgrades!B:B,0)","v":40}]
["Compass",{"$f":"MATCH(A62,Upgrades!B:B,0)","v":50}]
["Crew Info System/Maint System",{"$f":"MATCH(A63,Upgrades!B:B,0)","v":51}]
["Cursor Control Device",{"$f":"MATCH(A64,Upgrades!B:B,0)","v":52}]
["Datalink cockpit Display Unit",{"$f":"MATCH(A65,Upgrades!B:B,0)","v":57}]
["DDRMI display",{"$f":"MATCH(A66,Upgrades!B:B,0)","v":58}]
["Display Controllers",{"$f":"MATCH(A67,Upgrades!B:B,0)","v":66}]
["Display Management Computer (DMC/EFIS)",{"$f":"MATCH(A68,Upgrades!B:B,0)","v":67}]
["Display processor",{"$f":"MATCH(A69,Upgrades!B:B,0)","v":68}]
["Dual redundant digital bus",{"$f":"MATCH(A70,Upgrades!B:B,0)","v":72}]
["ECAM Control panel",{"$f":"MATCH(A71,Upgrades!B:B,0)","v":73}]
["ECAM display",{"$f":"MATCH(A72,Upgrades!B:B,0)","v":74}]
["EFIS Control panel",{"$f":"MATCH(A73,Upgrades!B:B,0)","v":75}]
["EICAS Controller panel",{"$f":"MATCH(A74,Upgrades!B:B,0)","v":76}]
["EICAS Crew alerting System",{"$f":"MATCH(A75,Upgrades!B:B,0)","v":77}]
["Engine/fuel/ displays",{"$f":"MATCH(A76,Upgrades!B:B,0)","v":84}]
["HUD display system",{"$f":"MATCH(A77,Upgrades!B:B,0)","v":103}]
["Integrated Electronic Standby System",{"$f":"MATCH(A78,Upgrades!B:B,0)","v":112}]
["Integrated Standby Instrument System",{"$f":"MATCH(A79,Upgrades!B:B,0)","v":113}]
["Keyboard cursor Control Units (KCCU)",{"$f":"MATCH(A80,Upgrades!B:B,0)","v":119}]
["Main displays",{"$f":"MATCH(A81,Upgrades!B:B,0)","v":121}]
["Multi Function Display",{"$f":"MATCH(A82,Upgrades!B:B,0)","v":131}]
["Navigation display (EFIS)",{"$f":"MATCH(A83,Upgrades!B:B,0)","v":136}]
["Panoramic Display Cockpit Electronic Unit",{"$f":"MATCH(A84,Upgrades!B:B,0)","v":138}]
["Panormic Cockpit Display",{"$f":"MATCH(A85,Upgrades!B:B,0)","v":139}]
["PFD Control panels",{"$f":"MATCH(A86,Upgrades!B:B,0)","v":140}]
["Pilot Helmet Mounted Display System",{"$f":"MATCH(A87,Upgrades!B:B,0)","v":141}]
["Pilot Night Vision Sensors (PNVS) systems",{"$f":"MATCH(A88,Upgrades!B:B,0)","v":142}]
["Primary Flight Display (EFIS)",{"$f":"MATCH(A89,Upgrades!B:B,0)","v":144}]
["Standby display",{"$f":"MATCH(A90,Upgrades!B:B,0)","v":165}]
["Standby display unit",{"$f":"MATCH(A91,Upgrades!B:B,0)","v":166}]
["System Data Acquisition Concentrator (SDAC)",{"$f":"MATCH(A92,Upgrades!B:B,0)","v":171}]
["FCU",{"$f":"MATCH(A93,Upgrades!B:B,0)","v":87}]
["Flight Augmentation Computers",{"$f":"MATCH(A94,Upgrades!B:B,0)","v":89}]
["Flight Control Unit (FCU) panel",{"$f":"MATCH(A95,Upgrades!B:B,0)","v":90}]
["Flight Management System",{"$f":"MATCH(A96,Upgrades!B:B,0)","v":93}]
["Flight Warning Computer (FWC)",{"$f":"MATCH(A97,Upgrades!B:B,0)","v":94}]
["FMGC",{"$f":"MATCH(A98,Upgrades!B:B,0)","v":96}]
["MCDU",{"$f":"MATCH(A99,Upgrades!B:B,0)","v":122}]
["Mode control Panel (Auto/Pilot control)",{"$f":"MATCH(A100,Upgrades!B:B,0)","v":126}]
["Avionics Harnesses",{"$f":"MATCH(A101,Upgrades!B:B,0)","v":34}]
["Avionics Harnesses",{"$f":"MATCH(A102,Upgrades!B:B,0)","v":34}]
["Avionics Harnesses",{"$f":"MATCH(A103,Upgrades!B:B,0)","v":34}]
["Avionics Harnesses",{"$f":"MATCH(A104,Upgrades!B:B,0)","v":34}]
["Aircraft avionics management unit",{"$f":"MATCH(A105,Upgrades!B:B,0)","v":21}]
["Common Core processing",{"$f":"MATCH(A106,Upgrades!B:B,0)","v":43}]
["Common Data Network",{"$f":"MATCH(A107,Upgrades!B:B,0)","v":44}]
["IMA",{"$f":"MATCH(A108,Upgrades!B:B,0)","v":104}]
["Integrated Avionics computers (IACs)",{"$f":"MATCH(A109,Upgrades!B:B,0)","v":109}]
["Integrated Core Processor (ICP)",{"$f":"MATCH(A110,Upgrades!B:B,0)","v":110}]
["Modular Avionic Unit, 1,2 and 3",{"$f":"MATCH(A111,Upgrades!B:B,0)","v":128}]
["Remote Data Concentrators",{"$f":"MATCH(A112,Upgrades!B:B,0)","v":159}]
["Remote Data concentrators",{"$f":"MATCH(A113,Upgrades!B:B,0)","v":159}]
["Data Transfer module",{"$f":"MATCH(A114,Upgrades!B:B,0)","v":56}]
["Defensive Aids Computer",{"$f":"MATCH(A115,Upgrades!B:B,0)","v":59}]
["Defensive counter measures",{"$f":"MATCH(A116,Upgrades!B:B,0)","v":60}]
["Directed InfraRed Counter Measures",{"$f":"MATCH(A117,Upgrades!B:B,0)","v":65}]
["Infra-red countermeasure",{"$f":"MATCH(A118,Upgrades!B:B,0)","v":108}]
["Military Mission Management System",{"$f":"MATCH(A119,Upgrades!B:B,0)","v":123}]
["Mission computers",{"$f":"MATCH(A120,Upgrades!B:B,0)","v":125}]
["Modernized Target Acquisition Designation Sight (M-TADS) ",{"$f":"MATCH(A121,Upgrades!B:B,0)","v":127}]
["Stores management computer",{"$f":"MATCH(A122,Upgrades!B:B,0)","v":168}]
["Stores Management System",{"$f":"MATCH(A123,Upgrades!B:B,0)","v":169}]
["ADIRS control panel",{"$f":"MATCH(A124,Upgrades!B:B,0)","v":183}]
["ADIRU",{"$f":"MATCH(A125,Upgrades!B:B,0)","v":10}]
["AHRS package",{"$f":"MATCH(A126,Upgrades!B:B,0)","v":13}]
["Air Data Modules (ADM)",{"$f":"MATCH(A127,Upgrades!B:B,0)","v":14}]
["Communication, Navigation, Identification Unit AN/ASQ-242",{"$f":"MATCH(A128,Upgrades!B:B,0)","v":49}]
["Differential GPS antenna",{"$f":"MATCH(A129,Upgrades!B:B,0)","v":61}]
["DME receivers",{"$f":"MATCH(A130,Upgrades!B:B,0)","v":70}]
["Embedded GPS/INS",{"$f":"MATCH(A131,Upgrades!B:B,0)","v":83}]
["GPS antenna",{"$f":"MATCH(A132,Upgrades!B:B,0)","v":97}]
["IN/GPS system ",{"$f":"MATCH(A133,Upgrades!B:B,0)","v":105}]
["Inertial Ref Unit (IRU)",{"$f":"MATCH(A134,Upgrades!B:B,0)","v":106}]
["Inertial Reference System",{"$f":"MATCH(A135,Upgrades!B:B,0)","v":107}]
["Intergated Nav Receivers (INRs)",{"$f":"MATCH(A136,Upgrades!B:B,0)","v":115}]
["IRS Gyroscope System",{"$f":"MATCH(A137,Upgrades!B:B,0)","v":116}]
["IRU package",{"$f":"MATCH(A138,Upgrades!B:B,0)","v":117}]
["Multi Mode Receiver (MMR)",{"$f":"MATCH(A139,Upgrades!B:B,0)","v":133}]
["Navigation receiver",{"$f":"MATCH(A140,Upgrades!B:B,0)","v":137}]
["Pedestal ADS select",{"$f":"MATCH(A141,Upgrades!B:B,0)","v":185}]
["Radar altimeters",{"$f":"MATCH(A142,Upgrades!B:B,0)","v":147}]
["Radio antenna, amplifier, sat data",{"$f":"MATCH(A143,Upgrades!B:B,0)","v":153}]
["TACAN",{"$f":"MATCH(A144,Upgrades!B:B,0)","v":172}]
["VOR receivers",{"$f":"MATCH(A145,Upgrades!B:B,0)","v":179}]
["AESA Radar",{"$f":"MATCH(A146,Upgrades!B:B,0)","v":11}]
["Air data probes (pitot/static)",{"$f":"MATCH(A147,Upgrades!B:B,0)","v":15}]
["Air data sensors",{"$f":"MATCH(A148,Upgrades!B:B,0)","v":16}]
["Air Data smart sensor",{"$f":"MATCH(A149,Upgrades!B:B,0)","v":17}]
["Airborne Systems Intelligence Payload sensor",{"$f":"MATCH(A150,Upgrades!B:B,0)","v":20}]
["Distributed Aperture System (electro-optical)",{"$f":"MATCH(A151,Upgrades!B:B,0)","v":69}]
["Electro Optical Targeting System (FLIR & IRST)",{"$f":"MATCH(A152,Upgrades!B:B,0)","v":78}]
["Electronic Interferometer Frequency Radar Supports target acquisition systems",{"$f":"MATCH(A153,Upgrades!B:B,0)","v":80}]
["Enhanced Integrated Sensor Suite",{"$f":"MATCH(A154,Upgrades!B:B,0)","v":85}]
["FLIR sensors",{"$f":"MATCH(A155,Upgrades!B:B,0)","v":95}]
["Laser warning receiver",{"$f":"MATCH(A156,Upgrades!B:B,0)","v":120}]
["Millimeter wave fire-control radar, frequency interferometer, fire-and-forget radar",{"$f":"MATCH(A157,Upgrades!B:B,0)","v":124}]
["Mulit InfraRed alerting System (MIRAS) Sensors",{"$f":"MATCH(A158,Upgrades!B:B,0)","v":129}]
["Pitot Static sensors",{"$f":"MATCH(A159,Upgrades!B:B,0)","v":143}]
["Radar jammer",{"$f":"MATCH(A160,Upgrades!B:B,0)","v":149}]
["Radar warning receivers",{"$f":"MATCH(A161,Upgrades!B:B,0)","v":150}]
["Sensors IFF, other",{"$f":"MATCH(A162,Upgrades!B:B,0)","v":163}]
["Static/standby sensors",{"$f":"MATCH(A163,Upgrades!B:B,0)","v":167}]
["Surveillance Sensors",{"$f":"MATCH(A164,Upgrades!B:B,0)","v":170}]
["Weather WX radar system",{"$f":"MATCH(A165,Upgrades!B:B,0)","v":180}]
["Software",{"$f":"MATCH(A166,Upgrades!B:B,0)","v":164}]
["Aircraft Environment Surveillance System (AESS)",{"$f":"MATCH(A167,Upgrades!B:B,0)","v":22}]
["ATC control box",{"$f":"MATCH(A168,Upgrades!B:B,0)","v":27}]
["ATC Mode S Transponders (TCAS)",{"$f":"MATCH(A169,Upgrades!B:B,0)","v":28}]
["Electro-optical reconnaissance sesnor",{"$f":"MATCH(A170,Upgrades!B:B,0)","v":82}]
["Electronic Warfare suite AN/ASQ-239 (evasion, engagement,  jamming, c/measures)",{"$f":"MATCH(A171,Upgrades!B:B,0)","v":81}]
["Enhanced Vision system",{"$f":"MATCH(A172,Upgrades!B:B,0)","v":86}]
["Ground Proximity Warning System (GPWS/EGPWS)",{"$f":"MATCH(A173,Upgrades!B:B,0)","v":98}]
["Multi mode radar",{"$f":"MATCH(A174,Upgrades!B:B,0)","v":132}]
["Multi Scan Hazard Detection System",{"$f":"MATCH(A175,Upgrades!B:B,0)","v":134}]
["Multi spectral camera",{"$f":"MATCH(A176,Upgrades!B:B,0)","v":135}]
["Radar Antenna (nose nounted)",{"$f":"MATCH(A177,Upgrades!B:B,0)","v":148}]
["Sensor suite WX radar etc",{"$f":"MATCH(A178,Upgrades!B:B,0)","v":162}]
["TCAS antennas",{"$f":"MATCH(A179,Upgrades!B:B,0)","v":174}]
["TCAS computer",{"$f":"MATCH(A180,Upgrades!B:B,0)","v":175}]
["TCAS control panel",{"$f":"MATCH(A181,Upgrades!B:B,0)","v":176}]
["WX control panel",{"$f":"MATCH(A182,Upgrades!B:B,0)","v":182}]

{"sheet":"Aircraft IDs","index":3,"n_rows":374,"n_cols":17,"rows_kept":374,"cut":false,"hidden":false,"merged":[]}
["aircraft_id","aircraft_level_1","aircraft_level_2","aircraft_level_3","aircraft_level_4"]
[674,"Business Jet","Large Jet","ACJ","Airbus ACJ TwoTwenty","A220",{"$f":"INDEX(P:Q,MATCH(F2,P:P,0),2)","v":"A220"},null,null,null,null,null,null,null,null,"A220",{"$f":"P2","v":"A220"}]
[221,"Large Commercial Aircraft","Single Aisle","A220","Airbus A220-100","A220",{"$f":"INDEX(P:Q,MATCH(F3,P:P,0),2)","v":"A220"},null,null,null,null,null,null,null,null,"A300",{"$f":"P3","v":"A300"}]
[222,"Large Commercial Aircraft","Single Aisle","A220","Airbus A220-300","A220","A220",null,null,null,null,null,null,null,null,"A320","A320"]
[653,"Large Commercial Aircraft","Single Aisle","A220","Airbus A220-500","A220","A220",null,null,null,null,null,null,null,null,"A321","A321"]
[632,"Freighter","Medium Widebody Freighters","A300","A300-600F/RF","A300","A300",null,null,null,null,null,null,null,null,"A330","A330"]
[631,"Freighter","Medium Widebody Freighters","A300","A300-600F/RF","A300","A300",null,null,null,null,null,null,null,null,"A340","A340"]
[566,"Freighter","Medium Widebody Freighters","A300","Airbus A300-600ST Beluga","A300","A300",null,null,null,null,null,null,null,null,"A350","A350"]
[305,"Large Commercial Aircraft","Twin Aisle","Airbus A300","Airbus A300","A300","A300",null,null,null,null,null,null,null,null,"A380","A380"]
[532,"Large Commercial Aircraft","Twin Aisle","Airbus A300","Airbus A300","A300","A300",null,null,null,null,null,null,null,null,"ARJ","ARJ"]
[296,"Business Jet","Large Jet","ACJ","Airbus ACJ320 Family","A320","A320",null,null,null,null,null,null,null,null,"ATR","ATR"]
[526,"Business Jet","Large Jet","ACJ","Airbus ACJ320 Family","A320","A320",null,null,null,null,null,null,null,null,"Attack","Attack"]
[528,"Business Jet","Large Jet","ACJ","Airbus ACJ320neo Family","A320","A320",null,null,null,null,null,null,null,null,"Attack Helo","Attack Helo"]
[527,"Business Jet","Large Jet","ACJ","Airbus ACJ320neo Family","A320","A320",null,null,null,null,null,null,null,null,"B717","B717"]
[678,"Business Jet","Large Jet","Wide body VIP","Airbus ACJ330-200","A320","A320",null,null,null,null,null,null,null,null,"B737","B737"]
[665,"Freighter","Standard body Freighters","A320ceo","A320-200P2F","A320","A320",null,null,null,null,null,null,null,null,"B747","B747"]
[634,"Large Commercial Aircraft","Single Aisle","A320ceo","A319-100","A320","A320",null,null,null,null,null,null,null,null,"B757","B757"]
[633,"Large Commercial Aircraft","Single Aisle","A320ceo","A320-200","A320","A320",null,null,null,null,null,null,null,null,"B767","B767"]
[206,"Large Commercial Aircraft","Single Aisle","A320ceo","Airbus A319ceo","A320","A320",null,null,null,null,null,null,null,null,"B777","B777"]
[510,"Large Commercial Aircraft","Single Aisle","A320ceo","Airbus A319ceo","A320","A320",null,null,null,null,null,null,null,null,"B787","B787"]
[207,"Large Commercial Aircraft","Single Aisle","A320ceo","Airbus A320ceo","A320","A320",null,null,null,null,null,null,null,null,"C919","C919"]
[511,"Large Commercial Aircraft","Single Aisle","A320ceo","Airbus A320ceo","A320","A320",null,null,null,null,null,null,null,null,"Challenger","Challenger"]
[208,"Large Commercial Aircraft","Single Aisle","A320ceo","Airbus A321ceo","A320","A320",null,null,null,null,null,null,null,null,"Citation","Citation"]
[512,"Large Commercial Aircraft","Single Aisle","A320ceo","Airbus A321ceo","A320","A320",null,null,null,null,null,null,null,null,"CRJ","CRJ"]
[513,"Large Commercial Aircraft","Single Aisle","A320neo","Airbus A319neo","A320","A320",null,null,null,null,null,null,null,null,"E170","EMB Regional"]
[209,"Large Commercial Aircraft","Single Aisle","A320neo","Airbus A319neo","A320","A320",null,null,null,null,null,null,null,null,"E175","EMB Regional"]
[514,"Large Commercial Aircraft","Single Aisle","A320neo","Airbus A320neo","A320","A320",null,null,null,null,null,null,null,null,"E190","EMB Regional"]
[210,"Large Commercial Aircraft","Single Aisle","A320neo","Airbus A320neo","A320","A320",null,null,null,null,null,null,null,null,"E195","EMB Regional"]
[660,"Large Commercial Aircraft","Single Aisle","A320neo","Airbus A321 LR","A320","A320",null,null,null,null,null,null,null,null,"E550","E550"]
[661,"Large Commercial Aircraft","Single Aisle","A320neo","Airbus A321 LR","A320","A320",null,null,null,null,null,null,null,null,"EMB 1000","EMB Bizjet"]
[662,"Large Commercial Aircraft","Single Aisle","A320neo","Airbus A321 XLR","A320","A320",null,null,null,null,null,null,null,null,"EMB 600","EMB Bizjet"]
[663,"Large Commercial Aircraft","Single Aisle","A320neo","Airbus A321 XLR","A320","A320",null,null,null,null,null,null,null,null,"EMB 700","EMB Bizjet"]
[515,"Large Commercial Aircraft","Single Aisle","A320neo","Airbus A321neo","A320","A320",null,null,null,null,null,null,null,null,"ERJ 135","EMB Regional"]
[211,"Large Commercial Aircraft","Single Aisle","A320neo","Airbus A321neo","A320","A320",null,null,null,null,null,null,null,null,"Falcon","Falcon"]
[654,"Large Commercial Aircraft","Single Aisle","A320neo","Airbus A322X","A320","A320",null,null,null,null,null,null,null,null,"Global","Global"]
[655,"Large Commercial Aircraft","Single Aisle","A320neo","Airbus A322X","A320","A320",null,null,null,null,null,null,null,null,"Gulfstream","Gulfstream"]
[666,"Freighter","Standard body Freighters","A320ceo","A321P2F","A321","A321",null,null,null,null,null,null,null,null,"Hawker","Hawker"]
[565,"Freighter","Large Freighters","A330","Airbus A330-743L Beluga XL","A330","A330",null,null,null,null,null,null,null,null,"Helo","Helo"]
[560,"Freighter","Medium Widebody Freighters","A330","Airbus A330-200F","A330","A330",null,null,null,null,null,null,null,null,"Hondajet","Hondajet"]
[561,"Freighter","Medium Widebody Freighters","A330","Airbus A330-200F","A330","A330",null,null,null,null,null,null,null,null,"Learjet","Learjet"]
[562,"Freighter","Medium Widebody Freighters","A330","Airbus A330-300P2F","A330","A330",null,null,null,null,null,null,null,null,"M2","Citation"]
[563,"Freighter","Medium Widebody Freighters","A330","Airbus A330-300P2F","A330","A330",null,null,null,null,null,null,null,null,"MC-21","MC-21"]
[564,"Freighter","Medium Widebody Freighters","A330","Airbus A330-300P2F","A330","A330",null,null,null,null,null,null,null,null,"MD-11","MD-11"]
[212,"Large Commercial Aircraft","Twin Aisle","A330","Airbus A330-200","A330","A330",null,null,null,null,null,null,null,null,"Mil Fighter","Mil Fighter"]
[516,"Large Commercial Aircraft","Twin Aisle","A330","Airbus A330-200","A330","A330",null,null,null,null,null,null,null,null,"Mil Transport","Mil Transport"]
[517,"Large Commercial Aircraft","Twin Aisle","A330","Airbus A330-200","A330","A330",null,null,null,null,null,null,null,null,"Military Jet","Military Jet"]
[213,"Large Commercial Aircraft","Twin Aisle","A330","Airbus A330-300","A330","A330",null,null,null,null,null,null,null,null,"Military TP","Military TP"]
[518,"Large Commercial Aircraft","Twin Aisle","A330","Airbus A330-300","A330","A330",null,null,null,null,null,null,null,null,"Mustang","Citation"]
[519,"Large Commercial Aircraft","Twin Aisle","A330","Airbus A330-300","A330","A330",null,null,null,null,null,null,null,null,"Nextant 400XT","Nextant 400XT"]
[214,"Large Commercial Aircraft","Twin Aisle","A330","Airbus A330-800neo","A330","A330",null,null,null,null,null,null,null,null,"NSA","NSA"]
[215,"Large Commercial Aircraft","Twin Aisle","A330","Airbus A330-900neo","A330","A330",null,null,null,null,null,null,null,null,"PC-24","PC-24"]
[658,"Military Transport / Special Mission","Military Jet","A330 LMXT","Lockheed martin/Airbus A330 LMXT","A330","A330 LMXT",null,null,null,null,null,null,null,null,"Phenom","Phenom"]
[551,"Military Transport / Special Mission","Military Jet","A330 MRTT","Airbus A330 MRTT","A330","A330 MRTT",null,null,null,null,null,null,null,null,"Praetor","Praetor"]
[151,"Military Transport / Special Mission","Military Jet","A330 MRTT","Airbus A330 MRTT","A330","A330 MRTT",null,null,null,null,null,null,null,null,"Reg TP","Reg TP"]
[669,"Freighter","Medium Widebody Freighters","A340","Airbus A340-600NGF","A340","A340",null,null,null,null,null,null,null,null,"SF50","SF50"]
[304,"Large Commercial Aircraft","Twin Aisle","A340","Airbus A340-200/300","A340","A340",null,null,null,null,null,null,null,null,"Stealth","Stealth"]
[5,"Large Commercial Aircraft","Twin Aisle","A340","Airbus A340-500/600","A340","A340",null,null,null,null,null,null,null,null,"Superjet 100","Superjet 100"]
[644,"Freighter","Large Freighters","A350","Airbus A350F","A350","A350",null,null,null,null,null,null,null,null,"TP Trainer","TP Trainer"]
[6,"Large Commercial Aircraft","Twin Aisle","A350","Airbus A350 XWB - A350-900","A350","A350",null,null,null,null,null,null,null,null,"Turbine GA","Turbine GA"]
[7,"Large Commercial Aircraft","Twin Aisle","A350","Airbus A350-1000","A350","A350",null,null,null,null,null,null,null,null,"UAV","UAV"]
[657,"Large Commercial Aircraft","Twin Aisle","A350","Airbus A350-1000neo","A350","A350"]
[656,"Large Commercial Aircraft","Twin Aisle","A350","Airbus A350-900neo","A350","A350"]
[216,"Large Commercial Aircraft","Very large aircraft","A380","Airbus A380","A380","A380"]
[520,"Large Commercial Aircraft","Very large aircraft","A380","Airbus A380","A380","A380"]
[27,"Regional","Regional Jet","Comac ARJ21","Comac ARJ21","ARJ","ARJ"]
[668,"Freighter","Turboprop Freighters","ATR 42/72","ATR 72-600F","ATR","ATR"]
[667,"Freighter","Turboprop Freighters","ATR 42/72","ATR 72/42 Freighter Conversion","ATR",{"$f":"INDEX(P:Q,MATCH(F67,P:P,0),2)","v":"ATR"}]
[643,"Fighters and Jet Trainers","Attack","BAES/Leonardo Tempest","BAES/Leonardo Tempest","Attack","Attack"]
[179,"Fighters and Jet Trainers","Attack","Boeing/Saab T-X program","Boeing T-7","Attack","Attack"]
[141,"Fighters and Jet Trainers","Attack","Dassault Rafale","Dassault Rafale","Attack","Attack"]
[142,"Fighters and Jet Trainers","Attack","Eurofighter Typhoon","Eurofighter Typhoon","Attack","Attack"]
[139,"Fighters and Jet Trainers","Attack","F-15","McDonnell Douglas F-15 Eagle","Attack","Attack"]
[505,"Fighters and Jet Trainers","Attack","F-15","McDonnell Douglas F-15 Eagle","Attack","Attack"]
[144,"Fighters and Jet Trainers","Attack","F-16","General Dynamics F-16 Fighting Falcon","Attack","Attack"]
[506,"Fighters and Jet Trainers","Attack","F-16","General Dynamics F-16 Fighting Falcon","Attack","Attack"]
[637,"Fighters and Jet Trainers","Attack","F-18","F-18 A/D","Attack","Attack"]
[140,"Fighters and Jet Trainers","Attack","F-18","F-18 Super Hornet","Attack","Attack"]
[148,"Fighters and Jet Trainers","Attack","Gripen","Saab JAS 39 Gripen","Attack","Attack"]
[584,"Fighters and Jet Trainers","Attack","KAI KF-X","KAI KF-21","Attack","Attack"]
[176,"Fighters and Jet Trainers","Attack","KAI T-50 Golden Eagle","KAI T-50 Golden Eagle","Attack","Attack"]
[147,"Fighters and Jet Trainers","Attack","Mitsubishi F-2","Mitsubishi F-2","Attack","Attack"]
[585,"Fighters and Jet Trainers","Attack","TAI TF-X","TAI TF-X","Attack","Attack"]
[92,"Helicopter","Attack","AH-1","Bell AH-1Z Viper","Attack Helo","Attack Helo"]
[98,"Helicopter","Attack","AH-64","Boeing AH-64 Apache","Attack Helo","Attack Helo"]
[99,"Helicopter","Attack","AH-64","Boeing AH-64 Apache (reman)","Attack Helo","Attack Helo"]
[648,"Helicopter","Attack","AW 249","Leonardo AW 249","Attack Helo","Attack Helo"]
[132,"Helicopter","Attack","Future Attack Reconnaissance Aircraft","Bell V-280 Valor ","Attack Helo","Attack Helo"]
[85,"Helicopter","Attack","TAI/Leonardo T129","TAI/Leonardo T129","Attack Helo","Attack Helo"]
[104,"Helicopter","Attack","Tiger","Airbus Tiger","Attack Helo","Attack Helo"]
[97,"Helicopter","Attack","V-22","Bell Boeing V-22 Osprey","Attack Helo","Attack Helo"]
[639,"Helicopter","Attack","WAH-64","Westland WAH-64","Attack Helo","Attack Helo"]
[299,"Large Commercial Aircraft","Single Aisle","Boeing 717","Boeing 717","B717","B717"]
[529,"Business Jet","Large Jet","BBJ","Boeing BBJ MAX","B737","B737"]
[297,"Business Jet","Large Jet","BBJ","Boeing BBJ/BBJ2/BBJ3","B737","B737"]
[573,"Freighter","Standard body Freighters","Boeing 737","Boeing 737-300SF","B737","B737"]
[572,"Freighter","Standard body Freighters","Boeing 737","Boeing 737-400SF","B737","B737"]
[591,"Freighter","Standard body Freighters","Boeing 737","Boeing 737-700C","B737","B737"]
[571,"Freighter","Standard body Freighters","Boeing 737NG","Boeing 737-700/-800CF","B737","B737"]
[534,"Large Commercial Aircraft","Single Aisle","Boeing 737 Classic","Boeing 737 Classic: 737-300","B737","B737"]
[535,"Large Commercial Aircraft","Single Aisle","Boeing 737 Classic","Boeing 737 Classic: 737-400","B737","B737"]
[536,"Large Commercial Aircraft","Single Aisle","Boeing 737 Classic","Boeing 737 Classic: 737-500","B737","B737"]
[309,"Large Commercial Aircraft","Single Aisle","Boeing 737MAX","Boeing 737 MAX: 737 MAX 10","B737","B737"]
[195,"Large Commercial Aircraft","Single Aisle","Boeing 737MAX","Boeing 737 MAX: 737 MAX 7","B737","B737"]
[196,"Large Commercial Aircraft","Single Aisle","Boeing 737MAX","Boeing 737 MAX: 737 MAX 8","B737","B737"]
[197,"Large Commercial Aircraft","Single Aisle","Boeing 737MAX","Boeing 737 MAX: 737 MAX 9","B737","B737"]
[300,"Large Commercial Aircraft","Single Aisle","Boeing 737NG","Boeing 737-600","B737","B737"]
[192,"Large Commercial Aircraft","Single Aisle","Boeing 737NG","Boeing 737-700","B737","B737"]
[193,"Large Commercial Aircraft","Single Aisle","Boeing 737NG","Boeing 737-800","B737","B737"]
[194,"Large Commercial Aircraft","Single Aisle","Boeing 737NG","Boeing 737-900","B737","B737"]
[594,"Business Jet","Large Jet","Boeing 747","Boeing 747-8 VIP","B747","B747"]
[592,"Freighter","Large Freighters","Boeing 747","Boeing 747-400CF","B747","B747"]
[593,"Freighter","Large Freighters","Boeing 747","Boeing 747-400CF","B747","B747"]
[629,"Freighter","Large Freighters","Boeing 747","Boeing 747-400F/ERF","B747","B747"]
[628,"Freighter","Large Freighters","Boeing 747","Boeing 747-400F/ERF","B747","B747"]
[630,"Freighter","Large Freighters","Boeing 747","Boeing 747-400F/ERF","B747","B747"]
[567,"Freighter","Large Freighters","Boeing 747","Boeing 747-8F","B747","B747"]
[530,"Large Commercial Aircraft","Very large aircraft","Boeing 747","Boeing 747-400","B747","B747"]
[301,"Large Commercial Aircraft","Very large aircraft","Boeing 747","Boeing 747-400","B747","B747"]
[531,"Large Commercial Aircraft","Very large aircraft","Boeing 747","Boeing 747-400","B747","B747"]
[16,"Large Commercial Aircraft","Very large aircraft","Boeing 747","Boeing 747-8I","B747","B747"]
[596,"Freighter","Standard body Freighters","Boeing 757","Boeing 757-200 PF/SF","B757","B757"]
[595,"Freighter","Standard body Freighters","Boeing 757","Boeing 757-200 PF/SF","B757","B757"]
[522,"Large Commercial Aircraft","Single Aisle","Boeing 757","Boeing 757","B757","B757"]
[230,"Large Commercial Aircraft","Single Aisle","Boeing 757","Boeing 757","B757","B757"]
[570,"Freighter","Medium Widebody Freighters","Boeing 767","Boeing 767-300BCF","B767","B767"]
[569,"Freighter","Medium Widebody Freighters","Boeing 767","Boeing 767-300F","B767","B767"]
[12,"Large Commercial Aircraft","Twin Aisle","Boeing 767","Boeing 767","B767","B767"]
[537,"Large Commercial Aircraft","Twin Aisle","Boeing 767","Boeing 767","B767","B767"]
[538,"Large Commercial Aircraft","Twin Aisle","Boeing 767","Boeing 767","B767","B767"]
[298,"Business Jet","Large Jet","Wide body VIP","Boeing BBJ 777","B777","B777"]
[553,"Business Jet","Large Jet","Wide body VIP","Boeing BBJ 777X","B777",{"$f":"INDEX(P:Q,MATCH(F131,P:P,0),2)","v":"B777"}]
[664,"Freighter","Large Freighters","Boeing 777","Boeing 777-300 ERSF","B777","B777"]
[568,"Freighter","Large Freighters","Boeing 777","Boeing 777F","B777","B777"]
[659,"Freighter","Large Freighters","Boeing 777X","Boeing 777XF: 777-9","B777","B777"]
[539,"Large Commercial Aircraft","Twin Aisle","Boeing 777","Boeing 777: 777-200ER","B777","B777"]
[302,"Large Commercial Aircraft","Twin Aisle","Boeing 777","Boeing 777: 777-200ER","B777","B777"]
[579,"Large Commercial Aircraft","Twin Aisle","Boeing 777","Boeing 777: 777-200ER","B777","B777"]
[201,"Large Commercial Aircraft","Twin Aisle","Boeing 777","Boeing 777: 777-200LR","B777","B777"]
[303,"Large Commercial Aircraft","Twin Aisle","Boeing 777","Boeing 777: 777-300","B777","B777"]
[597,"Large Commercial Aircraft","Twin Aisle","Boeing 777","Boeing 777: 777-300","B777","B777"]
[202,"Large Commercial Aircraft","Twin Aisle","Boeing 777","Boeing 777: 777-300ER","B777","B777"]
[203,"Large Commercial Aircraft","Twin Aisle","Boeing 777X","Boeing 777X: 777-8","B777","B777"]
[204,"Large Commercial Aircraft","Twin Aisle","Boeing 777X","Boeing 777X: 777-9","B777","B777"]
[554,"Business Jet","Large Jet","Wide body VIP","Boeing BBJ 787","B787","B787"]
[555,"Business Jet","Large Jet","Wide body VIP","Boeing BBJ 787","B787","B787"]
[200,"Large Commercial Aircraft","Twin Aisle","Boeing 787","Boeing 787 Dreamliner: 787-10","B787","B787"]
[509,"Large Commercial Aircraft","Twin Aisle","Boeing 787","Boeing 787 Dreamliner: 787-10","B787","B787"]
[198,"Large Commercial Aircraft","Twin Aisle","Boeing 787","Boeing 787 Dreamliner: 787-8","B787","B787"]
[507,"Large Commercial Aircraft","Twin Aisle","Boeing 787","Boeing 787 Dreamliner: 787-8","B787","B787"]
[199,"Large Commercial Aircraft","Twin Aisle","Boeing 787","Boeing 787 Dreamliner: 787-9","B787","B787"]
[508,"Large Commercial Aircraft","Twin Aisle","Boeing 787","Boeing 787 Dreamliner: 787-9","B787","B787"]
[18,"Large Commercial Aircraft","Single Aisle","Comac C919","Comac C919","C919","C919"]
[35,"Business Jet","Large Jet","Challenger 600 series","Bombardier Challenger 600 series","Challenger","Challenger"]
[635,"Business Jet","Large Jet","Challenger 600 series","Bombardier Challenger 6XX series","Challenger","Challenger"]
[72,"Business Jet","Large Jet","Challenger 850","Bombardier Challenger 850","Challenger","Challenger"]
[34,"Business Jet","Mid Size Jet","Bombardier Challenger 300/350","Bombardier Challenger 300/350","Challenger","Challenger"]
[649,"Business Jet","Mid Size Jet","Bombardier Challenger 3500","Bombardier Challenger 3500","Challenger","Challenger"]
[48,"Business Jet","Large Jet","Citation Hemisphere","Cessna Citation Hemisphere","Citation","Citation"]
[47,"Business Jet","Large Jet","Citation Longitude","Cessna Citation Longitude","Citation","Citation"]
[42,"Business Jet","Light Jet","Citation CJ3","Cessna Citation CJ3","Citation","Citation"]
[43,"Business Jet","Light Jet","Citation CJ4","Cessna Citation CJ4","Citation","Citation"]
[39,"Business Jet","Light Jet","Citation V","Cessna Citation Encore","Citation","Citation"]
[46,"Business Jet","Mid Size Jet","Citation Latitude","Cessna Citation Latitude","Citation","Citation"]
[45,"Business Jet","Mid Size Jet","Citation Sovereign","Cessna Citation Sovereign","Citation","Citation"]
[49,"Business Jet","Mid Size Jet","Citation X","Cessna Citation X","Citation","Citation"]
[40,"Business Jet","Mid Size Jet","Citation XLS","Cessna Citation XLS","Citation","Citation"]
[618,"Regional","Regional Jet","Bombardier CRJ","Bombardier CRJ200","CRJ","CRJ"]
[220,"Regional","Regional Jet","Bombardier CRJ","Bombardier CRJ700-1000","CRJ","CRJ"]
[218,"Regional","Regional Jet","Bombardier CRJ","Bombardier CRJ700-700","CRJ","CRJ"]
[219,"Regional","Regional Jet","Bombardier CRJ","Bombardier CRJ700-900","CRJ","CRJ"]
[580,"Regional","Regional Jet","Embraer E170/190","Embraer E170","E170","EMB Regional"]
[22,"Regional","Regional Jet","Embraer E170/190","Embraer E175","E175","EMB Regional"]
[24,"Regional","Regional Jet","Embraer E170/190","Embraer E175-E2","E175","EMB Regional"]
[671,"Freighter","Standard body Freighters","Embraer E170/190","Embraer E190F (P2F)","E190","EMB Regional"]
[23,"Regional","Regional Jet","Embraer E170/190","Embraer E190","E190","EMB Regional"]
[25,"Regional","Regional Jet","Embraer E170/190","Embraer E190-E2","E190","EMB Regional"]
[672,"Freighter","Standard body Freighters","Embraer E170/190","Embraer E195F (P2F)","E195","EMB Regional"]
[558,"Regional","Regional Jet","Embraer E170/190","Embraer E195","E195","EMB Regional"]
[559,"Regional","Regional Jet","Embraer E170/190","Embraer E195-E2","E195","EMB Regional"]
[70,"Business Jet","Very Light Jet","Eclipse 550","Eclipse 550","E550","E550"]
[73,"Business Jet","Large Jet","Lineage 1000","Embraer Lineage 1000","EMB 1000","EMB Bizjet"]
[74,"Business Jet","Large Jet","Legacy 600/650","Embraer Legacy 600/650","EMB 600","EMB Bizjet"]
[652,"Business Jet","Large Jet","Legacy 700","Embraer legacy 700","EMB 700","EMB Bizjet"]
[617,"Regional","Regional Jet","ERJ 135/140/145","Embraer ERJ 135/140/145","ERJ 135","EMB Regional"]
[587,"Business Jet","Large Jet","Falcon 10X","Dassault Falcon 10X","Falcon","Falcon"]
[51,"Business Jet","Large Jet","Falcon 6X","Dassault Falcon 6X","Falcon","Falcon"]
[54,"Business Jet","Large Jet","Falcon 7X/8X","Dassault Falcon 7X/8X","Falcon","Falcon"]
[50,"Business Jet","Large Jet","Falcon 900","Dassault Falcon 900","Falcon","Falcon"]
[53,"Business Jet","Mid Size Jet","Falcon 2000","Dassault Falcon 2000","Falcon","Falcon"]
[640,"Business Jet","Mid Size Jet","Falcon 2X","Dassault Falcon 2X","Falcon","Falcon"]
[38,"Business Jet","Large Jet","Global 7000","Bombardier Global 7500/8000","Global","Global"]
[36,"Business Jet","Large Jet","Global Express - 5000/6000","Bombardier Global 5000","Global","Global"]
[576,"Business Jet","Large Jet","Global Express - 5000/6000","Bombardier Global 5500","Global","Global"]
[37,"Business Jet","Large Jet","Global Express - 5000/6000","Bombardier Global 6000","Global","Global"]
[577,"Business Jet","Large Jet","Global Express - 5000/6000","Bombardier Global 6500","Global",{"$f":"INDEX(P:Q,MATCH(F195,P:P,0),2)","v":"Global"}]
[651,"Business Jet","Large Jet","G400","Gulfstream G400","Gulfstream","Gulfstream"]
[59,"Business Jet","Large Jet","G450","Gulfstream G450","Gulfstream","Gulfstream"]
[61,"Business Jet","Large Jet","G500/G600","Gulfstream G500","Gulfstream","Gulfstream"]
[62,"Business Jet","Large Jet","G500/G600","Gulfstream G600 ","Gulfstream","Gulfstream"]
[60,"Business Jet","Large Jet","G550","Gulfstream G550","Gulfstream","Gulfstream"]
[63,"Business Jet","Large Jet","G650","Gulfstream G650","Gulfstream","Gulfstream"]
[598,"Business Jet","Large Jet","G700","Gulfstream G700","Gulfstream","Gulfstream"]
[670,"Business Jet","Large Jet","G800","Gulfstream G800","Gulfstream","Gulfstream"]
[64,"Business Jet","Mid Size Jet","G100","Gulfstream G100","Gulfstream","Gulfstream"]
[454,"Business Jet","Mid Size Jet","G280","Gulfstream G280","Gulfstream","Gulfstream"]
[642,"Business Jet","Mid Size Jet","G285X","Gulfstream G285X","Gulfstream","Gulfstream"]
[30,"Business Jet","Light Jet","Hawker 400","Hawker 400","Hawker","Hawker"]
[33,"Business Jet","Mid Size Jet","Hawker 4000","Hawker 4000","Hawker","Hawker"]
[32,"Business Jet","Mid Size Jet","Hawker 750/850/900","Hawker 750/850/900","Hawker","Hawker"]
[646,"Helicopter","Transport & Utility","412X","Bell 412X","Helo","Helo"]
[117,"Helicopter","Transport & Utility","Airbus UH-72 Lakota","Airbus UH-72 Lakota","Helo","Helo"]
[90,"Helicopter","Transport & Utility","Bell 407","Bell 407","Helo","Helo"]
[583,"Helicopter","Transport & Utility","Bell 412","Subaru/Bell 412","Helo","Helo"]
[91,"Helicopter","Transport & Utility","Bell 429 GlobalRanger","Bell 429 GlobalRanger","Helo","Helo"]
[89,"Helicopter","Transport & Utility","Bell 505 Jet Ranger X","Bell 505 Jet Ranger X","Helo","Helo"]
[93,"Helicopter","Transport & Utility","Bell 525 Relentless","Bell 525 Relentless","Helo","Helo"]
[100,"Helicopter","Transport & Utility","CH-47","Boeing CH-47 Chinook","Helo","Helo"]
[101,"Helicopter","Transport & Utility","CH-47","Boeing CH-47 Chinook (reman)","Helo","Helo"]
[112,"Helicopter","Transport & Utility","H120 Colibri","Airbus H120 Colibri","Helo","Helo"]
[107,"Helicopter","Transport & Utility","H125","Airbus H125","Helo","Helo"]
[108,"Helicopter","Transport & Utility","H130","Airbus H130","Helo","Helo"]
[483,"Helicopter","Transport & Utility","H135","Airbus H135","Helo","Helo"]
[111,"Helicopter","Transport & Utility","H135","Airbus H135","Helo","Helo"]
[113,"Helicopter","Transport & Utility","H145","Airbus H145/Kawasaki BK117","Helo","Helo"]
[109,"Helicopter","Transport & Utility","H155","Airbus H155","Helo","Helo"]
[110,"Helicopter","Transport & Utility","H160","Airbus H160","Helo","Helo"]
[102,"Helicopter","Transport & Utility","H175","Airbus H175","Helo","Helo"]
[105,"Helicopter","Transport & Utility","H215 / H225","Airbus H215 / H225","Helo","Helo"]
[106,"Helicopter","Transport & Utility","H355","Airbus H355","Helo","Helo"]
[116,"Helicopter","Transport & Utility","HAL Dhruv","HAL Dhruv","Helo","Helo"]
[488,"Helicopter","Transport & Utility","HAL Dhruv","HAL Dhruv","Helo","Helo"]
[490,"Helicopter","Transport & Utility","HAL Dhruv","HAL Dhruv","Helo","Helo"]
[137,"Helicopter","Transport & Utility","HAL Light Utility Helicopter","HAL Light Utility Helicopter","Helo","Helo"]
[136,"Helicopter","Transport & Utility","HAL Medium Lift","HAL Medium Lift","Helo","Helo"]
[114,"Helicopter","Transport & Utility","KAI KUH-1 Surion","KAI KUH-1 Surion","Helo","Helo"]
[115,"Helicopter","Transport & Utility","KAI KUH-1 Surion","KAI LAH/LCH","Helo","Helo"]
[223,"Helicopter","Transport & Utility","Kawasaki BK 117","Kawasaki BK 117","Helo","Helo"]
[118,"Helicopter","Transport & Utility","Kawasaki OH-1","Kawasaki OH-1","Helo","Helo"]
[615,"Helicopter","Transport & Utility","Kopter","Leonardo Kopter","Helo","Helo"]
[103,"Helicopter","Transport & Utility","Leonardo AW101","Leonardo AW101","Helo","Helo"]
[455,"Helicopter","Transport & Utility","Leonardo AW109","Leonardo AW109","Helo","Helo"]
[83,"Helicopter","Transport & Utility","Leonardo AW109","Leonardo AW109","Helo","Helo"]
[84,"Helicopter","Transport & Utility","Leonardo AW119 Koala","Leonardo AW119 Koala","Helo","Helo"]
[86,"Helicopter","Transport & Utility","Leonardo AW139","Leonardo AW139","Helo","Helo"]
[134,"Helicopter","Transport & Utility","Leonardo AW159 Lynx","Leonardo AW159 Lynx","Helo","Helo"]
[88,"Helicopter","Transport & Utility","Leonardo AW169","Leonardo AW169","Helo","Helo"]
[87,"Helicopter","Transport & Utility","Leonardo AW189","Leonardo AW189","Helo","Helo"]
[96,"Helicopter","Transport & Utility","Leonardo AW609","Leonardo AW609","Helo","Helo"]
[120,"Helicopter","Transport & Utility","MD 500/600","MD Helicopters MD 500/600","Helo","Helo"]
[119,"Helicopter","Transport & Utility","MD Explorer","MD Helicopters MD Explorer","Helo","Helo"]
[582,"Helicopter","Transport & Utility","MH139","Boeing/Leonardo MH139","Helo","Helo"]
[122,"Helicopter","Transport & Utility","NH90","NHIndustries NATO Frigate Helicopter","Helo","Helo"]
[638,"Helicopter","Transport & Utility","NH90","NHIndustries Tactical Transport Helicopter","Helo","Helo"]
[123,"Helicopter","Transport & Utility","NH90","NHIndustries Tactical Transport Helicopter","Helo","Helo"]
[182,"Helicopter","Transport & Utility","OH-58","Bell OH-58D Kiowa","Helo","Helo"]
[124,"Helicopter","Transport & Utility","R66","Robinson R66","Helo","Helo"]
[125,"Helicopter","Transport & Utility","S-76","Sikorsky S-76","Helo","Helo"]
[126,"Helicopter","Transport & Utility","S-92","Sikorsky S-92","Helo","Helo"]
[129,"Helicopter","Transport & Utility","SH-60","Sikorsky SH-60 Seahawk - MH-60R","Helo",{"$f":"INDEX(P:Q,MATCH(F259,P:P,0),2)","v":"Helo"}]
[130,"Helicopter","Transport & Utility","SH-60","Sikorsky SH-60 Seahawk - MH-60S","Helo","Helo"]
[128,"Helicopter","Transport & Utility","SH-60","Sikorsky SH-60 Seahawk - SH-60B Seahawk","Helo","Helo"]
[127,"Helicopter","Transport & Utility","Sikorsky CH-53K King Stallion","Sikorsky CH-53K King Stallion","Helo","Helo"]
[138,"Helicopter","Transport & Utility","TAI T625","TAI T625","Helo","Helo"]
[94,"Helicopter","Transport & Utility","UH-1","Bell UH-1 Iroquois/412","Helo","Helo"]
[95,"Helicopter","Transport & Utility","UH-1","Bell UH-1Y Venom","Helo","Helo"]
[131,"Helicopter","Transport & Utility","UH-60","Sikorsky UH-60 Black Hawk","Helo","Helo"]
[645,"Helicopter","Transport & Utility","X6","Airbus X6","Helo","Helo"]
[590,"Business Jet","Very Light Jet","HondaJet","Honda HA-2600 HondaJet","Hondajet","Hondajet"]
[66,"Business Jet","Very Light Jet","HondaJet","Honda HA-420 HondaJet","Hondajet","Hondajet"]
[68,"Business Jet","Mid Size Jet","Learjet 60","Learjet 60","Learjet","Learjet"]
[67,"Business Jet","Mid Size Jet","Learjet 70/75","Learjet 70/75","Learjet","Learjet"]
[41,"Business Jet","Very Light Jet","Citation M2","Cessna Citation M2","M2","Citation"]
[541,"Large Commercial Aircraft","Single Aisle","Irkut MC-21","Irkut MC-21","MC-21","MC-21"]
[19,"Large Commercial Aircraft","Single Aisle","Irkut MC-21","Irkut MC-21","MC-21","MC-21"]
[627,"Freighter","Medium Widebody Freighters","McDonnell Douglas MD-11","McDonnell Douglas MD-11F/CF","MD-11","MD-11"]
[626,"Freighter","Medium Widebody Freighters","McDonnell Douglas MD-11","McDonnell Douglas MD-11F/CF","MD-11","MD-11"]
[578,"Fighters and Jet Trainers","Fighters and Jet Trainers","Aero L-39NG","Aero Vodochody L-39NG","Mil Fighter","Mil Fighter"]
[675,"Fighters and Jet Trainers","Fighters and Jet Trainers","AIDC T-5","AIDC T-5","Mil Fighter","Mil Fighter"]
[171,"Fighters and Jet Trainers","Fighters and Jet Trainers","FMA IA 63 Pampa","FMA IA 63 Pampa","Mil Fighter","Mil Fighter"]
[167,"Fighters and Jet Trainers","Fighters and Jet Trainers","Hawk","BAE Systems Hawk","Mil Fighter","Mil Fighter"]
[174,"Fighters and Jet Trainers","Fighters and Jet Trainers","HJT-36 Sitara","HAL HJT-36 Sitara","Mil Fighter","Mil Fighter"]
[173,"Fighters and Jet Trainers","Fighters and Jet Trainers","Hongdu K-8","Hongdu K-8","Mil Fighter","Mil Fighter"]
[165,"Fighters and Jet Trainers","Fighters and Jet Trainers","M-345","Aermacchi M-345","Mil Fighter","Mil Fighter"]
[166,"Fighters and Jet Trainers","Fighters and Jet Trainers","M-346","Aermacchi M-346","Mil Fighter","Mil Fighter"]
[168,"Fighters and Jet Trainers","Fighters and Jet Trainers","T-45","McDonnell Douglas T-45 Goshawk","Mil Fighter","Mil Fighter"]
[143,"Fighters and Jet Trainers","Fighters and Jet Trainers","Tejas","HAL Tejas","Mil Fighter","Mil Fighter"]
[574,"Military Transport / Special Mission","Transport & Utility","Boeing C-40 Clipper ","Boeing C-40 Clipper","Mil Transport","Mil Transport"]
[620,"Military Transport / Special Mission","Transport & Utility","Boeing KC-135 Stratotanker","Boeing KC-135 Stratotanker","Mil Transport","Mil Transport"]
[619,"Military Transport / Special Mission","Transport & Utility","McDonnell Douglas KC-10","McDonnell Douglas KC-10","Mil Transport","Mil Transport"]
[636,"Military Transport / Special Mission","Military Jet","B-52 Stratofortress","Boeing B-52 Stratofortress","Military Jet","Military Jet"]
[676,"Military Transport / Special Mission","Military Jet","B-52 Stratofortress","Boeing B-52 Stratofortress re-engine","Military Jet","Military Jet"]
[157,"Military Transport / Special Mission","Military Jet","Boeing KC-46 Pegasus","Boeing KC-46 Pegasus","Military Jet","Military Jet"]
[156,"Military Transport / Special Mission","Military Jet","Boeing P-8 Poseidon","Boeing P-8 Poseidon","Military Jet","Military Jet"]
[158,"Military Transport / Special Mission","Military Jet","C-17","Boeing C-17 Globemaster III","Military Jet","Military Jet"]
[163,"Military Transport / Special Mission","Military Jet","C-5","Lockheed C-5 Galaxy","Military Jet","Military Jet"]
[159,"Military Transport / Special Mission","Military Jet","Embraer KC-390","Embraer KC-390","Military Jet","Military Jet"]
[160,"Military Transport / Special Mission","Military Jet","Kawasaki C-2","Kawasaki C-2","Military Jet","Military Jet"]
[161,"Military Transport / Special Mission","Military Jet","Kawasaki P-1","Kawasaki P-1","Military Jet","Military Jet"]
[150,"Military Transport / Special Mission","Military Turboprop","A400M Atlas","Airbus A400M Atlas","Military TP","Military TP"]
[155,"Military Transport / Special Mission","Military Turboprop","Alenia C-27J","Alenia C-27J","Military TP","Military TP"]
[162,"Military Transport / Special Mission","Military Turboprop","C-130J","Lockheed Martin C-130J Super Hercules","Military TP","Military TP"]
[152,"Military Transport / Special Mission","Military Turboprop","CASA C-212 Aviocar","CASA C-212 Aviocar","Military TP","Military TP"]
[153,"Military Transport / Special Mission","Military Turboprop","CASA/IPTN CN-235","CASA/IPTN CN-235","Military TP","Military TP"]
[164,"Military Transport / Special Mission","Military Turboprop","E-2","Northrop Grumman E-2 Hawkeye","Military TP","Military TP"]
[154,"Military Transport / Special Mission","Military Turboprop","EADS CASA C-295","EADS CASA C-295","Military TP","Military TP"]
[181,"Military Transport / Special Mission","Military Turboprop","ShinMaywa US-2","ShinMaywa US-2","Military TP","Military TP"]
[44,"Business Jet","Very Light Jet","Citation Mustang","Cessna Citation Mustang","Mustang","Citation"]
[180,"Business Jet","Very Light Jet","Nextant 400XT","Nextant Aerospace - Nextant 400XT Aircraft","Nextant 400XT","Nextant 400XT"]
[612,"Large Commercial Aircraft","Single Aisle","Boeing New Single Aisle (NSA)","Boeing New Single Aisle (NSA)","NSA","NSA"]
[71,"Business Jet","Mid Size Jet","PC-24","Pilatus PC-24","PC-24","PC-24"]
[56,"Business Jet","Light Jet","Phenom 300","Embraer Phenom 300","Phenom","Phenom"]
[641,"Business Jet","Light Jet","Phenom 300X","Embraer Phenom 300X","Phenom","Phenom"]
[55,"Business Jet","Very Light Jet","Phenom 100","Embraer Phenom 100","Phenom","Phenom"]
[57,"Business Jet","Mid Size Jet","Legacy 450/Praetor 500","Legacy 450/Praetor 500","Praetor","Praetor"]
[58,"Business Jet","Mid Size Jet","Legacy 500/Praetor 600","Legacy 500/Praetor 600","Praetor","Praetor"]
[191,"Regional","Regional Turboprop","ATR 42/72","ATR 42","Reg TP","Reg TP"]
[26,"Regional","Regional Turboprop","ATR 42/72","ATR 72","Reg TP","Reg TP"]
[647,"Regional","Regional Turboprop","ATR 42/72X","ATR 42/72X","Reg TP","Reg TP"]
[616,"Regional","Regional Turboprop","AVIC MA700","AVIC MA700","Reg TP","Reg TP"]
[621,"Regional","Regional Turboprop","De Havilland Canada DHC-8","De Havilland Canada DHC-8-100","Reg TP","Reg TP"]
[622,"Regional","Regional Turboprop","De Havilland Canada DHC-8","De Havilland Canada DHC-8-200","Reg TP","Reg TP"]
[623,"Regional","Regional Turboprop","De Havilland Canada DHC-8","De Havilland Canada DHC-8-300","Reg TP","Reg TP"]
[21,"Regional","Regional Turboprop","De Havilland Canada DHC-8","De Havilland Canada DHC-8-400","Reg TP",{"$f":"INDEX(P:Q,MATCH(F323,P:P,0),2)","v":"Reg TP"}]
[624,"Regional","Regional Turboprop","Dornier Do 328-100","Dornier Do 328-100","Reg TP","Reg TP"]
[613,"Regional","Regional Turboprop","Embraer ","New Embraer turboprop","Reg TP","Reg TP"]
[625,"Regional","Regional Turboprop","Xian MA60","Xian MA60","Reg TP","Reg TP"]
[550,"Business Jet","Very Light Jet","Cirrus Vision Jet SF50","Cirrus Vision Jet SF50","SF50","SF50"]
[149,"Fighters and Jet Trainers","Stealth","B-21","Northrop Grumman B-21 Raider","Stealth","Stealth"]
[145,"Fighters and Jet Trainers","Stealth","F-22","Lockheed Martin F-22 Raptor","Stealth","Stealth"]
[146,"Fighters and Jet Trainers","Stealth","F-35","Lockheed Martin F-35 Lightning II","Stealth","Stealth"]
[29,"Regional","Regional Jet","Sukhoi Superjet","Sukhoi Superjet 100","Superjet 100","Superjet 100"]
[175,"Turboprop Trainers / Light Attack","Fighters and Jet Trainers","KAI KT-1 Woongbi","KAI KT-1 Woongbi","TP Trainer","TP Trainer"]
[306,"Turboprop Trainers / Light Attack","Fighters and Jet Trainers","TAI Hürkus","TAI Hürkus","TP Trainer","TP Trainer"]
[169,"Turboprop Trainers / Light Attack","Turboprop Trainers / Light Attack","Beechcraft T-6 Texan II","Beechcraft T-6 Texan II","TP Trainer","TP Trainer"]
[172,"Turboprop Trainers / Light Attack","Turboprop Trainers / Light Attack","Grob G 120TP","Grob G 120TP","TP Trainer","TP Trainer"]
[677,"Turboprop Trainers / Light Attack","Turboprop Trainers / Light Attack","HHT-40","HAL HHT-40","TP Trainer","TP Trainer"]
[227,"Turboprop Trainers / Light Attack","Turboprop Trainers / Light Attack","Other Turboprop trainers/light attack","Other Turboprop trainers/light attack","TP Trainer","TP Trainer"]
[177,"Turboprop Trainers / Light Attack","Turboprop Trainers / Light Attack","PC-7","Pilatus PC-7 Mk II","TP Trainer","TP Trainer"]
[178,"Turboprop Trainers / Light Attack","Turboprop Trainers / Light Attack","PC-9","Pilatus PC-9/PC-21","TP Trainer","TP Trainer"]
[170,"Turboprop Trainers / Light Attack","Turboprop Trainers / Light Attack","Tucano","Embraer EMB 312/314 Tucano","TP Trainer","TP Trainer"]
[544,"Turbine GA","Turbine GA","Air Tractor","Air Tractor","Turbine GA","Turbine GA"]
[545,"Turbine GA","Turbine GA","Airvan 10","GippsAero GA10 Airvan","Turbine GA","Turbine GA"]
[548,"Turbine GA","Turbine GA","Ayres Thrush 510","Ayres Thrush 510","Turbine GA","Turbine GA"]
[549,"Turbine GA","Turbine GA","Ayres Thrush SR2","Ayres Thrush SR2","Turbine GA","Turbine GA"]
[80,"Turbine GA","Turbine GA","Beechcraft King Air","Beechcraft King Air","Turbine GA","Turbine GA"]
[226,"Turbine GA","Turbine GA","Canadair CL-415","Canadair CL-415","Turbine GA","Turbine GA"]
[82,"Turbine GA","Turbine GA","Cessna 208 Caravan","Cessna 208 Caravan","Turbine GA","Turbine GA"]
[308,"Turbine GA","Turbine GA","Cessna 408 SkyCourier","Cessna 408 SkyCourier","Turbine GA","Turbine GA"]
[81,"Turbine GA","Turbine GA","Cessna Denali","Cessna Denali","Turbine GA","Turbine GA"]
[224,"Turbine GA","Turbine GA","Dornier Do 228","Dornier Do 228","Turbine GA","Turbine GA"]
[680,"Turbine GA","Turbine GA","Epic E1000","Epic E1000GX","Turbine GA","Turbine GA"]
[225,"Turbine GA","Turbine GA","Let L-410 Turbolet","Let L-410 Turbolet","Turbine GA","Turbine GA"]
[679,"Turbine GA","Turbine GA","N-219","Indonesian Aerospace N-219 Nurtanio","Turbine GA","Turbine GA"]
[31,"Turbine GA","Turbine GA","Other light aircraft","Beechcraft Premier I","Turbine GA","Turbine GA"]
[546,"Turbine GA","Turbine GA","PAC P-750 XSTOL","PAC P-750 XSTOL","Turbine GA","Turbine GA"]
[75,"Turbine GA","Turbine GA","Piaggio P.180 Avanti","Piaggio P.180 Avanti","Turbine GA","Turbine GA"]
[77,"Turbine GA","Turbine GA","Pilatus PC-12","Pilatus PC-12","Turbine GA","Turbine GA"]
[76,"Turbine GA","Turbine GA","Piper PA-46","Piper PA-46","Turbine GA","Turbine GA"]
[186,"Turbine GA","Turbine GA","PT6A powered light aircraft","many and various using the Pratt & Whitney Canada PT6A","Turbine GA","Turbine GA"]
[547,"Turbine GA","Turbine GA","Quest Kodiak","Quest Kodiak","Turbine GA","Turbine GA"]
[79,"Turbine GA","Turbine GA","Reims-Cessna F406 Caravan II","Reims-Cessna F406 Caravan II","Turbine GA","Turbine GA"]
[78,"Turbine GA","Turbine GA","SOCATA TBM","SOCATA TBM","Turbine GA","Turbine GA"]
[614,"Turbine GA","Turbine GA","Viking Twin Otter","Viking Twin Otter","Turbine GA","Turbine GA"]
[905,"UAV","CUAV","Other CUAV","Other CUAV","UAV","UAV"]
[901,"UAV","MALE/HALE","Bayraktar TB-2","Bayraktar TB-2","UAV","UAV"]
[673,"UAV","MALE/HALE","Eurodrone","Eurodrone","UAV","UAV"]
[449,"UAV","MALE/HALE","MQ-4C Triton","MQ-4C Triton","UAV","UAV"]
[450,"UAV","MALE/HALE","MQ-9 Reaper","MQ-9 Reaper","UAV","UAV"]
[902,"UAV","MALE/HALE","Other MALE/HALE","Other MALE/HALE","UAV","UAV"]
[452,"UAV","MALE/HALE","RQ-4A Global Hawk","RQ-4A Global Hawk","UAV","UAV"]
[907,"UAV","TUAV","Other TUAV","Other TUAV","UAV","UAV"]
[906,"UAV","TUAV","RQ-7 Shadow","RQ-7 Shadow","UAV","UAV"]
[903,"UAV","VTUAV","MQ-8","MQ-8","UAV","UAV"]
[904,"UAV","VTUAV","Other VTUAV","Other VTUAV","UAV","UAV"]

{"sheet":"Pt1-AvionicsComponentCosts","index":4,"n_rows":389,"n_cols":370,"rows_kept":139,"cut":true,"hidden":false,"merged":[],"bounds":{"rows_first":62,"rows_last":15,"rows_between":62,"halvings":5}}
[null,null,null,null,null,"Snapshot",2187391,268,13545395,254,1814346,63,2926196,127,643813,82,1324367,186,1188804,48,188346,108,270294,22,789633,114,549418,162,595357,64,743622,38,1115433,19,3126310,191,538142,22,966318,114,1971545,268,1971545,316,1822343,18,705040,134,1614430,70,1394296,19,753390,22,1883490,35,216237,22,1538698,44,962043,171,1398481,275,918132,230,2782200,324,1213273,19,538142,44,3724186,81,856135,35,129738,22,216237,11,2186311,19,1289324,64,1091759,64,1294519,18,931645,63,3167167,268,4336675,287,1317523,19,228868,11,897520,26,4251759,320,784724,86,3488876,191,768082,36,1208200,35,1006845,35,428636,18,3424692,134,325079,18,2030950,70,1405607,86,1474909,63,1004017,112,1228701,134,1113332,22,78962,52,1216568,96,768169,64,1578928,78,7904448,441,506060,10,759100,10,448124,128,1920520,128,1695325,198,361231,57,1897734,70,1451972,196,12554158,208,657878,26,4933128,169,384617,38,2417448,372,8388145,834,4463964,185,2216536,36,3016116,18,361231,114,7312570,53,708505,35,5446511,372,1348789,81,1130845,57,2802343,224,1320410,64,1650447,128,792204,190,1487358,38,3196476,224,15081503,434,7477497,520,1857914,70,869926,362,6195205,362,7491740,362,1548775,362,6717780,156,6256994,94,4823528,47,16091395,29,3688472,171,7759288,18,3176619,78,916961,488,0,0,1562505,35,3850407,23,4575315,34,4492153,23,2929675,35,3850407,46,11704756,155,2734340,35,4241046,32,1484356,38,0,0,5127521,412,682638,44,4109752,1389,1981424,18,195928,22,1019097,172,3563749,207,146943,22,487600,20,1585473,171,842213,57,292556,44,737594,104,877668,44,6704455,242,265970,10,0,0,2749406,271,1178729,57,421116,38,643624,96,3642259,18,2127461,1835,3024979,661,494980,30,486189,11,846978,108,607732,144,2694895,35,972367,11,549980,20,1539965,35,2887395,35,1044962,57,200200,208,1924930,35,1539965,70,11444222,175,427678,288,7952214,114,7672275,198,47050772,373,2598136,19,384434,64,4529283,268,783489,11,3425680,18,7444983,53,7752228,233,2349986,67,958210,22,447713,44,5249655,92,3227728,57,0,99,0,148,0,49,0,106,490285737]
["UPDATE Avionics Component Costs Table",null,null,null,null,"Calc totals",{"$f":"SUM(G12:G1644)","v":2187391},268,13545395,254,1814346,63,2926196,127,643813,82,1324367,186,1188804,48,188346,108,270294,22,789633,114,549418,162,595357,64,743622,38,1115433,19,3126310,191,538142,22,966318,114,1971545,268,1971545,316,1822343,18,705040,134,1614430,70,1394296,19,753390,22,1883490,35,216237,22,1538698,44,962043,171,1398481,275,918132,230,2782200,324,1213273,19,{"$f":"SUM(BS12:BS1644)","v":538142},44,3724186,81,856135,35,129738,22,216237,11,2186311,19,1289324,64,1091759,64,1294519,18,931645,63,3167167,268,4336675,287,1317523,19,228868,11,897520,26,4251759,320,784724,86,3488876,191,768082,36,1208200,35,1006845,35,428636,18,3424692,134,325079,18,2030950,70,1405607,86,1474909,63,1004017,112,1228701,134,1113332,22,78962,52,1216568,96,{"$f":"SUM(EE12:EE1644)","v":768169},64,1578928,78,7904448,441,506060,10,759100,10,448124,128,1920520,128,1695325,198,361231,57,1897734,70,1451972,196,12554158,208,657878,26,4933128,169,384617,38,2417448,372,8388145,834,4463964,185,2216536,36,3016116,18,361231,114,7312570,53,708505,35,5446511,372,1348789,81,1130845,57,2802343,224,1320410,64,1650447,128,792204,190,1487358,38,3196476,224,{"$f":"SUM(GQ12:GQ1644)","v":15081503},434,7477497,520,1857914,70,869926,362,6195205,362,7491740,362,1548775,362,6717780,156,6256994,94,4823528,47,16091395,29,3688472,171,7759288,18,3176619,78,916961,488,0,0,1562505,35,3850407,23,4575315,34,4492153,23,2929675,35,3850407,46,11704756,155,2734340,35,4241046,32,1484356,38,0,0,5127521,412,682638,44,4109752,1389,1981424,18,195928,22,{"$f":"SUM(JC12:JC1644)","v":1019097},172,3563749,207,146943,22,487600,20,1585473,171,842213,57,292556,44,737594,104,877668,44,6704455,242,265970,10,0,0,2749406,271,1178729,57,421116,38,643624,96,3642259,18,2127461,1835,3024979,661,494980,30,486189,11,846978,108,607732,144,2694895,35,972367,11,549980,20,1539965,35,2887395,35,1044962,57,200200,208,1924930,35,1539965,70,{"$f":"SUM(LO12:LO1644)","v":11444222},175,427678,288,7952214,114,7672275,198,47050772,373,2598136,19,384434,64,4529283,268,783489,11,3425680,18,7444983,53,7752228,233,2349986,67,958210,22,447713,44,5249655,92,3227728,57,0,99,0,148,0,49,0,106,{"$f":"SUM(G2:ND2)","v":490285737}]
["select aircraft_id, aircraft_level_1, aircraft_level_2, aircraft_level_3, aircraft_level_4, engine_level_4",null,null,null,null,"Delta",{"$f":"G2-G1","v":0},{"$f":"H2-H1","v":0},0,0,0,0,0,0,0,0,0,0,0,0,0,0,0,0,0,0,0,0,0,0,0,0,0,0,0,0,0,0,0,0,0,0,0,0,0,0,0,0,0,0,0,0,0,0,0,0,0,0,0,0,0,0,0,0,0,0,0,0,0,0,0,{"$f":"BT2-BT1","v":0},0,0,0,0,0,0,0,0,0,0,0,0,0,0,0,0,0,0,0,0,0,0,0,0,0,0,0,0,0,0,0,0,0,0,0,0,0,0,0,0,0,0,0,0,0,0,0,0,0,0,0,0,0,0,0,0,0,0,0,0,0,0,0,{"$f":"EF2-EF1","v":0},0,0,0,0,0,0,0,0,0,0,0,0,0,0,0,0,0,0,0,0,0,0,0,0,0,0,0,0,0,0,0,0,0,0,0,0,0,0,0,0,0,0,0,0,0,0,0,0,0,0,0,0,0,0,0,0,0,0,0,0,0,0,0,{"$f":"GR2-GR1","v":0},0,0,0,0,0,0,0,0,0,0,0,0,0,0,0,0,0,0,0,0,0,0,0,0,0,0,0,0,0,0,0,0,0,0,0,0,0,0,0,0,0,0,0,0,0,0,0,0,0,0,0,0,0,0,0,0,0,0,0,0,0,0,0,{"$f":"JD2-JD1","v":0},0,0,0,0,0,0,0,0,0,0,0,0,0,0,0,0,0,0,0,0,0,0,0,0,0,0,0,0,0,0,0,0,0,0,0,0,0,0,0,0,0,0,0,0,0,0,0,0,0,0,0,0,0,0,0,0,0,0,0,0,0,0,0,{"$f":"LP2-LP1","v":0},0,0,0,0,0,0,0,0,0,0,0,0,0,0,0,0,0,0,0,0,0,0,0,0,0,0,0,0,0,0,0,0,0,0,0,0,0,0,0,0,0]
["from aircraft as a LEFT JOIN engine as e ON a.engine_id = e.engine_id where a.deleted!=1 and aircraft_level_1 not in ('Space', 'IGT', 'Missile')"]
["order by aircraft_level_1, aircraft_level_2, aircraft_level_3, aircraft_level_4, engine_level_4",null,null,null,null,"Component IDs in next row"]
[null,null,null,null,null,"component_id",713,null,825,null,863,null,804,null,763,null,724,null,770,null,799,null,875,null,828,null,742,null,740,null,842,null,843,null,752,null,782,null,832,null,739,null,738,null,787,null,753,null,768,null,840,null,781,null,849,null,870,null,876,null,830,null,806,null,743,null,741,null,818,null,780,null,769,null,854,null,877,null,872,null,841,null,758,null,757,null,797,null,864,null,714,null,771,null,821,null,871,null,809,null,759,null,755,null,754,null,800,null,860,null,853,null,794,null,756,null,801,null,772,null,719,null,862,null,737,null,734,null,779,null,808,null,767,null,736,null,802,null,733,null,812,null,820,null,731,null,729,null,728,null,827,null,766,null,847,null,730,null,810,null,735,null,836,null,811,null,765,null,727,null,789,null,790,null,824,null,793,null,850,null,726,null,791,null,823,null,732,null,711,null,712,null,715,null,835,null,716,null,709,null,710,null,760,null,1056,null,1057,null,1058,null,1059,null,882,null,773,null,775,null,833,null,822,null,785,null,805,null,784,null,774,null,861,null,846,null,866,null,845,null,857,null,837,null,795,null,852,null,881,null,819,null,718,null,717,null,777,null,721,null,786,null,874,null,725,null,848,null,873,null,813,null,826,null,834,null,778,null,803,null,776,null,723,null,817,null,720,null,764,null,831,null,838,null,762,null,796,null,722,null,880,null,815,null,868,null,798,null,792,null,856,null,869,null,816,null,858,null,851,null,844,null,807,null,859,null,855,null,878,null,761,null,883,null,746,null,879,null,839,null,745,null,744,null,867,null,788,null,885,null,748,null,814,null,783,null,865,null,829,null,884,null,750,null,749,null,751,null,747]
[null,null,null,null,null,"component_level_2","Auto-pilot",null,"Auto-pilot",null,"Auto-pilot",null,"Auto-pilot",null,"Communications",null,"Communications",null,"Communications",null,"Communications",null,"Communications",null,"Communications",null,"Communications",null,"Communications",null,"Communications",null,"Communications",null,"Communications",null,"Communications",null,"Communications",null,"Communications",null,"Communications",null,"Communications",null,"Communications",null,"Communications",null,"Communications",null,"Communications",null,"Communications",null,"Communications",null,"Communications",null,"Communications",null,"Communications",null,"Communications",null,"Communications",null,"Communications",null,"Communications",null,"Communications",null,"Communications",null,"Communications",null,"Communications",null,"Data",null,"Data",null,"Data",null,"Data",null,"Data",null,"Data",null,"Data",null,"Data",null,"Data",null,"Data",null,"Data",null,"Data",null,"Data",null,"Data",null,"Data",null,"Data",null,"Data",null,"Data",null,"Data",null,"Data",null,"Display",null,"Display",null,"Display",null,"Display",null,"Display",null,"Display",null,"Display",null,"Display",null,"Display",null,"Display",null,"Display",null,"Display",null,"Display",null,"Display",null,"Display",null,"Display",null,"Display",null,"Display",null,"Display",null,"Display",null,"Display",null,"Display",null,"Display",null,"Display",null,"Display",null,"Display",null,"Display",null,"Display",null,"Display",null,"Display",null,"Display",null,"Display",null,"Display",null,"Display",null,"FMS",null,"FMS",null,"FMS",null,"FMS",null,"FMS",null,"FMS",null,"FMS",null,"FMS",null,"Harnesses",null,"Harnesses",null,"Harnesses",null,"Harnesses",null,"IMA",null,"IMA",null,"IMA",null,"IMA",null,"IMA",null,"IMA",null,"IMA",null,"IMA",null,"IMA",null,"Mission",null,"Mission",null,"Mission",null,"Mission",null,"Mission",null,"Mission",null,"Mission",null,"Mission",null,"Mission",null,"Mission",null,"Navigation",null,"Navigation",null,"Navigation",null,"Navigation",null,"Navigation",null,"Navigation",null,"Navigation",null,"Navigation",null,"Navigation",null,"Navigation",null,"Navigation",null,"Navigation",null,"Navigation",null,"Navigation",null,"Navigation",null,"Navigation",null,"Navigation",null,"Navigation",null,"Navigation",null,"Navigation",null,"Navigation",null,"Navigation",null,"Sensors",null,"Sensors",null,"Sensors",null,"Sensors",null,"Sensors",null,"Sensors",null,"Sensors",null,"Sensors",null,"Sensors",null,"Sensors",null,"Sensors",null,"Sensors",null,"Sensors",null,"Sensors",null,"Sensors",null,"Sensors",null,"Sensors",null,"Sensors",null,"Sensors",null,"Sensors",null,"Software",null,"Surveillance",null,"Surveillance",null,"Surveillance",null,"Surveillance",null,"Surveillance",null,"Surveillance",null,"Surveillance",null,"Surveillance",null,"Surveillance",null,"Surveillance",null,"Surveillance",null,"Surveillance",null,"Surveillance",null,"Surveillance",null,"Surveillance",null,"Surveillance"]
[null,null,null,null,null,"component_level_3","A/T Engine Control Unit",null,"Auto pilot system",null,"Dual axis dual system Auto-pilot",null,"Flight Guidance System (A/Pilot)",null,"ADF radios",null,"ADF system",null,"Air Traffic Services Unit ",null,"Antenna suite",null,"ARC 210 radios",null,"ATC Transponder",null,"Audio Control Panel",null,"Audio Management Unit",null,"Avionics Comms Router (ACR)",null,"Central Crypto System",null,"Cockpit Voice Recorder",null,"Comms Management Function (CMF)",null,"Comms Management System",null,"Comms Receivers UF (transceiver/antenna)",null,"Comms Receivers VH (transceiver/antenna)",null,"Communication, Navigation, Identification Unit AN/ASQ-242",null,"CVR control panel",null,"HF Radio",null,"HF-9500 High Frequency Communications System",null,"HST 2100 ",null,"Joint tactical radio system (JTRS),",null,"Radio Altimeters",null,"Radio antenna receivers/transmitters",null,"Radio antenna, amplifier, sat data",null,"Radio Antennas",null,"Radio Management Panel",null,"Radio management system",null,"Radio receivers",null,"Radio Tuning control Panels",null,"SATCOM",null,"Target data acquisition",null,"UHF LOS antennas",null,"UHF SATCOM antenna",null,"AFDX databus",null,"Air Traffic Services Unit (ATSU)",null,"Aircraft Intergated Data System (AIDS)",null,"Aircraft memory system",null,"Combined cockpit voice and data recorder",null,"Data Base loader",null,"Data Management Unit",null,"Digital Data link/transfer",null,"Digital recorder",null,"Digital Voice & Data Recorder",null,"Electronic Flight Bags (EFBs)",null,"FD Interface Unit",null,"Flight Data Recorder",null,"High speed and fibre optics data/signalling network databuses",null,"Integrated data modem",null,"Interface maintenance data recorders",null,"Multi function Advanced Data link AAA Array",null,"Quick Access Recorder (QAR)",null,"Radar altimeter",null,"Wireless LAN data loader",null,"ADIRS CDU",null,"Central Mission display",null,"Clock",null,"Compass",null,"Crew Info System/Maint System",null,"Cursor Control Device",null,"Datalink cockpit Display Unit",null,"DDRMI display",null,"Display Controllers",null,"Display Management Computer (DMC/EFIS)",null,"Display processor",null,"Dual redundant digital bus",null,"ECAM Control panel",null,"ECAM display",null,"EFIS Control panel",null,"EICAS Controller panel",null,"EICAS Crew alerting System",null,"Engine/fuel/ displays",null,"HUD display system",null,"Integrated Electronic Standby System",null,"Integrated Standby Instrument System",null,"Keyboard cursor Control Units (KCCU)",null,"Main displays",null,"Multi Function Display",null,"Navigation display (EFIS)",null,"Panoramic Display Cockpit Electronic Unit",null,"Panormic Cockpit Display",null,"PFD Control panels",null,"Pilot Helmet Mounted Display System",null,"Pilot Night Vision Sensors (PNVS) systems",null,"Primary Flight Display (EFIS)",null,"Standby display",null,"Standby display unit",null,"System Data Acquisition Concentrator (SDAC)",null,"FCU",null,"Flight Augmentation Computers",null,"Flight Control Unit (FCU) panel",null,"Flight Management System",null,"Flight Warning Computer (FWC)",null,"FMGC",null,"MCDU",null,"Mode control Panel (Auto/Pilot control)",null,"Cables and wires",null,"Connectors & back shells",null,"Harnesses, cable assemblies & racks",null,"Relays, contactors & other standard electrical parts",null,"Aircraft avionics management unit",null,"Common Core processing",null,"Common Data Network",null,"IMA",null,"Integrated Avionics computers (IACs)",null,"Integrated Core Processor (ICP)",null,"Modular Avionic Unit, 1,2 and 3",null,"Remote Data concentrators",null,"Remote Data Concentrators",null,"Data Transfer module",null,"Defensive Aids Computer",null,"Defensive counter measures",null,"Directed InfraRed Counter Measures",null,"Infra-red countermeasure",null,"Military Mission Management System",null,"Mission computers",null,"Modernized Target Acquisition Designation Sight (M-TADS) ",null,"Stores management computer",null,"Stores Management System",null,"ADIRS control panel",null,"ADIRU",null,"AHRS package",null,"Air Data Modules (ADM)",null,"Communication, Navigation, Identification Unit AN/ASQ-242",null,"Differential GPS antenna",null,"DME receivers",null,"Embedded GPS/INS",null,"GPS antenna",null,"IN/GPS system ",null,"Inertial Ref Unit (IRU)",null,"Inertial Reference System",null,"Intergated Nav Receivers (INRs)",null,"IRS Gyroscope System",null,"IRU package",null,"Multi Mode Receiver (MMR)",null,"Navigation receiver",null,"Pedestal ADS select",null,"Radar altimeters",null,"Radio antenna, amplifier, sat data",null,"TACAN",null,"VOR receivers",null,"AESA Radar",null,"Air data probes (pitot/static)",null,"Air data sensors",null,"Air Data smart sensor",null,"Airborne Systems Intelligence Payload sensor",null,"Distributed Aperture System (electro-optical)",null,"Electro Optical Targeting System (FLIR & IRST)",null,"Electronic Interferometer Frequency Radar Supports target acquisition systems",null,"Enhanced Integrated Sensor Suite",null,"FLIR sensors",null,"Laser warning receiver",null,"Millimeter wave fire-control radar, frequency interferometer, fire-and-forget radar",null,"Mulit InfraRed alerting System (MIRAS) Sensors",null,"Pitot Static sensors",null,"Radar jammer",null,"Radar warning receivers",null,"Sensors IFF, other",null,"Static/standby sensors",null,"Surveillance Sensors",null,"Weather WX radar system",null,"Software",null,"Aircraft Environment Surveillance System (AESS)",null,"ATC control box",null,"ATC Mode S Transponders (TCAS)",null,"Electro-optical reconnaissance sesnor",null,"Electronic Warfare suite AN/ASQ-239 (evasion, engagement,  jamming, c/measures)",null,"Enhanced Vision system",null,"Ground Proximity Warning System (GPWS/EGPWS)",null,"Multi mode radar",null,"Multi Scan Hazard Detection System",null,"Multi spectral camera",null,"Radar Antenna (nose nounted)",null,"Sensor suite WX radar etc",null,"TCAS antennas",null,"TCAS computer",null,"TCAS control panel",null,"WX control panel"]
[null,null,null,null,null,"component_level_4","A/T Engine Control Unit",null,"Auto pilot system",null,"Dual axis dual system Auto-pilot",null,"Flight Guidance System (A/Pilot)",null,"ADF radios",null,"ADF system",null,"Air Traffic Services Unit ",null,"Antenna suite",null,"ARC 210 radios",null,"ATC Transponder",null,"Audio Control Panel",null,"Audio Management Unit",null,"Avionics Comms Router (ACR)",null,"Central Crypto System",null,"Cockpit Voice Recorder",null,"Comms Management Function (CMF)",null,"Comms Management System",null,"Comms Receivers UF (transceiver/antenna)",null,"Comms Receivers VH (transceiver/antenna)",null,"Communication, Navigation, Identification Unit AN/ASQ-242",null,"CVR control panel",null,"HF Radio",null,"HF-9500 High Frequency Communications System",null,"HST 2100 ",null,"Joint tactical radio system (JTRS),",null,"Radio Altimeters",null,"Radio antenna receivers/transmitters",null,"Radio antenna, amplifier, sat data",null,"Radio Antennas",null,"Radio Management Panel",null,"Radio management system",null,"Radio receivers",null,"Radio Tuning control Panels",null,"SATCOM",null,"Target data acquisition",null,"UHF LOS antennas",null,"UHF SATCOM antenna",null,"AFDX databus",null,"Air Traffic Services Unit (ATSU)",null,"Aircraft Intergated Data System (AIDS)",null,"Aircraft memory system",null,"Combined cockpit voice and data recorder",null,"Data Base loader",null,"Data Management Unit",null,"Digital Data link/transfer",null,"Digital recorder",null,"Digital Voice & Data Recorder",null,"Electronic Flight Bags (EFBs)",null,"FD Interface Unit",null,"Flight Data Recorder",null,"High speed and fibre optics data/signalling network databuses",null,"Integrated data modem",null,"Interface maintenance data recorders",null,"Multi function Advanced Data link AAA Array",null,"Quick Access Recorder (QAR)",null,"Radar altimeter",null,"Wireless LAN data loader",null,"ADIRS CDU",null,"Central Mission display",null,"Clock",null,"Compass",null,"Crew Info System/Maint System",null,"Cursor Control Device",null,"Datalink cockpit Display Unit",null,"DDRMI display",null,"Display Controllers",null,"Display Management Computer (DMC/EFIS)",null,"Display processor",null,"Dual redundant digital bus",null,"ECAM Control panel",null,"ECAM display",null,"EFIS Control panel",null,"EICAS Controller panel",null,"EICAS Crew alerting System",null,"Engine/fuel/ displays",null,"HUD display system",null,"Integrated Electronic Standby System",null,"Integrated Standby Instrument System",null,"Keyboard cursor Control Units (KCCU)",null,"Main displays",null,"Multi Function Display",null,"Navigation display (EFIS)",null,"Panoramic Display Cockpit Electronic Unit",null,"Panormic Cockpit Display",null,"PFD Control panels",null,"Pilot Helmet Mounted Display System",null,"Pilot Night Vision Sensors (PNVS) systems",null,"Primary Flight Display (EFIS)",null,"Standby display",null,"Standby display unit",null,"System Data Acquisition Concentrator (SDAC)",null,"FCU",null,"Flight Augmentation Computers",null,"Flight Control Unit (FCU) panel",null,"Flight Management System",null,"Flight Warning Computer (FWC)",null,"FMGC",null,"MCDU",null,"Mode control Panel (Auto/Pilot control)",null,"Avionics Harnesses",null,"Avionics Harnesses",null,"Avionics Harnesses",null,"Avionics Harnesses",null,"Aircraft avionics management unit",null,"Common Core processing",null,"Common Data Network",null,"IMA",null,"Integrated Avionics computers (IACs)",null,"Integrated Core Processor (ICP)",null,"Modular Avionic Unit, 1,2 and 3",null,"Remote Data concentrators",null,"Remote Data Concentrators",null,"Data Transfer module",null,"Defensive Aids Computer",null,"Defensive counter measures",null,"Directed InfraRed Counter Measures",null,"Infra-red countermeasure",null,"Military Mission Management System",null,"Mission computers",null,"Modernized Target Acquisition Designation Sight (M-TADS) ",null,"Stores management computer",null,"Stores Management System",null,"ADIRS control panel",null,"ADIRU",null,"AHRS package",null,"Air Data Modules (ADM)",null,"Communication, Navigation, Identification Unit AN/ASQ-242",null,"Differential GPS antenna",null,"DME receivers",null,"Embedded GPS/INS",null,"GPS antenna",null,"IN/GPS system ",null,"Inertial Ref Unit (IRU)",null,"Inertial Reference System",null,"Intergated Nav Receivers (INRs)",null,"IRS Gyroscope System",null,"IRU package",null,"Multi Mode Receiver (MMR)",null,"Navigation receiver",null,"Pedestal ADS select",null,"Radar altimeters",null,"Radio antenna, amplifier, sat data",null,"TACAN",null,"VOR receivers",null,"AESA Radar",null,"Air data probes (pitot/static)",null,"Air data sensors",null,"Air Data smart sensor",null,"Airborne Systems Intelligence Payload sensor",null,"Distributed Aperture System (electro-optical)",null,"Electro Optical Targeting System (FLIR & IRST)",null,"Electronic Interferometer Frequency Radar Supports target acquisition systems",null,"Enhanced Integrated Sensor Suite",null,"FLIR sensors",null,"Laser warning receiver",null,"Millimeter wave fire-control radar, frequency interferometer, fire-and-forget radar",null,"Mulit InfraRed alerting System (MIRAS) Sensors",null,"Pitot Static sensors",null,"Radar jammer",null,"Radar warning receivers",null,"Sensors IFF, other",null,"Static/standby sensors",null,"Surveillance Sensors",null,"Weather WX radar system",null,"Software",null,"Aircraft Environment Surveillance System (AESS)",null,"ATC control box",null,"ATC Mode S Transponders (TCAS)",null,"Electro-optical reconnaissance sesnor",null,"Electronic Warfare suite AN/ASQ-239 (evasion, engagement,  jamming, c/measures)",null,"Enhanced Vision system",null,"Ground Proximity Warning System (GPWS/EGPWS)",null,"Multi mode radar",null,"Multi Scan Hazard Detection System",null,"Multi spectral camera",null,"Radar Antenna (nose nounted)",null,"Sensor suite WX radar etc",null,"TCAS antennas",null,"TCAS computer",null,"TCAS control panel",null,"WX control panel"]
[null,null,null,null,null,"Equations>>>>",{"$f":"_xlfn.IFNA(VLOOKUP(_xlfn.CONCAT($A10,\"#\",G$6),'[2]Pt1-DATA'!$C:$E,2,FALSE),\"-\")","v":"-"},{"$f":"_xlfn.IFNA(VLOOKUP(_xlfn.CONCAT($A10,\"#\",G$6),'[2]Pt1-DATA'!$C:$E,3,FALSE),\"-\")","v":"-"},{"$f":"_xlfn.IFNA(VLOOKUP(_xlfn.CONCAT($A10,\"#\",I$6),'[2]Pt1-DATA'!$C:$E,2,FALSE),\"-\")","v":"-"},{"$f":"_xlfn.IFNA(VLOOKUP(_xlfn.CONCAT($A10,\"#\",I$6),'[2]Pt1-DATA'!$C:$E,3,FALSE),\"-\")","v":"-"},{"$f":"_xlfn.IFNA(VLOOKUP(_xlfn.CONCAT($A10,\"#\",K$6),'[2]Pt1-DATA'!$C:$E,2,FALSE),\"-\")","v":"-"},{"$f":"_xlfn.IFNA(VLOOKUP(_xlfn.CONCAT($A10,\"#\",K$6),'[2]Pt1-DATA'!$C:$E,3,FALSE),\"-\")","v":"-"},{"$f":"_xlfn.IFNA(VLOOKUP(_xlfn.CONCAT($A10,\"#\",M$6),'[2]Pt1-DATA'!$C:$E,2,FALSE),\"-\")","v":"-"},{"$f":"_xlfn.IFNA(VLOOKUP(_xlfn.CONCAT($A10,\"#\",M$6),'[2]Pt1-DATA'!$C:$E,3,FALSE),\"-\")","v":"-"},{"$f":"_xlfn.IFNA(VLOOKUP(_xlfn.CONCAT($A10,\"#\",O$6),'[2]Pt1-DATA'!$C:$E,2,FALSE),\"-\")","v":"-"},{"$f":"_xlfn.IFNA(VLOOKUP(_xlfn.CONCAT($A10,\"#\",O$6),'[2]Pt1-DATA'!$C:$E,3,FALSE),\"-\")","v":"-"},{"$f":"_xlfn.IFNA(VLOOKUP(_xlfn.CONCAT($A10,\"#\",Q$6),'[2]Pt1-DATA'!$C:$E,2,FALSE),\"-\")","v":"-"},{"$f":"_xlfn.IFNA(VLOOKUP(_xlfn.CONCAT($A10,\"#\",Q$6),'[2]Pt1-DATA'!$C:$E,3,FALSE),\"-\")","v":"-"},{"$f":"_xlfn.IFNA(VLOOKUP(_xlfn.CONCAT($A10,\"#\",S$6),'[2]Pt1-DATA'!$C:$E,2,FALSE),\"-\")","v":"-"},{"$f":"_xlfn.IFNA(VLOOKUP(_xlfn.CONCAT($A10,\"#\",S$6),'[2]Pt1-DATA'!$C:$E,3,FALSE),\"-\")","v":"-"},{"$f":"_xlfn.IFNA(VLOOKUP(_xlfn.CONCAT($A10,\"#\",U$6),'[2]Pt1-DATA'!$C:$E,2,FALSE),\"-\")","v":"-"},{"$f":"_xlfn.IFNA(VLOOKUP(_xlfn.CONCAT($A10,\"#\",U$6),'[2]Pt1-DATA'!$C:$E,3,FALSE),\"-\")","v":"-"},{"$f":"_xlfn.IFNA(VLOOKUP(_xlfn.CONCAT($A10,\"#\",W$6),'[2]Pt1-DATA'!$C:$E,2,FALSE),\"-\")","v":"-"},{"$f":"_xlfn.IFNA(VLOOKUP(_xlfn.CONCAT($A10,\"#\",W$6),'[2]Pt1-DATA'!$C:$E,3,FALSE),\"-\")","v":"-"},{"$f":"_xlfn.IFNA(VLOOKUP(_xlfn.CONCAT($A10,\"#\",Y$6),'[2]Pt1-DATA'!$C:$E,2,FALSE),\"-\")","v":"-"},{"$f":"_xlfn.IFNA(VLOOKUP(_xlfn.CONCAT($A10,\"#\",Y$6),'[2]Pt1-DATA'!$C:$E,3,FALSE),\"-\")","v":"-"},{"$f":"_xlfn.IFNA(VLOOKUP(_xlfn.CONCAT($A10,\"#\",AA$6),'[2]Pt1-DATA'!$C:$E,2,FALSE),\"-\")","v":"-"},{"$f":"_xlfn.IFNA(VLOOKUP(_xlfn.CONCAT($A10,\"#\",AA$6),'[2]Pt1-DATA'!$C:$E,3,FALSE),\"-\")","v":"-"},{"$f":"_xlfn.IFNA(VLOOKUP(_xlfn.CONCAT($A10,\"#\",AC$6),'[2]Pt1-DATA'!$C:$E,2,FALSE),\"-\")","v":"-"},{"$f":"_xlfn.IFNA(VLOOKUP(_xlfn.CONCAT($A10,\"#\",AC$6),'[2]Pt1-DATA'!$C:$E,3,FALSE),\"-\")","v":"-"},{"$f":"_xlfn.IFNA(VLOOKUP(_xlfn.CONCAT($A10,\"#\",AE$6),'[2]Pt1-DATA'!$C:$E,2,FALSE),\"-\")","v":"-"},{"$f":"_xlfn.IFNA(VLOOKUP(_xlfn.CONCAT($A10,\"#\",AE$6),'[2]Pt1-DATA'!$C:$E,3,FALSE),\"-\")","v":"-"},{"$f":"_xlfn.IFNA(VLOOKUP(_xlfn.CONCAT($A10,\"#\",AG$6),'[2]Pt1-DATA'!$C:$E,2,FALSE),\"-\")","v":"-"},{"$f":"_xlfn.IFNA(VLOOKUP(_xlfn.CONCAT($A10,\"#\",AG$6),'[2]Pt1-DATA'!$C:$E,3,FALSE),\"-\")","v":"-"},{"$f":"_xlfn.IFNA(VLOOKUP(_xlfn.CONCAT($A10,\"#\",AI$6),'[2]Pt1-DATA'!$C:$E,2,FALSE),\"-\")","v":"-"},{"$f":"_xlfn.IFNA(VLOOKUP(_xlfn.CONCAT($A10,\"#\",AI$6),'[2]Pt1-DATA'!$C:$E,3,FALSE),\"-\")","v":"-"},{"$f":"_xlfn.IFNA(VLOOKUP(_xlfn.CONCAT($A10,\"#\",AK$6),'[2]Pt1-DATA'!$C:$E,2,FALSE),\"-\")","v":"-"},{"$f":"_xlfn.IFNA(VLOOKUP(_xlfn.CONCAT($A10,\"#\",AK$6),'[2]Pt1-DATA'!$C:$E,3,FALSE),\"-\")","v":"-"},{"$f":"_xlfn.IFNA(VLOOKUP(_xlfn.CONCAT($A10,\"#\",AM$6),'[2]Pt1-DATA'!$C:$E,2,FALSE),\"-\")","v":"-"},{"$f":"_xlfn.IFNA(VLOOKUP(_xlfn.CONCAT($A10,\"#\",AM$6),'[2]Pt1-DATA'!$C:$E,3,FALSE),\"-\")","v":"-"},{"$f":"_xlfn.IFNA(VLOOKUP(_xlfn.CONCAT($A10,\"#\",AO$6),'[2]Pt1-DATA'!$C:$E,2,FALSE),\"-\")","v":"-"},{"$f":"_xlfn.IFNA(VLOOKUP(_xlfn.CONCAT($A10,\"#\",AO$6),'[2]Pt1-DATA'!$C:$E,3,FALSE),\"-\")","v":"-"},{"$f":"_xlfn.IFNA(VLOOKUP(_xlfn.CONCAT($A10,\"#\",AQ$6),'[2]Pt1-DATA'!$C:$E,2,FALSE),\"-\")","v":"-"},{"$f":"_xlfn.IFNA(VLOOKUP(_xlfn.CONCAT($A10,\"#\",AQ$6),'[2]Pt1-DATA'!$C:$E,3,FALSE),\"-\")","v":"-"},{"$f":"_xlfn.IFNA(VLOOKUP(_xlfn.CONCAT($A10,\"#\",AS$6),'[2]Pt1-DATA'!$C:$E,2,FALSE),\"-\")","v":"-"},{"$f":"_xlfn.IFNA(VLOOKUP(_xlfn.CONCAT($A10,\"#\",AS$6),'[2]Pt1-DATA'!$C:$E,3,FALSE),\"-\")","v":"-"},{"$f":"_xlfn.IFNA(VLOOKUP(_xlfn.CONCAT($A10,\"#\",AU$6),'[2]Pt1-DATA'!$C:$E,2,FALSE),\"-\")","v":"-"},{"$f":"_xlfn.IFNA(VLOOKUP(_xlfn.CONCAT($A10,\"#\",AU$6),'[2]Pt1-DATA'!$C:$E,3,FALSE),\"-\")","v":"-"},{"$f":"_xlfn.IFNA(VLOOKUP(_xlfn.CONCAT($A10,\"#\",AW$6),'[2]Pt1-DATA'!$C:$E,2,FALSE),\"-\")","v":"-"},{"$f":"_xlfn.IFNA(VLOOKUP(_xlfn.CONCAT($A10,\"#\",AW$6),'[2]Pt1-DATA'!$C:$E,3,FALSE),\"-\")","v":"-"},{"$f":"_xlfn.IFNA(VLOOKUP(_xlfn.CONCAT($A10,\"#\",AY$6),'[2]Pt1-DATA'!$C:$E,2,FALSE),\"-\")","v":"-"},{"$f":"_xlfn.IFNA(VLOOKUP(_xlfn.CONCAT($A10,\"#\",AY$6),'[2]Pt1-DATA'!$C:$E,3,FALSE),\"-\")","v":"-"},{"$f":"_xlfn.IFNA(VLOOKUP(_xlfn.CONCAT($A10,\"#\",BA$6),'[2]Pt1-DATA'!$C:$E,2,FALSE),\"-\")","v":"-"},{"$f":"_xlfn.IFNA(VLOOKUP(_xlfn.CONCAT($A10,\"#\",BA$6),'[2]Pt1-DATA'!$C:$E,3,FALSE),\"-\")","v":"-"},{"$f":"_xlfn.IFNA(VLOOKUP(_xlfn.CONCAT($A10,\"#\",BC$6),'[2]Pt1-DATA'!$C:$E,2,FALSE),\"-\")","v":"-"},{"$f":"_xlfn.IFNA(VLOOKUP(_xlfn.CONCAT($A10,\"#\",BC$6),'[2]Pt1-DATA'!$C:$E,3,FALSE),\"-\")","v":"-"},{"$f":"_xlfn.IFNA(VLOOKUP(_xlfn.CONCAT($A10,\"#\",BE$6),'[2]Pt1-DATA'!$C:$E,2,FALSE),\"-\")","v":"-"},{"$f":"_xlfn.IFNA(VLOOKUP(_xlfn.CONCAT($A10,\"#\",BE$6),'[2]Pt1-DATA'!$C:$E,3,FALSE),\"-\")","v":"-"},{"$f":"_xlfn.IFNA(VLOOKUP(_xlfn.CONCAT($A10,\"#\",BG$6),'[2]Pt1-DATA'!$C:$E,2,FALSE),\"-\")","v":"-"},{"$f":"_xlfn.IFNA(VLOOKUP(_xlfn.CONCAT($A10,\"#\",BG$6),'[2]Pt1-DATA'!$C:$E,3,FALSE),\"-\")","v":"-"},{"$f":"_xlfn.IFNA(VLOOKUP(_xlfn.CONCAT($A10,\"#\",BI$6),'[2]Pt1-DATA'!$C:$E,2,FALSE),\"-\")","v":"-"},{"$f":"_xlfn.IFNA(VLOOKUP(_xlfn.CONCAT($A10,\"#\",BI$6),'[2]Pt1-DATA'!$C:$E,3,FALSE),\"-\")","v":"-"},{"$f":"_xlfn.IFNA(VLOOKUP(_xlfn.CONCAT($A10,\"#\",BK$6),'[2]Pt1-DATA'!$C:$E,2,FALSE),\"-\")","v":"-"},{"$f":"_xlfn.IFNA(VLOOKUP(_xlfn.CONCAT($A10,\"#\",BK$6),'[2]Pt1-DATA'!$C:$E,3,FALSE),\"-\")","v":"-"},{"$f":"_xlfn.IFNA(VLOOKUP(_xlfn.CONCAT($A10,\"#\",BM$6),'[2]Pt1-DATA'!$C:$E,2,FALSE),\"-\")","v":"-"},{"$f":"_xlfn.IFNA(VLOOKUP(_xlfn.CONCAT($A10,\"#\",BM$6),'[2]Pt1-DATA'!$C:$E,3,FALSE),\"-\")","v":"-"},{"$f":"_xlfn.IFNA(VLOOKUP(_xlfn.CONCAT($A10,\"#\",BO$6),'[2]Pt1-DATA'!$C:$E,2,FALSE),\"-\")","v":"-"},{"$f":"_xlfn.IFNA(VLOOKUP(_xlfn.CONCAT($A10,\"#\",BO$6),'[2]Pt1-DATA'!$C:$E,3,FALSE),\"-\")","v":"-"},{"$f":"_xlfn.IFNA(VLOOKUP(_xlfn.CONCAT($A10,\"#\",BQ$6),'[2]Pt1-DATA'!$C:$E,2,FALSE),\"-\")","v":"-"},{"$f":"_xlfn.IFNA(VLOOKUP(_xlfn.CONCAT($A10,\"#\",BQ$6),'[2]Pt1-DATA'!$C:$E,3,FALSE),\"-\")","v":"-"},{"$f":"_xlfn.IFNA(VLOOKUP(_xlfn.CONCAT($A10,\"#\",BS$6),'[2]Pt1-DATA'!$C:$E,2,FALSE),\"-\")","v":"-"},{"$f":"_xlfn.IFNA(VLOOKUP(_xlfn.CONCAT($A10,\"#\",BS$6),'[2]Pt1-DATA'!$C:$E,3,FALSE),\"-\")","v":"-"},{"$f":"_xlfn.IFNA(VLOOKUP(_xlfn.CONCAT($A10,\"#\",BU$6),'[2]Pt1-DATA'!$C:$E,2,FALSE),\"-\")","v":"-"},{"$f":"_xlfn.IFNA(VLOOKUP(_xlfn.CONCAT($A10,\"#\",BU$6),'[2]Pt1-DATA'!$C:$E,3,FALSE),\"-\")","v":"-"},{"$f":"_xlfn.IFNA(VLOOKUP(_xlfn.CONCAT($A10,\"#\",BW$6),'[2]Pt1-DATA'!$C:$E,2,FALSE),\"-\")","v":"-"},{"$f":"_xlfn.IFNA(VLOOKUP(_xlfn.CONCAT($A10,\"#\",BW$6),'[2]Pt1-DATA'!$C:$E,3,FALSE),\"-\")","v":"-"},{"$f":"_xlfn.IFNA(VLOOKUP(_xlfn.CONCAT($A10,\"#\",BY$6),'[2]Pt1-DATA'!$C:$E,2,FALSE),\"-\")","v":"-"},{"$f":"_xlfn.IFNA(VLOOKUP(_xlfn.CONCAT($A10,\"#\",BY$6),'[2]Pt1-DATA'!$C:$E,3,FALSE),\"-\")","v":"-"},{"$f":"_xlfn.IFNA(VLOOKUP(_xlfn.CONCAT($A10,\"#\",CA$6),'[2]Pt1-DATA'!$C:$E,2,FALSE),\"-\")","v":"-"},{"$f":"_xlfn.IFNA(VLOOKUP(_xlfn.CONCAT($A10,\"#\",CA$6),'[2]Pt1-DATA'!$C:$E,3,FALSE),\"-\")","v":"-"},{"$f":"_xlfn.IFNA(VLOOKUP(_xlfn.CONCAT($A10,\"#\",CC$6),'[2]Pt1-DATA'!$C:$E,2,FALSE),\"-\")","v":"-"},{"$f":"_xlfn.IFNA(VLOOKUP(_xlfn.CONCAT($A10,\"#\",CC$6),'[2]Pt1-DATA'!$C:$E,3,FALSE),\"-\")","v":"-"},{"$f":"_xlfn.IFNA(VLOOKUP(_xlfn.CONCAT($A10,\"#\",CE$6),'[2]Pt1-DATA'!$C:$E,2,FALSE),\"-\")","v":"-"},{"$f":"_xlfn.IFNA(VLOOKUP(_xlfn.CONCAT($A10,\"#\",CE$6),'[2]Pt1-DATA'!$C:$E,3,FALSE),\"-\")","v":"-"},{"$f":"_xlfn.IFNA(VLOOKUP(_xlfn.CONCAT($A10,\"#\",CG$6),'[2]Pt1-DATA'!$C:$E,2,FALSE),\"-\")","v":"-"},{"$f":"_xlfn.IFNA(VLOOKUP(_xlfn.CONCAT($A10,\"#\",CG$6),'[2]Pt1-DATA'!$C:$E,3,FALSE),\"-\")","v":"-"},{"$f":"_xlfn.IFNA(VLOOKUP(_xlfn.CONCAT($A10,\"#\",CI$6),'[2]Pt1-DATA'!$C:$E,2,FALSE),\"-\")","v":"-"},{"$f":"_xlfn.IFNA(VLOOKUP(_xlfn.CONCAT($A10,\"#\",CI$6),'[2]Pt1-DATA'!$C:$E,3,FALSE),\"-\")","v":"-"},{"$f":"_xlfn.IFNA(VLOOKUP(_xlfn.CONCAT($A10,\"#\",CK$6),'[2]Pt1-DATA'!$C:$E,2,FALSE),\"-\")","v":"-"},{"$f":"_xlfn.IFNA(VLOOKUP(_xlfn.CONCAT($A10,\"#\",CK$6),'[2]Pt1-DATA'!$C:$E,3,FALSE),\"-\")","v":"-"},{"$f":"_xlfn.IFNA(VLOOKUP(_xlfn.CONCAT($A10,\"#\",CM$6),'[2]Pt1-DATA'!$C:$E,2,FALSE),\"-\")","v":"-"},{"$f":"_xlfn.IFNA(VLOOKUP(_xlfn.CONCAT($A10,\"#\",CM$6),'[2]Pt1-DATA'!$C:$E,3,FALSE),\"-\")","v":"-"},{"$f":"_xlfn.IFNA(VLOOKUP(_xlfn.CONCAT($A10,\"#\",CO$6),'[2]Pt1-DATA'!$C:$E,2,FALSE),\"-\")","v":"-"},{"$f":"_xlfn.IFNA(VLOOKUP(_xlfn.CONCAT($A10,\"#\",CO$6),'[2]Pt1-DATA'!$C:$E,3,FALSE),\"-\")","v":"-"},{"$f":"_xlfn.IFNA(VLOOKUP(_xlfn.CONCAT($A10,\"#\",CQ$6),'[2]Pt1-DATA'!$C:$E,2,FALSE),\"-\")","v":"-"},{"$f":"_xlfn.IFNA(VLOOKUP(_xlfn.CONCAT($A10,\"#\",CQ$6),'[2]Pt1-DATA'!$C:$E,3,FALSE),\"-\")","v":"-"},{"$f":"_xlfn.IFNA(VLOOKUP(_xlfn.CONCAT($A10,\"#\",CS$6),'[2]Pt1-DATA'!$C:$E,2,FALSE),\"-\")","v":"-"},{"$f":"_xlfn.IFNA(VLOOKUP(_xlfn.CONCAT($A10,\"#\",CS$6),'[2]Pt1-DATA'!$C:$E,3,FALSE),\"-\")","v":"-"},{"$f":"_xlfn.IFNA(VLOOKUP(_xlfn.CONCAT($A10,\"#\",CU$6),'[2]Pt1-DATA'!$C:$E,2,FALSE),\"-\")","v":"-"},{"$f":"_xlfn.IFNA(VLOOKUP(_xlfn.CONCAT($A10,\"#\",CU$6),'[2]Pt1-DATA'!$C:$E,3,FALSE),\"-\")","v":"-"},{"$f":"_xlfn.IFNA(VLOOKUP(_xlfn.CONCAT($A10,\"#\",CW$6),'[2]Pt1-DATA'!$C:$E,2,FALSE),\"-\")","v":"-"},{"$f":"_xlfn.IFNA(VLOOKUP(_xlfn.CONCAT($A10,\"#\",CW$6),'[2]Pt1-DATA'!$C:$E,3,FALSE),\"-\")","v":"-"},{"$f":"_xlfn.IFNA(VLOOKUP(_xlfn.CONCAT($A10,\"#\",CY$6),'[2]Pt1-DATA'!$C:$E,2,FALSE),\"-\")","v":"-"},{"$f":"_xlfn.IFNA(VLOOKUP(_xlfn.CONCAT($A10,\"#\",CY$6),'[2]Pt1-DATA'!$C:$E,3,FALSE),\"-\")","v":"-"},{"$f":"_xlfn.IFNA(VLOOKUP(_xlfn.CONCAT($A10,\"#\",DA$6),'[2]Pt1-DATA'!$C:$E,2,FALSE),\"-\")","v":"-"},{"$f":"_xlfn.IFNA(VLOOKUP(_xlfn.CONCAT($A10,\"#\",DA$6),'[2]Pt1-DATA'!$C:$E,3,FALSE),\"-\")","v":"-"},{"$f":"_xlfn.IFNA(VLOOKUP(_xlfn.CONCAT($A10,\"#\",DC$6),'[2]Pt1-DATA'!$C:$E,2,FALSE),\"-\")","v":"-"},{"$f":"_xlfn.IFNA(VLOOKUP(_xlfn.CONCAT($A10,\"#\",DC$6),'[2]Pt1-DATA'!$C:$E,3,FALSE),\"-\")","v":"-"},{"$f":"_xlfn.IFNA(VLOOKUP(_xlfn.CONCAT($A10,\"#\",DE$6),'[2]Pt1-DATA'!$C:$E,2,FALSE),\"-\")","v":"-"},{"$f":"_xlfn.IFNA(VLOOKUP(_xlfn.CONCAT($A10,\"#\",DE$6),'[2]Pt1-DATA'!$C:$E,3,FALSE),\"-\")","v":"-"},{"$f":"_xlfn.IFNA(VLOOKUP(_xlfn.CONCAT($A10,\"#\",DG$6),'[2]Pt1-DATA'!$C:$E,2,FALSE),\"-\")","v":"-"},{"$f":"_xlfn.IFNA(VLOOKUP(_xlfn.CONCAT($A10,\"#\",DG$6),'[2]Pt1-DATA'!$C:$E,3,FALSE),\"-\")","v":"-"},{"$f":"_xlfn.IFNA(VLOOKUP(_xlfn.CONCAT($A10,\"#\",DI$6),'[2]Pt1-DATA'!$C:$E,2,FALSE),\"-\")","v":"-"},{"$f":"_xlfn.IFNA(VLOOKUP(_xlfn.CONCAT($A10,\"#\",DI$6),'[2]Pt1-DATA'!$C:$E,3,FALSE),\"-\")","v":"-"},{"$f":"_xlfn.IFNA(VLOOKUP(_xlfn.CONCAT($A10,\"#\",DK$6),'[2]Pt1-DATA'!$C:$E,2,FALSE),\"-\")","v":"-"},{"$f":"_xlfn.IFNA(VLOOKUP(_xlfn.CONCAT($A10,\"#\",DK$6),'[2]Pt1-DATA'!$C:$E,3,FALSE),\"-\")","v":"-"},{"$f":"_xlfn.IFNA(VLOOKUP(_xlfn.CONCAT($A10,\"#\",DM$6),'[2]Pt1-DATA'!$C:$E,2,FALSE),\"-\")","v":"-"},{"$f":"_xlfn.IFNA(VLOOKUP(_xlfn.CONCAT($A10,\"#\",DM$6),'[2]Pt1-DATA'!$C:$E,3,FALSE),\"-\")","v":"-"},{"$f":"_xlfn.IFNA(VLOOKUP(_xlfn.CONCAT($A10,\"#\",DO$6),'[2]Pt1-DATA'!$C:$E,2,FALSE),\"-\")","v":"-"},{"$f":"_xlfn.IFNA(VLOOKUP(_xlfn.CONCAT($A10,\"#\",DO$6),'[2]Pt1-DATA'!$C:$E,3,FALSE),\"-\")","v":"-"},{"$f":"_xlfn.IFNA(VLOOKUP(_xlfn.CONCAT($A10,\"#\",DQ$6),'[2]Pt1-DATA'!$C:$E,2,FALSE),\"-\")","v":"-"},{"$f":"_xlfn.IFNA(VLOOKUP(_xlfn.CONCAT($A10,\"#\",DQ$6),'[2]Pt1-DATA'!$C:$E,3,FALSE),\"-\")","v":"-"},{"$f":"_xlfn.IFNA(VLOOKUP(_xlfn.CONCAT($A10,\"#\",DS$6),'[2]Pt1-DATA'!$C:$E,2,FALSE),\"-\")","v":"-"},{"$f":"_xlfn.IFNA(VLOOKUP(_xlfn.CONCAT($A10,\"#\",DS$6),'[2]Pt1-DATA'!$C:$E,3,FALSE),\"-\")","v":"-"},{"$f":"_xlfn.IFNA(VLOOKUP(_xlfn.CONCAT($A10,\"#\",DU$6),'[2]Pt1-DATA'!$C:$E,2,FALSE),\"-\")","v":"-"},{"$f":"_xlfn.IFNA(VLOOKUP(_xlfn.CONCAT($A10,\"#\",DU$6),'[2]Pt1-DATA'!$C:$E,3,FALSE),\"-\")","v":"-"},{"$f":"_xlfn.IFNA(VLOOKUP(_xlfn.CONCAT($A10,\"#\",DW$6),'[2]Pt1-DATA'!$C:$E,2,FALSE),\"-\")","v":"-"},{"$f":"_xlfn.IFNA(VLOOKUP(_xlfn.CONCAT($A10,\"#\",DW$6),'[2]Pt1-DATA'!$C:$E,3,FALSE),\"-\")","v":"-"},{"$f":"_xlfn.IFNA(VLOOKUP(_xlfn.CONCAT($A10,\"#\",DY$6),'[2]Pt1-DATA'!$C:$E,2,FALSE),\"-\")","v":"-"},{"$f":"_xlfn.IFNA(VLOOKUP(_xlfn.CONCAT($A10,\"#\",DY$6),'[2]Pt1-DATA'!$C:$E,3,FALSE),\"-\")","v":"-"},{"$f":"_xlfn.IFNA(VLOOKUP(_xlfn.CONCAT($A10,\"#\",EA$6),'[2]Pt1-DATA'!$C:$E,2,FALSE),\"-\")","v":"-"},{"$f":"_xlfn.IFNA(VLOOKUP(_xlfn.CONCAT($A10,\"#\",EA$6),'[2]Pt1-DATA'!$C:$E,3,FALSE),\"-\")","v":"-"},{"$f":"_xlfn.IFNA(VLOOKUP(_xlfn.CONCAT($A10,\"#\",EC$6),'[2]Pt1-DATA'!$C:$E,2,FALSE),\"-\")","v":"-"},{"$f":"_xlfn.IFNA(VLOOKUP(_xlfn.CONCAT($A10,\"#\",EC$6),'[2]Pt1-DATA'!$C:$E,3,FALSE),\"-\")","v":"-"},{"$f":"_xlfn.IFNA(VLOOKUP(_xlfn.CONCAT($A10,\"#\",EE$6),'[2]Pt1-DATA'!$C:$E,2,FALSE),\"-\")","v":"-"},{"$f":"_xlfn.IFNA(VLOOKUP(_xlfn.CONCAT($A10,\"#\",EE$6),'[2]Pt1-DATA'!$C:$E,3,FALSE),\"-\")","v":"-"},{"$f":"_xlfn.IFNA(VLOOKUP(_xlfn.CONCAT($A10,\"#\",EG$6),'[2]Pt1-DATA'!$C:$E,2,FALSE),\"-\")","v":"-"},{"$f":"_xlfn.IFNA(VLOOKUP(_xlfn.CONCAT($A10,\"#\",EG$6),'[2]Pt1-DATA'!$C:$E,3,FALSE),\"-\")","v":"-"},{"$f":"_xlfn.IFNA(VLOOKUP(_xlfn.CONCAT($A10,\"#\",EI$6),'[2]Pt1-DATA'!$C:$E,2,FALSE),\"-\")","v":"-"},{"$f":"_xlfn.IFNA(VLOOKUP(_xlfn.CONCAT($A10,\"#\",EI$6),'[2]Pt1-DATA'!$C:$E,3,FALSE),\"-\")","v":"-"},{"$f":"_xlfn.IFNA(VLOOKUP(_xlfn.CONCAT($A10,\"#\",EK$6),'[2]Pt1-DATA'!$C:$E,2,FALSE),\"-\")","v":"-"},{"$f":"_xlfn.IFNA(VLOOKUP(_xlfn.CONCAT($A10,\"#\",EK$6),'[2]Pt1-DATA'!$C:$E,3,FALSE),\"-\")","v":"-"},{"$f":"_xlfn.IFNA(VLOOKUP(_xlfn.CONCAT($A10,\"#\",EM$6),'[2]Pt1-DATA'!$C:$E,2,FALSE),\"-\")","v":"-"},{"$f":"_xlfn.IFNA(VLOOKUP(_xlfn.CONCAT($A10,\"#\",EM$6),'[2]Pt1-DATA'!$C:$E,3,FALSE),\"-\")","v":"-"},{"$f":"_xlfn.IFNA(VLOOKUP(_xlfn.CONCAT($A10,\"#\",EO$6),'[2]Pt1-DATA'!$C:$E,2,FALSE),\"-\")","v":"-"},{"$f":"_xlfn.IFNA(VLOOKUP(_xlfn.CONCAT($A10,\"#\",EO$6),'[2]Pt1-DATA'!$C:$E,3,FALSE),\"-\")","v":"-"},{"$f":"_xlfn.IFNA(VLOOKUP(_xlfn.CONCAT($A10,\"#\",EQ$6),'[2]Pt1-DATA'!$C:$E,2,FALSE),\"-\")","v":"-"},{"$f":"_xlfn.IFNA(VLOOKUP(_xlfn.CONCAT($A10,\"#\",EQ$6),'[2]Pt1-DATA'!$C:$E,3,FALSE),\"-\")","v":"-"},{"$f":"_xlfn.IFNA(VLOOKUP(_xlfn.CONCAT($A10,\"#\",ES$6),'[2]Pt1-DATA'!$C:$E,2,FALSE),\"-\")","v":"-"},{"$f":"_xlfn.IFNA(VLOOKUP(_xlfn.CONCAT($A10,\"#\",ES$6),'[2]Pt1-DATA'!$C:$E,3,FALSE),\"-\")","v":"-"},{"$f":"_xlfn.IFNA(VLOOKUP(_xlfn.CONCAT($A10,\"#\",EU$6),'[2]Pt1-DATA'!$C:$E,2,FALSE),\"-\")","v":"-"},{"$f":"_xlfn.IFNA(VLOOKUP(_xlfn.CONCAT($A10,\"#\",EU$6),'[2]Pt1-DATA'!$C:$E,3,FALSE),\"-\")","v":"-"},{"$f":"_xlfn.IFNA(VLOOKUP(_xlfn.CONCAT($A10,\"#\",EW$6),'[2]Pt1-DATA'!$C:$E,2,FALSE),\"-\")","v":"-"},{"$f":"_xlfn.IFNA(VLOOKUP(_xlfn.CONCAT($A10,\"#\",EW$6),'[2]Pt1-DATA'!$C:$E,3,FALSE),\"-\")","v":"-"},{"$f":"_xlfn.IFNA(VLOOKUP(_xlfn.CONCAT($A10,\"#\",EY$6),'[2]Pt1-DATA'!$C:$E,2,FALSE),\"-\")","v":"-"},{"$f":"_xlfn.IFNA(VLOOKUP(_xlfn.CONCAT($A10,\"#\",EY$6),'[2]Pt1-DATA'!$C:$E,3,FALSE),\"-\")","v":"-"},{"$f":"_xlfn.IFNA(VLOOKUP(_xlfn.CONCAT($A10,\"#\",FA$6),'[2]Pt1-DATA'!$C:$E,2,FALSE),\"-\")","v":"-"},{"$f":"_xlfn.IFNA(VLOOKUP(_xlfn.CONCAT($A10,\"#\",FA$6),'[2]Pt1-DATA'!$C:$E,3,FALSE),\"-\")","v":"-"},{"$f":"_xlfn.IFNA(VLOOKUP(_xlfn.CONCAT($A10,\"#\",FC$6),'[2]Pt1-DATA'!$C:$E,2,FALSE),\"-\")","v":"-"},{"$f":"_xlfn.IFNA(VLOOKUP(_xlfn.CONCAT($A10,\"#\",FC$6),'[2]Pt1-DATA'!$C:$E,3,FALSE),\"-\")","v":"-"},{"$f":"_xlfn.IFNA(VLOOKUP(_xlfn.CONCAT($A10,\"#\",FE$6),'[2]Pt1-DATA'!$C:$E,2,FALSE),\"-\")","v":"-"},{"$f":"_xlfn.IFNA(VLOOKUP(_xlfn.CONCAT($A10,\"#\",FE$6),'[2]Pt1-DATA'!$C:$E,3,FALSE),\"-\")","v":"-"},{"$f":"_xlfn.IFNA(VLOOKUP(_xlfn.CONCAT($A10,\"#\",FG$6),'[2]Pt1-DATA'!$C:$E,2,FALSE),\"-\")","v":"-"},{"$f":"_xlfn.IFNA(VLOOKUP(_xlfn.CONCAT($A10,\"#\",FG$6),'[2]Pt1-DATA'!$C:$E,3,FALSE),\"-\")","v":"-"},{"$f":"_xlfn.IFNA(VLOOKUP(_xlfn.CONCAT($A10,\"#\",FI$6),'[2]Pt1-DATA'!$C:$E,2,FALSE),\"-\")","v":"-"},{"$f":"_xlfn.IFNA(VLOOKUP(_xlfn.CONCAT($A10,\"#\",FI$6),'[2]Pt1-DATA'!$C:$E,3,FALSE),\"-\")","v":"-"},{"$f":"_xlfn.IFNA(VLOOKUP(_xlfn.CONCAT($A10,\"#\",FK$6),'[2]Pt1-DATA'!$C:$E,2,FALSE),\"-\")","v":"-"},{"$f":"_xlfn.IFNA(VLOOKUP(_xlfn.CONCAT($A10,\"#\",FK$6),'[2]Pt1-DATA'!$C:$E,3,FALSE),\"-\")","v":"-"},{"$f":"_xlfn.IFNA(VLOOKUP(_xlfn.CONCAT($A10,\"#\",FM$6),'[2]Pt1-DATA'!$C:$E,2,FALSE),\"-\")","v":"-"},{"$f":"_xlfn.IFNA(VLOOKUP(_xlfn.CONCAT($A10,\"#\",FM$6),'[2]Pt1-DATA'!$C:$E,3,FALSE),\"-\")","v":"-"},{"$f":"_xlfn.IFNA(VLOOKUP(_xlfn.CONCAT($A10,\"#\",FO$6),'[2]Pt1-DATA'!$C:$E,2,FALSE),\"-\")","v":"-"},{"$f":"_xlfn.IFNA(VLOOKUP(_xlfn.CONCAT($A10,\"#\",FO$6),'[2]Pt1-DATA'!$C:$E,3,FALSE),\"-\")","v":"-"},{"$f":"_xlfn.IFNA(VLOOKUP(_xlfn.CONCAT($A10,\"#\",FQ$6),'[2]Pt1-DATA'!$C:$E,2,FALSE),\"-\")","v":"-"},{"$f":"_xlfn.IFNA(VLOOKUP(_xlfn.CONCAT($A10,\"#\",FQ$6),'[2]Pt1-DATA'!$C:$E,3,FALSE),\"-\")","v":"-"},{"$f":"_xlfn.IFNA(VLOOKUP(_xlfn.CONCAT($A10,\"#\",FS$6),'[2]Pt1-DATA'!$C:$E,2,FALSE),\"-\")","v":"-"},{"$f":"_xlfn.IFNA(VLOOKUP(_xlfn.CONCAT($A10,\"#\",FS$6),'[2]Pt1-DATA'!$C:$E,3,FALSE),\"-\")","v":"-"},{"$f":"_xlfn.IFNA(VLOOKUP(_xlfn.CONCAT($A10,\"#\",FU$6),'[2]Pt1-DATA'!$C:$E,2,FALSE),\"-\")","v":"-"},{"$f":"_xlfn.IFNA(VLOOKUP(_xlfn.CONCAT($A10,\"#\",FU$6),'[2]Pt1-DATA'!$C:$E,3,FALSE),\"-\")","v":"-"},{"$f":"_xlfn.IFNA(VLOOKUP(_xlfn.CONCAT($A10,\"#\",FW$6),'[2]Pt1-DATA'!$C:$E,2,FALSE),\"-\")","v":"-"},{"$f":"_xlfn.IFNA(VLOOKUP(_xlfn.CONCAT($A10,\"#\",FW$6),'[2]Pt1-DATA'!$C:$E,3,FALSE),\"-\")","v":"-"},{"$f":"_xlfn.IFNA(VLOOKUP(_xlfn.CONCAT($A10,\"#\",FY$6),'[2]Pt1-DATA'!$C:$E,2,FALSE),\"-\")","v":"-"},{"$f":"_xlfn.IFNA(VLOOKUP(_xlfn.CONCAT($A10,\"#\",FY$6),'[2]Pt1-DATA'!$C:$E,3,FALSE),\"-\")","v":"-"},{"$f":"_xlfn.IFNA(VLOOKUP(_xlfn.CONCAT($A10,\"#\",GA$6),'[2]Pt1-DATA'!$C:$E,2,FALSE),\"-\")","v":"-"},{"$f":"_xlfn.IFNA(VLOOKUP(_xlfn.CONCAT($A10,\"#\",GA$6),'[2]Pt1-DATA'!$C:$E,3,FALSE),\"-\")","v":"-"},{"$f":"_xlfn.IFNA(VLOOKUP(_xlfn.CONCAT($A10,\"#\",GC$6),'[2]Pt1-DATA'!$C:$E,2,FALSE),\"-\")","v":"-"},{"$f":"_xlfn.IFNA(VLOOKUP(_xlfn.CONCAT($A10,\"#\",GC$6),'[2]Pt1-DATA'!$C:$E,3,FALSE),\"-\")","v":"-"},{"$f":"_xlfn.IFNA(VLOOKUP(_xlfn.CONCAT($A10,\"#\",GE$6),'[2]Pt1-DATA'!$C:$E,2,FALSE),\"-\")","v":"-"},{"$f":"_xlfn.IFNA(VLOOKUP(_xlfn.CONCAT($A10,\"#\",GE$6),'[2]Pt1-DATA'!$C:$E,3,FALSE),\"-\")","v":"-"},{"$f":"_xlfn.IFNA(VLOOKUP(_xlfn.CONCAT($A10,\"#\",GG$6),'[2]Pt1-DATA'!$C:$E,2,FALSE),\"-\")","v":"-"},{"$f":"_xlfn.IFNA(VLOOKUP(_xlfn.CONCAT($A10,\"#\",GG$6),'[2]Pt1-DATA'!$C:$E,3,FALSE),\"-\")","v":"-"},{"$f":"_xlfn.IFNA(VLOOKUP(_xlfn.CONCAT($A10,\"#\",GI$6),'[2]Pt1-DATA'!$C:$E,2,FALSE),\"-\")","v":"-"},{"$f":"_xlfn.IFNA(VLOOKUP(_xlfn.CONCAT($A10,\"#\",GI$6),'[2]Pt1-DATA'!$C:$E,3,FALSE),\"-\")","v":"-"},{"$f":"_xlfn.IFNA(VLOOKUP(_xlfn.CONCAT($A10,\"#\",GK$6),'[2]Pt1-DATA'!$C:$E,2,FALSE),\"-\")","v":"-"},{"$f":"_xlfn.IFNA(VLOOKUP(_xlfn.CONCAT($A10,\"#\",GK$6),'[2]Pt1-DATA'!$C:$E,3,FALSE),\"-\")","v":"-"},{"$f":"_xlfn.IFNA(VLOOKUP(_xlfn.CONCAT($A10,\"#\",GM$6),'[2]Pt1-DATA'!$C:$E,2,FALSE),\"-\")","v":"-"},{"$f":"_xlfn.IFNA(VLOOKUP(_xlfn.CONCAT($A10,\"#\",GM$6),'[2]Pt1-DATA'!$C:$E,3,FALSE),\"-\")","v":"-"},{"$f":"_xlfn.IFNA(VLOOKUP(_xlfn.CONCAT($A10,\"#\",GO$6),'[2]Pt1-DATA'!$C:$E,2,FALSE),\"-\")","v":"-"},{"$f":"_xlfn.IFNA(VLOOKUP(_xlfn.CONCAT($A10,\"#\",GO$6),'[2]Pt1-DATA'!$C:$E,3,FALSE),\"-\")","v":"-"},{"$f":"_xlfn.IFNA(VLOOKUP(_xlfn.CONCAT($A10,\"#\",GQ$6),'[2]Pt1-DATA'!$C:$E,2,FALSE),\"-\")","v":"-"},{"$f":"_xlfn.IFNA(VLOOKUP(_xlfn.CONCAT($A10,\"#\",GQ$6),'[2]Pt1-DATA'!$C:$E,3,FALSE),\"-\")","v":"-"},{"$f":"_xlfn.IFNA(VLOOKUP(_xlfn.CONCAT($A10,\"#\",GS$6),'[2]Pt1-DATA'!$C:$E,2,FALSE),\"-\")","v":"-"},{"$f":"_xlfn.IFNA(VLOOKUP(_xlfn.CONCAT($A10,\"#\",GS$6),'[2]Pt1-DATA'!$C:$E,3,FALSE),\"-\")","v":"-"},{"$f":"_xlfn.IFNA(VLOOKUP(_xlfn.CONCAT($A10,\"#\",GU$6),'[2]Pt1-DATA'!$C:$E,2,FALSE),\"-\")","v":"-"},{"$f":"_xlfn.IFNA(VLOOKUP(_xlfn.CONCAT($A10,\"#\",GU$6),'[2]Pt1-DATA'!$C:$E,3,FALSE),\"-\")","v":"-"},{"$f":"_xlfn.IFNA(VLOOKUP(_xlfn.CONCAT($A10,\"#\",GW$6),'[2]Pt1-DATA'!$C:$E,2,FALSE),\"-\")","v":"-"},{"$f":"_xlfn.IFNA(VLOOKUP(_xlfn.CONCAT($A10,\"#\",GW$6),'[2]Pt1-DATA'!$C:$E,3,FALSE),\"-\")","v":"-"},{"$f":"_xlfn.IFNA(VLOOKUP(_xlfn.CONCAT($A10,\"#\",GY$6),'[2]Pt1-DATA'!$C:$E,2,FALSE),\"-\")","v":"-"},{"$f":"_xlfn.IFNA(VLOOKUP(_xlfn.CONCAT($A10,\"#\",GY$6),'[2]Pt1-DATA'!$C:$E,3,FALSE),\"-\")","v":"-"},{"$f":"_xlfn.IFNA(VLOOKUP(_xlfn.CONCAT($A10,\"#\",HA$6),'[2]Pt1-DATA'!$C:$E,2,FALSE),\"-\")","v":"-"},{"$f":"_xlfn.IFNA(VLOOKUP(_xlfn.CONCAT($A10,\"#\",HA$6),'[2]Pt1-DATA'!$C:$E,3,FALSE),\"-\")","v":"-"},{"$f":"_xlfn.IFNA(VLOOKUP(_xlfn.CONCAT($A10,\"#\",HC$6),'[2]Pt1-DATA'!$C:$E,2,FALSE),\"-\")","v":"-"},{"$f":"_xlfn.IFNA(VLOOKUP(_xlfn.CONCAT($A10,\"#\",HC$6),'[2]Pt1-DATA'!$C:$E,3,FALSE),\"-\")","v":"-"},{"$f":"_xlfn.IFNA(VLOOKUP(_xlfn.CONCAT($A10,\"#\",HE$6),'[2]Pt1-DATA'!$C:$E,2,FALSE),\"-\")","v":"-"},{"$f":"_xlfn.IFNA(VLOOKUP(_xlfn.CONCAT($A10,\"#\",HE$6),'[2]Pt1-DATA'!$C:$E,3,FALSE),\"-\")","v":"-"},{"$f":"_xlfn.IFNA(VLOOKUP(_xlfn.CONCAT($A10,\"#\",HG$6),'[2]Pt1-DATA'!$C:$E,2,FALSE),\"-\")","v":"-"},{"$f":"_xlfn.IFNA(VLOOKUP(_xlfn.CONCAT($A10,\"#\",HG$6),'[2]Pt1-DATA'!$C:$E,3,FALSE),\"-\")","v":"-"},{"$f":"_xlfn.IFNA(VLOOKUP(_xlfn.CONCAT($A10,\"#\",HI$6),'[2]Pt1-DATA'!$C:$E,2,FALSE),\"-\")","v":"-"},{"$f":"_xlfn.IFNA(VLOOKUP(_xlfn.CONCAT($A10,\"#\",HI$6),'[2]Pt1-DATA'!$C:$E,3,FALSE),\"-\")","v":"-"},{"$f":"_xlfn.IFNA(VLOOKUP(_xlfn.CONCAT($A10,\"#\",HK$6),'[2]Pt1-DATA'!$C:$E,2,FALSE),\"-\")","v":"-"},{"$f":"_xlfn.IFNA(VLOOKUP(_xlfn.CONCAT($A10,\"#\",HK$6),'[2]Pt1-DATA'!$C:$E,3,FALSE),\"-\")","v":"-"},{"$f":"_xlfn.IFNA(VLOOKUP(_xlfn.CONCAT($A10,\"#\",HM$6),'[2]Pt1-DATA'!$C:$E,2,FALSE),\"-\")","v":"-"},{"$f":"_xlfn.IFNA(VLOOKUP(_xlfn.CONCAT($A10,\"#\",HM$6),'[2]Pt1-DATA'!$C:$E,3,FALSE),\"-\")","v":"-"},{"$f":"_xlfn.IFNA(VLOOKUP(_xlfn.CONCAT($A10,\"#\",HO$6),'[2]Pt1-DATA'!$C:$E,2,FALSE),\"-\")","v":"-"},{"$f":"_xlfn.IFNA(VLOOKUP(_xlfn.CONCAT($A10,\"#\",HO$6),'[2]Pt1-DATA'!$C:$E,3,FALSE),\"-\")","v":"-"},{"$f":"_xlfn.IFNA(VLOOKUP(_xlfn.CONCAT($A10,\"#\",HQ$6),'[2]Pt1-DATA'!$C:$E,2,FALSE),\"-\")","v":"-"},{"$f":"_xlfn.IFNA(VLOOKUP(_xlfn.CONCAT($A10,\"#\",HQ$6),'[2]Pt1-DATA'!$C:$E,3,FALSE),\"-\")","v":"-"},{"$f":"_xlfn.IFNA(VLOOKUP(_xlfn.CONCAT($A10,\"#\",HS$6),'[2]Pt1-DATA'!$C:$E,2,FALSE),\"-\")","v":"-"},{"$f":"_xlfn.IFNA(VLOOKUP(_xlfn.CONCAT($A10,\"#\",HS$6),'[2]Pt1-DATA'!$C:$E,3,FALSE),\"-\")","v":"-"},{"$f":"_xlfn.IFNA(VLOOKUP(_xlfn.CONCAT($A10,\"#\",HU$6),'[2]Pt1-DATA'!$C:$E,2,FALSE),\"-\")","v":"-"},{"$f":"_xlfn.IFNA(VLOOKUP(_xlfn.CONCAT($A10,\"#\",HU$6),'[2]Pt1-DATA'!$C:$E,3,FALSE),\"-\")","v":"-"},{"$f":"_xlfn.IFNA(VLOOKUP(_xlfn.CONCAT($A10,\"#\",HW$6),'[2]Pt1-DATA'!$C:$E,2,FALSE),\"-\")","v":"-"},{"$f":"_xlfn.IFNA(VLOOKUP(_xlfn.CONCAT($A10,\"#\",HW$6),'[2]Pt1-DATA'!$C:$E,3,FALSE),\"-\")","v":"-"},{"$f":"_xlfn.IFNA(VLOOKUP(_xlfn.CONCAT($A10,\"#\",HY$6),'[2]Pt1-DATA'!$C:$E,2,FALSE),\"-\")","v":"-"},{"$f":"_xlfn.IFNA(VLOOKUP(_xlfn.CONCAT($A10,\"#\",HY$6),'[2]Pt1-DATA'!$C:$E,3,FALSE),\"-\")","v":"-"},{"$f":"_xlfn.IFNA(VLOOKUP(_xlfn.CONCAT($A10,\"#\",IA$6),'[2]Pt1-DATA'!$C:$E,2,FALSE),\"-\")","v":"-"},{"$f":"_xlfn.IFNA(VLOOKUP(_xlfn.CONCAT($A10,\"#\",IA$6),'[2]Pt1-DATA'!$C:$E,3,FALSE),\"-\")","v":"-"},{"$f":"_xlfn.IFNA(VLOOKUP(_xlfn.CONCAT($A10,\"#\",IC$6),'[2]Pt1-DATA'!$C:$E,2,FALSE),\"-\")","v":"-"},{"$f":"_xlfn.IFNA(VLOOKUP(_xlfn.CONCAT($A10,\"#\",IC$6),'[2]Pt1-DATA'!$C:$E,3,FALSE),\"-\")","v":"-"},{"$f":"_xlfn.IFNA(VLOOKUP(_xlfn.CONCAT($A10,\"#\",IE$6),'[2]Pt1-DATA'!$C:$E,2,FALSE),\"-\")","v":"-"},{"$f":"_xlfn.IFNA(VLOOKUP(_xlfn.CONCAT($A10,\"#\",IE$6),'[2]Pt1-DATA'!$C:$E,3,FALSE),\"-\")","v":"-"},{"$f":"_xlfn.IFNA(VLOOKUP(_xlfn.CONCAT($A10,\"#\",IG$6),'[2]Pt1-DATA'!$C:$E,2,FALSE),\"-\")","v":"-"},{"$f":"_xlfn.IFNA(VLOOKUP(_xlfn.CONCAT($A10,\"#\",IG$6),'[2]Pt1-DATA'!$C:$E,3,FALSE),\"-\")","v":"-"},{"$f":"_xlfn.IFNA(VLOOKUP(_xlfn.CONCAT($A10,\"#\",II$6),'[2]Pt1-DATA'!$C:$E,2,FALSE),\"-\")","v":"-"},{"$f":"_xlfn.IFNA(VLOOKUP(_xlfn.CONCAT($A10,\"#\",II$6),'[2]Pt1-DATA'!$C:$E,3,FALSE),\"-\")","v":"-"},{"$f":"_xlfn.IFNA(VLOOKUP(_xlfn.CONCAT($A10,\"#\",IK$6),'[2]Pt1-DATA'!$C:$E,2,FALSE),\"-\")","v":"-"},{"$f":"_xlfn.IFNA(VLOOKUP(_xlfn.CONCAT($A10,\"#\",IK$6),'[2]Pt1-DATA'!$C:$E,3,FALSE),\"-\")","v":"-"},{"$f":"_xlfn.IFNA(VLOOKUP(_xlfn.CONCAT($A10,\"#\",IM$6),'[2]Pt1-DATA'!$C:$E,2,FALSE),\"-\")","v":"-"},{"$f":"_xlfn.IFNA(VLOOKUP(_xlfn.CONCAT($A10,\"#\",IM$6),'[2]Pt1-DATA'!$C:$E,3,FALSE),\"-\")","v":"-"},{"$f":"_xlfn.IFNA(VLOOKUP(_xlfn.CONCAT($A10,\"#\",IO$6),'[2]Pt1-DATA'!$C:$E,2,FALSE),\"-\")","v":"-"},{"$f":"_xlfn.IFNA(VLOOKUP(_xlfn.CONCAT($A10,\"#\",IO$6),'[2]Pt1-DATA'!$C:$E,3,FALSE),\"-\")","v":"-"},{"$f":"_xlfn.IFNA(VLOOKUP(_xlfn.CONCAT($A10,\"#\",IQ$6),'[2]Pt1-DATA'!$C:$E,2,FALSE),\"-\")","v":"-"},{"$f":"_xlfn.IFNA(VLOOKUP(_xlfn.CONCAT($A10,\"#\",IQ$6),'[2]Pt1-DATA'!$C:$E,3,FALSE),\"-\")","v":"-"},{"$f":"_xlfn.IFNA(VLOOKUP(_xlfn.CONCAT($A10,\"#\",IS$6),'[2]Pt1-DATA'!$C:$E,2,FALSE),\"-\")","v":"-"},{"$f":"_xlfn.IFNA(VLOOKUP(_xlfn.CONCAT($A10,\"#\",IS$6),'[2]Pt1-DATA'!$C:$E,3,FALSE),\"-\")","v":"-"},{"$f":"_xlfn.IFNA(VLOOKUP(_xlfn.CONCAT($A10,\"#\",IU$6),'[2]Pt1-DATA'!$C:$E,2,FALSE),\"-\")","v":"-"},{"$f":"_xlfn.IFNA(VLOOKUP(_xlfn.CONCAT($A10,\"#\",IU$6),'[2]Pt1-DATA'!$C:$E,3,FALSE),\"-\")","v":"-"},{"$f":"_xlfn.IFNA(VLOOKUP(_xlfn.CONCAT($A10,\"#\",IW$6),'[2]Pt1-DATA'!$C:$E,2,FALSE),\"-\")","v":"-"},{"$f":"_xlfn.IFNA(VLOOKUP(_xlfn.CONCAT($A10,\"#\",IW$6),'[2]Pt1-DATA'!$C:$E,3,FALSE),\"-\")","v":"-"},{"$f":"_xlfn.IFNA(VLOOKUP(_xlfn.CONCAT($A10,\"#\",IY$6),'[2]Pt1-DATA'!$C:$E,2,FALSE),\"-\")","v":"-"},{"$f":"_xlfn.IFNA(VLOOKUP(_xlfn.CONCAT($A10,\"#\",IY$6),'[2]Pt1-DATA'!$C:$E,3,FALSE),\"-\")","v":"-"},{"$f":"_xlfn.IFNA(VLOOKUP(_xlfn.CONCAT($A10,\"#\",JA$6),'[2]Pt1-DATA'!$C:$E,2,FALSE),\"-\")","v":"-"},{"$f":"_xlfn.IFNA(VLOOKUP(_xlfn.CONCAT($A10,\"#\",JA$6),'[2]Pt1-DATA'!$C:$E,3,FALSE),\"-\")","v":"-"},{"$f":"_xlfn.IFNA(VLOOKUP(_xlfn.CONCAT($A10,\"#\",JC$6),'[2]Pt1-DATA'!$C:$E,2,FALSE),\"-\")","v":"-"},{"$f":"_xlfn.IFNA(VLOOKUP(_xlfn.CONCAT($A10,\"#\",JC$6),'[2]Pt1-DATA'!$C:$E,3,FALSE),\"-\")","v":"-"},{"$f":"_xlfn.IFNA(VLOOKUP(_xlfn.CONCAT($A10,\"#\",JE$6),'[2]Pt1-DATA'!$C:$E,2,FALSE),\"-\")","v":"-"},{"$f":"_xlfn.IFNA(VLOOKUP(_xlfn.CONCAT($A10,\"#\",JE$6),'[2]Pt1-DATA'!$C:$E,3,FALSE),\"-\")","v":"-"},{"$f":"_xlfn.IFNA(VLOOKUP(_xlfn.CONCAT($A10,\"#\",JG$6),'[2]Pt1-DATA'!$C:$E,2,FALSE),\"-\")","v":"-"},{"$f":"_xlfn.IFNA(VLOOKUP(_xlfn.CONCAT($A10,\"#\",JG$6),'[2]Pt1-DATA'!$C:$E,3,FALSE),\"-\")","v":"-"},{"$f":"_xlfn.IFNA(VLOOKUP(_xlfn.CONCAT($A10,\"#\",JI$6),'[2]Pt1-DATA'!$C:$E,2,FALSE),\"-\")","v":"-"},{"$f":"_xlfn.IFNA(VLOOKUP(_xlfn.CONCAT($A10,\"#\",JI$6),'[2]Pt1-DATA'!$C:$E,3,FALSE),\"-\")","v":"-"},{"$f":"_xlfn.IFNA(VLOOKUP(_xlfn.CONCAT($A10,\"#\",JK$6),'[2]Pt1-DATA'!$C:$E,2,FALSE),\"-\")","v":"-"},{"$f":"_xlfn.IFNA(VLOOKUP(_xlfn.CONCAT($A10,\"#\",JK$6),'[2]Pt1-DATA'!$C:$E,3,FALSE),\"-\")","v":"-"},{"$f":"_xlfn.IFNA(VLOOKUP(_xlfn.CONCAT($A10,\"#\",JM$6),'[2]Pt1-DATA'!$C:$E,2,FALSE),\"-\")","v":"-"},{"$f":"_xlfn.IFNA(VLOOKUP(_xlfn.CONCAT($A10,\"#\",JM$6),'[2]Pt1-DATA'!$C:$E,3,FALSE),\"-\")","v":"-"},{"$f":"_xlfn.IFNA(VLOOKUP(_xlfn.CONCAT($A10,\"#\",JO$6),'[2]Pt1-DATA'!$C:$E,2,FALSE),\"-\")","v":"-"},{"$f":"_xlfn.IFNA(VLOOKUP(_xlfn.CONCAT($A10,\"#\",JO$6),'[2]Pt1-DATA'!$C:$E,3,FALSE),\"-\")","v":"-"},{"$f":"_xlfn.IFNA(VLOOKUP(_xlfn.CONCAT($A10,\"#\",JQ$6),'[2]Pt1-DATA'!$C:$E,2,FALSE),\"-\")","v":"-"},{"$f":"_xlfn.IFNA(VLOOKUP(_xlfn.CONCAT($A10,\"#\",JQ$6),'[2]Pt1-DATA'!$C:$E,3,FALSE),\"-\")","v":"-"},{"$f":"_xlfn.IFNA(VLOOKUP(_xlfn.CONCAT($A10,\"#\",JS$6),'[2]Pt1-DATA'!$C:$E,2,FALSE),\"-\")","v":"-"},{"$f":"_xlfn.IFNA(VLOOKUP(_xlfn.CONCAT($A10,\"#\",JS$6),'[2]Pt1-DATA'!$C:$E,3,FALSE),\"-\")","v":"-"},{"$f":"_xlfn.IFNA(VLOOKUP(_xlfn.CONCAT($A10,\"#\",JU$6),'[2]Pt1-DATA'!$C:$E,2,FALSE),\"-\")","v":"-"},{"$f":"_xlfn.IFNA(VLOOKUP(_xlfn.CONCAT($A10,\"#\",JU$6),'[2]Pt1-DATA'!$C:$E,3,FALSE),\"-\")","v":"-"},{"$f":"_xlfn.IFNA(VLOOKUP(_xlfn.CONCAT($A10,\"#\",JW$6),'[2]Pt1-DATA'!$C:$E,2,FALSE),\"-\")","v":"-"},{"$f":"_xlfn.IFNA(VLOOKUP(_xlfn.CONCAT($A10,\"#\",JW$6),'[2]Pt1-DATA'!$C:$E,3,FALSE),\"-\")","v":"-"},{"$f":"_xlfn.IFNA(VLOOKUP(_xlfn.CONCAT($A10,\"#\",JY$6),'[2]Pt1-DATA'!$C:$E,2,FALSE),\"-\")","v":"-"},{"$f":"_xlfn.IFNA(VLOOKUP(_xlfn.CONCAT($A10,\"#\",JY$6),'[2]Pt1-DATA'!$C:$E,3,FALSE),\"-\")","v":"-"},{"$f":"_xlfn.IFNA(VLOOKUP(_xlfn.CONCAT($A10,\"#\",KA$6),'[2]Pt1-DATA'!$C:$E,2,FALSE),\"-\")","v":"-"},{"$f":"_xlfn.IFNA(VLOOKUP(_xlfn.CONCAT($A10,\"#\",KA$6),'[2]Pt1-DATA'!$C:$E,3,FALSE),\"-\")","v":"-"},{"$f":"_xlfn.IFNA(VLOOKUP(_xlfn.CONCAT($A10,\"#\",KC$6),'[2]Pt1-DATA'!$C:$E,2,FALSE),\"-\")","v":"-"},{"$f":"_xlfn.IFNA(VLOOKUP(_xlfn.CONCAT($A10,\"#\",KC$6),'[2]Pt1-DATA'!$C:$E,3,FALSE),\"-\")","v":"-"},{"$f":"_xlfn.IFNA(VLOOKUP(_xlfn.CONCAT($A10,\"#\",KE$6),'[2]Pt1-DATA'!$C:$E,2,FALSE),\"-\")","v":"-"},{"$f":"_xlfn.IFNA(VLOOKUP(_xlfn.CONCAT($A10,\"#\",KE$6),'[2]Pt1-DATA'!$C:$E,3,FALSE),\"-\")","v":"-"},{"$f":"_xlfn.IFNA(VLOOKUP(_xlfn.CONCAT($A10,\"#\",KG$6),'[2]Pt1-DATA'!$C:$E,2,FALSE),\"-\")","v":"-"},{"$f":"_xlfn.IFNA(VLOOKUP(_xlfn.CONCAT($A10,\"#\",KG$6),'[2]Pt1-DATA'!$C:$E,3,FALSE),\"-\")","v":"-"},{"$f":"_xlfn.IFNA(VLOOKUP(_xlfn.CONCAT($A10,\"#\",KI$6),'[2]Pt1-DATA'!$C:$E,2,FALSE),\"-\")","v":"-"},{"$f":"_xlfn.IFNA(VLOOKUP(_xlfn.CONCAT($A10,\"#\",KI$6),'[2]Pt1-DATA'!$C:$E,3,FALSE),\"-\")","v":"-"},{"$f":"_xlfn.IFNA(VLOOKUP(_xlfn.CONCAT($A10,\"#\",KK$6),'[2]Pt1-DATA'!$C:$E,2,FALSE),\"-\")","v":"-"},{"$f":"_xlfn.IFNA(VLOOKUP(_xlfn.CONCAT($A10,\"#\",KK$6),'[2]Pt1-DATA'!$C:$E,3,FALSE),\"-\")","v":"-"},{"$f":"_xlfn.IFNA(VLOOKUP(_xlfn.CONCAT($A10,\"#\",KM$6),'[2]Pt1-DATA'!$C:$E,2,FALSE),\"-\")","v":"-"},{"$f":"_xlfn.IFNA(VLOOKUP(_xlfn.CONCAT($A10,\"#\",KM$6),'[2]Pt1-DATA'!$C:$E,3,FALSE),\"-\")","v":"-"},{"$f":"_xlfn.IFNA(VLOOKUP(_xlfn.CONCAT($A10,\"#\",KO$6),'[2]Pt1-DATA'!$C:$E,2,FALSE),\"-\")","v":"-"},{"$f":"_xlfn.IFNA(VLOOKUP(_xlfn.CONCAT($A10,\"#\",KO$6),'[2]Pt1-DATA'!$C:$E,3,FALSE),\"-\")","v":"-"},{"$f":"_xlfn.IFNA(VLOOKUP(_xlfn.CONCAT($A10,\"#\",KQ$6),'[2]Pt1-DATA'!$C:$E,2,FALSE),\"-\")","v":"-"},{"$f":"_xlfn.IFNA(VLOOKUP(_xlfn.CONCAT($A10,\"#\",KQ$6),'[2]Pt1-DATA'!$C:$E,3,FALSE),\"-\")","v":"-"},{"$f":"_xlfn.IFNA(VLOOKUP(_xlfn.CONCAT($A10,\"#\",KS$6),'[2]Pt1-DATA'!$C:$E,2,FALSE),\"-\")","v":"-"},{"$f":"_xlfn.IFNA(VLOOKUP(_xlfn.CONCAT($A10,\"#\",KS$6),'[2]Pt1-DATA'!$C:$E,3,FALSE),\"-\")","v":"-"},{"$f":"_xlfn.IFNA(VLOOKUP(_xlfn.CONCAT($A10,\"#\",KU$6),'[2]Pt1-DATA'!$C:$E,2,FALSE),\"-\")","v":"-"},{"$f":"_xlfn.IFNA(VLOOKUP(_xlfn.CONCAT($A10,\"#\",KU$6),'[2]Pt1-DATA'!$C:$E,3,FALSE),\"-\")","v":"-"},{"$f":"_xlfn.IFNA(VLOOKUP(_xlfn.CONCAT($A10,\"#\",KW$6),'[2]Pt1-DATA'!$C:$E,2,FALSE),\"-\")","v":"-"},{"$f":"_xlfn.IFNA(VLOOKUP(_xlfn.CONCAT($A10,\"#\",KW$6),'[2]Pt1-DATA'!$C:$E,3,FALSE),\"-\")","v":"-"},{"$f":"_xlfn.IFNA(VLOOKUP(_xlfn.CONCAT($A10,\"#\",KY$6),'[2]Pt1-DATA'!$C:$E,2,FALSE),\"-\")","v":"-"},{"$f":"_xlfn.IFNA(VLOOKUP(_xlfn.CONCAT($A10,\"#\",KY$6),'[2]Pt1-DATA'!$C:$E,3,FALSE),\"-\")","v":"-"},{"$f":"_xlfn.IFNA(VLOOKUP(_xlfn.CONCAT($A10,\"#\",LA$6),'[2]Pt1-DATA'!$C:$E,2,FALSE),\"-\")","v":"-"},{"$f":"_xlfn.IFNA(VLOOKUP(_xlfn.CONCAT($A10,\"#\",LA$6),'[2]Pt1-DATA'!$C:$E,3,FALSE),\"-\")","v":"-"},{"$f":"_xlfn.IFNA(VLOOKUP(_xlfn.CONCAT($A10,\"#\",LC$6),'[2]Pt1-DATA'!$C:$E,2,FALSE),\"-\")","v":"-"},{"$f":"_xlfn.IFNA(VLOOKUP(_xlfn.CONCAT($A10,\"#\",LC$6),'[2]Pt1-DATA'!$C:$E,3,FALSE),\"-\")","v":"-"},{"$f":"_xlfn.IFNA(VLOOKUP(_xlfn.CONCAT($A10,\"#\",LE$6),'[2]Pt1-DATA'!$C:$E,2,FALSE),\"-\")","v":"-"},{"$f":"_xlfn.IFNA(VLOOKUP(_xlfn.CONCAT($A10,\"#\",LE$6),'[2]Pt1-DATA'!$C:$E,3,FALSE),\"-\")","v":"-"},{"$f":"_xlfn.IFNA(VLOOKUP(_xlfn.CONCAT($A10,\"#\",LG$6),'[2]Pt1-DATA'!$C:$E,2,FALSE),\"-\")","v":"-"},{"$f":"_xlfn.IFNA(VLOOKUP(_xlfn.CONCAT($A10,\"#\",LG$6),'[2]Pt1-DATA'!$C:$E,3,FALSE),\"-\")","v":"-"},{"$f":"_xlfn.IFNA(VLOOKUP(_xlfn.CONCAT($A10,\"#\",LI$6),'[2]Pt1-DATA'!$C:$E,2,FALSE),\"-\")","v":"-"},{"$f":"_xlfn.IFNA(VLOOKUP(_xlfn.CONCAT($A10,\"#\",LI$6),'[2]Pt1-DATA'!$C:$E,3,FALSE),\"-\")","v":"-"},{"$f":"_xlfn.IFNA(VLOOKUP(_xlfn.CONCAT($A10,\"#\",LK$6),'[2]Pt1-DATA'!$C:$E,2,FALSE),\"-\")","v":"-"},{"$f":"_xlfn.IFNA(VLOOKUP(_xlfn.CONCAT($A10,\"#\",LK$6),'[2]Pt1-DATA'!$C:$E,3,FALSE),\"-\")","v":"-"},{"$f":"_xlfn.IFNA(VLOOKUP(_xlfn.CONCAT($A10,\"#\",LM$6),'[2]Pt1-DATA'!$C:$E,2,FALSE),\"-\")","v":"-"},{"$f":"_xlfn.IFNA(VLOOKUP(_xlfn.CONCAT($A10,\"#\",LM$6),'[2]Pt1-DATA'!$C:$E,3,FALSE),\"-\")","v":"-"},{"$f":"_xlfn.IFNA(VLOOKUP(_xlfn.CONCAT($A10,\"#\",LO$6),'[2]Pt1-DATA'!$C:$E,2,FALSE),\"-\")","v":"-"},{"$f":"_xlfn.IFNA(VLOOKUP(_xlfn.CONCAT($A10,\"#\",LO$6),'[2]Pt1-DATA'!$C:$E,3,FALSE),\"-\")","v":"-"},{"$f":"_xlfn.IFNA(VLOOKUP(_xlfn.CONCAT($A10,\"#\",LQ$6),'[2]Pt1-DATA'!$C:$E,2,FALSE),\"-\")","v":"-"},{"$f":"_xlfn.IFNA(VLOOKUP(_xlfn.CONCAT($A10,\"#\",LQ$6),'[2]Pt1-DATA'!$C:$E,3,FALSE),\"-\")","v":"-"},{"$f":"_xlfn.IFNA(VLOOKUP(_xlfn.CONCAT($A10,\"#\",LS$6),'[2]Pt1-DATA'!$C:$E,2,FALSE),\"-\")","v":"-"},{"$f":"_xlfn.IFNA(VLOOKUP(_xlfn.CONCAT($A10,\"#\",LS$6),'[2]Pt1-DATA'!$C:$E,3,FALSE),\"-\")","v":"-"},{"$f":"_xlfn.IFNA(VLOOKUP(_xlfn.CONCAT($A10,\"#\",LU$6),'[2]Pt1-DATA'!$C:$E,2,FALSE),\"-\")","v":"-"},{"$f":"_xlfn.IFNA(VLOOKUP(_xlfn.CONCAT($A10,\"#\",LU$6),'[2]Pt1-DATA'!$C:$E,3,FALSE),\"-\")","v":"-"},{"$f":"_xlfn.IFNA(VLOOKUP(_xlfn.CONCAT($A10,\"#\",LW$6),'[2]Pt1-DATA'!$C:$E,2,FALSE),\"-\")","v":"-"},{"$f":"_xlfn.IFNA(VLOOKUP(_xlfn.CONCAT($A10,\"#\",LW$6),'[2]Pt1-DATA'!$C:$E,3,FALSE),\"-\")","v":"-"},{"$f":"_xlfn.IFNA(VLOOKUP(_xlfn.CONCAT($A10,\"#\",LY$6),'[2]Pt1-DATA'!$C:$E,2,FALSE),\"-\")","v":"-"},{"$f":"_xlfn.IFNA(VLOOKUP(_xlfn.CONCAT($A10,\"#\",LY$6),'[2]Pt1-DATA'!$C:$E,3,FALSE),\"-\")","v":"-"},{"$f":"_xlfn.IFNA(VLOOKUP(_xlfn.CONCAT($A10,\"#\",MA$6),'[2]Pt1-DATA'!$C:$E,2,FALSE),\"-\")","v":"-"},{"$f":"_xlfn.IFNA(VLOOKUP(_xlfn.CONCAT($A10,\"#\",MA$6),'[2]Pt1-DATA'!$C:$E,3,FALSE),\"-\")","v":"-"},{"$f":"_xlfn.IFNA(VLOOKUP(_xlfn.CONCAT($A10,\"#\",MC$6),'[2]Pt1-DATA'!$C:$E,2,FALSE),\"-\")","v":"-"},{"$f":"_xlfn.IFNA(VLOOKUP(_xlfn.CONCAT($A10,\"#\",MC$6),'[2]Pt1-DATA'!$C:$E,3,FALSE),\"-\")","v":"-"},{"$f":"_xlfn.IFNA(VLOOKUP(_xlfn.CONCAT($A10,\"#\",ME$6),'[2]Pt1-DATA'!$C:$E,2,FALSE),\"-\")","v":"-"},{"$f":"_xlfn.IFNA(VLOOKUP(_xlfn.CONCAT($A10,\"#\",ME$6),'[2]Pt1-DATA'!$C:$E,3,FALSE),\"-\")","v":"-"},{"$f":"_xlfn.IFNA(VLOOKUP(_xlfn.CONCAT($A10,\"#\",MG$6),'[2]Pt1-DATA'!$C:$E,2,FALSE),\"-\")","v":"-"},{"$f":"_xlfn.IFNA(VLOOKUP(_xlfn.CONCAT($A10,\"#\",MG$6),'[2]Pt1-DATA'!$C:$E,3,FALSE),\"-\")","v":"-"},{"$f":"_xlfn.IFNA(VLOOKUP(_xlfn.CONCAT($A10,\"#\",MI$6),'[2]Pt1-DATA'!$C:$E,2,FALSE),\"-\")","v":"-"},{"$f":"_xlfn.IFNA(VLOOKUP(_xlfn.CONCAT($A10,\"#\",MI$6),'[2]Pt1-DATA'!$C:$E,3,FALSE),\"-\")","v":"-"},{"$f":"_xlfn.IFNA(VLOOKUP(_xlfn.CONCAT($A10,\"#\",MK$6),'[2]Pt1-DATA'!$C:$E,2,FALSE),\"-\")","v":"-"},{"$f":"_xlfn.IFNA(VLOOKUP(_xlfn.CONCAT($A10,\"#\",MK$6),'[2]Pt1-DATA'!$C:$E,3,FALSE),\"-\")","v":"-"},{"$f":"_xlfn.IFNA(VLOOKUP(_xlfn.CONCAT($A10,\"#\",MM$6),'[2]Pt1-DATA'!$C:$E,2,FALSE),\"-\")","v":"-"},{"$f":"_xlfn.IFNA(VLOOKUP(_xlfn.CONCAT($A10,\"#\",MM$6),'[2]Pt1-DATA'!$C:$E,3,FALSE),\"-\")","v":"-"},{"$f":"_xlfn.IFNA(VLOOKUP(_xlfn.CONCAT($A10,\"#\",MO$6),'[2]Pt1-DATA'!$C:$E,2,FALSE),\"-\")","v":"-"},{"$f":"_xlfn.IFNA(VLOOKUP(_xlfn.CONCAT($A10,\"#\",MO$6),'[2]Pt1-DATA'!$C:$E,3,FALSE),\"-\")","v":"-"},{"$f":"_xlfn.IFNA(VLOOKUP(_xlfn.CONCAT($A10,\"#\",MQ$6),'[2]Pt1-DATA'!$C:$E,2,FALSE),\"-\")","v":"-"},{"$f":"_xlfn.IFNA(VLOOKUP(_xlfn.CONCAT($A10,\"#\",MQ$6),'[2]Pt1-DATA'!$C:$E,3,FALSE),\"-\")","v":"-"},{"$f":"_xlfn.IFNA(VLOOKUP(_xlfn.CONCAT($A10,\"#\",MS$6),'[2]Pt1-DATA'!$C:$E,2,FALSE),\"-\")","v":"-"},{"$f":"_xlfn.IFNA(VLOOKUP(_xlfn.CONCAT($A10,\"#\",MS$6),'[2]Pt1-DATA'!$C:$E,3,FALSE),\"-\")","v":"-"},{"$f":"_xlfn.IFNA(VLOOKUP(_xlfn.CONCAT($A10,\"#\",MU$6),'[2]Pt1-DATA'!$C:$E,2,FALSE),\"-\")","v":"-"},{"$f":"_xlfn.IFNA(VLOOKUP(_xlfn.CONCAT($A10,\"#\",MU$6),'[2]Pt1-DATA'!$C:$E,3,FALSE),\"-\")","v":"-"},{"$f":"_xlfn.IFNA(VLOOKUP(_xlfn.CONCAT($A10,\"#\",MV$6),'[2]Pt1-DATA'!$C:$E,3,FALSE),\"-\")","v":"-"},{"$f":"_xlfn.IFNA(VLOOKUP(_xlfn.CONCAT($A10,\"#\",MW$6),'[2]Pt1-DATA'!$C:$E,3,FALSE),\"-\")","v":"-"},{"$f":"_xlfn.IFNA(VLOOKUP(_xlfn.CONCAT($A10,\"#\",MX$6),'[2]Pt1-DATA'!$C:$E,3,FALSE),\"-\")","v":"-"},{"$f":"_xlfn.IFNA(VLOOKUP(_xlfn.CONCAT($A10,\"#\",MY$6),'[2]Pt1-DATA'!$C:$E,3,FALSE),\"-\")","v":"-"},{"$f":"_xlfn.IFNA(VLOOKUP(_xlfn.CONCAT($A10,\"#\",MZ$6),'[2]Pt1-DATA'!$C:$E,3,FALSE),\"-\")","v":"-"},{"$f":"_xlfn.IFNA(VLOOKUP(_xlfn.CONCAT($A10,\"#\",NA$6),'[2]Pt1-DATA'!$C:$E,3,FALSE),\"-\")","v":"-"},{"$f":"_xlfn.IFNA(VLOOKUP(_xlfn.CONCAT($A10,\"#\",NB$6),'[2]Pt1-DATA'!$C:$E,3,FALSE),\"-\")","v":"-"},{"$f":"_xlfn.IFNA(VLOOKUP(_xlfn.CONCAT($A10,\"#\",NC$6),'[2]Pt1-DATA'!$C:$E,3,FALSE),\"-\")","v":"-"}]
["aircraft_id","aircraft_level_1","aircraft_level_2","aircraft_level_3","aircraft_level_4","engine_level_4","$per item","Num of","$per item","Num of","$per item","Num of","$per item","Num of","$per item","Num of","$per item","Num of","$per item","Num of","$per item","Num of","$per item","Num of","$per item","Num of","$per item","Num of","$per item","Num of","$per item","Num of","$per item","Num of","$per item","Num of","$per item","Num of","$per item","Num of","$per item","Num of","$per item","Num of","$per item","Num of","$per item","Num of","$per item","Num of","$per item","Num of","$per item","Num of","$per item","Num of","$per item","Num of","$per item","Num of","$per item","Num of","$per item","Num of","$per item","Num of","$per item","Num of","$per item","Num of","$per item","Num of","$per item","Num of","$per item","Num of","$per item","Num of","$per item","Num of","$per item","Num of","$per item","Num of","$per item","Num of","$per item","Num of","$per item","Num of","$per item","Num of","$per item","Num of","$per item","Num of","$per item","Num of","$per item","Num of","$per item","Num of","$per item","Num of","$per item","Num of","$per item","Num of","$per item","Num of","$per item","Num of","$per item","Num of","$per item","Num of","$per item","Num of","$per item","Num of","$per item","Num of","$per item","Num of","$per item","Num of","$per item","Num of","$per item","Num of","$per item","Num of","$per item","Num of","$per item","Num of","$per item","Num of","$per item","Num of","$per item","Num of","$per item","Num of","$per item","Num of","$per item","Num of","$per item","Num of","$per item","Num of","$per item","Num of","$per item","Num of","$per item","Num of","$per item","Num of","$per item","Num of","$per item","Num of","$per item","Num of","$per item","Num of","$per item","Num of","$per item","Num of","$per item","Num of","$per item","Num of","$per item","Num of","$per item","Num of","$per item","Num of","$per item","Num of","$per item","Num of","$per item","Num of","$per item","Num of","$per item","Num of","$per item","Num of","$per item","Num of","$per item","Num of","$per item","Num of","$per item","Num of","$per item","Num of","$per item","Num of","$per item","Num of","$per item","Num of","$per item","Num of","$per item","Num of","$per item","Num of","$per item","Num of","$per item","Num of","$per item","Num of","$per item","Num of","$per item","Num of","$per item","Num of","$per item","Num of","$per item","Num of","$per item","Num of","$per item","Num of","$per item","Num of","$per item","Num of","$per item","Num of","$per item","Num of","$per item","Num of","$per item","Num of","$per item","Num of","$per item","Num of","$per item","Num of","$per item","Num of","$per item","Num of","$per item","Num of","$per item","Num of","$per item","Num of","$per item","Num of","$per item","Num of","$per item","Num of","$per item","Num of","$per item","Num of","$per item","Num of","$per item","Num of","$per item","Num of","$per item","Num of","$per item","Num of","$per item","Num of","$per item","Num of","$per item","Num of","$per item","Num of","$per item","Num of","$per item","Num of","$per item","Num of","$per item","Num of","$per item","Num of","$per item","Num of","$per item","Num of","$per item","Num of","$per item","Num of","$per item","Num of","$per item","Num of","$per item","Num of","$per item","Num of","$per item","Num of","$per item","Num of","$per item","Num of","$per item","Num of","$per item","Num of","$per item","Num of","$per item","Num of","$per item","Num of","$per item","Num of","$per item","Num of","$per item","Num of","$per item","Num of","$per item","Num of","$per item","Num of","$per item","Num of","$per item","Num of","$per item","Num of","$per item","Num of","$per item","Num of","$per item","Num of","$per item","Num of","$per item","Num of","$per item","Num of","$per item","Num of","$per item","Num of","END MARKER"]
[674,"Business Jet","Large Jet","ACJ","Airbus ACJ TwoTwenty","Pratt & Whitney PW1500G",14941,2,56029,1,"-","-","-","-","-","-",13699,2,"-","-","-","-","-","-","-","-",5871,1,9784,1,"-","-","-","-",19569,1,"-","-","-","-",11741,2,11741,2,"-","-",5871,1,"-","-","-","-","-","-","-","-","-","-","-","-","-","-","-","-",5871,1,5871,2,"-","-","-","-","-","-","-","-","-","-","-","-","-","-",20712,1,17261,1,"-","-","-","-",11506,2,"-","-","-","-","-","-","-","-",23014,2,9205,1,17261,1,"-","-","-","-","-","-","-","-",28767,1,"-","-","-","-",15182,1,"-","-",8097,1,8097,1,"-","-","-","-","-","-",12145,1,"-","-",30364,3,"-","-","-","-",7085,2,30364,2,8097,2,"-","-","-","-","-","-",75910,1,"-","-",28340,1,"-","-","-","-","-","-",45546,2,"-","-","-","-","-","-","-","-","-","-",45546,2,"-","-","-","-",15182,2,20876,1,26094,2,12525,3,"-","-",10437,2,46970,2,26094,2,"-","-",2903,1,20674,1,25000,1,5168,1,"-","-",104151,2,52076,1,"-","-","-","-","-","-","-","-","-","-","-","-","-","-","-","-","-","-","-","-","-","-","-","-","-","-","-","-","-","-","-","-","-","-",31029,3,"-","-",10638,8,"-","-","-","-",12412,2,"-","-","-","-","-","-","-","-","-","-","-","-","-","-","-","-",44327,1,"-","-","-","-","-","-","-","-","-","-","-","-","-","-",8800,12,"-","-","-","-","-","-","-","-","-","-","-","-","-","-","-","-","-","-","-","-","-","-","-","-","-","-","-","-","-","-","-","-",47519,1,43999,1,137227,1,"-","-",6078,1,30388,2,"-","-","-","-","-","-",24310,1,"-","-","-","-","-","-","-","-","-","-","-","-","-","-","-","-","-","-",1368462,{"$f":"INDEX('Aircraft IDs'!A:G,MATCH(A12,'Aircraft IDs'!A:A,0),7)","v":"A220"}]
[296,"Business Jet","Large Jet","ACJ","Airbus ACJ320 Family","CFM International CFM56 - 5B",14941,2,56029,1,"-","-","-","-","-","-",13699,2,"-","-","-","-","-","-","-","-",5871,1,9784,1,"-","-","-","-",19569,1,"-","-","-","-",11741,2,11741,2,"-","-",5871,1,"-","-","-","-","-","-","-","-","-","-","-","-","-","-","-","-",5871,1,5871,2,"-","-","-","-","-","-","-","-","-","-","-","-","-","-",20712,1,17261,1,"-","-","-","-",11506,2,"-","-","-","-","-","-","-","-",23014,2,9205,1,17261,1,"-","-","-","-","-","-","-","-",28767,1,"-","-","-","-",15182,1,"-","-",8097,1,8097,1,"-","-","-","-","-","-",12145,1,"-","-",30364,3,"-","-","-","-",7085,2,30364,2,8097,2,"-","-","-","-","-","-",75910,1,"-","-",28340,1,"-","-","-","-","-","-",45546,2,"-","-","-","-","-","-","-","-","-","-",45546,2,"-","-","-","-",15182,2,20876,1,26094,2,12525,3,"-","-",10437,2,46970,2,26094,2,"-","-",2903,1,20674,1,25000,1,5168,1,"-","-","-","-","-","-","-","-","-","-","-","-","-","-","-","-","-","-","-","-","-","-","-","-","-","-","-","-","-","-","-","-","-","-","-","-","-","-","-","-",31029,3,"-","-",10638,8,"-","-","-","-",12412,2,"-","-","-","-","-","-","-","-","-","-","-","-","-","-","-","-",44327,1,"-","-","-","-","-","-","-","-","-","-","-","-","-","-",8800,12,"-","-","-","-","-","-","-","-","-","-","-","-","-","-","-","-","-","-","-","-","-","-","-","-","-","-","-","-","-","-","-","-","-","-",43999,1,137227,1,"-","-",6078,1,30388,2,"-","-","-","-","-","-",24310,1,"-","-","-","-","-","-","-","-","-","-","-",2,"-",1,"-",1,"-",1,1164717,{"$f":"INDEX('Aircraft IDs'!A:G,MATCH(A13,'Aircraft IDs'!A:A,0),7)","v":"A320"}]
[526,"Business Jet","Large Jet","ACJ","Airbus ACJ320 Family","IAE V2500-A5",14941,2,56029,1,"-","-","-","-","-","-",13699,2,"-","-","-","-","-","-","-","-",5871,1,9784,1,"-","-","-","-",19569,1,"-","-","-","-",11741,2,11741,2,"-","-",5871,1,"-","-","-","-","-","-","-","-","-","-","-","-","-","-","-","-",5871,1,5871,2,"-","-","-","-","-","-","-","-","-","-","-","-","-","-",20712,1,17261,1,"-","-","-","-",11506,2,"-","-","-","-","-","-","-","-",23014,2,9205,1,17261,1,"-","-","-","-","-","-","-","-",28767,1,"-","-","-","-",15182,1,"-","-",8097,1,8097,1,"-","-","-","-","-","-",12145,1,"-","-",30364,3,"-","-","-","-",7085,2,30364,2,8097,2,"-","-","-","-","-","-",75910,1,"-","-",28340,1,"-","-","-","-","-","-",45546,2,"-","-","-","-","-","-","-","-","-","-",45546,2,"-","-","-","-",15182,2,20876,1,26094,2,12525,3,"-","-",10437,2,46970,2,26094,2,"-","-",2903,1,20674,1,25000,1,5168,1,"-","-","-","-","-","-","-","-","-","-","-","-","-","-","-","-","-","-","-","-","-","-","-","-","-","-","-","-","-","-","-","-","-","-","-","-","-","-","-","-",31029,3,"-","-",10638,8,"-","-","-","-",12412,2,"-","-","-","-","-","-","-","-","-","-","-","-","-","-","-","-",44327,1,"-","-","-","-","-","-","-","-","-","-","-","-","-","-",8800,12,"-","-","-","-","-","-","-","-","-","-","-","-","-","-","-","-","-","-","-","-","-","-","-","-","-","-","-","-","-","-","-","-","-","-",43999,1,137227,1,"-","-",6078,1,30388,2,"-","-","-","-","-","-",24310,1,"-","-","-","-","-","-","-","-","-","-","-",2,"-",1,"-",1,"-",1,1164717,{"$f":"INDEX('Aircraft IDs'!A:G,MATCH(A14,'Aircraft IDs'!A:A,0),7)","v":"A320"}]
[528,"Business Jet","Large Jet","ACJ","Airbus ACJ320neo Family","CFM International LEAP-1A",14941,2,56029,1,"-","-","-","-","-","-",13699,2,"-","-","-","-","-","-","-","-",5871,1,9784,1,"-","-","-","-",19569,1,"-","-","-","-",11741,2,11741,2,"-","-",5871,1,"-","-","-","-","-","-","-","-","-","-","-","-","-","-","-","-",5871,1,5871,2,"-","-","-","-","-","-","-","-","-","-","-","-","-","-",20712,1,17261,1,"-","-","-","-",11506,2,"-","-","-","-","-","-","-","-",23014,2,9205,1,17261,1,"-","-","-","-","-","-","-","-",28767,1,"-","-","-","-",15182,1,"-","-",8097,1,8097,1,"-","-","-","-","-","-",12145,1,"-","-",30364,3,"-","-","-","-",7085,2,30364,2,8097,2,"-","-","-","-","-","-",75910,1,"-","-",28340,1,"-","-","-","-","-","-",45546,2,"-","-","-","-","-","-","-","-","-","-",45546,2,"-","-","-","-",15182,2,20876,1,26094,2,12525,3,"-","-",10437,2,46970,2,26094,2,"-","-",2903,1,20674,1,25000,1,5168,1,"-","-","-","-","-","-","-","-","-","-","-","-","-","-","-","-","-","-","-","-","-","-","-","-","-","-","-","-","-","-","-","-","-","-","-","-","-","-","-","-",31029,3,"-","-",10638,8,"-","-","-","-",12412,2,"-","-","-","-","-","-","-","-","-","-","-","-","-","-","-","-",44327,1,"-","-","-","-","-","-","-","-","-","-","-","-","-","-",8800,12,"-","-","-","-","-","-","-","-","-","-","-","-","-","-","-","-","-","-","-","-","-","-","-","-","-","-","-","-","-","-","-","-","-","-",43999,1,137227,1,"-","-",6078,1,30388,2,"-","-","-","-","-","-",24310,1,"-","-","-","-","-","-","-","-","-","-","-",2,"-",1,"-",1,"-",1,1164717,{"$f":"INDEX('Aircraft IDs'!A:G,MATCH(A15,'Aircraft IDs'!A:A,0),7)","v":"A320"}]
[527,"Business Jet","Large Jet","ACJ","Airbus ACJ320neo Family","Pratt & Whitney PW1100G",14941,2,56029,1,"-","-","-","-","-","-",13699,2,"-","-","-","-","-","-","-","-",5871,1,9784,1,"-","-","-","-",19569,1,"-","-","-","-",11741,2,11741,2,"-","-",5871,1,"-","-","-","-","-","-","-","-","-","-","-","-","-","-","-","-",5871,1,5871,2,"-","-","-","-","-","-","-","-","-","-","-","-","-","-",20712,1,17261,1,"-","-","-","-",11506,2,"-","-","-","-","-","-","-","-",23014,2,9205,1,17261,1,"-","-","-","-","-","-","-","-",28767,1,"-","-","-","-",15182,1,"-","-",8097,1,8097,1,"-","-","-","-","-","-",12145,1,"-","-",30364,3,"-","-","-","-",7085,2,30364,2,8097,2,"-","-","-","-","-","-",75910,1,"-","-",28340,1,"-","-","-","-","-","-",45546,2,"-","-","-","-","-","-","-","-","-","-",45546,2,"-","-","-","-",15182,2,20876,1,26094,2,12525,3,"-","-",10437,2,46970,2,26094,2,"-","-",2903,1,20674,1,25000,1,5168,1,"-","-","-","-","-","-","-","-","-","-","-","-","-","-","-","-","-","-","-","-","-","-","-","-","-","-","-","-","-","-","-","-","-","-","-","-","-","-","-","-",31029,3,"-","-",10638,8,"-","-","-","-",12412,2,"-","-","-","-","-","-","-","-","-","-","-","-","-","-","-","-",44327,1,"-","-","-","-","-","-","-","-","-","-","-","-","-","-",8800,12,"-","-","-","-","-","-","-","-","-","-","-","-","-","-","-","-","-","-","-","-","-","-","-","-","-","-","-","-","-","-","-","-","-","-",43999,1,137227,1,"-","-",6078,1,30388,2,"-","-","-","-","-","-",24310,1,"-","-","-","-","-","-","-","-","-","-","-",2,"-",1,"-",1,"-",1,1164717,{"$f":"INDEX('Aircraft IDs'!A:G,MATCH(A16,'Aircraft IDs'!A:A,0),7)","v":"A320"}]
[529,"Business Jet","Large Jet","BBJ","Boeing BBJ MAX","CFM International LEAP-1B",7471,2,56029,1,"-","-","-","-","-","-",13699,2,"-","-","-","-","-","-","-","-",5871,1,9784,1,"-","-","-","-",19569,1,"-","-","-","-",11741,2,11741,2,"-","-",5871,1,"-","-","-","-","-","-","-","-","-","-","-","-","-","-","-","-",5871,1,5871,2,"-","-","-","-","-","-","-","-","-","-","-","-","-","-",20712,1,17261,1,"-","-","-","-",11506,2,"-","-","-","-","-","-","-","-",23014,2,9205,1,17261,1,"-","-","-","-","-","-","-","-",28767,1,"-","-","-","-",15182,1,"-","-",8097,1,8097,1,"-","-","-","-","-","-",12145,1,"-","-",30364,3,"-","-","-","-",7085,2,30364,2,8097,2,"-","-","-","-","-","-",75910,1,"-","-",28340,1,"-","-","-","-","-","-",45546,2,"-","-","-","-","-","-","-","-","-","-",45546,2,"-","-","-","-",15182,2,20876,1,26094,2,12525,3,"-","-",10437,2,46970,2,26094,2,"-","-",2903,1,20674,1,25000,1,5168,1,"-","-","-","-","-","-","-","-","-","-","-","-","-","-","-","-","-","-","-","-","-","-","-","-","-","-","-","-","-","-","-","-","-","-","-","-","-","-","-","-",31029,3,"-","-",10638,8,"-","-","-","-",12412,2,"-","-","-","-","-","-","-","-","-","-","-","-","-","-","-","-",44327,1,"-","-","-","-","-","-","-","-","-","-","-","-","-","-",8800,12,"-","-","-","-","-","-","-","-","-","-","-","-","-","-","-","-","-","-","-","-","-","-","-","-","-","-","-","-","-","-","-","-","-","-",43999,1,137227,1,"-","-",6078,1,30388,2,"-","-","-","-","-","-",24310,1,"-","-","-","-","-","-","-","-","-","-","-",2,"-",1,"-",1,"-",1,1157247,{"$f":"INDEX('Aircraft IDs'!A:G,MATCH(A17,'Aircraft IDs'!A:A,0),7)","v":"B737"}]
[297,"Business Jet","Large Jet","BBJ","Boeing BBJ/BBJ2/BBJ3","CFM International CFM56 - 7B",7471,2,56029,1,"-","-","-","-","-","-",13699,2,"-","-","-","-","-","-","-","-",5871,1,9784,1,"-","-","-","-",19569,1,"-","-","-","-",11741,2,11741,2,"-","-",5871,1,"-","-","-","-","-","-","-","-","-","-","-","-","-","-","-","-",5871,1,5871,2,"-","-","-","-","-","-","-","-","-","-","-","-","-","-",20712,1,17261,1,"-","-","-","-",11506,2,"-","-","-","-","-","-","-","-",23014,2,9205,1,17261,1,"-","-","-","-","-","-","-","-",28767,1,"-","-","-","-",15182,1,"-","-",8097,1,8097,1,"-","-","-","-","-","-",12145,1,"-","-",30364,3,"-","-","-","-",7085,2,30364,2,8097,2,"-","-","-","-","-","-",75910,1,"-","-",28340,1,"-","-","-","-","-","-",45546,2,"-","-","-","-","-","-","-","-","-","-",45546,2,"-","-","-","-",15182,2,20876,1,26094,2,12525,3,"-","-",10437,2,46970,2,26094,2,"-","-",2903,1,20674,1,25000,1,5168,1,"-","-","-","-","-","-","-","-","-","-","-","-","-","-","-","-","-","-","-","-","-","-","-","-","-","-","-","-","-","-","-","-","-","-","-","-","-","-","-","-",31029,3,"-","-",10638,8,"-","-","-","-",12412,2,"-","-","-","-","-","-","-","-","-","-","-","-","-","-","-","-",44327,1,"-","-","-","-","-","-","-","-","-","-","-","-","-","-",8800,12,"-","-","-","-","-","-","-","-","-","-","-","-","-","-","-","-","-","-","-","-","-","-","-","-","-","-","-","-","-","-","-","-","-","-",43999,1,137227,1,"-","-",6078,1,30388,2,"-","-","-","-","-","-",24310,1,"-","-","-","-","-","-","-","-","-","-","-",2,"-",1,"-",1,"-",1,1157247,{"$f":"INDEX('Aircraft IDs'!A:G,MATCH(A18,'Aircraft IDs'!A:A,0),7)","v":"B737"}]
[594,"Business Jet","Large Jet","Boeing 747","Boeing 747-8 VIP","General Electric GEnx-2B",11206,2,59764,1,"-","-",48559,2,"-","-",11741,2,"-","-","-","-","-","-","-","-","-","-","-","-","-","-","-","-",19569,1,24461,1,"-","-",17612,2,17612,2,"-","-",4893,1,19569,1,"-","-",34245,1,"-","-","-","-","-","-","-","-","-","-",7828,1,"-","-","-","-",24461,2,48922,1,"-","-","-","-","-","-","-","-","-","-","-","-","-","-","-","-",34520,2,"-","-","-","-","-","-","-","-",34520,2,9205,1,23014,1,"-","-","-","-","-","-","-","-",27616,1,"-","-",28767,1,20243,1,"-","-","-","-",10121,1,50606,1,"-","-","-","-","-","-","-","-",50606,2,"-","-","-","-","-","-","-","-",20243,1,"-","-",30364,1,"-","-",111333,2,"-","-",35424,1,"-","-","-","-",85018,5,"-","-","-","-","-","-","-","-","-","-","-","-","-","-","-","-","-","-","-","-","-","-","-","-","-","-","-","-","-","-",117423,2,41750,2,15657,1,6967,1,49616,1,60000,1,12404,1,78114,2,182270,2,156228,1,"-","-","-","-","-","-","-","-",26038,14,"-","-","-","-","-","-","-","-","-","-","-","-","-","-","-","-","-","-","-","-","-","-","-","-","-","-",31029,2,13298,6,"-","-","-","-",10638,2,"-","-","-","-","-","-","-","-","-","-",13298,2,"-","-",39894,2,44327,2,"-","-","-","-",13298,2,"-","-","-","-","-","-","-","-",13200,14,"-","-","-","-","-","-","-","-","-","-","-","-","-","-","-","-","-","-","-","-","-","-","-","-","-","-","-","-","-","-","-","-",82497,1,49498,1,261865,1,"-","-","-","-",42542,2,"-","-","-","-","-","-",48620,1,"-","-",43555,1,"-","-","-","-","-","-","-","-","-",1,"-",1,"-",1,2376181,{"$f":"INDEX('Aircraft IDs'!A:G,MATCH(A19,'Aircraft IDs'!A:A,0),7)","v":"B747"}]
[35,"Business Jet","Large Jet","Challenger 600 series","Bombardier Challenger 600 series","General Electric CF34-3B","-","-",37353,1,"-","-",8965,1,"-","-","-","-","-","-","-","-","-","-",17612,2,"-","-","-","-","-","-","-","-",14677,1,"-","-",21526,2,"-","-","-","-","-","-","-","-","-","-","-","-","-","-","-","-","-","-","-","-",21526,3,24461,3,"-","-","-","-","-","-","-","-","-","-","-","-","-","-","-","-","-","-","-","-","-","-","-","-","-","-","-","-",34520,4,"-","-","-","-","-","-","-","-","-","-",17261,1,"-","-","-","-","-","-","-","-","-","-","-","-","-","-","-","-","-","-","-","-","-","-","-","-","-","-","-","-","-","-","-","-","-","-","-","-","-","-","-","-","-","-","-","-",8097,1,"-","-","-","-","-","-","-","-","-","-","-","-",40485,6,10121,2,35424,1,"-","-","-","-",8097,2,"-","-","-","-","-","-","-","-",25303,1,"-","-","-","-","-","-","-","-","-","-","-","-",54797,2,26094,2,"-","-",2119,1,15092,1,18250,1,3773,1,"-","-","-","-","-","-","-","-",93736,3,"-","-","-","-","-","-","-","-","-","-","-","-","-","-","-","-","-","-","-","-","-","-","-","-","-","-","-","-","-","-","-","-","-","-",26597,3,"-","-","-","-","-","-","-","-","-","-","-","-",35461,3,"-","-","-","-","-","-","-","-","-","-","-","-","-","-",17731,1,26597,1,"-","-","-","-","-","-",10999,4,8800,8,"-","-","-","-","-","-","-","-","-","-","-","-","-","-","-","-","-","-","-","-","-","-","-","-","-","-",82497,1,"-","-","-","-","-","-",107012,1,"-","-","-","-","-","-","-","-","-","-","-","-","-","-","-","-","-","-","-","-",40517,1,75969,1,"-",1,"-","-","-","-","-",1,971537,{"$f":"INDEX('Aircraft IDs'!A:G,MATCH(A20,'Aircraft IDs'!A:A,0),7)","v":"Challenger"}]
[635,"Business Jet","Large Jet","Challenger 600 series","Bombardier Challenger 6XX series","General Electric CF34-3 (New)","-","-",37353,1,"-","-",8965,1,"-","-","-","-","-","-","-","-","-","-",17612,2,"-","-","-","-","-","-","-","-",14677,1,"-","-",21526,2,"-","-","-","-","-","-","-","-","-","-","-","-","-","-","-","-","-","-","-","-",21526,3,24461,3,"-","-","-","-","-","-","-","-","-","-","-","-","-","-","-","-","-","-","-","-","-","-","-","-","-","-","-","-",34520,4,"-","-","-","-","-","-","-","-","-","-",17261,1,"-","-","-","-","-","-","-","-","-","-","-","-","-","-","-","-","-","-","-","-","-","-","-","-","-","-","-","-","-","-","-","-","-","-","-","-","-","-","-","-","-","-","-","-",8097,1,"-","-","-","-","-","-","-","-","-","-","-","-",40485,6,10121,2,35424,1,"-","-","-","-",8097,2,"-","-","-","-","-","-","-","-",25303,1,"-","-","-","-","-","-","-","-","-","-","-","-",54797,2,26094,2,"-","-",2649,1,18864,1,22812,1,4716,1,"-","-","-","-","-","-","-","-",93736,3,"-","-","-","-","-","-","-","-","-","-","-","-","-","-","-","-","-","-","-","-","-","-","-","-","-","-","-","-","-","-","-","-","-","-",26597,3,"-","-","-","-","-","-","-","-","-","-","-","-",35461,3,"-","-","-","-","-","-","-","-","-","-","-","-","-","-",17731,1,26597,1,"-","-","-","-","-","-",10999,4,8800,8,"-","-","-","-","-","-","-","-","-","-","-","-","-","-","-","-","-","-","-","-","-","-","-","-","-","-",82497,1,"-","-","-","-","-","-",107012,1,"-","-","-","-","-","-","-","-","-","-","-","-","-","-","-","-","-","-","-","-",40517,1,75969,1,"-",1,"-","-","-","-","-",1,981344,{"$f":"INDEX('Aircraft IDs'!A:G,MATCH(A21,'Aircraft IDs'!A:A,0),7)","v":"Challenger"}]
[72,"Business Jet","Large Jet","Challenger 850","Bombardier Challenger 850","General Electric CF34-3B","-","-",37353,1,"-","-",8965,1,"-","-","-","-","-","-","-","-","-","-",17612,2,"-","-","-","-","-","-","-","-",14677,1,"-","-",21526,2,"-","-","-","-","-","-","-","-","-","-","-","-","-","-","-","-","-","-","-","-",21526,3,24461,3,"-","-","-","-","-","-","-","-","-","-","-","-","-","-","-","-","-","-","-","-","-","-","-","-","-","-","-","-",34520,4,"-","-","-","-","-","-","-","-","-","-",17261,1,"-","-","-","-","-","-","-","-","-","-","-","-","-","-","-","-","-","-","-","-","-","-","-","-","-","-","-","-","-","-","-","-","-","-","-","-","-","-","-","-","-","-","-","-",8097,1,"-","-","-","-","-","-","-","-","-","-","-","-",40485,6,10121,2,35424,1,"-","-","-","-",8097,2,"-","-","-","-","-","-","-","-",25303,1,"-","-","-","-","-","-","-","-","-","-","-","-",54797,2,26094,2,"-","-",2119,1,15092,1,18250,1,3773,1,"-","-","-","-","-","-","-","-",93736,3,"-","-","-","-","-","-","-","-","-","-","-","-","-","-","-","-","-","-","-","-","-","-","-","-","-","-","-","-","-","-","-","-","-","-",26597,3,"-","-","-","-","-","-","-","-","-","-","-","-",35461,3,"-","-","-","-","-","-","-","-","-","-","-","-","-","-",17731,1,26597,1,"-","-","-","-","-","-",10999,4,8800,8,"-","-","-","-","-","-","-","-","-","-","-","-","-","-","-","-","-","-","-","-","-","-","-","-","-","-",82497,1,"-","-","-","-","-","-",107012,1,"-","-","-","-","-","-","-","-","-","-","-","-","-","-","-","-","-","-","-","-",40517,1,75969,1,"-",1,"-","-","-","-","-",1,971537,{"$f":"INDEX('Aircraft IDs'!A:G,MATCH(A22,'Aircraft IDs'!A:A,0),7)","v":"Challenger"}]
[48,"Business Jet","Large Jet","Citation Hemisphere","Cessna Citation Hemisphere","Pratt & Whitney Canada PW800","-","-",37353,1,"-","-",8965,1,"-","-","-","-","-","-","-","-","-","-",17612,2,"-","-","-","-","-","-","-","-",14677,1,"-","-",21526,2,"-","-","-","-","-","-","-","-","-","-","-","-","-","-","-","-","-","-","-","-",21526,3,24461,3,"-","-","-","-","-","-","-","-","-","-","-","-","-","-","-","-","-","-","-","-","-","-","-","-","-","-","-","-",34520,4,"-","-","-","-","-","-","-","-","-","-",17261,1,"-","-","-","-","-","-","-","-","-","-","-","-","-","-","-","-","-","-","-","-","-","-","-","-","-","-","-","-","-","-","-","-","-","-","-","-","-","-","-","-","-","-","-","-",8097,1,"-","-","-","-","-","-","-","-","-","-","-","-",40485,6,10121,2,35424,1,"-","-","-","-",8097,2,"-","-","-","-","-","-","-","-",25303,1,"-","-","-","-","-","-","-","-","-","-","-","-",54797,2,26094,2,"-","-",2119,1,15092,1,18250,1,3773,1,"-","-","-","-","-","-","-","-",93736,3,"-","-","-","-","-","-","-","-","-","-","-","-","-","-","-","-","-","-","-","-","-","-","-","-","-","-","-","-","-","-","-","-","-","-",26597,3,"-","-","-","-","-","-","-","-","-","-","-","-",35461,3,"-","-","-","-","-","-","-","-","-","-","-","-","-","-",17731,1,26597,1,"-","-","-","-","-","-",10999,4,8800,8,"-","-","-","-","-","-","-","-","-","-","-","-","-","-","-","-","-","-","-","-","-","-","-","-","-","-",82497,1,"-","-","-","-","-","-",107012,1,"-","-","-","-","-","-","-","-","-","-","-","-","-","-","-","-","-","-","-","-",40517,1,75969,1,"-",1,"-","-","-","-","-",1,971537,{"$f":"INDEX('Aircraft IDs'!A:G,MATCH(A23,'Aircraft IDs'!A:A,0),7)","v":"Citation"}]
[47,"Business Jet","Large Jet","Citation Longitude","Cessna Citation Longitude","Honeywell HTF7000 ","-","-",37353,1,"-","-",8965,1,"-","-","-","-","-","-","-","-","-","-",17612,2,"-","-","-","-","-","-","-","-",14677,1,"-","-",21526,2,"-","-","-","-","-","-","-","-","-","-","-","-","-","-","-","-","-","-","-","-",21526,3,24461,3,"-","-","-","-","-","-","-","-","-","-","-","-","-","-","-","-","-","-","-","-","-","-","-","-","-","-","-","-",34520,4,"-","-","-","-","-","-","-","-","-","-",17261,1,"-","-","-","-","-","-","-","-","-","-","-","-","-","-","-","-","-","-","-","-","-","-","-","-","-","-","-","-","-","-","-","-","-","-","-","-","-","-","-","-","-","-","-","-",8097,1,"-","-","-","-","-","-","-","-","-","-","-","-",40485,6,10121,2,35424,1,"-","-","-","-",8097,2,"-","-","-","-","-","-","-","-",25303,1,"-","-","-","-","-","-","-","-","-","-","-","-",54797,2,26094,2,"-","-",2119,1,15092,1,18250,1,3773,1,"-","-","-","-","-","-","-","-",93736,3,"-","-","-","-","-","-","-","-","-","-","-","-","-","-","-","-","-","-","-","-","-","-","-","-","-","-","-","-","-","-","-","-","-","-",26597,3,"-","-","-","-","-","-","-","-","-","-","-","-",35461,3,"-","-","-","-","-","-","-","-","-","-","-","-","-","-",17731,1,26597,1,"-","-","-","-","-","-",10999,4,8800,8,"-","-","-","-","-","-","-","-","-","-","-","-","-","-","-","-","-","-","-","-","-","-","-","-","-","-",82497,1,"-","-","-","-","-","-",107012,1,"-","-","-","-","-","-","-","-","-","-","-","-","-","-","-","-","-","-","-","-",40517,1,75969,1,"-",1,"-","-","-","-","-",1,971537,{"$f":"INDEX('Aircraft IDs'!A:G,MATCH(A24,'Aircraft IDs'!A:A,0),7)","v":"Citation"}]
[587,"Business Jet","Large Jet","Falcon 10X","Dassault Falcon 10X","Rolls-Royce Pearl 10X","-","-",37353,1,"-","-",8965,1,"-","-","-","-","-","-","-","-","-","-",17612,2,"-","-","-","-","-","-","-","-",14677,1,"-","-",21526,2,"-","-","-","-","-","-","-","-","-","-","-","-","-","-","-","-","-","-","-","-",21526,3,24461,3,"-","-","-","-","-","-","-","-","-","-","-","-","-","-","-","-","-","-","-","-","-","-","-","-","-","-","-","-",34520,4,"-","-","-","-","-","-","-","-","-","-",17261,1,"-","-","-","-","-","-","-","-","-","-","-","-","-","-","-","-","-","-","-","-","-","-","-","-","-","-","-","-","-","-","-","-","-","-","-","-","-","-","-","-","-","-","-","-",8097,1,"-","-","-","-","-","-","-","-","-","-","-","-",40485,6,10121,2,35424,1,"-","-","-","-",8097,2,"-","-","-","-","-","-","-","-",25303,1,"-","-","-","-","-","-","-","-","-","-","-","-",54797,2,26094,2,"-","-",2649,1,18864,1,22812,1,4716,1,"-","-",72906,2,41660,1,"-","-",93736,3,"-","-","-","-","-","-","-","-","-","-","-","-","-","-","-","-","-","-","-","-","-","-","-","-","-","-","-","-","-","-","-","-","-","-",26597,3,"-","-","-","-","-","-","-","-","-","-","-","-",35461,3,"-","-","-","-","-","-","-","-","-","-","-","-","-","-",17731,1,26597,1,"-","-","-","-","-","-",10999,4,8800,8,"-","-","-","-","-","-","-","-","-","-","-","-","-","-","-","-","-","-","-","-","-","-","-","-","-","-",82497,1,"-","-","-","-","-","-",107012,1,"-","-","-","-","-","-","-","-","-","-","-","-","-","-","-","-","-","-","-","-",40517,1,75969,1,"-",1,"-","-","-","-","-",1,1095913,{"$f":"INDEX('Aircraft IDs'!A:G,MATCH(A25,'Aircraft IDs'!A:A,0),7)","v":"Falcon"}]
[51,"Business Jet","Large Jet","Falcon 6X","Dassault Falcon 6X","Pratt & Whitney Canada PW800","-","-",37353,1,"-","-",8965,1,"-","-","-","-","-","-","-","-","-","-",17612,2,"-","-","-","-","-","-","-","-",14677,1,"-","-",21526,2,"-","-","-","-","-","-","-","-","-","-","-","-","-","-","-","-","-","-","-","-",21526,3,24461,3,"-","-","-","-","-","-","-","-","-","-","-","-","-","-","-","-","-","-","-","-","-","-","-","-","-","-","-","-",34520,4,"-","-","-","-","-","-","-","-","-","-",17261,1,"-","-","-","-","-","-","-","-","-","-","-","-","-","-","-","-","-","-","-","-","-","-","-","-","-","-","-","-","-","-","-","-","-","-","-","-","-","-","-","-","-","-","-","-",8097,1,"-","-","-","-","-","-","-","-","-","-","-","-",40485,6,10121,2,35424,1,"-","-","-","-",8097,2,"-","-","-","-","-","-","-","-",25303,1,"-","-","-","-","-","-","-","-","-","-","-","-",54797,2,26094,2,"-","-",2119,1,15092,1,18250,1,3773,1,"-","-",72906,2,41660,1,"-","-",93736,3,"-","-","-","-","-","-","-","-","-","-","-","-","-","-","-","-","-","-","-","-","-","-","-","-","-","-","-","-","-","-","-","-","-","-",26597,3,"-","-","-","-","-","-","-","-","-","-","-","-",35461,3,"-","-","-","-","-","-","-","-","-","-","-","-","-","-",17731,1,26597,1,"-","-","-","-","-","-",10999,4,8800,8,"-","-","-","-","-","-","-","-","-","-","-","-","-","-","-","-","-","-","-","-","-","-","-","-","-","-",82497,1,"-","-","-","-","-","-",107012,1,"-","-","-","-","-","-","-","-","-","-","-","-","-","-","-","-","-","-","-","-",40517,1,75969,1,"-",1,"-","-","-","-","-",1,1086106,{"$f":"INDEX('Aircraft IDs'!A:G,MATCH(A26,'Aircraft IDs'!A:A,0),7)","v":"Falcon"}]
[54,"Business Jet","Large Jet","Falcon 7X/8X","Dassault Falcon 7X/8X","Pratt & Whitney Canada PW307A/D","-","-",37353,1,"-","-",8965,1,"-","-","-","-","-","-","-","-","-","-",17612,2,"-","-","-","-","-","-","-","-",14677,1,"-","-",21526,2,"-","-","-","-","-","-","-","-","-","-","-","-","-","-","-","-","-","-","-","-",21526,3,24461,3,"-","-","-","-","-","-","-","-","-","-","-","-","-","-","-","-","-","-","-","-","-","-","-","-","-","-","-","-",34520,4,"-","-","-","-","-","-","-","-","-","-",17261,1,"-","-","-","-","-","-","-","-","-","-","-","-","-","-","-","-","-","-","-","-","-","-","-","-","-","-","-","-","-","-","-","-","-","-","-","-","-","-","-","-","-","-","-","-",8097,1,"-","-","-","-","-","-","-","-","-","-","-","-",40485,6,10121,2,35424,1,"-","-","-","-",8097,2,"-","-","-","-","-","-","-","-",25303,1,"-","-","-","-","-","-","-","-","-","-","-","-",54797,2,26094,2,"-","-",2119,1,15092,1,18250,1,3773,1,"-","-",72906,2,41660,1,"-","-",93736,3,"-","-","-","-","-","-","-","-","-","-","-","-","-","-","-","-","-","-","-","-","-","-","-","-","-","-","-","-","-","-","-","-","-","-",26597,3,"-","-","-","-","-","-","-","-","-","-","-","-",35461,3,"-","-","-","-","-","-","-","-","-","-","-","-","-","-",17731,1,26597,1,"-","-","-","-","-","-",10999,4,8800,8,"-","-","-","-","-","-","-","-","-","-","-","-","-","-","-","-","-","-","-","-","-","-","-","-","-","-",82497,1,"-","-","-","-","-","-",107012,1,"-","-","-","-","-","-","-","-","-","-","-","-","-","-","-","-","-","-","-","-",40517,1,75969,1,"-",1,"-","-","-","-","-",1,1086106,{"$f":"INDEX('Aircraft IDs'!A:G,MATCH(A27,'Aircraft IDs'!A:A,0),7)","v":"Falcon"}]
[50,"Business Jet","Large Jet","Falcon 900","Dassault Falcon 900","Honeywell TFE731","-","-",37353,1,"-","-",8965,1,"-","-","-","-","-","-","-","-","-","-",17612,2,"-","-","-","-","-","-","-","-",14677,1,"-","-",21526,2,"-","-","-","-","-","-","-","-","-","-","-","-","-","-","-","-","-","-","-","-",21526,3,24461,3,"-","-","-","-","-","-","-","-","-","-","-","-","-","-","-","-","-","-","-","-","-","-","-","-","-","-","-","-",34520,4,"-","-","-","-","-","-","-","-","-","-",17261,1,"-","-","-","-","-","-","-","-","-","-","-","-","-","-","-","-","-","-","-","-","-","-","-","-","-","-","-","-","-","-","-","-","-","-","-","-","-","-","-","-","-","-","-","-",8097,1,"-","-","-","-","-","-","-","-","-","-","-","-",40485,6,10121,2,35424,1,"-","-","-","-",8097,2,"-","-","-","-","-","-","-","-",25303,1,"-","-","-","-","-","-","-","-","-","-","-","-",54797,2,26094,2,"-","-",2119,1,15092,1,18250,1,3773,1,"-","-",72906,2,41660,1,"-","-",93736,3,"-","-","-","-","-","-","-","-","-","-","-","-","-","-","-","-","-","-","-","-","-","-","-","-","-","-","-","-","-","-","-","-","-","-",26597,3,"-","-","-","-","-","-","-","-","-","-","-","-",35461,3,"-","-","-","-","-","-","-","-","-","-","-","-","-","-",17731,1,26597,1,"-","-","-","-","-","-",10999,4,8800,8,"-","-","-","-","-","-","-","-","-","-","-","-","-","-","-","-","-","-","-","-","-","-","-","-","-","-",82497,1,"-","-","-","-","-","-",107012,1,"-","-","-","-","-","-","-","-","-","-","-","-","-","-","-","-","-","-","-","-",40517,1,75969,1,"-",1,"-","-","-","-","-",1,1086106,{"$f":"INDEX('Aircraft IDs'!A:G,MATCH(A28,'Aircraft IDs'!A:A,0),7)","v":"Falcon"}]
[651,"Business Jet","Large Jet","G400","Gulfstream G400","Pratt & Whitney Canada PW800","-","-",39221,1,"-","-",9413,1,"-","-","-","-","-","-","-","-","-","-",18493,2,"-","-","-","-","-","-","-","-",15411,1,"-","-",22602,2,"-","-","-","-","-","-","-","-","-","-","-","-","-","-","-","-","-","-","-","-",22602,3,25684,3,"-","-","-","-","-","-","-","-","-","-","-","-","-","-","-","-","-","-","-","-","-","-","-","-","-","-","-","-",36246,4,"-","-","-","-","-","-","-","-","-","-",18124,1,"-","-","-","-","-","-","-","-","-","-","-","-","-","-","-","-","-","-","-","-","-","-","-","-","-","-","-","-","-","-","-","-","-","-","-","-","-","-","-","-","-","-","-","-",8502,1,"-","-","-","-","-","-","-","-","-","-","-","-",42509,6,10627,2,37195,1,"-","-","-","-",8502,2,"-","-","-","-","-","-","-","-",26568,1,"-","-","-","-","-","-","-","-","-","-","-","-",57537,2,27399,2,"-","-",2225,1,15847,1,19163,1,3962,1,"-","-","-","-","-","-","-","-",98423,3,"-","-","-","-","-","-","-","-","-","-","-","-","-","-","-","-","-","-","-","-","-","-","-","-","-","-","-","-","-","-","-","-","-","-",27927,3,"-","-","-","-","-","-","-","-","-","-","-","-",37234,3,"-","-","-","-","-","-","-","-","-","-","-","-","-","-",18618,1,27927,1,"-","-","-","-","-","-",11549,4,9240,8,"-","-","-","-","-","-","-","-","-","-","-","-","-","-","-","-","-","-","-","-","-","-","-","-","-","-",86622,1,"-","-","-","-","-","-",112363,1,"-","-","-","-","-","-","-","-","-","-","-","-","-","-","-","-","-","-","-","-",42543,1,79767,1,"-",1,"-","-","-","-","-",1,1020113,{"$f":"INDEX('Aircraft IDs'!A:G,MATCH(A29,'Aircraft IDs'!A:A,0),7)","v":"Gulfstream"}]
[59,"Business Jet","Large Jet","G450","Gulfstream G450","Rolls-Royce Tay 611-8C","-","-",37353,1,"-","-",8965,1,"-","-","-","-","-","-","-","-","-","-",17612,2,"-","-","-","-","-","-","-","-",14677,1,"-","-",21526,2,"-","-","-","-","-","-","-","-","-","-","-","-","-","-","-","-","-","-","-","-",21526,3,24461,3,"-","-","-","-","-","-","-","-","-","-","-","-","-","-","-","-","-","-","-","-","-","-","-","-","-","-","-","-",34520,4,"-","-","-","-","-","-","-","-","-","-",17261,1,"-","-","-","-","-","-","-","-","-","-","-","-","-","-","-","-","-","-","-","-","-","-","-","-","-","-","-","-","-","-","-","-","-","-","-","-","-","-","-","-","-","-","-","-",8097,1,"-","-","-","-","-","-","-","-","-","-","-","-",40485,6,10121,2,35424,1,"-","-","-","-",8097,2,"-","-","-","-","-","-","-","-",25303,1,"-","-","-","-","-","-","-","-","-","-","-","-",54797,2,26094,2,"-","-",2119,1,15092,1,18250,1,3773,1,"-","-","-","-","-","-","-","-",93736,3,"-","-","-","-","-","-","-","-","-","-","-","-","-","-","-","-","-","-","-","-","-","-","-","-","-","-","-","-","-","-","-","-","-","-",26597,3,"-","-","-","-","-","-","-","-","-","-","-","-",35461,3,"-","-","-","-","-","-","-","-","-","-","-","-","-","-",17731,1,26597,1,"-","-","-","-","-","-",10999,4,8800,8,"-","-","-","-","-","-","-","-","-","-","-","-","-","-","-","-","-","-","-","-","-","-","-","-","-","-",82497,1,"-","-","-","-","-","-",107012,1,"-","-","-","-","-","-","-","-","-","-","-","-","-","-","-","-","-","-","-","-",40517,1,75969,1,"-",1,"-","-","-","-","-",1,971537,{"$f":"INDEX('Aircraft IDs'!A:G,MATCH(A30,'Aircraft IDs'!A:A,0),7)","v":"Gulfstream"}]
[61,"Business Jet","Large Jet","G500/G600","Gulfstream G500","Pratt & Whitney Canada PW800","-","-",37353,1,"-","-",8965,1,"-","-","-","-","-","-","-","-","-","-",17612,2,"-","-","-","-","-","-","-","-",14677,1,"-","-",21526,2,"-","-","-","-","-","-","-","-","-","-","-","-","-","-","-","-","-","-","-","-",21526,3,24461,3,"-","-","-","-","-","-","-","-","-","-","-","-","-","-","-","-","-","-","-","-","-","-","-","-","-","-","-","-",34520,4,"-","-","-","-","-","-","-","-","-","-",17261,1,"-","-","-","-","-","-","-","-","-","-","-","-","-","-","-","-","-","-","-","-","-","-","-","-","-","-","-","-","-","-","-","-","-","-","-","-","-","-","-","-","-","-","-","-",8097,1,"-","-","-","-","-","-","-","-","-","-","-","-",40485,6,10121,2,35424,1,"-","-","-","-",8097,2,"-","-","-","-","-","-","-","-",25303,1,"-","-","-","-","-","-","-","-","-","-","-","-",54797,2,26094,2,"-","-",2119,1,15092,1,18250,1,3773,1,"-","-","-","-","-","-","-","-",93736,3,"-","-","-","-","-","-","-","-","-","-","-","-","-","-","-","-","-","-","-","-","-","-","-","-","-","-","-","-","-","-","-","-","-","-",26597,3,"-","-","-","-","-","-","-","-","-","-","-","-",35461,3,"-","-","-","-","-","-","-","-","-","-","-","-","-","-",17731,1,26597,1,"-","-","-","-","-","-",10999,4,8800,8,"-","-","-","-","-","-","-","-","-","-","-","-","-","-","-","-","-","-","-","-","-","-","-","-","-","-",82497,1,"-","-","-","-","-","-",107012,1,"-","-","-","-","-","-","-","-","-","-","-","-","-","-","-","-","-","-","-","-",40517,1,75969,1,"-",1,"-","-","-","-","-",1,971537,{"$f":"INDEX('Aircraft IDs'!A:G,MATCH(A31,'Aircraft IDs'!A:A,0),7)","v":"Gulfstream"}]
[62,"Business Jet","Large Jet","G500/G600","Gulfstream G600 ","Pratt & Whitney Canada PW800","-","-",37353,1,"-","-",8965,1,"-","-","-","-","-","-","-","-","-","-",17612,2,"-","-","-","-","-","-","-","-",14677,1,"-","-",21526,2,"-","-","-","-","-","-","-","-","-","-","-","-","-","-","-","-","-","-","-","-",21526,3,24461,3,"-","-","-","-","-","-","-","-","-","-","-","-","-","-","-","-","-","-","-","-","-","-","-","-","-","-","-","-",34520,4,"-","-","-","-","-","-","-","-","-","-",17261,1,"-","-","-","-","-","-","-","-","-","-","-","-","-","-","-","-","-","-","-","-","-","-","-","-","-","-","-","-","-","-","-","-","-","-","-","-","-","-","-","-","-","-","-","-",8097,1,"-","-","-","-","-","-","-","-","-","-","-","-",40485,6,10121,2,35424,1,"-","-","-","-",8097,2,"-","-","-","-","-","-","-","-",25303,1,"-","-","-","-","-","-","-","-","-","-","-","-",54797,2,26094,2,"-","-",2119,1,15092,1,18250,1,3773,1,"-","-","-","-","-","-","-","-",93736,3,"-","-","-","-","-","-","-","-","-","-","-","-","-","-","-","-","-","-","-","-","-","-","-","-","-","-","-","-","-","-","-","-","-","-",26597,3,"-","-","-","-","-","-","-","-","-","-","-","-",35461,3,"-","-","-","-","-","-","-","-","-","-","-","-","-","-",17731,1,26597,1,"-","-","-","-","-","-",10999,4,8800,8,"-","-","-","-","-","-","-","-","-","-","-","-","-","-","-","-","-","-","-","-","-","-","-","-","-","-",82497,1,"-","-","-","-","-","-",107012,1,"-","-","-","-","-","-","-","-","-","-","-","-","-","-","-","-","-","-","-","-",40517,1,75969,1,"-",1,"-","-","-","-","-",1,971537,{"$f":"INDEX('Aircraft IDs'!A:G,MATCH(A32,'Aircraft IDs'!A:A,0),7)","v":"Gulfstream"}]
[60,"Business Jet","Large Jet","G550","Gulfstream G550","Rolls-Royce BR710","-","-",37353,1,"-","-",8965,1,"-","-","-","-","-","-","-","-","-","-",17612,2,"-","-","-","-","-","-","-","-",14677,1,"-","-",21526,2,"-","-","-","-","-","-","-","-","-","-","-","-","-","-","-","-","-","-","-","-",21526,3,24461,3,"-","-","-","-","-","-","-","-","-","-","-","-","-","-","-","-","-","-","-","-","-","-","-","-","-","-","-","-",34520,4,"-","-","-","-","-","-","-","-","-","-",17261,1,"-","-","-","-","-","-","-","-","-","-","-","-","-","-","-","-","-","-","-","-","-","-","-","-","-","-","-","-","-","-","-","-","-","-","-","-","-","-","-","-","-","-","-","-",8097,1,"-","-","-","-","-","-","-","-","-","-","-","-",40485,6,10121,2,35424,1,"-","-","-","-",8097,2,"-","-","-","-","-","-","-","-",25303,1,"-","-","-","-","-","-","-","-","-","-","-","-",54797,2,26094,2,"-","-",2119,1,15092,1,18250,1,3773,1,"-","-","-","-","-","-","-","-",93736,3,"-","-","-","-","-","-","-","-","-","-","-","-","-","-","-","-","-","-","-","-","-","-","-","-","-","-","-","-","-","-","-","-","-","-",26597,3,"-","-","-","-","-","-","-","-","-","-","-","-",35461,3,"-","-","-","-","-","-","-","-","-","-","-","-","-","-",17731,1,26597,1,"-","-","-","-","-","-",10999,4,8800,8,"-","-","-","-","-","-","-","-","-","-","-","-","-","-","-","-","-","-","-","-","-","-","-","-","-","-",82497,1,"-","-","-","-","-","-",107012,1,"-","-","-","-","-","-","-","-","-","-","-","-","-","-","-","-","-","-","-","-",40517,1,75969,1,"-",1,"-","-","-","-","-",1,971537,{"$f":"INDEX('Aircraft IDs'!A:G,MATCH(A33,'Aircraft IDs'!A:A,0),7)","v":"Gulfstream"}]
[63,"Business Jet","Large Jet","G650","Gulfstream G650","Rolls-Royce BR725","-","-",37353,1,"-","-",8965,1,"-","-","-","-","-","-","-","-","-","-",17612,2,"-","-","-","-","-","-","-","-",14677,1,"-","-",21526,2,"-","-","-","-","-","-","-","-","-","-","-","-","-","-","-","-","-","-","-","-",21526,3,24461,3,"-","-","-","-","-","-","-","-","-","-","-","-","-","-","-","-","-","-","-","-","-","-","-","-","-","-","-","-",34520,4,"-","-","-","-","-","-","-","-","-","-",17261,1,"-","-","-","-","-","-","-","-","-","-","-","-","-","-","-","-","-","-","-","-","-","-","-","-","-","-","-","-","-","-","-","-","-","-","-","-","-","-","-","-","-","-","-","-",8097,1,"-","-","-","-","-","-","-","-","-","-","-","-",40485,6,10121,2,35424,1,"-","-","-","-",8097,2,"-","-","-","-","-","-","-","-",25303,1,"-","-","-","-","-","-","-","-","-","-","-","-",54797,2,26094,2,"-","-",2119,1,15092,1,18250,1,3773,1,"-","-","-","-","-","-","-","-",93736,3,"-","-","-","-","-","-","-","-","-","-","-","-","-","-","-","-","-","-","-","-","-","-","-","-","-","-","-","-","-","-","-","-","-","-",26597,3,"-","-","-","-","-","-","-","-","-","-","-","-",35461,3,"-","-","-","-","-","-","-","-","-","-","-","-","-","-",17731,1,26597,1,"-","-","-","-","-","-",10999,4,8800,8,"-","-","-","-","-","-","-","-","-","-","-","-","-","-","-","-","-","-","-","-","-","-","-","-","-","-",82497,1,"-","-","-","-","-","-",107012,1,"-","-","-","-","-","-","-","-","-","-","-","-","-","-","-","-","-","-","-","-",40517,1,75969,1,"-",1,"-","-","-","-","-",1,971537,{"$f":"INDEX('Aircraft IDs'!A:G,MATCH(A34,'Aircraft IDs'!A:A,0),7)","v":"Gulfstream"}]
[598,"Business Jet","Large Jet","G700","Gulfstream G700","Rolls-Royce Pearl 700","-","-",37353,1,"-","-",8965,1,"-","-","-","-","-","-","-","-","-","-",17612,2,"-","-","-","-","-","-","-","-",14677,1,"-","-",21526,2,"-","-","-","-","-","-","-","-","-","-","-","-","-","-","-","-","-","-","-","-",21526,3,24461,3,"-","-","-","-","-","-","-","-","-","-","-","-","-","-","-","-","-","-","-","-","-","-","-","-","-","-","-","-",34520,4,"-","-","-","-","-","-","-","-","-","-",17261,1,"-","-","-","-","-","-","-","-","-","-","-","-","-","-","-","-","-","-","-","-","-","-","-","-","-","-","-","-","-","-","-","-","-","-","-","-","-","-","-","-","-","-","-","-",8097,1,"-","-","-","-","-","-","-","-","-","-","-","-",40485,6,10121,2,35424,1,"-","-","-","-",8097,2,"-","-","-","-","-","-","-","-",25303,1,"-","-","-","-","-","-","-","-","-","-","-","-",54797,2,26094,2,"-","-",2119,1,15092,1,18250,1,3773,1,"-","-","-","-","-","-","-","-",93736,3,"-","-","-","-","-","-","-","-","-","-","-","-","-","-","-","-","-","-","-","-","-","-","-","-","-","-","-","-","-","-","-","-","-","-",26597,3,"-","-","-","-","-","-","-","-","-","-","-","-",35461,3,"-","-","-","-","-","-","-","-","-","-","-","-","-","-",17731,1,26597,1,"-","-","-","-","-","-",10999,4,8800,8,"-","-","-","-","-","-","-","-","-","-","-","-","-","-","-","-","-","-","-","-","-","-","-","-","-","-",82497,1,"-","-","-","-","-","-",107012,1,"-","-","-","-","-","-","-","-","-","-","-","-","-","-","-","-","-","-","-","-",40517,1,75969,1,"-",1,"-","-","-","-","-",1,971537,{"$f":"INDEX('Aircraft IDs'!A:G,MATCH(A35,'Aircraft IDs'!A:A,0),7)","v":"Gulfstream"}]
[670,"Business Jet","Large Jet","G800","Gulfstream G800","Rolls-Royce Pearl 700","-","-",39221,1,"-","-",9413,1,"-","-","-","-","-","-","-","-","-","-",18493,2,"-","-","-","-","-","-","-","-",15411,1,"-","-",22602,2,"-","-","-","-","-","-","-","-","-","-","-","-","-","-","-","-","-","-","-","-",22602,3,25684,3,"-","-","-","-","-","-","-","-","-","-","-","-","-","-","-","-","-","-","-","-","-","-","-","-","-","-","-","-",36246,4,"-","-","-","-","-","-","-","-","-","-",18124,1,"-","-","-","-","-","-","-","-","-","-","-","-","-","-","-","-","-","-","-","-","-","-","-","-","-","-","-","-","-","-","-","-","-","-","-","-","-","-","-","-","-","-","-","-",8502,1,"-","-","-","-","-","-","-","-","-","-","-","-",42509,6,10627,2,37195,1,"-","-","-","-",8502,2,"-","-","-","-","-","-","-","-",26568,1,"-","-","-","-","-","-","-","-","-","-","-","-",57537,2,27399,2,"-","-",2225,1,15847,1,19163,1,3962,1,"-","-","-","-","-","-","-","-",98423,3,"-","-","-","-","-","-","-","-","-","-","-","-","-","-","-","-","-","-","-","-","-","-","-","-","-","-","-","-","-","-","-","-","-","-",27927,3,"-","-","-","-","-","-","-","-","-","-","-","-",37234,3,"-","-","-","-","-","-","-","-","-","-","-","-","-","-",18618,1,27927,1,"-","-","-","-","-","-",11549,4,9240,8,"-","-","-","-","-","-","-","-","-","-","-","-","-","-","-","-","-","-","-","-","-","-","-","-","-","-",86622,1,"-","-","-","-","-","-",112363,1,"-","-","-","-","-","-","-","-","-","-","-","-","-","-","-","-","-","-","-","-",42543,1,79767,1,"-",1,"-","-","-","-","-",1,1020113,{"$f":"INDEX('Aircraft IDs'!A:G,MATCH(A36,'Aircraft IDs'!A:A,0),7)","v":"Gulfstream"}]
[38,"Business Jet","Large Jet","Global 7000","Bombardier Global 7500/8000","General Electric Passport","-","-",37353,1,"-","-",8965,1,"-","-","-","-","-","-","-","-","-","-",17612,2,"-","-","-","-","-","-","-","-",14677,1,"-","-",21526,2,"-","-","-","-","-","-","-","-","-","-","-","-","-","-","-","-","-","-","-","-",21526,3,24461,3,"-","-","-","-","-","-","-","-","-","-","-","-","-","-","-","-","-","-","-","-","-","-","-","-","-","-","-","-",34520,4,"-","-","-","-","-","-","-","-","-","-",17261,1,"-","-","-","-","-","-","-","-","-","-","-","-","-","-","-","-","-","-","-","-","-","-","-","-","-","-","-","-","-","-","-","-","-","-","-","-","-","-","-","-","-","-","-","-",8097,1,"-","-","-","-","-","-","-","-","-","-","-","-",40485,6,10121,2,35424,1,"-","-","-","-",8097,2,"-","-","-","-","-","-","-","-",25303,1,"-","-","-","-","-","-","-","-","-","-","-","-",54797,2,26094,2,"-","-",2119,1,15092,1,18250,1,3773,1,"-","-",72906,2,41660,1,"-","-",93736,3,"-","-","-","-","-","-","-","-","-","-","-","-","-","-","-","-","-","-","-","-","-","-","-","-","-","-","-","-","-","-","-","-","-","-",26597,3,"-","-","-","-","-","-","-","-","-","-","-","-",35461,3,"-","-","-","-","-","-","-","-","-","-","-","-","-","-",17731,1,26597,1,"-","-","-","-","-","-",10999,4,8800,8,"-","-","-","-","-","-","-","-","-","-","-","-","-","-","-","-","-","-","-","-","-","-","-","-","-","-",82497,1,"-","-","-","-","-","-",107012,1,"-","-","-","-","-","-","-","-","-","-","-","-","-","-","-","-","-","-","-","-",40517,1,75969,1,"-",1,"-","-","-","-","-",1,1086106,{"$f":"INDEX('Aircraft IDs'!A:G,MATCH(A37,'Aircraft IDs'!A:A,0),7)","v":"Global"}]
[36,"Business Jet","Large Jet","Global Express - 5000/6000","Bombardier Global 5000","Rolls-Royce BR710","-","-",37353,1,"-","-",8965,1,"-","-","-","-","-","-","-","-","-","-",17612,2,"-","-","-","-","-","-","-","-",14677,1,"-","-",21526,2,"-","-","-","-","-","-","-","-","-","-","-","-","-","-","-","-","-","-","-","-",21526,3,24461,3,"-","-","-","-","-","-","-","-","-","-","-","-","-","-","-","-","-","-","-","-","-","-","-","-","-","-","-","-",34520,4,"-","-","-","-","-","-","-","-","-","-",17261,1,"-","-","-","-","-","-","-","-","-","-","-","-","-","-","-","-","-","-","-","-","-","-","-","-","-","-","-","-","-","-","-","-","-","-","-","-","-","-","-","-","-","-","-","-",8097,1,"-","-","-","-","-","-","-","-","-","-","-","-",40485,6,10121,2,35424,1,"-","-","-","-",8097,2,"-","-","-","-","-","-","-","-",25303,1,"-","-","-","-","-","-","-","-","-","-","-","-",54797,2,26094,2,"-","-",2119,1,15092,1,18250,1,3773,1,"-","-",72906,2,41660,1,"-","-",93736,3,"-","-","-","-","-","-","-","-","-","-","-","-","-","-","-","-","-","-","-","-","-","-","-","-","-","-","-","-","-","-","-","-","-","-",26597,3,"-","-","-","-","-","-","-","-","-","-","-","-",35461,3,"-","-","-","-","-","-","-","-","-","-","-","-","-","-",17731,1,26597,1,"-","-","-","-","-","-",10999,4,8800,8,"-","-","-","-","-","-","-","-","-","-","-","-","-","-","-","-","-","-","-","-","-","-","-","-","-","-",82497,1,"-","-","-","-","-","-",107012,1,"-","-","-","-","-","-","-","-","-","-","-","-","-","-","-","-","-","-","-","-",40517,1,75969,1,"-",1,"-","-","-","-","-",1,1086106,{"$f":"INDEX('Aircraft IDs'!A:G,MATCH(A38,'Aircraft IDs'!A:A,0),7)","v":"Global"}]
[576,"Business Jet","Large Jet","Global Express - 5000/6000","Bombardier Global 5500","Rolls-Royce Pearl 15","-","-",37353,1,"-","-",8965,1,"-","-","-","-","-","-","-","-","-","-",17612,2,"-","-","-","-","-","-","-","-",14677,1,"-","-",21526,2,"-","-","-","-","-","-","-","-","-","-","-","-","-","-","-","-","-","-","-","-",21526,3,24461,3,"-","-","-","-","-","-","-","-","-","-","-","-","-","-","-","-","-","-","-","-","-","-","-","-","-","-","-","-",34520,4,"-","-","-","-","-","-","-","-","-","-",17261,1,"-","-","-","-","-","-","-","-","-","-","-","-","-","-","-","-","-","-","-","-","-","-","-","-","-","-","-","-","-","-","-","-","-","-","-","-","-","-","-","-","-","-","-","-",8097,1,"-","-","-","-","-","-","-","-","-","-","-","-",40485,6,10121,2,35424,1,"-","-","-","-",8097,2,"-","-","-","-","-","-","-","-",25303,1,"-","-","-","-","-","-","-","-","-","-","-","-",54797,2,26094,2,"-","-",2119,1,15092,1,18250,1,3773,1,"-","-",72906,2,41660,1,"-","-",93736,3,"-","-","-","-","-","-","-","-","-","-","-","-","-","-","-","-","-","-","-","-","-","-","-","-","-","-","-","-","-","-","-","-","-","-",26597,3,"-","-","-","-","-","-","-","-","-","-","-","-",35461,3,"-","-","-","-","-","-","-","-","-","-","-","-","-","-",17731,1,26597,1,"-","-","-","-","-","-",10999,4,8800,8,"-","-","-","-","-","-","-","-","-","-","-","-","-","-","-","-","-","-","-","-","-","-","-","-","-","-",82497,1,"-","-","-","-","-","-",107012,1,"-","-","-","-","-","-","-","-","-","-","-","-","-","-","-","-","-","-","-","-",40517,1,75969,1,"-",1,"-","-","-","-","-",1,1086106,{"$f":"INDEX('Aircraft IDs'!A:G,MATCH(A39,'Aircraft IDs'!A:A,0),7)","v":"Global"}]
[37,"Business Jet","Large Jet","Global Express - 5000/6000","Bombardier Global 6000","Rolls-Royce BR710","-","-",37353,1,"-","-",8965,1,"-","-","-","-","-","-","-","-","-","-",17612,2,"-","-","-","-","-","-","-","-",14677,1,"-","-",21526,2,"-","-","-","-","-","-","-","-","-","-","-","-","-","-","-","-","-","-","-","-",21526,3,24461,3,"-","-","-","-","-","-","-","-","-","-","-","-","-","-","-","-","-","-","-","-","-","-","-","-","-","-","-","-",34520,4,"-","-","-","-","-","-","-","-","-","-",17261,1,"-","-","-","-","-","-","-","-","-","-","-","-","-","-","-","-","-","-","-","-","-","-","-","-","-","-","-","-","-","-","-","-","-","-","-","-","-","-","-","-","-","-","-","-",8097,1,"-","-","-","-","-","-","-","-","-","-","-","-",40485,6,10121,2,35424,1,"-","-","-","-",8097,2,"-","-","-","-","-","-","-","-",25303,1,"-","-","-","-","-","-","-","-","-","-","-","-",54797,2,26094,2,"-","-",2119,1,15092,1,18250,1,3773,1,"-","-",72906,2,41660,1,"-","-",93736,3,"-","-","-","-","-","-","-","-","-","-","-","-","-","-","-","-","-","-","-","-","-","-","-","-","-","-","-","-","-","-","-","-","-","-",26597,3,"-","-","-","-","-","-","-","-","-","-","-","-",35461,3,"-","-","-","-","-","-","-","-","-","-","-","-","-","-",17731,1,26597,1,"-","-","-","-","-","-",10999,4,8800,8,"-","-","-","-","-","-","-","-","-","-","-","-","-","-","-","-","-","-","-","-","-","-","-","-","-","-",82497,1,"-","-","-","-","-","-",107012,1,"-","-","-","-","-","-","-","-","-","-","-","-","-","-","-","-","-","-","-","-",40517,1,75969,1,"-",1,"-","-","-","-","-",1,1086106,{"$f":"INDEX('Aircraft IDs'!A:G,MATCH(A40,'Aircraft IDs'!A:A,0),7)","v":"Global"}]
[577,"Business Jet","Large Jet","Global Express - 5000/6000","Bombardier Global 6500","Rolls-Royce Pearl 15","-","-",37353,1,"-","-",8965,1,"-","-","-","-","-","-","-","-","-","-",17612,2,"-","-","-","-","-","-","-","-",14677,1,"-","-",21526,2,"-","-","-","-","-","-","-","-","-","-","-","-","-","-","-","-","-","-","-","-",21526,3,24461,3,"-","-","-","-","-","-","-","-","-","-","-","-","-","-","-","-","-","-","-","-","-","-","-","-","-","-","-","-",34520,4,"-","-","-","-","-","-","-","-","-","-",17261,1,"-","-","-","-","-","-","-","-","-","-","-","-","-","-","-","-","-","-","-","-","-","-","-","-","-","-","-","-","-","-","-","-","-","-","-","-","-","-","-","-","-","-","-","-",8097,1,"-","-","-","-","-","-","-","-","-","-","-","-",40485,6,10121,2,35424,1,"-","-","-","-",8097,2,"-","-","-","-","-","-","-","-",25303,1,"-","-","-","-","-","-","-","-","-","-","-","-",54797,2,26094,2,"-","-",2119,1,15092,1,18250,1,3773,1,"-","-",72906,2,41660,1,"-","-",93736,3,"-","-","-","-","-","-","-","-","-","-","-","-","-","-","-","-","-","-","-","-","-","-","-","-","-","-","-","-","-","-","-","-","-","-",26597,3,"-","-","-","-","-","-","-","-","-","-","-","-",35461,3,"-","-","-","-","-","-","-","-","-","-","-","-","-","-",17731,1,26597,1,"-","-","-","-","-","-",10999,4,8800,8,"-","-","-","-","-","-","-","-","-","-","-","-","-","-","-","-","-","-","-","-","-","-","-","-","-","-",82497,1,"-","-","-","-","-","-",107012,1,"-","-","-","-","-","-","-","-","-","-","-","-","-","-","-","-","-","-","-","-",40517,1,75969,1,"-",1,"-","-","-","-","-",1,1086106,{"$f":"INDEX('Aircraft IDs'!A:G,MATCH(A41,'Aircraft IDs'!A:A,0),7)","v":"Global"}]
[74,"Business Jet","Large Jet","Legacy 600/650","Embraer Legacy 600/650","Rolls-Royce AE 3007","-","-",37353,1,"-","-",8965,1,"-","-","-","-","-","-","-","-","-","-",17612,2,"-","-","-","-","-","-","-","-",14677,1,"-","-",21526,2,"-","-","-","-","-","-","-","-","-","-","-","-","-","-","-","-","-","-","-","-",21526,3,24461,3,"-","-","-","-","-","-","-","-","-","-","-","-","-","-","-","-","-","-","-","-","-","-","-","-","-","-","-","-",34520,4,"-","-","-","-","-","-","-","-","-","-",17261,1,"-","-","-","-","-","-","-","-","-","-","-","-","-","-","-","-","-","-","-","-","-","-","-","-","-","-","-","-","-","-","-","-","-","-","-","-","-","-","-","-","-","-","-","-",8097,1,"-","-","-","-","-","-","-","-","-","-","-","-",40485,6,10121,2,35424,1,"-","-","-","-",8097,2,"-","-","-","-","-","-","-","-",25303,1,"-","-","-","-","-","-","-","-","-","-","-","-",54797,2,26094,2,"-","-",2119,1,15092,1,18250,1,3773,1,"-","-","-","-","-","-","-","-",93736,3,"-","-","-","-","-","-","-","-","-","-","-","-","-","-","-","-","-","-","-","-","-","-","-","-","-","-","-","-","-","-","-","-","-","-",26597,3,"-","-","-","-","-","-","-","-","-","-","-","-",35461,3,"-","-","-","-","-","-","-","-","-","-","-","-","-","-",17731,1,26597,1,"-","-","-","-","-","-",10999,4,8800,8,"-","-","-","-","-","-","-","-","-","-","-","-","-","-","-","-","-","-","-","-","-","-","-","-","-","-",82497,1,"-","-","-","-","-","-",107012,1,"-","-","-","-","-","-","-","-","-","-","-","-","-","-","-","-","-","-","-","-",40517,1,75969,1,"-",1,"-","-","-","-","-",1,971537,{"$f":"INDEX('Aircraft IDs'!A:G,MATCH(A42,'Aircraft IDs'!A:A,0),7)","v":"EMB Bizjet"}]
[652,"Business Jet","Large Jet","Legacy 700","Embraer legacy 700","Rolls-Royce Pearl 15","-","-",37353,1,"-","-",8965,1,"-","-","-","-","-","-","-","-","-","-",17612,2,"-","-","-","-","-","-","-","-",14677,1,"-","-",21526,2,"-","-","-","-","-","-","-","-","-","-","-","-","-","-","-","-","-","-","-","-",21526,3,24461,3,"-","-","-","-","-","-","-","-","-","-","-","-","-","-","-","-","-","-","-","-","-","-","-","-","-","-","-","-",34520,4,"-","-","-","-","-","-","-","-","-","-",17261,1,"-","-","-","-","-","-","-","-","-","-","-","-","-","-","-","-","-","-","-","-","-","-","-","-","-","-","-","-","-","-","-","-","-","-","-","-","-","-","-","-","-","-","-","-",8097,1,"-","-","-","-","-","-","-","-","-","-","-","-",40485,6,10121,2,35424,1,"-","-","-","-",8097,2,"-","-","-","-","-","-","-","-",25303,1,"-","-","-","-","-","-","-","-","-","-","-","-",54797,2,26094,2,"-","-",2119,1,15092,1,18250,1,3773,1,"-","-","-","-","-","-","-","-",93736,3,"-","-","-","-","-","-","-","-","-","-","-","-","-","-","-","-","-","-","-","-","-","-","-","-","-","-","-","-","-","-","-","-","-","-",26597,3,"-","-","-","-","-","-","-","-","-","-","-","-",35461,3,"-","-","-","-","-","-","-","-","-","-","-","-","-","-",17731,1,26597,1,"-","-","-","-","-","-",10999,4,8800,8,"-","-","-","-","-","-","-","-","-","-","-","-","-","-","-","-","-","-","-","-","-","-","-","-","-","-",82497,1,"-","-","-","-","-","-",107012,1,"-","-","-","-","-","-","-","-","-","-","-","-","-","-","-","-","-","-","-","-",40517,1,75969,1,"-",1,"-","-","-","-","-",1,971537,{"$f":"INDEX('Aircraft IDs'!A:G,MATCH(A43,'Aircraft IDs'!A:A,0),7)","v":"EMB Bizjet"}]
[73,"Business Jet","Large Jet","Lineage 1000","Embraer Lineage 1000","General Electric CF34-10E","-","-",37353,1,"-","-",8965,1,"-","-","-","-","-","-","-","-","-","-",17612,2,"-","-","-","-","-","-","-","-",14677,1,"-","-",21526,2,"-","-","-","-","-","-","-","-","-","-","-","-","-","-","-","-","-","-","-","-",21526,3,24461,3,"-","-","-","-","-","-","-","-","-","-","-","-","-","-","-","-","-","-","-","-","-","-","-","-","-","-","-","-",34520,4,"-","-","-","-","-","-","-","-","-","-",17261,1,"-","-","-","-","-","-","-","-","-","-","-","-","-","-","-","-","-","-","-","-","-","-","-","-","-","-","-","-","-","-","-","-","-","-","-","-","-","-","-","-","-","-","-","-",8097,1,"-","-","-","-","-","-","-","-","-","-","-","-",40485,6,10121,2,35424,1,"-","-","-","-",8097,2,"-","-","-","-","-","-","-","-",25303,1,"-","-","-","-","-","-","-","-","-","-","-","-",54797,2,26094,2,"-","-",2322,1,16538,1,20000,1,4134,1,"-","-","-","-","-","-","-","-",93736,3,"-","-","-","-","-","-","-","-","-","-","-","-","-","-","-","-","-","-","-","-","-","-","-","-","-","-","-","-","-","-","-","-","-","-",26597,3,"-","-","-","-","-","-","-","-","-","-","-","-",35461,3,"-","-","-","-","-","-","-","-","-","-","-","-","-","-",17731,1,26597,1,"-","-","-","-","-","-",10999,4,8800,8,"-","-","-","-","-","-","-","-","-","-","-","-","-","-","-","-","-","-","-","-","-","-","-","-","-","-",82497,1,"-","-","-","-","-","-",107012,1,"-","-","-","-","-","-","-","-","-","-","-","-","-","-","-","-","-","-","-","-",40517,1,75969,1,"-",1,"-","-","-","-","-",1,975297,{"$f":"INDEX('Aircraft IDs'!A:G,MATCH(A44,'Aircraft IDs'!A:A,0),7)","v":"EMB Bizjet"}]
[678,"Business Jet","Large Jet","Wide body VIP","Airbus ACJ330-200","Rolls-Royce Trent 700",11206,2,59764,1,"-","-","-","-",17612,2,"-","-",24461,1,"-","-","-","-","-","-","-","-","-","-","-","-","-","-",17612,1,"-","-","-","-",17612,2,17612,3,"-","-",4893,1,24461,1,"-","-","-","-","-","-","-","-","-","-","-","-","-","-",7828,3,34245,3,"-","-","-","-",48922,1,"-","-","-","-","-","-","-","-","-","-","-","-","-","-","-","-",34520,2,46027,1,"-","-","-","-","-","-",34520,2,"-","-",23014,1,"-","-","-","-","-","-","-","-",20712,1,"-","-",28767,1,"-","-","-","-",10121,1,10121,1,"-","-","-","-",25303,2,"-","-","-","-",70849,3,"-","-","-","-","-","-","-","-",15182,1,"-","-",25303,1,"-","-","-","-","-","-",30364,1,"-","-","-","-",70849,6,"-","-","-","-","-","-","-","-","-","-","-","-","-","-","-","-","-","-",30364,2,"-","-","-","-","-","-","-","-",52188,2,97461,2,41750,3,31313,1,3890,1,27702,1,33500,1,6926,1,104151,2,"-","-","-","-","-","-","-","-","-","-","-","-","-","-","-","-","-","-","-","-","-","-","-","-","-","-","-","-","-","-","-","-","-","-","-","-","-","-",44327,3,"-","-",10638,8,"-","-","-","-","-","-","-","-","-","-","-","-","-","-","-","-","-","-","-","-","-","-",44327,2,"-","-","-","-",15958,2,"-","-","-","-",13298,2,"-","-",10999,8,"-","-","-","-","-","-","-","-","-","-","-","-","-","-","-","-","-","-","-","-","-","-","-","-","-","-","-","-",44879,1,8800,6,82497,1,49498,1,190104,1,"-","-","-","-",35452,2,"-","-","-","-","-","-",45581,1,"-","-","-","-","-","-","-","-","-","-","-","-","-","-","-","-","-","-",1757582,{"$f":"INDEX('Aircraft IDs'!A:G,MATCH(A45,'Aircraft IDs'!A:A,0),7)","v":"A320"}]
[298,"Business Jet","Large Jet","Wide body VIP","Boeing BBJ 777","General Electric GE90-115B",11206,2,59764,1,"-","-",48559,2,"-","-",11741,2,"-","-","-","-","-","-","-","-","-","-","-","-","-","-","-","-",19569,1,24461,1,"-","-",17612,2,17612,2,"-","-",4893,1,19569,1,"-","-",34245,1,"-","-","-","-","-","-","-","-","-","-",7828,1,"-","-","-","-",24461,2,48922,1,"-","-","-","-","-","-","-","-","-","-","-","-","-","-","-","-",34520,2,"-","-","-","-","-","-","-","-",34520,2,9205,1,23014,1,"-","-","-","-","-","-","-","-",27616,1,"-","-",28767,1,20243,1,"-","-","-","-",10121,1,50606,1,"-","-","-","-","-","-","-","-",50606,2,"-","-","-","-","-","-","-","-",20243,1,"-","-",30364,1,"-","-",111333,2,"-","-",35424,1,"-","-","-","-",85018,5,"-","-","-","-","-","-","-","-","-","-","-","-","-","-","-","-","-","-","-","-","-","-","-","-","-","-","-","-","-","-",117423,2,41750,2,15657,1,4470,1,31837,1,38500,1,7959,1,78114,2,182270,2,156228,1,"-","-","-","-","-","-","-","-",26038,14,"-","-","-","-","-","-","-","-","-","-","-","-","-","-","-","-","-","-","-","-","-","-","-","-","-","-",31029,2,13298,6,"-","-","-","-",10638,2,"-","-","-","-","-","-","-","-","-","-",13298,2,"-","-",39894,2,44327,2,"-","-","-","-",13298,2,"-","-","-","-","-","-","-","-",13200,14,"-","-","-","-","-","-","-","-","-","-","-","-","-","-","-","-","-","-","-","-","-","-","-","-","-","-","-","-","-","-","-","-",82497,1,49498,1,261865,1,"-","-","-","-",42542,2,"-","-","-","-","-","-",48620,1,"-","-",43555,1,"-","-","-","-","-","-","-","-","-",1,"-",1,"-",1,2329960,{"$f":"INDEX('Aircraft IDs'!A:G,MATCH(A46,'Aircraft IDs'!A:A,0),7)","v":"B777"}]
[553,"Business Jet","Large Jet","Wide body VIP","Boeing BBJ 777X","General Electric GE9X",22412,2,59764,1,"-","-","-","-","-","-",17612,2,24461,1,"-","-","-","-","-","-","-","-","-","-","-","-","-","-",17612,1,"-","-","-","-",17612,2,17612,3,"-","-",4893,1,24461,1,"-","-","-","-","-","-","-","-","-","-","-","-","-","-",7828,3,34245,3,"-","-","-","-",48922,1,"-","-","-","-","-","-","-","-","-","-","-","-","-","-","-","-",34520,2,46027,1,"-","-","-","-","-","-",34520,2,"-","-",23014,1,"-","-","-","-","-","-","-","-",20712,1,"-","-",28767,1,"-","-","-","-",10121,1,10121,1,"-","-","-","-",25303,2,"-","-","-","-",70849,3,"-","-","-","-","-","-","-","-",15182,1,"-","-",25303,1,"-","-","-","-","-","-",30364,1,"-","-","-","-",70849,6,"-","-","-","-","-","-","-","-","-","-","-","-","-","-","-","-","-","-",30364,2,"-","-","-","-","-","-","-","-",52188,2,97461,2,41750,3,31313,1,6169,1,43931,1,53125,1,10982,1,104151,2,"-","-","-","-","-","-","-","-","-","-","-","-","-","-","-","-","-","-","-","-","-","-","-","-","-","-","-","-","-","-","-","-","-","-","-","-","-","-",44327,3,"-","-",10638,8,"-","-","-","-","-","-","-","-","-","-","-","-","-","-","-","-","-","-","-","-","-","-",44327,2,"-","-","-","-",15958,2,"-","-","-","-",13298,2,"-","-",10999,8,"-","-","-","-","-","-","-","-","-","-","-","-","-","-","-","-","-","-","-","-","-","-","-","-","-","-","-","-","-","-",8800,6,82497,1,49498,1,190104,1,"-","-","-","-",35452,2,"-","-","-","-","-","-",45581,1,"-","-","-","-","-","-","-","-","-","-","-","-","-",1,"-",1,"-",1,1766100,{"$f":"INDEX('Aircraft IDs'!A:G,MATCH(A47,'Aircraft IDs'!A:A,0),7)","v":"B777"}]
[554,"Business Jet","Large Jet","Wide body VIP","Boeing BBJ 787","General Electric GEnx-1B",11206,2,59764,1,"-","-",48559,2,"-","-",11741,2,"-","-","-","-","-","-","-","-","-","-","-","-","-","-","-","-",19569,1,24461,1,"-","-",17612,2,17612,2,"-","-",4893,1,19569,1,"-","-",34245,1,"-","-","-","-","-","-","-","-","-","-",7828,1,"-","-","-","-",24461,2,48922,1,"-","-","-","-","-","-","-","-","-","-","-","-","-","-","-","-",34520,2,"-","-","-","-","-","-","-","-",34520,2,9205,1,23014,1,"-","-","-","-","-","-","-","-",27616,1,"-","-",28767,1,20243,1,"-","-","-","-",10121,1,50606,1,"-","-","-","-","-","-","-","-",50606,2,"-","-","-","-","-","-","-","-",20243,1,"-","-",30364,1,"-","-",111333,2,"-","-",35424,1,"-","-","-","-",85018,5,"-","-","-","-","-","-","-","-","-","-","-","-","-","-","-","-","-","-","-","-","-","-","-","-","-","-","-","-","-","-",117423,2,41750,2,15657,1,6038,1,43000,1,52000,1,10750,1,78114,2,182270,2,156228,1,"-","-","-","-","-","-","-","-",26038,14,"-","-","-","-","-","-","-","-","-","-","-","-","-","-","-","-","-","-","-","-","-","-","-","-","-","-",31029,2,13298,6,"-","-","-","-",10638,2,"-","-","-","-","-","-","-","-","-","-",13298,2,"-","-",39894,2,44327,2,"-","-","-","-",13298,2,"-","-","-","-","-","-","-","-",13200,14,"-","-","-","-","-","-","-","-","-","-","-","-","-","-","-","-","-","-","-","-","-","-","-","-","-","-","-","-","-","-","-","-",82497,1,49498,1,261865,1,"-","-","-","-",42542,2,"-","-","-","-","-","-",48620,1,"-","-",43555,1,"-","-","-","-","-","-","-","-","-",1,"-",1,"-",1,2358982,{"$f":"INDEX('Aircraft IDs'!A:G,MATCH(A48,'Aircraft IDs'!A:A,0),7)","v":"B787"}]
[555,"Business Jet","Large Jet","Wide body VIP","Boeing BBJ 787","Rolls-Royce Trent 1000",11206,2,59764,1,"-","-",48559,2,"-","-",11741,2,"-","-","-","-","-","-","-","-","-","-","-","-","-","-","-","-",19569,1,24461,1,"-","-",17612,2,17612,2,"-","-",4893,1,19569,1,"-","-",34245,1,"-","-","-","-","-","-","-","-","-","-",7828,1,"-","-","-","-",24461,2,48922,1,"-","-","-","-","-","-","-","-","-","-","-","-","-","-","-","-",34520,2,"-","-","-","-","-","-","-","-",34520,2,9205,1,23014,1,"-","-","-","-","-","-","-","-",27616,1,"-","-",28767,1,20243,1,"-","-","-","-",10121,1,50606,1,"-","-","-","-","-","-","-","-",50606,2,"-","-","-","-","-","-","-","-",20243,1,"-","-",30364,1,"-","-",111333,2,"-","-",35424,1,"-","-","-","-",85018,5,"-","-","-","-","-","-","-","-","-","-","-","-","-","-","-","-","-","-","-","-","-","-","-","-","-","-","-","-","-","-",117423,2,41750,2,15657,1,6038,1,43000,1,52000,1,10750,1,78114,2,182270,2,156228,1,"-","-","-","-","-","-","-","-",26038,14,"-","-","-","-","-","-","-","-","-","-","-","-","-","-","-","-","-","-","-","-","-","-","-","-","-","-",31029,2,13298,6,"-","-","-","-",10638,2,"-","-","-","-","-","-","-","-","-","-",13298,2,"-","-",39894,2,44327,2,"-","-","-","-",13298,2,"-","-","-","-","-","-","-","-",13200,14,"-","-","-","-","-","-","-","-","-","-","-","-","-","-","-","-","-","-","-","-","-","-","-","-","-","-","-","-","-","-","-","-","-","-",49498,1,261865,1,"-","-","-","-",42542,2,"-","-","-","-","-","-",48620,1,"-","-",43555,1,"-","-","-","-","-","-","-","-","-",1,"-",1,"-",1,2276484,{"$f":"INDEX('Aircraft IDs'!A:G,MATCH(A49,'Aircraft IDs'!A:A,0),7)","v":"B787"}]
[42,"Business Jet","Light Jet","Citation CJ3","Cessna Citation CJ3","Williams FJ44-3A","-","-",11475,1,"-","-",4590,1,"-","-","-","-","-","-","-","-","-","-",9017,2,"-","-","-","-","-","-","-","-",7515,1,"-","-",11134,2,"-","-","-","-","-","-","-","-","-","-","-","-","-","-","-","-","-","-","-","-",11021,3,12524,3,"-","-","-","-","-","-","-","-","-","-","-","-","-","-","-","-","-","-","-","-","-","-","-","-","-","-","-","-",17675,4,"-","-","-","-","-","-","-","-","-","-",8837,1,"-","-","-","-","-","-","-","-","-","-","-","-","-","-","-","-","-","-","-","-","-","-","-","-","-","-","-","-","-","-","-","-","-","-","-","-","-","-","-","-","-","-","-","-",4146,1,"-","-","-","-","-","-","-","-","-","-","-","-",20728,6,5182,2,18137,1,"-","-","-","-",4146,2,"-","-","-","-","-","-","-","-",12955,1,"-","-","-","-","-","-","-","-","-","-","-","-",24048,2,13360,2,"-","-",1306,1,9303,1,11250,1,2326,1,"-","-","-","-","-","-","-","-",38394,3,"-","-","-","-","-","-","-","-","-","-","-","-","-","-","-","-","-","-","-","-","-","-","-","-","-","-","-","-","-","-","-","-","-","-",13618,3,"-","-","-","-","-","-","-","-","-","-","-","-",18157,3,"-","-","-","-","-","-","-","-","-","-","-","-","-","-",9078,1,13298,1,"-","-","-","-","-","-",5632,4,3300,8,"-","-","-","-","-","-","-","-","-","-","-","-","-","-","-","-","-","-","-","-","-","-","-","-","-","-",30937,1,"-","-","-","-","-","-",50359,1,"-","-","-","-","-","-","-","-","-","-","-","-","-","-","-","-","-","-","-","-",20745,1,28488,1,"-",1,"-","-","-","-","-",1,452749,{"$f":"INDEX('Aircraft IDs'!A:G,MATCH(A50,'Aircraft IDs'!A:A,0),7)","v":"Citation"}]
[43,"Business Jet","Light Jet","Citation CJ4","Cessna Citation CJ4","Williams FJ44-4A","-","-",11475,1,"-","-",4590,1,"-","-","-","-","-","-","-","-","-","-",9017,2,"-","-","-","-","-","-","-","-",7515,1,"-","-",11134,2,"-","-","-","-","-","-","-","-","-","-","-","-","-","-","-","-","-","-","-","-",11021,3,12524,3,"-","-","-","-","-","-","-","-","-","-","-","-","-","-","-","-","-","-","-","-","-","-","-","-","-","-","-","-",17675,4,"-","-","-","-","-","-","-","-","-","-",8837,1,"-","-","-","-","-","-","-","-","-","-","-","-","-","-","-","-","-","-","-","-","-","-","-","-","-","-","-","-","-","-","-","-","-","-","-","-","-","-","-","-","-","-","-","-",4146,1,"-","-","-","-","-","-","-","-","-","-","-","-",20728,6,5182,2,18137,1,"-","-","-","-",4146,2,"-","-","-","-","-","-","-","-",12955,1,"-","-","-","-","-","-","-","-","-","-","-","-",24048,2,13360,2,"-","-",1306,1,9303,1,11250,1,2326,1,"-","-","-","-","-","-","-","-",38394,3,"-","-","-","-","-","-","-","-","-","-","-","-","-","-","-","-","-","-","-","-","-","-","-","-","-","-","-","-","-","-","-","-","-","-",13618,3,"-","-","-","-","-","-","-","-","-","-","-","-",18157,3,"-","-","-","-","-","-","-","-","-","-","-","-","-","-",9078,1,13298,1,"-","-","-","-","-","-",5632,4,3300,8,"-","-","-","-","-","-","-","-","-","-","-","-","-","-","-","-","-","-","-","-","-","-","-","-","-","-",30937,1,"-","-","-","-","-","-",50359,1,"-","-","-","-","-","-","-","-","-","-","-","-","-","-","-","-","-","-","-","-",20745,1,28488,1,"-",1,"-","-","-","-","-",1,452749,{"$f":"INDEX('Aircraft IDs'!A:G,MATCH(A51,'Aircraft IDs'!A:A,0),7)","v":"Citation"}]
[39,"Business Jet","Light Jet","Citation V","Cessna Citation Encore","Pratt & Whitney Canada JT15D","-","-",11475,1,"-","-",4590,1,"-","-","-","-","-","-","-","-","-","-",9017,2,"-","-","-","-","-","-","-","-",7515,1,"-","-",11134,2,"-","-","-","-","-","-","-","-","-","-","-","-","-","-","-","-","-","-","-","-",11021,3,12524,3,"-","-","-","-","-","-","-","-","-","-","-","-","-","-","-","-","-","-","-","-","-","-","-","-","-","-","-","-",17675,4,"-","-","-","-","-","-","-","-","-","-",8837,1,"-","-","-","-","-","-","-","-","-","-","-","-","-","-","-","-","-","-","-","-","-","-","-","-","-","-","-","-","-","-","-","-","-","-","-","-","-","-","-","-","-","-","-","-",4146,1,"-","-","-","-","-","-","-","-","-","-","-","-",20728,6,5182,2,18137,1,"-","-","-","-",4146,2,"-","-","-","-","-","-","-","-",12955,1,"-","-","-","-","-","-","-","-","-","-","-","-",24048,2,13360,2,"-","-",1306,1,9303,1,11250,1,2326,1,"-","-","-","-","-","-","-","-",38394,3,"-","-","-","-","-","-","-","-","-","-","-","-","-","-","-","-","-","-","-","-","-","-","-","-","-","-","-","-","-","-","-","-","-","-",13618,3,"-","-","-","-","-","-","-","-","-","-","-","-",18157,3,"-","-","-","-","-","-","-","-","-","-","-","-","-","-",9078,1,13298,1,"-","-","-","-","-","-",5632,4,3300,8,"-","-","-","-","-","-","-","-","-","-","-","-","-","-","-","-","-","-","-","-","-","-","-","-","-","-",30937,1,"-","-","-","-","-","-",50359,1,"-","-","-","-","-","-","-","-","-","-","-","-","-","-","-","-","-","-","-","-",20745,1,28488,1,"-",1,"-","-","-","-","-",1,452749,{"$f":"INDEX('Aircraft IDs'!A:G,MATCH(A52,'Aircraft IDs'!A:A,0),7)","v":"Citation"}]
[30,"Business Jet","Light Jet","Hawker 400","Hawker 400","Pratt & Whitney Canada JT15D","-","-",11475,1,"-","-",4590,1,"-","-","-","-","-","-","-","-","-","-",9017,2,"-","-","-","-","-","-","-","-",7515,1,"-","-",11134,2,"-","-","-","-","-","-","-","-","-","-","-","-","-","-","-","-","-","-","-","-",11021,3,12524,3,"-","-","-","-","-","-","-","-","-","-","-","-","-","-","-","-","-","-","-","-","-","-","-","-","-","-","-","-",17675,4,"-","-","-","-","-","-","-","-","-","-",8837,1,"-","-","-","-","-","-","-","-","-","-","-","-","-","-","-","-","-","-","-","-","-","-","-","-","-","-","-","-","-","-","-","-","-","-","-","-","-","-","-","-","-","-","-","-",4146,1,"-","-","-","-","-","-","-","-","-","-","-","-",20728,6,5182,2,18137,1,"-","-","-","-",4146,2,"-","-","-","-","-","-","-","-",12955,1,"-","-","-","-","-","-","-","-","-","-","-","-",24048,2,13360,2,"-","-",1306,1,9303,1,11250,1,2326,1,"-","-","-","-","-","-","-","-",38394,3,"-","-","-","-","-","-","-","-","-","-","-","-","-","-","-","-","-","-","-","-","-","-","-","-","-","-","-","-","-","-","-","-","-","-",13618,3,"-","-","-","-","-","-","-","-","-","-","-","-",18157,3,"-","-","-","-","-","-","-","-","-","-","-","-","-","-",9078,1,13298,1,"-","-","-","-","-","-",5632,4,3300,8,"-","-","-","-","-","-","-","-","-","-","-","-","-","-","-","-","-","-","-","-","-","-","-","-","-","-",30937,1,"-","-","-","-","-","-",50359,1,"-","-","-","-","-","-","-","-","-","-","-","-","-","-","-","-","-","-","-","-",20745,1,28488,1,"-",1,"-","-","-","-","-",1,452749,{"$f":"INDEX('Aircraft IDs'!A:G,MATCH(A53,'Aircraft IDs'!A:A,0),7)","v":"Hawker"}]
[56,"Business Jet","Light Jet","Phenom 300","Embraer Phenom 300","Pratt & Whitney Canada PW535E","-","-",11475,1,"-","-",4590,1,"-","-","-","-","-","-","-","-","-","-",9017,2,"-","-","-","-","-","-","-","-",7515,1,"-","-",11134,2,"-","-","-","-","-","-","-","-","-","-","-","-","-","-","-","-","-","-","-","-",11021,3,12524,3,"-","-","-","-","-","-","-","-","-","-","-","-","-","-","-","-","-","-","-","-","-","-","-","-","-","-","-","-",17675,4,"-","-","-","-","-","-","-","-","-","-",8837,1,"-","-","-","-","-","-","-","-","-","-","-","-","-","-","-","-","-","-","-","-","-","-","-","-","-","-","-","-","-","-","-","-","-","-","-","-","-","-","-","-","-","-","-","-",4146,1,"-","-","-","-","-","-","-","-","-","-","-","-",20728,6,5182,2,18137,1,"-","-","-","-",4146,2,"-","-","-","-","-","-","-","-",12955,1,"-","-","-","-","-","-","-","-","-","-","-","-",24048,2,13360,2,"-","-",1306,1,9303,1,11250,1,2326,1,"-","-","-","-","-","-","-","-",38394,3,"-","-","-","-","-","-","-","-","-","-","-","-","-","-","-","-","-","-","-","-","-","-","-","-","-","-","-","-","-","-","-","-","-","-",13618,3,"-","-","-","-","-","-","-","-","-","-","-","-",18157,3,"-","-","-","-","-","-","-","-","-","-","-","-","-","-",9078,1,13298,1,"-","-","-","-","-","-",5632,4,3300,8,"-","-","-","-","-","-","-","-","-","-","-","-","-","-","-","-","-","-","-","-","-","-","-","-","-","-",30937,1,"-","-","-","-","-","-",50359,1,"-","-","-","-","-","-","-","-","-","-","-","-","-","-","-","-","-","-","-","-",20745,1,28488,1,"-",1,"-","-","-","-","-",1,452749,{"$f":"INDEX('Aircraft IDs'!A:G,MATCH(A54,'Aircraft IDs'!A:A,0),7)","v":"Phenom"}]
[641,"Business Jet","Light Jet","Phenom 300X","Embraer Phenom 300X","Pratt & Whitney Canada PW535E","-","-",11475,1,"-","-",4590,1,"-","-","-","-","-","-","-","-","-","-",9017,2,"-","-","-","-","-","-","-","-",7515,1,"-","-",11134,2,"-","-","-","-","-","-","-","-","-","-","-","-","-","-","-","-","-","-","-","-",11021,3,12524,3,"-","-","-","-","-","-","-","-","-","-","-","-","-","-","-","-","-","-","-","-","-","-","-","-","-","-","-","-",17675,4,"-","-","-","-","-","-","-","-","-","-",8837,1,"-","-","-","-","-","-","-","-","-","-","-","-","-","-","-","-","-","-","-","-","-","-","-","-","-","-","-","-","-","-","-","-","-","-","-","-","-","-","-","-","-","-","-","-",4146,1,"-","-","-","-","-","-","-","-","-","-","-","-",20728,6,5182,2,18137,1,"-","-","-","-",4146,2,"-","-","-","-","-","-","-","-",12955,1,"-","-","-","-","-","-","-","-","-","-","-","-",24048,2,13360,2,"-","-",1306,1,9303,1,11250,1,2326,1,"-","-","-","-","-","-","-","-",38394,3,"-","-","-","-","-","-","-","-","-","-","-","-","-","-","-","-","-","-","-","-","-","-","-","-","-","-","-","-","-","-","-","-","-","-",13618,3,"-","-","-","-","-","-","-","-","-","-","-","-",18157,3,"-","-","-","-","-","-","-","-","-","-","-","-","-","-",9078,1,13298,1,"-","-","-","-","-","-",5632,4,3300,8,"-","-","-","-","-","-","-","-","-","-","-","-","-","-","-","-","-","-","-","-","-","-","-","-","-","-",30937,1,"-","-","-","-","-","-",50359,1,"-","-","-","-","-","-","-","-","-","-","-","-","-","-","-","-","-","-","-","-",20745,1,28488,1,"-",1,"-","-","-","-","-",1,452749,{"$f":"INDEX('Aircraft IDs'!A:G,MATCH(A55,'Aircraft IDs'!A:A,0),7)","v":"Phenom"}]
[34,"Business Jet","Mid Size Jet","Bombardier Challenger 300/350","Bombardier Challenger 300/350","Honeywell HTF7000 ","-","-",17929,1,"-","-",7172,1,"-","-","-","-","-","-","-","-","-","-",14090,2,"-","-","-","-","-","-","-","-",11741,1,"-","-",17395,2,"-","-","-","-","-","-","-","-","-","-","-","-","-","-","-","-","-","-","-","-",17221,3,19569,3,"-","-","-","-","-","-","-","-","-","-","-","-","-","-","-","-","-","-","-","-","-","-","-","-","-","-","-","-",27616,4,"-","-","-","-","-","-","-","-","-","-",13808,1,"-","-","-","-","-","-","-","-","-","-","-","-","-","-","-","-","-","-","-","-","-","-","-","-","-","-","-","-","-","-","-","-","-","-","-","-","-","-","-","-","-","-","-","-",6478,1,"-","-","-","-","-","-","-","-","-","-","-","-",32388,6,8097,2,28340,1,"-","-","-","-",6478,2,"-","-","-","-","-","-","-","-",20243,1,"-","-","-","-","-","-","-","-","-","-","-","-",37575,2,20876,2,"-","-",1800,1,12818,1,15500,1,3204,1,"-","-","-","-","-","-","-","-",59991,3,"-","-","-","-","-","-","-","-","-","-","-","-","-","-","-","-","-","-","-","-","-","-","-","-","-","-","-","-","-","-","-","-","-","-",21277,3,"-","-","-","-","-","-","-","-","-","-","-","-",28369,3,"-","-","-","-","-","-","-","-","-","-","-","-","-","-",14185,1,20833,1,"-","-","-","-","-","-",8800,4,7700,8,"-","-","-","-","-","-","-","-","-","-","-","-","-","-","-","-","-","-","-","-","-","-","-","-","-","-",61873,1,"-","-","-","-","-","-",79315,1,"-","-","-","-","-","-","-","-","-","-","-","-","-","-","-","-","-","-","-","-",32414,1,56977,1,"-",1,"-","-","-","-","-",1,732140,{"$f":"INDEX('Aircraft IDs'!A:G,MATCH(A56,'Aircraft IDs'!A:A,0),7)","v":"Challenger"}]
[649,"Business Jet","Mid Size Jet","Bombardier Challenger 3500","Bombardier Challenger 3500","Honeywell HTF7000 ","-","-",17929,1,"-","-",7172,1,"-","-","-","-","-","-","-","-","-","-",14090,2,"-","-","-","-","-","-","-","-",11741,1,"-","-",17395,2,"-","-","-","-","-","-","-","-","-","-","-","-","-","-","-","-","-","-","-","-",17221,3,19569,3,"-","-","-","-","-","-","-","-","-","-","-","-","-","-","-","-","-","-","-","-","-","-","-","-","-","-","-","-",27616,4,"-","-","-","-","-","-","-","-","-","-",13808,1,"-","-","-","-","-","-","-","-","-","-","-","-","-","-","-","-","-","-","-","-","-","-","-","-","-","-","-","-","-","-","-","-","-","-","-","-","-","-","-","-","-","-","-","-",6478,1,"-","-","-","-","-","-","-","-","-","-","-","-",32388,6,8097,2,28340,1,"-","-","-","-",6478,2,"-","-","-","-","-","-","-","-",20243,1,"-","-","-","-","-","-","-","-","-","-","-","-",37575,2,20876,2,"-","-",1800,1,12818,1,15500,1,3204,1,"-","-","-","-","-","-","-","-",59991,3,"-","-","-","-","-","-","-","-","-","-","-","-","-","-","-","-","-","-","-","-","-","-","-","-","-","-","-","-","-","-","-","-","-","-",21277,3,"-","-","-","-","-","-","-","-","-","-","-","-",28369,3,"-","-","-","-","-","-","-","-","-","-","-","-","-","-",14185,1,20833,1,"-","-","-","-","-","-",8800,4,7700,8,"-","-","-","-","-","-","-","-","-","-","-","-","-","-","-","-","-","-","-","-","-","-","-","-","-","-",61873,1,"-","-","-","-","-","-",79315,1,"-","-","-","-","-","-","-","-","-","-","-","-","-","-","-","-","-","-","-","-",32414,1,56977,1,"-",1,"-","-","-","-","-",1,732140,{"$f":"INDEX('Aircraft IDs'!A:G,MATCH(A57,'Aircraft IDs'!A:A,0),7)","v":"Challenger"}]
[46,"Business Jet","Mid Size Jet","Citation Latitude","Cessna Citation Latitude","Pratt & Whitney Canada PW306D","-","-",17929,1,"-","-",7172,1,"-","-","-","-","-","-","-","-","-","-",14090,2,"-","-","-","-","-","-","-","-",11741,1,"-","-",17395,2,"-","-","-","-","-","-","-","-","-","-","-","-","-","-","-","-","-","-","-","-",17221,3,19569,3,"-","-","-","-","-","-","-","-","-","-","-","-","-","-","-","-","-","-","-","-","-","-","-","-","-","-","-","-",27616,4,"-","-","-","-","-","-","-","-","-","-",13808,1,"-","-","-","-","-","-","-","-","-","-","-","-","-","-","-","-","-","-","-","-","-","-","-","-","-","-","-","-","-","-","-","-","-","-","-","-","-","-","-","-","-","-","-","-",6478,1,"-","-","-","-","-","-","-","-","-","-","-","-",32388,6,8097,2,28340,1,"-","-","-","-",6478,2,"-","-","-","-","-","-","-","-",20243,1,"-","-","-","-","-","-","-","-","-","-","-","-",37575,2,20876,2,"-","-",1452,1,10336,1,12500,1,2584,1,"-","-","-","-","-","-","-","-",59991,3,"-","-","-","-","-","-","-","-","-","-","-","-","-","-","-","-","-","-","-","-","-","-","-","-","-","-","-","-","-","-","-","-","-","-",21277,3,"-","-","-","-","-","-","-","-","-","-","-","-",28369,3,"-","-","-","-","-","-","-","-","-","-","-","-","-","-",14185,1,20833,1,"-","-","-","-","-","-",8800,4,7700,8,"-","-","-","-","-","-","-","-","-","-","-","-","-","-","-","-","-","-","-","-","-","-","-","-","-","-",61873,1,"-","-","-","-","-","-",79315,1,"-","-","-","-","-","-","-","-","-","-","-","-","-","-","-","-","-","-","-","-",32414,1,56977,1,"-",1,"-","-","-","-","-",1,725690,{"$f":"INDEX('Aircraft IDs'!A:G,MATCH(A58,'Aircraft IDs'!A:A,0),7)","v":"Citation"}]
[45,"Business Jet","Mid Size Jet","Citation Sovereign","Cessna Citation Sovereign","Pratt & Whitney Canada PW306D","-","-",17929,1,"-","-",7172,1,"-","-","-","-","-","-","-","-","-","-",14090,2,"-","-","-","-","-","-","-","-",11741,1,"-","-",17395,2,"-","-","-","-","-","-","-","-","-","-","-","-","-","-","-","-","-","-","-","-",17221,3,19569,3,"-","-","-","-","-","-","-","-","-","-","-","-","-","-","-","-","-","-","-","-","-","-","-","-","-","-","-","-",27616,4,"-","-","-","-","-","-","-","-","-","-",13808,1,"-","-","-","-","-","-","-","-","-","-","-","-","-","-","-","-","-","-","-","-","-","-","-","-","-","-","-","-","-","-","-","-","-","-","-","-","-","-","-","-","-","-","-","-",6478,1,"-","-","-","-","-","-","-","-","-","-","-","-",32388,6,8097,2,28340,1,"-","-","-","-",6478,2,"-","-","-","-","-","-","-","-",20243,1,"-","-","-","-","-","-","-","-","-","-","-","-",37575,2,20876,2,"-","-",1452,1,10336,1,12500,1,2584,1,"-","-","-","-","-","-","-","-",59991,3,"-","-","-","-","-","-","-","-","-","-","-","-","-","-","-","-","-","-","-","-","-","-","-","-","-","-","-","-","-","-","-","-","-","-",21277,3,"-","-","-","-","-","-","-","-","-","-","-","-",28369,3,"-","-","-","-","-","-","-","-","-","-","-","-","-","-",14185,1,20833,1,"-","-","-","-","-","-",8800,4,7700,8,"-","-","-","-","-","-","-","-","-","-","-","-","-","-","-","-","-","-","-","-","-","-","-","-","-","-",61873,1,"-","-","-","-","-","-",79315,1,"-","-","-","-","-","-","-","-","-","-","-","-","-","-","-","-","-","-","-","-",32414,1,56977,1,"-",1,"-","-","-","-","-",1,725690,{"$f":"INDEX('Aircraft IDs'!A:G,MATCH(A59,'Aircraft IDs'!A:A,0),7)","v":"Citation"}]
[49,"Business Jet","Mid Size Jet","Citation X","Cessna Citation X","Rolls-Royce AE 3007","-","-",17929,1,"-","-",7172,1,"-","-","-","-","-","-","-","-","-","-",14090,2,"-","-","-","-","-","-","-","-",11741,1,"-","-",17395,2,"-","-","-","-","-","-","-","-","-","-","-","-","-","-","-","-","-","-","-","-",17221,3,19569,3,"-","-","-","-","-","-","-","-","-","-","-","-","-","-","-","-","-","-","-","-","-","-","-","-","-","-","-","-",27616,4,"-","-","-","-","-","-","-","-","-","-",13808,1,"-","-","-","-","-","-","-","-","-","-","-","-","-","-","-","-","-","-","-","-","-","-","-","-","-","-","-","-","-","-","-","-","-","-","-","-","-","-","-","-","-","-","-","-",6478,1,"-","-","-","-","-","-","-","-","-","-","-","-",32388,6,8097,2,28340,1,"-","-","-","-",6478,2,"-","-","-","-","-","-","-","-",20243,1,"-","-","-","-","-","-","-","-","-","-","-","-",37575,2,20876,2,"-","-",1452,1,10336,1,12500,1,2584,1,"-","-","-","-","-","-","-","-",59991,3,"-","-","-","-","-","-","-","-","-","-","-","-","-","-","-","-","-","-","-","-","-","-","-","-","-","-","-","-","-","-","-","-","-","-",21277,3,"-","-","-","-","-","-","-","-","-","-","-","-",28369,3,"-","-","-","-","-","-","-","-","-","-","-","-","-","-",14185,1,20833,1,"-","-","-","-","-","-",8800,4,7700,8,"-","-","-","-","-","-","-","-","-","-","-","-","-","-","-","-","-","-","-","-","-","-","-","-","-","-",61873,1,"-","-","-","-","-","-",79315,1,"-","-","-","-","-","-","-","-","-","-","-","-","-","-","-","-","-","-","-","-",32414,1,56977,1,"-",1,"-","-","-","-","-",1,725690,{"$f":"INDEX('Aircraft IDs'!A:G,MATCH(A60,'Aircraft IDs'!A:A,0),7)","v":"Citation"}]
[40,"Business Jet","Mid Size Jet","Citation XLS","Cessna Citation XLS","Pratt & Whitney Canada PW545C","-","-",17929,1,"-","-",7172,1,"-","-","-","-","-","-","-","-","-","-",14090,2,"-","-","-","-","-","-","-","-",11741,1,"-","-",17395,2,"-","-","-","-","-","-","-","-","-","-","-","-","-","-","-","-","-","-","-","-",17221,3,19569,3,"-","-","-","-","-","-","-","-","-","-","-","-","-","-","-","-","-","-","-","-","-","-","-","-","-","-","-","-",27616,4,"-","-","-","-","-","-","-","-","-","-",13808,1,"-","-","-","-","-","-","-","-","-","-","-","-","-","-","-","-","-","-","-","-","-","-","-","-","-","-","-","-","-","-","-","-","-","-","-","-","-","-","-","-","-","-","-","-",6478,1,"-","-","-","-","-","-","-","-","-","-","-","-",32388,6,8097,2,28340,1,"-","-","-","-",6478,2,"-","-","-","-","-","-","-","-",20243,1,"-","-","-","-","-","-","-","-","-","-","-","-",37575,2,20876,2,"-","-",1452,1,10336,1,12500,1,2584,1,"-","-","-","-","-","-","-","-",59991,3,"-","-","-","-","-","-","-","-","-","-","-","-","-","-","-","-","-","-","-","-","-","-","-","-","-","-","-","-","-","-","-","-","-","-",21277,3,"-","-","-","-","-","-","-","-","-","-","-","-",28369,3,"-","-","-","-","-","-","-","-","-","-","-","-","-","-",14185,1,20833,1,"-","-","-","-","-","-",8800,4,7700,8,"-","-","-","-","-","-","-","-","-","-","-","-","-","-","-","-","-","-","-","-","-","-","-","-","-","-",61873,1,"-","-","-","-","-","-",79315,1,"-","-","-","-","-","-","-","-","-","-","-","-","-","-","-","-","-","-","-","-",32414,1,56977,1,"-",1,"-","-","-","-","-",1,725690,{"$f":"INDEX('Aircraft IDs'!A:G,MATCH(A61,'Aircraft IDs'!A:A,0),7)","v":"Citation"}]
[53,"Business Jet","Mid Size Jet","Falcon 2000","Dassault Falcon 2000","Pratt & Whitney Canada PW308A/C","-","-",17929,1,"-","-",7172,1,"-","-","-","-","-","-","-","-","-","-",14090,2,"-","-","-","-","-","-","-","-",11741,1,"-","-",17395,2,"-","-","-","-","-","-","-","-","-","-","-","-","-","-","-","-","-","-","-","-",17221,3,19569,3,"-","-","-","-","-","-","-","-","-","-","-","-","-","-","-","-","-","-","-","-","-","-","-","-","-","-","-","-",27616,4,"-","-","-","-","-","-","-","-","-","-",13808,1,"-","-","-","-","-","-","-","-","-","-","-","-","-","-","-","-","-","-","-","-","-","-","-","-","-","-","-","-","-","-","-","-","-","-","-","-","-","-","-","-","-","-","-","-",6478,1,"-","-","-","-","-","-","-","-","-","-","-","-",32388,6,8097,2,28340,1,"-","-","-","-",6478,2,"-","-","-","-","-","-","-","-",20243,1,"-","-","-","-","-","-","-","-","-","-","-","-",37575,2,20876,2,"-","-",1800,1,12818,1,15500,1,3204,1,"-","-",72906,2,41660,1,"-","-",59991,3,"-","-","-","-","-","-","-","-","-","-","-","-","-","-","-","-","-","-","-","-","-","-","-","-","-","-","-","-","-","-","-","-","-","-",21277,3,"-","-","-","-","-","-","-","-","-","-","-","-",28369,3,"-","-","-","-","-","-","-","-","-","-","-","-","-","-",14185,1,20833,1,"-","-","-","-","-","-",8800,4,7700,8,"-","-","-","-","-","-","-","-","-","-","-","-","-","-","-","-","-","-","-","-","-","-","-","-","-","-",61873,1,"-","-","-","-","-","-",79315,1,"-","-","-","-","-","-","-","-","-","-","-","-","-","-","-","-","-","-","-","-",32414,1,56977,1,"-",1,"-","-","-","-","-",1,846709,{"$f":"INDEX('Aircraft IDs'!A:G,MATCH(A62,'Aircraft IDs'!A:A,0),7)","v":"Falcon"}]
[640,"Business Jet","Mid Size Jet","Falcon 2X","Dassault Falcon 2X","Pratt & Whitney Canada PW308A/C","-","-",17929,1,"-","-",7172,1,"-","-","-","-","-","-","-","-","-","-",14090,2,"-","-","-","-","-","-","-","-",11741,1,"-","-",17395,2,"-","-","-","-","-","-","-","-","-","-","-","-","-","-","-","-","-","-","-","-",17221,3,19569,3,"-","-","-","-","-","-","-","-","-","-","-","-","-","-","-","-","-","-","-","-","-","-","-","-","-","-","-","-",27616,4,"-","-","-","-","-","-","-","-","-","-",13808,1,"-","-","-","-","-","-","-","-","-","-","-","-","-","-","-","-","-","-","-","-","-","-","-","-","-","-","-","-","-","-","-","-","-","-","-","-","-","-","-","-","-","-","-","-",6478,1,"-","-","-","-","-","-","-","-","-","-","-","-",32388,6,8097,2,28340,1,"-","-","-","-",6478,2,"-","-","-","-","-","-","-","-",20243,1,"-","-","-","-","-","-","-","-","-","-","-","-",37575,2,20876,2,"-","-",1800,1,12818,1,15500,1,3204,1,"-","-","-","-","-","-","-","-",59991,3,"-","-","-","-","-","-","-","-","-","-","-","-","-","-","-","-","-","-","-","-","-","-","-","-","-","-","-","-","-","-","-","-","-","-",21277,3,"-","-","-","-","-","-","-","-","-","-","-","-",28369,3,"-","-","-","-","-","-","-","-","-","-","-","-","-","-",14185,1,20833,1,"-","-","-","-","-","-",8800,4,7700,8,"-","-","-","-","-","-","-","-","-","-","-","-","-","-","-","-","-","-","-","-","-","-","-","-","-","-",61873,1,"-","-","-","-","-","-",79315,1,"-","-","-","-","-","-","-","-","-","-","-","-","-","-","-","-","-","-","-","-",32414,1,56977,1,"-",1,"-","-","-","-","-",1,732140,{"$f":"INDEX('Aircraft IDs'!A:G,MATCH(A63,'Aircraft IDs'!A:A,0),7)","v":"Falcon"}]
[68,"Business Jet","Mid Size Jet","Learjet 60","Learjet 60","Pratt & Whitney Canada PW305A","-","-",17929,1,"-","-",7172,1,"-","-","-","-","-","-","-","-","-","-",14090,2,"-","-","-","-","-","-","-","-",11741,1,"-","-",17395,2,"-","-","-","-","-","-","-","-","-","-","-","-","-","-","-","-","-","-","-","-",17221,3,19569,3,"-","-","-","-","-","-","-","-","-","-","-","-","-","-","-","-","-","-","-","-","-","-","-","-","-","-","-","-",27616,4,"-","-","-","-","-","-","-","-","-","-",13808,1,"-","-","-","-","-","-","-","-","-","-","-","-","-","-","-","-","-","-","-","-","-","-","-","-","-","-","-","-","-","-","-","-","-","-","-","-","-","-","-","-","-","-","-","-",6478,1,"-","-","-","-","-","-","-","-","-","-","-","-",32388,6,8097,2,28340,1,"-","-","-","-",6478,2,"-","-","-","-","-","-","-","-",20243,1,"-","-","-","-","-","-","-","-","-","-","-","-",37575,2,20876,2,"-","-",1800,1,12818,1,15500,1,3204,1,"-","-","-","-","-","-","-","-",59991,3,"-","-","-","-","-","-","-","-","-","-","-","-","-","-","-","-","-","-","-","-","-","-","-","-","-","-","-","-","-","-","-","-","-","-",21277,3,"-","-","-","-","-","-","-","-","-","-","-","-",28369,3,"-","-","-","-","-","-","-","-","-","-","-","-","-","-",14185,1,20833,1,"-","-","-","-","-","-",8800,4,7700,8,"-","-","-","-","-","-","-","-","-","-","-","-","-","-","-","-","-","-","-","-","-","-","-","-","-","-","-","-","-","-","-","-","-","-",79315,1,"-","-","-","-","-","-","-","-","-","-","-","-","-","-","-","-","-","-","-","-",32414,1,56977,1,"-",1,"-","-","-","-","-",1,670266,{"$f":"INDEX('Aircraft IDs'!A:G,MATCH(A69,'Aircraft IDs'!A:A,0),7)","v":"Learjet"}]
[550,"Business Jet","Very Light Jet","Cirrus Vision Jet SF50","Cirrus Vision Jet SF50","Williams FJ33","-","-",5902,1,"-","-",2391,1,"-","-","-","-","-","-","-","-","-","-",4893,2,"-","-","-","-","-","-","-","-",3913,1,"-","-",5654,2,"-","-","-","-","-","-","-","-","-","-","-","-","-","-","-","-","-","-","-","-",5597,3,6360,3,"-","-","-","-","-","-","-","-","-","-","-","-","-","-","-","-","-","-","-","-","-","-","-","-","-","-","-","-",9090,4,"-","-","-","-","-","-","-","-","-","-",4603,1,"-","-","-","-","-","-","-","-","-","-","-","-","-","-","-","-","-","-","-","-","-","-","-","-","-","-","-","-","-","-","-","-","-","-","-","-","-","-","-","-","-","-","-","-",2024,1,"-","-","-","-","-","-","-","-","-","-","-","-",10628,6,2530,2,9210,1,"-","-","-","-",2024,2,"-","-","-","-","-","-","-","-",6578,1,"-","-","-","-","-","-","-","-","-","-","-","-",12314,2,6842,2,"-","-",1103,1,7856,1,9500,1,1964,1,"-","-","-","-","-","-","-","-",2812,3,"-","-","-","-","-","-","-","-","-","-","-","-","-","-","-","-","-","-","-","-","-","-","-","-","-","-","-","-","-","-","-","-","-","-",6973,3,"-","-","-","-","-","-","-","-","-","-","-","-",9300,3,"-","-","-","-","-","-","-","-","-","-","-","-","-","-",4654,1,6915,1,"-","-","-","-","-","-",2750,4,2200,6,"-","-","-","-","-","-","-","-","-","-","-","-","-","-","-","-","-","-","-","-","-","-","-","-","-","-","-","-","-","-","-","-","-","-",23920,1,"-","-","-","-","-","-","-","-","-","-","-","-","-","-","-","-","-","-","-","-",10535,1,15193,1,"-",1,"-","-","-","-","-",1,206293,{"$f":"INDEX('Aircraft IDs'!A:G,MATCH(A74,'Aircraft IDs'!A:A,0),7)","v":"SF50"}]
[180,"Business Jet","Very Light Jet","Nextant 400XT","Nextant Aerospace - Nextant 400XT Aircraft","Williams FJ44-3A","-","-",5902,1,"-","-",2391,1,"-","-","-","-","-","-","-","-","-","-",4893,2,"-","-","-","-","-","-","-","-",3913,1,"-","-",5654,2,"-","-","-","-","-","-","-","-","-","-","-","-","-","-","-","-","-","-","-","-",5597,3,6360,3,"-","-","-","-","-","-","-","-","-","-","-","-","-","-","-","-","-","-","-","-","-","-","-","-","-","-","-","-",9090,4,"-","-","-","-","-","-","-","-","-","-",4603,1,"-","-","-","-","-","-","-","-","-","-","-","-","-","-","-","-","-","-","-","-","-","-","-","-","-","-","-","-","-","-","-","-","-","-","-","-","-","-","-","-","-","-","-","-",2024,1,"-","-","-","-","-","-","-","-","-","-","-","-",10628,6,2530,2,9210,1,"-","-","-","-",2024,2,"-","-","-","-","-","-","-","-",6578,1,"-","-","-","-","-","-","-","-","-","-","-","-",12314,2,6842,2,"-","-",1103,1,7856,1,9500,1,1964,1,"-","-","-","-","-","-","-","-",2812,3,"-","-","-","-","-","-","-","-","-","-","-","-","-","-","-","-","-","-","-","-","-","-","-","-","-","-","-","-","-","-","-","-","-","-",6973,3,"-","-","-","-","-","-","-","-","-","-","-","-",9300,3,"-","-","-","-","-","-","-","-","-","-","-","-","-","-",4654,1,6915,1,"-","-","-","-","-","-",2750,4,2200,6,"-","-","-","-","-","-","-","-","-","-","-","-","-","-","-","-","-","-","-","-","-","-","-","-","-","-","-","-","-","-","-","-","-","-",23920,1,"-","-","-","-","-","-","-","-","-","-","-","-","-","-","-","-","-","-","-","-",10535,1,15193,1,"-",1,"-","-","-","-","-",1,206293,{"$f":"INDEX('Aircraft IDs'!A:G,MATCH(A80,'Aircraft IDs'!A:A,0),7)","v":"Nextant 400XT"}]
[142,"Fighters and Jet Trainers","Attack","Eurofighter Typhoon","Eurofighter Typhoon","Eurojet EJ200","-","-","-","-","-","-","-","-","-","-","-","-","-","-",9784,6,"-","-","-","-","-","-","-","-","-","-","-","-","-","-","-","-","-","-","-","-","-","-",97844,1,"-","-","-","-","-","-","-","-","-","-","-","-","-","-","-","-","-","-","-","-","-","-","-","-","-","-","-","-","-","-","-","-","-","-","-","-","-","-","-","-",69041,1,"-","-","-","-","-","-","-","-","-","-","-","-","-","-","-","-","-","-",40274,2,"-","-","-","-",23014,1,"-","-",17261,1,"-","-","-","-","-","-","-","-","-","-","-","-","-","-","-","-","-","-","-","-","-","-","-","-","-","-","-","-","-","-","-","-","-","-","-","-","-","-","-","-","-","-","-","-","-","-","-","-","-","-","-","-",121454,2,161939,1,"-","-",202424,1,"-","-","-","-",28340,1,"-","-","-","-","-","-","-","-","-","-","-","-","-","-","-","-","-","-","-","-",2177,1,15505,1,18750,1,3876,1,"-","-","-","-","-","-","-","-","-","-",416606,1,"-","-",17498,10,"-","-","-","-","-","-","-","-","-","-","-","-","-","-",223213,2,"-","-",223213,2,"-","-","-","-","-","-","-","-","-","-",106385,1,"-","-","-","-","-","-","-","-","-","-","-","-","-","-","-","-","-","-","-","-","-","-","-","-","-","-","-","-","-","-","-","-","-","-",193869,1,"-","-",27499,4,"-","-","-","-",43999,6,32999,8,"-","-","-","-","-","-","-","-","-","-","-","-","-","-","-","-","-","-","-","-","-","-","-","-","-","-",255570,1,"-","-","-","-","-","-","-","-",184047,1,177261,1,"-","-","-","-","-","-","-","-","-","-","-","-","-","-","-","-","-","-","-","-",2713901,{"$f":"INDEX('Aircraft IDs'!A:G,MATCH(A85,'Aircraft IDs'!A:A,0),7)","v":"Attack"}]
[637,"Fighters and Jet Trainers","Attack","F-18","F-18 A/D","General Electric F404","-","-","-","-","-","-","-","-","-","-","-","-","-","-",9784,6,"-","-","-","-","-","-","-","-","-","-","-","-","-","-","-","-","-","-","-","-","-","-",97844,1,"-","-","-","-","-","-","-","-","-","-","-","-","-","-","-","-","-","-","-","-","-","-","-","-","-","-","-","-","-","-","-","-","-","-","-","-","-","-","-","-",69041,1,"-","-","-","-","-","-","-","-","-","-","-","-","-","-","-","-","-","-",40274,2,"-","-","-","-",23014,1,"-","-",17261,1,"-","-","-","-","-","-","-","-","-","-","-","-","-","-","-","-","-","-","-","-","-","-","-","-","-","-","-","-","-","-","-","-","-","-","-","-","-","-","-","-","-","-","-","-","-","-","-","-","-","-","-","-",121454,2,161939,1,"-","-",202424,1,"-","-","-","-",28340,1,"-","-","-","-","-","-","-","-","-","-","-","-","-","-","-","-","-","-","-","-",2950,1,21004,1,25400,1,5251,1,"-","-","-","-","-","-","-","-","-","-",416606,1,"-","-",17498,10,"-","-","-","-","-","-","-","-","-","-","-","-","-","-",223213,2,"-","-",223213,2,"-","-","-","-","-","-","-","-","-","-",106385,1,"-","-","-","-","-","-","-","-","-","-","-","-","-","-","-","-","-","-","-","-","-","-","-","-","-","-","-","-","-","-","-","-","-","-",193869,1,"-","-",27499,4,"-","-","-","-",43999,6,32999,8,"-","-","-","-","-","-","-","-","-","-","-","-","-","-","-","-","-","-","-","-","-","-","-","-","-","-",255570,1,"-","-","-","-","-","-","-","-",184047,1,177261,1,"-","-","-","-","-","-","-","-","-","-","-","-","-","-","-","-","-","-","-","-",2728198,{"$f":"INDEX('Aircraft IDs'!A:G,MATCH(A90,'Aircraft IDs'!A:A,0),7)","v":"Attack"}]
[585,"Fighters and Jet Trainers","Attack","TAI TF-X","TAI TF-X","General Electric F110","-","-","-","-","-","-","-","-","-","-","-","-","-","-",9784,6,"-","-","-","-","-","-","-","-","-","-","-","-","-","-","-","-","-","-","-","-","-","-",97844,1,"-","-","-","-","-","-","-","-","-","-","-","-","-","-","-","-","-","-","-","-","-","-","-","-","-","-","-","-","-","-","-","-","-","-","-","-","-","-","-","-",69041,1,"-","-","-","-","-","-","-","-","-","-","-","-","-","-","-","-","-","-",40274,2,"-","-","-","-",23014,1,"-","-",17261,1,"-","-","-","-","-","-","-","-","-","-","-","-","-","-","-","-","-","-","-","-","-","-","-","-","-","-","-","-","-","-","-","-","-","-","-","-","-","-","-","-","-","-","-","-","-","-","-","-","-","-","-","-",121454,2,161939,1,"-","-",202424,1,"-","-","-","-",28340,1,"-","-","-","-","-","-","-","-","-","-","-","-","-","-","-","-","-","-","-","-",1684,1,11990,1,14500,1,2998,1,"-","-","-","-","-","-","-","-","-","-",416606,1,"-","-",17498,10,"-","-","-","-","-","-","-","-","-","-","-","-","-","-",223213,2,"-","-",223213,2,"-","-","-","-","-","-","-","-","-","-",106385,1,"-","-","-","-","-","-","-","-","-","-","-","-","-","-","-","-","-","-","-","-","-","-","-","-","-","-","-","-","-","-","-","-","-","-",193869,1,"-","-",27499,4,"-","-","-","-",43999,6,32999,8,"-","-","-","-","-","-","-","-","-","-","-","-","-","-","-","-","-","-","-","-","-","-","-","-","-","-",255570,1,"-","-","-","-","-","-","-","-",184047,1,177261,1,"-","-","-","-","-","-","-","-","-","-","-","-","-","-","-","-","-","-","-","-",2704765,{"$f":"INDEX('Aircraft IDs'!A:G,MATCH(A96,'Aircraft IDs'!A:A,0),7)","v":"Attack"}]
[174,"Fighters and Jet Trainers","Fighters and Jet Trainers","HJT-36 Sitara","HAL HJT-36 Sitara","NPO Saturn AL-551","-","-","-","-","-","-","-","-","-","-","-","-","-","-","-","-","-","-","-","-","-","-","-","-","-","-","-","-","-","-","-","-","-","-","-","-","-","-","-","-","-","-","-","-","-","-","-","-","-","-","-","-","-","-","-","-","-","-","-","-","-","-",68491,1,"-","-","-","-","-","-","-","-","-","-","-","-","-","-","-","-","-","-","-","-","-","-","-","-",74794,1,"-","-","-","-","-","-","-","-","-","-","-","-","-","-","-","-","-","-","-","-","-","-","-","-","-","-","-","-","-","-","-","-","-","-","-","-","-","-","-","-","-","-","-","-",50606,1,75910,1,"-","-","-","-","-","-","-","-","-","-","-","-",70849,1,"-","-","-","-","-","-",60728,3,"-","-","-","-","-","-","-","-","-","-","-","-","-","-","-","-","-","-","-","-","-","-","-","-","-","-","-","-","-","-","-","-","-","-","-","-","-","-",575,1,4094,1,4950,1,1024,1,"-","-","-","-","-","-","-","-","-","-","-","-","-","-","-","-","-","-","-","-","-","-","-","-","-","-","-","-","-","-",111607,2,"-","-","-","-",78124,2,"-","-","-","-","-","-","-","-","-","-","-","-","-","-","-","-","-","-",48760,2,"-","-","-","-","-","-","-","-","-","-","-","-",26597,1,"-","-",17731,1,"-","-","-","-","-","-","-","-","-","-","-","-",49498,3,"-","-","-","-","-","-","-","-","-","-",54998,2,"-","-","-","-","-","-","-","-","-","-","-","-",82497,1,"-","-","-","-","-","-",114566,1,"-","-","-","-","-","-","-","-","-","-","-","-",81034,1,81034,1,"-","-","-","-","-","-","-","-","-","-","-",1,"-","-","-","-",1158497,{"$f":"INDEX('Aircraft IDs'!A:G,MATCH(A101,'Aircraft IDs'!A:A,0),7)","v":"Mil Fighter"}]
[149,"Fighters and Jet Trainers","Stealth","B-21","Northrop Grumman B-21 Raider","Pratt & Whitney F135","-","-","-","-","-","-","-","-","-","-","-","-","-","-",9784,6,"-","-","-","-","-","-","-","-","-","-","-","-","-","-","-","-","-","-","-","-","-","-",97844,1,"-","-","-","-","-","-","-","-","-","-","-","-","-","-","-","-","-","-","-","-","-","-","-","-","-","-","-","-","-","-","-","-","-","-","-","-","-","-","-","-",69041,1,"-","-","-","-","-","-","-","-","-","-","-","-","-","-","-","-","-","-",40274,2,"-","-","-","-",23014,1,"-","-",17261,1,"-","-","-","-","-","-","-","-","-","-","-","-","-","-","-","-","-","-","-","-","-","-","-","-","-","-","-","-","-","-","-","-","-","-","-","-","-","-","-","-","-","-","-","-","-","-","-","-","-","-","-","-",121454,2,161939,1,"-","-",202424,1,"-","-","-","-",28340,1,"-","-","-","-","-","-","-","-","-","-","-","-","-","-","-","-","-","-","-","-",2694,1,19185,1,23200,1,4796,1,"-","-","-","-","-","-","-","-","-","-",416606,1,"-","-",17498,10,"-","-","-","-","-","-","-","-","-","-","-","-","-","-",223213,2,"-","-",279016,1,"-","-","-","-","-","-","-","-","-","-",106385,1,"-","-","-","-","-","-","-","-","-","-","-","-","-","-","-","-","-","-","-","-","-","-","-","-","-","-","-","-","-","-","-","-","-","-",193869,1,"-","-",27499,4,"-","-","-","-",43999,6,32999,8,"-","-","-","-","-","-","-","-","-","-","-","-","-","-","-","-","-","-","-","-","-","-","-","-","-","-",255570,1,"-","-","-","-","-","-","-","-",184047,1,177261,1,"-","-","-","-","-","-","-","-","-","-","-","-","-","-","-","-","-","-","-","-",2779270,{"$f":"INDEX('Aircraft IDs'!A:G,MATCH(A107,'Aircraft IDs'!A:A,0),7)","v":"Stealth"}]
[592,"Freighter","Large Freighters","Boeing 747","Boeing 747-400CF","General Electric CF6-80C2",22412,2,74705,1,"-","-","-","-","-","-",17612,2,24461,1,"-","-","-","-","-","-","-","-","-","-","-","-","-","-",17612,1,"-","-","-","-",17612,2,17612,3,"-","-",4893,1,24461,1,"-","-","-","-","-","-","-","-","-","-","-","-","-","-",7828,3,34245,3,"-","-","-","-",48922,1,"-","-","-","-","-","-","-","-","-","-","-","-","-","-","-","-",34520,2,46027,1,"-","-","-","-","-","-",34520,2,"-","-",23014,1,"-","-","-","-","-","-","-","-",20712,1,"-","-",28767,1,"-","-","-","-",10121,1,10121,1,"-","-","-","-",25303,2,"-","-","-","-",70849,3,"-","-","-","-","-","-","-","-",15182,1,"-","-",25303,1,"-","-","-","-","-","-",30364,1,"-","-","-","-",50606,6,"-","-","-","-","-","-","-","-","-","-","-","-","-","-","-","-","-","-",45546,2,"-","-","-","-","-","-","-","-",52188,2,117423,2,41750,3,31313,1,6967,1,49616,1,60000,1,12404,1,78114,2,"-","-","-","-","-","-","-","-","-","-","-","-","-","-","-","-","-","-","-","-","-","-","-","-","-","-","-","-","-","-","-","-","-","-","-","-","-","-",44327,3,"-","-",13298,8,"-","-","-","-","-","-","-","-","-","-","-","-","-","-","-","-","-","-","-","-","-","-",44327,2,"-","-","-","-",15958,2,"-","-","-","-",13298,2,"-","-",10999,8,"-","-","-","-","-","-","-","-","-","-","-","-","-","-","-","-","-","-","-","-","-","-","-","-","-","-","-","-",44879,1,8800,6,82497,1,38499,1,190104,1,"-","-","-","-",30388,2,"-","-","-","-","-","-",42542,1,"-","-","-","-","-","-","-","-","-","-","-","-","-",1,"-",1,"-",1,1813123,{"$f":"INDEX('Aircraft IDs'!A:G,MATCH(A112,'Aircraft IDs'!A:A,0),7)","v":"B747"}]
[567,"Freighter","Large Freighters","Boeing 747","Boeing 747-8F","General Electric GEnx-2B",22412,2,74705,1,"-","-",48559,2,"-","-",11741,2,"-","-","-","-","-","-","-","-","-","-","-","-","-","-","-","-",19569,1,24461,1,"-","-",17612,2,17612,2,"-","-",4893,1,19569,1,"-","-",34245,1,"-","-","-","-","-","-","-","-","-","-",7828,1,"-","-","-","-",24461,2,48922,1,"-","-","-","-","-","-","-","-","-","-","-","-","-","-","-","-",34520,2,"-","-","-","-","-","-","-","-",34520,2,9205,1,23014,1,"-","-","-","-","-","-","-","-",27616,1,"-","-",28767,1,20243,1,"-","-","-","-",10121,1,50606,1,"-","-","-","-","-","-","-","-",50606,2,"-","-","-","-","-","-","-","-",20243,1,"-","-",30364,1,"-","-",111333,2,"-","-",35424,1,"-","-","-","-",60728,5,"-","-","-","-","-","-","-","-","-","-","-","-","-","-","-","-","-","-","-","-","-","-","-","-","-","-","-","-","-","-",117423,2,41750,2,15657,1,6967,1,49616,1,60000,1,12404,1,78114,2,156228,2,156228,1,"-","-","-","-","-","-","-","-",26038,14,"-","-","-","-","-","-","-","-","-","-","-","-","-","-","-","-","-","-","-","-","-","-","-","-","-","-",31029,2,17731,6,"-","-","-","-",10638,2,"-","-","-","-","-","-","-","-","-","-",13298,2,"-","-",39894,2,44327,2,"-","-","-","-",13298,2,"-","-","-","-","-","-","-","-",13200,14,"-","-","-","-","-","-","-","-","-","-","-","-","-","-","-","-","-","-","-","-","-","-","-","-","-","-","-","-",48179,1,"-","-",82497,1,38499,1,261865,1,"-","-","-","-",30388,2,"-","-","-","-","-","-",42542,1,"-","-",43555,1,"-","-","-","-","-","-","-","-","-",1,"-",1,"-",1,2375378,{"$f":"INDEX('Aircraft IDs'!A:G,MATCH(A117,'Aircraft IDs'!A:A,0),7)","v":"B747"}]
[664,"Freighter","Large Freighters","Boeing 777","Boeing 777-300 ERSF","General Electric GE90-115B",11206,2,59764,1,"-","-",48559,2,"-","-",11741,2,"-","-","-","-","-","-","-","-","-","-","-","-","-","-","-","-",19569,1,24461,1,"-","-",17612,2,17612,2,"-","-",4893,1,19569,1,"-","-",34245,1,"-","-","-","-","-","-","-","-","-","-",7828,1,"-","-","-","-",24461,2,48922,1,"-","-","-","-","-","-","-","-","-","-","-","-","-","-","-","-",34520,2,"-","-","-","-","-","-","-","-",34520,2,9205,1,23014,1,"-","-","-","-","-","-","-","-",27616,1,"-","-",28767,1,20243,1,"-","-","-","-",10121,1,50606,1,"-","-","-","-","-","-","-","-",50606,2,"-","-","-","-","-","-","-","-",20243,1,"-","-",30364,1,"-","-",111333,2,"-","-",35424,1,"-","-","-","-",85018,5,"-","-","-","-","-","-","-","-","-","-","-","-","-","-","-","-","-","-","-","-","-","-","-","-","-","-","-","-","-","-",117423,2,41750,2,15657,1,4470,1,31837,1,38500,1,7959,1,78114,2,182270,2,156228,1,"-","-","-","-","-","-","-","-",26038,14,"-","-","-","-","-","-","-","-","-","-","-","-","-","-","-","-","-","-","-","-","-","-","-","-","-","-",31029,2,13298,6,"-","-","-","-",10638,2,"-","-","-","-","-","-","-","-","-","-",13298,2,"-","-",39894,2,44327,2,"-","-","-","-",13298,2,"-","-","-","-","-","-","-","-",13200,14,"-","-","-","-","-","-","-","-","-","-","-","-","-","-","-","-","-","-","-","-","-","-","-","-","-","-","-","-",48179,1,"-","-",82497,1,49498,1,261865,1,"-","-","-","-",42542,2,"-","-","-","-","-","-",48620,1,"-","-",43555,1,"-","-","-","-","-","-","-","-","-",1,"-",1,"-",1,2378140,{"$f":"INDEX('Aircraft IDs'!A:G,MATCH(A118,'Aircraft IDs'!A:A,0),7)","v":"B777"}]
[566,"Freighter","Medium Widebody Freighters","A300","Airbus A300-600ST Beluga","General Electric CF6-80A2",22412,2,74705,1,"-","-","-","-","-","-",17612,2,24461,1,"-","-","-","-","-","-","-","-","-","-","-","-","-","-",17612,1,"-","-","-","-",17612,2,17612,3,"-","-",4893,1,24461,1,"-","-","-","-","-","-","-","-","-","-","-","-","-","-",7828,3,34245,3,"-","-","-","-",48922,1,"-","-","-","-","-","-","-","-","-","-","-","-","-","-","-","-",34520,2,46027,1,"-","-","-","-","-","-",34520,2,"-","-",23014,1,"-","-","-","-","-","-","-","-",20712,1,"-","-",28767,1,"-","-","-","-",10121,1,10121,1,"-","-","-","-",25303,2,"-","-","-","-",70849,3,"-","-","-","-","-","-","-","-",15182,1,"-","-",25303,1,"-","-","-","-","-","-",30364,1,"-","-","-","-",50606,6,"-","-","-","-","-","-","-","-","-","-","-","-","-","-","-","-","-","-",45546,2,"-","-","-","-","-","-","-","-",52188,2,117423,2,41750,3,31313,1,2787,1,19846,1,24000,1,4962,1,"-","-","-","-","-","-","-","-","-","-","-","-","-","-","-","-","-","-","-","-","-","-","-","-","-","-","-","-","-","-","-","-","-","-","-","-","-","-","-","-",44327,3,"-","-",13298,8,"-","-","-","-","-","-","-","-","-","-","-","-","-","-","-","-","-","-","-","-","-","-",44327,2,"-","-","-","-",15958,2,"-","-","-","-",13298,2,"-","-",10999,8,"-","-","-","-","-","-","-","-","-","-","-","-","-","-","-","-","-","-","-","-","-","-","-","-","-","-","-","-",44879,1,8800,6,"-","-",38499,1,190104,1,"-","-","-","-",30388,2,"-","-","-","-","-","-",42542,1,"-","-","-","-","-","-","-","-","-","-","-","-","-",1,"-",1,"-",1,1575117,{"$f":"INDEX('Aircraft IDs'!A:G,MATCH(A123,'Aircraft IDs'!A:A,0),7)","v":"A300"}]
[564,"Freighter","Medium Widebody Freighters","A330","Airbus A330-300P2F","Rolls-Royce Trent 700",22412,2,59764,1,"-","-","-","-","-","-",17612,2,24461,1,"-","-","-","-","-","-","-","-","-","-","-","-","-","-",17612,1,"-","-","-","-",17612,2,17612,3,"-","-",4893,1,24461,1,"-","-","-","-","-","-","-","-","-","-","-","-","-","-",7828,3,34245,3,"-","-","-","-",48922,1,"-","-","-","-","-","-","-","-","-","-","-","-","-","-","-","-",34520,2,46027,1,"-","-","-","-","-","-",34520,2,"-","-",23014,1,"-","-","-","-","-","-","-","-",20712,1,"-","-",28767,1,"-","-","-","-",10121,1,10121,1,"-","-","-","-",25303,2,"-","-","-","-",70849,3,"-","-","-","-","-","-","-","-",15182,1,"-","-",25303,1,"-","-","-","-","-","-",30364,1,"-","-","-","-",70849,6,"-","-","-","-","-","-","-","-","-","-","-","-","-","-","-","-","-","-",30364,2,"-","-","-","-","-","-","-","-",52188,2,97461,2,41750,3,31313,1,3890,1,27702,1,33500,1,6926,1,104151,2,"-","-","-","-","-","-","-","-","-","-","-","-","-","-","-","-","-","-","-","-","-","-","-","-","-","-","-","-","-","-","-","-","-","-","-","-","-","-",44327,3,"-","-",10638,8,"-","-","-","-","-","-","-","-","-","-","-","-","-","-","-","-","-","-","-","-","-","-",44327,2,"-","-","-","-",15958,2,"-","-","-","-",13298,2,"-","-",10999,8,"-","-","-","-","-","-","-","-","-","-","-","-","-","-","-","-","-","-","-","-","-","-","-","-","-","-","-","-",44879,1,8800,6,82497,1,49498,1,190104,1,"-","-","-","-",35452,2,"-","-","-","-","-","-",45581,1,"-","-","-","-","-","-","-","-","-","-","-","-","-",1,"-",1,"-",1,1768791,{"$f":"INDEX('Aircraft IDs'!A:G,MATCH(A128,'Aircraft IDs'!A:A,0),7)","v":"A330"}]
[665,"Freighter","Standard body Freighters","A320ceo","A320-200P2F","CFM International CFM56 - CFM56-5A",14941,2,56029,1,"-","-","-","-","-","-",13699,2,"-","-","-","-","-","-","-","-",5871,2,9784,1,"-","-","-","-",19569,1,"-","-","-","-",11741,2,11741,2,"-","-",5871,1,"-","-","-","-","-","-","-","-","-","-","-","-","-","-","-","-",5871,1,5871,2,"-","-","-","-","-","-","-","-","-","-","-","-","-","-",20712,1,17261,1,"-","-","-","-",11506,2,"-","-","-","-","-","-","-","-",23014,2,9205,1,17261,1,"-","-","-","-","-","-","-","-",28767,1,"-","-","-","-",15182,1,"-","-",8097,1,8097,1,"-","-","-","-","-","-",12145,1,"-","-",30364,3,"-","-","-","-",7085,2,30364,2,8097,2,"-","-","-","-","-","-",75910,1,"-","-",28340,1,"-","-","-","-","-","-",45546,2,"-","-","-","-","-","-","-","-","-","-",45546,2,"-","-","-","-",15182,2,20876,1,26094,2,12525,3,"-","-",10437,2,46970,2,26094,2,"-","-",2903,1,20674,1,25000,1,5168,1,"-","-","-","-","-","-","-","-","-","-","-","-","-","-","-","-","-","-","-","-","-","-","-","-","-","-","-","-","-","-","-","-","-","-","-","-","-","-","-","-",31029,3,"-","-",10638,8,"-","-","-","-",12412,2,"-","-","-","-","-","-","-","-","-","-","-","-","-","-","-","-",44327,1,"-","-","-","-","-","-","-","-","-","-","-","-","-","-",8800,12,"-","-","-","-","-","-","-","-","-","-","-","-","-","-","-","-","-","-","-","-","-","-","-","-","-","-","-","-","-","-","-","-","-","-",43999,1,137227,1,"-","-",6078,1,30388,2,"-","-","-","-","-","-",24310,1,"-","-","-","-","-","-","-","-","-","-","-",2,"-",1,"-",1,"-",1,1164718,{"$f":"INDEX('Aircraft IDs'!A:G,MATCH(A134,'Aircraft IDs'!A:A,0),7)","v":"A320"}]
[571,"Freighter","Standard body Freighters","Boeing 737NG","Boeing 737-700/-800CF","CFM International CFM56 - 7B",14941,2,56029,1,"-","-","-","-","-","-",13699,2,"-","-","-","-","-","-","-","-",5871,2,9784,1,"-","-","-","-",19569,1,"-","-","-","-",11741,2,11741,2,"-","-",5871,1,"-","-","-","-","-","-","-","-","-","-","-","-","-","-","-","-",5871,1,5871,2,"-","-","-","-","-","-","-","-","-","-","-","-","-","-",20712,1,17261,1,"-","-","-","-",11506,2,"-","-","-","-","-","-","-","-",23014,2,9205,1,17261,1,"-","-","-","-","-","-","-","-",28767,1,"-","-","-","-",15182,1,"-","-",8097,1,8097,1,"-","-","-","-","-","-",12145,1,"-","-",30364,3,"-","-","-","-",7085,2,30364,2,8097,2,"-","-","-","-","-","-",75910,1,"-","-",28340,1,"-","-","-","-","-","-",45546,2,"-","-","-","-","-","-","-","-","-","-",45546,2,"-","-","-","-",15182,2,20876,1,26094,2,12525,3,"-","-",10437,2,46970,2,26094,2,"-","-",2903,1,20674,1,25000,1,5168,1,"-","-","-","-","-","-","-","-","-","-","-","-","-","-","-","-","-","-","-","-","-","-","-","-","-","-","-","-","-","-","-","-","-","-","-","-","-","-","-","-",31029,3,"-","-",10638,8,"-","-","-","-",12412,2,"-","-","-","-","-","-","-","-","-","-","-","-","-","-","-","-",44327,1,"-","-","-","-","-","-","-","-","-","-","-","-","-","-",8800,12,"-","-","-","-","-","-","-","-","-","-","-","-","-","-","-","-","-","-","-","-","-","-","-","-","-","-","-","-","-","-","-","-","-","-",43999,1,137227,1,"-","-",6078,1,30388,2,"-","-","-","-","-","-",24310,1,"-","-","-","-","-","-","-","-","-","-","-",2,"-",1,"-",1,"-",1,1164718,{"$f":"INDEX('Aircraft IDs'!A:G,MATCH(A139,'Aircraft IDs'!A:A,0),7)","v":"B737"}]
[667,"Freighter","Turboprop Freighters","ATR 42/72","ATR 72/42 Freighter Conversion","Pratt & Whitney Canada PW120",8965,2,33617,1,"-","-","-","-","-","-",8219,2,"-","-","-","-","-","-","-","-",3523,2,5870,1,"-","-","-","-",11741,1,"-","-","-","-",7045,2,7045,2,"-","-",3523,1,"-","-","-","-","-","-","-","-","-","-","-","-","-","-","-","-",3523,1,3523,2,"-","-","-","-","-","-","-","-","-","-","-","-","-","-",12427,1,10357,1,"-","-","-","-",6904,2,"-","-","-","-","-","-","-","-",13808,2,5523,1,10357,1,"-","-","-","-","-","-","-","-",17260,1,"-","-","-","-",9109,1,"-","-",4858,1,4858,1,"-","-","-","-","-","-",7287,1,"-","-",18218,2,"-","-","-","-",4251,2,18218,2,4858,2,"-","-","-","-","-","-",45546,1,"-","-",17004,1,"-","-","-","-","-","-",27328,2,"-","-","-","-","-","-","-","-","-","-",27328,2,"-","-","-","-",9109,2,12526,1,15656,2,7515,2,"-","-",6262,2,28182,2,15656,2,"-","-",1742,1,12404,1,15000,1,3101,1,"-","-","-","-","-","-","-","-","-","-","-","-","-","-","-","-","-","-","-","-","-","-","-","-","-","-","-","-","-","-","-","-","-","-","-","-","-","-","-","-",18617,2,"-","-",6383,7,"-","-","-","-",7447,2,"-","-","-","-","-","-","-","-","-","-","-","-","-","-","-","-",26596,1,"-","-","-","-","-","-","-","-","-","-","-","-","-","-",5280,8,"-","-","-","-","-","-","-","-","-","-","-","-","-","-","-","-","-","-","-","-","-","-","-","-","-","-","-","-","-","-","-","-","-","-",26399,1,82336,1,"-","-",3647,1,18233,2,"-","-","-","-","-","-",14586,1,"-","-","-","-","-","-","-","-","-","-","-",1,"-",1,"-",1,"-",1,698861,{"$f":"INDEX('Aircraft IDs'!A:G,MATCH(A145,'Aircraft IDs'!A:A,0),7)","v":"ATR"}]
[132,"Helicopter","Attack","Future Attack Reconnaissance Aircraft","Bell V-280 Valor ","Rolls-Royce 1107","-","-",59764,1,"-","-","-","-","-","-","-","-","-","-","-","-","-","-","-","-","-","-","-","-","-","-","-","-","-","-","-","-","-","-","-","-","-","-","-","-","-","-","-","-","-","-","-","-",53814,1,"-","-","-","-","-","-","-","-","-","-","-","-","-","-","-","-","-","-",24461,1,"-","-","-","-","-","-","-","-","-","-","-","-","-","-","-","-","-","-","-","-","-","-","-","-","-","-","-","-","-","-","-","-",34520,1,28767,1,"-","-","-","-","-","-","-","-","-","-","-","-","-","-","-","-","-","-","-","-","-","-","-","-","-","-","-","-","-","-","-","-","-","-","-","-","-","-","-","-","-","-",25303,2,"-","-","-","-",25303,1,"-","-","-","-",50606,2,"-","-","-","-","-","-","-","-",101212,1,20243,1,"-","-","-","-","-","-","-","-","-","-","-","-","-","-","-","-","-","-","-","-","-","-","-","-",3338,1,23774,1,28750,1,5944,1,"-","-","-","-","-","-","-","-","-","-","-","-","-","-","-","-","-","-",44643,1,"-","-","-","-","-","-",83705,1,"-","-",111607,2,78124,1,"-","-","-","-","-","-","-","-","-","-","-","-","-","-","-","-","-","-",53193,2,"-","-","-","-","-","-","-","-","-","-","-","-","-","-","-","-","-","-","-","-","-","-","-","-","-","-","-","-","-","-","-","-","-","-","-","-","-","-","-","-","-","-",76997,1,"-","-","-","-",43999,1,82497,1,"-","-","-","-",54998,1,43999,2,"-","-","-","-","-","-","-","-",114566,1,"-","-","-","-","-","-","-","-","-","-",121551,1,"-","-","-","-","-","-","-","-",98253,1,"-","-","-","-","-","-","-","-","-","-",1493963,{"$f":"INDEX('Aircraft IDs'!A:G,MATCH(A150,'Aircraft IDs'!A:A,0),7)","v":"Attack Helo"}]
[646,"Helicopter","Transport & Utility","412X","Bell 412X","Pratt & Whitney Canada PT6T","-","-","-","-",39220,1,"-","-","-","-","-","-","-","-","-","-","-","-","-","-","-","-","-","-","-","-","-","-","-","-","-","-","-","-","-","-","-","-","-","-","-","-","-","-","-","-","-","-","-","-","-","-",44030,0,"-","-","-","-","-","-","-","-","-","-","-","-","-","-","-","-","-","-","-","-","-","-","-","-","-","-","-","-",20137,1,"-","-","-","-","-","-","-","-","-","-","-","-","-","-","-","-","-","-","-","-","-","-","-","-","-","-","-","-","-","-","-","-",31882,1,"-","-","-","-","-","-","-","-","-","-","-","-","-","-",31882,1,"-","-","-","-","-","-","-","-","-","-","-","-","-","-",14169,2,"-","-","-","-","-","-","-","-","-","-",31882,4,"-","-","-","-","-","-","-","-","-","-","-","-","-","-",17712,1,"-","-","-","-","-","-","-","-","-","-","-","-","-","-","-","-","-","-","-","-",118,1,844,1,1020,1,211,1,"-","-","-","-","-","-","-","-","-","-","-","-","-","-","-","-","-","-","-","-","-","-","-","-","-","-","-","-","-","-","-","-","-","-","-","-","-","-","-","-","-","-","-","-",21720,2,"-","-","-","-","-","-",18617,2,"-","-","-","-","-","-","-","-","-","-","-","-","-","-","-","-","-","-","-","-","-","-","-","-","-","-","-","-","-","-","-","-",32999,2,"-","-","-","-","-","-","-","-","-","-","-","-","-","-","-","-","-","-","-","-","-","-","-","-","-","-",28599,1,"-","-","-","-",30799,1,46581,1,"-","-","-","-","-","-","-","-","-","-","-","-",21676,1,"-","-","-","-","-","-","-","-","-","-","-","-","-",1,"-","-","-","-",434124,{"$f":"INDEX('Aircraft IDs'!A:G,MATCH(A155,'Aircraft IDs'!A:A,0),7)","v":"Helo"}]
[93,"Helicopter","Transport & Utility","Bell 525 Relentless","Bell 525 Relentless","General Electric T700","-","-","-","-",39220,1,"-","-","-","-","-","-","-","-","-","-","-","-","-","-","-","-","-","-","-","-","-","-","-","-","-","-","-","-","-","-","-","-","-","-","-","-","-","-","-","-","-","-","-","-","-","-",44030,0,"-","-","-","-","-","-","-","-","-","-","-","-","-","-","-","-","-","-","-","-","-","-","-","-","-","-","-","-",20137,1,"-","-","-","-","-","-","-","-","-","-","-","-","-","-","-","-","-","-","-","-","-","-","-","-","-","-","-","-","-","-","-","-",31882,1,"-","-","-","-","-","-","-","-","-","-","-","-","-","-",31882,1,"-","-","-","-","-","-","-","-","-","-","-","-","-","-",14169,2,"-","-","-","-","-","-","-","-","-","-",31882,4,"-","-","-","-","-","-","-","-","-","-","-","-","-","-",17712,1,"-","-","-","-","-","-","-","-","-","-","-","-","-","-","-","-","-","-","-","-",70,1,496,1,600,1,124,1,"-","-","-","-","-","-","-","-","-","-","-","-","-","-","-","-","-","-","-","-","-","-","-","-","-","-","-","-","-","-","-","-","-","-","-","-","-","-","-","-","-","-","-","-",21720,2,"-","-","-","-","-","-",18617,2,"-","-","-","-","-","-","-","-","-","-","-","-","-","-","-","-","-","-","-","-","-","-","-","-","-","-","-","-","-","-","-","-",32999,2,"-","-","-","-","-","-","-","-","-","-","-","-","-","-","-","-","-","-","-","-","-","-","-","-","-","-",54998,1,"-","-","-","-",30799,1,49099,1,"-","-","-","-","-","-","-","-","-","-","-","-",21676,1,"-","-","-","-","-","-","-","-","-","-","-","-","-",1,"-","-","-","-",462138,{"$f":"INDEX('Aircraft IDs'!A:G,MATCH(A161,'Aircraft IDs'!A:A,0),7)","v":"Helo"}]
[108,"Helicopter","Transport & Utility","H130","Airbus H130","Turbomeca Arriel","-","-","-","-",19222,1,"-","-","-","-","-","-","-","-","-","-","-","-","-","-","-","-","-","-","-","-","-","-","-","-","-","-","-","-","-","-","-","-","-","-","-","-","-","-","-","-","-","-","-","-","-","-",44030,0,"-","-","-","-","-","-","-","-","-","-","-","-","-","-","-","-","-","-","-","-","-","-","-","-","-","-","-","-",9873,1,"-","-","-","-","-","-","-","-","-","-","-","-","-","-","-","-","-","-","-","-","-","-","-","-","-","-","-","-","-","-","-","-",15627,1,"-","-","-","-","-","-","-","-","-","-","-","-","-","-",15627,1,"-","-","-","-","-","-","-","-","-","-","-","-","-","-",6943,2,"-","-","-","-","-","-","-","-","-","-",15627,4,"-","-","-","-","-","-","-","-","-","-","-","-","-","-",8684,1,"-","-","-","-","-","-","-","-","-","-","-","-","-","-","-","-","-","-","-","-",90,1,645,1,780,1,161,1,"-","-","-","-","-","-","-","-","-","-","-","-","-","-","-","-","-","-","-","-","-","-","-","-","-","-","-","-","-","-","-","-","-","-","-","-","-","-","-","-","-","-","-","-",10648,2,"-","-","-","-","-","-",9087,2,"-","-","-","-","-","-","-","-","-","-","-","-","-","-","-","-","-","-","-","-","-","-","-","-","-","-","-","-","-","-","-","-",32999,2,"-","-","-","-","-","-","-","-","-","-","-","-","-","-","-","-","-","-","-","-","-","-","-","-","-","-",28599,1,"-","-","-","-",15102,1,23920,1,"-","-","-","-","-","-","-","-","-","-","-","-",10636,1,"-","-","-","-","-","-","-","-","-","-","-","-","-",1,"-","-","-","-",268326,{"$f":"INDEX('Aircraft IDs'!A:G,MATCH(A166,'Aircraft IDs'!A:A,0),7)","v":"Helo"}]
[102,"Helicopter","Transport & Utility","H175","Airbus H175","Pratt & Whitney Canada PT6C","-","-","-","-",56029,1,"-","-","-","-","-","-","-","-","-","-","-","-","-","-","-","-","-","-","-","-","-","-","-","-","-","-","-","-","-","-","-","-","-","-","-","-","-","-","-","-","-","-","-","-","-","-",44030,0,"-","-","-","-","-","-","-","-","-","-","-","-","-","-","-","-","-","-","-","-","-","-","-","-","-","-","-","-",28767,1,"-","-","-","-","-","-","-","-","-","-","-","-","-","-","-","-","-","-","-","-","-","-","-","-","-","-","-","-","-","-","-","-",45546,1,"-","-","-","-","-","-","-","-","-","-","-","-","-","-",40485,1,"-","-","-","-","-","-","-","-","-","-","-","-","-","-",25303,2,"-","-","-","-","-","-","-","-","-","-",45546,4,"-","-","-","-","-","-","-","-","-","-","-","-","-","-",25303,1,"-","-","-","-","-","-","-","-","-","-","-","-","-","-","-","-","-","-","-","-",154,1,1092,1,1320,1,273,1,"-","-","-","-","-","-","-","-","-","-","-","-","-","-","-","-","-","-","-","-","-","-","-","-","-","-","-","-","-","-","-","-","-","-","-","-","-","-","-","-","-","-","-","-",22164,2,"-","-","-","-","-","-",31029,2,"-","-","-","-","-","-","-","-","-","-","-","-","-","-","-","-","-","-","-","-","-","-","-","-","-","-","-","-","-","-","-","-",32999,2,"-","-","-","-","-","-","-","-","-","-","-","-","-","-","-","-","-","-","-","-","-","-","-","-","-","-",54998,1,"-","-","-","-",43999,1,67985,1,"-","-","-","-","-","-","-","-","-","-","-","-",30388,1,"-","-","-","-","-","-","-","-","-","-","-","-","-",1,"-","-","-","-",597436,{"$f":"INDEX('Aircraft IDs'!A:G,MATCH(A172,'Aircraft IDs'!A:A,0),7)","v":"Helo"}]
[490,"Helicopter","Transport & Utility","HAL Dhruv","HAL Dhruv","Turbomeca TM 333","-","-",59764,1,"-","-","-","-","-","-","-","-","-","-","-","-","-","-","-","-","-","-","-","-","-","-","-","-","-","-","-","-","-","-","-","-","-","-","-","-","-","-","-","-","-","-","-","-",53814,1,"-","-","-","-","-","-","-","-","-","-","-","-","-","-","-","-","-","-",24461,1,"-","-","-","-","-","-","-","-","-","-","-","-","-","-","-","-","-","-","-","-","-","-","-","-","-","-","-","-","-","-","-","-",34520,1,28767,1,"-","-","-","-","-","-","-","-","-","-","-","-","-","-","-","-","-","-","-","-","-","-","-","-","-","-","-","-","-","-","-","-","-","-","-","-","-","-","-","-","-","-",16194,2,"-","-","-","-",25303,1,"-","-","-","-",31882,2,"-","-","-","-","-","-","-","-",101212,1,20243,1,"-","-","-","-","-","-","-","-","-","-","-","-","-","-","-","-","-","-","-","-","-","-","-","-",300,1,2134,1,2580,1,534,1,"-","-","-","-","-","-","-","-","-","-","-","-","-","-","-","-","-","-",44643,1,"-","-","-","-","-","-",83705,1,"-","-",111607,2,78124,1,"-","-","-","-","-","-","-","-","-","-","-","-","-","-","-","-","-","-",29788,2,"-","-","-","-","-","-","-","-","-","-","-","-","-","-","-","-","-","-","-","-","-","-","-","-","-","-","-","-","-","-","-","-","-","-","-","-","-","-","-","-","-","-",76997,1,"-","-","-","-",43999,1,82497,1,"-","-","-","-",54998,1,43999,2,"-","-","-","-","-","-","-","-",39028,1,"-","-","-","-","-","-","-","-","-","-",121551,1,"-","-","-","-","-","-","-","-",98253,1,"-","-","-","-","-","-","-","-","-","-",1310929,{"$f":"INDEX('Aircraft IDs'!A:G,MATCH(A177,'Aircraft IDs'!A:A,0),7)","v":"Helo"}]
[223,"Helicopter","Transport & Utility","Kawasaki BK 117","Kawasaki BK 117","Turbomeca Arriel","-","-","-","-",19222,1,"-","-","-","-","-","-","-","-","-","-","-","-","-","-","-","-","-","-","-","-","-","-","-","-","-","-","-","-","-","-","-","-","-","-","-","-","-","-","-","-","-","-","-","-","-","-",44030,0,"-","-","-","-","-","-","-","-","-","-","-","-","-","-","-","-","-","-","-","-","-","-","-","-","-","-","-","-",9873,1,"-","-","-","-","-","-","-","-","-","-","-","-","-","-","-","-","-","-","-","-","-","-","-","-","-","-","-","-","-","-","-","-",15627,1,"-","-","-","-","-","-","-","-","-","-","-","-","-","-",15627,1,"-","-","-","-","-","-","-","-","-","-","-","-","-","-",6943,2,"-","-","-","-","-","-","-","-","-","-",15627,4,"-","-","-","-","-","-","-","-","-","-","-","-","-","-",8684,1,"-","-","-","-","-","-","-","-","-","-","-","-","-","-","-","-","-","-","-","-",300,1,2134,1,2580,1,534,1,"-","-","-","-","-","-","-","-","-","-","-","-","-","-","-","-","-","-","-","-","-","-","-","-","-","-","-","-","-","-","-","-","-","-","-","-","-","-","-","-","-","-","-","-",10648,2,"-","-","-","-","-","-",9087,2,"-","-","-","-","-","-","-","-","-","-","-","-","-","-","-","-","-","-","-","-","-","-","-","-","-","-","-","-","-","-","-","-",32999,2,"-","-","-","-","-","-","-","-","-","-","-","-","-","-","-","-","-","-","-","-","-","-","-","-","-","-",54998,1,"-","-","-","-",15102,1,26439,1,"-","-","-","-","-","-","-","-","-","-","-","-",10636,1,"-","-","-","-","-","-","-","-","-","-","-","-","-",1,"-","-","-","-",301116,{"$f":"INDEX('Aircraft IDs'!A:G,MATCH(A182,'Aircraft IDs'!A:A,0),7)","v":"Helo"}]
[118,"Helicopter","Transport & Utility","Kawasaki OH-1","Kawasaki OH-1","Mitsubishi TS1","-","-",59764,1,"-","-","-","-","-","-","-","-","-","-","-","-","-","-","-","-","-","-","-","-","-","-","-","-","-","-","-","-","-","-","-","-","-","-","-","-","-","-","-","-","-","-","-","-",53814,1,"-","-","-","-","-","-","-","-","-","-","-","-","-","-","-","-","-","-",24461,1,"-","-","-","-","-","-","-","-","-","-","-","-","-","-","-","-","-","-","-","-","-","-","-","-","-","-","-","-","-","-","-","-",34520,1,28767,1,"-","-","-","-","-","-","-","-","-","-","-","-","-","-","-","-","-","-","-","-","-","-","-","-","-","-","-","-","-","-","-","-","-","-","-","-","-","-","-","-","-","-",8097,2,"-","-","-","-",25303,1,"-","-","-","-",15627,2,"-","-","-","-","-","-","-","-",101212,1,20243,1,"-","-","-","-","-","-","-","-","-","-","-","-","-","-","-","-","-","-","-","-","-","-","-","-",530,1,3771,1,4560,1,942,1,"-","-","-","-","-","-","-","-","-","-","-","-","-","-","-","-","-","-",44643,1,"-","-","-","-","-","-",83705,1,"-","-",111607,2,78124,1,"-","-","-","-","-","-","-","-","-","-","-","-","-","-","-","-","-","-",10947,2,"-","-","-","-","-","-","-","-","-","-","-","-","-","-","-","-","-","-","-","-","-","-","-","-","-","-","-","-","-","-","-","-","-","-","-","-","-","-","-","-","-","-",76997,1,"-","-","-","-",43999,1,82497,1,"-","-","-","-",54998,1,43999,2,"-","-","-","-","-","-","-","-",20144,1,"-","-","-","-","-","-","-","-","-","-",121551,1,"-","-","-","-","-","-","-","-",98253,1,"-","-","-","-","-","-","-","-","-","-",1253107,{"$f":"INDEX('Aircraft IDs'!A:G,MATCH(A183,'Aircraft IDs'!A:A,0),7)","v":"Helo"}]
[84,"Helicopter","Transport & Utility","Leonardo AW119 Koala","Leonardo AW119 Koala","Pratt & Whitney Canada PT6B","-","-","-","-",19222,1,"-","-","-","-","-","-","-","-","-","-","-","-","-","-","-","-","-","-","-","-","-","-","-","-","-","-","-","-","-","-","-","-","-","-","-","-","-","-","-","-","-","-","-","-","-","-",44030,0,"-","-","-","-","-","-","-","-","-","-","-","-","-","-","-","-","-","-","-","-","-","-","-","-","-","-","-","-",9873,1,"-","-","-","-","-","-","-","-","-","-","-","-","-","-","-","-","-","-","-","-","-","-","-","-","-","-","-","-","-","-","-","-",15627,1,"-","-","-","-","-","-","-","-","-","-","-","-","-","-",15627,1,"-","-","-","-","-","-","-","-","-","-","-","-","-","-",6943,2,"-","-","-","-","-","-","-","-","-","-",15627,4,"-","-","-","-","-","-","-","-","-","-","-","-","-","-",8684,1,"-","-","-","-","-","-","-","-","-","-","-","-","-","-","-","-","-","-","-","-",104,1,744,1,900,1,186,1,"-","-","-","-","-","-","-","-","-","-","-","-","-","-","-","-","-","-","-","-","-","-","-","-","-","-","-","-","-","-","-","-","-","-","-","-","-","-","-","-","-","-","-","-",10648,2,"-","-","-","-","-","-",9087,2,"-","-","-","-","-","-","-","-","-","-","-","-","-","-","-","-","-","-","-","-","-","-","-","-","-","-","-","-","-","-","-","-",32999,2,"-","-","-","-","-","-","-","-","-","-","-","-","-","-","-","-","-","-","-","-","-","-","-","-","-","-",28599,1,"-","-","-","-",15102,1,23920,1,"-","-","-","-","-","-","-","-","-","-","-","-",10636,1,"-","-","-","-","-","-","-","-","-","-","-","-","-",1,"-","-","-","-",268584,{"$f":"INDEX('Aircraft IDs'!A:G,MATCH(A188,'Aircraft IDs'!A:A,0),7)","v":"Helo"}]
[96,"Helicopter","Transport & Utility","Leonardo AW609","Leonardo AW609","Pratt & Whitney Canada PT6C","-","-","-","-",56029,1,"-","-","-","-","-","-","-","-","-","-","-","-","-","-","-","-","-","-","-","-","-","-","-","-","-","-","-","-","-","-","-","-","-","-","-","-","-","-","-","-","-","-","-","-","-","-",44030,0,"-","-","-","-","-","-","-","-","-","-","-","-","-","-","-","-","-","-","-","-","-","-","-","-","-","-","-","-",28767,1,"-","-","-","-","-","-","-","-","-","-","-","-","-","-","-","-","-","-","-","-","-","-","-","-","-","-","-","-","-","-","-","-",45546,1,"-","-","-","-","-","-","-","-","-","-","-","-","-","-",40485,1,"-","-","-","-","-","-","-","-","-","-","-","-","-","-",25303,2,"-","-","-","-","-","-","-","-","-","-",45546,4,"-","-","-","-","-","-","-","-","-","-","-","-","-","-",25303,1,"-","-","-","-","-","-","-","-","-","-","-","-","-","-","-","-","-","-","-","-",2612,1,18606,1,22500,1,4652,1,"-","-","-","-","-","-","-","-","-","-","-","-","-","-","-","-","-","-","-","-","-","-","-","-","-","-","-","-","-","-","-","-","-","-","-","-","-","-","-","-","-","-","-","-",22164,2,"-","-","-","-","-","-",31029,2,"-","-","-","-","-","-","-","-","-","-","-","-","-","-","-","-","-","-","-","-","-","-","-","-","-","-","-","-","-","-","-","-",32999,2,"-","-","-","-","-","-","-","-","-","-","-","-","-","-","-","-","-","-","-","-","-","-","-","-","-","-",54998,1,"-","-","-","-",43999,1,67985,1,"-","-","-","-","-","-","-","-","-","-","-","-",30388,1,"-","-","-","-","-","-","-","-","-","-","-","-","-",1,"-","-","-","-",642967,{"$f":"INDEX('Aircraft IDs'!A:G,MATCH(A193,'Aircraft IDs'!A:A,0),7)","v":"Helo"}]
[123,"Helicopter","Transport & Utility","NH90","NHIndustries Tactical Transport Helicopter","Safran RTM322","-","-",59764,1,"-","-","-","-","-","-","-","-","-","-","-","-","-","-","-","-","-","-","-","-","-","-","-","-","-","-","-","-","-","-","-","-","-","-","-","-","-","-","-","-","-","-","-","-",53814,1,"-","-","-","-","-","-","-","-","-","-","-","-","-","-","-","-","-","-",24461,1,"-","-","-","-","-","-","-","-","-","-","-","-","-","-","-","-","-","-","-","-","-","-","-","-","-","-","-","-","-","-","-","-",34520,1,28767,1,"-","-","-","-","-","-","-","-","-","-","-","-","-","-","-","-","-","-","-","-","-","-","-","-","-","-","-","-","-","-","-","-","-","-","-","-","-","-","-","-","-","-",25303,2,"-","-","-","-",25303,1,"-","-","-","-",50606,2,"-","-","-","-","-","-","-","-",101212,1,20243,1,"-","-","-","-","-","-","-","-","-","-","-","-","-","-","-","-","-","-","-","-","-","-","-","-",669,1,4763,1,5760,1,1191,1,"-","-","-","-","-","-","-","-","-","-","-","-","-","-","-","-","-","-",44643,1,"-","-","-","-","-","-",83705,1,"-","-",111607,2,78124,1,"-","-","-","-","-","-","-","-","-","-","-","-","-","-","-","-","-","-",53193,2,"-","-","-","-","-","-","-","-","-","-","-","-","-","-","-","-","-","-","-","-","-","-","-","-","-","-","-","-","-","-","-","-","-","-","-","-","-","-","-","-","-","-",76997,1,"-","-","-","-",43999,1,82497,1,"-","-","-","-",54998,1,43999,2,"-","-","-","-","-","-","-","-",114566,1,"-","-","-","-","-","-","-","-","-","-",121551,1,"-","-","-","-","-","-","-","-",98253,1,"-","-","-","-","-","-","-","-","-","-",1444540,{"$f":"INDEX('Aircraft IDs'!A:G,MATCH(A199,'Aircraft IDs'!A:A,0),7)","v":"Helo"}]
[129,"Helicopter","Transport & Utility","SH-60","Sikorsky SH-60 Seahawk - MH-60R","General Electric T700","-","-",59764,1,"-","-","-","-","-","-","-","-","-","-","-","-","-","-","-","-","-","-","-","-","-","-","-","-","-","-","-","-","-","-","-","-","-","-","-","-","-","-","-","-","-","-","-","-",53814,1,"-","-","-","-","-","-","-","-","-","-","-","-","-","-","-","-","-","-",24461,1,"-","-","-","-","-","-","-","-","-","-","-","-","-","-","-","-","-","-","-","-","-","-","-","-","-","-","-","-","-","-","-","-",34520,1,28767,1,"-","-","-","-","-","-","-","-","-","-","-","-","-","-","-","-","-","-","-","-","-","-","-","-","-","-","-","-","-","-","-","-","-","-","-","-","-","-","-","-","-","-",25303,2,"-","-","-","-",25303,1,"-","-","-","-",50606,2,"-","-","-","-","-","-","-","-",101212,1,20243,1,"-","-","-","-","-","-","-","-","-","-","-","-","-","-","-","-","-","-","-","-","-","-","-","-",1568,1,11164,1,13500,1,2791,1,"-","-","-","-","-","-","-","-","-","-","-","-","-","-","-","-","-","-",44643,1,"-","-","-","-","-","-",83705,1,"-","-",111607,2,78124,1,"-","-","-","-","-","-","-","-","-","-","-","-","-","-","-","-","-","-",53193,2,"-","-","-","-","-","-","-","-","-","-","-","-","-","-","-","-","-","-","-","-","-","-","-","-","-","-","-","-","-","-","-","-","-","-","-","-","-","-","-","-","-","-",76997,1,"-","-","-","-",43999,1,82497,1,"-","-","-","-",54998,1,43999,2,"-","-","-","-","-","-","-","-",114566,1,"-","-","-","-","-","-","-","-","-","-",121551,1,"-","-","-","-","-","-","-","-",98253,1,"-","-","-","-","-","-","-","-","-","-",1461180,{"$f":"INDEX('Aircraft IDs'!A:G,MATCH(A204,'Aircraft IDs'!A:A,0),7)","v":"Helo"}]
[95,"Helicopter","Transport & Utility","UH-1","Bell UH-1Y Venom","General Electric T700","-","-",59764,1,"-","-","-","-","-","-","-","-","-","-","-","-","-","-","-","-","-","-","-","-","-","-","-","-","-","-","-","-","-","-","-","-","-","-","-","-","-","-","-","-","-","-","-","-",53814,1,"-","-","-","-","-","-","-","-","-","-","-","-","-","-","-","-","-","-",24461,1,"-","-","-","-","-","-","-","-","-","-","-","-","-","-","-","-","-","-","-","-","-","-","-","-","-","-","-","-","-","-","-","-",34520,1,28767,1,"-","-","-","-","-","-","-","-","-","-","-","-","-","-","-","-","-","-","-","-","-","-","-","-","-","-","-","-","-","-","-","-","-","-","-","-","-","-","-","-","-","-",25303,2,"-","-","-","-",25303,1,"-","-","-","-",50606,2,"-","-","-","-","-","-","-","-",101212,1,20243,1,"-","-","-","-","-","-","-","-","-","-","-","-","-","-","-","-","-","-","-","-","-","-","-","-",1092,1,7773,1,9400,1,1944,1,"-","-","-","-","-","-","-","-","-","-","-","-","-","-","-","-","-","-",44643,1,"-","-","-","-","-","-",83705,1,"-","-",111607,2,78124,1,"-","-","-","-","-","-","-","-","-","-","-","-","-","-","-","-","-","-",53193,2,"-","-","-","-","-","-","-","-","-","-","-","-","-","-","-","-","-","-","-","-","-","-","-","-","-","-","-","-","-","-","-","-","-","-","-","-","-","-","-","-","-","-",76997,1,"-","-","-","-",43999,1,82497,1,"-","-","-","-",54998,1,43999,2,"-","-","-","-","-","-","-","-",114566,1,"-","-","-","-","-","-","-","-","-","-",121551,1,"-","-","-","-","-","-","-","-",98253,1,"-","-","-","-","-","-","-","-","-","-",1452366,{"$f":"INDEX('Aircraft IDs'!A:G,MATCH(A210,'Aircraft IDs'!A:A,0),7)","v":"Helo"}]
[634,"Large Commercial Aircraft","Single Aisle","A320ceo","A319-100","CFM International CFM56 - CFM56-5A",14941,2,56029,1,"-","-","-","-","-","-",13699,2,"-","-","-","-","-","-","-","-",5871,1,9784,1,"-","-","-","-",19569,1,"-","-","-","-",11741,2,11741,2,"-","-",5871,1,"-","-","-","-","-","-","-","-","-","-","-","-","-","-","-","-",5871,1,5871,2,"-","-","-","-","-","-","-","-","-","-","-","-","-","-",20712,1,17261,1,"-","-","-","-",11506,2,"-","-","-","-","-","-","-","-",23014,2,9205,1,17261,1,"-","-","-","-","-","-","-","-",28767,1,"-","-","-","-",15182,1,"-","-",8097,1,8097,1,"-","-","-","-","-","-",12145,1,"-","-",30364,3,"-","-","-","-",7085,2,30364,2,8097,2,"-","-","-","-","-","-",75910,1,"-","-",28340,1,"-","-","-","-","-","-",45546,2,"-","-","-","-","-","-","-","-","-","-",45546,2,"-","-","-","-",15182,2,20876,1,26094,2,12525,3,"-","-",10437,2,46970,2,26094,2,"-","-",2903,1,20674,1,25000,1,5168,1,"-","-","-","-","-","-","-","-","-","-","-","-","-","-","-","-","-","-","-","-","-","-","-","-","-","-","-","-","-","-","-","-","-","-","-","-","-","-","-","-",31029,3,"-","-",10638,8,"-","-","-","-",12412,2,"-","-","-","-","-","-","-","-","-","-","-","-","-","-","-","-",44327,1,"-","-","-","-","-","-","-","-","-","-","-","-","-","-",8800,12,"-","-","-","-","-","-","-","-","-","-","-","-","-","-","-","-","-","-","-","-","-","-","-","-","-","-","-","-","-","-","-","-",47519,1,43999,1,137227,1,"-","-",6078,1,30388,2,"-","-","-","-","-","-",24310,1,"-","-","-","-","-","-","-","-","-","-","-","-","-","-","-","-","-","-",1212232,{"$f":"INDEX('Aircraft IDs'!A:G,MATCH(A216,'Aircraft IDs'!A:A,0),7)","v":"A320"}]
[511,"Large Commercial Aircraft","Single Aisle","A320ceo","Airbus A320ceo","IAE V2500-A5",14941,2,56029,1,"-","-","-","-","-","-",13699,2,"-","-","-","-","-","-","-","-",5871,1,9784,1,"-","-","-","-",19569,1,"-","-","-","-",11741,2,11741,2,"-","-",5871,1,"-","-","-","-","-","-","-","-","-","-","-","-","-","-","-","-",5871,1,5871,2,"-","-","-","-","-","-","-","-","-","-","-","-","-","-",20712,1,17261,1,"-","-","-","-",11506,2,"-","-","-","-","-","-","-","-",23014,2,9205,1,17261,1,"-","-","-","-","-","-","-","-",28767,1,"-","-","-","-",15182,1,"-","-",8097,1,8097,1,"-","-","-","-","-","-",12145,1,"-","-",30364,3,"-","-","-","-",7085,2,30364,2,8097,2,"-","-","-","-","-","-",75910,1,"-","-",28340,1,"-","-","-","-","-","-",45546,2,"-","-","-","-","-","-","-","-","-","-",45546,2,"-","-","-","-",15182,2,20876,1,26094,2,12525,3,"-","-",10437,2,46970,2,26094,2,"-","-",2903,1,20674,1,25000,1,5168,1,"-","-","-","-","-","-","-","-","-","-","-","-","-","-","-","-","-","-","-","-","-","-","-","-","-","-","-","-","-","-","-","-","-","-","-","-","-","-","-","-",31029,3,"-","-",10638,8,"-","-","-","-",12412,2,"-","-","-","-","-","-","-","-","-","-","-","-","-","-","-","-",44327,1,"-","-","-","-","-","-","-","-","-","-","-","-","-","-",8800,12,"-","-","-","-","-","-","-","-","-","-","-","-","-","-","-","-","-","-","-","-","-","-","-","-","-","-","-","-","-","-","-","-",47519,1,43999,1,137227,1,"-","-",6078,1,30388,2,"-","-","-","-","-","-",24310,1,"-","-","-","-","-","-","-","-","-","-","-","-","-","-","-","-","-","-",1212232,{"$f":"INDEX('Aircraft IDs'!A:G,MATCH(A221,'Aircraft IDs'!A:A,0),7)","v":"A320"}]
[210,"Large Commercial Aircraft","Single Aisle","A320neo","Airbus A320neo","Pratt & Whitney PW1100G",14941,2,56029,1,"-","-","-","-","-","-",13699,2,"-","-","-","-","-","-","-","-",5871,1,9784,1,"-","-","-","-",19569,1,"-","-","-","-",11741,2,11741,2,"-","-",5871,1,"-","-","-","-","-","-","-","-","-","-","-","-","-","-","-","-",5871,1,5871,2,"-","-","-","-","-","-","-","-","-","-","-","-","-","-",20712,1,17261,1,"-","-","-","-",11506,2,"-","-","-","-","-","-","-","-",23014,2,9205,1,17261,1,"-","-","-","-","-","-","-","-",28767,1,"-","-","-","-",15182,1,"-","-",8097,1,8097,1,"-","-","-","-","-","-",12145,1,"-","-",30364,3,"-","-","-","-",7085,2,30364,2,8097,2,"-","-","-","-","-","-",75910,1,"-","-",28340,1,"-","-","-","-","-","-",45546,2,"-","-","-","-","-","-","-","-","-","-",45546,2,"-","-","-","-",15182,2,20876,1,26094,2,12525,3,"-","-",10437,2,46970,2,26094,2,"-","-",2903,1,20674,1,25000,1,5168,1,"-","-","-","-","-","-","-","-","-","-","-","-","-","-","-","-","-","-","-","-","-","-","-","-","-","-","-","-","-","-","-","-","-","-","-","-","-","-","-","-",31029,3,"-","-",10638,8,"-","-","-","-",12412,2,"-","-","-","-","-","-","-","-","-","-","-","-","-","-","-","-",44327,1,"-","-","-","-","-","-","-","-","-","-","-","-","-","-",8800,12,"-","-","-","-","-","-","-","-","-","-","-","-","-","-","-","-","-","-","-","-","-","-","-","-","-","-","-","-","-","-","-","-",47519,1,43999,1,137227,1,"-","-",6078,1,30388,2,"-","-","-","-","-","-",24310,1,"-","-","-","-","-","-","-","-","-","-","-","-","-","-","-","-","-","-",1212232,{"$f":"INDEX('Aircraft IDs'!A:G,MATCH(A227,'Aircraft IDs'!A:A,0),7)","v":"A320"}]
[515,"Large Commercial Aircraft","Single Aisle","A320neo","Airbus A321neo","CFM International LEAP-1A",14941,2,56029,1,"-","-","-","-","-","-",13699,2,"-","-","-","-","-","-","-","-",5871,1,9784,1,"-","-","-","-",19569,1,"-","-","-","-",11741,2,11741,2,"-","-",5871,1,"-","-","-","-","-","-","-","-","-","-","-","-","-","-","-","-",5871,1,5871,2,"-","-","-","-","-","-","-","-","-","-","-","-","-","-",20712,1,17261,1,"-","-","-","-",11506,2,"-","-","-","-","-","-","-","-",23014,2,9205,1,17261,1,"-","-","-","-","-","-","-","-",28767,1,"-","-","-","-",15182,1,"-","-",8097,1,8097,1,"-","-","-","-","-","-",12145,1,"-","-",30364,3,"-","-","-","-",7085,2,30364,2,8097,2,"-","-","-","-","-","-",75910,1,"-","-",28340,1,"-","-","-","-","-","-",45546,2,"-","-","-","-","-","-","-","-","-","-",45546,2,"-","-","-","-",15182,2,20876,1,26094,2,12525,3,"-","-",10437,2,46970,2,26094,2,"-","-",2903,1,20674,1,25000,1,5168,1,"-","-","-","-","-","-","-","-","-","-","-","-","-","-","-","-","-","-","-","-","-","-","-","-","-","-","-","-","-","-","-","-","-","-","-","-","-","-","-","-",31029,3,"-","-",10638,8,"-","-","-","-",12412,2,"-","-","-","-","-","-","-","-","-","-","-","-","-","-","-","-",44327,1,"-","-","-","-","-","-","-","-","-","-","-","-","-","-",8800,12,"-","-","-","-","-","-","-","-","-","-","-","-","-","-","-","-","-","-","-","-","-","-","-","-","-","-","-","-","-","-","-","-",47519,1,43999,1,137227,1,"-","-",6078,1,30388,2,"-","-","-","-","-","-",24310,1,"-","-","-","-","-","-","-","-","-","-","-","-","-","-","-","-","-","-",1212232,{"$f":"INDEX('Aircraft IDs'!A:G,MATCH(A232,'Aircraft IDs'!A:A,0),7)","v":"A320"}]
[534,"Large Commercial Aircraft","Single Aisle","Boeing 737 Classic","Boeing 737 Classic: 737-300","CFM International CFM56 - 3 ",14941,2,56029,1,"-","-","-","-","-","-",13699,2,"-","-","-","-","-","-","-","-",5871,1,9784,1,"-","-","-","-",19569,1,"-","-","-","-",11741,2,11741,2,"-","-",5871,1,"-","-","-","-","-","-","-","-","-","-","-","-","-","-","-","-",5871,1,5871,2,"-","-","-","-","-","-","-","-","-","-","-","-","-","-",20712,1,17261,1,"-","-","-","-",11506,2,"-","-","-","-","-","-","-","-",23014,2,9205,1,17261,1,"-","-","-","-","-","-","-","-",28767,1,"-","-","-","-",15182,1,"-","-",8097,1,8097,1,"-","-","-","-","-","-",12145,1,"-","-",30364,3,"-","-","-","-",7085,2,30364,2,8097,2,"-","-","-","-","-","-",75910,1,"-","-",28340,1,"-","-","-","-","-","-",45546,2,"-","-","-","-","-","-","-","-","-","-",45546,2,"-","-","-","-",15182,2,20876,1,26094,2,12525,3,"-","-",10437,2,46970,2,26094,2,"-","-",2903,1,20674,1,25000,1,5168,1,"-","-","-","-","-","-","-","-","-","-","-","-","-","-","-","-","-","-","-","-","-","-","-","-","-","-","-","-","-","-","-","-","-","-","-","-","-","-","-","-",31029,3,"-","-",10638,8,"-","-","-","-",12412,2,"-","-","-","-","-","-","-","-","-","-","-","-","-","-","-","-",44327,1,"-","-","-","-","-","-","-","-","-","-","-","-","-","-",8800,12,"-","-","-","-","-","-","-","-","-","-","-","-","-","-","-","-","-","-","-","-","-","-","-","-","-","-","-","-","-","-","-","-",47519,1,43999,1,137227,1,"-","-",6078,1,30388,2,"-","-","-","-","-","-",24310,1,"-","-","-","-","-","-","-","-","-","-","-","-","-","-","-","-","-","-",1212232,{"$f":"INDEX('Aircraft IDs'!A:G,MATCH(A237,'Aircraft IDs'!A:A,0),7)","v":"B737"}]
[197,"Large Commercial Aircraft","Single Aisle","Boeing 737MAX","Boeing 737 MAX: 737 MAX 9","CFM International LEAP-1B",14941,2,56029,1,"-","-","-","-","-","-",13699,2,"-","-","-","-","-","-","-","-",5871,1,9784,1,"-","-","-","-",19569,1,"-","-","-","-",11741,2,11741,2,"-","-",5871,1,"-","-","-","-","-","-","-","-","-","-","-","-","-","-","-","-",5871,1,5871,2,"-","-","-","-","-","-","-","-","-","-","-","-","-","-",20712,1,17261,1,"-","-","-","-",11506,2,"-","-","-","-","-","-","-","-",23014,2,9205,1,17261,1,"-","-","-","-","-","-","-","-",28767,1,"-","-","-","-",15182,1,"-","-",8097,1,8097,1,"-","-","-","-","-","-",12145,1,"-","-",30364,3,"-","-","-","-",7085,2,30364,2,8097,2,"-","-","-","-","-","-",75910,1,"-","-",28340,1,"-","-","-","-","-","-",45546,2,"-","-","-","-","-","-","-","-","-","-",45546,2,"-","-","-","-",15182,2,20876,1,26094,2,12525,3,"-","-",10437,2,46970,2,26094,2,"-","-",2903,1,20674,1,25000,1,5168,1,"-","-","-","-","-","-","-","-","-","-","-","-","-","-","-","-","-","-","-","-","-","-","-","-","-","-","-","-","-","-","-","-","-","-","-","-","-","-","-","-",31029,3,"-","-",10638,8,"-","-","-","-",12412,2,"-","-","-","-","-","-","-","-","-","-","-","-","-","-","-","-",44327,1,"-","-","-","-","-","-","-","-","-","-","-","-","-","-",8800,12,"-","-","-","-","-","-","-","-","-","-","-","-","-","-","-","-","-","-","-","-","-","-","-","-","-","-","-","-","-","-","-","-",47519,1,43999,1,137227,1,"-","-",6078,1,30388,2,"-","-","-","-","-","-",24310,1,"-","-","-","-","-","-","-","-","-","-","-","-","-","-","-","-","-","-",1212232,{"$f":"INDEX('Aircraft IDs'!A:G,MATCH(A243,'Aircraft IDs'!A:A,0),7)","v":"B737"}]
[522,"Large Commercial Aircraft","Single Aisle","Boeing 757","Boeing 757","Pratt & Whitney PW2000",14941,2,56029,1,"-","-","-","-","-","-",13699,2,"-","-","-","-","-","-","-","-",5871,2,9784,1,"-","-","-","-",19569,1,"-","-","-","-",11741,2,11741,2,"-","-",5871,1,"-","-","-","-","-","-","-","-","-","-","-","-","-","-","-","-",5871,1,5871,2,"-","-","-","-","-","-","-","-","-","-","-","-","-","-",20712,1,17261,1,"-","-","-","-",11506,2,"-","-","-","-","-","-","-","-",23014,2,9205,1,17261,1,"-","-","-","-","-","-","-","-",28767,1,"-","-","-","-",15182,1,"-","-",8097,1,8097,1,"-","-","-","-","-","-",12145,1,"-","-",30364,3,"-","-","-","-",7085,2,30364,2,8097,2,"-","-","-","-","-","-",75910,1,"-","-",28340,1,"-","-","-","-","-","-",45546,2,"-","-","-","-","-","-","-","-","-","-",45546,2,"-","-","-","-",15182,2,20876,1,26094,2,12525,3,"-","-",10437,2,46970,2,26094,2,"-","-",2903,1,20674,1,25000,1,5168,1,"-","-","-","-","-","-","-","-","-","-","-","-","-","-","-","-","-","-","-","-","-","-","-","-","-","-","-","-","-","-","-","-","-","-","-","-","-","-","-","-",31029,3,"-","-",10638,8,"-","-","-","-",12412,2,"-","-","-","-","-","-","-","-","-","-","-","-","-","-","-","-",44327,1,"-","-","-","-","-","-","-","-","-","-","-","-","-","-",8800,12,"-","-","-","-","-","-","-","-","-","-","-","-","-","-","-","-","-","-","-","-","-","-","-","-","-","-","-","-","-","-","-","-",47519,1,43999,1,137227,1,"-","-",6078,1,30388,2,"-","-","-","-","-","-",24310,1,"-","-","-","-","-","-","-","-","-","-","-","-","-","-","-","-","-","-",1212233,{"$f":"INDEX('Aircraft IDs'!A:G,MATCH(A248,'Aircraft IDs'!A:A,0),7)","v":"B757"}]
[230,"Large Commercial Aircraft","Single Aisle","Boeing 757","Boeing 757","Rolls-Royce RB211-534E4/E4B",14941,2,56029,1,"-","-","-","-","-","-",13699,2,"-","-","-","-","-","-","-","-",5871,2,9784,1,"-","-","-","-",19569,1,"-","-","-","-",11741,2,11741,2,"-","-",5871,1,"-","-","-","-","-","-","-","-","-","-","-","-","-","-","-","-",5871,1,5871,2,"-","-","-","-","-","-","-","-","-","-","-","-","-","-",20712,1,17261,1,"-","-","-","-",11506,2,"-","-","-","-","-","-","-","-",23014,2,9205,1,17261,1,"-","-","-","-","-","-","-","-",28767,1,"-","-","-","-",15182,1,"-","-",8097,1,8097,1,"-","-","-","-","-","-",12145,1,"-","-",30364,3,"-","-","-","-",7085,2,30364,2,8097,2,"-","-","-","-","-","-",75910,1,"-","-",28340,1,"-","-","-","-","-","-",45546,2,"-","-","-","-","-","-","-","-","-","-",45546,2,"-","-","-","-",15182,2,20876,1,26094,2,12525,3,"-","-",10437,2,46970,2,26094,2,"-","-",2903,1,20674,1,25000,1,5168,1,"-","-","-","-","-","-","-","-","-","-","-","-","-","-","-","-","-","-","-","-","-","-","-","-","-","-","-","-","-","-","-","-","-","-","-","-","-","-","-","-",31029,3,"-","-",10638,8,"-","-","-","-",12412,2,"-","-","-","-","-","-","-","-","-","-","-","-","-","-","-","-",44327,1,"-","-","-","-","-","-","-","-","-","-","-","-","-","-",8800,12,"-","-","-","-","-","-","-","-","-","-","-","-","-","-","-","-","-","-","-","-","-","-","-","-","-","-","-","-","-","-","-","-",47519,1,43999,1,137227,1,"-","-",6078,1,30388,2,"-","-","-","-","-","-",24310,1,"-","-","-","-","-","-","-","-","-","-","-","-","-","-","-","-","-","-",1212233,{"$f":"INDEX('Aircraft IDs'!A:G,MATCH(A249,'Aircraft IDs'!A:A,0),7)","v":"B757"}]
[212,"Large Commercial Aircraft","Twin Aisle","A330","Airbus A330-200","General Electric CF6-80E1",11206,2,59764,1,"-","-","-","-",17612,2,"-","-",24461,1,"-","-","-","-","-","-","-","-","-","-","-","-","-","-",17612,1,"-","-","-","-",17612,2,17612,3,"-","-",4893,1,24461,1,"-","-","-","-","-","-","-","-","-","-","-","-","-","-",7828,3,34245,3,"-","-","-","-",48922,1,"-","-","-","-","-","-","-","-","-","-","-","-","-","-","-","-",34520,2,46027,1,"-","-","-","-","-","-",34520,2,"-","-",23014,1,"-","-","-","-","-","-","-","-",20712,1,"-","-",28767,1,"-","-","-","-",10121,1,10121,1,"-","-","-","-",25303,2,"-","-","-","-",70849,3,"-","-","-","-","-","-","-","-",15182,1,"-","-",25303,1,"-","-","-","-","-","-",30364,1,"-","-","-","-",70849,6,"-","-","-","-","-","-","-","-","-","-","-","-","-","-","-","-","-","-",30364,2,"-","-","-","-","-","-","-","-",52188,2,97461,2,41750,3,31313,1,3890,1,27702,1,33500,1,6926,1,104151,2,"-","-","-","-","-","-","-","-","-","-","-","-","-","-","-","-","-","-","-","-","-","-","-","-","-","-","-","-","-","-","-","-","-","-","-","-","-","-",44327,3,"-","-",10638,8,"-","-","-","-","-","-","-","-","-","-","-","-","-","-","-","-","-","-","-","-","-","-",44327,2,"-","-","-","-",15958,2,"-","-","-","-",13298,2,"-","-",10999,8,"-","-","-","-","-","-","-","-","-","-","-","-","-","-","-","-","-","-","-","-","-","-","-","-","-","-","-","-",44879,1,8800,6,82497,1,49498,1,190104,1,"-","-","-","-",35452,2,"-","-","-","-","-","-",45581,1,"-","-","-","-","-","-","-","-","-","-","-","-","-","-","-","-","-","-",1757582,{"$f":"INDEX('Aircraft IDs'!A:G,MATCH(A254,'Aircraft IDs'!A:A,0),7)","v":"A330"}]
[519,"Large Commercial Aircraft","Twin Aisle","A330","Airbus A330-300","Rolls-Royce Trent 700",11206,2,59764,1,"-","-","-","-",17612,2,"-","-",24461,1,"-","-","-","-","-","-","-","-","-","-","-","-","-","-",17612,1,"-","-","-","-",17612,2,17612,3,"-","-",4893,1,24461,1,"-","-","-","-","-","-","-","-","-","-","-","-","-","-",7828,3,34245,3,"-","-","-","-",48922,1,"-","-","-","-","-","-","-","-","-","-","-","-","-","-","-","-",34520,2,46027,1,"-","-","-","-","-","-",34520,2,"-","-",23014,1,"-","-","-","-","-","-","-","-",20712,1,"-","-",28767,1,"-","-","-","-",10121,1,10121,1,"-","-","-","-",25303,2,"-","-","-","-",70849,3,"-","-","-","-","-","-","-","-",15182,1,"-","-",25303,1,"-","-","-","-","-","-",30364,1,"-","-","-","-",70849,6,"-","-","-","-","-","-","-","-","-","-","-","-","-","-","-","-","-","-",30364,2,"-","-","-","-","-","-","-","-",52188,2,97461,2,41750,3,31313,1,3890,1,27702,1,33500,1,6926,1,104151,2,"-","-","-","-","-","-","-","-","-","-","-","-","-","-","-","-","-","-","-","-","-","-","-","-","-","-","-","-","-","-","-","-","-","-","-","-","-","-",44327,3,"-","-",10638,8,"-","-","-","-","-","-","-","-","-","-","-","-","-","-","-","-","-","-","-","-","-","-",44327,2,"-","-","-","-",15958,2,"-","-","-","-",13298,2,"-","-",10999,8,"-","-","-","-","-","-","-","-","-","-","-","-","-","-","-","-","-","-","-","-","-","-","-","-","-","-","-","-",44879,1,8800,6,82497,1,49498,1,190104,1,"-","-","-","-",35452,2,"-","-","-","-","-","-",45581,1,"-","-","-","-","-","-","-","-","-","-","-","-","-","-","-","-","-","-",1757582,{"$f":"INDEX('Aircraft IDs'!A:G,MATCH(A259,'Aircraft IDs'!A:A,0),7)","v":"A330"}]
[7,"Large Commercial Aircraft","Twin Aisle","A350","Airbus A350-1000","Rolls-Royce Trent XWB-97",11206,2,59764,1,"-","-",48559,2,11741,2,"-","-","-","-","-","-","-","-","-","-","-","-","-","-","-","-","-","-",19569,1,24461,1,"-","-",17612,2,17612,2,"-","-",4893,1,19569,1,"-","-",34245,1,"-","-","-","-","-","-","-","-","-","-",7828,1,"-","-","-","-",24461,2,48922,1,"-","-","-","-","-","-","-","-","-","-","-","-","-","-","-","-",34520,2,"-","-","-","-","-","-","-","-",34520,2,9205,1,23014,1,"-","-","-","-","-","-","-","-",27616,1,"-","-",28767,1,20243,1,"-","-","-","-",10121,1,50606,1,"-","-","-","-","-","-","-","-",50606,2,"-","-","-","-","-","-","-","-",20243,1,"-","-",30364,1,"-","-",111333,2,"-","-",35424,1,"-","-","-","-",85018,5,"-","-","-","-","-","-","-","-","-","-","-","-","-","-","-","-","-","-","-","-","-","-","-","-","-","-","-","-","-","-",117423,2,41750,2,15657,1,5806,1,41346,1,50000,1,10336,1,"-","-",182270,2,156228,1,"-","-","-","-","-","-","-","-",26038,14,"-","-","-","-","-","-","-","-","-","-","-","-","-","-","-","-","-","-","-","-","-","-","-","-","-","-",31029,2,10638,8,"-","-","-","-",10638,2,"-","-","-","-","-","-","-","-","-","-",13298,2,"-","-",39894,2,44327,2,"-","-","-","-",13298,2,"-","-","-","-","-","-","-","-",13200,14,"-","-","-","-","-","-","-","-","-","-","-","-","-","-","-","-","-","-","-","-","-","-","-","-","-","-","-","-",48179,1,"-","-",82497,1,49498,1,261865,1,"-","-","-","-",42542,2,"-","-","-","-","-","-",48620,1,"-","-",43555,1,"-","-","-","-","-","-","-","-","-","-","-","-","-","-",2322085,{"$f":"INDEX('Aircraft IDs'!A:G,MATCH(A265,'Aircraft IDs'!A:A,0),7)","v":"A350"}]
[12,"Large Commercial Aircraft","Twin Aisle","Boeing 767","Boeing 767","General Electric CF6-80C2",22412,2,74705,1,"-","-","-","-",17612,2,"-","-",24461,1,"-","-","-","-","-","-","-","-","-","-","-","-","-","-",17612,1,"-","-","-","-",17612,2,17612,3,"-","-",4893,1,24461,1,"-","-","-","-","-","-","-","-","-","-","-","-","-","-",7828,3,34245,3,"-","-","-","-",48922,1,"-","-","-","-","-","-","-","-","-","-","-","-","-","-","-","-",34520,2,46027,1,"-","-","-","-","-","-",34520,2,"-","-",23014,1,"-","-","-","-","-","-","-","-",20712,1,"-","-",28767,1,"-","-","-","-",10121,1,10121,1,"-","-","-","-",25303,2,"-","-","-","-",70849,3,"-","-","-","-","-","-","-","-",15182,1,"-","-",25303,1,"-","-","-","-","-","-",30364,1,"-","-","-","-",50606,6,"-","-","-","-","-","-","-","-","-","-","-","-","-","-","-","-","-","-",45546,2,"-","-","-","-","-","-","-","-",52188,2,117423,2,41750,3,31313,1,3019,1,21500,1,26000,1,5375,1,78114,2,"-","-","-","-","-","-","-","-","-","-","-","-","-","-","-","-","-","-","-","-","-","-","-","-","-","-","-","-","-","-","-","-","-","-","-","-","-","-",44327,3,"-","-",10638,8,"-","-","-","-","-","-","-","-","-","-","-","-","-","-","-","-","-","-","-","-","-","-",44327,2,"-","-","-","-",15958,2,"-","-","-","-",13298,2,"-","-",10999,8,"-","-","-","-","-","-","-","-","-","-","-","-","-","-","-","-","-","-","-","-","-","-","-","-","-","-","-","-",44879,1,8800,6,82497,1,38499,1,190104,1,"-","-","-","-",30388,2,"-","-","-","-","-","-",42542,1,"-","-","-","-","-","-","-","-","-","-","-","-","-","-","-","-","-","-",1737367,{"$f":"INDEX('Aircraft IDs'!A:G,MATCH(A270,'Aircraft IDs'!A:A,0),7)","v":"B767"}]
[201,"Large Commercial Aircraft","Twin Aisle","Boeing 777","Boeing 777: 777-200LR","General Electric GE90-115B",11206,2,59764,1,"-","-",48559,2,11741,2,"-","-","-","-","-","-","-","-","-","-","-","-","-","-","-","-","-","-",19569,1,24461,1,"-","-",17612,2,17612,2,"-","-",4893,1,19569,1,"-","-",34245,1,"-","-","-","-","-","-","-","-","-","-",7828,1,"-","-","-","-",24461,2,48922,1,"-","-","-","-","-","-","-","-","-","-","-","-","-","-","-","-",34520,2,"-","-","-","-","-","-","-","-",34520,2,9205,1,23014,1,"-","-","-","-","-","-","-","-",27616,1,"-","-",28767,1,20243,1,"-","-","-","-",10121,1,50606,1,"-","-","-","-","-","-","-","-",50606,2,"-","-","-","-","-","-","-","-",20243,1,"-","-",30364,1,"-","-",111333,2,"-","-",35424,1,"-","-","-","-",85018,5,"-","-","-","-","-","-","-","-","-","-","-","-","-","-","-","-","-","-","-","-","-","-","-","-","-","-","-","-","-","-",117423,2,41750,2,15657,1,4470,1,31837,1,38500,1,7959,1,"-","-",182270,2,156228,1,"-","-","-","-","-","-","-","-",26038,14,"-","-","-","-","-","-","-","-","-","-","-","-","-","-","-","-","-","-","-","-","-","-","-","-","-","-",31029,2,10638,8,"-","-","-","-",10638,2,"-","-","-","-","-","-","-","-","-","-",13298,2,"-","-",39894,2,44327,2,"-","-","-","-",13298,2,"-","-","-","-","-","-","-","-",13200,14,"-","-","-","-","-","-","-","-","-","-","-","-","-","-","-","-","-","-","-","-","-","-","-","-","-","-","-","-",48179,1,"-","-",82497,1,49498,1,261865,1,"-","-","-","-",42542,2,"-","-","-","-","-","-",48620,1,"-","-",43555,1,"-","-","-","-","-","-","-","-","-","-","-","-","-","-",2297363,{"$f":"INDEX('Aircraft IDs'!A:G,MATCH(A276,'Aircraft IDs'!A:A,0),7)","v":"B777"}]
[204,"Large Commercial Aircraft","Twin Aisle","Boeing 777X","Boeing 777X: 777-9","General Electric GE9X",22412,2,59764,1,"-","-",48559,2,11741,2,"-","-","-","-","-","-","-","-","-","-","-","-","-","-","-","-","-","-",19569,1,24461,1,"-","-",17612,2,17612,2,"-","-",4893,1,19569,1,"-","-",34245,1,"-","-","-","-","-","-","-","-","-","-",7828,1,"-","-","-","-",24461,2,48922,1,"-","-","-","-","-","-","-","-","-","-","-","-","-","-","-","-",34520,2,"-","-","-","-","-","-","-","-",34520,2,9205,1,23014,1,"-","-","-","-","-","-","-","-",27616,1,"-","-",28767,1,20243,1,"-","-","-","-",10121,1,50606,1,"-","-","-","-","-","-","-","-",50606,2,"-","-","-","-","-","-","-","-",20243,1,"-","-",30364,1,"-","-",111333,2,"-","-",35424,1,"-","-","-","-",85018,5,"-","-","-","-","-","-","-","-","-","-","-","-","-","-","-","-","-","-","-","-","-","-","-","-","-","-","-","-","-","-",97461,2,41750,2,15657,1,4935,1,35144,1,42500,1,8786,1,"-","-",156228,2,156228,1,"-","-","-","-","-","-","-","-",26038,14,"-","-","-","-","-","-","-","-","-","-","-","-","-","-","-","-","-","-","-","-","-","-","-","-","-","-",31029,2,10638,8,"-","-","-","-",10638,2,"-","-","-","-","-","-","-","-","-","-",13298,2,"-","-",39894,2,44327,2,"-","-","-","-",13298,2,"-","-","-","-","-","-","-","-",13200,14,"-","-","-","-","-","-","-","-","-","-","-","-","-","-","-","-","-","-","-","-","-","-","-","-","-","-","-","-",48179,1,"-","-",82497,1,49498,1,261865,1,"-","-","-","-",35452,2,"-","-","-","-","-","-",45581,1,"-","-",43555,1,"-","-","-","-","-","-","-","-","-","-","-","-","-","-",2261035,{"$f":"INDEX('Aircraft IDs'!A:G,MATCH(A281,'Aircraft IDs'!A:A,0),7)","v":"B777"}]
[199,"Large Commercial Aircraft","Twin Aisle","Boeing 787","Boeing 787 Dreamliner: 787-9","General Electric GEnx-1B",11206,2,59764,1,"-","-",48559,2,11741,2,"-","-","-","-","-","-","-","-","-","-","-","-","-","-","-","-","-","-",19569,1,24461,1,"-","-",17612,2,17612,2,"-","-",4893,1,19569,1,"-","-",34245,1,"-","-","-","-","-","-","-","-","-","-",7828,1,"-","-","-","-",24461,2,48922,1,"-","-","-","-","-","-","-","-","-","-","-","-","-","-","-","-",34520,2,"-","-","-","-","-","-","-","-",34520,2,9205,1,23014,1,"-","-","-","-","-","-","-","-",27616,1,"-","-",28767,1,20243,1,"-","-","-","-",10121,1,50606,1,"-","-","-","-","-","-","-","-",50606,2,"-","-","-","-","-","-","-","-",20243,1,"-","-",30364,1,"-","-",111333,2,"-","-",35424,1,"-","-","-","-",85018,5,"-","-","-","-","-","-","-","-","-","-","-","-","-","-","-","-","-","-","-","-","-","-","-","-","-","-","-","-","-","-",117423,2,41750,2,15657,1,6038,1,43000,1,52000,1,10750,1,"-","-",182270,2,156228,1,"-","-","-","-","-","-","-","-",26038,14,"-","-","-","-","-","-","-","-","-","-","-","-","-","-","-","-","-","-","-","-","-","-","-","-","-","-",31029,2,10638,8,"-","-","-","-",10638,2,"-","-","-","-","-","-","-","-","-","-",13298,2,"-","-",39894,2,44327,2,"-","-","-","-",13298,2,"-","-","-","-","-","-","-","-",13200,14,"-","-","-","-","-","-","-","-","-","-","-","-","-","-","-","-","-","-","-","-","-","-","-","-","-","-","-","-",48179,1,"-","-",82497,1,49498,1,261865,1,"-","-","-","-",42542,2,"-","-","-","-","-","-",48620,1,"-","-",43555,1,"-","-","-","-","-","-","-","-","-","-","-","-","-","-",2326385,{"$f":"INDEX('Aircraft IDs'!A:G,MATCH(A286,'Aircraft IDs'!A:A,0),7)","v":"B787"}]
[531,"Large Commercial Aircraft","Very large aircraft","Boeing 747","Boeing 747-400","Rolls-Royce RB211-524G/H &T",22412,2,59764,1,"-","-","-","-",17612,2,"-","-",24461,1,"-","-","-","-","-","-","-","-","-","-","-","-","-","-",17612,1,"-","-","-","-",17612,2,17612,3,"-","-",4893,1,24461,1,"-","-","-","-","-","-","-","-","-","-","-","-","-","-",7828,3,34245,3,"-","-","-","-",48922,1,"-","-","-","-","-","-","-","-","-","-","-","-","-","-","-","-",34520,2,46027,1,"-","-","-","-","-","-",34520,2,"-","-",23014,1,"-","-","-","-","-","-","-","-",20712,1,"-","-",28767,1,"-","-","-","-",10121,1,10121,1,"-","-","-","-",25303,2,"-","-","-","-",70849,3,"-","-","-","-","-","-","-","-",15182,1,"-","-",25303,1,"-","-","-","-","-","-",30364,1,"-","-","-","-",70849,6,"-","-","-","-","-","-","-","-","-","-","-","-","-","-","-","-","-","-",45546,2,"-","-","-","-","-","-","-","-",52188,2,117423,2,41750,3,31313,1,6967,1,49616,1,60000,1,12404,1,78114,2,"-","-","-","-","-","-","-","-","-","-","-","-","-","-","-","-","-","-","-","-","-","-","-","-","-","-","-","-","-","-","-","-","-","-","-","-","-","-",44327,3,"-","-",10638,8,"-","-","-","-","-","-","-","-","-","-","-","-","-","-","-","-","-","-","-","-","-","-",44327,2,"-","-","-","-",15958,2,"-","-","-","-",13298,2,"-","-",10999,8,"-","-","-","-","-","-","-","-","-","-","-","-","-","-","-","-","-","-","-","-","-","-","-","-","-","-","-","-",44879,1,8800,6,82497,1,49498,1,190104,1,"-","-","-","-",42542,2,"-","-","-","-","-","-",48620,1,"-","-","-","-","-","-","-","-","-","-","-","-","-","-","-","-","-","-",1844993,{"$f":"INDEX('Aircraft IDs'!A:G,MATCH(A292,'Aircraft IDs'!A:A,0),7)","v":"B747"}]
[636,"Military Transport / Special Mission","Military Jet","B-52 Stratofortress","Boeing B-52 Stratofortress","Pratt & Whitney TF33-P-3/103",14941,2,56029,1,"-","-","-","-","-","-",13699,2,"-","-","-","-","-","-","-","-",5871,2,5871,1,"-","-","-","-",11741,1,"-","-","-","-",9784,2,9784,2,"-","-",3913,1,"-","-","-","-","-","-","-","-","-","-","-","-","-","-","-","-",4893,1,4893,2,"-","-","-","-","-","-","-","-","-","-","-","-","-","-",20712,1,17261,1,"-","-","-","-",11506,2,"-","-","-","-","-","-","-","-",23014,2,9205,1,17261,1,"-","-","-","-","-","-","-","-",28767,1,"-","-","-","-",15182,1,"-","-",8097,1,8097,1,"-","-","-","-","-","-",12145,1,"-","-",30364,3,"-","-","-","-",7085,2,30364,2,8097,2,"-","-","-","-","-","-",75910,1,"-","-",28340,1,"-","-","-","-","-","-",45546,2,"-","-","-","-","-","-","-","-","-","-",45546,2,"-","-","-","-",15182,2,20876,1,26094,2,12525,3,"-","-",10437,2,46970,2,26094,2,"-","-",2903,1,20674,1,25000,1,5168,1,78114,2,"-","-","-","-",676984,1,"-","-","-","-","-","-","-","-","-","-","-","-",167409,1,150669,1,195311,1,"-","-",167409,2,"-","-","-","-","-","-","-","-","-","-",31029,3,"-","-",10638,8,"-","-","-","-",12412,2,"-","-","-","-","-","-","-","-","-","-","-","-","-","-","-","-",33245,1,"-","-","-","-","-","-","-","-","-","-","-","-","-","-",8800,12,"-","-","-","-","-","-","-","-","-","-","-","-","-","-","-","-","-","-","-","-","-","-","-","-","-","-","-","-",137496,1,"-","-","-","-",38499,2,148558,1,"-","-",6078,1,30388,2,"-","-","-","-","-","-",24310,1,"-","-","-","-","-","-","-","-","-","-","-",2,"-",1,"-",1,"-",1,2713300,{"$f":"INDEX('Aircraft IDs'!A:G,MATCH(A297,'Aircraft IDs'!A:A,0),7)","v":"Military Jet"}]
[163,"Military Transport / Special Mission","Military Jet","C-5","Lockheed C-5 Galaxy","General Electric CF6-80C2","-","-",97116,1,"-","-","-","-","-","-","-","-","-","-","-","-","-","-","-","-","-","-","-","-",39138,2,58707,1,"-","-","-","-","-","-","-","-","-","-","-","-","-","-","-","-",73384,1,"-","-","-","-","-","-","-","-","-","-","-","-","-","-","-","-","-","-","-","-","-","-","-","-","-","-","-","-",115069,1,"-","-","-","-","-","-","-","-","-","-","-","-","-","-","-","-","-","-","-","-","-","-","-","-","-","-","-","-","-","-","-","-","-","-","-","-","-","-","-","-","-","-","-","-","-","-","-","-","-","-","-","-","-","-","-","-","-","-","-","-","-","-","-","-","-","-","-","-","-","-","-","-","-","-",151818,2,"-","-","-","-",20243,2,"-","-","-","-","-","-","-","-","-","-","-","-","-","-","-","-",65788,6,"-","-","-","-","-","-","-","-","-","-","-","-",78282,2,"-","-","-","-",46970,2,"-","-",6967,1,49616,1,60000,1,12404,1,78114,2,"-","-","-","-",676984,1,"-","-","-","-","-","-","-","-","-","-","-","-",167409,1,150669,1,195311,1,"-","-",167409,2,"-","-","-","-","-","-","-","-","-","-","-","-","-","-",26597,2,"-","-","-","-","-","-","-","-","-","-","-","-","-","-",44327,3,"-","-","-","-","-","-",44327,2,"-","-","-","-",15958,2,"-","-",22164,2,"-","-","-","-",13200,8,"-","-","-","-","-","-","-","-","-","-","-","-","-","-","-","-","-","-","-","-",54998,3,"-","-","-","-","-","-",137496,1,"-","-","-","-","-","-",210247,1,136744,1,"-","-","-","-","-","-","-","-","-","-","-","-",81034,3,"-","-","-","-","-","-","-","-","-","-","-","-","-","-","-","-",3098550,{"$f":"INDEX('Aircraft IDs'!A:G,MATCH(A302,'Aircraft IDs'!A:A,0),7)","v":"Military Jet"}]
[162,"Military Transport / Special Mission","Military Turboprop","C-130J","Lockheed Martin C-130J Super Hercules","Rolls-Royce AE 2100","-","-",97116,1,"-","-","-","-","-","-","-","-","-","-","-","-","-","-","-","-","-","-","-","-",39138,2,58707,1,"-","-","-","-","-","-","-","-","-","-","-","-","-","-","-","-",73384,1,"-","-","-","-","-","-","-","-","-","-","-","-","-","-","-","-","-","-","-","-","-","-","-","-","-","-","-","-",115069,1,"-","-","-","-","-","-","-","-","-","-","-","-","-","-","-","-","-","-","-","-","-","-","-","-","-","-","-","-","-","-","-","-","-","-","-","-","-","-","-","-","-","-","-","-","-","-","-","-","-","-","-","-","-","-","-","-","-","-","-","-","-","-","-","-","-","-","-","-","-","-","-","-","-","-",151818,2,"-","-","-","-",20243,2,"-","-","-","-","-","-","-","-","-","-","-","-","-","-","-","-",65788,6,"-","-","-","-","-","-","-","-","-","-","-","-",78282,2,"-","-","-","-",46970,2,"-","-",3658,1,26048,1,31500,1,6512,1,78114,2,"-","-","-","-",260379,1,"-","-","-","-","-","-","-","-","-","-","-","-",167409,1,150669,1,195311,1,"-","-",167409,2,"-","-","-","-","-","-","-","-","-","-","-","-","-","-",26597,2,"-","-","-","-","-","-","-","-","-","-","-","-","-","-",44327,3,"-","-","-","-","-","-",44327,2,"-","-","-","-",15958,2,"-","-",22164,2,"-","-","-","-",13200,8,"-","-","-","-","-","-","-","-","-","-","-","-","-","-","-","-","-","-","-","-",54998,3,"-","-","-","-","-","-",137496,1,"-","-","-","-","-","-",210247,1,136744,1,"-","-","-","-","-","-","-","-","-","-","-","-",81034,3,"-","-","-","-","-","-","-","-","-","-","-","-","-","-","-","-",2620676,{"$f":"INDEX('Aircraft IDs'!A:G,MATCH(A308,'Aircraft IDs'!A:A,0),7)","v":"Military TP"}]
[181,"Military Transport / Special Mission","Military Turboprop","ShinMaywa US-2","ShinMaywa US-2","Rolls-Royce AE 2100","-","-",97116,1,"-","-","-","-","-","-","-","-","-","-","-","-","-","-","-","-","-","-","-","-",39138,2,58707,1,"-","-","-","-","-","-","-","-","-","-","-","-","-","-","-","-",73384,1,"-","-","-","-","-","-","-","-","-","-","-","-","-","-","-","-","-","-","-","-","-","-","-","-","-","-","-","-",115069,1,"-","-","-","-","-","-","-","-","-","-","-","-","-","-","-","-","-","-","-","-","-","-","-","-","-","-","-","-","-","-","-","-","-","-","-","-","-","-","-","-","-","-","-","-","-","-","-","-","-","-","-","-","-","-","-","-","-","-","-","-","-","-","-","-","-","-","-","-","-","-","-","-","-","-",151818,2,"-","-","-","-",20243,2,"-","-","-","-","-","-","-","-","-","-","-","-","-","-","-","-",65788,6,"-","-","-","-","-","-","-","-","-","-","-","-",78282,2,"-","-","-","-",46970,2,"-","-",824,1,5871,1,7100,1,1468,1,78114,2,"-","-","-","-",676984,1,"-","-","-","-","-","-","-","-","-","-","-","-",167409,1,150669,1,195311,1,"-","-",167409,2,"-","-","-","-","-","-","-","-","-","-","-","-","-","-",26597,2,"-","-","-","-","-","-","-","-","-","-","-","-","-","-",44327,3,"-","-","-","-","-","-",44327,2,"-","-","-","-",15958,2,"-","-",22164,2,"-","-","-","-",13200,8,"-","-","-","-","-","-","-","-","-","-","-","-","-","-","-","-","-","-","-","-",54998,3,"-","-","-","-","-","-",137496,1,"-","-","-","-","-","-",210247,1,136744,1,"-","-","-","-","-","-","-","-","-","-","-","-",81034,3,"-","-","-","-","-","-","-","-","-","-","-","-","-","-","-","-",2984826,{"$f":"INDEX('Aircraft IDs'!A:G,MATCH(A313,'Aircraft IDs'!A:A,0),7)","v":"Military TP"}]
[574,"Military Transport / Special Mission","Transport & Utility","Boeing C-40 Clipper ","Boeing C-40 Clipper","CFM International CFM56 - 7B",14941,2,56029,1,"-","-","-","-","-","-",13699,2,"-","-","-","-","-","-","-","-",5871,2,5871,1,"-","-","-","-",11741,1,"-","-","-","-",9784,2,9784,2,"-","-",3913,1,"-","-","-","-","-","-","-","-","-","-","-","-","-","-","-","-",4893,1,4893,2,"-","-","-","-","-","-","-","-","-","-","-","-","-","-",20712,1,17261,1,"-","-","-","-",11506,2,"-","-","-","-","-","-","-","-",23014,2,9205,1,17261,1,"-","-","-","-","-","-","-","-",28767,1,"-","-","-","-",15182,1,"-","-",8097,1,8097,1,"-","-","-","-","-","-",12145,1,"-","-",30364,3,"-","-","-","-",7085,2,30364,2,8097,2,"-","-","-","-","-","-",75910,1,"-","-",28340,1,"-","-","-","-","-","-",45546,2,"-","-","-","-","-","-","-","-","-","-",45546,2,"-","-","-","-",15182,2,20876,1,26094,2,12525,3,"-","-",10437,2,46970,2,26094,2,"-","-",2903,1,20674,1,25000,1,5168,1,78114,2,"-","-","-","-",676984,1,"-","-","-","-","-","-","-","-","-","-","-","-",167409,1,150669,1,195311,1,"-","-",167409,2,"-","-","-","-","-","-","-","-","-","-",31029,3,"-","-",10638,8,"-","-","-","-",12412,2,"-","-","-","-","-","-","-","-","-","-","-","-","-","-","-","-",33245,1,"-","-","-","-","-","-","-","-","-","-","-","-","-","-",8800,12,"-","-","-","-","-","-","-","-","-","-","-","-","-","-","-","-","-","-","-","-","-","-","-","-","-","-","-","-",137496,1,"-","-","-","-",38499,2,148558,1,"-","-",6078,1,30388,2,"-","-","-","-","-","-",24310,1,"-","-","-","-","-","-","-","-","-","-","-",2,"-",1,"-",1,"-",1,2713300,{"$f":"INDEX('Aircraft IDs'!A:G,MATCH(A314,'Aircraft IDs'!A:A,0),7)","v":"Mil Transport"}]
[218,"Regional","Regional Jet","Bombardier CRJ","Bombardier CRJ700-700","General Electric CF34-8C","-","-","-","-","-","-",56029,1,"-","-","-","-","-","-","-","-","-","-","-","-",6849,3,"-","-","-","-","-","-","-","-","-","-","-","-","-","-","-","-","-","-","-","-","-","-","-","-","-","-","-","-","-","-","-","-","-","-",11741,4,"-","-",29353,2,"-","-","-","-","-","-","-","-","-","-","-","-","-","-","-","-","-","-","-","-","-","-","-","-","-","-","-","-","-","-",34520,1,13808,2,"-","-","-","-","-","-","-","-","-","-","-","-","-","-","-","-","-","-","-","-","-","-","-","-","-","-","-","-",3037,2,"-","-","-","-",60728,3,"-","-","-","-","-","-","-","-","-","-","-","-","-","-","-","-","-","-",65788,2,25303,1,"-","-","-","-","-","-","-","-","-","-","-","-","-","-","-","-","-","-","-","-",50606,5,"-","-","-","-","-","-","-","-","-","-","-","-","-","-","-","-",78282,2,31313,2,"-","-",2322,1,16538,1,20000,1,4134,1,"-","-","-","-","-","-","-","-","-","-","-","-",104151,3,"-","-","-","-","-","-","-","-","-","-","-","-","-","-","-","-","-","-","-","-","-","-","-","-","-","-",39894,3,"-","-","-","-","-","-","-","-","-","-","-","-","-","-","-","-","-","-","-","-","-","-",28369,4,"-","-","-","-","-","-","-","-",15958,1,"-","-","-","-","-","-","-","-","-","-",32999,2,"-","-","-","-","-","-","-","-","-","-","-","-","-","-","-","-","-","-","-","-",7700,8,"-","-","-","-","-","-","-","-","-","-",32999,1,101976,1,"-","-","-","-","-","-","-","-","-","-","-","-",50646,1,"-","-","-","-","-","-","-","-","-","-","-","-","-",1,"-","-","-","-",925102,{"$f":"INDEX('Aircraft IDs'!A:G,MATCH(A319,'Aircraft IDs'!A:A,0),7)","v":"CRJ"}]
[24,"Regional","Regional Jet","Embraer E170/190","Embraer E175-E2","Pratt & Whitney PW1700G","-","-","-","-","-","-",56029,1,"-","-","-","-","-","-","-","-","-","-","-","-",6849,3,"-","-","-","-","-","-","-","-","-","-","-","-","-","-","-","-","-","-","-","-","-","-","-","-","-","-","-","-","-","-","-","-","-","-",11741,4,"-","-",29353,2,"-","-","-","-","-","-","-","-","-","-","-","-","-","-","-","-","-","-","-","-","-","-","-","-","-","-","-","-","-","-",34520,1,13808,2,"-","-","-","-","-","-","-","-","-","-","-","-","-","-","-","-","-","-","-","-","-","-","-","-","-","-","-","-",3037,2,"-","-","-","-",60728,3,"-","-","-","-","-","-","-","-","-","-","-","-","-","-","-","-","-","-",65788,2,25303,1,"-","-","-","-","-","-","-","-","-","-","-","-","-","-","-","-","-","-","-","-",50606,5,"-","-","-","-","-","-","-","-","-","-","-","-","-","-","-","-",78282,2,31313,2,"-","-",2903,1,20674,1,25000,1,5168,1,"-","-","-","-","-","-","-","-","-","-","-","-",156228,3,"-","-","-","-","-","-","-","-","-","-","-","-","-","-","-","-","-","-","-","-","-","-","-","-","-","-",39894,3,"-","-","-","-","-","-","-","-","-","-","-","-","-","-","-","-","-","-","-","-","-","-",28369,4,"-","-","-","-","-","-","-","-",15958,1,"-","-","-","-","-","-","-","-","-","-",32999,2,"-","-","-","-","-","-","-","-","-","-","-","-","-","-","-","-","-","-","-","-",7700,8,"-","-","-","-","-","-","-","-","-","-",32999,1,101976,1,"-","-","-","-","-","-","-","-","-","-","-","-",50646,1,"-","-","-","-","-","-","-","-","-","-","-","-","-",1,"-","-","-","-",987930,{"$f":"INDEX('Aircraft IDs'!A:G,MATCH(A324,'Aircraft IDs'!A:A,0),7)","v":"EMB Regional"}]
[29,"Regional","Regional Jet","Sukhoi Superjet","Sukhoi Superjet 100","PowerJet SaM146","-","-","-","-","-","-",56029,1,"-","-","-","-","-","-","-","-","-","-","-","-",6849,3,"-","-","-","-","-","-","-","-","-","-","-","-","-","-","-","-","-","-","-","-","-","-","-","-","-","-","-","-","-","-","-","-","-","-",11741,4,"-","-",29353,2,"-","-","-","-","-","-","-","-","-","-","-","-","-","-","-","-","-","-","-","-","-","-","-","-","-","-","-","-","-","-",34520,1,13808,2,"-","-","-","-","-","-","-","-","-","-","-","-","-","-","-","-","-","-","-","-","-","-","-","-","-","-","-","-",3037,2,"-","-","-","-",60728,3,"-","-","-","-","-","-","-","-","-","-","-","-","-","-","-","-","-","-",65788,2,25303,1,"-","-","-","-","-","-","-","-","-","-","-","-","-","-","-","-","-","-","-","-",50606,5,"-","-","-","-","-","-","-","-","-","-","-","-","-","-","-","-",78282,2,31313,2,"-","-",2322,1,16538,1,20000,1,4134,1,"-","-","-","-","-","-","-","-","-","-","-","-",156228,3,"-","-","-","-","-","-","-","-","-","-","-","-","-","-","-","-","-","-","-","-","-","-","-","-","-","-",39894,3,"-","-","-","-","-","-","-","-","-","-","-","-","-","-","-","-","-","-","-","-","-","-",28369,4,"-","-","-","-","-","-","-","-",15958,1,"-","-","-","-","-","-","-","-","-","-",32999,2,"-","-","-","-","-","-","-","-","-","-","-","-","-","-","-","-","-","-","-","-",7700,8,"-","-","-","-","-","-","-","-","-","-",32999,1,101976,1,"-","-","-","-","-","-","-","-","-","-","-","-",50646,1,"-","-","-","-","-","-","-","-","-","-","-","-","-",1,"-","-","-","-",977179,{"$f":"INDEX('Aircraft IDs'!A:G,MATCH(A330,'Aircraft IDs'!A:A,0),7)","v":"Superjet 100"}]
[621,"Regional","Regional Turboprop","De Havilland Canada DHC-8","De Havilland Canada DHC-8-100","Pratt & Whitney Canada PW120","-","-","-","-","-","-",56029,1,"-","-","-","-","-","-","-","-","-","-","-","-",6849,3,"-","-","-","-","-","-","-","-","-","-","-","-","-","-","-","-","-","-","-","-","-","-","-","-","-","-","-","-","-","-","-","-","-","-",11741,4,"-","-",29353,2,"-","-","-","-","-","-","-","-","-","-","-","-","-","-","-","-","-","-","-","-","-","-","-","-","-","-","-","-","-","-",34520,1,13808,2,"-","-","-","-","-","-","-","-","-","-","-","-","-","-","-","-","-","-","-","-","-","-","-","-","-","-","-","-",3037,2,"-","-","-","-",60728,3,"-","-","-","-","-","-","-","-","-","-","-","-","-","-","-","-","-","-",65788,2,25303,1,"-","-","-","-","-","-","-","-","-","-","-","-","-","-","-","-","-","-","-","-",50606,5,"-","-","-","-","-","-","-","-","-","-","-","-","-","-","-","-",78282,2,31313,2,"-","-",2032,1,14472,1,17500,1,3618,1,"-","-","-","-","-","-","-","-","-","-","-","-",104151,3,"-","-","-","-","-","-","-","-","-","-","-","-","-","-","-","-","-","-","-","-","-","-","-","-","-","-",39894,3,"-","-","-","-","-","-","-","-","-","-","-","-","-","-","-","-","-","-","-","-","-","-",28369,4,"-","-","-","-","-","-","-","-",15958,1,"-","-","-","-","-","-","-","-","-","-",32999,2,"-","-","-","-","-","-","-","-","-","-","-","-","-","-","-","-","-","-","-","-",7700,8,"-","-","-","-","-","-","-","-","-","-",32999,1,101976,1,"-","-","-","-","-","-","-","-","-","-","-","-",50646,1,"-","-","-","-","-","-","-","-","-","-","-","-","-",1,"-","-","-","-",919730,{"$f":"INDEX('Aircraft IDs'!A:G,MATCH(A335,'Aircraft IDs'!A:A,0),7)","v":"Reg TP"}]
[625,"Regional","Regional Turboprop","Xian MA60","Xian MA60","Pratt & Whitney Canada PW120","-","-","-","-","-","-",56029,1,"-","-","-","-","-","-","-","-","-","-","-","-",6849,3,"-","-","-","-","-","-","-","-","-","-","-","-","-","-","-","-","-","-","-","-","-","-","-","-","-","-","-","-","-","-","-","-","-","-",11741,4,"-","-",29353,2,"-","-","-","-","-","-","-","-","-","-","-","-","-","-","-","-","-","-","-","-","-","-","-","-","-","-","-","-","-","-",34520,1,13808,2,"-","-","-","-","-","-","-","-","-","-","-","-","-","-","-","-","-","-","-","-","-","-","-","-","-","-","-","-",3037,2,"-","-","-","-",60728,3,"-","-","-","-","-","-","-","-","-","-","-","-","-","-","-","-","-","-",65788,2,25303,1,"-","-","-","-","-","-","-","-","-","-","-","-","-","-","-","-","-","-","-","-",50606,5,"-","-","-","-","-","-","-","-","-","-","-","-","-","-","-","-",78282,2,31313,2,"-","-",2032,1,14472,1,17500,1,3618,1,"-","-","-","-","-","-","-","-","-","-","-","-",104151,3,"-","-","-","-","-","-","-","-","-","-","-","-","-","-","-","-","-","-","-","-","-","-","-","-","-","-",39894,3,"-","-","-","-","-","-","-","-","-","-","-","-","-","-","-","-","-","-","-","-","-","-",28369,4,"-","-","-","-","-","-","-","-",15958,1,"-","-","-","-","-","-","-","-","-","-",32999,2,"-","-","-","-","-","-","-","-","-","-","-","-","-","-","-","-","-","-","-","-",7700,8,"-","-","-","-","-","-","-","-","-","-",32999,1,101976,1,"-","-","-","-","-","-","-","-","-","-","-","-",50646,1,"-","-","-","-","-","-","-","-","-","-","-","-","-",1,"-","-","-","-",919730,{"$f":"INDEX('Aircraft IDs'!A:G,MATCH(A341,'Aircraft IDs'!A:A,0),7)","v":"Reg TP"}]
[80,"Turbine GA","Turbine GA","Beechcraft King Air","Beechcraft King Air","Pratt & Whitney Canada PT6A","-","-","-","-",27454,1,"-","-","-","-","-","-","-","-","-","-","-","-","-","-","-","-","-","-","-","-","-","-","-","-","-","-","-","-","-","-","-","-","-","-","-","-","-","-","-","-","-","-","-","-","-","-","-","-","-","-","-","-","-","-","-","-","-","-","-","-","-","-","-","-","-","-","-","-","-","-","-","-","-","-","-","-",14096,1,"-","-","-","-","-","-","-","-","-","-","-","-","-","-","-","-","-","-","-","-","-","-","-","-","-","-","-","-","-","-","-","-",22317,1,"-","-","-","-","-","-","-","-","-","-","-","-","-","-",22317,1,"-","-","-","-","-","-","-","-","-","-","-","-","-","-",9918,2,"-","-","-","-","-","-","-","-","-","-",22317,4,"-","-","-","-","-","-","-","-","-","-","-","-","-","-",12398,1,"-","-","-","-","-","-","-","-","-","-","-","-","-","-","-","-","-","-","-","-",458,1,3266,1,3950,1,816,1,"-","-","-","-","-","-","-","-","-","-","-","-","-","-","-","-","-","-","-","-","-","-","-","-","-","-","-","-","-","-","-","-","-","-","-","-","-","-","-","-","-","-","-","-",15204,2,"-","-","-","-","-","-",26064,2,"-","-","-","-","-","-","-","-","-","-","-","-","-","-","-","-","-","-","-","-","-","-","-","-","-","-","-","-","-","-","-","-","-","-","-","-","-","-","-","-","-","-","-","-","-","-","-","-","-","-","-","-","-","-","-","-","-","-","-","-","-","-","-","-","-","-","-","-",27698,1,"-","-","-","-","-","-","-","-","-","-","-","-",8914,1,"-","-","-","-","-","-","-","-","-","-","-","-","-",1,"-","-","-","-",217209,{"$f":"INDEX('Aircraft IDs'!A:G,MATCH(A346,'Aircraft IDs'!A:A,0),7)","v":"Turbine GA"}]
[224,"Turbine GA","Turbine GA","Dornier Do 228","Dornier Do 228","Honeywell TPE331","-","-","-","-",27454,1,"-","-","-","-","-","-","-","-","-","-","-","-","-","-","-","-","-","-","-","-","-","-","-","-","-","-","-","-","-","-","-","-","-","-","-","-","-","-","-","-","-","-","-","-","-","-","-","-","-","-","-","-","-","-","-","-","-","-","-","-","-","-","-","-","-","-","-","-","-","-","-","-","-","-","-","-",14096,1,"-","-","-","-","-","-","-","-","-","-","-","-","-","-","-","-","-","-","-","-","-","-","-","-","-","-","-","-","-","-","-","-",22317,1,"-","-","-","-","-","-","-","-","-","-","-","-","-","-",22317,1,"-","-","-","-","-","-","-","-","-","-","-","-","-","-",9918,2,"-","-","-","-","-","-","-","-","-","-",22317,4,"-","-","-","-","-","-","-","-","-","-","-","-","-","-",12398,1,"-","-","-","-","-","-","-","-","-","-","-","-","-","-","-","-","-","-","-","-",1045,1,7442,1,9000,1,1860,1,"-","-","-","-","-","-","-","-","-","-","-","-","-","-","-","-","-","-","-","-","-","-","-","-","-","-","-","-","-","-","-","-","-","-","-","-","-","-","-","-","-","-","-","-",15204,2,"-","-","-","-","-","-",26064,2,"-","-","-","-","-","-","-","-","-","-","-","-","-","-","-","-","-","-","-","-","-","-","-","-","-","-","-","-","-","-","-","-","-","-","-","-","-","-","-","-","-","-","-","-","-","-","-","-","-","-","-","-","-","-","-","-","-","-","-","-","-","-","-","-","-","-","-","-",27698,1,"-","-","-","-","-","-","-","-","-","-","-","-",8914,1,"-","-","-","-","-","-","-","-","-","-","-","-","-",1,"-","-","-","-",228066,{"$f":"INDEX('Aircraft IDs'!A:G,MATCH(A351,'Aircraft IDs'!A:A,0),7)","v":"Turbine GA"}]
[75,"Turbine GA","Turbine GA","Piaggio P.180 Avanti","Piaggio P.180 Avanti","Pratt & Whitney Canada PT6A","-","-","-","-",27454,1,"-","-","-","-","-","-","-","-","-","-","-","-","-","-","-","-","-","-","-","-","-","-","-","-","-","-","-","-","-","-","-","-","-","-","-","-","-","-","-","-","-","-","-","-","-","-","-","-","-","-","-","-","-","-","-","-","-","-","-","-","-","-","-","-","-","-","-","-","-","-","-","-","-","-","-","-",14096,1,"-","-","-","-","-","-","-","-","-","-","-","-","-","-","-","-","-","-","-","-","-","-","-","-","-","-","-","-","-","-","-","-",22317,1,"-","-","-","-","-","-","-","-","-","-","-","-","-","-",22317,1,"-","-","-","-","-","-","-","-","-","-","-","-","-","-",9918,2,"-","-","-","-","-","-","-","-","-","-",22317,4,"-","-","-","-","-","-","-","-","-","-","-","-","-","-",12398,1,"-","-","-","-","-","-","-","-","-","-","-","-","-","-","-","-","-","-","-","-",203,1,1447,1,1750,1,362,1,"-","-","-","-","-","-","-","-","-","-","-","-","-","-","-","-","-","-","-","-","-","-","-","-","-","-","-","-","-","-","-","-","-","-","-","-","-","-","-","-","-","-","-","-",15204,2,"-","-","-","-","-","-",26064,2,"-","-","-","-","-","-","-","-","-","-","-","-","-","-","-","-","-","-","-","-","-","-","-","-","-","-","-","-","-","-","-","-","-","-","-","-","-","-","-","-","-","-","-","-","-","-","-","-","-","-","-","-","-","-","-","-","-","-","-","-","-","-","-","-","-","-","-","-",27698,1,"-","-","-","-","-","-","-","-","-","-","-","-",8914,1,"-","-","-","-","-","-","-","-","-","-","-","-","-",1,"-","-","-","-",212481,{"$f":"INDEX('Aircraft IDs'!A:G,MATCH(A357,'Aircraft IDs'!A:A,0),7)","v":"Turbine GA"}]
[79,"Turbine GA","Turbine GA","Reims-Cessna F406 Caravan II","Reims-Cessna F406 Caravan II","Pratt & Whitney Canada PT6A","-","-","-","-",27454,1,"-","-","-","-","-","-","-","-","-","-","-","-","-","-","-","-","-","-","-","-","-","-","-","-","-","-","-","-","-","-","-","-","-","-","-","-","-","-","-","-","-","-","-","-","-","-","-","-","-","-","-","-","-","-","-","-","-","-","-","-","-","-","-","-","-","-","-","-","-","-","-","-","-","-","-","-",14096,1,"-","-","-","-","-","-","-","-","-","-","-","-","-","-","-","-","-","-","-","-","-","-","-","-","-","-","-","-","-","-","-","-",22317,1,"-","-","-","-","-","-","-","-","-","-","-","-","-","-",22317,1,"-","-","-","-","-","-","-","-","-","-","-","-","-","-",9918,2,"-","-","-","-","-","-","-","-","-","-",22317,4,"-","-","-","-","-","-","-","-","-","-","-","-","-","-",12398,1,"-","-","-","-","-","-","-","-","-","-","-","-","-","-","-","-","-","-","-","-",203,1,1447,1,1750,1,362,1,"-","-","-","-","-","-","-","-","-","-","-","-","-","-","-","-","-","-","-","-","-","-","-","-","-","-","-","-","-","-","-","-","-","-","-","-","-","-","-","-","-","-","-","-",15204,2,"-","-","-","-","-","-",26064,2,"-","-","-","-","-","-","-","-","-","-","-","-","-","-","-","-","-","-","-","-","-","-","-","-","-","-","-","-","-","-","-","-","-","-","-","-","-","-","-","-","-","-","-","-","-","-","-","-","-","-","-","-","-","-","-","-","-","-","-","-","-","-","-","-","-","-","-","-",27698,1,"-","-","-","-","-","-","-","-","-","-","-","-",8914,1,"-","-","-","-","-","-","-","-","-","-","-","-","-",1,"-","-","-","-",212481,{"$f":"INDEX('Aircraft IDs'!A:G,MATCH(A362,'Aircraft IDs'!A:A,0),7)","v":"Turbine GA"}]
[169,"Turboprop Trainers / Light Attack","Turboprop Trainers / Light Attack","Beechcraft T-6 Texan II","Beechcraft T-6 Texan II","Pratt & Whitney Canada PT6A","-","-","-","-",19222,1,"-","-","-","-","-","-","-","-","-","-","-","-","-","-","-","-","-","-","-","-","-","-","-","-","-","-","-","-","-","-","-","-","-","-","-","-","-","-","-","-","-","-","-","-","-","-","-","-","-","-","-","-","-","-","-","-",58707,1,"-","-","-","-","-","-","-","-","-","-","-","-","-","-","-","-","-","-",9873,1,"-","-","-","-",63287,1,"-","-","-","-","-","-","-","-","-","-","-","-","-","-","-","-","-","-","-","-","-","-","-","-","-","-",15627,1,"-","-","-","-","-","-","-","-","-","-","-","-","-","-",15627,1,"-","-","-","-","-","-","-","-","-","-","-","-","-","-",6943,2,"-","-","-","-","-","-","-","-","-","-",15627,4,"-","-","-","-","-","-","-","-","-","-","-","-","-","-",8684,1,"-","-","-","-","-","-","-","-","-","-","-","-","-","-","-","-","-","-","-","-",308,1,2192,1,2650,1,548,1,"-","-","-","-","-","-","-","-","-","-","-","-","-","-","-","-","-","-","-","-","-","-","-","-","-","-","-","-","-","-",111607,2,"-","-","-","-",78124,2,"-","-","-","-","-","-",10648,2,"-","-","-","-","-","-",18245,2,"-","-","-","-","-","-","-","-","-","-","-","-","-","-","-","-","-","-","-","-","-","-","-","-","-","-","-","-","-","-","-","-","-","-","-","-","-","-","-","-","-","-","-","-","-","-","-","-","-","-","-","-","-","-","-","-","-","-","-","-","-","-","-","-","-","-","-","-",20144,1,"-","-","-","-","-","-","-","-","-","-","-","-",10434,1,"-","-","-","-","-","-","-","-","-","-","-","-","-",1,"-","-","-","-",468525,{"$f":"INDEX('Aircraft IDs'!A:G,MATCH(A367,'Aircraft IDs'!A:A,0),7)","v":"TP Trainer"}]
[677,"Turboprop Trainers / Light Attack","Turboprop Trainers / Light Attack","HHT-40","HAL HHT-40","Honeywell TPE331","-","-","-","-",19222,1,"-","-","-","-","-","-","-","-","-","-","-","-","-","-","-","-","-","-","-","-","-","-","-","-","-","-","-","-","-","-","-","-","-","-","-","-","-","-","-","-","-","-","-","-","-","-","-","-","-","-","-","-","-","-","-","-",58707,1,"-","-","-","-","-","-","-","-","-","-","-","-","-","-","-","-","-","-",9873,1,"-","-","-","-",63287,1,"-","-","-","-","-","-","-","-","-","-","-","-","-","-","-","-","-","-","-","-","-","-","-","-","-","-",15627,1,"-","-","-","-","-","-","-","-","-","-","-","-","-","-",15627,1,"-","-","-","-","-","-","-","-","-","-","-","-","-","-",6943,2,"-","-","-","-","-","-","-","-","-","-",15627,4,"-","-","-","-","-","-","-","-","-","-","-","-","-","-",8684,1,"-","-","-","-","-","-","-","-","-","-","-","-","-","-","-","-","-","-","-","-",308,1,2192,1,2650,1,548,1,"-","-","-","-","-","-","-","-","-","-","-","-","-","-","-","-","-","-","-","-","-","-","-","-","-","-","-","-","-","-",111607,2,"-","-","-","-",78124,2,"-","-","-","-","-","-",10648,2,"-","-","-","-","-","-",18245,2,"-","-","-","-","-","-","-","-","-","-","-","-","-","-","-","-","-","-","-","-","-","-","-","-","-","-","-","-","-","-","-","-","-","-","-","-","-","-","-","-","-","-","-","-","-","-","-","-","-","-","-","-","-","-","-","-","-","-","-","-","-","-","-","-","-","-","-","-",20144,1,"-","-","-","-","-","-","-","-","-","-","-","-",10434,1,"-","-","-","-","-","-","-","-","-","-","-","-","-",1,"-","-","-","-",468525,{"$f":"INDEX('Aircraft IDs'!A:G,MATCH(A369,'Aircraft IDs'!A:A,0),7)","v":"TP Trainer"}]
[901,"UAV","MALE/HALE","Bayraktar TB-2","Bayraktar TB-2","NULL","-","-",37353,1,"-","-","-","-","-","-","-","-","-","-","-","-",24461,2,"-","-","-","-","-","-","-","-","-","-","-","-","-","-","-","-","-","-","-","-","-","-","-","-","-","-","-","-","-","-","-","-",19569,2,11741,4,"-","-","-","-","-","-","-","-","-","-","-","-",24461,1,"-","-",11741,2,19569,1,"-","-","-","-","-","-","-","-","-","-","-","-",51781,1,"-","-",20712,1,"-","-","-","-","-","-","-","-","-","-","-","-","-","-","-","-","-","-","-","-","-","-","-","-","-","-","-","-","-","-","-","-","-","-","-","-","-","-","-","-","-","-","-","-","-","-","-","-","-","-","-","-","-","-","-","-","-","-","-","-","-","-","-","-","-","-","-","-","-","-","-","-","-","-","-","-","-","-","-","-","-","-","-","-","-","-","-","-","-","-","-","-","-","-","-","-","-","-","-","-","-","-","-","-","-","-","-","-","-","-","-","-","-","-","-","-","-","-","-","-","-","-","-","-","-","-","-","-","-","-","-","-","-","-","-","-",100446,1,"-","-","-","-","-","-",139508,1,"-","-","-","-","-","-","-","-","-","-","-","-","-","-","-","-",17731,2,"-","-",66491,1,13298,2,"-","-","-","-","-","-","-","-","-","-","-","-","-","-","-","-","-","-","-","-","-","-","-","-","-","-","-","-","-","-",19800,3,"-","-",43999,1,"-","-","-","-","-","-",87997,1,"-","-","-","-","-","-","-","-","-","-","-","-","-","-","-","-","-","-","-","-","-","-",91905,1,"-","-","-","-","-","-",70904,1,"-","-","-","-","-","-","-","-","-","-",40517,4,"-","-","-","-","-","-","-","-","-","-","-","-",914017,{"$f":"INDEX('Aircraft IDs'!A:G,MATCH(A375,'Aircraft IDs'!A:A,0),7)","v":"UAV"}]
[673,"UAV","MALE/HALE","Eurodrone","Eurodrone","General Electric Catalyst","-","-",39221,1,"-","-","-","-","-","-","-","-","-","-","-","-",25684,2,"-","-","-","-","-","-","-","-","-","-","-","-","-","-","-","-","-","-","-","-","-","-","-","-","-","-","-","-","-","-","-","-",20547,2,12328,4,"-","-","-","-","-","-","-","-","-","-","-","-",25684,1,"-","-",12328,2,20547,1,"-","-","-","-","-","-","-","-","-","-","-","-",54370,1,"-","-",21748,1,"-","-","-","-","-","-","-","-","-","-","-","-","-","-","-","-","-","-","-","-","-","-","-","-","-","-","-","-","-","-","-","-","-","-","-","-","-","-","-","-","-","-","-","-","-","-","-","-","-","-","-","-","-","-","-","-","-","-","-","-","-","-","-","-","-","-","-","-","-","-","-","-","-","-","-","-","-","-","-","-","-","-","-","-","-","-","-","-","-","-","-","-","-","-","-","-","-","-","-","-","-","-","-","-","-","-","-","-","-","-","-","-","-","-","-","-","-","-","-","-","-","-","-","-","-","-","-","-","-","-","-","-","-","-","-","-",105468,1,"-","-","-","-","-","-",146483,1,"-","-","-","-","-","-","-","-","-","-","-","-","-","-","-","-",18618,2,"-","-",69816,1,13963,2,"-","-","-","-","-","-","-","-","-","-","-","-","-","-","-","-","-","-","-","-","-","-","-","-","-","-","-","-","-","-",20790,3,"-","-",46199,1,"-","-","-","-","-","-",92397,1,"-","-","-","-","-","-","-","-","-","-","-","-","-","-","-","-","-","-","-","-","-","-",96500,1,"-","-","-","-","-","-",74449,1,"-","-","-","-","-","-","-","-","-","-",42543,4,"-","-","-","-","-","-","-","-","-","-","-","-",959716,{"$f":"INDEX('Aircraft IDs'!A:G,MATCH(A376,'Aircraft IDs'!A:A,0),7)","v":"UAV"}]
[449,"UAV","MALE/HALE","MQ-4C Triton","MQ-4C Triton","Rolls-Royce F137-RR-100","-","-",37353,1,"-","-","-","-","-","-","-","-","-","-","-","-",24461,2,"-","-","-","-","-","-","-","-","-","-","-","-","-","-","-","-","-","-","-","-","-","-","-","-","-","-","-","-","-","-","-","-",19569,2,11741,4,"-","-","-","-","-","-","-","-","-","-","-","-",24461,1,"-","-",11741,2,19569,1,"-","-","-","-","-","-","-","-","-","-","-","-",51781,1,"-","-",20712,1,"-","-","-","-","-","-","-","-","-","-","-","-","-","-","-","-","-","-","-","-","-","-","-","-","-","-","-","-","-","-","-","-","-","-","-","-","-","-","-","-","-","-","-","-","-","-","-","-","-","-","-","-","-","-","-","-","-","-","-","-","-","-","-","-","-","-","-","-","-","-","-","-","-","-","-","-","-","-","-","-","-","-","-","-","-","-","-","-","-","-","-","-","-","-","-","-","-","-","-","-","-","-","-","-","-","-","-","-","-","-","-","-","-","-","-","-","-","-","-","-","-","-","-","-","-","-","-","-","-","-","-","-","-","-","-","-",100446,1,"-","-","-","-","-","-",139508,1,"-","-","-","-","-","-","-","-","-","-","-","-","-","-","-","-",17731,2,"-","-",66491,1,13298,2,"-","-","-","-","-","-","-","-","-","-","-","-","-","-","-","-","-","-","-","-","-","-","-","-","-","-","-","-","-","-",19800,3,"-","-",43999,1,"-","-","-","-","-","-",87997,1,"-","-","-","-","-","-","-","-","-","-","-","-","-","-","-","-","-","-","-","-","-","-",91905,1,"-","-","-","-","-","-",70904,1,"-","-","-","-","-","-","-","-","-","-",40517,4,"-","-","-","-","-","-","-","-","-","-","-","-",914017,{"$f":"INDEX('Aircraft IDs'!A:G,MATCH(A377,'Aircraft IDs'!A:A,0),7)","v":"UAV"}]
[450,"UAV","MALE/HALE","MQ-9 Reaper","MQ-9 Reaper","Honeywell TPE331","-","-",37353,1,"-","-","-","-","-","-","-","-","-","-","-","-",24461,2,"-","-","-","-","-","-","-","-","-","-","-","-","-","-","-","-","-","-","-","-","-","-","-","-","-","-","-","-","-","-","-","-",19569,2,11741,4,"-","-","-","-","-","-","-","-","-","-","-","-",24461,1,"-","-",11741,2,19569,1,"-","-","-","-","-","-","-","-","-","-","-","-",51781,1,"-","-",20712,1,"-","-","-","-","-","-","-","-","-","-","-","-","-","-","-","-","-","-","-","-","-","-","-","-","-","-","-","-","-","-","-","-","-","-","-","-","-","-","-","-","-","-","-","-","-","-","-","-","-","-","-","-","-","-","-","-","-","-","-","-","-","-","-","-","-","-","-","-","-","-","-","-","-","-","-","-","-","-","-","-","-","-","-","-","-","-","-","-","-","-","-","-","-","-","-","-","-","-","-","-","-","-","-","-","-","-","-","-","-","-","-","-","-","-","-","-","-","-","-","-","-","-","-","-","-","-","-","-","-","-","-","-","-","-","-","-",100446,1,"-","-","-","-","-","-",139508,1,"-","-","-","-","-","-","-","-","-","-","-","-","-","-","-","-",17731,2,"-","-",66491,1,13298,2,"-","-","-","-","-","-","-","-","-","-","-","-","-","-","-","-","-","-","-","-","-","-","-","-","-","-","-","-","-","-",19800,3,"-","-",43999,1,"-","-","-","-","-","-",87997,1,"-","-","-","-","-","-","-","-","-","-","-","-","-","-","-","-","-","-","-","-","-","-",91905,1,"-","-","-","-","-","-",70904,1,"-","-","-","-","-","-","-","-","-","-",40517,4,"-","-","-","-","-","-","-","-","-","-","-","-",914017,{"$f":"INDEX('Aircraft IDs'!A:G,MATCH(A378,'Aircraft IDs'!A:A,0),7)","v":"UAV"}]
[902,"UAV","MALE/HALE","Other MALE/HALE","Other MALE/HALE","NULL","-","-",37353,1,"-","-","-","-","-","-","-","-","-","-","-","-",24461,2,"-","-","-","-","-","-","-","-","-","-","-","-","-","-","-","-","-","-","-","-","-","-","-","-","-","-","-","-","-","-","-","-",19569,2,11741,4,"-","-","-","-","-","-","-","-","-","-","-","-",24461,1,"-","-",11741,2,19569,1,"-","-","-","-","-","-","-","-","-","-","-","-",51781,1,"-","-",20712,1,"-","-","-","-","-","-","-","-","-","-","-","-","-","-","-","-","-","-","-","-","-","-","-","-","-","-","-","-","-","-","-","-","-","-","-","-","-","-","-","-","-","-","-","-","-","-","-","-","-","-","-","-","-","-","-","-","-","-","-","-","-","-","-","-","-","-","-","-","-","-","-","-","-","-","-","-","-","-","-","-","-","-","-","-","-","-","-","-","-","-","-","-","-","-","-","-","-","-","-","-","-","-","-","-","-","-","-","-","-","-","-","-","-","-","-","-","-","-","-","-","-","-","-","-","-","-","-","-","-","-","-","-","-","-","-","-",100446,1,"-","-","-","-","-","-",139508,1,"-","-","-","-","-","-","-","-","-","-","-","-","-","-","-","-",17731,2,"-","-",66491,1,13298,2,"-","-","-","-","-","-","-","-","-","-","-","-","-","-","-","-","-","-","-","-","-","-","-","-","-","-","-","-","-","-",19800,3,"-","-",43999,1,"-","-","-","-","-","-",87997,1,"-","-","-","-","-","-","-","-","-","-","-","-","-","-","-","-","-","-","-","-","-","-",91905,1,"-","-","-","-","-","-",70904,1,"-","-","-","-","-","-","-","-","-","-",40517,4,"-","-","-","-","-","-","-","-","-","-","-","-",914017,{"$f":"INDEX('Aircraft IDs'!A:G,MATCH(A379,'Aircraft IDs'!A:A,0),7)","v":"UAV"}]
[452,"UAV","MALE/HALE","RQ-4A Global Hawk","RQ-4A Global Hawk","Rolls-Royce F137-RR-100","-","-",37353,1,"-","-","-","-","-","-","-","-","-","-","-","-",24461,2,"-","-","-","-","-","-","-","-","-","-","-","-","-","-","-","-","-","-","-","-","-","-","-","-","-","-","-","-","-","-","-","-",19569,2,11741,4,"-","-","-","-","-","-","-","-","-","-","-","-",24461,1,"-","-",11741,2,19569,1,"-","-","-","-","-","-","-","-","-","-","-","-",51781,1,"-","-",20712,1,"-","-","-","-","-","-","-","-","-","-","-","-","-","-","-","-","-","-","-","-","-","-","-","-","-","-","-","-","-","-","-","-","-","-","-","-","-","-","-","-","-","-","-","-","-","-","-","-","-","-","-","-","-","-","-","-","-","-","-","-","-","-","-","-","-","-","-","-","-","-","-","-","-","-","-","-","-","-","-","-","-","-","-","-","-","-","-","-","-","-","-","-","-","-","-","-","-","-","-","-","-","-","-","-","-","-","-","-","-","-","-","-","-","-","-","-","-","-","-","-","-","-","-","-","-","-","-","-","-","-","-","-","-","-","-","-",100446,1,"-","-","-","-","-","-",139508,1,"-","-","-","-","-","-","-","-","-","-","-","-","-","-","-","-",17731,2,"-","-",66491,1,13298,2,"-","-","-","-","-","-","-","-","-","-","-","-","-","-","-","-","-","-","-","-","-","-","-","-","-","-","-","-","-","-",19800,3,"-","-",43999,1,"-","-","-","-","-","-",87997,1,"-","-","-","-","-","-","-","-","-","-","-","-","-","-","-","-","-","-","-","-","-","-",91905,1,"-","-","-","-","-","-",70904,1,"-","-","-","-","-","-","-","-","-","-",40517,4,"-","-","-","-","-","-","-","-","-","-","-","-",914017,{"$f":"INDEX('Aircraft IDs'!A:G,MATCH(A380,'Aircraft IDs'!A:A,0),7)","v":"UAV"}]
[907,"UAV","TUAV","Other TUAV","Other TUAV","NULL","-","-",37353,1,"-","-","-","-","-","-","-","-","-","-","-","-",24461,2,"-","-","-","-","-","-","-","-","-","-","-","-","-","-","-","-","-","-","-","-","-","-","-","-","-","-","-","-","-","-","-","-",19569,2,11741,4,"-","-","-","-","-","-","-","-","-","-","-","-",24461,1,"-","-",11741,2,19569,1,"-","-","-","-","-","-","-","-","-","-","-","-",51781,1,"-","-",20712,1,"-","-","-","-","-","-","-","-","-","-","-","-","-","-","-","-","-","-","-","-","-","-","-","-","-","-","-","-","-","-","-","-","-","-","-","-","-","-","-","-","-","-","-","-","-","-","-","-","-","-","-","-","-","-","-","-","-","-","-","-","-","-","-","-","-","-","-","-","-","-","-","-","-","-","-","-","-","-","-","-","-","-","-","-","-","-","-","-","-","-","-","-","-","-","-","-","-","-","-","-","-","-","-","-","-","-","-","-","-","-","-","-","-","-","-","-","-","-","-","-","-","-","-","-","-","-","-","-","-","-","-","-","-","-","-","-",100446,1,"-","-","-","-","-","-",139508,1,"-","-","-","-","-","-","-","-","-","-","-","-","-","-","-","-",17731,2,"-","-",66491,1,13298,2,"-","-","-","-","-","-","-","-","-","-","-","-","-","-","-","-","-","-","-","-","-","-","-","-","-","-","-","-","-","-",19800,3,"-","-",43999,1,"-","-","-","-","-","-",87997,1,"-","-","-","-","-","-","-","-","-","-","-","-","-","-","-","-","-","-","-","-","-","-",91905,1,"-","-","-","-","-","-",70904,1,"-","-","-","-","-","-","-","-","-","-",40517,4,"-","-","-","-","-","-","-","-","-","-","-","-",914017,{"$f":"INDEX('Aircraft IDs'!A:G,MATCH(A381,'Aircraft IDs'!A:A,0),7)","v":"UAV"}]
[906,"UAV","TUAV","RQ-7 Shadow","RQ-7 Shadow","NULL","-","-",37353,1,"-","-","-","-","-","-","-","-","-","-","-","-",24461,2,"-","-","-","-","-","-","-","-","-","-","-","-","-","-","-","-","-","-","-","-","-","-","-","-","-","-","-","-","-","-","-","-",19569,2,11741,4,"-","-","-","-","-","-","-","-","-","-","-","-",24461,1,"-","-",11741,2,19569,1,"-","-","-","-","-","-","-","-","-","-","-","-",51781,1,"-","-",20712,1,"-","-","-","-","-","-","-","-","-","-","-","-","-","-","-","-","-","-","-","-","-","-","-","-","-","-","-","-","-","-","-","-","-","-","-","-","-","-","-","-","-","-","-","-","-","-","-","-","-","-","-","-","-","-","-","-","-","-","-","-","-","-","-","-","-","-","-","-","-","-","-","-","-","-","-","-","-","-","-","-","-","-","-","-","-","-","-","-","-","-","-","-","-","-","-","-","-","-","-","-","-","-","-","-","-","-","-","-","-","-","-","-","-","-","-","-","-","-","-","-","-","-","-","-","-","-","-","-","-","-","-","-","-","-","-","-",100446,1,"-","-","-","-","-","-",139508,1,"-","-","-","-","-","-","-","-","-","-","-","-","-","-","-","-",17731,2,"-","-",66491,1,13298,2,"-","-","-","-","-","-","-","-","-","-","-","-","-","-","-","-","-","-","-","-","-","-","-","-","-","-","-","-","-","-",19800,3,"-","-",43999,1,"-","-","-","-","-","-",87997,1,"-","-","-","-","-","-","-","-","-","-","-","-","-","-","-","-","-","-","-","-","-","-",91905,1,"-","-","-","-","-","-",70904,1,"-","-","-","-","-","-","-","-","-","-",40517,4,"-","-","-","-","-","-","-","-","-","-","-","-",914017,{"$f":"INDEX('Aircraft IDs'!A:G,MATCH(A382,'Aircraft IDs'!A:A,0),7)","v":"UAV"}]
[903,"UAV","VTUAV","MQ-8","MQ-8","Allison Model 250 (B)","-","-",37353,1,"-","-","-","-","-","-","-","-","-","-","-","-",24461,2,"-","-","-","-","-","-","-","-","-","-","-","-","-","-","-","-","-","-","-","-","-","-","-","-","-","-","-","-","-","-","-","-",19569,2,11741,4,"-","-","-","-","-","-","-","-","-","-","-","-",24461,1,"-","-",11741,2,19569,1,"-","-","-","-","-","-","-","-","-","-","-","-",51781,1,"-","-",20712,1,"-","-","-","-","-","-","-","-","-","-","-","-","-","-","-","-","-","-","-","-","-","-","-","-","-","-","-","-","-","-","-","-","-","-","-","-","-","-","-","-","-","-","-","-","-","-","-","-","-","-","-","-","-","-","-","-","-","-","-","-","-","-","-","-","-","-","-","-","-","-","-","-","-","-","-","-","-","-","-","-","-","-","-","-","-","-","-","-","-","-","-","-","-","-","-","-","-","-","-","-","-","-","-","-","-","-","-","-","-","-","-","-","-","-","-","-","-","-","-","-","-","-","-","-","-","-","-","-","-","-","-","-","-","-","-","-",100446,1,"-","-","-","-","-","-",139508,1,"-","-","-","-","-","-","-","-","-","-","-","-","-","-","-","-",17731,2,"-","-",66491,1,13298,2,"-","-","-","-","-","-","-","-","-","-","-","-","-","-","-","-","-","-","-","-","-","-","-","-","-","-","-","-","-","-",19800,3,"-","-",43999,1,"-","-","-","-","-","-",87997,1,"-","-","-","-","-","-","-","-","-","-","-","-","-","-","-","-","-","-","-","-","-","-",91905,1,"-","-","-","-","-","-",70904,1,"-","-","-","-","-","-","-","-","-","-",40517,4,"-","-","-","-","-","-","-","-","-","-","-","-",914017,{"$f":"INDEX('Aircraft IDs'!A:G,MATCH(A383,'Aircraft IDs'!A:A,0),7)","v":"UAV"}]
[904,"UAV","VTUAV","Other VTUAV","Other VTUAV","NULL","-","-",37353,1,"-","-","-","-","-","-","-","-","-","-","-","-",24461,2,"-","-","-","-","-","-","-","-","-","-","-","-","-","-","-","-","-","-","-","-","-","-","-","-","-","-","-","-","-","-","-","-",19569,2,11741,4,"-","-","-","-","-","-","-","-","-","-","-","-",24461,1,"-","-",11741,2,19569,1,"-","-","-","-","-","-","-","-","-","-","-","-",51781,1,"-","-",20712,1,"-","-","-","-","-","-","-","-","-","-","-","-","-","-","-","-","-","-","-","-","-","-","-","-","-","-","-","-","-","-","-","-","-","-","-","-","-","-","-","-","-","-","-","-","-","-","-","-","-","-","-","-","-","-","-","-","-","-","-","-","-","-","-","-","-","-","-","-","-","-","-","-","-","-","-","-","-","-","-","-","-","-","-","-","-","-","-","-","-","-","-","-","-","-","-","-","-","-","-","-","-","-","-","-","-","-","-","-","-","-","-","-","-","-","-","-","-","-","-","-","-","-","-","-","-","-","-","-","-","-","-","-","-","-","-","-",100446,1,"-","-","-","-","-","-",139508,1,"-","-","-","-","-","-","-","-","-","-","-","-","-","-","-","-",17731,2,"-","-",66491,1,13298,2,"-","-","-","-","-","-","-","-","-","-","-","-","-","-","-","-","-","-","-","-","-","-","-","-","-","-","-","-","-","-",19800,3,"-","-",43999,1,"-","-","-","-","-","-",87997,1,"-","-","-","-","-","-","-","-","-","-","-","-","-","-","-","-","-","-","-","-","-","-",91905,1,"-","-","-","-","-","-",70904,1,"-","-","-","-","-","-","-","-","-","-",40517,4,"-","-","-","-","-","-","-","-","-","-","-","-",914017,{"$f":"INDEX('Aircraft IDs'!A:G,MATCH(A384,'Aircraft IDs'!A:A,0),7)","v":"UAV"}]
[]
[null,null,null,null,null,null,null,null,null,null,null,null,null,null,null,null,null,null,null,null,null,null,{"$f":"ISNUMBER(X373)","v":false}]
[null,null,null,null,null,null,null,null,null,null,null,null,null,null,null,null,null,null,null,null,null,null,{"$f":"ISNUMBER(X374)","v":true}]
[null,null,null,null,null,null,null,null,null,null,null,null,null,null,null,null,null,null,null,null,null,null,true]
[null,null,null,null,null,null,null,null,null,null,null,null,null,null,null,null,null,null,null,null,null,null,true]